Workbook

Sheet 精算状況
A2: 立替と精算受取の確認 | I2: 日付の前提 | J2: 入力の前提
A3: 基準日 | B3: 46310 | G3: 入力不備（件） | H3: =J3 -> 0 | I3: =IF(AND(ISNUMBER(B3),B3>=43831,B3<=73050,B3=INT(B3)),0,1) -> 0 | J3: =I3+SUM(立替明細!F8:F57)+SUM(精算受取!F8:F107)+SUM(精算受取!I8:I107) -> 0
A4: 立替対象額 | B4: =IF($J$3=0,SUM(C10:C59),NA()) -> 50000 | D4: 精算受取額 | E4: =IF($J$3=0,SUM(D10:D59),NA()) -> 48000 | G4: 未精算額 | H4: =IF($J$3=0,SUM(E10:E59),NA()) -> 4000
A5: 過精算額 | B5: =IF($J$3=0,SUM(F10:F59),NA()) -> 2000 | D5: 照合差額 | E5: =B4-E4-H4+B5 -> 0 | G5: 対象立替件数 | H5: =IF($J$3=0,COUNTIFS(立替明細!B8:B57,"<="&$B$3,立替明細!E8:E57,"確認済み"),NA()) -> 4
A6: 一部精算件数 | B6: =IF($J$3=0,COUNTIFS(H10:H59,"一部精算"),NA()) -> 1 | D6: 未受取件数 | E6: =IF($J$3=0,COUNTIFS(H10:H59,"未精算"),NA()) -> 0 | G6: 精算不要件数 | H6: =IF($J$3=0,COUNTIFS(H10:H59,"精算不要"),NA()) -> 1
A8: 確認済みの精算対象額だけを記録。過精算を別の立替の未精算へ相殺しません。
A9: 立替ID | B9: 内容 | C9: 対象額（円） | D9: 受取額（円） | E9: 未精算（円） | F9: 過精算（円） | G9: 支出日 | H9: 状態
A10: =IF(COUNTA(立替明細!A8:D8)>0,立替明細!A8,"") -> ADV-0001 | B10: =IF(COUNTA(立替明細!A8:D8)>0,CLEAN(立替明細!C8),"") -> 交通費 | C10: =IF(COUNTA(立替明細!A8:D8)>0,IF($J$3<>0,NA(),IF(立替明細!B8>$B$3,"",立替明細!D8)),"") -> 12000 | D10: =IF(COUNTA(立替明細!A8:D8)>0,IF($J$3<>0,NA(),IF(立替明細!B8>$B$3,"",SUMIFS(精算受取!$H$8:$H$107,精算受取!$B$8:$B$107,A10))),"") -> 8000 | E10: =IF(COUNTA(立替明細!A8:D8)>0,IF($J$3<>0,NA(),IF(立替明細!B8>$B$3,"",MAX(0,C10-D10))),"") -> 4000 | F10: =IF(COUNTA(立替明細!A8:D8)>0,IF($J$3<>0,NA(),IF(立替明細!B8>$B$3,"",MAX(0,D10-C10))),"") -> 0 | G10: =IF(COUNTA(立替明細!A8:D8)>0,立替明細!B8,"") -> 46296 | H10: =IF(COUNTA(立替明細!A8:D8)>0,IF($J$3<>0,"入力を確認",IF(立替明細!B8>$B$3,"基準日より後",IF(F10>0,"過精算",IF(E10>0,IF(D10>0,"一部精算","未精算"),IF(C10=0,"精算不要","精算済"))))),"") -> 一部精算
A11: =IF(COUNTA(立替明細!A9:D9)>0,立替明細!A9,"") -> ADV-0002 | B11: =IF(COUNTA(立替明細!A9:D9)>0,CLEAN(立替明細!C9),"") -> 備品購入 | C11: =IF(COUNTA(立替明細!A9:D9)>0,IF($J$3<>0,NA(),IF(立替明細!B9>$B$3,"",立替明細!D9)),"") -> 30000 | D11: =IF(COUNTA(立替明細!A9:D9)>0,IF($J$3<>0,NA(),IF(立替明細!B9>$B$3,"",SUMIFS(精算受取!$H$8:$H$107,精算受取!$B$8:$B$107,A11))),"") -> 30000 | E11: =IF(COUNTA(立替明細!A9:D9)>0,IF($J$3<>0,NA(),IF(立替明細!B9>$B$3,"",MAX(0,C11-D11))),"") -> 0 | F11: =IF(COUNTA(立替明細!A9:D9)>0,IF($J$3<>0,NA(),IF(立替明細!B9>$B$3,"",MAX(0,D11-C11))),"") -> 0 | G11: =IF(COUNTA(立替明細!A9:D9)>0,立替明細!B9,"") -> 46298 | H11: =IF(COUNTA(立替明細!A9:D9)>0,IF($J$3<>0,"入力を確認",IF(立替明細!B9>$B$3,"基準日より後",IF(F11>0,"過精算",IF(E11>0,IF(D11>0,"一部精算","未精算"),IF(C11=0,"精算不要","精算済"))))),"") -> 精算済
A12: =IF(COUNTA(立替明細!A10:D10)>0,立替明細!A10,"") -> ADV-0003 | B12: =IF(COUNTA(立替明細!A10:D10)>0,CLEAN(立替明細!C10),"") -> 図書購入 | C12: =IF(COUNTA(立替明細!A10:D10)>0,IF($J$3<>0,NA(),IF(立替明細!B10>$B$3,"",立替明細!D10)),"") -> 8000 | D12: =IF(COUNTA(立替明細!A10:D10)>0,IF($J$3<>0,NA(),IF(立替明細!B10>$B$3,"",SUMIFS(精算受取!$H$8:$H$107,精算受取!$B$8:$B$107,A12))),"") -> 10000 | E12: =IF(COUNTA(立替明細!A10:D10)>0,IF($J$3<>0,NA(),IF(立替明細!B10>$B$3,"",MAX(0,C12-D12))),"") -> 0 | F12: =IF(COUNTA(立替明細!A10:D10)>0,IF($J$3<>0,NA(),IF(立替明細!B10>$B$3,"",MAX(0,D12-C12))),"") -> 2000 | G12: =IF(COUNTA(立替明細!A10:D10)>0,立替明細!B10,"") -> 46305 | H12: =IF(COUNTA(立替明細!A10:D10)>0,IF($J$3<>0,"入力を確認",IF(立替明細!B10>$B$3,"基準日より後",IF(F12>0,"過精算",IF(E12>0,IF(D12>0,"一部精算","未精算"),IF(C12=0,"精算不要","精算済"))))),"") -> 過精算
A13: =IF(COUNTA(立替明細!A11:D11)>0,立替明細!A11,"") -> ADV-0004 | B13: =IF(COUNTA(立替明細!A11:D11)>0,CLEAN(立替明細!C11),"") -> 追加購入 | C13: =IF(COUNTA(立替明細!A11:D11)>0,IF($J$3<>0,NA(),IF(立替明細!B11>$B$3,"",立替明細!D11)),"") | D13: =IF(COUNTA(立替明細!A11:D11)>0,IF($J$3<>0,NA(),IF(立替明細!B11>$B$3,"",SUMIFS(精算受取!$H$8:$H$107,精算受取!$B$8:$B$107,A13))),"") | E13: =IF(COUNTA(立替明細!A11:D11)>0,IF($J$3<>0,NA(),IF(立替明細!B11>$B$3,"",MAX(0,C13-D13))),"") | F13: =IF(COUNTA(立替明細!A11:D11)>0,IF($J$3<>0,NA(),IF(立替明細!B11>$B$3,"",MAX(0,D13-C13))),"") | G13: =IF(COUNTA(立替明細!A11:D11)>0,立替明細!B11,"") -> 46311 | H13: =IF(COUNTA(立替明細!A11:D11)>0,IF($J$3<>0,"入力を確認",IF(立替明細!B11>$B$3,"基準日より後",IF(F13>0,"過精算",IF(E13>0,IF(D13>0,"一部精算","未精算"),IF(C13=0,"精算不要","精算済"))))),"") -> 基準日より後
A14: =IF(COUNTA(立替明細!A12:D12)>0,立替明細!A12,"") -> ADV-0005 | B14: =IF(COUNTA(立替明細!A12:D12)>0,CLEAN(立替明細!C12),"") -> 精算対象額なし | C14: =IF(COUNTA(立替明細!A12:D12)>0,IF($J$3<>0,NA(),IF(立替明細!B12>$B$3,"",立替明細!D12)),"") -> 0 | D14: =IF(COUNTA(立替明細!A12:D12)>0,IF($J$3<>0,NA(),IF(立替明細!B12>$B$3,"",SUMIFS(精算受取!$H$8:$H$107,精算受取!$B$8:$B$107,A14))),"") -> 0 | E14: =IF(COUNTA(立替明細!A12:D12)>0,IF($J$3<>0,NA(),IF(立替明細!B12>$B$3,"",MAX(0,C14-D14))),"") -> 0 | F14: =IF(COUNTA(立替明細!A12:D12)>0,IF($J$3<>0,NA(),IF(立替明細!B12>$B$3,"",MAX(0,D14-C14))),"") -> 0 | G14: =IF(COUNTA(立替明細!A12:D12)>0,立替明細!B12,"") -> 46295 | H14: =IF(COUNTA(立替明細!A12:D12)>0,IF($J$3<>0,"入力を確認",IF(立替明細!B12>$B$3,"基準日より後",IF(F14>0,"過精算",IF(E14>0,IF(D14>0,"一部精算","未精算"),IF(C14=0,"精算不要","精算済"))))),"") -> 精算不要
A15: =IF(COUNTA(立替明細!A13:D13)>0,立替明細!A13,"") | B15: =IF(COUNTA(立替明細!A13:D13)>0,CLEAN(立替明細!C13),"") | C15: =IF(COUNTA(立替明細!A13:D13)>0,IF($J$3<>0,NA(),IF(立替明細!B13>$B$3,"",立替明細!D13)),"") | D15: =IF(COUNTA(立替明細!A13:D13)>0,IF($J$3<>0,NA(),IF(立替明細!B13>$B$3,"",SUMIFS(精算受取!$H$8:$H$107,精算受取!$B$8:$B$107,A15))),"") | E15: =IF(COUNTA(立替明細!A13:D13)>0,IF($J$3<>0,NA(),IF(立替明細!B13>$B$3,"",MAX(0,C15-D15))),"") | F15: =IF(COUNTA(立替明細!A13:D13)>0,IF($J$3<>0,NA(),IF(立替明細!B13>$B$3,"",MAX(0,D15-C15))),"") | G15: =IF(COUNTA(立替明細!A13:D13)>0,立替明細!B13,"") | H15: =IF(COUNTA(立替明細!A13:D13)>0,IF($J$3<>0,"入力を確認",IF(立替明細!B13>$B$3,"基準日より後",IF(F15>0,"過精算",IF(E15>0,IF(D15>0,"一部精算","未精算"),IF(C15=0,"精算不要","精算済"))))),"")
A16: =IF(COUNTA(立替明細!A14:D14)>0,立替明細!A14,"") | B16: =IF(COUNTA(立替明細!A14:D14)>0,CLEAN(立替明細!C14),"") | C16: =IF(COUNTA(立替明細!A14:D14)>0,IF($J$3<>0,NA(),IF(立替明細!B14>$B$3,"",立替明細!D14)),"") | D16: =IF(COUNTA(立替明細!A14:D14)>0,IF($J$3<>0,NA(),IF(立替明細!B14>$B$3,"",SUMIFS(精算受取!$H$8:$H$107,精算受取!$B$8:$B$107,A16))),"") | E16: =IF(COUNTA(立替明細!A14:D14)>0,IF($J$3<>0,NA(),IF(立替明細!B14>$B$3,"",MAX(0,C16-D16))),"") | F16: =IF(COUNTA(立替明細!A14:D14)>0,IF($J$3<>0,NA(),IF(立替明細!B14>$B$3,"",MAX(0,D16-C16))),"") | G16: =IF(COUNTA(立替明細!A14:D14)>0,立替明細!B14,"") | H16: =IF(COUNTA(立替明細!A14:D14)>0,IF($J$3<>0,"入力を確認",IF(立替明細!B14>$B$3,"基準日より後",IF(F16>0,"過精算",IF(E16>0,IF(D16>0,"一部精算","未精算"),IF(C16=0,"精算不要","精算済"))))),"")
A17: =IF(COUNTA(立替明細!A15:D15)>0,立替明細!A15,"") | B17: =IF(COUNTA(立替明細!A15:D15)>0,CLEAN(立替明細!C15),"") | C17: =IF(COUNTA(立替明細!A15:D15)>0,IF($J$3<>0,NA(),IF(立替明細!B15>$B$3,"",立替明細!D15)),"") | D17: =IF(COUNTA(立替明細!A15:D15)>0,IF($J$3<>0,NA(),IF(立替明細!B15>$B$3,"",SUMIFS(精算受取!$H$8:$H$107,精算受取!$B$8:$B$107,A17))),"") | E17: =IF(COUNTA(立替明細!A15:D15)>0,IF($J$3<>0,NA(),IF(立替明細!B15>$B$3,"",MAX(0,C17-D17))),"") | F17: =IF(COUNTA(立替明細!A15:D15)>0,IF($J$3<>0,NA(),IF(立替明細!B15>$B$3,"",MAX(0,D17-C17))),"") | G17: =IF(COUNTA(立替明細!A15:D15)>0,立替明細!B15,"") | H17: =IF(COUNTA(立替明細!A15:D15)>0,IF($J$3<>0,"入力を確認",IF(立替明細!B15>$B$3,"基準日より後",IF(F17>0,"過精算",IF(E17>0,IF(D17>0,"一部精算","未精算"),IF(C17=0,"精算不要","精算済"))))),"")
A18: =IF(COUNTA(立替明細!A16:D16)>0,立替明細!A16,"") | B18: =IF(COUNTA(立替明細!A16:D16)>0,CLEAN(立替明細!C16),"") | C18: =IF(COUNTA(立替明細!A16:D16)>0,IF($J$3<>0,NA(),IF(立替明細!B16>$B$3,"",立替明細!D16)),"") | D18: =IF(COUNTA(立替明細!A16:D16)>0,IF($J$3<>0,NA(),IF(立替明細!B16>$B$3,"",SUMIFS(精算受取!$H$8:$H$107,精算受取!$B$8:$B$107,A18))),"") | E18: =IF(COUNTA(立替明細!A16:D16)>0,IF($J$3<>0,NA(),IF(立替明細!B16>$B$3,"",MAX(0,C18-D18))),"") | F18: =IF(COUNTA(立替明細!A16:D16)>0,IF($J$3<>0,NA(),IF(立替明細!B16>$B$3,"",MAX(0,D18-C18))),"") | G18: =IF(COUNTA(立替明細!A16:D16)>0,立替明細!B16,"") | H18: =IF(COUNTA(立替明細!A16:D16)>0,IF($J$3<>0,"入力を確認",IF(立替明細!B16>$B$3,"基準日より後",IF(F18>0,"過精算",IF(E18>0,IF(D18>0,"一部精算","未精算"),IF(C18=0,"精算不要","精算済"))))),"")
A19: =IF(COUNTA(立替明細!A17:D17)>0,立替明細!A17,"") | B19: =IF(COUNTA(立替明細!A17:D17)>0,CLEAN(立替明細!C17),"") | C19: =IF(COUNTA(立替明細!A17:D17)>0,IF($J$3<>0,NA(),IF(立替明細!B17>$B$3,"",立替明細!D17)),"") | D19: =IF(COUNTA(立替明細!A17:D17)>0,IF($J$3<>0,NA(),IF(立替明細!B17>$B$3,"",SUMIFS(精算受取!$H$8:$H$107,精算受取!$B$8:$B$107,A19))),"") | E19: =IF(COUNTA(立替明細!A17:D17)>0,IF($J$3<>0,NA(),IF(立替明細!B17>$B$3,"",MAX(0,C19-D19))),"") | F19: =IF(COUNTA(立替明細!A17:D17)>0,IF($J$3<>0,NA(),IF(立替明細!B17>$B$3,"",MAX(0,D19-C19))),"") | G19: =IF(COUNTA(立替明細!A17:D17)>0,立替明細!B17,"") | H19: =IF(COUNTA(立替明細!A17:D17)>0,IF($J$3<>0,"入力を確認",IF(立替明細!B17>$B$3,"基準日より後",IF(F19>0,"過精算",IF(E19>0,IF(D19>0,"一部精算","未精算"),IF(C19=0,"精算不要","精算済"))))),"")
A20: =IF(COUNTA(立替明細!A18:D18)>0,立替明細!A18,"") | B20: =IF(COUNTA(立替明細!A18:D18)>0,CLEAN(立替明細!C18),"") | C20: =IF(COUNTA(立替明細!A18:D18)>0,IF($J$3<>0,NA(),IF(立替明細!B18>$B$3,"",立替明細!D18)),"") | D20: =IF(COUNTA(立替明細!A18:D18)>0,IF($J$3<>0,NA(),IF(立替明細!B18>$B$3,"",SUMIFS(精算受取!$H$8:$H$107,精算受取!$B$8:$B$107,A20))),"") | E20: =IF(COUNTA(立替明細!A18:D18)>0,IF($J$3<>0,NA(),IF(立替明細!B18>$B$3,"",MAX(0,C20-D20))),"") | F20: =IF(COUNTA(立替明細!A18:D18)>0,IF($J$3<>0,NA(),IF(立替明細!B18>$B$3,"",MAX(0,D20-C20))),"") | G20: =IF(COUNTA(立替明細!A18:D18)>0,立替明細!B18,"") | H20: =IF(COUNTA(立替明細!A18:D18)>0,IF($J$3<>0,"入力を確認",IF(立替明細!B18>$B$3,"基準日より後",IF(F20>0,"過精算",IF(E20>0,IF(D20>0,"一部精算","未精算"),IF(C20=0,"精算不要","精算済"))))),"")
A21: =IF(COUNTA(立替明細!A19:D19)>0,立替明細!A19,"") | B21: =IF(COUNTA(立替明細!A19:D19)>0,CLEAN(立替明細!C19),"") | C21: =IF(COUNTA(立替明細!A19:D19)>0,IF($J$3<>0,NA(),IF(立替明細!B19>$B$3,"",立替明細!D19)),"") | D21: =IF(COUNTA(立替明細!A19:D19)>0,IF($J$3<>0,NA(),IF(立替明細!B19>$B$3,"",SUMIFS(精算受取!$H$8:$H$107,精算受取!$B$8:$B$107,A21))),"") | E21: =IF(COUNTA(立替明細!A19:D19)>0,IF($J$3<>0,NA(),IF(立替明細!B19>$B$3,"",MAX(0,C21-D21))),"") | F21: =IF(COUNTA(立替明細!A19:D19)>0,IF($J$3<>0,NA(),IF(立替明細!B19>$B$3,"",MAX(0,D21-C21))),"") | G21: =IF(COUNTA(立替明細!A19:D19)>0,立替明細!B19,"") | H21: =IF(COUNTA(立替明細!A19:D19)>0,IF($J$3<>0,"入力を確認",IF(立替明細!B19>$B$3,"基準日より後",IF(F21>0,"過精算",IF(E21>0,IF(D21>0,"一部精算","未精算"),IF(C21=0,"精算不要","精算済"))))),"")
... A59: =IF(COUNTA(立替明細!A57:D57)>0,立替明細!A57,"") | B59: =IF(COUNTA(立替明細!A57:D57)>0,CLEAN(立替明細!C57),"") | C59: =IF(COUNTA(立替明細!A57:D57)>0,IF($J$3<>0,NA(),IF(立替明細!B57>$B$3,"",立替明細!D57)),"") | D59: =IF(COUNTA(立替明細!A57:D57)>0,IF($J$3<>0,NA(),IF(立替明細!B57>$B$3,"",SUMIFS(精算受取!$H$8:$H$107,精算受取!$B$8:$B$107,A59))),"") | E59: =IF(COUNTA(立替明細!A57:D57)>0,IF($J$3<>0,NA(),IF(立替明細!B57>$B$3,"",MAX(0,C59-D59))),"") | F59: =IF(COUNTA(立替明細!A57:D57)>0,IF($J$3<>0,NA(),IF(立替明細!B57>$B$3,"",MAX(0,D59-C59))),"") | G59: =IF(COUNTA(立替明細!A57:D57)>0,立替明細!B57,"") | H59: =IF(COUNTA(立替明細!A57:D57)>0,IF($J$3<>0,"入力を確認",IF(立替明細!B57>$B$3,"基準日より後",IF(F59>0,"過精算",IF(E59>0,IF(D59>0,"一部精算","未精算"),IF(C59=0,"精算不要","精算済"))))),"")

Sheet 立替明細
A2: 立替明細
A3: 1人分の精算対象と確定した立替を50件まで。会社払い・対象外は入れません。
A5: 内容は改行なし20文字。Calcの段落区切りは式で検出できない場合があります。
A7: 立替ID | B7: 支出日 | C7: 内容（20文字） | D7: 対象額（円） | E7: 入力の確認 | F7: 前提不備
A8: ADV-0001 | B8: 46296 | C8: 交通費 | D8: 12000 | E8: =IF(COUNTA(A8:D8)=0,"",IF(NOT(AND(ISTEXT(A8),LEN(A8)=8,EXACT(LEFT(A8,4),"ADV-"),ISNUMBER(FIND(MID(A8,5,1)&"x","0x1x2x3x4x5x6x7x8x9x")),ISNUMBER(FIND(MID(A8,6,1)&"x","0x1x2x3x4x5x6x7x8x9x")),ISNUMBER(FIND(MID(A8,7,1)&"x","0x1x2x3x4x5x6x7x8x9x")),ISNUMBER(FIND(MID(A8,8,1)&"x","0x1x2x3x4x5x6x7x8x9x")))),"IDはADV-と半角数字4桁",IF(COUNTIFS($A$8:$A$57,A8)>1,"立替IDが重複",IF(NOT(AND(ISNUMBER(B8),B8>=43831,B8<=73050,B8=INT(B8))),"支出日を確認",IF(NOT(AND(ISTEXT(C8),LEN(TRIM(C8))>0,LEN(C8)<=20,EXACT(CLEAN(C8),C8))),"内容は改行なし20文字",IF(NOT(AND(ISNUMBER(D8),D8>=0,D8<=1000000000,D8=INT(D8))),"対象額を確認（空欄不可）","確認済み")))))) -> 確認済み | F8: =IF(E8="","",IF(E8="確認済み",0,1)) -> 0
A9: ADV-0002 | B9: 46298 | C9: 備品購入 | D9: 30000 | E9: =IF(COUNTA(A9:D9)=0,"",IF(NOT(AND(ISTEXT(A9),LEN(A9)=8,EXACT(LEFT(A9,4),"ADV-"),ISNUMBER(FIND(MID(A9,5,1)&"x","0x1x2x3x4x5x6x7x8x9x")),ISNUMBER(FIND(MID(A9,6,1)&"x","0x1x2x3x4x5x6x7x8x9x")),ISNUMBER(FIND(MID(A9,7,1)&"x","0x1x2x3x4x5x6x7x8x9x")),ISNUMBER(FIND(MID(A9,8,1)&"x","0x1x2x3x4x5x6x7x8x9x")))),"IDはADV-と半角数字4桁",IF(COUNTIFS($A$8:$A$57,A9)>1,"立替IDが重複",IF(NOT(AND(ISNUMBER(B9),B9>=43831,B9<=73050,B9=INT(B9))),"支出日を確認",IF(NOT(AND(ISTEXT(C9),LEN(TRIM(C9))>0,LEN(C9)<=20,EXACT(CLEAN(C9),C9))),"内容は改行なし20文字",IF(NOT(AND(ISNUMBER(D9),D9>=0,D9<=1000000000,D9=INT(D9))),"対象額を確認（空欄不可）","確認済み")))))) -> 確認済み | F9: =IF(E9="","",IF(E9="確認済み",0,1)) -> 0
A10: ADV-0003 | B10: 46305 | C10: 図書購入 | D10: 8000 | E10: =IF(COUNTA(A10:D10)=0,"",IF(NOT(AND(ISTEXT(A10),LEN(A10)=8,EXACT(LEFT(A10,4),"ADV-"),ISNUMBER(FIND(MID(A10,5,1)&"x","0x1x2x3x4x5x6x7x8x9x")),ISNUMBER(FIND(MID(A10,6,1)&"x","0x1x2x3x4x5x6x7x8x9x")),ISNUMBER(FIND(MID(A10,7,1)&"x","0x1x2x3x4x5x6x7x8x9x")),ISNUMBER(FIND(MID(A10,8,1)&"x","0x1x2x3x4x5x6x7x8x9x")))),"IDはADV-と半角数字4桁",IF(COUNTIFS($A$8:$A$57,A10)>1,"立替IDが重複",IF(NOT(AND(ISNUMBER(B10),B10>=43831,B10<=73050,B10=INT(B10))),"支出日を確認",IF(NOT(AND(ISTEXT(C10),LEN(TRIM(C10))>0,LEN(C10)<=20,EXACT(CLEAN(C10),C10))),"内容は改行なし20文字",IF(NOT(AND(ISNUMBER(D10),D10>=0,D10<=1000000000,D10=INT(D10))),"対象額を確認（空欄不可）","確認済み")))))) -> 確認済み | F10: =IF(E10="","",IF(E10="確認済み",0,1)) -> 0
A11: ADV-0004 | B11: 46311 | C11: 追加購入 | D11: 5000 | E11: =IF(COUNTA(A11:D11)=0,"",IF(NOT(AND(ISTEXT(A11),LEN(A11)=8,EXACT(LEFT(A11,4),"ADV-"),ISNUMBER(FIND(MID(A11,5,1)&"x","0x1x2x3x4x5x6x7x8x9x")),ISNUMBER(FIND(MID(A11,6,1)&"x","0x1x2x3x4x5x6x7x8x9x")),ISNUMBER(FIND(MID(A11,7,1)&"x","0x1x2x3x4x5x6x7x8x9x")),ISNUMBER(FIND(MID(A11,8,1)&"x","0x1x2x3x4x5x6x7x8x9x")))),"IDはADV-と半角数字4桁",IF(COUNTIFS($A$8:$A$57,A11)>1,"立替IDが重複",IF(NOT(AND(ISNUMBER(B11),B11>=43831,B11<=73050,B11=INT(B11))),"支出日を確認",IF(NOT(AND(ISTEXT(C11),LEN(TRIM(C11))>0,LEN(C11)<=20,EXACT(CLEAN(C11),C11))),"内容は改行なし20文字",IF(NOT(AND(ISNUMBER(D11),D11>=0,D11<=1000000000,D11=INT(D11))),"対象額を確認（空欄不可）","確認済み")))))) -> 確認済み | F11: =IF(E11="","",IF(E11="確認済み",0,1)) -> 0
A12: ADV-0005 | B12: 46295 | C12: 精算対象額なし | D12: 0 | E12: =IF(COUNTA(A12:D12)=0,"",IF(NOT(AND(ISTEXT(A12),LEN(A12)=8,EXACT(LEFT(A12,4),"ADV-"),ISNUMBER(FIND(MID(A12,5,1)&"x","0x1x2x3x4x5x6x7x8x9x")),ISNUMBER(FIND(MID(A12,6,1)&"x","0x1x2x3x4x5x6x7x8x9x")),ISNUMBER(FIND(MID(A12,7,1)&"x","0x1x2x3x4x5x6x7x8x9x")),ISNUMBER(FIND(MID(A12,8,1)&"x","0x1x2x3x4x5x6x7x8x9x")))),"IDはADV-と半角数字4桁",IF(COUNTIFS($A$8:$A$57,A12)>1,"立替IDが重複",IF(NOT(AND(ISNUMBER(B12),B12>=43831,B12<=73050,B12=INT(B12))),"支出日を確認",IF(NOT(AND(ISTEXT(C12),LEN(TRIM(C12))>0,LEN(C12)<=20,EXACT(CLEAN(C12),C12))),"内容は改行なし20文字",IF(NOT(AND(ISNUMBER(D12),D12>=0,D12<=1000000000,D12=INT(D12))),"対象額を確認（空欄不可）","確認済み")))))) -> 確認済み | F12: =IF(E12="","",IF(E12="確認済み",0,1)) -> 0
E13: =IF(COUNTA(A13:D13)=0,"",IF(NOT(AND(ISTEXT(A13),LEN(A13)=8,EXACT(LEFT(A13,4),"ADV-"),ISNUMBER(FIND(MID(A13,5,1)&"x","0x1x2x3x4x5x6x7x8x9x")),ISNUMBER(FIND(MID(A13,6,1)&"x","0x1x2x3x4x5x6x7x8x9x")),ISNUMBER(FIND(MID(A13,7,1)&"x","0x1x2x3x4x5x6x7x8x9x")),ISNUMBER(FIND(MID(A13,8,1)&"x","0x1x2x3x4x5x6x7x8x9x")))),"IDはADV-と半角数字4桁",IF(COUNTIFS($A$8:$A$57,A13)>1,"立替IDが重複",IF(NOT(AND(ISNUMBER(B13),B13>=43831,B13<=73050,B13=INT(B13))),"支出日を確認",IF(NOT(AND(ISTEXT(C13),LEN(TRIM(C13))>0,LEN(C13)<=20,EXACT(CLEAN(C13),C13))),"内容は改行なし20文字",IF(NOT(AND(ISNUMBER(D13),D13>=0,D13<=1000000000,D13=INT(D13))),"対象額を確認（空欄不可）","確認済み")))))) | F13: =IF(E13="","",IF(E13="確認済み",0,1))
E14: =IF(COUNTA(A14:D14)=0,"",IF(NOT(AND(ISTEXT(A14),LEN(A14)=8,EXACT(LEFT(A14,4),"ADV-"),ISNUMBER(FIND(MID(A14,5,1)&"x","0x1x2x3x4x5x6x7x8x9x")),ISNUMBER(FIND(MID(A14,6,1)&"x","0x1x2x3x4x5x6x7x8x9x")),ISNUMBER(FIND(MID(A14,7,1)&"x","0x1x2x3x4x5x6x7x8x9x")),ISNUMBER(FIND(MID(A14,8,1)&"x","0x1x2x3x4x5x6x7x8x9x")))),"IDはADV-と半角数字4桁",IF(COUNTIFS($A$8:$A$57,A14)>1,"立替IDが重複",IF(NOT(AND(ISNUMBER(B14),B14>=43831,B14<=73050,B14=INT(B14))),"支出日を確認",IF(NOT(AND(ISTEXT(C14),LEN(TRIM(C14))>0,LEN(C14)<=20,EXACT(CLEAN(C14),C14))),"内容は改行なし20文字",IF(NOT(AND(ISNUMBER(D14),D14>=0,D14<=1000000000,D14=INT(D14))),"対象額を確認（空欄不可）","確認済み")))))) | F14: =IF(E14="","",IF(E14="確認済み",0,1))
E15: =IF(COUNTA(A15:D15)=0,"",IF(NOT(AND(ISTEXT(A15),LEN(A15)=8,EXACT(LEFT(A15,4),"ADV-"),ISNUMBER(FIND(MID(A15,5,1)&"x","0x1x2x3x4x5x6x7x8x9x")),ISNUMBER(FIND(MID(A15,6,1)&"x","0x1x2x3x4x5x6x7x8x9x")),ISNUMBER(FIND(MID(A15,7,1)&"x","0x1x2x3x4x5x6x7x8x9x")),ISNUMBER(FIND(MID(A15,8,1)&"x","0x1x2x3x4x5x6x7x8x9x")))),"IDはADV-と半角数字4桁",IF(COUNTIFS($A$8:$A$57,A15)>1,"立替IDが重複",IF(NOT(AND(ISNUMBER(B15),B15>=43831,B15<=73050,B15=INT(B15))),"支出日を確認",IF(NOT(AND(ISTEXT(C15),LEN(TRIM(C15))>0,LEN(C15)<=20,EXACT(CLEAN(C15),C15))),"内容は改行なし20文字",IF(NOT(AND(ISNUMBER(D15),D15>=0,D15<=1000000000,D15=INT(D15))),"対象額を確認（空欄不可）","確認済み")))))) | F15: =IF(E15="","",IF(E15="確認済み",0,1))
E16: =IF(COUNTA(A16:D16)=0,"",IF(NOT(AND(ISTEXT(A16),LEN(A16)=8,EXACT(LEFT(A16,4),"ADV-"),ISNUMBER(FIND(MID(A16,5,1)&"x","0x1x2x3x4x5x6x7x8x9x")),ISNUMBER(FIND(MID(A16,6,1)&"x","0x1x2x3x4x5x6x7x8x9x")),ISNUMBER(FIND(MID(A16,7,1)&"x","0x1x2x3x4x5x6x7x8x9x")),ISNUMBER(FIND(MID(A16,8,1)&"x","0x1x2x3x4x5x6x7x8x9x")))),"IDはADV-と半角数字4桁",IF(COUNTIFS($A$8:$A$57,A16)>1,"立替IDが重複",IF(NOT(AND(ISNUMBER(B16),B16>=43831,B16<=73050,B16=INT(B16))),"支出日を確認",IF(NOT(AND(ISTEXT(C16),LEN(TRIM(C16))>0,LEN(C16)<=20,EXACT(CLEAN(C16),C16))),"内容は改行なし20文字",IF(NOT(AND(ISNUMBER(D16),D16>=0,D16<=1000000000,D16=INT(D16))),"対象額を確認（空欄不可）","確認済み")))))) | F16: =IF(E16="","",IF(E16="確認済み",0,1))
E17: =IF(COUNTA(A17:D17)=0,"",IF(NOT(AND(ISTEXT(A17),LEN(A17)=8,EXACT(LEFT(A17,4),"ADV-"),ISNUMBER(FIND(MID(A17,5,1)&"x","0x1x2x3x4x5x6x7x8x9x")),ISNUMBER(FIND(MID(A17,6,1)&"x","0x1x2x3x4x5x6x7x8x9x")),ISNUMBER(FIND(MID(A17,7,1)&"x","0x1x2x3x4x5x6x7x8x9x")),ISNUMBER(FIND(MID(A17,8,1)&"x","0x1x2x3x4x5x6x7x8x9x")))),"IDはADV-と半角数字4桁",IF(COUNTIFS($A$8:$A$57,A17)>1,"立替IDが重複",IF(NOT(AND(ISNUMBER(B17),B17>=43831,B17<=73050,B17=INT(B17))),"支出日を確認",IF(NOT(AND(ISTEXT(C17),LEN(TRIM(C17))>0,LEN(C17)<=20,EXACT(CLEAN(C17),C17))),"内容は改行なし20文字",IF(NOT(AND(ISNUMBER(D17),D17>=0,D17<=1000000000,D17=INT(D17))),"対象額を確認（空欄不可）","確認済み")))))) | F17: =IF(E17="","",IF(E17="確認済み",0,1))
E18: =IF(COUNTA(A18:D18)=0,"",IF(NOT(AND(ISTEXT(A18),LEN(A18)=8,EXACT(LEFT(A18,4),"ADV-"),ISNUMBER(FIND(MID(A18,5,1)&"x","0x1x2x3x4x5x6x7x8x9x")),ISNUMBER(FIND(MID(A18,6,1)&"x","0x1x2x3x4x5x6x7x8x9x")),ISNUMBER(FIND(MID(A18,7,1)&"x","0x1x2x3x4x5x6x7x8x9x")),ISNUMBER(FIND(MID(A18,8,1)&"x","0x1x2x3x4x5x6x7x8x9x")))),"IDはADV-と半角数字4桁",IF(COUNTIFS($A$8:$A$57,A18)>1,"立替IDが重複",IF(NOT(AND(ISNUMBER(B18),B18>=43831,B18<=73050,B18=INT(B18))),"支出日を確認",IF(NOT(AND(ISTEXT(C18),LEN(TRIM(C18))>0,LEN(C18)<=20,EXACT(CLEAN(C18),C18))),"内容は改行なし20文字",IF(NOT(AND(ISNUMBER(D18),D18>=0,D18<=1000000000,D18=INT(D18))),"対象額を確認（空欄不可）","確認済み")))))) | F18: =IF(E18="","",IF(E18="確認済み",0,1))
E19: =IF(COUNTA(A19:D19)=0,"",IF(NOT(AND(ISTEXT(A19),LEN(A19)=8,EXACT(LEFT(A19,4),"ADV-"),ISNUMBER(FIND(MID(A19,5,1)&"x","0x1x2x3x4x5x6x7x8x9x")),ISNUMBER(FIND(MID(A19,6,1)&"x","0x1x2x3x4x5x6x7x8x9x")),ISNUMBER(FIND(MID(A19,7,1)&"x","0x1x2x3x4x5x6x7x8x9x")),ISNUMBER(FIND(MID(A19,8,1)&"x","0x1x2x3x4x5x6x7x8x9x")))),"IDはADV-と半角数字4桁",IF(COUNTIFS($A$8:$A$57,A19)>1,"立替IDが重複",IF(NOT(AND(ISNUMBER(B19),B19>=43831,B19<=73050,B19=INT(B19))),"支出日を確認",IF(NOT(AND(ISTEXT(C19),LEN(TRIM(C19))>0,LEN(C19)<=20,EXACT(CLEAN(C19),C19))),"内容は改行なし20文字",IF(NOT(AND(ISNUMBER(D19),D19>=0,D19<=1000000000,D19=INT(D19))),"対象額を確認（空欄不可）","確認済み")))))) | F19: =IF(E19="","",IF(E19="確認済み",0,1))
E20: =IF(COUNTA(A20:D20)=0,"",IF(NOT(AND(ISTEXT(A20),LEN(A20)=8,EXACT(LEFT(A20,4),"ADV-"),ISNUMBER(FIND(MID(A20,5,1)&"x","0x1x2x3x4x5x6x7x8x9x")),ISNUMBER(FIND(MID(A20,6,1)&"x","0x1x2x3x4x5x6x7x8x9x")),ISNUMBER(FIND(MID(A20,7,1)&"x","0x1x2x3x4x5x6x7x8x9x")),ISNUMBER(FIND(MID(A20,8,1)&"x","0x1x2x3x4x5x6x7x8x9x")))),"IDはADV-と半角数字4桁",IF(COUNTIFS($A$8:$A$57,A20)>1,"立替IDが重複",IF(NOT(AND(ISNUMBER(B20),B20>=43831,B20<=73050,B20=INT(B20))),"支出日を確認",IF(NOT(AND(ISTEXT(C20),LEN(TRIM(C20))>0,LEN(C20)<=20,EXACT(CLEAN(C20),C20))),"内容は改行なし20文字",IF(NOT(AND(ISNUMBER(D20),D20>=0,D20<=1000000000,D20=INT(D20))),"対象額を確認（空欄不可）","確認済み")))))) | F20: =IF(E20="","",IF(E20="確認済み",0,1))
E21: =IF(COUNTA(A21:D21)=0,"",IF(NOT(AND(ISTEXT(A21),LEN(A21)=8,EXACT(LEFT(A21,4),"ADV-"),ISNUMBER(FIND(MID(A21,5,1)&"x","0x1x2x3x4x5x6x7x8x9x")),ISNUMBER(FIND(MID(A21,6,1)&"x","0x1x2x3x4x5x6x7x8x9x")),ISNUMBER(FIND(MID(A21,7,1)&"x","0x1x2x3x4x5x6x7x8x9x")),ISNUMBER(FIND(MID(A21,8,1)&"x","0x1x2x3x4x5x6x7x8x9x")))),"IDはADV-と半角数字4桁",IF(COUNTIFS($A$8:$A$57,A21)>1,"立替IDが重複",IF(NOT(AND(ISNUMBER(B21),B21>=43831,B21<=73050,B21=INT(B21))),"支出日を確認",IF(NOT(AND(ISTEXT(C21),LEN(TRIM(C21))>0,LEN(C21)<=20,EXACT(CLEAN(C21),C21))),"内容は改行なし20文字",IF(NOT(AND(ISNUMBER(D21),D21>=0,D21<=1000000000,D21=INT(D21))),"対象額を確認（空欄不可）","確認済み")))))) | F21: =IF(E21="","",IF(E21="確認済み",0,1))
E22: =IF(COUNTA(A22:D22)=0,"",IF(NOT(AND(ISTEXT(A22),LEN(A22)=8,EXACT(LEFT(A22,4),"ADV-"),ISNUMBER(FIND(MID(A22,5,1)&"x","0x1x2x3x4x5x6x7x8x9x")),ISNUMBER(FIND(MID(A22,6,1)&"x","0x1x2x3x4x5x6x7x8x9x")),ISNUMBER(FIND(MID(A22,7,1)&"x","0x1x2x3x4x5x6x7x8x9x")),ISNUMBER(FIND(MID(A22,8,1)&"x","0x1x2x3x4x5x6x7x8x9x")))),"IDはADV-と半角数字4桁",IF(COUNTIFS($A$8:$A$57,A22)>1,"立替IDが重複",IF(NOT(AND(ISNUMBER(B22),B22>=43831,B22<=73050,B22=INT(B22))),"支出日を確認",IF(NOT(AND(ISTEXT(C22),LEN(TRIM(C22))>0,LEN(C22)<=20,EXACT(CLEAN(C22),C22))),"内容は改行なし20文字",IF(NOT(AND(ISNUMBER(D22),D22>=0,D22<=1000000000,D22=INT(D22))),"対象額を確認（空欄不可）","確認済み")))))) | F22: =IF(E22="","",IF(E22="確認済み",0,1))
E23: =IF(COUNTA(A23:D23)=0,"",IF(NOT(AND(ISTEXT(A23),LEN(A23)=8,EXACT(LEFT(A23,4),"ADV-"),ISNUMBER(FIND(MID(A23,5,1)&"x","0x1x2x3x4x5x6x7x8x9x")),ISNUMBER(FIND(MID(A23,6,1)&"x","0x1x2x3x4x5x6x7x8x9x")),ISNUMBER(FIND(MID(A23,7,1)&"x","0x1x2x3x4x5x6x7x8x9x")),ISNUMBER(FIND(MID(A23,8,1)&"x","0x1x2x3x4x5x6x7x8x9x")))),"IDはADV-と半角数字4桁",IF(COUNTIFS($A$8:$A$57,A23)>1,"立替IDが重複",IF(NOT(AND(ISNUMBER(B23),B23>=43831,B23<=73050,B23=INT(B23))),"支出日を確認",IF(NOT(AND(ISTEXT(C23),LEN(TRIM(C23))>0,LEN(C23)<=20,EXACT(CLEAN(C23),C23))),"内容は改行なし20文字",IF(NOT(AND(ISNUMBER(D23),D23>=0,D23<=1000000000,D23=INT(D23))),"対象額を確認（空欄不可）","確認済み")))))) | F23: =IF(E23="","",IF(E23="確認済み",0,1))
E24: =IF(COUNTA(A24:D24)=0,"",IF(NOT(AND(ISTEXT(A24),LEN(A24)=8,EXACT(LEFT(A24,4),"ADV-"),ISNUMBER(FIND(MID(A24,5,1)&"x","0x1x2x3x4x5x6x7x8x9x")),ISNUMBER(FIND(MID(A24,6,1)&"x","0x1x2x3x4x5x6x7x8x9x")),ISNUMBER(FIND(MID(A24,7,1)&"x","0x1x2x3x4x5x6x7x8x9x")),ISNUMBER(FIND(MID(A24,8,1)&"x","0x1x2x3x4x5x6x7x8x9x")))),"IDはADV-と半角数字4桁",IF(COUNTIFS($A$8:$A$57,A24)>1,"立替IDが重複",IF(NOT(AND(ISNUMBER(B24),B24>=43831,B24<=73050,B24=INT(B24))),"支出日を確認",IF(NOT(AND(ISTEXT(C24),LEN(TRIM(C24))>0,LEN(C24)<=20,EXACT(CLEAN(C24),C24))),"内容は改行なし20文字",IF(NOT(AND(ISNUMBER(D24),D24>=0,D24<=1000000000,D24=INT(D24))),"対象額を確認（空欄不可）","確認済み")))))) | F24: =IF(E24="","",IF(E24="確認済み",0,1))
... E57: =IF(COUNTA(A57:D57)=0,"",IF(NOT(AND(ISTEXT(A57),LEN(A57)=8,EXACT(LEFT(A57,4),"ADV-"),ISNUMBER(FIND(MID(A57,5,1)&"x","0x1x2x3x4x5x6x7x8x9x")),ISNUMBER(FIND(MID(A57,6,1)&"x","0x1x2x3x4x5x6x7x8x9x")),ISNUMBER(FIND(MID(A57,7,1)&"x","0x1x2x3x4x5x6x7x8x9x")),ISNUMBER(FIND(MID(A57,8,1)&"x","0x1x2x3x4x5x6x7x8x9x")))),"IDはADV-と半角数字4桁",IF(COUNTIFS($A$8:$A$57,A57)>1,"立替IDが重複",IF(NOT(AND(ISNUMBER(B57),B57>=43831,B57<=73050,B57=INT(B57))),"支出日を確認",IF(NOT(AND(ISTEXT(C57),LEN(TRIM(C57))>0,LEN(C57)<=20,EXACT(CLEAN(C57),C57))),"内容は改行なし20文字",IF(NOT(AND(ISNUMBER(D57),D57>=0,D57<=1000000000,D57=INT(D57))),"対象額を確認（空欄不可）","確認済み")))))) | F57: =IF(E57="","",IF(E57="確認済み",0,1))
A60: 架空教材。1人の精算対象を確認済みの立替50件、精算受取100件。黄色に入力。
A61: 0円と金額の空欄は別。基準日より後の立替/受取は当日の集計から除きます。
A62: ID重複・不明な立替ID・支出前の受取・入力不備で合計を止めます。
A63: 過精算を別の未精算へ相殺しません。照合0は承認/振込/証憑の正しさを証明しません。
A64: 元資料を保存。実際の受取を残額に合わせて減額せず、過精算の返金等は別途確認します。
A65: 仮払/相殺/返金/複数人/外貨/税/給与天引/承認処理は対象外。マクロ・外部接続なし。
A66: 印刷は精算状況のみ。初期A1:H14、50立替ならA1:H59へ手動拡張。A4横・9行目繰返し。
A67: 版1 / CC0 1.0。https://creativecommons.org/publicdomain/zero/1.0/

Sheet 精算受取
A2: 精算の受取履歴
A3: 1立替へ配分済みの受取を1行で記録。部分精算は別IDで追加。最大100件。
A5: まとめ受取は根拠資料で配分。配分不明なら停止。実際の振込総額とも照合します。
A7: 受取ID | B7: 立替ID | C7: 受取日 | D7: 受取額（円） | E7: 入力の確認 | F7: 前提不備 | G7: 対応支出日 | H7: 基準日まで（円） | I7: 集計の前提
A8: SET-0001 | B8: ADV-0001 | C8: 46300 | D8: 5000 | E8: =IF(COUNTA(A8:D8)=0,"",IF(NOT(AND(ISTEXT(A8),LEN(A8)=8,EXACT(LEFT(A8,4),"SET-"),ISNUMBER(FIND(MID(A8,5,1)&"x","0x1x2x3x4x5x6x7x8x9x")),ISNUMBER(FIND(MID(A8,6,1)&"x","0x1x2x3x4x5x6x7x8x9x")),ISNUMBER(FIND(MID(A8,7,1)&"x","0x1x2x3x4x5x6x7x8x9x")),ISNUMBER(FIND(MID(A8,8,1)&"x","0x1x2x3x4x5x6x7x8x9x")))),"IDはSET-と半角数字4桁",IF(COUNTIFS($A$8:$A$107,A8)>1,"受取IDが重複",IF(NOT(AND(ISTEXT(B8),LEN(B8)=8,EXACT(LEFT(B8,4),"ADV-"),ISNUMBER(FIND(MID(B8,5,1)&"x","0x1x2x3x4x5x6x7x8x9x")),ISNUMBER(FIND(MID(B8,6,1)&"x","0x1x2x3x4x5x6x7x8x9x")),ISNUMBER(FIND(MID(B8,7,1)&"x","0x1x2x3x4x5x6x7x8x9x")),ISNUMBER(FIND(MID(B8,8,1)&"x","0x1x2x3x4x5x6x7x8x9x")))),"立替IDの形式を確認",IF(COUNTIFS(立替明細!$A$8:$A$57,B8)<>1,"立替IDが不明・重複",IF(NOT(AND(ISNUMBER(C8),C8>=43831,C8<=73050,C8=INT(C8))),"受取日を確認",IF(NOT(AND(ISNUMBER(D8),D8>=0,D8<=1000000000,D8=INT(D8))),"受取額を確認（空欄不可）",IF(C8<G8,"受取日が支出日より前","確認済み")))))))) -> 確認済み | F8: =IF(E8="","",IF(E8="確認済み",0,1)) -> 0 | G8: =IF(COUNTA(A8:D8)=0,"",IF(AND(ISTEXT(B8),LEN(B8)=8,EXACT(LEFT(B8,4),"ADV-"),ISNUMBER(FIND(MID(B8,5,1)&"x","0x1x2x3x4x5x6x7x8x9x")),ISNUMBER(FIND(MID(B8,6,1)&"x","0x1x2x3x4x5x6x7x8x9x")),ISNUMBER(FIND(MID(B8,7,1)&"x","0x1x2x3x4x5x6x7x8x9x")),ISNUMBER(FIND(MID(B8,8,1)&"x","0x1x2x3x4x5x6x7x8x9x"))),IF(COUNTIFS(立替明細!$A$8:$A$57,B8)=1,INDEX(立替明細!$B$8:$B$57,MATCH(B8,立替明細!$A$8:$A$57,0)),NA()),NA())) -> 46296 | H8: =IF(E8="","",IF(OR(F8<>0,精算状況!$I$3<>0),NA(),IF(C8<=精算状況!$B$3,D8,0))) -> 5000 | I8: =IF(E8="","",IF(F8<>0,0,IF(精算状況!$I$3<>0,0,IF(AND(ISNUMBER(H8),H8=IF(C8<=精算状況!$B$3,D8,0)),0,1)))) -> 0
A9: SET-0002 | B9: ADV-0001 | C9: 46310 | D9: 3000 | E9: =IF(COUNTA(A9:D9)=0,"",IF(NOT(AND(ISTEXT(A9),LEN(A9)=8,EXACT(LEFT(A9,4),"SET-"),ISNUMBER(FIND(MID(A9,5,1)&"x","0x1x2x3x4x5x6x7x8x9x")),ISNUMBER(FIND(MID(A9,6,1)&"x","0x1x2x3x4x5x6x7x8x9x")),ISNUMBER(FIND(MID(A9,7,1)&"x","0x1x2x3x4x5x6x7x8x9x")),ISNUMBER(FIND(MID(A9,8,1)&"x","0x1x2x3x4x5x6x7x8x9x")))),"IDはSET-と半角数字4桁",IF(COUNTIFS($A$8:$A$107,A9)>1,"受取IDが重複",IF(NOT(AND(ISTEXT(B9),LEN(B9)=8,EXACT(LEFT(B9,4),"ADV-"),ISNUMBER(FIND(MID(B9,5,1)&"x","0x1x2x3x4x5x6x7x8x9x")),ISNUMBER(FIND(MID(B9,6,1)&"x","0x1x2x3x4x5x6x7x8x9x")),ISNUMBER(FIND(MID(B9,7,1)&"x","0x1x2x3x4x5x6x7x8x9x")),ISNUMBER(FIND(MID(B9,8,1)&"x","0x1x2x3x4x5x6x7x8x9x")))),"立替IDの形式を確認",IF(COUNTIFS(立替明細!$A$8:$A$57,B9)<>1,"立替IDが不明・重複",IF(NOT(AND(ISNUMBER(C9),C9>=43831,C9<=73050,C9=INT(C9))),"受取日を確認",IF(NOT(AND(ISNUMBER(D9),D9>=0,D9<=1000000000,D9=INT(D9))),"受取額を確認（空欄不可）",IF(C9<G9,"受取日が支出日より前","確認済み")))))))) -> 確認済み | F9: =IF(E9="","",IF(E9="確認済み",0,1)) -> 0 | G9: =IF(COUNTA(A9:D9)=0,"",IF(AND(ISTEXT(B9),LEN(B9)=8,EXACT(LEFT(B9,4),"ADV-"),ISNUMBER(FIND(MID(B9,5,1)&"x","0x1x2x3x4x5x6x7x8x9x")),ISNUMBER(FIND(MID(B9,6,1)&"x","0x1x2x3x4x5x6x7x8x9x")),ISNUMBER(FIND(MID(B9,7,1)&"x","0x1x2x3x4x5x6x7x8x9x")),ISNUMBER(FIND(MID(B9,8,1)&"x","0x1x2x3x4x5x6x7x8x9x"))),IF(COUNTIFS(立替明細!$A$8:$A$57,B9)=1,INDEX(立替明細!$B$8:$B$57,MATCH(B9,立替明細!$A$8:$A$57,0)),NA()),NA())) -> 46296 | H9: =IF(E9="","",IF(OR(F9<>0,精算状況!$I$3<>0),NA(),IF(C9<=精算状況!$B$3,D9,0))) -> 3000 | I9: =IF(E9="","",IF(F9<>0,0,IF(精算状況!$I$3<>0,0,IF(AND(ISNUMBER(H9),H9=IF(C9<=精算状況!$B$3,D9,0)),0,1)))) -> 0
A10: SET-0003 | B10: ADV-0002 | C10: 46305 | D10: 30000 | E10: =IF(COUNTA(A10:D10)=0,"",IF(NOT(AND(ISTEXT(A10),LEN(A10)=8,EXACT(LEFT(A10,4),"SET-"),ISNUMBER(FIND(MID(A10,5,1)&"x","0x1x2x3x4x5x6x7x8x9x")),ISNUMBER(FIND(MID(A10,6,1)&"x","0x1x2x3x4x5x6x7x8x9x")),ISNUMBER(FIND(MID(A10,7,1)&"x","0x1x2x3x4x5x6x7x8x9x")),ISNUMBER(FIND(MID(A10,8,1)&"x","0x1x2x3x4x5x6x7x8x9x")))),"IDはSET-と半角数字4桁",IF(COUNTIFS($A$8:$A$107,A10)>1,"受取IDが重複",IF(NOT(AND(ISTEXT(B10),LEN(B10)=8,EXACT(LEFT(B10,4),"ADV-"),ISNUMBER(FIND(MID(B10,5,1)&"x","0x1x2x3x4x5x6x7x8x9x")),ISNUMBER(FIND(MID(B10,6,1)&"x","0x1x2x3x4x5x6x7x8x9x")),ISNUMBER(FIND(MID(B10,7,1)&"x","0x1x2x3x4x5x6x7x8x9x")),ISNUMBER(FIND(MID(B10,8,1)&"x","0x1x2x3x4x5x6x7x8x9x")))),"立替IDの形式を確認",IF(COUNTIFS(立替明細!$A$8:$A$57,B10)<>1,"立替IDが不明・重複",IF(NOT(AND(ISNUMBER(C10),C10>=43831,C10<=73050,C10=INT(C10))),"受取日を確認",IF(NOT(AND(ISNUMBER(D10),D10>=0,D10<=1000000000,D10=INT(D10))),"受取額を確認（空欄不可）",IF(C10<G10,"受取日が支出日より前","確認済み")))))))) -> 確認済み | F10: =IF(E10="","",IF(E10="確認済み",0,1)) -> 0 | G10: =IF(COUNTA(A10:D10)=0,"",IF(AND(ISTEXT(B10),LEN(B10)=8,EXACT(LEFT(B10,4),"ADV-"),ISNUMBER(FIND(MID(B10,5,1)&"x","0x1x2x3x4x5x6x7x8x9x")),ISNUMBER(FIND(MID(B10,6,1)&"x","0x1x2x3x4x5x6x7x8x9x")),ISNUMBER(FIND(MID(B10,7,1)&"x","0x1x2x3x4x5x6x7x8x9x")),ISNUMBER(FIND(MID(B10,8,1)&"x","0x1x2x3x4x5x6x7x8x9x"))),IF(COUNTIFS(立替明細!$A$8:$A$57,B10)=1,INDEX(立替明細!$B$8:$B$57,MATCH(B10,立替明細!$A$8:$A$57,0)),NA()),NA())) -> 46298 | H10: =IF(E10="","",IF(OR(F10<>0,精算状況!$I$3<>0),NA(),IF(C10<=精算状況!$B$3,D10,0))) -> 30000 | I10: =IF(E10="","",IF(F10<>0,0,IF(精算状況!$I$3<>0,0,IF(AND(ISNUMBER(H10),H10=IF(C10<=精算状況!$B$3,D10,0)),0,1)))) -> 0
A11: SET-0004 | B11: ADV-0003 | C11: 46309 | D11: 10000 | E11: =IF(COUNTA(A11:D11)=0,"",IF(NOT(AND(ISTEXT(A11),LEN(A11)=8,EXACT(LEFT(A11,4),"SET-"),ISNUMBER(FIND(MID(A11,5,1)&"x","0x1x2x3x4x5x6x7x8x9x")),ISNUMBER(FIND(MID(A11,6,1)&"x","0x1x2x3x4x5x6x7x8x9x")),ISNUMBER(FIND(MID(A11,7,1)&"x","0x1x2x3x4x5x6x7x8x9x")),ISNUMBER(FIND(MID(A11,8,1)&"x","0x1x2x3x4x5x6x7x8x9x")))),"IDはSET-と半角数字4桁",IF(COUNTIFS($A$8:$A$107,A11)>1,"受取IDが重複",IF(NOT(AND(ISTEXT(B11),LEN(B11)=8,EXACT(LEFT(B11,4),"ADV-"),ISNUMBER(FIND(MID(B11,5,1)&"x","0x1x2x3x4x5x6x7x8x9x")),ISNUMBER(FIND(MID(B11,6,1)&"x","0x1x2x3x4x5x6x7x8x9x")),ISNUMBER(FIND(MID(B11,7,1)&"x","0x1x2x3x4x5x6x7x8x9x")),ISNUMBER(FIND(MID(B11,8,1)&"x","0x1x2x3x4x5x6x7x8x9x")))),"立替IDの形式を確認",IF(COUNTIFS(立替明細!$A$8:$A$57,B11)<>1,"立替IDが不明・重複",IF(NOT(AND(ISNUMBER(C11),C11>=43831,C11<=73050,C11=INT(C11))),"受取日を確認",IF(NOT(AND(ISNUMBER(D11),D11>=0,D11<=1000000000,D11=INT(D11))),"受取額を確認（空欄不可）",IF(C11<G11,"受取日が支出日より前","確認済み")))))))) -> 確認済み | F11: =IF(E11="","",IF(E11="確認済み",0,1)) -> 0 | G11: =IF(COUNTA(A11:D11)=0,"",IF(AND(ISTEXT(B11),LEN(B11)=8,EXACT(LEFT(B11,4),"ADV-"),ISNUMBER(FIND(MID(B11,5,1)&"x","0x1x2x3x4x5x6x7x8x9x")),ISNUMBER(FIND(MID(B11,6,1)&"x","0x1x2x3x4x5x6x7x8x9x")),ISNUMBER(FIND(MID(B11,7,1)&"x","0x1x2x3x4x5x6x7x8x9x")),ISNUMBER(FIND(MID(B11,8,1)&"x","0x1x2x3x4x5x6x7x8x9x"))),IF(COUNTIFS(立替明細!$A$8:$A$57,B11)=1,INDEX(立替明細!$B$8:$B$57,MATCH(B11,立替明細!$A$8:$A$57,0)),NA()),NA())) -> 46305 | H11: =IF(E11="","",IF(OR(F11<>0,精算状況!$I$3<>0),NA(),IF(C11<=精算状況!$B$3,D11,0))) -> 10000 | I11: =IF(E11="","",IF(F11<>0,0,IF(精算状況!$I$3<>0,0,IF(AND(ISNUMBER(H11),H11=IF(C11<=精算状況!$B$3,D11,0)),0,1)))) -> 0
A12: SET-0005 | B12: ADV-0001 | C12: 46311 | D12: 4000 | E12: =IF(COUNTA(A12:D12)=0,"",IF(NOT(AND(ISTEXT(A12),LEN(A12)=8,EXACT(LEFT(A12,4),"SET-"),ISNUMBER(FIND(MID(A12,5,1)&"x","0x1x2x3x4x5x6x7x8x9x")),ISNUMBER(FIND(MID(A12,6,1)&"x","0x1x2x3x4x5x6x7x8x9x")),ISNUMBER(FIND(MID(A12,7,1)&"x","0x1x2x3x4x5x6x7x8x9x")),ISNUMBER(FIND(MID(A12,8,1)&"x","0x1x2x3x4x5x6x7x8x9x")))),"IDはSET-と半角数字4桁",IF(COUNTIFS($A$8:$A$107,A12)>1,"受取IDが重複",IF(NOT(AND(ISTEXT(B12),LEN(B12)=8,EXACT(LEFT(B12,4),"ADV-"),ISNUMBER(FIND(MID(B12,5,1)&"x","0x1x2x3x4x5x6x7x8x9x")),ISNUMBER(FIND(MID(B12,6,1)&"x","0x1x2x3x4x5x6x7x8x9x")),ISNUMBER(FIND(MID(B12,7,1)&"x","0x1x2x3x4x5x6x7x8x9x")),ISNUMBER(FIND(MID(B12,8,1)&"x","0x1x2x3x4x5x6x7x8x9x")))),"立替IDの形式を確認",IF(COUNTIFS(立替明細!$A$8:$A$57,B12)<>1,"立替IDが不明・重複",IF(NOT(AND(ISNUMBER(C12),C12>=43831,C12<=73050,C12=INT(C12))),"受取日を確認",IF(NOT(AND(ISNUMBER(D12),D12>=0,D12<=1000000000,D12=INT(D12))),"受取額を確認（空欄不可）",IF(C12<G12,"受取日が支出日より前","確認済み")))))))) -> 確認済み | F12: =IF(E12="","",IF(E12="確認済み",0,1)) -> 0 | G12: =IF(COUNTA(A12:D12)=0,"",IF(AND(ISTEXT(B12),LEN(B12)=8,EXACT(LEFT(B12,4),"ADV-"),ISNUMBER(FIND(MID(B12,5,1)&"x","0x1x2x3x4x5x6x7x8x9x")),ISNUMBER(FIND(MID(B12,6,1)&"x","0x1x2x3x4x5x6x7x8x9x")),ISNUMBER(FIND(MID(B12,7,1)&"x","0x1x2x3x4x5x6x7x8x9x")),ISNUMBER(FIND(MID(B12,8,1)&"x","0x1x2x3x4x5x6x7x8x9x"))),IF(COUNTIFS(立替明細!$A$8:$A$57,B12)=1,INDEX(立替明細!$B$8:$B$57,MATCH(B12,立替明細!$A$8:$A$57,0)),NA()),NA())) -> 46296 | H12: =IF(E12="","",IF(OR(F12<>0,精算状況!$I$3<>0),NA(),IF(C12<=精算状況!$B$3,D12,0))) -> 0 | I12: =IF(E12="","",IF(F12<>0,0,IF(精算状況!$I$3<>0,0,IF(AND(ISNUMBER(H12),H12=IF(C12<=精算状況!$B$3,D12,0)),0,1)))) -> 0
A13: SET-0006 | B13: ADV-0004 | C13: 46312 | D13: 5000 | E13: =IF(COUNTA(A13:D13)=0,"",IF(NOT(AND(ISTEXT(A13),LEN(A13)=8,EXACT(LEFT(A13,4),"SET-"),ISNUMBER(FIND(MID(A13,5,1)&"x","0x1x2x3x4x5x6x7x8x9x")),ISNUMBER(FIND(MID(A13,6,1)&"x","0x1x2x3x4x5x6x7x8x9x")),ISNUMBER(FIND(MID(A13,7,1)&"x","0x1x2x3x4x5x6x7x8x9x")),ISNUMBER(FIND(MID(A13,8,1)&"x","0x1x2x3x4x5x6x7x8x9x")))),"IDはSET-と半角数字4桁",IF(COUNTIFS($A$8:$A$107,A13)>1,"受取IDが重複",IF(NOT(AND(ISTEXT(B13),LEN(B13)=8,EXACT(LEFT(B13,4),"ADV-"),ISNUMBER(FIND(MID(B13,5,1)&"x","0x1x2x3x4x5x6x7x8x9x")),ISNUMBER(FIND(MID(B13,6,1)&"x","0x1x2x3x4x5x6x7x8x9x")),ISNUMBER(FIND(MID(B13,7,1)&"x","0x1x2x3x4x5x6x7x8x9x")),ISNUMBER(FIND(MID(B13,8,1)&"x","0x1x2x3x4x5x6x7x8x9x")))),"立替IDの形式を確認",IF(COUNTIFS(立替明細!$A$8:$A$57,B13)<>1,"立替IDが不明・重複",IF(NOT(AND(ISNUMBER(C13),C13>=43831,C13<=73050,C13=INT(C13))),"受取日を確認",IF(NOT(AND(ISNUMBER(D13),D13>=0,D13<=1000000000,D13=INT(D13))),"受取額を確認（空欄不可）",IF(C13<G13,"受取日が支出日より前","確認済み")))))))) -> 確認済み | F13: =IF(E13="","",IF(E13="確認済み",0,1)) -> 0 | G13: =IF(COUNTA(A13:D13)=0,"",IF(AND(ISTEXT(B13),LEN(B13)=8,EXACT(LEFT(B13,4),"ADV-"),ISNUMBER(FIND(MID(B13,5,1)&"x","0x1x2x3x4x5x6x7x8x9x")),ISNUMBER(FIND(MID(B13,6,1)&"x","0x1x2x3x4x5x6x7x8x9x")),ISNUMBER(FIND(MID(B13,7,1)&"x","0x1x2x3x4x5x6x7x8x9x")),ISNUMBER(FIND(MID(B13,8,1)&"x","0x1x2x3x4x5x6x7x8x9x"))),IF(COUNTIFS(立替明細!$A$8:$A$57,B13)=1,INDEX(立替明細!$B$8:$B$57,MATCH(B13,立替明細!$A$8:$A$57,0)),NA()),NA())) -> 46311 | H13: =IF(E13="","",IF(OR(F13<>0,精算状況!$I$3<>0),NA(),IF(C13<=精算状況!$B$3,D13,0))) -> 0 | I13: =IF(E13="","",IF(F13<>0,0,IF(精算状況!$I$3<>0,0,IF(AND(ISNUMBER(H13),H13=IF(C13<=精算状況!$B$3,D13,0)),0,1)))) -> 0
E14: =IF(COUNTA(A14:D14)=0,"",IF(NOT(AND(ISTEXT(A14),LEN(A14)=8,EXACT(LEFT(A14,4),"SET-"),ISNUMBER(FIND(MID(A14,5,1)&"x","0x1x2x3x4x5x6x7x8x9x")),ISNUMBER(FIND(MID(A14,6,1)&"x","0x1x2x3x4x5x6x7x8x9x")),ISNUMBER(FIND(MID(A14,7,1)&"x","0x1x2x3x4x5x6x7x8x9x")),ISNUMBER(FIND(MID(A14,8,1)&"x","0x1x2x3x4x5x6x7x8x9x")))),"IDはSET-と半角数字4桁",IF(COUNTIFS($A$8:$A$107,A14)>1,"受取IDが重複",IF(NOT(AND(ISTEXT(B14),LEN(B14)=8,EXACT(LEFT(B14,4),"ADV-"),ISNUMBER(FIND(MID(B14,5,1)&"x","0x1x2x3x4x5x6x7x8x9x")),ISNUMBER(FIND(MID(B14,6,1)&"x","0x1x2x3x4x5x6x7x8x9x")),ISNUMBER(FIND(MID(B14,7,1)&"x","0x1x2x3x4x5x6x7x8x9x")),ISNUMBER(FIND(MID(B14,8,1)&"x","0x1x2x3x4x5x6x7x8x9x")))),"立替IDの形式を確認",IF(COUNTIFS(立替明細!$A$8:$A$57,B14)<>1,"立替IDが不明・重複",IF(NOT(AND(ISNUMBER(C14),C14>=43831,C14<=73050,C14=INT(C14))),"受取日を確認",IF(NOT(AND(ISNUMBER(D14),D14>=0,D14<=1000000000,D14=INT(D14))),"受取額を確認（空欄不可）",IF(C14<G14,"受取日が支出日より前","確認済み")))))))) | F14: =IF(E14="","",IF(E14="確認済み",0,1)) | G14: =IF(COUNTA(A14:D14)=0,"",IF(AND(ISTEXT(B14),LEN(B14)=8,EXACT(LEFT(B14,4),"ADV-"),ISNUMBER(FIND(MID(B14,5,1)&"x","0x1x2x3x4x5x6x7x8x9x")),ISNUMBER(FIND(MID(B14,6,1)&"x","0x1x2x3x4x5x6x7x8x9x")),ISNUMBER(FIND(MID(B14,7,1)&"x","0x1x2x3x4x5x6x7x8x9x")),ISNUMBER(FIND(MID(B14,8,1)&"x","0x1x2x3x4x5x6x7x8x9x"))),IF(COUNTIFS(立替明細!$A$8:$A$57,B14)=1,INDEX(立替明細!$B$8:$B$57,MATCH(B14,立替明細!$A$8:$A$57,0)),NA()),NA())) | H14: =IF(E14="","",IF(OR(F14<>0,精算状況!$I$3<>0),NA(),IF(C14<=精算状況!$B$3,D14,0))) | I14: =IF(E14="","",IF(F14<>0,0,IF(精算状況!$I$3<>0,0,IF(AND(ISNUMBER(H14),H14=IF(C14<=精算状況!$B$3,D14,0)),0,1))))
E15: =IF(COUNTA(A15:D15)=0,"",IF(NOT(AND(ISTEXT(A15),LEN(A15)=8,EXACT(LEFT(A15,4),"SET-"),ISNUMBER(FIND(MID(A15,5,1)&"x","0x1x2x3x4x5x6x7x8x9x")),ISNUMBER(FIND(MID(A15,6,1)&"x","0x1x2x3x4x5x6x7x8x9x")),ISNUMBER(FIND(MID(A15,7,1)&"x","0x1x2x3x4x5x6x7x8x9x")),ISNUMBER(FIND(MID(A15,8,1)&"x","0x1x2x3x4x5x6x7x8x9x")))),"IDはSET-と半角数字4桁",IF(COUNTIFS($A$8:$A$107,A15)>1,"受取IDが重複",IF(NOT(AND(ISTEXT(B15),LEN(B15)=8,EXACT(LEFT(B15,4),"ADV-"),ISNUMBER(FIND(MID(B15,5,1)&"x","0x1x2x3x4x5x6x7x8x9x")),ISNUMBER(FIND(MID(B15,6,1)&"x","0x1x2x3x4x5x6x7x8x9x")),ISNUMBER(FIND(MID(B15,7,1)&"x","0x1x2x3x4x5x6x7x8x9x")),ISNUMBER(FIND(MID(B15,8,1)&"x","0x1x2x3x4x5x6x7x8x9x")))),"立替IDの形式を確認",IF(COUNTIFS(立替明細!$A$8:$A$57,B15)<>1,"立替IDが不明・重複",IF(NOT(AND(ISNUMBER(C15),C15>=43831,C15<=73050,C15=INT(C15))),"受取日を確認",IF(NOT(AND(ISNUMBER(D15),D15>=0,D15<=1000000000,D15=INT(D15))),"受取額を確認（空欄不可）",IF(C15<G15,"受取日が支出日より前","確認済み")))))))) | F15: =IF(E15="","",IF(E15="確認済み",0,1)) | G15: =IF(COUNTA(A15:D15)=0,"",IF(AND(ISTEXT(B15),LEN(B15)=8,EXACT(LEFT(B15,4),"ADV-"),ISNUMBER(FIND(MID(B15,5,1)&"x","0x1x2x3x4x5x6x7x8x9x")),ISNUMBER(FIND(MID(B15,6,1)&"x","0x1x2x3x4x5x6x7x8x9x")),ISNUMBER(FIND(MID(B15,7,1)&"x","0x1x2x3x4x5x6x7x8x9x")),ISNUMBER(FIND(MID(B15,8,1)&"x","0x1x2x3x4x5x6x7x8x9x"))),IF(COUNTIFS(立替明細!$A$8:$A$57,B15)=1,INDEX(立替明細!$B$8:$B$57,MATCH(B15,立替明細!$A$8:$A$57,0)),NA()),NA())) | H15: =IF(E15="","",IF(OR(F15<>0,精算状況!$I$3<>0),NA(),IF(C15<=精算状況!$B$3,D15,0))) | I15: =IF(E15="","",IF(F15<>0,0,IF(精算状況!$I$3<>0,0,IF(AND(ISNUMBER(H15),H15=IF(C15<=精算状況!$B$3,D15,0)),0,1))))
E16: =IF(COUNTA(A16:D16)=0,"",IF(NOT(AND(ISTEXT(A16),LEN(A16)=8,EXACT(LEFT(A16,4),"SET-"),ISNUMBER(FIND(MID(A16,5,1)&"x","0x1x2x3x4x5x6x7x8x9x")),ISNUMBER(FIND(MID(A16,6,1)&"x","0x1x2x3x4x5x6x7x8x9x")),ISNUMBER(FIND(MID(A16,7,1)&"x","0x1x2x3x4x5x6x7x8x9x")),ISNUMBER(FIND(MID(A16,8,1)&"x","0x1x2x3x4x5x6x7x8x9x")))),"IDはSET-と半角数字4桁",IF(COUNTIFS($A$8:$A$107,A16)>1,"受取IDが重複",IF(NOT(AND(ISTEXT(B16),LEN(B16)=8,EXACT(LEFT(B16,4),"ADV-"),ISNUMBER(FIND(MID(B16,5,1)&"x","0x1x2x3x4x5x6x7x8x9x")),ISNUMBER(FIND(MID(B16,6,1)&"x","0x1x2x3x4x5x6x7x8x9x")),ISNUMBER(FIND(MID(B16,7,1)&"x","0x1x2x3x4x5x6x7x8x9x")),ISNUMBER(FIND(MID(B16,8,1)&"x","0x1x2x3x4x5x6x7x8x9x")))),"立替IDの形式を確認",IF(COUNTIFS(立替明細!$A$8:$A$57,B16)<>1,"立替IDが不明・重複",IF(NOT(AND(ISNUMBER(C16),C16>=43831,C16<=73050,C16=INT(C16))),"受取日を確認",IF(NOT(AND(ISNUMBER(D16),D16>=0,D16<=1000000000,D16=INT(D16))),"受取額を確認（空欄不可）",IF(C16<G16,"受取日が支出日より前","確認済み")))))))) | F16: =IF(E16="","",IF(E16="確認済み",0,1)) | G16: =IF(COUNTA(A16:D16)=0,"",IF(AND(ISTEXT(B16),LEN(B16)=8,EXACT(LEFT(B16,4),"ADV-"),ISNUMBER(FIND(MID(B16,5,1)&"x","0x1x2x3x4x5x6x7x8x9x")),ISNUMBER(FIND(MID(B16,6,1)&"x","0x1x2x3x4x5x6x7x8x9x")),ISNUMBER(FIND(MID(B16,7,1)&"x","0x1x2x3x4x5x6x7x8x9x")),ISNUMBER(FIND(MID(B16,8,1)&"x","0x1x2x3x4x5x6x7x8x9x"))),IF(COUNTIFS(立替明細!$A$8:$A$57,B16)=1,INDEX(立替明細!$B$8:$B$57,MATCH(B16,立替明細!$A$8:$A$57,0)),NA()),NA())) | H16: =IF(E16="","",IF(OR(F16<>0,精算状況!$I$3<>0),NA(),IF(C16<=精算状況!$B$3,D16,0))) | I16: =IF(E16="","",IF(F16<>0,0,IF(精算状況!$I$3<>0,0,IF(AND(ISNUMBER(H16),H16=IF(C16<=精算状況!$B$3,D16,0)),0,1))))
E17: =IF(COUNTA(A17:D17)=0,"",IF(NOT(AND(ISTEXT(A17),LEN(A17)=8,EXACT(LEFT(A17,4),"SET-"),ISNUMBER(FIND(MID(A17,5,1)&"x","0x1x2x3x4x5x6x7x8x9x")),ISNUMBER(FIND(MID(A17,6,1)&"x","0x1x2x3x4x5x6x7x8x9x")),ISNUMBER(FIND(MID(A17,7,1)&"x","0x1x2x3x4x5x6x7x8x9x")),ISNUMBER(FIND(MID(A17,8,1)&"x","0x1x2x3x4x5x6x7x8x9x")))),"IDはSET-と半角数字4桁",IF(COUNTIFS($A$8:$A$107,A17)>1,"受取IDが重複",IF(NOT(AND(ISTEXT(B17),LEN(B17)=8,EXACT(LEFT(B17,4),"ADV-"),ISNUMBER(FIND(MID(B17,5,1)&"x","0x1x2x3x4x5x6x7x8x9x")),ISNUMBER(FIND(MID(B17,6,1)&"x","0x1x2x3x4x5x6x7x8x9x")),ISNUMBER(FIND(MID(B17,7,1)&"x","0x1x2x3x4x5x6x7x8x9x")),ISNUMBER(FIND(MID(B17,8,1)&"x","0x1x2x3x4x5x6x7x8x9x")))),"立替IDの形式を確認",IF(COUNTIFS(立替明細!$A$8:$A$57,B17)<>1,"立替IDが不明・重複",IF(NOT(AND(ISNUMBER(C17),C17>=43831,C17<=73050,C17=INT(C17))),"受取日を確認",IF(NOT(AND(ISNUMBER(D17),D17>=0,D17<=1000000000,D17=INT(D17))),"受取額を確認（空欄不可）",IF(C17<G17,"受取日が支出日より前","確認済み")))))))) | F17: =IF(E17="","",IF(E17="確認済み",0,1)) | G17: =IF(COUNTA(A17:D17)=0,"",IF(AND(ISTEXT(B17),LEN(B17)=8,EXACT(LEFT(B17,4),"ADV-"),ISNUMBER(FIND(MID(B17,5,1)&"x","0x1x2x3x4x5x6x7x8x9x")),ISNUMBER(FIND(MID(B17,6,1)&"x","0x1x2x3x4x5x6x7x8x9x")),ISNUMBER(FIND(MID(B17,7,1)&"x","0x1x2x3x4x5x6x7x8x9x")),ISNUMBER(FIND(MID(B17,8,1)&"x","0x1x2x3x4x5x6x7x8x9x"))),IF(COUNTIFS(立替明細!$A$8:$A$57,B17)=1,INDEX(立替明細!$B$8:$B$57,MATCH(B17,立替明細!$A$8:$A$57,0)),NA()),NA())) | H17: =IF(E17="","",IF(OR(F17<>0,精算状況!$I$3<>0),NA(),IF(C17<=精算状況!$B$3,D17,0))) | I17: =IF(E17="","",IF(F17<>0,0,IF(精算状況!$I$3<>0,0,IF(AND(ISNUMBER(H17),H17=IF(C17<=精算状況!$B$3,D17,0)),0,1))))
E18: =IF(COUNTA(A18:D18)=0,"",IF(NOT(AND(ISTEXT(A18),LEN(A18)=8,EXACT(LEFT(A18,4),"SET-"),ISNUMBER(FIND(MID(A18,5,1)&"x","0x1x2x3x4x5x6x7x8x9x")),ISNUMBER(FIND(MID(A18,6,1)&"x","0x1x2x3x4x5x6x7x8x9x")),ISNUMBER(FIND(MID(A18,7,1)&"x","0x1x2x3x4x5x6x7x8x9x")),ISNUMBER(FIND(MID(A18,8,1)&"x","0x1x2x3x4x5x6x7x8x9x")))),"IDはSET-と半角数字4桁",IF(COUNTIFS($A$8:$A$107,A18)>1,"受取IDが重複",IF(NOT(AND(ISTEXT(B18),LEN(B18)=8,EXACT(LEFT(B18,4),"ADV-"),ISNUMBER(FIND(MID(B18,5,1)&"x","0x1x2x3x4x5x6x7x8x9x")),ISNUMBER(FIND(MID(B18,6,1)&"x","0x1x2x3x4x5x6x7x8x9x")),ISNUMBER(FIND(MID(B18,7,1)&"x","0x1x2x3x4x5x6x7x8x9x")),ISNUMBER(FIND(MID(B18,8,1)&"x","0x1x2x3x4x5x6x7x8x9x")))),"立替IDの形式を確認",IF(COUNTIFS(立替明細!$A$8:$A$57,B18)<>1,"立替IDが不明・重複",IF(NOT(AND(ISNUMBER(C18),C18>=43831,C18<=73050,C18=INT(C18))),"受取日を確認",IF(NOT(AND(ISNUMBER(D18),D18>=0,D18<=1000000000,D18=INT(D18))),"受取額を確認（空欄不可）",IF(C18<G18,"受取日が支出日より前","確認済み")))))))) | F18: =IF(E18="","",IF(E18="確認済み",0,1)) | G18: =IF(COUNTA(A18:D18)=0,"",IF(AND(ISTEXT(B18),LEN(B18)=8,EXACT(LEFT(B18,4),"ADV-"),ISNUMBER(FIND(MID(B18,5,1)&"x","0x1x2x3x4x5x6x7x8x9x")),ISNUMBER(FIND(MID(B18,6,1)&"x","0x1x2x3x4x5x6x7x8x9x")),ISNUMBER(FIND(MID(B18,7,1)&"x","0x1x2x3x4x5x6x7x8x9x")),ISNUMBER(FIND(MID(B18,8,1)&"x","0x1x2x3x4x5x6x7x8x9x"))),IF(COUNTIFS(立替明細!$A$8:$A$57,B18)=1,INDEX(立替明細!$B$8:$B$57,MATCH(B18,立替明細!$A$8:$A$57,0)),NA()),NA())) | H18: =IF(E18="","",IF(OR(F18<>0,精算状況!$I$3<>0),NA(),IF(C18<=精算状況!$B$3,D18,0))) | I18: =IF(E18="","",IF(F18<>0,0,IF(精算状況!$I$3<>0,0,IF(AND(ISNUMBER(H18),H18=IF(C18<=精算状況!$B$3,D18,0)),0,1))))
E19: =IF(COUNTA(A19:D19)=0,"",IF(NOT(AND(ISTEXT(A19),LEN(A19)=8,EXACT(LEFT(A19,4),"SET-"),ISNUMBER(FIND(MID(A19,5,1)&"x","0x1x2x3x4x5x6x7x8x9x")),ISNUMBER(FIND(MID(A19,6,1)&"x","0x1x2x3x4x5x6x7x8x9x")),ISNUMBER(FIND(MID(A19,7,1)&"x","0x1x2x3x4x5x6x7x8x9x")),ISNUMBER(FIND(MID(A19,8,1)&"x","0x1x2x3x4x5x6x7x8x9x")))),"IDはSET-と半角数字4桁",IF(COUNTIFS($A$8:$A$107,A19)>1,"受取IDが重複",IF(NOT(AND(ISTEXT(B19),LEN(B19)=8,EXACT(LEFT(B19,4),"ADV-"),ISNUMBER(FIND(MID(B19,5,1)&"x","0x1x2x3x4x5x6x7x8x9x")),ISNUMBER(FIND(MID(B19,6,1)&"x","0x1x2x3x4x5x6x7x8x9x")),ISNUMBER(FIND(MID(B19,7,1)&"x","0x1x2x3x4x5x6x7x8x9x")),ISNUMBER(FIND(MID(B19,8,1)&"x","0x1x2x3x4x5x6x7x8x9x")))),"立替IDの形式を確認",IF(COUNTIFS(立替明細!$A$8:$A$57,B19)<>1,"立替IDが不明・重複",IF(NOT(AND(ISNUMBER(C19),C19>=43831,C19<=73050,C19=INT(C19))),"受取日を確認",IF(NOT(AND(ISNUMBER(D19),D19>=0,D19<=1000000000,D19=INT(D19))),"受取額を確認（空欄不可）",IF(C19<G19,"受取日が支出日より前","確認済み")))))))) | F19: =IF(E19="","",IF(E19="確認済み",0,1)) | G19: =IF(COUNTA(A19:D19)=0,"",IF(AND(ISTEXT(B19),LEN(B19)=8,EXACT(LEFT(B19,4),"ADV-"),ISNUMBER(FIND(MID(B19,5,1)&"x","0x1x2x3x4x5x6x7x8x9x")),ISNUMBER(FIND(MID(B19,6,1)&"x","0x1x2x3x4x5x6x7x8x9x")),ISNUMBER(FIND(MID(B19,7,1)&"x","0x1x2x3x4x5x6x7x8x9x")),ISNUMBER(FIND(MID(B19,8,1)&"x","0x1x2x3x4x5x6x7x8x9x"))),IF(COUNTIFS(立替明細!$A$8:$A$57,B19)=1,INDEX(立替明細!$B$8:$B$57,MATCH(B19,立替明細!$A$8:$A$57,0)),NA()),NA())) | H19: =IF(E19="","",IF(OR(F19<>0,精算状況!$I$3<>0),NA(),IF(C19<=精算状況!$B$3,D19,0))) | I19: =IF(E19="","",IF(F19<>0,0,IF(精算状況!$I$3<>0,0,IF(AND(ISNUMBER(H19),H19=IF(C19<=精算状況!$B$3,D19,0)),0,1))))
E20: =IF(COUNTA(A20:D20)=0,"",IF(NOT(AND(ISTEXT(A20),LEN(A20)=8,EXACT(LEFT(A20,4),"SET-"),ISNUMBER(FIND(MID(A20,5,1)&"x","0x1x2x3x4x5x6x7x8x9x")),ISNUMBER(FIND(MID(A20,6,1)&"x","0x1x2x3x4x5x6x7x8x9x")),ISNUMBER(FIND(MID(A20,7,1)&"x","0x1x2x3x4x5x6x7x8x9x")),ISNUMBER(FIND(MID(A20,8,1)&"x","0x1x2x3x4x5x6x7x8x9x")))),"IDはSET-と半角数字4桁",IF(COUNTIFS($A$8:$A$107,A20)>1,"受取IDが重複",IF(NOT(AND(ISTEXT(B20),LEN(B20)=8,EXACT(LEFT(B20,4),"ADV-"),ISNUMBER(FIND(MID(B20,5,1)&"x","0x1x2x3x4x5x6x7x8x9x")),ISNUMBER(FIND(MID(B20,6,1)&"x","0x1x2x3x4x5x6x7x8x9x")),ISNUMBER(FIND(MID(B20,7,1)&"x","0x1x2x3x4x5x6x7x8x9x")),ISNUMBER(FIND(MID(B20,8,1)&"x","0x1x2x3x4x5x6x7x8x9x")))),"立替IDの形式を確認",IF(COUNTIFS(立替明細!$A$8:$A$57,B20)<>1,"立替IDが不明・重複",IF(NOT(AND(ISNUMBER(C20),C20>=43831,C20<=73050,C20=INT(C20))),"受取日を確認",IF(NOT(AND(ISNUMBER(D20),D20>=0,D20<=1000000000,D20=INT(D20))),"受取額を確認（空欄不可）",IF(C20<G20,"受取日が支出日より前","確認済み")))))))) | F20: =IF(E20="","",IF(E20="確認済み",0,1)) | G20: =IF(COUNTA(A20:D20)=0,"",IF(AND(ISTEXT(B20),LEN(B20)=8,EXACT(LEFT(B20,4),"ADV-"),ISNUMBER(FIND(MID(B20,5,1)&"x","0x1x2x3x4x5x6x7x8x9x")),ISNUMBER(FIND(MID(B20,6,1)&"x","0x1x2x3x4x5x6x7x8x9x")),ISNUMBER(FIND(MID(B20,7,1)&"x","0x1x2x3x4x5x6x7x8x9x")),ISNUMBER(FIND(MID(B20,8,1)&"x","0x1x2x3x4x5x6x7x8x9x"))),IF(COUNTIFS(立替明細!$A$8:$A$57,B20)=1,INDEX(立替明細!$B$8:$B$57,MATCH(B20,立替明細!$A$8:$A$57,0)),NA()),NA())) | H20: =IF(E20="","",IF(OR(F20<>0,精算状況!$I$3<>0),NA(),IF(C20<=精算状況!$B$3,D20,0))) | I20: =IF(E20="","",IF(F20<>0,0,IF(精算状況!$I$3<>0,0,IF(AND(ISNUMBER(H20),H20=IF(C20<=精算状況!$B$3,D20,0)),0,1))))
E21: =IF(COUNTA(A21:D21)=0,"",IF(NOT(AND(ISTEXT(A21),LEN(A21)=8,EXACT(LEFT(A21,4),"SET-"),ISNUMBER(FIND(MID(A21,5,1)&"x","0x1x2x3x4x5x6x7x8x9x")),ISNUMBER(FIND(MID(A21,6,1)&"x","0x1x2x3x4x5x6x7x8x9x")),ISNUMBER(FIND(MID(A21,7,1)&"x","0x1x2x3x4x5x6x7x8x9x")),ISNUMBER(FIND(MID(A21,8,1)&"x","0x1x2x3x4x5x6x7x8x9x")))),"IDはSET-と半角数字4桁",IF(COUNTIFS($A$8:$A$107,A21)>1,"受取IDが重複",IF(NOT(AND(ISTEXT(B21),LEN(B21)=8,EXACT(LEFT(B21,4),"ADV-"),ISNUMBER(FIND(MID(B21,5,1)&"x","0x1x2x3x4x5x6x7x8x9x")),ISNUMBER(FIND(MID(B21,6,1)&"x","0x1x2x3x4x5x6x7x8x9x")),ISNUMBER(FIND(MID(B21,7,1)&"x","0x1x2x3x4x5x6x7x8x9x")),ISNUMBER(FIND(MID(B21,8,1)&"x","0x1x2x3x4x5x6x7x8x9x")))),"立替IDの形式を確認",IF(COUNTIFS(立替明細!$A$8:$A$57,B21)<>1,"立替IDが不明・重複",IF(NOT(AND(ISNUMBER(C21),C21>=43831,C21<=73050,C21=INT(C21))),"受取日を確認",IF(NOT(AND(ISNUMBER(D21),D21>=0,D21<=1000000000,D21=INT(D21))),"受取額を確認（空欄不可）",IF(C21<G21,"受取日が支出日より前","確認済み")))))))) | F21: =IF(E21="","",IF(E21="確認済み",0,1)) | G21: =IF(COUNTA(A21:D21)=0,"",IF(AND(ISTEXT(B21),LEN(B21)=8,EXACT(LEFT(B21,4),"ADV-"),ISNUMBER(FIND(MID(B21,5,1)&"x","0x1x2x3x4x5x6x7x8x9x")),ISNUMBER(FIND(MID(B21,6,1)&"x","0x1x2x3x4x5x6x7x8x9x")),ISNUMBER(FIND(MID(B21,7,1)&"x","0x1x2x3x4x5x6x7x8x9x")),ISNUMBER(FIND(MID(B21,8,1)&"x","0x1x2x3x4x5x6x7x8x9x"))),IF(COUNTIFS(立替明細!$A$8:$A$57,B21)=1,INDEX(立替明細!$B$8:$B$57,MATCH(B21,立替明細!$A$8:$A$57,0)),NA()),NA())) | H21: =IF(E21="","",IF(OR(F21<>0,精算状況!$I$3<>0),NA(),IF(C21<=精算状況!$B$3,D21,0))) | I21: =IF(E21="","",IF(F21<>0,0,IF(精算状況!$I$3<>0,0,IF(AND(ISNUMBER(H21),H21=IF(C21<=精算状況!$B$3,D21,0)),0,1))))
E22: =IF(COUNTA(A22:D22)=0,"",IF(NOT(AND(ISTEXT(A22),LEN(A22)=8,EXACT(LEFT(A22,4),"SET-"),ISNUMBER(FIND(MID(A22,5,1)&"x","0x1x2x3x4x5x6x7x8x9x")),ISNUMBER(FIND(MID(A22,6,1)&"x","0x1x2x3x4x5x6x7x8x9x")),ISNUMBER(FIND(MID(A22,7,1)&"x","0x1x2x3x4x5x6x7x8x9x")),ISNUMBER(FIND(MID(A22,8,1)&"x","0x1x2x3x4x5x6x7x8x9x")))),"IDはSET-と半角数字4桁",IF(COUNTIFS($A$8:$A$107,A22)>1,"受取IDが重複",IF(NOT(AND(ISTEXT(B22),LEN(B22)=8,EXACT(LEFT(B22,4),"ADV-"),ISNUMBER(FIND(MID(B22,5,1)&"x","0x1x2x3x4x5x6x7x8x9x")),ISNUMBER(FIND(MID(B22,6,1)&"x","0x1x2x3x4x5x6x7x8x9x")),ISNUMBER(FIND(MID(B22,7,1)&"x","0x1x2x3x4x5x6x7x8x9x")),ISNUMBER(FIND(MID(B22,8,1)&"x","0x1x2x3x4x5x6x7x8x9x")))),"立替IDの形式を確認",IF(COUNTIFS(立替明細!$A$8:$A$57,B22)<>1,"立替IDが不明・重複",IF(NOT(AND(ISNUMBER(C22),C22>=43831,C22<=73050,C22=INT(C22))),"受取日を確認",IF(NOT(AND(ISNUMBER(D22),D22>=0,D22<=1000000000,D22=INT(D22))),"受取額を確認（空欄不可）",IF(C22<G22,"受取日が支出日より前","確認済み")))))))) | F22: =IF(E22="","",IF(E22="確認済み",0,1)) | G22: =IF(COUNTA(A22:D22)=0,"",IF(AND(ISTEXT(B22),LEN(B22)=8,EXACT(LEFT(B22,4),"ADV-"),ISNUMBER(FIND(MID(B22,5,1)&"x","0x1x2x3x4x5x6x7x8x9x")),ISNUMBER(FIND(MID(B22,6,1)&"x","0x1x2x3x4x5x6x7x8x9x")),ISNUMBER(FIND(MID(B22,7,1)&"x","0x1x2x3x4x5x6x7x8x9x")),ISNUMBER(FIND(MID(B22,8,1)&"x","0x1x2x3x4x5x6x7x8x9x"))),IF(COUNTIFS(立替明細!$A$8:$A$57,B22)=1,INDEX(立替明細!$B$8:$B$57,MATCH(B22,立替明細!$A$8:$A$57,0)),NA()),NA())) | H22: =IF(E22="","",IF(OR(F22<>0,精算状況!$I$3<>0),NA(),IF(C22<=精算状況!$B$3,D22,0))) | I22: =IF(E22="","",IF(F22<>0,0,IF(精算状況!$I$3<>0,0,IF(AND(ISNUMBER(H22),H22=IF(C22<=精算状況!$B$3,D22,0)),0,1))))
E23: =IF(COUNTA(A23:D23)=0,"",IF(NOT(AND(ISTEXT(A23),LEN(A23)=8,EXACT(LEFT(A23,4),"SET-"),ISNUMBER(FIND(MID(A23,5,1)&"x","0x1x2x3x4x5x6x7x8x9x")),ISNUMBER(FIND(MID(A23,6,1)&"x","0x1x2x3x4x5x6x7x8x9x")),ISNUMBER(FIND(MID(A23,7,1)&"x","0x1x2x3x4x5x6x7x8x9x")),ISNUMBER(FIND(MID(A23,8,1)&"x","0x1x2x3x4x5x6x7x8x9x")))),"IDはSET-と半角数字4桁",IF(COUNTIFS($A$8:$A$107,A23)>1,"受取IDが重複",IF(NOT(AND(ISTEXT(B23),LEN(B23)=8,EXACT(LEFT(B23,4),"ADV-"),ISNUMBER(FIND(MID(B23,5,1)&"x","0x1x2x3x4x5x6x7x8x9x")),ISNUMBER(FIND(MID(B23,6,1)&"x","0x1x2x3x4x5x6x7x8x9x")),ISNUMBER(FIND(MID(B23,7,1)&"x","0x1x2x3x4x5x6x7x8x9x")),ISNUMBER(FIND(MID(B23,8,1)&"x","0x1x2x3x4x5x6x7x8x9x")))),"立替IDの形式を確認",IF(COUNTIFS(立替明細!$A$8:$A$57,B23)<>1,"立替IDが不明・重複",IF(NOT(AND(ISNUMBER(C23),C23>=43831,C23<=73050,C23=INT(C23))),"受取日を確認",IF(NOT(AND(ISNUMBER(D23),D23>=0,D23<=1000000000,D23=INT(D23))),"受取額を確認（空欄不可）",IF(C23<G23,"受取日が支出日より前","確認済み")))))))) | F23: =IF(E23="","",IF(E23="確認済み",0,1)) | G23: =IF(COUNTA(A23:D23)=0,"",IF(AND(ISTEXT(B23),LEN(B23)=8,EXACT(LEFT(B23,4),"ADV-"),ISNUMBER(FIND(MID(B23,5,1)&"x","0x1x2x3x4x5x6x7x8x9x")),ISNUMBER(FIND(MID(B23,6,1)&"x","0x1x2x3x4x5x6x7x8x9x")),ISNUMBER(FIND(MID(B23,7,1)&"x","0x1x2x3x4x5x6x7x8x9x")),ISNUMBER(FIND(MID(B23,8,1)&"x","0x1x2x3x4x5x6x7x8x9x"))),IF(COUNTIFS(立替明細!$A$8:$A$57,B23)=1,INDEX(立替明細!$B$8:$B$57,MATCH(B23,立替明細!$A$8:$A$57,0)),NA()),NA())) | H23: =IF(E23="","",IF(OR(F23<>0,精算状況!$I$3<>0),NA(),IF(C23<=精算状況!$B$3,D23,0))) | I23: =IF(E23="","",IF(F23<>0,0,IF(精算状況!$I$3<>0,0,IF(AND(ISNUMBER(H23),H23=IF(C23<=精算状況!$B$3,D23,0)),0,1))))
E24: =IF(COUNTA(A24:D24)=0,"",IF(NOT(AND(ISTEXT(A24),LEN(A24)=8,EXACT(LEFT(A24,4),"SET-"),ISNUMBER(FIND(MID(A24,5,1)&"x","0x1x2x3x4x5x6x7x8x9x")),ISNUMBER(FIND(MID(A24,6,1)&"x","0x1x2x3x4x5x6x7x8x9x")),ISNUMBER(FIND(MID(A24,7,1)&"x","0x1x2x3x4x5x6x7x8x9x")),ISNUMBER(FIND(MID(A24,8,1)&"x","0x1x2x3x4x5x6x7x8x9x")))),"IDはSET-と半角数字4桁",IF(COUNTIFS($A$8:$A$107,A24)>1,"受取IDが重複",IF(NOT(AND(ISTEXT(B24),LEN(B24)=8,EXACT(LEFT(B24,4),"ADV-"),ISNUMBER(FIND(MID(B24,5,1)&"x","0x1x2x3x4x5x6x7x8x9x")),ISNUMBER(FIND(MID(B24,6,1)&"x","0x1x2x3x4x5x6x7x8x9x")),ISNUMBER(FIND(MID(B24,7,1)&"x","0x1x2x3x4x5x6x7x8x9x")),ISNUMBER(FIND(MID(B24,8,1)&"x","0x1x2x3x4x5x6x7x8x9x")))),"立替IDの形式を確認",IF(COUNTIFS(立替明細!$A$8:$A$57,B24)<>1,"立替IDが不明・重複",IF(NOT(AND(ISNUMBER(C24),C24>=43831,C24<=73050,C24=INT(C24))),"受取日を確認",IF(NOT(AND(ISNUMBER(D24),D24>=0,D24<=1000000000,D24=INT(D24))),"受取額を確認（空欄不可）",IF(C24<G24,"受取日が支出日より前","確認済み")))))))) | F24: =IF(E24="","",IF(E24="確認済み",0,1)) | G24: =IF(COUNTA(A24:D24)=0,"",IF(AND(ISTEXT(B24),LEN(B24)=8,EXACT(LEFT(B24,4),"ADV-"),ISNUMBER(FIND(MID(B24,5,1)&"x","0x1x2x3x4x5x6x7x8x9x")),ISNUMBER(FIND(MID(B24,6,1)&"x","0x1x2x3x4x5x6x7x8x9x")),ISNUMBER(FIND(MID(B24,7,1)&"x","0x1x2x3x4x5x6x7x8x9x")),ISNUMBER(FIND(MID(B24,8,1)&"x","0x1x2x3x4x5x6x7x8x9x"))),IF(COUNTIFS(立替明細!$A$8:$A$57,B24)=1,INDEX(立替明細!$B$8:$B$57,MATCH(B24,立替明細!$A$8:$A$57,0)),NA()),NA())) | H24: =IF(E24="","",IF(OR(F24<>0,精算状況!$I$3<>0),NA(),IF(C24<=精算状況!$B$3,D24,0))) | I24: =IF(E24="","",IF(F24<>0,0,IF(精算状況!$I$3<>0,0,IF(AND(ISNUMBER(H24),H24=IF(C24<=精算状況!$B$3,D24,0)),0,1))))
E25: =IF(COUNTA(A25:D25)=0,"",IF(NOT(AND(ISTEXT(A25),LEN(A25)=8,EXACT(LEFT(A25,4),"SET-"),ISNUMBER(FIND(MID(A25,5,1)&"x","0x1x2x3x4x5x6x7x8x9x")),ISNUMBER(FIND(MID(A25,6,1)&"x","0x1x2x3x4x5x6x7x8x9x")),ISNUMBER(FIND(MID(A25,7,1)&"x","0x1x2x3x4x5x6x7x8x9x")),ISNUMBER(FIND(MID(A25,8,1)&"x","0x1x2x3x4x5x6x7x8x9x")))),"IDはSET-と半角数字4桁",IF(COUNTIFS($A$8:$A$107,A25)>1,"受取IDが重複",IF(NOT(AND(ISTEXT(B25),LEN(B25)=8,EXACT(LEFT(B25,4),"ADV-"),ISNUMBER(FIND(MID(B25,5,1)&"x","0x1x2x3x4x5x6x7x8x9x")),ISNUMBER(FIND(MID(B25,6,1)&"x","0x1x2x3x4x5x6x7x8x9x")),ISNUMBER(FIND(MID(B25,7,1)&"x","0x1x2x3x4x5x6x7x8x9x")),ISNUMBER(FIND(MID(B25,8,1)&"x","0x1x2x3x4x5x6x7x8x9x")))),"立替IDの形式を確認",IF(COUNTIFS(立替明細!$A$8:$A$57,B25)<>1,"立替IDが不明・重複",IF(NOT(AND(ISNUMBER(C25),C25>=43831,C25<=73050,C25=INT(C25))),"受取日を確認",IF(NOT(AND(ISNUMBER(D25),D25>=0,D25<=1000000000,D25=INT(D25))),"受取額を確認（空欄不可）",IF(C25<G25,"受取日が支出日より前","確認済み")))))))) | F25: =IF(E25="","",IF(E25="確認済み",0,1)) | G25: =IF(COUNTA(A25:D25)=0,"",IF(AND(ISTEXT(B25),LEN(B25)=8,EXACT(LEFT(B25,4),"ADV-"),ISNUMBER(FIND(MID(B25,5,1)&"x","0x1x2x3x4x5x6x7x8x9x")),ISNUMBER(FIND(MID(B25,6,1)&"x","0x1x2x3x4x5x6x7x8x9x")),ISNUMBER(FIND(MID(B25,7,1)&"x","0x1x2x3x4x5x6x7x8x9x")),ISNUMBER(FIND(MID(B25,8,1)&"x","0x1x2x3x4x5x6x7x8x9x"))),IF(COUNTIFS(立替明細!$A$8:$A$57,B25)=1,INDEX(立替明細!$B$8:$B$57,MATCH(B25,立替明細!$A$8:$A$57,0)),NA()),NA())) | H25: =IF(E25="","",IF(OR(F25<>0,精算状況!$I$3<>0),NA(),IF(C25<=精算状況!$B$3,D25,0))) | I25: =IF(E25="","",IF(F25<>0,0,IF(精算状況!$I$3<>0,0,IF(AND(ISNUMBER(H25),H25=IF(C25<=精算状況!$B$3,D25,0)),0,1))))
... E107: =IF(COUNTA(A107:D107)=0,"",IF(NOT(AND(ISTEXT(A107),LEN(A107)=8,EXACT(LEFT(A107,4),"SET-"),ISNUMBER(FIND(MID(A107,5,1)&"x","0x1x2x3x4x5x6x7x8x9x")),ISNUMBER(FIND(MID(A107,6,1)&"x","0x1x2x3x4x5x6x7x8x9x")),ISNUMBER(FIND(MID(A107,7,1)&"x","0x1x2x3x4x5x6x7x8x9x")),ISNUMBER(FIND(MID(A107,8,1)&"x","0x1x2x3x4x5x6x7x8x9x")))),"IDはSET-と半角数字4桁",IF(COUNTIFS($A$8:$A$107,A107)>1,"受取IDが重複",IF(NOT(AND(ISTEXT(B107),LEN(B107)=8,EXACT(LEFT(B107,4),"ADV-"),ISNUMBER(FIND(MID(B107,5,1)&"x","0x1x2x3x4x5x6x7x8x9x")),ISNUMBER(FIND(MID(B107,6,1)&"x","0x1x2x3x4x5x6x7x8x9x")),ISNUMBER(FIND(MID(B107,7,1)&"x","0x1x2x3x4x5x6x7x8x9x")),ISNUMBER(FIND(MID(B107,8,1)&"x","0x1x2x3x4x5x6x7x8x9x")))),"立替IDの形式を確認",IF(COUNTIFS(立替明細!$A$8:$A$57,B107)<>1,"立替IDが不明・重複",IF(NOT(AND(ISNUMBER(C107),C107>=43831,C107<=73050,C107=INT(C107))),"受取日を確認",IF(NOT(AND(ISNUMBER(D107),D107>=0,D107<=1000000000,D107=INT(D107))),"受取額を確認（空欄不可）",IF(C107<G107,"受取日が支出日より前","確認済み")))))))) | F107: =IF(E107="","",IF(E107="確認済み",0,1)) | G107: =IF(COUNTA(A107:D107)=0,"",IF(AND(ISTEXT(B107),LEN(B107)=8,EXACT(LEFT(B107,4),"ADV-"),ISNUMBER(FIND(MID(B107,5,1)&"x","0x1x2x3x4x5x6x7x8x9x")),ISNUMBER(FIND(MID(B107,6,1)&"x","0x1x2x3x4x5x6x7x8x9x")),ISNUMBER(FIND(MID(B107,7,1)&"x","0x1x2x3x4x5x6x7x8x9x")),ISNUMBER(FIND(MID(B107,8,1)&"x","0x1x2x3x4x5x6x7x8x9x"))),IF(COUNTIFS(立替明細!$A$8:$A$57,B107)=1,INDEX(立替明細!$B$8:$B$57,MATCH(B107,立替明細!$A$8:$A$57,0)),NA()),NA())) | H107: =IF(E107="","",IF(OR(F107<>0,精算状況!$I$3<>0),NA(),IF(C107<=精算状況!$B$3,D107,0))) | I107: =IF(E107="","",IF(F107<>0,0,IF(精算状況!$I$3<>0,0,IF(AND(ISNUMBER(H107),H107=IF(C107<=精算状況!$B$3,D107,0)),0,1))))
A110: 一次情報確認2026-10-15。https://support.microsoft.com/en-us/excel/functions/sumifs-function
A111: https://support.microsoft.com/en-us/excel/functions/index-function
