Workbook

Sheet 月次記録
A2: 出退勤と休憩の記録 | I2: 月の前提 | J2: 入力の前提
A3: 開始月 | B3: 46296 | G3: 入力不備（件） | H3: =J3 -> 0 | I3: =IF(AND(ISNUMBER(B3),B3>=43831,B3<73051,B3=INT(B3),DAY(B3)=1),0,1) -> 0 | J3: =I3+SUM(出退勤!K8:K38)+SUM(出退勤!L8:L38) -> 0
A4: 経過合計（分） | B4: =IF($J$3=0,SUMIFS(出退勤!$E$8:$E$38,出退勤!$G$8:$G$38,">="&$B$3,出退勤!$G$8:$G$38,"<"&DATE(YEAR($B$3),MONTH($B$3)+1,1)),NA()) -> 1725 | D4: 休憩合計（分） | E4: =IF($J$3=0,SUMIFS(出退勤!$D$8:$D$38,出退勤!$G$8:$G$38,">="&$B$3,出退勤!$G$8:$G$38,"<"&DATE(YEAR($B$3),MONTH($B$3)+1,1)),NA()) -> 165 | G4: 実働合計（分） | H4: =IF($J$3=0,SUMIFS(出退勤!$F$8:$F$38,出退勤!$G$8:$G$38,">="&$B$3,出退勤!$G$8:$G$38,"<"&DATE(YEAR($B$3),MONTH($B$3)+1,1)),NA()) -> 1560
A5: 勤務件数 | B5: =IF($J$3=0,COUNTIFS(出退勤!$G$8:$G$38,">="&$B$3,出退勤!$G$8:$G$38,"<"&DATE(YEAR($B$3),MONTH($B$3)+1,1),出退勤!$J$8:$J$38,"確認済み"),NA()) -> 4 | D5: 日付またぎ件数 | E5: =IF($J$3=0,SUMIFS(出退勤!$H$8:$H$38,出退勤!$G$8:$G$38,">="&$B$3,出退勤!$G$8:$G$38,"<"&DATE(YEAR($B$3),MONTH($B$3)+1,1)),NA()) -> 2 | G5: 終了日が翌月 | H5: =IF($J$3=0,SUMIFS(出退勤!$I$8:$I$38,出退勤!$G$8:$G$38,">="&$B$3,出退勤!$G$8:$G$38,"<"&DATE(YEAR($B$3),MONTH($B$3)+1,1)),NA()) -> 1
A6: 実働［時:分］ | B6: =H4/1440 -> 1.0833333 | D6: 実働0分の件数 | E6: =IF($J$3=0,COUNTIFS(出退勤!$G$8:$G$38,">="&$B$3,出退勤!$G$8:$G$38,"<"&DATE(YEAR($B$3),MONTH($B$3)+1,1),出退勤!$J$8:$J$38,"確認済み",出退勤!$F$8:$F$38,0),NA()) -> 0 | G6: 照合差額（分） | H6: =B4-E4-H4 -> 0
A8: 合計は開始月へ全時間を集計。全明細を下に表示します。残業・給与・承認の判定なし。
A9: 勤務ID | B9: 開始日時 | C9: 終了日時 | D9: 休憩（分） | E9: 経過（分） | F9: 実働（分） | G9: 日付の区分 | H9: 開始月の対象
A10: =IF(COUNTA(出退勤!A8:D8)=0,"",出退勤!A8) -> ATT-0001 | B10: =IF(COUNTA(出退勤!A8:D8)=0,"",出退勤!B8) -> 46296.375 | C10: =IF(COUNTA(出退勤!A8:D8)=0,"",出退勤!C8) -> 46296.75 | D10: =IF(COUNTA(出退勤!A8:D8)=0,"",出退勤!D8) -> 60 | E10: =IF(COUNTA(出退勤!A8:D8)=0,"",出退勤!E8) -> 540 | F10: =IF(COUNTA(出退勤!A8:D8)=0,"",出退勤!F8) -> 480 | G10: =IF(COUNTA(出退勤!A8:D8)=0,"",IF($J$3<>0,"入力を確認",IF(出退勤!H8=1,"日付またぎ","同日"))) -> 同日 | H10: =IF(COUNTA(出退勤!A8:D8)=0,"",IF($J$3<>0,"入力を確認",IF(AND(出退勤!G8>=$B$3,出退勤!G8<DATE(YEAR($B$3),MONTH($B$3)+1,1)),"対象","対象外"))) -> 対象
A11: =IF(COUNTA(出退勤!A9:D9)=0,"",出退勤!A9) -> ATT-0002 | B11: =IF(COUNTA(出退勤!A9:D9)=0,"",出退勤!B9) -> 46297.917 | C11: =IF(COUNTA(出退勤!A9:D9)=0,"",出退勤!C9) -> 46298.25 | D11: =IF(COUNTA(出退勤!A9:D9)=0,"",出退勤!D9) -> 45 | E11: =IF(COUNTA(出退勤!A9:D9)=0,"",出退勤!E9) -> 480 | F11: =IF(COUNTA(出退勤!A9:D9)=0,"",出退勤!F9) -> 435 | G11: =IF(COUNTA(出退勤!A9:D9)=0,"",IF($J$3<>0,"入力を確認",IF(出退勤!H9=1,"日付またぎ","同日"))) -> 日付またぎ | H11: =IF(COUNTA(出退勤!A9:D9)=0,"",IF($J$3<>0,"入力を確認",IF(AND(出退勤!G9>=$B$3,出退勤!G9<DATE(YEAR($B$3),MONTH($B$3)+1,1)),"対象","対象外"))) -> 対象
A12: =IF(COUNTA(出退勤!A10:D10)=0,"",出退勤!A10) -> ATT-0003 | B12: =IF(COUNTA(出退勤!A10:D10)=0,"",出退勤!B10) -> 46298.385 | C12: =IF(COUNTA(出退勤!A10:D10)=0,"",出退勤!C10) -> 46298.5 | D12: =IF(COUNTA(出退勤!A10:D10)=0,"",出退勤!D10) -> 0 | E12: =IF(COUNTA(出退勤!A10:D10)=0,"",出退勤!E10) -> 165 | F12: =IF(COUNTA(出退勤!A10:D10)=0,"",出退勤!F10) -> 165 | G12: =IF(COUNTA(出退勤!A10:D10)=0,"",IF($J$3<>0,"入力を確認",IF(出退勤!H10=1,"日付またぎ","同日"))) -> 同日 | H12: =IF(COUNTA(出退勤!A10:D10)=0,"",IF($J$3<>0,"入力を確認",IF(AND(出退勤!G10>=$B$3,出退勤!G10<DATE(YEAR($B$3),MONTH($B$3)+1,1)),"対象","対象外"))) -> 対象
A13: =IF(COUNTA(出退勤!A11:D11)=0,"",出退勤!A11) -> ATT-0004 | B13: =IF(COUNTA(出退勤!A11:D11)=0,"",出退勤!B11) -> 46326.917 | C13: =IF(COUNTA(出退勤!A11:D11)=0,"",出退勤!C11) -> 46327.292 | D13: =IF(COUNTA(出退勤!A11:D11)=0,"",出退勤!D11) -> 60 | E13: =IF(COUNTA(出退勤!A11:D11)=0,"",出退勤!E11) -> 540 | F13: =IF(COUNTA(出退勤!A11:D11)=0,"",出退勤!F11) -> 480 | G13: =IF(COUNTA(出退勤!A11:D11)=0,"",IF($J$3<>0,"入力を確認",IF(出退勤!H11=1,"日付またぎ","同日"))) -> 日付またぎ | H13: =IF(COUNTA(出退勤!A11:D11)=0,"",IF($J$3<>0,"入力を確認",IF(AND(出退勤!G11>=$B$3,出退勤!G11<DATE(YEAR($B$3),MONTH($B$3)+1,1)),"対象","対象外"))) -> 対象
A14: =IF(COUNTA(出退勤!A12:D12)=0,"",出退勤!A12) -> ATT-0005 | B14: =IF(COUNTA(出退勤!A12:D12)=0,"",出退勤!B12) -> 46295.958 | C14: =IF(COUNTA(出退勤!A12:D12)=0,"",出退勤!C12) -> 46296.292 | D14: =IF(COUNTA(出退勤!A12:D12)=0,"",出退勤!D12) -> 30 | E14: =IF(COUNTA(出退勤!A12:D12)=0,"",出退勤!E12) -> 480 | F14: =IF(COUNTA(出退勤!A12:D12)=0,"",出退勤!F12) -> 450 | G14: =IF(COUNTA(出退勤!A12:D12)=0,"",IF($J$3<>0,"入力を確認",IF(出退勤!H12=1,"日付またぎ","同日"))) -> 日付またぎ | H14: =IF(COUNTA(出退勤!A12:D12)=0,"",IF($J$3<>0,"入力を確認",IF(AND(出退勤!G12>=$B$3,出退勤!G12<DATE(YEAR($B$3),MONTH($B$3)+1,1)),"対象","対象外"))) -> 対象外
A15: =IF(COUNTA(出退勤!A13:D13)=0,"",出退勤!A13) -> ATT-0006 | B15: =IF(COUNTA(出退勤!A13:D13)=0,"",出退勤!B13) -> 46328.375 | C15: =IF(COUNTA(出退勤!A13:D13)=0,"",出退勤!C13) -> 46328.75 | D15: =IF(COUNTA(出退勤!A13:D13)=0,"",出退勤!D13) -> 60 | E15: =IF(COUNTA(出退勤!A13:D13)=0,"",出退勤!E13) -> 540 | F15: =IF(COUNTA(出退勤!A13:D13)=0,"",出退勤!F13) -> 480 | G15: =IF(COUNTA(出退勤!A13:D13)=0,"",IF($J$3<>0,"入力を確認",IF(出退勤!H13=1,"日付またぎ","同日"))) -> 同日 | H15: =IF(COUNTA(出退勤!A13:D13)=0,"",IF($J$3<>0,"入力を確認",IF(AND(出退勤!G13>=$B$3,出退勤!G13<DATE(YEAR($B$3),MONTH($B$3)+1,1)),"対象","対象外"))) -> 対象外
A16: =IF(COUNTA(出退勤!A14:D14)=0,"",出退勤!A14) | B16: =IF(COUNTA(出退勤!A14:D14)=0,"",出退勤!B14) | C16: =IF(COUNTA(出退勤!A14:D14)=0,"",出退勤!C14) | D16: =IF(COUNTA(出退勤!A14:D14)=0,"",出退勤!D14) | E16: =IF(COUNTA(出退勤!A14:D14)=0,"",出退勤!E14) | F16: =IF(COUNTA(出退勤!A14:D14)=0,"",出退勤!F14) | G16: =IF(COUNTA(出退勤!A14:D14)=0,"",IF($J$3<>0,"入力を確認",IF(出退勤!H14=1,"日付またぎ","同日"))) | H16: =IF(COUNTA(出退勤!A14:D14)=0,"",IF($J$3<>0,"入力を確認",IF(AND(出退勤!G14>=$B$3,出退勤!G14<DATE(YEAR($B$3),MONTH($B$3)+1,1)),"対象","対象外")))
A17: =IF(COUNTA(出退勤!A15:D15)=0,"",出退勤!A15) | B17: =IF(COUNTA(出退勤!A15:D15)=0,"",出退勤!B15) | C17: =IF(COUNTA(出退勤!A15:D15)=0,"",出退勤!C15) | D17: =IF(COUNTA(出退勤!A15:D15)=0,"",出退勤!D15) | E17: =IF(COUNTA(出退勤!A15:D15)=0,"",出退勤!E15) | F17: =IF(COUNTA(出退勤!A15:D15)=0,"",出退勤!F15) | G17: =IF(COUNTA(出退勤!A15:D15)=0,"",IF($J$3<>0,"入力を確認",IF(出退勤!H15=1,"日付またぎ","同日"))) | H17: =IF(COUNTA(出退勤!A15:D15)=0,"",IF($J$3<>0,"入力を確認",IF(AND(出退勤!G15>=$B$3,出退勤!G15<DATE(YEAR($B$3),MONTH($B$3)+1,1)),"対象","対象外")))
A18: =IF(COUNTA(出退勤!A16:D16)=0,"",出退勤!A16) | B18: =IF(COUNTA(出退勤!A16:D16)=0,"",出退勤!B16) | C18: =IF(COUNTA(出退勤!A16:D16)=0,"",出退勤!C16) | D18: =IF(COUNTA(出退勤!A16:D16)=0,"",出退勤!D16) | E18: =IF(COUNTA(出退勤!A16:D16)=0,"",出退勤!E16) | F18: =IF(COUNTA(出退勤!A16:D16)=0,"",出退勤!F16) | G18: =IF(COUNTA(出退勤!A16:D16)=0,"",IF($J$3<>0,"入力を確認",IF(出退勤!H16=1,"日付またぎ","同日"))) | H18: =IF(COUNTA(出退勤!A16:D16)=0,"",IF($J$3<>0,"入力を確認",IF(AND(出退勤!G16>=$B$3,出退勤!G16<DATE(YEAR($B$3),MONTH($B$3)+1,1)),"対象","対象外")))
A19: =IF(COUNTA(出退勤!A17:D17)=0,"",出退勤!A17) | B19: =IF(COUNTA(出退勤!A17:D17)=0,"",出退勤!B17) | C19: =IF(COUNTA(出退勤!A17:D17)=0,"",出退勤!C17) | D19: =IF(COUNTA(出退勤!A17:D17)=0,"",出退勤!D17) | E19: =IF(COUNTA(出退勤!A17:D17)=0,"",出退勤!E17) | F19: =IF(COUNTA(出退勤!A17:D17)=0,"",出退勤!F17) | G19: =IF(COUNTA(出退勤!A17:D17)=0,"",IF($J$3<>0,"入力を確認",IF(出退勤!H17=1,"日付またぎ","同日"))) | H19: =IF(COUNTA(出退勤!A17:D17)=0,"",IF($J$3<>0,"入力を確認",IF(AND(出退勤!G17>=$B$3,出退勤!G17<DATE(YEAR($B$3),MONTH($B$3)+1,1)),"対象","対象外")))
A20: =IF(COUNTA(出退勤!A18:D18)=0,"",出退勤!A18) | B20: =IF(COUNTA(出退勤!A18:D18)=0,"",出退勤!B18) | C20: =IF(COUNTA(出退勤!A18:D18)=0,"",出退勤!C18) | D20: =IF(COUNTA(出退勤!A18:D18)=0,"",出退勤!D18) | E20: =IF(COUNTA(出退勤!A18:D18)=0,"",出退勤!E18) | F20: =IF(COUNTA(出退勤!A18:D18)=0,"",出退勤!F18) | G20: =IF(COUNTA(出退勤!A18:D18)=0,"",IF($J$3<>0,"入力を確認",IF(出退勤!H18=1,"日付またぎ","同日"))) | H20: =IF(COUNTA(出退勤!A18:D18)=0,"",IF($J$3<>0,"入力を確認",IF(AND(出退勤!G18>=$B$3,出退勤!G18<DATE(YEAR($B$3),MONTH($B$3)+1,1)),"対象","対象外")))
A21: =IF(COUNTA(出退勤!A19:D19)=0,"",出退勤!A19) | B21: =IF(COUNTA(出退勤!A19:D19)=0,"",出退勤!B19) | C21: =IF(COUNTA(出退勤!A19:D19)=0,"",出退勤!C19) | D21: =IF(COUNTA(出退勤!A19:D19)=0,"",出退勤!D19) | E21: =IF(COUNTA(出退勤!A19:D19)=0,"",出退勤!E19) | F21: =IF(COUNTA(出退勤!A19:D19)=0,"",出退勤!F19) | G21: =IF(COUNTA(出退勤!A19:D19)=0,"",IF($J$3<>0,"入力を確認",IF(出退勤!H19=1,"日付またぎ","同日"))) | H21: =IF(COUNTA(出退勤!A19:D19)=0,"",IF($J$3<>0,"入力を確認",IF(AND(出退勤!G19>=$B$3,出退勤!G19<DATE(YEAR($B$3),MONTH($B$3)+1,1)),"対象","対象外")))
... A40: =IF(COUNTA(出退勤!A38:D38)=0,"",出退勤!A38) | B40: =IF(COUNTA(出退勤!A38:D38)=0,"",出退勤!B38) | C40: =IF(COUNTA(出退勤!A38:D38)=0,"",出退勤!C38) | D40: =IF(COUNTA(出退勤!A38:D38)=0,"",出退勤!D38) | E40: =IF(COUNTA(出退勤!A38:D38)=0,"",出退勤!E38) | F40: =IF(COUNTA(出退勤!A38:D38)=0,"",出退勤!F38) | G40: =IF(COUNTA(出退勤!A38:D38)=0,"",IF($J$3<>0,"入力を確認",IF(出退勤!H38=1,"日付またぎ","同日"))) | H40: =IF(COUNTA(出退勤!A38:D38)=0,"",IF($J$3<>0,"入力を確認",IF(AND(出退勤!G38>=$B$3,出退勤!G38<DATE(YEAR($B$3),MONTH($B$3)+1,1)),"対象","対象外")))

Sheet 出退勤
A2: 出退勤の入力
A3: 1人分の実際の日時と休憩分を黄色のA〜Dへ。31勤務まで。休憩なしは0を入力。
A5: 1勤務は正の経過時間で24時間以内。上限はこの教材の制限で、勤務の適法性を示しません。
A7: 勤務ID | B7: 開始日時 | C7: 終了日時 | D7: 休憩（分） | E7: 経過（分） | F7: 実働（分） | G7: 開始日 | H7: 日付またぎ | I7: 終了日が翌月 | J7: 入力の確認 | K7: 前提不備 | L7: 計算の前提
A8: ATT-0001 | B8: 46296.375 | C8: 46296.75 | D8: 60 | E8: =IF(J8="","",IF(K8<>0,NA(),ROUND((C8-B8)*1440,0))) -> 540 | F8: =IF(J8="","",IF(K8<>0,NA(),E8-D8)) -> 480 | G8: =IF(J8="","",IF(K8<>0,NA(),INT(B8))) -> 46296 | H8: =IF(J8="","",IF(K8<>0,NA(),IF(INT(C8)>INT(B8),1,0))) -> 0 | I8: =IF(J8="","",IF(K8<>0,NA(),IF(DATE(YEAR(C8),MONTH(C8),1)>DATE(YEAR(B8),MONTH(B8),1),1,0))) -> 0 | J8: =IF(COUNTA(A8:D8)=0,"",IF(NOT(AND(ISTEXT(A8),LEN(A8)=8,EXACT(LEFT(A8,4),"ATT-"),ISNUMBER(FIND(MID(A8,5,1)&"x","0x1x2x3x4x5x6x7x8x9x")),ISNUMBER(FIND(MID(A8,6,1)&"x","0x1x2x3x4x5x6x7x8x9x")),ISNUMBER(FIND(MID(A8,7,1)&"x","0x1x2x3x4x5x6x7x8x9x")),ISNUMBER(FIND(MID(A8,8,1)&"x","0x1x2x3x4x5x6x7x8x9x")))),"IDはATT-と半角数字4桁",IF(COUNTIFS($A$8:$A$38,A8)>1,"勤務IDが重複",IF(NOT(AND(ISNUMBER(B8),B8>=43831,B8<73051,ABS(B8*1440-ROUND(B8*1440,0))<0.00001)),"開始は実日時・分単位",IF(NOT(AND(ISNUMBER(C8),C8>=43831,C8<73052,ABS(C8*1440-ROUND(C8*1440,0))<0.00001)),"終了は実日時・分単位",IF(OR(C8<=B8,ROUND((C8-B8)*1440,0)>1440),"順序と24時間以内を確認",IF(NOT(AND(ISNUMBER(D8),D8>=0,D8=INT(D8),D8<=ROUND((C8-B8)*1440,0))),"休憩は0〜経過分の整数",IF(COUNTIFS($B$8:$B$38,"<"&C8,$C$8:$C$38,">"&B8)>1,"勤務時間帯が重複","確認済み")))))))) -> 確認済み | K8: =IF(J8="","",IF(J8="確認済み",0,1)) -> 0 | L8: =IF(J8="","",IF(K8<>0,0,IF(AND(ISNUMBER(E8),E8=ROUND((C8-B8)*1440,0),ISNUMBER(F8),F8=E8-D8,ISNUMBER(G8),G8=INT(B8),ISNUMBER(H8),H8=IF(INT(C8)>INT(B8),1,0),ISNUMBER(I8),I8=IF(DATE(YEAR(C8),MONTH(C8),1)>DATE(YEAR(B8),MONTH(B8),1),1,0)),0,1))) -> 0
A9: ATT-0002 | B9: 46297.917 | C9: 46298.25 | D9: 45 | E9: =IF(J9="","",IF(K9<>0,NA(),ROUND((C9-B9)*1440,0))) -> 480 | F9: =IF(J9="","",IF(K9<>0,NA(),E9-D9)) -> 435 | G9: =IF(J9="","",IF(K9<>0,NA(),INT(B9))) -> 46297 | H9: =IF(J9="","",IF(K9<>0,NA(),IF(INT(C9)>INT(B9),1,0))) -> 1 | I9: =IF(J9="","",IF(K9<>0,NA(),IF(DATE(YEAR(C9),MONTH(C9),1)>DATE(YEAR(B9),MONTH(B9),1),1,0))) -> 0 | J9: =IF(COUNTA(A9:D9)=0,"",IF(NOT(AND(ISTEXT(A9),LEN(A9)=8,EXACT(LEFT(A9,4),"ATT-"),ISNUMBER(FIND(MID(A9,5,1)&"x","0x1x2x3x4x5x6x7x8x9x")),ISNUMBER(FIND(MID(A9,6,1)&"x","0x1x2x3x4x5x6x7x8x9x")),ISNUMBER(FIND(MID(A9,7,1)&"x","0x1x2x3x4x5x6x7x8x9x")),ISNUMBER(FIND(MID(A9,8,1)&"x","0x1x2x3x4x5x6x7x8x9x")))),"IDはATT-と半角数字4桁",IF(COUNTIFS($A$8:$A$38,A9)>1,"勤務IDが重複",IF(NOT(AND(ISNUMBER(B9),B9>=43831,B9<73051,ABS(B9*1440-ROUND(B9*1440,0))<0.00001)),"開始は実日時・分単位",IF(NOT(AND(ISNUMBER(C9),C9>=43831,C9<73052,ABS(C9*1440-ROUND(C9*1440,0))<0.00001)),"終了は実日時・分単位",IF(OR(C9<=B9,ROUND((C9-B9)*1440,0)>1440),"順序と24時間以内を確認",IF(NOT(AND(ISNUMBER(D9),D9>=0,D9=INT(D9),D9<=ROUND((C9-B9)*1440,0))),"休憩は0〜経過分の整数",IF(COUNTIFS($B$8:$B$38,"<"&C9,$C$8:$C$38,">"&B9)>1,"勤務時間帯が重複","確認済み")))))))) -> 確認済み | K9: =IF(J9="","",IF(J9="確認済み",0,1)) -> 0 | L9: =IF(J9="","",IF(K9<>0,0,IF(AND(ISNUMBER(E9),E9=ROUND((C9-B9)*1440,0),ISNUMBER(F9),F9=E9-D9,ISNUMBER(G9),G9=INT(B9),ISNUMBER(H9),H9=IF(INT(C9)>INT(B9),1,0),ISNUMBER(I9),I9=IF(DATE(YEAR(C9),MONTH(C9),1)>DATE(YEAR(B9),MONTH(B9),1),1,0)),0,1))) -> 0
A10: ATT-0003 | B10: 46298.385 | C10: 46298.5 | D10: 0 | E10: =IF(J10="","",IF(K10<>0,NA(),ROUND((C10-B10)*1440,0))) -> 165 | F10: =IF(J10="","",IF(K10<>0,NA(),E10-D10)) -> 165 | G10: =IF(J10="","",IF(K10<>0,NA(),INT(B10))) -> 46298 | H10: =IF(J10="","",IF(K10<>0,NA(),IF(INT(C10)>INT(B10),1,0))) -> 0 | I10: =IF(J10="","",IF(K10<>0,NA(),IF(DATE(YEAR(C10),MONTH(C10),1)>DATE(YEAR(B10),MONTH(B10),1),1,0))) -> 0 | J10: =IF(COUNTA(A10:D10)=0,"",IF(NOT(AND(ISTEXT(A10),LEN(A10)=8,EXACT(LEFT(A10,4),"ATT-"),ISNUMBER(FIND(MID(A10,5,1)&"x","0x1x2x3x4x5x6x7x8x9x")),ISNUMBER(FIND(MID(A10,6,1)&"x","0x1x2x3x4x5x6x7x8x9x")),ISNUMBER(FIND(MID(A10,7,1)&"x","0x1x2x3x4x5x6x7x8x9x")),ISNUMBER(FIND(MID(A10,8,1)&"x","0x1x2x3x4x5x6x7x8x9x")))),"IDはATT-と半角数字4桁",IF(COUNTIFS($A$8:$A$38,A10)>1,"勤務IDが重複",IF(NOT(AND(ISNUMBER(B10),B10>=43831,B10<73051,ABS(B10*1440-ROUND(B10*1440,0))<0.00001)),"開始は実日時・分単位",IF(NOT(AND(ISNUMBER(C10),C10>=43831,C10<73052,ABS(C10*1440-ROUND(C10*1440,0))<0.00001)),"終了は実日時・分単位",IF(OR(C10<=B10,ROUND((C10-B10)*1440,0)>1440),"順序と24時間以内を確認",IF(NOT(AND(ISNUMBER(D10),D10>=0,D10=INT(D10),D10<=ROUND((C10-B10)*1440,0))),"休憩は0〜経過分の整数",IF(COUNTIFS($B$8:$B$38,"<"&C10,$C$8:$C$38,">"&B10)>1,"勤務時間帯が重複","確認済み")))))))) -> 確認済み | K10: =IF(J10="","",IF(J10="確認済み",0,1)) -> 0 | L10: =IF(J10="","",IF(K10<>0,0,IF(AND(ISNUMBER(E10),E10=ROUND((C10-B10)*1440,0),ISNUMBER(F10),F10=E10-D10,ISNUMBER(G10),G10=INT(B10),ISNUMBER(H10),H10=IF(INT(C10)>INT(B10),1,0),ISNUMBER(I10),I10=IF(DATE(YEAR(C10),MONTH(C10),1)>DATE(YEAR(B10),MONTH(B10),1),1,0)),0,1))) -> 0
A11: ATT-0004 | B11: 46326.917 | C11: 46327.292 | D11: 60 | E11: =IF(J11="","",IF(K11<>0,NA(),ROUND((C11-B11)*1440,0))) -> 540 | F11: =IF(J11="","",IF(K11<>0,NA(),E11-D11)) -> 480 | G11: =IF(J11="","",IF(K11<>0,NA(),INT(B11))) -> 46326 | H11: =IF(J11="","",IF(K11<>0,NA(),IF(INT(C11)>INT(B11),1,0))) -> 1 | I11: =IF(J11="","",IF(K11<>0,NA(),IF(DATE(YEAR(C11),MONTH(C11),1)>DATE(YEAR(B11),MONTH(B11),1),1,0))) -> 1 | J11: =IF(COUNTA(A11:D11)=0,"",IF(NOT(AND(ISTEXT(A11),LEN(A11)=8,EXACT(LEFT(A11,4),"ATT-"),ISNUMBER(FIND(MID(A11,5,1)&"x","0x1x2x3x4x5x6x7x8x9x")),ISNUMBER(FIND(MID(A11,6,1)&"x","0x1x2x3x4x5x6x7x8x9x")),ISNUMBER(FIND(MID(A11,7,1)&"x","0x1x2x3x4x5x6x7x8x9x")),ISNUMBER(FIND(MID(A11,8,1)&"x","0x1x2x3x4x5x6x7x8x9x")))),"IDはATT-と半角数字4桁",IF(COUNTIFS($A$8:$A$38,A11)>1,"勤務IDが重複",IF(NOT(AND(ISNUMBER(B11),B11>=43831,B11<73051,ABS(B11*1440-ROUND(B11*1440,0))<0.00001)),"開始は実日時・分単位",IF(NOT(AND(ISNUMBER(C11),C11>=43831,C11<73052,ABS(C11*1440-ROUND(C11*1440,0))<0.00001)),"終了は実日時・分単位",IF(OR(C11<=B11,ROUND((C11-B11)*1440,0)>1440),"順序と24時間以内を確認",IF(NOT(AND(ISNUMBER(D11),D11>=0,D11=INT(D11),D11<=ROUND((C11-B11)*1440,0))),"休憩は0〜経過分の整数",IF(COUNTIFS($B$8:$B$38,"<"&C11,$C$8:$C$38,">"&B11)>1,"勤務時間帯が重複","確認済み")))))))) -> 確認済み | K11: =IF(J11="","",IF(J11="確認済み",0,1)) -> 0 | L11: =IF(J11="","",IF(K11<>0,0,IF(AND(ISNUMBER(E11),E11=ROUND((C11-B11)*1440,0),ISNUMBER(F11),F11=E11-D11,ISNUMBER(G11),G11=INT(B11),ISNUMBER(H11),H11=IF(INT(C11)>INT(B11),1,0),ISNUMBER(I11),I11=IF(DATE(YEAR(C11),MONTH(C11),1)>DATE(YEAR(B11),MONTH(B11),1),1,0)),0,1))) -> 0
A12: ATT-0005 | B12: 46295.958 | C12: 46296.292 | D12: 30 | E12: =IF(J12="","",IF(K12<>0,NA(),ROUND((C12-B12)*1440,0))) -> 480 | F12: =IF(J12="","",IF(K12<>0,NA(),E12-D12)) -> 450 | G12: =IF(J12="","",IF(K12<>0,NA(),INT(B12))) -> 46295 | H12: =IF(J12="","",IF(K12<>0,NA(),IF(INT(C12)>INT(B12),1,0))) -> 1 | I12: =IF(J12="","",IF(K12<>0,NA(),IF(DATE(YEAR(C12),MONTH(C12),1)>DATE(YEAR(B12),MONTH(B12),1),1,0))) -> 1 | J12: =IF(COUNTA(A12:D12)=0,"",IF(NOT(AND(ISTEXT(A12),LEN(A12)=8,EXACT(LEFT(A12,4),"ATT-"),ISNUMBER(FIND(MID(A12,5,1)&"x","0x1x2x3x4x5x6x7x8x9x")),ISNUMBER(FIND(MID(A12,6,1)&"x","0x1x2x3x4x5x6x7x8x9x")),ISNUMBER(FIND(MID(A12,7,1)&"x","0x1x2x3x4x5x6x7x8x9x")),ISNUMBER(FIND(MID(A12,8,1)&"x","0x1x2x3x4x5x6x7x8x9x")))),"IDはATT-と半角数字4桁",IF(COUNTIFS($A$8:$A$38,A12)>1,"勤務IDが重複",IF(NOT(AND(ISNUMBER(B12),B12>=43831,B12<73051,ABS(B12*1440-ROUND(B12*1440,0))<0.00001)),"開始は実日時・分単位",IF(NOT(AND(ISNUMBER(C12),C12>=43831,C12<73052,ABS(C12*1440-ROUND(C12*1440,0))<0.00001)),"終了は実日時・分単位",IF(OR(C12<=B12,ROUND((C12-B12)*1440,0)>1440),"順序と24時間以内を確認",IF(NOT(AND(ISNUMBER(D12),D12>=0,D12=INT(D12),D12<=ROUND((C12-B12)*1440,0))),"休憩は0〜経過分の整数",IF(COUNTIFS($B$8:$B$38,"<"&C12,$C$8:$C$38,">"&B12)>1,"勤務時間帯が重複","確認済み")))))))) -> 確認済み | K12: =IF(J12="","",IF(J12="確認済み",0,1)) -> 0 | L12: =IF(J12="","",IF(K12<>0,0,IF(AND(ISNUMBER(E12),E12=ROUND((C12-B12)*1440,0),ISNUMBER(F12),F12=E12-D12,ISNUMBER(G12),G12=INT(B12),ISNUMBER(H12),H12=IF(INT(C12)>INT(B12),1,0),ISNUMBER(I12),I12=IF(DATE(YEAR(C12),MONTH(C12),1)>DATE(YEAR(B12),MONTH(B12),1),1,0)),0,1))) -> 0
A13: ATT-0006 | B13: 46328.375 | C13: 46328.75 | D13: 60 | E13: =IF(J13="","",IF(K13<>0,NA(),ROUND((C13-B13)*1440,0))) -> 540 | F13: =IF(J13="","",IF(K13<>0,NA(),E13-D13)) -> 480 | G13: =IF(J13="","",IF(K13<>0,NA(),INT(B13))) -> 46328 | H13: =IF(J13="","",IF(K13<>0,NA(),IF(INT(C13)>INT(B13),1,0))) -> 0 | I13: =IF(J13="","",IF(K13<>0,NA(),IF(DATE(YEAR(C13),MONTH(C13),1)>DATE(YEAR(B13),MONTH(B13),1),1,0))) -> 0 | J13: =IF(COUNTA(A13:D13)=0,"",IF(NOT(AND(ISTEXT(A13),LEN(A13)=8,EXACT(LEFT(A13,4),"ATT-"),ISNUMBER(FIND(MID(A13,5,1)&"x","0x1x2x3x4x5x6x7x8x9x")),ISNUMBER(FIND(MID(A13,6,1)&"x","0x1x2x3x4x5x6x7x8x9x")),ISNUMBER(FIND(MID(A13,7,1)&"x","0x1x2x3x4x5x6x7x8x9x")),ISNUMBER(FIND(MID(A13,8,1)&"x","0x1x2x3x4x5x6x7x8x9x")))),"IDはATT-と半角数字4桁",IF(COUNTIFS($A$8:$A$38,A13)>1,"勤務IDが重複",IF(NOT(AND(ISNUMBER(B13),B13>=43831,B13<73051,ABS(B13*1440-ROUND(B13*1440,0))<0.00001)),"開始は実日時・分単位",IF(NOT(AND(ISNUMBER(C13),C13>=43831,C13<73052,ABS(C13*1440-ROUND(C13*1440,0))<0.00001)),"終了は実日時・分単位",IF(OR(C13<=B13,ROUND((C13-B13)*1440,0)>1440),"順序と24時間以内を確認",IF(NOT(AND(ISNUMBER(D13),D13>=0,D13=INT(D13),D13<=ROUND((C13-B13)*1440,0))),"休憩は0〜経過分の整数",IF(COUNTIFS($B$8:$B$38,"<"&C13,$C$8:$C$38,">"&B13)>1,"勤務時間帯が重複","確認済み")))))))) -> 確認済み | K13: =IF(J13="","",IF(J13="確認済み",0,1)) -> 0 | L13: =IF(J13="","",IF(K13<>0,0,IF(AND(ISNUMBER(E13),E13=ROUND((C13-B13)*1440,0),ISNUMBER(F13),F13=E13-D13,ISNUMBER(G13),G13=INT(B13),ISNUMBER(H13),H13=IF(INT(C13)>INT(B13),1,0),ISNUMBER(I13),I13=IF(DATE(YEAR(C13),MONTH(C13),1)>DATE(YEAR(B13),MONTH(B13),1),1,0)),0,1))) -> 0
E14: =IF(J14="","",IF(K14<>0,NA(),ROUND((C14-B14)*1440,0))) | F14: =IF(J14="","",IF(K14<>0,NA(),E14-D14)) | G14: =IF(J14="","",IF(K14<>0,NA(),INT(B14))) | H14: =IF(J14="","",IF(K14<>0,NA(),IF(INT(C14)>INT(B14),1,0))) | I14: =IF(J14="","",IF(K14<>0,NA(),IF(DATE(YEAR(C14),MONTH(C14),1)>DATE(YEAR(B14),MONTH(B14),1),1,0))) | J14: =IF(COUNTA(A14:D14)=0,"",IF(NOT(AND(ISTEXT(A14),LEN(A14)=8,EXACT(LEFT(A14,4),"ATT-"),ISNUMBER(FIND(MID(A14,5,1)&"x","0x1x2x3x4x5x6x7x8x9x")),ISNUMBER(FIND(MID(A14,6,1)&"x","0x1x2x3x4x5x6x7x8x9x")),ISNUMBER(FIND(MID(A14,7,1)&"x","0x1x2x3x4x5x6x7x8x9x")),ISNUMBER(FIND(MID(A14,8,1)&"x","0x1x2x3x4x5x6x7x8x9x")))),"IDはATT-と半角数字4桁",IF(COUNTIFS($A$8:$A$38,A14)>1,"勤務IDが重複",IF(NOT(AND(ISNUMBER(B14),B14>=43831,B14<73051,ABS(B14*1440-ROUND(B14*1440,0))<0.00001)),"開始は実日時・分単位",IF(NOT(AND(ISNUMBER(C14),C14>=43831,C14<73052,ABS(C14*1440-ROUND(C14*1440,0))<0.00001)),"終了は実日時・分単位",IF(OR(C14<=B14,ROUND((C14-B14)*1440,0)>1440),"順序と24時間以内を確認",IF(NOT(AND(ISNUMBER(D14),D14>=0,D14=INT(D14),D14<=ROUND((C14-B14)*1440,0))),"休憩は0〜経過分の整数",IF(COUNTIFS($B$8:$B$38,"<"&C14,$C$8:$C$38,">"&B14)>1,"勤務時間帯が重複","確認済み")))))))) | K14: =IF(J14="","",IF(J14="確認済み",0,1)) | L14: =IF(J14="","",IF(K14<>0,0,IF(AND(ISNUMBER(E14),E14=ROUND((C14-B14)*1440,0),ISNUMBER(F14),F14=E14-D14,ISNUMBER(G14),G14=INT(B14),ISNUMBER(H14),H14=IF(INT(C14)>INT(B14),1,0),ISNUMBER(I14),I14=IF(DATE(YEAR(C14),MONTH(C14),1)>DATE(YEAR(B14),MONTH(B14),1),1,0)),0,1)))
E15: =IF(J15="","",IF(K15<>0,NA(),ROUND((C15-B15)*1440,0))) | F15: =IF(J15="","",IF(K15<>0,NA(),E15-D15)) | G15: =IF(J15="","",IF(K15<>0,NA(),INT(B15))) | H15: =IF(J15="","",IF(K15<>0,NA(),IF(INT(C15)>INT(B15),1,0))) | I15: =IF(J15="","",IF(K15<>0,NA(),IF(DATE(YEAR(C15),MONTH(C15),1)>DATE(YEAR(B15),MONTH(B15),1),1,0))) | J15: =IF(COUNTA(A15:D15)=0,"",IF(NOT(AND(ISTEXT(A15),LEN(A15)=8,EXACT(LEFT(A15,4),"ATT-"),ISNUMBER(FIND(MID(A15,5,1)&"x","0x1x2x3x4x5x6x7x8x9x")),ISNUMBER(FIND(MID(A15,6,1)&"x","0x1x2x3x4x5x6x7x8x9x")),ISNUMBER(FIND(MID(A15,7,1)&"x","0x1x2x3x4x5x6x7x8x9x")),ISNUMBER(FIND(MID(A15,8,1)&"x","0x1x2x3x4x5x6x7x8x9x")))),"IDはATT-と半角数字4桁",IF(COUNTIFS($A$8:$A$38,A15)>1,"勤務IDが重複",IF(NOT(AND(ISNUMBER(B15),B15>=43831,B15<73051,ABS(B15*1440-ROUND(B15*1440,0))<0.00001)),"開始は実日時・分単位",IF(NOT(AND(ISNUMBER(C15),C15>=43831,C15<73052,ABS(C15*1440-ROUND(C15*1440,0))<0.00001)),"終了は実日時・分単位",IF(OR(C15<=B15,ROUND((C15-B15)*1440,0)>1440),"順序と24時間以内を確認",IF(NOT(AND(ISNUMBER(D15),D15>=0,D15=INT(D15),D15<=ROUND((C15-B15)*1440,0))),"休憩は0〜経過分の整数",IF(COUNTIFS($B$8:$B$38,"<"&C15,$C$8:$C$38,">"&B15)>1,"勤務時間帯が重複","確認済み")))))))) | K15: =IF(J15="","",IF(J15="確認済み",0,1)) | L15: =IF(J15="","",IF(K15<>0,0,IF(AND(ISNUMBER(E15),E15=ROUND((C15-B15)*1440,0),ISNUMBER(F15),F15=E15-D15,ISNUMBER(G15),G15=INT(B15),ISNUMBER(H15),H15=IF(INT(C15)>INT(B15),1,0),ISNUMBER(I15),I15=IF(DATE(YEAR(C15),MONTH(C15),1)>DATE(YEAR(B15),MONTH(B15),1),1,0)),0,1)))
E16: =IF(J16="","",IF(K16<>0,NA(),ROUND((C16-B16)*1440,0))) | F16: =IF(J16="","",IF(K16<>0,NA(),E16-D16)) | G16: =IF(J16="","",IF(K16<>0,NA(),INT(B16))) | H16: =IF(J16="","",IF(K16<>0,NA(),IF(INT(C16)>INT(B16),1,0))) | I16: =IF(J16="","",IF(K16<>0,NA(),IF(DATE(YEAR(C16),MONTH(C16),1)>DATE(YEAR(B16),MONTH(B16),1),1,0))) | J16: =IF(COUNTA(A16:D16)=0,"",IF(NOT(AND(ISTEXT(A16),LEN(A16)=8,EXACT(LEFT(A16,4),"ATT-"),ISNUMBER(FIND(MID(A16,5,1)&"x","0x1x2x3x4x5x6x7x8x9x")),ISNUMBER(FIND(MID(A16,6,1)&"x","0x1x2x3x4x5x6x7x8x9x")),ISNUMBER(FIND(MID(A16,7,1)&"x","0x1x2x3x4x5x6x7x8x9x")),ISNUMBER(FIND(MID(A16,8,1)&"x","0x1x2x3x4x5x6x7x8x9x")))),"IDはATT-と半角数字4桁",IF(COUNTIFS($A$8:$A$38,A16)>1,"勤務IDが重複",IF(NOT(AND(ISNUMBER(B16),B16>=43831,B16<73051,ABS(B16*1440-ROUND(B16*1440,0))<0.00001)),"開始は実日時・分単位",IF(NOT(AND(ISNUMBER(C16),C16>=43831,C16<73052,ABS(C16*1440-ROUND(C16*1440,0))<0.00001)),"終了は実日時・分単位",IF(OR(C16<=B16,ROUND((C16-B16)*1440,0)>1440),"順序と24時間以内を確認",IF(NOT(AND(ISNUMBER(D16),D16>=0,D16=INT(D16),D16<=ROUND((C16-B16)*1440,0))),"休憩は0〜経過分の整数",IF(COUNTIFS($B$8:$B$38,"<"&C16,$C$8:$C$38,">"&B16)>1,"勤務時間帯が重複","確認済み")))))))) | K16: =IF(J16="","",IF(J16="確認済み",0,1)) | L16: =IF(J16="","",IF(K16<>0,0,IF(AND(ISNUMBER(E16),E16=ROUND((C16-B16)*1440,0),ISNUMBER(F16),F16=E16-D16,ISNUMBER(G16),G16=INT(B16),ISNUMBER(H16),H16=IF(INT(C16)>INT(B16),1,0),ISNUMBER(I16),I16=IF(DATE(YEAR(C16),MONTH(C16),1)>DATE(YEAR(B16),MONTH(B16),1),1,0)),0,1)))
E17: =IF(J17="","",IF(K17<>0,NA(),ROUND((C17-B17)*1440,0))) | F17: =IF(J17="","",IF(K17<>0,NA(),E17-D17)) | G17: =IF(J17="","",IF(K17<>0,NA(),INT(B17))) | H17: =IF(J17="","",IF(K17<>0,NA(),IF(INT(C17)>INT(B17),1,0))) | I17: =IF(J17="","",IF(K17<>0,NA(),IF(DATE(YEAR(C17),MONTH(C17),1)>DATE(YEAR(B17),MONTH(B17),1),1,0))) | J17: =IF(COUNTA(A17:D17)=0,"",IF(NOT(AND(ISTEXT(A17),LEN(A17)=8,EXACT(LEFT(A17,4),"ATT-"),ISNUMBER(FIND(MID(A17,5,1)&"x","0x1x2x3x4x5x6x7x8x9x")),ISNUMBER(FIND(MID(A17,6,1)&"x","0x1x2x3x4x5x6x7x8x9x")),ISNUMBER(FIND(MID(A17,7,1)&"x","0x1x2x3x4x5x6x7x8x9x")),ISNUMBER(FIND(MID(A17,8,1)&"x","0x1x2x3x4x5x6x7x8x9x")))),"IDはATT-と半角数字4桁",IF(COUNTIFS($A$8:$A$38,A17)>1,"勤務IDが重複",IF(NOT(AND(ISNUMBER(B17),B17>=43831,B17<73051,ABS(B17*1440-ROUND(B17*1440,0))<0.00001)),"開始は実日時・分単位",IF(NOT(AND(ISNUMBER(C17),C17>=43831,C17<73052,ABS(C17*1440-ROUND(C17*1440,0))<0.00001)),"終了は実日時・分単位",IF(OR(C17<=B17,ROUND((C17-B17)*1440,0)>1440),"順序と24時間以内を確認",IF(NOT(AND(ISNUMBER(D17),D17>=0,D17=INT(D17),D17<=ROUND((C17-B17)*1440,0))),"休憩は0〜経過分の整数",IF(COUNTIFS($B$8:$B$38,"<"&C17,$C$8:$C$38,">"&B17)>1,"勤務時間帯が重複","確認済み")))))))) | K17: =IF(J17="","",IF(J17="確認済み",0,1)) | L17: =IF(J17="","",IF(K17<>0,0,IF(AND(ISNUMBER(E17),E17=ROUND((C17-B17)*1440,0),ISNUMBER(F17),F17=E17-D17,ISNUMBER(G17),G17=INT(B17),ISNUMBER(H17),H17=IF(INT(C17)>INT(B17),1,0),ISNUMBER(I17),I17=IF(DATE(YEAR(C17),MONTH(C17),1)>DATE(YEAR(B17),MONTH(B17),1),1,0)),0,1)))
E18: =IF(J18="","",IF(K18<>0,NA(),ROUND((C18-B18)*1440,0))) | F18: =IF(J18="","",IF(K18<>0,NA(),E18-D18)) | G18: =IF(J18="","",IF(K18<>0,NA(),INT(B18))) | H18: =IF(J18="","",IF(K18<>0,NA(),IF(INT(C18)>INT(B18),1,0))) | I18: =IF(J18="","",IF(K18<>0,NA(),IF(DATE(YEAR(C18),MONTH(C18),1)>DATE(YEAR(B18),MONTH(B18),1),1,0))) | J18: =IF(COUNTA(A18:D18)=0,"",IF(NOT(AND(ISTEXT(A18),LEN(A18)=8,EXACT(LEFT(A18,4),"ATT-"),ISNUMBER(FIND(MID(A18,5,1)&"x","0x1x2x3x4x5x6x7x8x9x")),ISNUMBER(FIND(MID(A18,6,1)&"x","0x1x2x3x4x5x6x7x8x9x")),ISNUMBER(FIND(MID(A18,7,1)&"x","0x1x2x3x4x5x6x7x8x9x")),ISNUMBER(FIND(MID(A18,8,1)&"x","0x1x2x3x4x5x6x7x8x9x")))),"IDはATT-と半角数字4桁",IF(COUNTIFS($A$8:$A$38,A18)>1,"勤務IDが重複",IF(NOT(AND(ISNUMBER(B18),B18>=43831,B18<73051,ABS(B18*1440-ROUND(B18*1440,0))<0.00001)),"開始は実日時・分単位",IF(NOT(AND(ISNUMBER(C18),C18>=43831,C18<73052,ABS(C18*1440-ROUND(C18*1440,0))<0.00001)),"終了は実日時・分単位",IF(OR(C18<=B18,ROUND((C18-B18)*1440,0)>1440),"順序と24時間以内を確認",IF(NOT(AND(ISNUMBER(D18),D18>=0,D18=INT(D18),D18<=ROUND((C18-B18)*1440,0))),"休憩は0〜経過分の整数",IF(COUNTIFS($B$8:$B$38,"<"&C18,$C$8:$C$38,">"&B18)>1,"勤務時間帯が重複","確認済み")))))))) | K18: =IF(J18="","",IF(J18="確認済み",0,1)) | L18: =IF(J18="","",IF(K18<>0,0,IF(AND(ISNUMBER(E18),E18=ROUND((C18-B18)*1440,0),ISNUMBER(F18),F18=E18-D18,ISNUMBER(G18),G18=INT(B18),ISNUMBER(H18),H18=IF(INT(C18)>INT(B18),1,0),ISNUMBER(I18),I18=IF(DATE(YEAR(C18),MONTH(C18),1)>DATE(YEAR(B18),MONTH(B18),1),1,0)),0,1)))
E19: =IF(J19="","",IF(K19<>0,NA(),ROUND((C19-B19)*1440,0))) | F19: =IF(J19="","",IF(K19<>0,NA(),E19-D19)) | G19: =IF(J19="","",IF(K19<>0,NA(),INT(B19))) | H19: =IF(J19="","",IF(K19<>0,NA(),IF(INT(C19)>INT(B19),1,0))) | I19: =IF(J19="","",IF(K19<>0,NA(),IF(DATE(YEAR(C19),MONTH(C19),1)>DATE(YEAR(B19),MONTH(B19),1),1,0))) | J19: =IF(COUNTA(A19:D19)=0,"",IF(NOT(AND(ISTEXT(A19),LEN(A19)=8,EXACT(LEFT(A19,4),"ATT-"),ISNUMBER(FIND(MID(A19,5,1)&"x","0x1x2x3x4x5x6x7x8x9x")),ISNUMBER(FIND(MID(A19,6,1)&"x","0x1x2x3x4x5x6x7x8x9x")),ISNUMBER(FIND(MID(A19,7,1)&"x","0x1x2x3x4x5x6x7x8x9x")),ISNUMBER(FIND(MID(A19,8,1)&"x","0x1x2x3x4x5x6x7x8x9x")))),"IDはATT-と半角数字4桁",IF(COUNTIFS($A$8:$A$38,A19)>1,"勤務IDが重複",IF(NOT(AND(ISNUMBER(B19),B19>=43831,B19<73051,ABS(B19*1440-ROUND(B19*1440,0))<0.00001)),"開始は実日時・分単位",IF(NOT(AND(ISNUMBER(C19),C19>=43831,C19<73052,ABS(C19*1440-ROUND(C19*1440,0))<0.00001)),"終了は実日時・分単位",IF(OR(C19<=B19,ROUND((C19-B19)*1440,0)>1440),"順序と24時間以内を確認",IF(NOT(AND(ISNUMBER(D19),D19>=0,D19=INT(D19),D19<=ROUND((C19-B19)*1440,0))),"休憩は0〜経過分の整数",IF(COUNTIFS($B$8:$B$38,"<"&C19,$C$8:$C$38,">"&B19)>1,"勤務時間帯が重複","確認済み")))))))) | K19: =IF(J19="","",IF(J19="確認済み",0,1)) | L19: =IF(J19="","",IF(K19<>0,0,IF(AND(ISNUMBER(E19),E19=ROUND((C19-B19)*1440,0),ISNUMBER(F19),F19=E19-D19,ISNUMBER(G19),G19=INT(B19),ISNUMBER(H19),H19=IF(INT(C19)>INT(B19),1,0),ISNUMBER(I19),I19=IF(DATE(YEAR(C19),MONTH(C19),1)>DATE(YEAR(B19),MONTH(B19),1),1,0)),0,1)))
E20: =IF(J20="","",IF(K20<>0,NA(),ROUND((C20-B20)*1440,0))) | F20: =IF(J20="","",IF(K20<>0,NA(),E20-D20)) | G20: =IF(J20="","",IF(K20<>0,NA(),INT(B20))) | H20: =IF(J20="","",IF(K20<>0,NA(),IF(INT(C20)>INT(B20),1,0))) | I20: =IF(J20="","",IF(K20<>0,NA(),IF(DATE(YEAR(C20),MONTH(C20),1)>DATE(YEAR(B20),MONTH(B20),1),1,0))) | J20: =IF(COUNTA(A20:D20)=0,"",IF(NOT(AND(ISTEXT(A20),LEN(A20)=8,EXACT(LEFT(A20,4),"ATT-"),ISNUMBER(FIND(MID(A20,5,1)&"x","0x1x2x3x4x5x6x7x8x9x")),ISNUMBER(FIND(MID(A20,6,1)&"x","0x1x2x3x4x5x6x7x8x9x")),ISNUMBER(FIND(MID(A20,7,1)&"x","0x1x2x3x4x5x6x7x8x9x")),ISNUMBER(FIND(MID(A20,8,1)&"x","0x1x2x3x4x5x6x7x8x9x")))),"IDはATT-と半角数字4桁",IF(COUNTIFS($A$8:$A$38,A20)>1,"勤務IDが重複",IF(NOT(AND(ISNUMBER(B20),B20>=43831,B20<73051,ABS(B20*1440-ROUND(B20*1440,0))<0.00001)),"開始は実日時・分単位",IF(NOT(AND(ISNUMBER(C20),C20>=43831,C20<73052,ABS(C20*1440-ROUND(C20*1440,0))<0.00001)),"終了は実日時・分単位",IF(OR(C20<=B20,ROUND((C20-B20)*1440,0)>1440),"順序と24時間以内を確認",IF(NOT(AND(ISNUMBER(D20),D20>=0,D20=INT(D20),D20<=ROUND((C20-B20)*1440,0))),"休憩は0〜経過分の整数",IF(COUNTIFS($B$8:$B$38,"<"&C20,$C$8:$C$38,">"&B20)>1,"勤務時間帯が重複","確認済み")))))))) | K20: =IF(J20="","",IF(J20="確認済み",0,1)) | L20: =IF(J20="","",IF(K20<>0,0,IF(AND(ISNUMBER(E20),E20=ROUND((C20-B20)*1440,0),ISNUMBER(F20),F20=E20-D20,ISNUMBER(G20),G20=INT(B20),ISNUMBER(H20),H20=IF(INT(C20)>INT(B20),1,0),ISNUMBER(I20),I20=IF(DATE(YEAR(C20),MONTH(C20),1)>DATE(YEAR(B20),MONTH(B20),1),1,0)),0,1)))
E21: =IF(J21="","",IF(K21<>0,NA(),ROUND((C21-B21)*1440,0))) | F21: =IF(J21="","",IF(K21<>0,NA(),E21-D21)) | G21: =IF(J21="","",IF(K21<>0,NA(),INT(B21))) | H21: =IF(J21="","",IF(K21<>0,NA(),IF(INT(C21)>INT(B21),1,0))) | I21: =IF(J21="","",IF(K21<>0,NA(),IF(DATE(YEAR(C21),MONTH(C21),1)>DATE(YEAR(B21),MONTH(B21),1),1,0))) | J21: =IF(COUNTA(A21:D21)=0,"",IF(NOT(AND(ISTEXT(A21),LEN(A21)=8,EXACT(LEFT(A21,4),"ATT-"),ISNUMBER(FIND(MID(A21,5,1)&"x","0x1x2x3x4x5x6x7x8x9x")),ISNUMBER(FIND(MID(A21,6,1)&"x","0x1x2x3x4x5x6x7x8x9x")),ISNUMBER(FIND(MID(A21,7,1)&"x","0x1x2x3x4x5x6x7x8x9x")),ISNUMBER(FIND(MID(A21,8,1)&"x","0x1x2x3x4x5x6x7x8x9x")))),"IDはATT-と半角数字4桁",IF(COUNTIFS($A$8:$A$38,A21)>1,"勤務IDが重複",IF(NOT(AND(ISNUMBER(B21),B21>=43831,B21<73051,ABS(B21*1440-ROUND(B21*1440,0))<0.00001)),"開始は実日時・分単位",IF(NOT(AND(ISNUMBER(C21),C21>=43831,C21<73052,ABS(C21*1440-ROUND(C21*1440,0))<0.00001)),"終了は実日時・分単位",IF(OR(C21<=B21,ROUND((C21-B21)*1440,0)>1440),"順序と24時間以内を確認",IF(NOT(AND(ISNUMBER(D21),D21>=0,D21=INT(D21),D21<=ROUND((C21-B21)*1440,0))),"休憩は0〜経過分の整数",IF(COUNTIFS($B$8:$B$38,"<"&C21,$C$8:$C$38,">"&B21)>1,"勤務時間帯が重複","確認済み")))))))) | K21: =IF(J21="","",IF(J21="確認済み",0,1)) | L21: =IF(J21="","",IF(K21<>0,0,IF(AND(ISNUMBER(E21),E21=ROUND((C21-B21)*1440,0),ISNUMBER(F21),F21=E21-D21,ISNUMBER(G21),G21=INT(B21),ISNUMBER(H21),H21=IF(INT(C21)>INT(B21),1,0),ISNUMBER(I21),I21=IF(DATE(YEAR(C21),MONTH(C21),1)>DATE(YEAR(B21),MONTH(B21),1),1,0)),0,1)))
E22: =IF(J22="","",IF(K22<>0,NA(),ROUND((C22-B22)*1440,0))) | F22: =IF(J22="","",IF(K22<>0,NA(),E22-D22)) | G22: =IF(J22="","",IF(K22<>0,NA(),INT(B22))) | H22: =IF(J22="","",IF(K22<>0,NA(),IF(INT(C22)>INT(B22),1,0))) | I22: =IF(J22="","",IF(K22<>0,NA(),IF(DATE(YEAR(C22),MONTH(C22),1)>DATE(YEAR(B22),MONTH(B22),1),1,0))) | J22: =IF(COUNTA(A22:D22)=0,"",IF(NOT(AND(ISTEXT(A22),LEN(A22)=8,EXACT(LEFT(A22,4),"ATT-"),ISNUMBER(FIND(MID(A22,5,1)&"x","0x1x2x3x4x5x6x7x8x9x")),ISNUMBER(FIND(MID(A22,6,1)&"x","0x1x2x3x4x5x6x7x8x9x")),ISNUMBER(FIND(MID(A22,7,1)&"x","0x1x2x3x4x5x6x7x8x9x")),ISNUMBER(FIND(MID(A22,8,1)&"x","0x1x2x3x4x5x6x7x8x9x")))),"IDはATT-と半角数字4桁",IF(COUNTIFS($A$8:$A$38,A22)>1,"勤務IDが重複",IF(NOT(AND(ISNUMBER(B22),B22>=43831,B22<73051,ABS(B22*1440-ROUND(B22*1440,0))<0.00001)),"開始は実日時・分単位",IF(NOT(AND(ISNUMBER(C22),C22>=43831,C22<73052,ABS(C22*1440-ROUND(C22*1440,0))<0.00001)),"終了は実日時・分単位",IF(OR(C22<=B22,ROUND((C22-B22)*1440,0)>1440),"順序と24時間以内を確認",IF(NOT(AND(ISNUMBER(D22),D22>=0,D22=INT(D22),D22<=ROUND((C22-B22)*1440,0))),"休憩は0〜経過分の整数",IF(COUNTIFS($B$8:$B$38,"<"&C22,$C$8:$C$38,">"&B22)>1,"勤務時間帯が重複","確認済み")))))))) | K22: =IF(J22="","",IF(J22="確認済み",0,1)) | L22: =IF(J22="","",IF(K22<>0,0,IF(AND(ISNUMBER(E22),E22=ROUND((C22-B22)*1440,0),ISNUMBER(F22),F22=E22-D22,ISNUMBER(G22),G22=INT(B22),ISNUMBER(H22),H22=IF(INT(C22)>INT(B22),1,0),ISNUMBER(I22),I22=IF(DATE(YEAR(C22),MONTH(C22),1)>DATE(YEAR(B22),MONTH(B22),1),1,0)),0,1)))
E23: =IF(J23="","",IF(K23<>0,NA(),ROUND((C23-B23)*1440,0))) | F23: =IF(J23="","",IF(K23<>0,NA(),E23-D23)) | G23: =IF(J23="","",IF(K23<>0,NA(),INT(B23))) | H23: =IF(J23="","",IF(K23<>0,NA(),IF(INT(C23)>INT(B23),1,0))) | I23: =IF(J23="","",IF(K23<>0,NA(),IF(DATE(YEAR(C23),MONTH(C23),1)>DATE(YEAR(B23),MONTH(B23),1),1,0))) | J23: =IF(COUNTA(A23:D23)=0,"",IF(NOT(AND(ISTEXT(A23),LEN(A23)=8,EXACT(LEFT(A23,4),"ATT-"),ISNUMBER(FIND(MID(A23,5,1)&"x","0x1x2x3x4x5x6x7x8x9x")),ISNUMBER(FIND(MID(A23,6,1)&"x","0x1x2x3x4x5x6x7x8x9x")),ISNUMBER(FIND(MID(A23,7,1)&"x","0x1x2x3x4x5x6x7x8x9x")),ISNUMBER(FIND(MID(A23,8,1)&"x","0x1x2x3x4x5x6x7x8x9x")))),"IDはATT-と半角数字4桁",IF(COUNTIFS($A$8:$A$38,A23)>1,"勤務IDが重複",IF(NOT(AND(ISNUMBER(B23),B23>=43831,B23<73051,ABS(B23*1440-ROUND(B23*1440,0))<0.00001)),"開始は実日時・分単位",IF(NOT(AND(ISNUMBER(C23),C23>=43831,C23<73052,ABS(C23*1440-ROUND(C23*1440,0))<0.00001)),"終了は実日時・分単位",IF(OR(C23<=B23,ROUND((C23-B23)*1440,0)>1440),"順序と24時間以内を確認",IF(NOT(AND(ISNUMBER(D23),D23>=0,D23=INT(D23),D23<=ROUND((C23-B23)*1440,0))),"休憩は0〜経過分の整数",IF(COUNTIFS($B$8:$B$38,"<"&C23,$C$8:$C$38,">"&B23)>1,"勤務時間帯が重複","確認済み")))))))) | K23: =IF(J23="","",IF(J23="確認済み",0,1)) | L23: =IF(J23="","",IF(K23<>0,0,IF(AND(ISNUMBER(E23),E23=ROUND((C23-B23)*1440,0),ISNUMBER(F23),F23=E23-D23,ISNUMBER(G23),G23=INT(B23),ISNUMBER(H23),H23=IF(INT(C23)>INT(B23),1,0),ISNUMBER(I23),I23=IF(DATE(YEAR(C23),MONTH(C23),1)>DATE(YEAR(B23),MONTH(B23),1),1,0)),0,1)))
E24: =IF(J24="","",IF(K24<>0,NA(),ROUND((C24-B24)*1440,0))) | F24: =IF(J24="","",IF(K24<>0,NA(),E24-D24)) | G24: =IF(J24="","",IF(K24<>0,NA(),INT(B24))) | H24: =IF(J24="","",IF(K24<>0,NA(),IF(INT(C24)>INT(B24),1,0))) | I24: =IF(J24="","",IF(K24<>0,NA(),IF(DATE(YEAR(C24),MONTH(C24),1)>DATE(YEAR(B24),MONTH(B24),1),1,0))) | J24: =IF(COUNTA(A24:D24)=0,"",IF(NOT(AND(ISTEXT(A24),LEN(A24)=8,EXACT(LEFT(A24,4),"ATT-"),ISNUMBER(FIND(MID(A24,5,1)&"x","0x1x2x3x4x5x6x7x8x9x")),ISNUMBER(FIND(MID(A24,6,1)&"x","0x1x2x3x4x5x6x7x8x9x")),ISNUMBER(FIND(MID(A24,7,1)&"x","0x1x2x3x4x5x6x7x8x9x")),ISNUMBER(FIND(MID(A24,8,1)&"x","0x1x2x3x4x5x6x7x8x9x")))),"IDはATT-と半角数字4桁",IF(COUNTIFS($A$8:$A$38,A24)>1,"勤務IDが重複",IF(NOT(AND(ISNUMBER(B24),B24>=43831,B24<73051,ABS(B24*1440-ROUND(B24*1440,0))<0.00001)),"開始は実日時・分単位",IF(NOT(AND(ISNUMBER(C24),C24>=43831,C24<73052,ABS(C24*1440-ROUND(C24*1440,0))<0.00001)),"終了は実日時・分単位",IF(OR(C24<=B24,ROUND((C24-B24)*1440,0)>1440),"順序と24時間以内を確認",IF(NOT(AND(ISNUMBER(D24),D24>=0,D24=INT(D24),D24<=ROUND((C24-B24)*1440,0))),"休憩は0〜経過分の整数",IF(COUNTIFS($B$8:$B$38,"<"&C24,$C$8:$C$38,">"&B24)>1,"勤務時間帯が重複","確認済み")))))))) | K24: =IF(J24="","",IF(J24="確認済み",0,1)) | L24: =IF(J24="","",IF(K24<>0,0,IF(AND(ISNUMBER(E24),E24=ROUND((C24-B24)*1440,0),ISNUMBER(F24),F24=E24-D24,ISNUMBER(G24),G24=INT(B24),ISNUMBER(H24),H24=IF(INT(C24)>INT(B24),1,0),ISNUMBER(I24),I24=IF(DATE(YEAR(C24),MONTH(C24),1)>DATE(YEAR(B24),MONTH(B24),1),1,0)),0,1)))
E25: =IF(J25="","",IF(K25<>0,NA(),ROUND((C25-B25)*1440,0))) | F25: =IF(J25="","",IF(K25<>0,NA(),E25-D25)) | G25: =IF(J25="","",IF(K25<>0,NA(),INT(B25))) | H25: =IF(J25="","",IF(K25<>0,NA(),IF(INT(C25)>INT(B25),1,0))) | I25: =IF(J25="","",IF(K25<>0,NA(),IF(DATE(YEAR(C25),MONTH(C25),1)>DATE(YEAR(B25),MONTH(B25),1),1,0))) | J25: =IF(COUNTA(A25:D25)=0,"",IF(NOT(AND(ISTEXT(A25),LEN(A25)=8,EXACT(LEFT(A25,4),"ATT-"),ISNUMBER(FIND(MID(A25,5,1)&"x","0x1x2x3x4x5x6x7x8x9x")),ISNUMBER(FIND(MID(A25,6,1)&"x","0x1x2x3x4x5x6x7x8x9x")),ISNUMBER(FIND(MID(A25,7,1)&"x","0x1x2x3x4x5x6x7x8x9x")),ISNUMBER(FIND(MID(A25,8,1)&"x","0x1x2x3x4x5x6x7x8x9x")))),"IDはATT-と半角数字4桁",IF(COUNTIFS($A$8:$A$38,A25)>1,"勤務IDが重複",IF(NOT(AND(ISNUMBER(B25),B25>=43831,B25<73051,ABS(B25*1440-ROUND(B25*1440,0))<0.00001)),"開始は実日時・分単位",IF(NOT(AND(ISNUMBER(C25),C25>=43831,C25<73052,ABS(C25*1440-ROUND(C25*1440,0))<0.00001)),"終了は実日時・分単位",IF(OR(C25<=B25,ROUND((C25-B25)*1440,0)>1440),"順序と24時間以内を確認",IF(NOT(AND(ISNUMBER(D25),D25>=0,D25=INT(D25),D25<=ROUND((C25-B25)*1440,0))),"休憩は0〜経過分の整数",IF(COUNTIFS($B$8:$B$38,"<"&C25,$C$8:$C$38,">"&B25)>1,"勤務時間帯が重複","確認済み")))))))) | K25: =IF(J25="","",IF(J25="確認済み",0,1)) | L25: =IF(J25="","",IF(K25<>0,0,IF(AND(ISNUMBER(E25),E25=ROUND((C25-B25)*1440,0),ISNUMBER(F25),F25=E25-D25,ISNUMBER(G25),G25=INT(B25),ISNUMBER(H25),H25=IF(INT(C25)>INT(B25),1,0),ISNUMBER(I25),I25=IF(DATE(YEAR(C25),MONTH(C25),1)>DATE(YEAR(B25),MONTH(B25),1),1,0)),0,1)))
... E38: =IF(J38="","",IF(K38<>0,NA(),ROUND((C38-B38)*1440,0))) | F38: =IF(J38="","",IF(K38<>0,NA(),E38-D38)) | G38: =IF(J38="","",IF(K38<>0,NA(),INT(B38))) | H38: =IF(J38="","",IF(K38<>0,NA(),IF(INT(C38)>INT(B38),1,0))) | I38: =IF(J38="","",IF(K38<>0,NA(),IF(DATE(YEAR(C38),MONTH(C38),1)>DATE(YEAR(B38),MONTH(B38),1),1,0))) | J38: =IF(COUNTA(A38:D38)=0,"",IF(NOT(AND(ISTEXT(A38),LEN(A38)=8,EXACT(LEFT(A38,4),"ATT-"),ISNUMBER(FIND(MID(A38,5,1)&"x","0x1x2x3x4x5x6x7x8x9x")),ISNUMBER(FIND(MID(A38,6,1)&"x","0x1x2x3x4x5x6x7x8x9x")),ISNUMBER(FIND(MID(A38,7,1)&"x","0x1x2x3x4x5x6x7x8x9x")),ISNUMBER(FIND(MID(A38,8,1)&"x","0x1x2x3x4x5x6x7x8x9x")))),"IDはATT-と半角数字4桁",IF(COUNTIFS($A$8:$A$38,A38)>1,"勤務IDが重複",IF(NOT(AND(ISNUMBER(B38),B38>=43831,B38<73051,ABS(B38*1440-ROUND(B38*1440,0))<0.00001)),"開始は実日時・分単位",IF(NOT(AND(ISNUMBER(C38),C38>=43831,C38<73052,ABS(C38*1440-ROUND(C38*1440,0))<0.00001)),"終了は実日時・分単位",IF(OR(C38<=B38,ROUND((C38-B38)*1440,0)>1440),"順序と24時間以内を確認",IF(NOT(AND(ISNUMBER(D38),D38>=0,D38=INT(D38),D38<=ROUND((C38-B38)*1440,0))),"休憩は0〜経過分の整数",IF(COUNTIFS($B$8:$B$38,"<"&C38,$C$8:$C$38,">"&B38)>1,"勤務時間帯が重複","確認済み")))))))) | K38: =IF(J38="","",IF(J38="確認済み",0,1)) | L38: =IF(J38="","",IF(K38<>0,0,IF(AND(ISNUMBER(E38),E38=ROUND((C38-B38)*1440,0),ISNUMBER(F38),F38=E38-D38,ISNUMBER(G38),G38=INT(B38),ISNUMBER(H38),H38=IF(INT(C38)>INT(B38),1,0),ISNUMBER(I38),I38=IF(DATE(YEAR(C38),MONTH(C38),1)>DATE(YEAR(B38),MONTH(B38),1),1,0)),0,1)))
A42: 架空教材。1人・31勤務。実際の出退勤と休憩分を入力。休憩の自動控除なし。
A43: 日付も入力。同じタイムゾーン・夏時間なし。分単位・2020〜2099年開始。1勤務は正の経過時間で最大24時間。
A44: 休憩は0〜経過分の整数。空欄と0は別。休憩の位置/分割・内容は別資料と照合。
A45: 時間帯重複は停止。同時刻の終了と次の開始は重複にしません。日単位の行数ではありません。
A46: 全勤務を開始月へ集計し、月境界で分割しません。対象外の行も不備検査します。
A47: 残業/深夜割増/給与/休暇/法定休憩・労働時間/社内承認を自動判定しません。
A48: 印刷は月次記録のみ。初期A1:H15、31勤務はA1:H40へ手動拡張。A4横・9行目繰返し。
A49: 版1 / CC0 1.0。https://creativecommons.org/publicdomain/zero/1.0/
A50: 一次情報確認2026-10-15。https://support.microsoft.com/en-us/excel/calculate-the-difference-between-two-times-in-excel
