Workbook

Sheet 照合結果
A2: IDの候補と確認した一致を分ける | K2: 基準日と体系の前提 | L2: 入力の前提
A3: 照合基準日 | B3: 46311 | D3: ID体系の確認 | E3: 未確認 | G3: 入力 | H3: =IF(L3=0,"不備なし","入力を確認") -> 不備なし | K3: =IF(AND(IF(ISNUMBER(B3),AND(B3>=43831,B3<73051,B3=INT(B3)),FALSE()),OR(E3="未確認",E3="確認済")),0,1) -> 0 | L3: =IF(AND(ISNUMBER(K3),K3=IF(AND(IF(ISNUMBER(B3),AND(B3>=43831,B3<73051,B3=INT(B3)),FALSE()),OR(E3="未確認",E3="確認済")),0,1)),K3,1)+SUM(照合入力!K8:L57)+SUM(顧客マスター!F8:G57)+IF(COUNT(照合入力!L8:L57)=50,0,1)+IF(COUNT(顧客マスター!G8:G57)=50,0,1) -> 0
A4: 照合行数（件） | B4: =IF($L$3=0,COUNTIFS(照合入力!J8:J57,"確認済み"),NA()) -> 8 | D4: 一致確認（件） | E4: =IF($L$3=0,COUNTIFS(照合入力!I8:I57,"一致確認"),NA()) -> 0 | G4: 対象外（件） | H4: =IF($L$3=0,COUNTIFS(照合入力!I8:I57,"対象外"),NA()) -> 1
A5: キー未確認（件） | B5: =IF($L$3=0,COUNTIFS(照合入力!I8:I57,"キー未確認"),NA()) -> 0 | D5: 候補なし（件） | E5: =IF($L$3=0,COUNTIFS(照合入力!I8:I57,"候補なし"),NA()) -> 0 | G5: 複数候補（件） | H5: =IF($L$3=0,COUNTIFS(照合入力!I8:I57,"複数候補"),NA()) -> 0
A6: 単一候補（件） | B6: =IF($L$3=0,COUNTIFS(照合入力!I8:I57,"単一候補"),NA()) -> 0 | D6: 台帳要確認（件） | E6: =IF($L$3=0,COUNTIFS(照合入力!I8:I57,"台帳要確認"),NA()) -> 0 | G6: 体系未確認（件） | H6: =IF($L$3=0,COUNTIFS(照合入力!I8:I57,"体系未確認"),NA()) -> 7
A7: 確認待ち（件） | B7: =B4-E4-H4 -> 7 | D7: 照合差額（件） | E7: =B4-E4-H4-B5-E5-H5-B6-E6-H6 -> 0 | G7: 確認の状態 | H7: =IF($L$3<>0,NA(),IF(B4=0,"対象行なし",IF(E3<>"確認済","判定保留",IF(B7>0,"確認待ち","確認区分記録済")))) -> 判定保留
A8: マスター行数 | B8: =IF($L$3=0,COUNTIFS(顧客マスター!E8:E57,"確認済み"),NA()) -> 7 | D8: 候補は同一顧客の証明ではありません。
A9: 照合行ID | B9: 照合顧客ID | C9: 候補数 | D9: 単一候補行 | E9: 確認先行 | F9: 照合結果 | G9: 一致確認日 | H9: 元記録確認日
A10: =IF($L$3<>0,NA(),IF(COUNTA(照合入力!A8:F8)=0,"",IF(COUNTA(照合入力!A8)=0,"",照合入力!A8))) -> REC-0001 | B10: =IF($L$3<>0,NA(),IF(COUNTA(照合入力!A8:F8)=0,"",IF(COUNTA(照合入力!B8)=0,"",照合入力!B8))) -> CUS-0001 | C10: =IF($L$3<>0,NA(),IF(COUNTA(照合入力!A8:F8)=0,"",IF(COUNTA(照合入力!G8)=0,"",照合入力!G8))) -> 1 | D10: =IF($L$3<>0,NA(),IF(COUNTA(照合入力!A8:F8)=0,"",IF(COUNTA(照合入力!H8)=0,"",照合入力!H8))) -> MST-0001 | E10: =IF($L$3<>0,NA(),IF(COUNTA(照合入力!A8:F8)=0,"",IF(COUNTA(照合入力!D8)=0,"",照合入力!D8))) | F10: =IF($L$3<>0,NA(),IF(COUNTA(照合入力!A8:F8)=0,"",IF(COUNTA(照合入力!I8)=0,"",照合入力!I8))) -> 体系未確認 | G10: =IF($L$3<>0,NA(),IF(COUNTA(照合入力!A8:F8)=0,"",IF(COUNTA(照合入力!E8)=0,"",照合入力!E8))) | H10: =IF($L$3<>0,NA(),IF(COUNTA(照合入力!A8:F8)=0,"",IF(COUNTA(照合入力!F8)=0,"",照合入力!F8))) -> 46311
A11: =IF($L$3<>0,NA(),IF(COUNTA(照合入力!A9:F9)=0,"",IF(COUNTA(照合入力!A9)=0,"",照合入力!A9))) -> REC-0002 | B11: =IF($L$3<>0,NA(),IF(COUNTA(照合入力!A9:F9)=0,"",IF(COUNTA(照合入力!B9)=0,"",照合入力!B9))) -> CUS-0002 | C11: =IF($L$3<>0,NA(),IF(COUNTA(照合入力!A9:F9)=0,"",IF(COUNTA(照合入力!G9)=0,"",照合入力!G9))) -> 2 | D11: =IF($L$3<>0,NA(),IF(COUNTA(照合入力!A9:F9)=0,"",IF(COUNTA(照合入力!H9)=0,"",照合入力!H9))) | E11: =IF($L$3<>0,NA(),IF(COUNTA(照合入力!A9:F9)=0,"",IF(COUNTA(照合入力!D9)=0,"",照合入力!D9))) | F11: =IF($L$3<>0,NA(),IF(COUNTA(照合入力!A9:F9)=0,"",IF(COUNTA(照合入力!I9)=0,"",照合入力!I9))) -> 体系未確認 | G11: =IF($L$3<>0,NA(),IF(COUNTA(照合入力!A9:F9)=0,"",IF(COUNTA(照合入力!E9)=0,"",照合入力!E9))) | H11: =IF($L$3<>0,NA(),IF(COUNTA(照合入力!A9:F9)=0,"",IF(COUNTA(照合入力!F9)=0,"",照合入力!F9))) -> 46311
A12: =IF($L$3<>0,NA(),IF(COUNTA(照合入力!A10:F10)=0,"",IF(COUNTA(照合入力!A10)=0,"",照合入力!A10))) -> REC-0003 | B12: =IF($L$3<>0,NA(),IF(COUNTA(照合入力!A10:F10)=0,"",IF(COUNTA(照合入力!B10)=0,"",照合入力!B10))) -> CUS-0009 | C12: =IF($L$3<>0,NA(),IF(COUNTA(照合入力!A10:F10)=0,"",IF(COUNTA(照合入力!G10)=0,"",照合入力!G10))) -> 0 | D12: =IF($L$3<>0,NA(),IF(COUNTA(照合入力!A10:F10)=0,"",IF(COUNTA(照合入力!H10)=0,"",照合入力!H10))) | E12: =IF($L$3<>0,NA(),IF(COUNTA(照合入力!A10:F10)=0,"",IF(COUNTA(照合入力!D10)=0,"",照合入力!D10))) | F12: =IF($L$3<>0,NA(),IF(COUNTA(照合入力!A10:F10)=0,"",IF(COUNTA(照合入力!I10)=0,"",照合入力!I10))) -> 体系未確認 | G12: =IF($L$3<>0,NA(),IF(COUNTA(照合入力!A10:F10)=0,"",IF(COUNTA(照合入力!E10)=0,"",照合入力!E10))) | H12: =IF($L$3<>0,NA(),IF(COUNTA(照合入力!A10:F10)=0,"",IF(COUNTA(照合入力!F10)=0,"",照合入力!F10))) -> 46311
A13: =IF($L$3<>0,NA(),IF(COUNTA(照合入力!A11:F11)=0,"",IF(COUNTA(照合入力!A11)=0,"",照合入力!A11))) -> REC-0004 | B13: =IF($L$3<>0,NA(),IF(COUNTA(照合入力!A11:F11)=0,"",IF(COUNTA(照合入力!B11)=0,"",照合入力!B11))) | C13: =IF($L$3<>0,NA(),IF(COUNTA(照合入力!A11:F11)=0,"",IF(COUNTA(照合入力!G11)=0,"",照合入力!G11))) | D13: =IF($L$3<>0,NA(),IF(COUNTA(照合入力!A11:F11)=0,"",IF(COUNTA(照合入力!H11)=0,"",照合入力!H11))) | E13: =IF($L$3<>0,NA(),IF(COUNTA(照合入力!A11:F11)=0,"",IF(COUNTA(照合入力!D11)=0,"",照合入力!D11))) | F13: =IF($L$3<>0,NA(),IF(COUNTA(照合入力!A11:F11)=0,"",IF(COUNTA(照合入力!I11)=0,"",照合入力!I11))) -> 体系未確認 | G13: =IF($L$3<>0,NA(),IF(COUNTA(照合入力!A11:F11)=0,"",IF(COUNTA(照合入力!E11)=0,"",照合入力!E11))) | H13: =IF($L$3<>0,NA(),IF(COUNTA(照合入力!A11:F11)=0,"",IF(COUNTA(照合入力!F11)=0,"",照合入力!F11))) -> 46311
A14: =IF($L$3<>0,NA(),IF(COUNTA(照合入力!A12:F12)=0,"",IF(COUNTA(照合入力!A12)=0,"",照合入力!A12))) -> REC-0005 | B14: =IF($L$3<>0,NA(),IF(COUNTA(照合入力!A12:F12)=0,"",IF(COUNTA(照合入力!B12)=0,"",照合入力!B12))) -> CUS-0003 | C14: =IF($L$3<>0,NA(),IF(COUNTA(照合入力!A12:F12)=0,"",IF(COUNTA(照合入力!G12)=0,"",照合入力!G12))) -> 1 | D14: =IF($L$3<>0,NA(),IF(COUNTA(照合入力!A12:F12)=0,"",IF(COUNTA(照合入力!H12)=0,"",照合入力!H12))) -> MST-0004 | E14: =IF($L$3<>0,NA(),IF(COUNTA(照合入力!A12:F12)=0,"",IF(COUNTA(照合入力!D12)=0,"",照合入力!D12))) | F14: =IF($L$3<>0,NA(),IF(COUNTA(照合入力!A12:F12)=0,"",IF(COUNTA(照合入力!I12)=0,"",照合入力!I12))) -> 体系未確認 | G14: =IF($L$3<>0,NA(),IF(COUNTA(照合入力!A12:F12)=0,"",IF(COUNTA(照合入力!E12)=0,"",照合入力!E12))) | H14: =IF($L$3<>0,NA(),IF(COUNTA(照合入力!A12:F12)=0,"",IF(COUNTA(照合入力!F12)=0,"",照合入力!F12))) -> 46311
A15: =IF($L$3<>0,NA(),IF(COUNTA(照合入力!A13:F13)=0,"",IF(COUNTA(照合入力!A13)=0,"",照合入力!A13))) -> REC-0006 | B15: =IF($L$3<>0,NA(),IF(COUNTA(照合入力!A13:F13)=0,"",IF(COUNTA(照合入力!B13)=0,"",照合入力!B13))) -> CUS-0004 | C15: =IF($L$3<>0,NA(),IF(COUNTA(照合入力!A13:F13)=0,"",IF(COUNTA(照合入力!G13)=0,"",照合入力!G13))) -> 1 | D15: =IF($L$3<>0,NA(),IF(COUNTA(照合入力!A13:F13)=0,"",IF(COUNTA(照合入力!H13)=0,"",照合入力!H13))) -> MST-0005 | E15: =IF($L$3<>0,NA(),IF(COUNTA(照合入力!A13:F13)=0,"",IF(COUNTA(照合入力!D13)=0,"",照合入力!D13))) -> MST-0005 | F15: =IF($L$3<>0,NA(),IF(COUNTA(照合入力!A13:F13)=0,"",IF(COUNTA(照合入力!I13)=0,"",照合入力!I13))) -> 体系未確認 | G15: =IF($L$3<>0,NA(),IF(COUNTA(照合入力!A13:F13)=0,"",IF(COUNTA(照合入力!E13)=0,"",照合入力!E13))) -> 46311 | H15: =IF($L$3<>0,NA(),IF(COUNTA(照合入力!A13:F13)=0,"",IF(COUNTA(照合入力!F13)=0,"",照合入力!F13))) -> 46311
A16: =IF($L$3<>0,NA(),IF(COUNTA(照合入力!A14:F14)=0,"",IF(COUNTA(照合入力!A14)=0,"",照合入力!A14))) -> REC-0007 | B16: =IF($L$3<>0,NA(),IF(COUNTA(照合入力!A14:F14)=0,"",IF(COUNTA(照合入力!B14)=0,"",照合入力!B14))) -> CUS-0005 | C16: =IF($L$3<>0,NA(),IF(COUNTA(照合入力!A14:F14)=0,"",IF(COUNTA(照合入力!G14)=0,"",照合入力!G14))) -> 1 | D16: =IF($L$3<>0,NA(),IF(COUNTA(照合入力!A14:F14)=0,"",IF(COUNTA(照合入力!H14)=0,"",照合入力!H14))) -> MST-0006 | E16: =IF($L$3<>0,NA(),IF(COUNTA(照合入力!A14:F14)=0,"",IF(COUNTA(照合入力!D14)=0,"",照合入力!D14))) | F16: =IF($L$3<>0,NA(),IF(COUNTA(照合入力!A14:F14)=0,"",IF(COUNTA(照合入力!I14)=0,"",照合入力!I14))) -> 対象外 | G16: =IF($L$3<>0,NA(),IF(COUNTA(照合入力!A14:F14)=0,"",IF(COUNTA(照合入力!E14)=0,"",照合入力!E14))) | H16: =IF($L$3<>0,NA(),IF(COUNTA(照合入力!A14:F14)=0,"",IF(COUNTA(照合入力!F14)=0,"",照合入力!F14))) -> 46311
A17: =IF($L$3<>0,NA(),IF(COUNTA(照合入力!A15:F15)=0,"",IF(COUNTA(照合入力!A15)=0,"",照合入力!A15))) -> REC-0008 | B17: =IF($L$3<>0,NA(),IF(COUNTA(照合入力!A15:F15)=0,"",IF(COUNTA(照合入力!B15)=0,"",照合入力!B15))) -> CUS-0001 | C17: =IF($L$3<>0,NA(),IF(COUNTA(照合入力!A15:F15)=0,"",IF(COUNTA(照合入力!G15)=0,"",照合入力!G15))) -> 1 | D17: =IF($L$3<>0,NA(),IF(COUNTA(照合入力!A15:F15)=0,"",IF(COUNTA(照合入力!H15)=0,"",照合入力!H15))) -> MST-0001 | E17: =IF($L$3<>0,NA(),IF(COUNTA(照合入力!A15:F15)=0,"",IF(COUNTA(照合入力!D15)=0,"",照合入力!D15))) | F17: =IF($L$3<>0,NA(),IF(COUNTA(照合入力!A15:F15)=0,"",IF(COUNTA(照合入力!I15)=0,"",照合入力!I15))) -> 体系未確認 | G17: =IF($L$3<>0,NA(),IF(COUNTA(照合入力!A15:F15)=0,"",IF(COUNTA(照合入力!E15)=0,"",照合入力!E15))) | H17: =IF($L$3<>0,NA(),IF(COUNTA(照合入力!A15:F15)=0,"",IF(COUNTA(照合入力!F15)=0,"",照合入力!F15))) -> 46311
A18: =IF($L$3<>0,NA(),IF(COUNTA(照合入力!A16:F16)=0,"",IF(COUNTA(照合入力!A16)=0,"",照合入力!A16))) | B18: =IF($L$3<>0,NA(),IF(COUNTA(照合入力!A16:F16)=0,"",IF(COUNTA(照合入力!B16)=0,"",照合入力!B16))) | C18: =IF($L$3<>0,NA(),IF(COUNTA(照合入力!A16:F16)=0,"",IF(COUNTA(照合入力!G16)=0,"",照合入力!G16))) | D18: =IF($L$3<>0,NA(),IF(COUNTA(照合入力!A16:F16)=0,"",IF(COUNTA(照合入力!H16)=0,"",照合入力!H16))) | E18: =IF($L$3<>0,NA(),IF(COUNTA(照合入力!A16:F16)=0,"",IF(COUNTA(照合入力!D16)=0,"",照合入力!D16))) | F18: =IF($L$3<>0,NA(),IF(COUNTA(照合入力!A16:F16)=0,"",IF(COUNTA(照合入力!I16)=0,"",照合入力!I16))) | G18: =IF($L$3<>0,NA(),IF(COUNTA(照合入力!A16:F16)=0,"",IF(COUNTA(照合入力!E16)=0,"",照合入力!E16))) | H18: =IF($L$3<>0,NA(),IF(COUNTA(照合入力!A16:F16)=0,"",IF(COUNTA(照合入力!F16)=0,"",照合入力!F16)))
A19: =IF($L$3<>0,NA(),IF(COUNTA(照合入力!A17:F17)=0,"",IF(COUNTA(照合入力!A17)=0,"",照合入力!A17))) | B19: =IF($L$3<>0,NA(),IF(COUNTA(照合入力!A17:F17)=0,"",IF(COUNTA(照合入力!B17)=0,"",照合入力!B17))) | C19: =IF($L$3<>0,NA(),IF(COUNTA(照合入力!A17:F17)=0,"",IF(COUNTA(照合入力!G17)=0,"",照合入力!G17))) | D19: =IF($L$3<>0,NA(),IF(COUNTA(照合入力!A17:F17)=0,"",IF(COUNTA(照合入力!H17)=0,"",照合入力!H17))) | E19: =IF($L$3<>0,NA(),IF(COUNTA(照合入力!A17:F17)=0,"",IF(COUNTA(照合入力!D17)=0,"",照合入力!D17))) | F19: =IF($L$3<>0,NA(),IF(COUNTA(照合入力!A17:F17)=0,"",IF(COUNTA(照合入力!I17)=0,"",照合入力!I17))) | G19: =IF($L$3<>0,NA(),IF(COUNTA(照合入力!A17:F17)=0,"",IF(COUNTA(照合入力!E17)=0,"",照合入力!E17))) | H19: =IF($L$3<>0,NA(),IF(COUNTA(照合入力!A17:F17)=0,"",IF(COUNTA(照合入力!F17)=0,"",照合入力!F17)))
A20: =IF($L$3<>0,NA(),IF(COUNTA(照合入力!A18:F18)=0,"",IF(COUNTA(照合入力!A18)=0,"",照合入力!A18))) | B20: =IF($L$3<>0,NA(),IF(COUNTA(照合入力!A18:F18)=0,"",IF(COUNTA(照合入力!B18)=0,"",照合入力!B18))) | C20: =IF($L$3<>0,NA(),IF(COUNTA(照合入力!A18:F18)=0,"",IF(COUNTA(照合入力!G18)=0,"",照合入力!G18))) | D20: =IF($L$3<>0,NA(),IF(COUNTA(照合入力!A18:F18)=0,"",IF(COUNTA(照合入力!H18)=0,"",照合入力!H18))) | E20: =IF($L$3<>0,NA(),IF(COUNTA(照合入力!A18:F18)=0,"",IF(COUNTA(照合入力!D18)=0,"",照合入力!D18))) | F20: =IF($L$3<>0,NA(),IF(COUNTA(照合入力!A18:F18)=0,"",IF(COUNTA(照合入力!I18)=0,"",照合入力!I18))) | G20: =IF($L$3<>0,NA(),IF(COUNTA(照合入力!A18:F18)=0,"",IF(COUNTA(照合入力!E18)=0,"",照合入力!E18))) | H20: =IF($L$3<>0,NA(),IF(COUNTA(照合入力!A18:F18)=0,"",IF(COUNTA(照合入力!F18)=0,"",照合入力!F18)))
A21: =IF($L$3<>0,NA(),IF(COUNTA(照合入力!A19:F19)=0,"",IF(COUNTA(照合入力!A19)=0,"",照合入力!A19))) | B21: =IF($L$3<>0,NA(),IF(COUNTA(照合入力!A19:F19)=0,"",IF(COUNTA(照合入力!B19)=0,"",照合入力!B19))) | C21: =IF($L$3<>0,NA(),IF(COUNTA(照合入力!A19:F19)=0,"",IF(COUNTA(照合入力!G19)=0,"",照合入力!G19))) | D21: =IF($L$3<>0,NA(),IF(COUNTA(照合入力!A19:F19)=0,"",IF(COUNTA(照合入力!H19)=0,"",照合入力!H19))) | E21: =IF($L$3<>0,NA(),IF(COUNTA(照合入力!A19:F19)=0,"",IF(COUNTA(照合入力!D19)=0,"",照合入力!D19))) | F21: =IF($L$3<>0,NA(),IF(COUNTA(照合入力!A19:F19)=0,"",IF(COUNTA(照合入力!I19)=0,"",照合入力!I19))) | G21: =IF($L$3<>0,NA(),IF(COUNTA(照合入力!A19:F19)=0,"",IF(COUNTA(照合入力!E19)=0,"",照合入力!E19))) | H21: =IF($L$3<>0,NA(),IF(COUNTA(照合入力!A19:F19)=0,"",IF(COUNTA(照合入力!F19)=0,"",照合入力!F19)))
... A59: =IF($L$3<>0,NA(),IF(COUNTA(照合入力!A57:F57)=0,"",IF(COUNTA(照合入力!A57)=0,"",照合入力!A57))) | B59: =IF($L$3<>0,NA(),IF(COUNTA(照合入力!A57:F57)=0,"",IF(COUNTA(照合入力!B57)=0,"",照合入力!B57))) | C59: =IF($L$3<>0,NA(),IF(COUNTA(照合入力!A57:F57)=0,"",IF(COUNTA(照合入力!G57)=0,"",照合入力!G57))) | D59: =IF($L$3<>0,NA(),IF(COUNTA(照合入力!A57:F57)=0,"",IF(COUNTA(照合入力!H57)=0,"",照合入力!H57))) | E59: =IF($L$3<>0,NA(),IF(COUNTA(照合入力!A57:F57)=0,"",IF(COUNTA(照合入力!D57)=0,"",照合入力!D57))) | F59: =IF($L$3<>0,NA(),IF(COUNTA(照合入力!A57:F57)=0,"",IF(COUNTA(照合入力!I57)=0,"",照合入力!I57))) | G59: =IF($L$3<>0,NA(),IF(COUNTA(照合入力!A57:F57)=0,"",IF(COUNTA(照合入力!E57)=0,"",照合入力!E57))) | H59: =IF($L$3<>0,NA(),IF(COUNTA(照合入力!A57:F57)=0,"",IF(COUNTA(照合入力!F57)=0,"",照合入力!F57)))

Sheet 照合入力
A2: 照合元のIDと手動確認を記録
A3: 黄色A〜Fへ50行。元記録と顧客名/本人・IDの対応や確認根拠は別資料で管理。
A5: 候補が1件でも自動一致にしません。複数候補は先頭を選ばず、元記録で確認先の行IDを確かめます。
A7: 照合行ID | B7: 照合顧客ID | C7: 確認区分 | D7: 確認先行ID | E7: 一致確認日 | F7: 元記録確認日 | G7: 候補数 | H7: 単一候補行 | I7: 照合結果 | J7: 入力の確認 | K7: 入力不備 | L7: 計算の前提
A8: REC-0001 | B8: CUS-0001 | C8: 未確認 | F8: 46311 | G8: =IF(J8="","",IF(K8<>0,NA(),IF(COUNTA(B8)=0,"",COUNTIFS(顧客マスター!$B$8:$B$57,B8)))) -> 1 | H8: =IF(J8="","",IF(K8<>0,NA(),IF(AND(COUNTA(B8)>0,G8=1),INDEX(顧客マスター!$A$8:$A$57,MATCH(B8,顧客マスター!$B$8:$B$57,0)),""))) -> MST-0001 | I8: =IF(J8="","",IF(K8<>0,NA(),IF(C8="対象外","対象外",IF(照合結果!$E$3<>"確認済","体系未確認",IF(COUNTA(B8)=0,"キー未確認",IF(C8="一致確認","一致確認",IF(G8=0,"候補なし",IF(G8>1,"複数候補",IF(INDEX(顧客マスター!$C$8:$C$57,MATCH(B8,顧客マスター!$B$8:$B$57,0))<>"有効","台帳要確認","単一候補"))))))))) -> 体系未確認 | J8: =IF(COUNTA(A8:F8)=0,"",IF(NOT(AND(ISTEXT(A8),LEN(A8)=8,EXACT(LEFT(A8,4),"REC-"),ISNUMBER(FIND(MID(A8,5,1)&"x","0x1x2x3x4x5x6x7x8x9x")),ISNUMBER(FIND(MID(A8,6,1)&"x","0x1x2x3x4x5x6x7x8x9x")),ISNUMBER(FIND(MID(A8,7,1)&"x","0x1x2x3x4x5x6x7x8x9x")),ISNUMBER(FIND(MID(A8,8,1)&"x","0x1x2x3x4x5x6x7x8x9x")))),"照合行IDの形式を確認",IF(COUNTIFS($A$8:$A$57,A8)>1,"照合行IDが重複",IF(AND(COUNTA(B8)>0,NOT(AND(ISTEXT(B8),LEN(B8)=8,EXACT(LEFT(B8,4),"CUS-"),ISNUMBER(FIND(MID(B8,5,1)&"x","0x1x2x3x4x5x6x7x8x9x")),ISNUMBER(FIND(MID(B8,6,1)&"x","0x1x2x3x4x5x6x7x8x9x")),ISNUMBER(FIND(MID(B8,7,1)&"x","0x1x2x3x4x5x6x7x8x9x")),ISNUMBER(FIND(MID(B8,8,1)&"x","0x1x2x3x4x5x6x7x8x9x"))))),"照合顧客IDの形式を確認",IF(NOT(OR(C8="未確認",C8="一致確認",C8="対象外")),"確認区分を確認",IF(NOT(IF(ISNUMBER(F8),AND(F8>=43831,F8<73051,F8=INT(F8)),FALSE())),"元記録確認日は時刻なしで必須",IF(F8>照合結果!$B$3,"元記録確認日が基準日より後",IF(AND(C8<>"一致確認",COUNTA(D8:E8)>0),"未確認/対象外の確認先と一致確認日は空欄",IF(AND(C8="一致確認",COUNTA(B8)=0),"一致確認には照合顧客IDが必須",IF(AND(C8="一致確認",NOT(AND(ISTEXT(D8),LEN(D8)=8,EXACT(LEFT(D8,4),"MST-"),ISNUMBER(FIND(MID(D8,5,1)&"x","0x1x2x3x4x5x6x7x8x9x")),ISNUMBER(FIND(MID(D8,6,1)&"x","0x1x2x3x4x5x6x7x8x9x")),ISNUMBER(FIND(MID(D8,7,1)&"x","0x1x2x3x4x5x6x7x8x9x")),ISNUMBER(FIND(MID(D8,8,1)&"x","0x1x2x3x4x5x6x7x8x9x"))))),"確認先行IDの形式を確認",IF(AND(C8="一致確認",COUNTIFS(顧客マスター!$A$8:$A$57,D8)<>1),"確認先行が未登録/重複",IF(IF(C8="一致確認",INDEX(顧客マスター!$B$8:$B$57,MATCH(D8,顧客マスター!$A$8:$A$57,0))<>B8,FALSE()),"確認先の顧客IDが一致しません",IF(IF(C8="一致確認",INDEX(顧客マスター!$C$8:$C$57,MATCH(D8,顧客マスター!$A$8:$A$57,0))<>"有効",FALSE()),"確認先の台帳区分を確認",IF(AND(C8="一致確認",NOT(IF(ISNUMBER(E8),AND(E8>=43831,E8<73051,E8=INT(E8)),FALSE()))),"一致確認日は時刻なしで必須",IF(IF(C8="一致確認",OR(E8>F8,E8<INDEX(顧客マスター!$D$8:$D$57,MATCH(D8,顧客マスター!$A$8:$A$57,0))),FALSE()),"台帳確認日≦一致確認日≦元記録確認日を確認","確認済み"))))))))))))))) -> 確認済み | K8: =IF(J8="","",IF(J8="確認済み",0,1)) -> 0 | L8: =IF(COUNTA(A8:F8)=0,IF(AND(J8="",K8="",G8="",H8="",I8=""),0,1),IF(NOT(AND(ISTEXT(J8),J8=IF(COUNTA(A8:F8)=0,"",IF(NOT(AND(ISTEXT(A8),LEN(A8)=8,EXACT(LEFT(A8,4),"REC-"),ISNUMBER(FIND(MID(A8,5,1)&"x","0x1x2x3x4x5x6x7x8x9x")),ISNUMBER(FIND(MID(A8,6,1)&"x","0x1x2x3x4x5x6x7x8x9x")),ISNUMBER(FIND(MID(A8,7,1)&"x","0x1x2x3x4x5x6x7x8x9x")),ISNUMBER(FIND(MID(A8,8,1)&"x","0x1x2x3x4x5x6x7x8x9x")))),"照合行IDの形式を確認",IF(COUNTIFS($A$8:$A$57,A8)>1,"照合行IDが重複",IF(AND(COUNTA(B8)>0,NOT(AND(ISTEXT(B8),LEN(B8)=8,EXACT(LEFT(B8,4),"CUS-"),ISNUMBER(FIND(MID(B8,5,1)&"x","0x1x2x3x4x5x6x7x8x9x")),ISNUMBER(FIND(MID(B8,6,1)&"x","0x1x2x3x4x5x6x7x8x9x")),ISNUMBER(FIND(MID(B8,7,1)&"x","0x1x2x3x4x5x6x7x8x9x")),ISNUMBER(FIND(MID(B8,8,1)&"x","0x1x2x3x4x5x6x7x8x9x"))))),"照合顧客IDの形式を確認",IF(NOT(OR(C8="未確認",C8="一致確認",C8="対象外")),"確認区分を確認",IF(NOT(IF(ISNUMBER(F8),AND(F8>=43831,F8<73051,F8=INT(F8)),FALSE())),"元記録確認日は時刻なしで必須",IF(F8>照合結果!$B$3,"元記録確認日が基準日より後",IF(AND(C8<>"一致確認",COUNTA(D8:E8)>0),"未確認/対象外の確認先と一致確認日は空欄",IF(AND(C8="一致確認",COUNTA(B8)=0),"一致確認には照合顧客IDが必須",IF(AND(C8="一致確認",NOT(AND(ISTEXT(D8),LEN(D8)=8,EXACT(LEFT(D8,4),"MST-"),ISNUMBER(FIND(MID(D8,5,1)&"x","0x1x2x3x4x5x6x7x8x9x")),ISNUMBER(FIND(MID(D8,6,1)&"x","0x1x2x3x4x5x6x7x8x9x")),ISNUMBER(FIND(MID(D8,7,1)&"x","0x1x2x3x4x5x6x7x8x9x")),ISNUMBER(FIND(MID(D8,8,1)&"x","0x1x2x3x4x5x6x7x8x9x"))))),"確認先行IDの形式を確認",IF(AND(C8="一致確認",COUNTIFS(顧客マスター!$A$8:$A$57,D8)<>1),"確認先行が未登録/重複",IF(IF(C8="一致確認",INDEX(顧客マスター!$B$8:$B$57,MATCH(D8,顧客マスター!$A$8:$A$57,0))<>B8,FALSE()),"確認先の顧客IDが一致しません",IF(IF(C8="一致確認",INDEX(顧客マスター!$C$8:$C$57,MATCH(D8,顧客マスター!$A$8:$A$57,0))<>"有効",FALSE()),"確認先の台帳区分を確認",IF(AND(C8="一致確認",NOT(IF(ISNUMBER(E8),AND(E8>=43831,E8<73051,E8=INT(E8)),FALSE()))),"一致確認日は時刻なしで必須",IF(IF(C8="一致確認",OR(E8>F8,E8<INDEX(顧客マスター!$D$8:$D$57,MATCH(D8,顧客マスター!$A$8:$A$57,0))),FALSE()),"台帳確認日≦一致確認日≦元記録確認日を確認","確認済み"))))))))))))))),ISNUMBER(K8),K8=IF(J8="確認済み",0,1))),1,IF(K8<>0,0,IF(AND(IF(COUNTA(B8)=0,ISTEXT(G8),ISNUMBER(G8)),G8=IF(COUNTA(B8)=0,"",COUNTIFS(顧客マスター!$B$8:$B$57,B8)),ISTEXT(H8),H8=IF(AND(COUNTA(B8)>0,G8=1),INDEX(顧客マスター!$A$8:$A$57,MATCH(B8,顧客マスター!$B$8:$B$57,0)),""),ISTEXT(I8),I8=IF(C8="対象外","対象外",IF(照合結果!$E$3<>"確認済","体系未確認",IF(COUNTA(B8)=0,"キー未確認",IF(C8="一致確認","一致確認",IF(G8=0,"候補なし",IF(G8>1,"複数候補",IF(INDEX(顧客マスター!$C$8:$C$57,MATCH(B8,顧客マスター!$B$8:$B$57,0))<>"有効","台帳要確認","単一候補")))))))),0,1)))) -> 0
A9: REC-0002 | B9: CUS-0002 | C9: 未確認 | F9: 46311 | G9: =IF(J9="","",IF(K9<>0,NA(),IF(COUNTA(B9)=0,"",COUNTIFS(顧客マスター!$B$8:$B$57,B9)))) -> 2 | H9: =IF(J9="","",IF(K9<>0,NA(),IF(AND(COUNTA(B9)>0,G9=1),INDEX(顧客マスター!$A$8:$A$57,MATCH(B9,顧客マスター!$B$8:$B$57,0)),""))) | I9: =IF(J9="","",IF(K9<>0,NA(),IF(C9="対象外","対象外",IF(照合結果!$E$3<>"確認済","体系未確認",IF(COUNTA(B9)=0,"キー未確認",IF(C9="一致確認","一致確認",IF(G9=0,"候補なし",IF(G9>1,"複数候補",IF(INDEX(顧客マスター!$C$8:$C$57,MATCH(B9,顧客マスター!$B$8:$B$57,0))<>"有効","台帳要確認","単一候補"))))))))) -> 体系未確認 | J9: =IF(COUNTA(A9:F9)=0,"",IF(NOT(AND(ISTEXT(A9),LEN(A9)=8,EXACT(LEFT(A9,4),"REC-"),ISNUMBER(FIND(MID(A9,5,1)&"x","0x1x2x3x4x5x6x7x8x9x")),ISNUMBER(FIND(MID(A9,6,1)&"x","0x1x2x3x4x5x6x7x8x9x")),ISNUMBER(FIND(MID(A9,7,1)&"x","0x1x2x3x4x5x6x7x8x9x")),ISNUMBER(FIND(MID(A9,8,1)&"x","0x1x2x3x4x5x6x7x8x9x")))),"照合行IDの形式を確認",IF(COUNTIFS($A$8:$A$57,A9)>1,"照合行IDが重複",IF(AND(COUNTA(B9)>0,NOT(AND(ISTEXT(B9),LEN(B9)=8,EXACT(LEFT(B9,4),"CUS-"),ISNUMBER(FIND(MID(B9,5,1)&"x","0x1x2x3x4x5x6x7x8x9x")),ISNUMBER(FIND(MID(B9,6,1)&"x","0x1x2x3x4x5x6x7x8x9x")),ISNUMBER(FIND(MID(B9,7,1)&"x","0x1x2x3x4x5x6x7x8x9x")),ISNUMBER(FIND(MID(B9,8,1)&"x","0x1x2x3x4x5x6x7x8x9x"))))),"照合顧客IDの形式を確認",IF(NOT(OR(C9="未確認",C9="一致確認",C9="対象外")),"確認区分を確認",IF(NOT(IF(ISNUMBER(F9),AND(F9>=43831,F9<73051,F9=INT(F9)),FALSE())),"元記録確認日は時刻なしで必須",IF(F9>照合結果!$B$3,"元記録確認日が基準日より後",IF(AND(C9<>"一致確認",COUNTA(D9:E9)>0),"未確認/対象外の確認先と一致確認日は空欄",IF(AND(C9="一致確認",COUNTA(B9)=0),"一致確認には照合顧客IDが必須",IF(AND(C9="一致確認",NOT(AND(ISTEXT(D9),LEN(D9)=8,EXACT(LEFT(D9,4),"MST-"),ISNUMBER(FIND(MID(D9,5,1)&"x","0x1x2x3x4x5x6x7x8x9x")),ISNUMBER(FIND(MID(D9,6,1)&"x","0x1x2x3x4x5x6x7x8x9x")),ISNUMBER(FIND(MID(D9,7,1)&"x","0x1x2x3x4x5x6x7x8x9x")),ISNUMBER(FIND(MID(D9,8,1)&"x","0x1x2x3x4x5x6x7x8x9x"))))),"確認先行IDの形式を確認",IF(AND(C9="一致確認",COUNTIFS(顧客マスター!$A$8:$A$57,D9)<>1),"確認先行が未登録/重複",IF(IF(C9="一致確認",INDEX(顧客マスター!$B$8:$B$57,MATCH(D9,顧客マスター!$A$8:$A$57,0))<>B9,FALSE()),"確認先の顧客IDが一致しません",IF(IF(C9="一致確認",INDEX(顧客マスター!$C$8:$C$57,MATCH(D9,顧客マスター!$A$8:$A$57,0))<>"有効",FALSE()),"確認先の台帳区分を確認",IF(AND(C9="一致確認",NOT(IF(ISNUMBER(E9),AND(E9>=43831,E9<73051,E9=INT(E9)),FALSE()))),"一致確認日は時刻なしで必須",IF(IF(C9="一致確認",OR(E9>F9,E9<INDEX(顧客マスター!$D$8:$D$57,MATCH(D9,顧客マスター!$A$8:$A$57,0))),FALSE()),"台帳確認日≦一致確認日≦元記録確認日を確認","確認済み"))))))))))))))) -> 確認済み | K9: =IF(J9="","",IF(J9="確認済み",0,1)) -> 0 | L9: =IF(COUNTA(A9:F9)=0,IF(AND(J9="",K9="",G9="",H9="",I9=""),0,1),IF(NOT(AND(ISTEXT(J9),J9=IF(COUNTA(A9:F9)=0,"",IF(NOT(AND(ISTEXT(A9),LEN(A9)=8,EXACT(LEFT(A9,4),"REC-"),ISNUMBER(FIND(MID(A9,5,1)&"x","0x1x2x3x4x5x6x7x8x9x")),ISNUMBER(FIND(MID(A9,6,1)&"x","0x1x2x3x4x5x6x7x8x9x")),ISNUMBER(FIND(MID(A9,7,1)&"x","0x1x2x3x4x5x6x7x8x9x")),ISNUMBER(FIND(MID(A9,8,1)&"x","0x1x2x3x4x5x6x7x8x9x")))),"照合行IDの形式を確認",IF(COUNTIFS($A$8:$A$57,A9)>1,"照合行IDが重複",IF(AND(COUNTA(B9)>0,NOT(AND(ISTEXT(B9),LEN(B9)=8,EXACT(LEFT(B9,4),"CUS-"),ISNUMBER(FIND(MID(B9,5,1)&"x","0x1x2x3x4x5x6x7x8x9x")),ISNUMBER(FIND(MID(B9,6,1)&"x","0x1x2x3x4x5x6x7x8x9x")),ISNUMBER(FIND(MID(B9,7,1)&"x","0x1x2x3x4x5x6x7x8x9x")),ISNUMBER(FIND(MID(B9,8,1)&"x","0x1x2x3x4x5x6x7x8x9x"))))),"照合顧客IDの形式を確認",IF(NOT(OR(C9="未確認",C9="一致確認",C9="対象外")),"確認区分を確認",IF(NOT(IF(ISNUMBER(F9),AND(F9>=43831,F9<73051,F9=INT(F9)),FALSE())),"元記録確認日は時刻なしで必須",IF(F9>照合結果!$B$3,"元記録確認日が基準日より後",IF(AND(C9<>"一致確認",COUNTA(D9:E9)>0),"未確認/対象外の確認先と一致確認日は空欄",IF(AND(C9="一致確認",COUNTA(B9)=0),"一致確認には照合顧客IDが必須",IF(AND(C9="一致確認",NOT(AND(ISTEXT(D9),LEN(D9)=8,EXACT(LEFT(D9,4),"MST-"),ISNUMBER(FIND(MID(D9,5,1)&"x","0x1x2x3x4x5x6x7x8x9x")),ISNUMBER(FIND(MID(D9,6,1)&"x","0x1x2x3x4x5x6x7x8x9x")),ISNUMBER(FIND(MID(D9,7,1)&"x","0x1x2x3x4x5x6x7x8x9x")),ISNUMBER(FIND(MID(D9,8,1)&"x","0x1x2x3x4x5x6x7x8x9x"))))),"確認先行IDの形式を確認",IF(AND(C9="一致確認",COUNTIFS(顧客マスター!$A$8:$A$57,D9)<>1),"確認先行が未登録/重複",IF(IF(C9="一致確認",INDEX(顧客マスター!$B$8:$B$57,MATCH(D9,顧客マスター!$A$8:$A$57,0))<>B9,FALSE()),"確認先の顧客IDが一致しません",IF(IF(C9="一致確認",INDEX(顧客マスター!$C$8:$C$57,MATCH(D9,顧客マスター!$A$8:$A$57,0))<>"有効",FALSE()),"確認先の台帳区分を確認",IF(AND(C9="一致確認",NOT(IF(ISNUMBER(E9),AND(E9>=43831,E9<73051,E9=INT(E9)),FALSE()))),"一致確認日は時刻なしで必須",IF(IF(C9="一致確認",OR(E9>F9,E9<INDEX(顧客マスター!$D$8:$D$57,MATCH(D9,顧客マスター!$A$8:$A$57,0))),FALSE()),"台帳確認日≦一致確認日≦元記録確認日を確認","確認済み"))))))))))))))),ISNUMBER(K9),K9=IF(J9="確認済み",0,1))),1,IF(K9<>0,0,IF(AND(IF(COUNTA(B9)=0,ISTEXT(G9),ISNUMBER(G9)),G9=IF(COUNTA(B9)=0,"",COUNTIFS(顧客マスター!$B$8:$B$57,B9)),ISTEXT(H9),H9=IF(AND(COUNTA(B9)>0,G9=1),INDEX(顧客マスター!$A$8:$A$57,MATCH(B9,顧客マスター!$B$8:$B$57,0)),""),ISTEXT(I9),I9=IF(C9="対象外","対象外",IF(照合結果!$E$3<>"確認済","体系未確認",IF(COUNTA(B9)=0,"キー未確認",IF(C9="一致確認","一致確認",IF(G9=0,"候補なし",IF(G9>1,"複数候補",IF(INDEX(顧客マスター!$C$8:$C$57,MATCH(B9,顧客マスター!$B$8:$B$57,0))<>"有効","台帳要確認","単一候補")))))))),0,1)))) -> 0
A10: REC-0003 | B10: CUS-0009 | C10: 未確認 | F10: 46311 | G10: =IF(J10="","",IF(K10<>0,NA(),IF(COUNTA(B10)=0,"",COUNTIFS(顧客マスター!$B$8:$B$57,B10)))) -> 0 | H10: =IF(J10="","",IF(K10<>0,NA(),IF(AND(COUNTA(B10)>0,G10=1),INDEX(顧客マスター!$A$8:$A$57,MATCH(B10,顧客マスター!$B$8:$B$57,0)),""))) | I10: =IF(J10="","",IF(K10<>0,NA(),IF(C10="対象外","対象外",IF(照合結果!$E$3<>"確認済","体系未確認",IF(COUNTA(B10)=0,"キー未確認",IF(C10="一致確認","一致確認",IF(G10=0,"候補なし",IF(G10>1,"複数候補",IF(INDEX(顧客マスター!$C$8:$C$57,MATCH(B10,顧客マスター!$B$8:$B$57,0))<>"有効","台帳要確認","単一候補"))))))))) -> 体系未確認 | J10: =IF(COUNTA(A10:F10)=0,"",IF(NOT(AND(ISTEXT(A10),LEN(A10)=8,EXACT(LEFT(A10,4),"REC-"),ISNUMBER(FIND(MID(A10,5,1)&"x","0x1x2x3x4x5x6x7x8x9x")),ISNUMBER(FIND(MID(A10,6,1)&"x","0x1x2x3x4x5x6x7x8x9x")),ISNUMBER(FIND(MID(A10,7,1)&"x","0x1x2x3x4x5x6x7x8x9x")),ISNUMBER(FIND(MID(A10,8,1)&"x","0x1x2x3x4x5x6x7x8x9x")))),"照合行IDの形式を確認",IF(COUNTIFS($A$8:$A$57,A10)>1,"照合行IDが重複",IF(AND(COUNTA(B10)>0,NOT(AND(ISTEXT(B10),LEN(B10)=8,EXACT(LEFT(B10,4),"CUS-"),ISNUMBER(FIND(MID(B10,5,1)&"x","0x1x2x3x4x5x6x7x8x9x")),ISNUMBER(FIND(MID(B10,6,1)&"x","0x1x2x3x4x5x6x7x8x9x")),ISNUMBER(FIND(MID(B10,7,1)&"x","0x1x2x3x4x5x6x7x8x9x")),ISNUMBER(FIND(MID(B10,8,1)&"x","0x1x2x3x4x5x6x7x8x9x"))))),"照合顧客IDの形式を確認",IF(NOT(OR(C10="未確認",C10="一致確認",C10="対象外")),"確認区分を確認",IF(NOT(IF(ISNUMBER(F10),AND(F10>=43831,F10<73051,F10=INT(F10)),FALSE())),"元記録確認日は時刻なしで必須",IF(F10>照合結果!$B$3,"元記録確認日が基準日より後",IF(AND(C10<>"一致確認",COUNTA(D10:E10)>0),"未確認/対象外の確認先と一致確認日は空欄",IF(AND(C10="一致確認",COUNTA(B10)=0),"一致確認には照合顧客IDが必須",IF(AND(C10="一致確認",NOT(AND(ISTEXT(D10),LEN(D10)=8,EXACT(LEFT(D10,4),"MST-"),ISNUMBER(FIND(MID(D10,5,1)&"x","0x1x2x3x4x5x6x7x8x9x")),ISNUMBER(FIND(MID(D10,6,1)&"x","0x1x2x3x4x5x6x7x8x9x")),ISNUMBER(FIND(MID(D10,7,1)&"x","0x1x2x3x4x5x6x7x8x9x")),ISNUMBER(FIND(MID(D10,8,1)&"x","0x1x2x3x4x5x6x7x8x9x"))))),"確認先行IDの形式を確認",IF(AND(C10="一致確認",COUNTIFS(顧客マスター!$A$8:$A$57,D10)<>1),"確認先行が未登録/重複",IF(IF(C10="一致確認",INDEX(顧客マスター!$B$8:$B$57,MATCH(D10,顧客マスター!$A$8:$A$57,0))<>B10,FALSE()),"確認先の顧客IDが一致しません",IF(IF(C10="一致確認",INDEX(顧客マスター!$C$8:$C$57,MATCH(D10,顧客マスター!$A$8:$A$57,0))<>"有効",FALSE()),"確認先の台帳区分を確認",IF(AND(C10="一致確認",NOT(IF(ISNUMBER(E10),AND(E10>=43831,E10<73051,E10=INT(E10)),FALSE()))),"一致確認日は時刻なしで必須",IF(IF(C10="一致確認",OR(E10>F10,E10<INDEX(顧客マスター!$D$8:$D$57,MATCH(D10,顧客マスター!$A$8:$A$57,0))),FALSE()),"台帳確認日≦一致確認日≦元記録確認日を確認","確認済み"))))))))))))))) -> 確認済み | K10: =IF(J10="","",IF(J10="確認済み",0,1)) -> 0 | L10: =IF(COUNTA(A10:F10)=0,IF(AND(J10="",K10="",G10="",H10="",I10=""),0,1),IF(NOT(AND(ISTEXT(J10),J10=IF(COUNTA(A10:F10)=0,"",IF(NOT(AND(ISTEXT(A10),LEN(A10)=8,EXACT(LEFT(A10,4),"REC-"),ISNUMBER(FIND(MID(A10,5,1)&"x","0x1x2x3x4x5x6x7x8x9x")),ISNUMBER(FIND(MID(A10,6,1)&"x","0x1x2x3x4x5x6x7x8x9x")),ISNUMBER(FIND(MID(A10,7,1)&"x","0x1x2x3x4x5x6x7x8x9x")),ISNUMBER(FIND(MID(A10,8,1)&"x","0x1x2x3x4x5x6x7x8x9x")))),"照合行IDの形式を確認",IF(COUNTIFS($A$8:$A$57,A10)>1,"照合行IDが重複",IF(AND(COUNTA(B10)>0,NOT(AND(ISTEXT(B10),LEN(B10)=8,EXACT(LEFT(B10,4),"CUS-"),ISNUMBER(FIND(MID(B10,5,1)&"x","0x1x2x3x4x5x6x7x8x9x")),ISNUMBER(FIND(MID(B10,6,1)&"x","0x1x2x3x4x5x6x7x8x9x")),ISNUMBER(FIND(MID(B10,7,1)&"x","0x1x2x3x4x5x6x7x8x9x")),ISNUMBER(FIND(MID(B10,8,1)&"x","0x1x2x3x4x5x6x7x8x9x"))))),"照合顧客IDの形式を確認",IF(NOT(OR(C10="未確認",C10="一致確認",C10="対象外")),"確認区分を確認",IF(NOT(IF(ISNUMBER(F10),AND(F10>=43831,F10<73051,F10=INT(F10)),FALSE())),"元記録確認日は時刻なしで必須",IF(F10>照合結果!$B$3,"元記録確認日が基準日より後",IF(AND(C10<>"一致確認",COUNTA(D10:E10)>0),"未確認/対象外の確認先と一致確認日は空欄",IF(AND(C10="一致確認",COUNTA(B10)=0),"一致確認には照合顧客IDが必須",IF(AND(C10="一致確認",NOT(AND(ISTEXT(D10),LEN(D10)=8,EXACT(LEFT(D10,4),"MST-"),ISNUMBER(FIND(MID(D10,5,1)&"x","0x1x2x3x4x5x6x7x8x9x")),ISNUMBER(FIND(MID(D10,6,1)&"x","0x1x2x3x4x5x6x7x8x9x")),ISNUMBER(FIND(MID(D10,7,1)&"x","0x1x2x3x4x5x6x7x8x9x")),ISNUMBER(FIND(MID(D10,8,1)&"x","0x1x2x3x4x5x6x7x8x9x"))))),"確認先行IDの形式を確認",IF(AND(C10="一致確認",COUNTIFS(顧客マスター!$A$8:$A$57,D10)<>1),"確認先行が未登録/重複",IF(IF(C10="一致確認",INDEX(顧客マスター!$B$8:$B$57,MATCH(D10,顧客マスター!$A$8:$A$57,0))<>B10,FALSE()),"確認先の顧客IDが一致しません",IF(IF(C10="一致確認",INDEX(顧客マスター!$C$8:$C$57,MATCH(D10,顧客マスター!$A$8:$A$57,0))<>"有効",FALSE()),"確認先の台帳区分を確認",IF(AND(C10="一致確認",NOT(IF(ISNUMBER(E10),AND(E10>=43831,E10<73051,E10=INT(E10)),FALSE()))),"一致確認日は時刻なしで必須",IF(IF(C10="一致確認",OR(E10>F10,E10<INDEX(顧客マスター!$D$8:$D$57,MATCH(D10,顧客マスター!$A$8:$A$57,0))),FALSE()),"台帳確認日≦一致確認日≦元記録確認日を確認","確認済み"))))))))))))))),ISNUMBER(K10),K10=IF(J10="確認済み",0,1))),1,IF(K10<>0,0,IF(AND(IF(COUNTA(B10)=0,ISTEXT(G10),ISNUMBER(G10)),G10=IF(COUNTA(B10)=0,"",COUNTIFS(顧客マスター!$B$8:$B$57,B10)),ISTEXT(H10),H10=IF(AND(COUNTA(B10)>0,G10=1),INDEX(顧客マスター!$A$8:$A$57,MATCH(B10,顧客マスター!$B$8:$B$57,0)),""),ISTEXT(I10),I10=IF(C10="対象外","対象外",IF(照合結果!$E$3<>"確認済","体系未確認",IF(COUNTA(B10)=0,"キー未確認",IF(C10="一致確認","一致確認",IF(G10=0,"候補なし",IF(G10>1,"複数候補",IF(INDEX(顧客マスター!$C$8:$C$57,MATCH(B10,顧客マスター!$B$8:$B$57,0))<>"有効","台帳要確認","単一候補")))))))),0,1)))) -> 0
A11: REC-0004 | C11: 未確認 | F11: 46311 | G11: =IF(J11="","",IF(K11<>0,NA(),IF(COUNTA(B11)=0,"",COUNTIFS(顧客マスター!$B$8:$B$57,B11)))) | H11: =IF(J11="","",IF(K11<>0,NA(),IF(AND(COUNTA(B11)>0,G11=1),INDEX(顧客マスター!$A$8:$A$57,MATCH(B11,顧客マスター!$B$8:$B$57,0)),""))) | I11: =IF(J11="","",IF(K11<>0,NA(),IF(C11="対象外","対象外",IF(照合結果!$E$3<>"確認済","体系未確認",IF(COUNTA(B11)=0,"キー未確認",IF(C11="一致確認","一致確認",IF(G11=0,"候補なし",IF(G11>1,"複数候補",IF(INDEX(顧客マスター!$C$8:$C$57,MATCH(B11,顧客マスター!$B$8:$B$57,0))<>"有効","台帳要確認","単一候補"))))))))) -> 体系未確認 | J11: =IF(COUNTA(A11:F11)=0,"",IF(NOT(AND(ISTEXT(A11),LEN(A11)=8,EXACT(LEFT(A11,4),"REC-"),ISNUMBER(FIND(MID(A11,5,1)&"x","0x1x2x3x4x5x6x7x8x9x")),ISNUMBER(FIND(MID(A11,6,1)&"x","0x1x2x3x4x5x6x7x8x9x")),ISNUMBER(FIND(MID(A11,7,1)&"x","0x1x2x3x4x5x6x7x8x9x")),ISNUMBER(FIND(MID(A11,8,1)&"x","0x1x2x3x4x5x6x7x8x9x")))),"照合行IDの形式を確認",IF(COUNTIFS($A$8:$A$57,A11)>1,"照合行IDが重複",IF(AND(COUNTA(B11)>0,NOT(AND(ISTEXT(B11),LEN(B11)=8,EXACT(LEFT(B11,4),"CUS-"),ISNUMBER(FIND(MID(B11,5,1)&"x","0x1x2x3x4x5x6x7x8x9x")),ISNUMBER(FIND(MID(B11,6,1)&"x","0x1x2x3x4x5x6x7x8x9x")),ISNUMBER(FIND(MID(B11,7,1)&"x","0x1x2x3x4x5x6x7x8x9x")),ISNUMBER(FIND(MID(B11,8,1)&"x","0x1x2x3x4x5x6x7x8x9x"))))),"照合顧客IDの形式を確認",IF(NOT(OR(C11="未確認",C11="一致確認",C11="対象外")),"確認区分を確認",IF(NOT(IF(ISNUMBER(F11),AND(F11>=43831,F11<73051,F11=INT(F11)),FALSE())),"元記録確認日は時刻なしで必須",IF(F11>照合結果!$B$3,"元記録確認日が基準日より後",IF(AND(C11<>"一致確認",COUNTA(D11:E11)>0),"未確認/対象外の確認先と一致確認日は空欄",IF(AND(C11="一致確認",COUNTA(B11)=0),"一致確認には照合顧客IDが必須",IF(AND(C11="一致確認",NOT(AND(ISTEXT(D11),LEN(D11)=8,EXACT(LEFT(D11,4),"MST-"),ISNUMBER(FIND(MID(D11,5,1)&"x","0x1x2x3x4x5x6x7x8x9x")),ISNUMBER(FIND(MID(D11,6,1)&"x","0x1x2x3x4x5x6x7x8x9x")),ISNUMBER(FIND(MID(D11,7,1)&"x","0x1x2x3x4x5x6x7x8x9x")),ISNUMBER(FIND(MID(D11,8,1)&"x","0x1x2x3x4x5x6x7x8x9x"))))),"確認先行IDの形式を確認",IF(AND(C11="一致確認",COUNTIFS(顧客マスター!$A$8:$A$57,D11)<>1),"確認先行が未登録/重複",IF(IF(C11="一致確認",INDEX(顧客マスター!$B$8:$B$57,MATCH(D11,顧客マスター!$A$8:$A$57,0))<>B11,FALSE()),"確認先の顧客IDが一致しません",IF(IF(C11="一致確認",INDEX(顧客マスター!$C$8:$C$57,MATCH(D11,顧客マスター!$A$8:$A$57,0))<>"有効",FALSE()),"確認先の台帳区分を確認",IF(AND(C11="一致確認",NOT(IF(ISNUMBER(E11),AND(E11>=43831,E11<73051,E11=INT(E11)),FALSE()))),"一致確認日は時刻なしで必須",IF(IF(C11="一致確認",OR(E11>F11,E11<INDEX(顧客マスター!$D$8:$D$57,MATCH(D11,顧客マスター!$A$8:$A$57,0))),FALSE()),"台帳確認日≦一致確認日≦元記録確認日を確認","確認済み"))))))))))))))) -> 確認済み | K11: =IF(J11="","",IF(J11="確認済み",0,1)) -> 0 | L11: =IF(COUNTA(A11:F11)=0,IF(AND(J11="",K11="",G11="",H11="",I11=""),0,1),IF(NOT(AND(ISTEXT(J11),J11=IF(COUNTA(A11:F11)=0,"",IF(NOT(AND(ISTEXT(A11),LEN(A11)=8,EXACT(LEFT(A11,4),"REC-"),ISNUMBER(FIND(MID(A11,5,1)&"x","0x1x2x3x4x5x6x7x8x9x")),ISNUMBER(FIND(MID(A11,6,1)&"x","0x1x2x3x4x5x6x7x8x9x")),ISNUMBER(FIND(MID(A11,7,1)&"x","0x1x2x3x4x5x6x7x8x9x")),ISNUMBER(FIND(MID(A11,8,1)&"x","0x1x2x3x4x5x6x7x8x9x")))),"照合行IDの形式を確認",IF(COUNTIFS($A$8:$A$57,A11)>1,"照合行IDが重複",IF(AND(COUNTA(B11)>0,NOT(AND(ISTEXT(B11),LEN(B11)=8,EXACT(LEFT(B11,4),"CUS-"),ISNUMBER(FIND(MID(B11,5,1)&"x","0x1x2x3x4x5x6x7x8x9x")),ISNUMBER(FIND(MID(B11,6,1)&"x","0x1x2x3x4x5x6x7x8x9x")),ISNUMBER(FIND(MID(B11,7,1)&"x","0x1x2x3x4x5x6x7x8x9x")),ISNUMBER(FIND(MID(B11,8,1)&"x","0x1x2x3x4x5x6x7x8x9x"))))),"照合顧客IDの形式を確認",IF(NOT(OR(C11="未確認",C11="一致確認",C11="対象外")),"確認区分を確認",IF(NOT(IF(ISNUMBER(F11),AND(F11>=43831,F11<73051,F11=INT(F11)),FALSE())),"元記録確認日は時刻なしで必須",IF(F11>照合結果!$B$3,"元記録確認日が基準日より後",IF(AND(C11<>"一致確認",COUNTA(D11:E11)>0),"未確認/対象外の確認先と一致確認日は空欄",IF(AND(C11="一致確認",COUNTA(B11)=0),"一致確認には照合顧客IDが必須",IF(AND(C11="一致確認",NOT(AND(ISTEXT(D11),LEN(D11)=8,EXACT(LEFT(D11,4),"MST-"),ISNUMBER(FIND(MID(D11,5,1)&"x","0x1x2x3x4x5x6x7x8x9x")),ISNUMBER(FIND(MID(D11,6,1)&"x","0x1x2x3x4x5x6x7x8x9x")),ISNUMBER(FIND(MID(D11,7,1)&"x","0x1x2x3x4x5x6x7x8x9x")),ISNUMBER(FIND(MID(D11,8,1)&"x","0x1x2x3x4x5x6x7x8x9x"))))),"確認先行IDの形式を確認",IF(AND(C11="一致確認",COUNTIFS(顧客マスター!$A$8:$A$57,D11)<>1),"確認先行が未登録/重複",IF(IF(C11="一致確認",INDEX(顧客マスター!$B$8:$B$57,MATCH(D11,顧客マスター!$A$8:$A$57,0))<>B11,FALSE()),"確認先の顧客IDが一致しません",IF(IF(C11="一致確認",INDEX(顧客マスター!$C$8:$C$57,MATCH(D11,顧客マスター!$A$8:$A$57,0))<>"有効",FALSE()),"確認先の台帳区分を確認",IF(AND(C11="一致確認",NOT(IF(ISNUMBER(E11),AND(E11>=43831,E11<73051,E11=INT(E11)),FALSE()))),"一致確認日は時刻なしで必須",IF(IF(C11="一致確認",OR(E11>F11,E11<INDEX(顧客マスター!$D$8:$D$57,MATCH(D11,顧客マスター!$A$8:$A$57,0))),FALSE()),"台帳確認日≦一致確認日≦元記録確認日を確認","確認済み"))))))))))))))),ISNUMBER(K11),K11=IF(J11="確認済み",0,1))),1,IF(K11<>0,0,IF(AND(IF(COUNTA(B11)=0,ISTEXT(G11),ISNUMBER(G11)),G11=IF(COUNTA(B11)=0,"",COUNTIFS(顧客マスター!$B$8:$B$57,B11)),ISTEXT(H11),H11=IF(AND(COUNTA(B11)>0,G11=1),INDEX(顧客マスター!$A$8:$A$57,MATCH(B11,顧客マスター!$B$8:$B$57,0)),""),ISTEXT(I11),I11=IF(C11="対象外","対象外",IF(照合結果!$E$3<>"確認済","体系未確認",IF(COUNTA(B11)=0,"キー未確認",IF(C11="一致確認","一致確認",IF(G11=0,"候補なし",IF(G11>1,"複数候補",IF(INDEX(顧客マスター!$C$8:$C$57,MATCH(B11,顧客マスター!$B$8:$B$57,0))<>"有効","台帳要確認","単一候補")))))))),0,1)))) -> 0
A12: REC-0005 | B12: CUS-0003 | C12: 未確認 | F12: 46311 | G12: =IF(J12="","",IF(K12<>0,NA(),IF(COUNTA(B12)=0,"",COUNTIFS(顧客マスター!$B$8:$B$57,B12)))) -> 1 | H12: =IF(J12="","",IF(K12<>0,NA(),IF(AND(COUNTA(B12)>0,G12=1),INDEX(顧客マスター!$A$8:$A$57,MATCH(B12,顧客マスター!$B$8:$B$57,0)),""))) -> MST-0004 | I12: =IF(J12="","",IF(K12<>0,NA(),IF(C12="対象外","対象外",IF(照合結果!$E$3<>"確認済","体系未確認",IF(COUNTA(B12)=0,"キー未確認",IF(C12="一致確認","一致確認",IF(G12=0,"候補なし",IF(G12>1,"複数候補",IF(INDEX(顧客マスター!$C$8:$C$57,MATCH(B12,顧客マスター!$B$8:$B$57,0))<>"有効","台帳要確認","単一候補"))))))))) -> 体系未確認 | J12: =IF(COUNTA(A12:F12)=0,"",IF(NOT(AND(ISTEXT(A12),LEN(A12)=8,EXACT(LEFT(A12,4),"REC-"),ISNUMBER(FIND(MID(A12,5,1)&"x","0x1x2x3x4x5x6x7x8x9x")),ISNUMBER(FIND(MID(A12,6,1)&"x","0x1x2x3x4x5x6x7x8x9x")),ISNUMBER(FIND(MID(A12,7,1)&"x","0x1x2x3x4x5x6x7x8x9x")),ISNUMBER(FIND(MID(A12,8,1)&"x","0x1x2x3x4x5x6x7x8x9x")))),"照合行IDの形式を確認",IF(COUNTIFS($A$8:$A$57,A12)>1,"照合行IDが重複",IF(AND(COUNTA(B12)>0,NOT(AND(ISTEXT(B12),LEN(B12)=8,EXACT(LEFT(B12,4),"CUS-"),ISNUMBER(FIND(MID(B12,5,1)&"x","0x1x2x3x4x5x6x7x8x9x")),ISNUMBER(FIND(MID(B12,6,1)&"x","0x1x2x3x4x5x6x7x8x9x")),ISNUMBER(FIND(MID(B12,7,1)&"x","0x1x2x3x4x5x6x7x8x9x")),ISNUMBER(FIND(MID(B12,8,1)&"x","0x1x2x3x4x5x6x7x8x9x"))))),"照合顧客IDの形式を確認",IF(NOT(OR(C12="未確認",C12="一致確認",C12="対象外")),"確認区分を確認",IF(NOT(IF(ISNUMBER(F12),AND(F12>=43831,F12<73051,F12=INT(F12)),FALSE())),"元記録確認日は時刻なしで必須",IF(F12>照合結果!$B$3,"元記録確認日が基準日より後",IF(AND(C12<>"一致確認",COUNTA(D12:E12)>0),"未確認/対象外の確認先と一致確認日は空欄",IF(AND(C12="一致確認",COUNTA(B12)=0),"一致確認には照合顧客IDが必須",IF(AND(C12="一致確認",NOT(AND(ISTEXT(D12),LEN(D12)=8,EXACT(LEFT(D12,4),"MST-"),ISNUMBER(FIND(MID(D12,5,1)&"x","0x1x2x3x4x5x6x7x8x9x")),ISNUMBER(FIND(MID(D12,6,1)&"x","0x1x2x3x4x5x6x7x8x9x")),ISNUMBER(FIND(MID(D12,7,1)&"x","0x1x2x3x4x5x6x7x8x9x")),ISNUMBER(FIND(MID(D12,8,1)&"x","0x1x2x3x4x5x6x7x8x9x"))))),"確認先行IDの形式を確認",IF(AND(C12="一致確認",COUNTIFS(顧客マスター!$A$8:$A$57,D12)<>1),"確認先行が未登録/重複",IF(IF(C12="一致確認",INDEX(顧客マスター!$B$8:$B$57,MATCH(D12,顧客マスター!$A$8:$A$57,0))<>B12,FALSE()),"確認先の顧客IDが一致しません",IF(IF(C12="一致確認",INDEX(顧客マスター!$C$8:$C$57,MATCH(D12,顧客マスター!$A$8:$A$57,0))<>"有効",FALSE()),"確認先の台帳区分を確認",IF(AND(C12="一致確認",NOT(IF(ISNUMBER(E12),AND(E12>=43831,E12<73051,E12=INT(E12)),FALSE()))),"一致確認日は時刻なしで必須",IF(IF(C12="一致確認",OR(E12>F12,E12<INDEX(顧客マスター!$D$8:$D$57,MATCH(D12,顧客マスター!$A$8:$A$57,0))),FALSE()),"台帳確認日≦一致確認日≦元記録確認日を確認","確認済み"))))))))))))))) -> 確認済み | K12: =IF(J12="","",IF(J12="確認済み",0,1)) -> 0 | L12: =IF(COUNTA(A12:F12)=0,IF(AND(J12="",K12="",G12="",H12="",I12=""),0,1),IF(NOT(AND(ISTEXT(J12),J12=IF(COUNTA(A12:F12)=0,"",IF(NOT(AND(ISTEXT(A12),LEN(A12)=8,EXACT(LEFT(A12,4),"REC-"),ISNUMBER(FIND(MID(A12,5,1)&"x","0x1x2x3x4x5x6x7x8x9x")),ISNUMBER(FIND(MID(A12,6,1)&"x","0x1x2x3x4x5x6x7x8x9x")),ISNUMBER(FIND(MID(A12,7,1)&"x","0x1x2x3x4x5x6x7x8x9x")),ISNUMBER(FIND(MID(A12,8,1)&"x","0x1x2x3x4x5x6x7x8x9x")))),"照合行IDの形式を確認",IF(COUNTIFS($A$8:$A$57,A12)>1,"照合行IDが重複",IF(AND(COUNTA(B12)>0,NOT(AND(ISTEXT(B12),LEN(B12)=8,EXACT(LEFT(B12,4),"CUS-"),ISNUMBER(FIND(MID(B12,5,1)&"x","0x1x2x3x4x5x6x7x8x9x")),ISNUMBER(FIND(MID(B12,6,1)&"x","0x1x2x3x4x5x6x7x8x9x")),ISNUMBER(FIND(MID(B12,7,1)&"x","0x1x2x3x4x5x6x7x8x9x")),ISNUMBER(FIND(MID(B12,8,1)&"x","0x1x2x3x4x5x6x7x8x9x"))))),"照合顧客IDの形式を確認",IF(NOT(OR(C12="未確認",C12="一致確認",C12="対象外")),"確認区分を確認",IF(NOT(IF(ISNUMBER(F12),AND(F12>=43831,F12<73051,F12=INT(F12)),FALSE())),"元記録確認日は時刻なしで必須",IF(F12>照合結果!$B$3,"元記録確認日が基準日より後",IF(AND(C12<>"一致確認",COUNTA(D12:E12)>0),"未確認/対象外の確認先と一致確認日は空欄",IF(AND(C12="一致確認",COUNTA(B12)=0),"一致確認には照合顧客IDが必須",IF(AND(C12="一致確認",NOT(AND(ISTEXT(D12),LEN(D12)=8,EXACT(LEFT(D12,4),"MST-"),ISNUMBER(FIND(MID(D12,5,1)&"x","0x1x2x3x4x5x6x7x8x9x")),ISNUMBER(FIND(MID(D12,6,1)&"x","0x1x2x3x4x5x6x7x8x9x")),ISNUMBER(FIND(MID(D12,7,1)&"x","0x1x2x3x4x5x6x7x8x9x")),ISNUMBER(FIND(MID(D12,8,1)&"x","0x1x2x3x4x5x6x7x8x9x"))))),"確認先行IDの形式を確認",IF(AND(C12="一致確認",COUNTIFS(顧客マスター!$A$8:$A$57,D12)<>1),"確認先行が未登録/重複",IF(IF(C12="一致確認",INDEX(顧客マスター!$B$8:$B$57,MATCH(D12,顧客マスター!$A$8:$A$57,0))<>B12,FALSE()),"確認先の顧客IDが一致しません",IF(IF(C12="一致確認",INDEX(顧客マスター!$C$8:$C$57,MATCH(D12,顧客マスター!$A$8:$A$57,0))<>"有効",FALSE()),"確認先の台帳区分を確認",IF(AND(C12="一致確認",NOT(IF(ISNUMBER(E12),AND(E12>=43831,E12<73051,E12=INT(E12)),FALSE()))),"一致確認日は時刻なしで必須",IF(IF(C12="一致確認",OR(E12>F12,E12<INDEX(顧客マスター!$D$8:$D$57,MATCH(D12,顧客マスター!$A$8:$A$57,0))),FALSE()),"台帳確認日≦一致確認日≦元記録確認日を確認","確認済み"))))))))))))))),ISNUMBER(K12),K12=IF(J12="確認済み",0,1))),1,IF(K12<>0,0,IF(AND(IF(COUNTA(B12)=0,ISTEXT(G12),ISNUMBER(G12)),G12=IF(COUNTA(B12)=0,"",COUNTIFS(顧客マスター!$B$8:$B$57,B12)),ISTEXT(H12),H12=IF(AND(COUNTA(B12)>0,G12=1),INDEX(顧客マスター!$A$8:$A$57,MATCH(B12,顧客マスター!$B$8:$B$57,0)),""),ISTEXT(I12),I12=IF(C12="対象外","対象外",IF(照合結果!$E$3<>"確認済","体系未確認",IF(COUNTA(B12)=0,"キー未確認",IF(C12="一致確認","一致確認",IF(G12=0,"候補なし",IF(G12>1,"複数候補",IF(INDEX(顧客マスター!$C$8:$C$57,MATCH(B12,顧客マスター!$B$8:$B$57,0))<>"有効","台帳要確認","単一候補")))))))),0,1)))) -> 0
A13: REC-0006 | B13: CUS-0004 | C13: 一致確認 | D13: MST-0005 | E13: 46311 | F13: 46311 | G13: =IF(J13="","",IF(K13<>0,NA(),IF(COUNTA(B13)=0,"",COUNTIFS(顧客マスター!$B$8:$B$57,B13)))) -> 1 | H13: =IF(J13="","",IF(K13<>0,NA(),IF(AND(COUNTA(B13)>0,G13=1),INDEX(顧客マスター!$A$8:$A$57,MATCH(B13,顧客マスター!$B$8:$B$57,0)),""))) -> MST-0005 | I13: =IF(J13="","",IF(K13<>0,NA(),IF(C13="対象外","対象外",IF(照合結果!$E$3<>"確認済","体系未確認",IF(COUNTA(B13)=0,"キー未確認",IF(C13="一致確認","一致確認",IF(G13=0,"候補なし",IF(G13>1,"複数候補",IF(INDEX(顧客マスター!$C$8:$C$57,MATCH(B13,顧客マスター!$B$8:$B$57,0))<>"有効","台帳要確認","単一候補"))))))))) -> 体系未確認 | J13: =IF(COUNTA(A13:F13)=0,"",IF(NOT(AND(ISTEXT(A13),LEN(A13)=8,EXACT(LEFT(A13,4),"REC-"),ISNUMBER(FIND(MID(A13,5,1)&"x","0x1x2x3x4x5x6x7x8x9x")),ISNUMBER(FIND(MID(A13,6,1)&"x","0x1x2x3x4x5x6x7x8x9x")),ISNUMBER(FIND(MID(A13,7,1)&"x","0x1x2x3x4x5x6x7x8x9x")),ISNUMBER(FIND(MID(A13,8,1)&"x","0x1x2x3x4x5x6x7x8x9x")))),"照合行IDの形式を確認",IF(COUNTIFS($A$8:$A$57,A13)>1,"照合行IDが重複",IF(AND(COUNTA(B13)>0,NOT(AND(ISTEXT(B13),LEN(B13)=8,EXACT(LEFT(B13,4),"CUS-"),ISNUMBER(FIND(MID(B13,5,1)&"x","0x1x2x3x4x5x6x7x8x9x")),ISNUMBER(FIND(MID(B13,6,1)&"x","0x1x2x3x4x5x6x7x8x9x")),ISNUMBER(FIND(MID(B13,7,1)&"x","0x1x2x3x4x5x6x7x8x9x")),ISNUMBER(FIND(MID(B13,8,1)&"x","0x1x2x3x4x5x6x7x8x9x"))))),"照合顧客IDの形式を確認",IF(NOT(OR(C13="未確認",C13="一致確認",C13="対象外")),"確認区分を確認",IF(NOT(IF(ISNUMBER(F13),AND(F13>=43831,F13<73051,F13=INT(F13)),FALSE())),"元記録確認日は時刻なしで必須",IF(F13>照合結果!$B$3,"元記録確認日が基準日より後",IF(AND(C13<>"一致確認",COUNTA(D13:E13)>0),"未確認/対象外の確認先と一致確認日は空欄",IF(AND(C13="一致確認",COUNTA(B13)=0),"一致確認には照合顧客IDが必須",IF(AND(C13="一致確認",NOT(AND(ISTEXT(D13),LEN(D13)=8,EXACT(LEFT(D13,4),"MST-"),ISNUMBER(FIND(MID(D13,5,1)&"x","0x1x2x3x4x5x6x7x8x9x")),ISNUMBER(FIND(MID(D13,6,1)&"x","0x1x2x3x4x5x6x7x8x9x")),ISNUMBER(FIND(MID(D13,7,1)&"x","0x1x2x3x4x5x6x7x8x9x")),ISNUMBER(FIND(MID(D13,8,1)&"x","0x1x2x3x4x5x6x7x8x9x"))))),"確認先行IDの形式を確認",IF(AND(C13="一致確認",COUNTIFS(顧客マスター!$A$8:$A$57,D13)<>1),"確認先行が未登録/重複",IF(IF(C13="一致確認",INDEX(顧客マスター!$B$8:$B$57,MATCH(D13,顧客マスター!$A$8:$A$57,0))<>B13,FALSE()),"確認先の顧客IDが一致しません",IF(IF(C13="一致確認",INDEX(顧客マスター!$C$8:$C$57,MATCH(D13,顧客マスター!$A$8:$A$57,0))<>"有効",FALSE()),"確認先の台帳区分を確認",IF(AND(C13="一致確認",NOT(IF(ISNUMBER(E13),AND(E13>=43831,E13<73051,E13=INT(E13)),FALSE()))),"一致確認日は時刻なしで必須",IF(IF(C13="一致確認",OR(E13>F13,E13<INDEX(顧客マスター!$D$8:$D$57,MATCH(D13,顧客マスター!$A$8:$A$57,0))),FALSE()),"台帳確認日≦一致確認日≦元記録確認日を確認","確認済み"))))))))))))))) -> 確認済み | K13: =IF(J13="","",IF(J13="確認済み",0,1)) -> 0 | L13: =IF(COUNTA(A13:F13)=0,IF(AND(J13="",K13="",G13="",H13="",I13=""),0,1),IF(NOT(AND(ISTEXT(J13),J13=IF(COUNTA(A13:F13)=0,"",IF(NOT(AND(ISTEXT(A13),LEN(A13)=8,EXACT(LEFT(A13,4),"REC-"),ISNUMBER(FIND(MID(A13,5,1)&"x","0x1x2x3x4x5x6x7x8x9x")),ISNUMBER(FIND(MID(A13,6,1)&"x","0x1x2x3x4x5x6x7x8x9x")),ISNUMBER(FIND(MID(A13,7,1)&"x","0x1x2x3x4x5x6x7x8x9x")),ISNUMBER(FIND(MID(A13,8,1)&"x","0x1x2x3x4x5x6x7x8x9x")))),"照合行IDの形式を確認",IF(COUNTIFS($A$8:$A$57,A13)>1,"照合行IDが重複",IF(AND(COUNTA(B13)>0,NOT(AND(ISTEXT(B13),LEN(B13)=8,EXACT(LEFT(B13,4),"CUS-"),ISNUMBER(FIND(MID(B13,5,1)&"x","0x1x2x3x4x5x6x7x8x9x")),ISNUMBER(FIND(MID(B13,6,1)&"x","0x1x2x3x4x5x6x7x8x9x")),ISNUMBER(FIND(MID(B13,7,1)&"x","0x1x2x3x4x5x6x7x8x9x")),ISNUMBER(FIND(MID(B13,8,1)&"x","0x1x2x3x4x5x6x7x8x9x"))))),"照合顧客IDの形式を確認",IF(NOT(OR(C13="未確認",C13="一致確認",C13="対象外")),"確認区分を確認",IF(NOT(IF(ISNUMBER(F13),AND(F13>=43831,F13<73051,F13=INT(F13)),FALSE())),"元記録確認日は時刻なしで必須",IF(F13>照合結果!$B$3,"元記録確認日が基準日より後",IF(AND(C13<>"一致確認",COUNTA(D13:E13)>0),"未確認/対象外の確認先と一致確認日は空欄",IF(AND(C13="一致確認",COUNTA(B13)=0),"一致確認には照合顧客IDが必須",IF(AND(C13="一致確認",NOT(AND(ISTEXT(D13),LEN(D13)=8,EXACT(LEFT(D13,4),"MST-"),ISNUMBER(FIND(MID(D13,5,1)&"x","0x1x2x3x4x5x6x7x8x9x")),ISNUMBER(FIND(MID(D13,6,1)&"x","0x1x2x3x4x5x6x7x8x9x")),ISNUMBER(FIND(MID(D13,7,1)&"x","0x1x2x3x4x5x6x7x8x9x")),ISNUMBER(FIND(MID(D13,8,1)&"x","0x1x2x3x4x5x6x7x8x9x"))))),"確認先行IDの形式を確認",IF(AND(C13="一致確認",COUNTIFS(顧客マスター!$A$8:$A$57,D13)<>1),"確認先行が未登録/重複",IF(IF(C13="一致確認",INDEX(顧客マスター!$B$8:$B$57,MATCH(D13,顧客マスター!$A$8:$A$57,0))<>B13,FALSE()),"確認先の顧客IDが一致しません",IF(IF(C13="一致確認",INDEX(顧客マスター!$C$8:$C$57,MATCH(D13,顧客マスター!$A$8:$A$57,0))<>"有効",FALSE()),"確認先の台帳区分を確認",IF(AND(C13="一致確認",NOT(IF(ISNUMBER(E13),AND(E13>=43831,E13<73051,E13=INT(E13)),FALSE()))),"一致確認日は時刻なしで必須",IF(IF(C13="一致確認",OR(E13>F13,E13<INDEX(顧客マスター!$D$8:$D$57,MATCH(D13,顧客マスター!$A$8:$A$57,0))),FALSE()),"台帳確認日≦一致確認日≦元記録確認日を確認","確認済み"))))))))))))))),ISNUMBER(K13),K13=IF(J13="確認済み",0,1))),1,IF(K13<>0,0,IF(AND(IF(COUNTA(B13)=0,ISTEXT(G13),ISNUMBER(G13)),G13=IF(COUNTA(B13)=0,"",COUNTIFS(顧客マスター!$B$8:$B$57,B13)),ISTEXT(H13),H13=IF(AND(COUNTA(B13)>0,G13=1),INDEX(顧客マスター!$A$8:$A$57,MATCH(B13,顧客マスター!$B$8:$B$57,0)),""),ISTEXT(I13),I13=IF(C13="対象外","対象外",IF(照合結果!$E$3<>"確認済","体系未確認",IF(COUNTA(B13)=0,"キー未確認",IF(C13="一致確認","一致確認",IF(G13=0,"候補なし",IF(G13>1,"複数候補",IF(INDEX(顧客マスター!$C$8:$C$57,MATCH(B13,顧客マスター!$B$8:$B$57,0))<>"有効","台帳要確認","単一候補")))))))),0,1)))) -> 0
A14: REC-0007 | B14: CUS-0005 | C14: 対象外 | F14: 46311 | G14: =IF(J14="","",IF(K14<>0,NA(),IF(COUNTA(B14)=0,"",COUNTIFS(顧客マスター!$B$8:$B$57,B14)))) -> 1 | H14: =IF(J14="","",IF(K14<>0,NA(),IF(AND(COUNTA(B14)>0,G14=1),INDEX(顧客マスター!$A$8:$A$57,MATCH(B14,顧客マスター!$B$8:$B$57,0)),""))) -> MST-0006 | I14: =IF(J14="","",IF(K14<>0,NA(),IF(C14="対象外","対象外",IF(照合結果!$E$3<>"確認済","体系未確認",IF(COUNTA(B14)=0,"キー未確認",IF(C14="一致確認","一致確認",IF(G14=0,"候補なし",IF(G14>1,"複数候補",IF(INDEX(顧客マスター!$C$8:$C$57,MATCH(B14,顧客マスター!$B$8:$B$57,0))<>"有効","台帳要確認","単一候補"))))))))) -> 対象外 | J14: =IF(COUNTA(A14:F14)=0,"",IF(NOT(AND(ISTEXT(A14),LEN(A14)=8,EXACT(LEFT(A14,4),"REC-"),ISNUMBER(FIND(MID(A14,5,1)&"x","0x1x2x3x4x5x6x7x8x9x")),ISNUMBER(FIND(MID(A14,6,1)&"x","0x1x2x3x4x5x6x7x8x9x")),ISNUMBER(FIND(MID(A14,7,1)&"x","0x1x2x3x4x5x6x7x8x9x")),ISNUMBER(FIND(MID(A14,8,1)&"x","0x1x2x3x4x5x6x7x8x9x")))),"照合行IDの形式を確認",IF(COUNTIFS($A$8:$A$57,A14)>1,"照合行IDが重複",IF(AND(COUNTA(B14)>0,NOT(AND(ISTEXT(B14),LEN(B14)=8,EXACT(LEFT(B14,4),"CUS-"),ISNUMBER(FIND(MID(B14,5,1)&"x","0x1x2x3x4x5x6x7x8x9x")),ISNUMBER(FIND(MID(B14,6,1)&"x","0x1x2x3x4x5x6x7x8x9x")),ISNUMBER(FIND(MID(B14,7,1)&"x","0x1x2x3x4x5x6x7x8x9x")),ISNUMBER(FIND(MID(B14,8,1)&"x","0x1x2x3x4x5x6x7x8x9x"))))),"照合顧客IDの形式を確認",IF(NOT(OR(C14="未確認",C14="一致確認",C14="対象外")),"確認区分を確認",IF(NOT(IF(ISNUMBER(F14),AND(F14>=43831,F14<73051,F14=INT(F14)),FALSE())),"元記録確認日は時刻なしで必須",IF(F14>照合結果!$B$3,"元記録確認日が基準日より後",IF(AND(C14<>"一致確認",COUNTA(D14:E14)>0),"未確認/対象外の確認先と一致確認日は空欄",IF(AND(C14="一致確認",COUNTA(B14)=0),"一致確認には照合顧客IDが必須",IF(AND(C14="一致確認",NOT(AND(ISTEXT(D14),LEN(D14)=8,EXACT(LEFT(D14,4),"MST-"),ISNUMBER(FIND(MID(D14,5,1)&"x","0x1x2x3x4x5x6x7x8x9x")),ISNUMBER(FIND(MID(D14,6,1)&"x","0x1x2x3x4x5x6x7x8x9x")),ISNUMBER(FIND(MID(D14,7,1)&"x","0x1x2x3x4x5x6x7x8x9x")),ISNUMBER(FIND(MID(D14,8,1)&"x","0x1x2x3x4x5x6x7x8x9x"))))),"確認先行IDの形式を確認",IF(AND(C14="一致確認",COUNTIFS(顧客マスター!$A$8:$A$57,D14)<>1),"確認先行が未登録/重複",IF(IF(C14="一致確認",INDEX(顧客マスター!$B$8:$B$57,MATCH(D14,顧客マスター!$A$8:$A$57,0))<>B14,FALSE()),"確認先の顧客IDが一致しません",IF(IF(C14="一致確認",INDEX(顧客マスター!$C$8:$C$57,MATCH(D14,顧客マスター!$A$8:$A$57,0))<>"有効",FALSE()),"確認先の台帳区分を確認",IF(AND(C14="一致確認",NOT(IF(ISNUMBER(E14),AND(E14>=43831,E14<73051,E14=INT(E14)),FALSE()))),"一致確認日は時刻なしで必須",IF(IF(C14="一致確認",OR(E14>F14,E14<INDEX(顧客マスター!$D$8:$D$57,MATCH(D14,顧客マスター!$A$8:$A$57,0))),FALSE()),"台帳確認日≦一致確認日≦元記録確認日を確認","確認済み"))))))))))))))) -> 確認済み | K14: =IF(J14="","",IF(J14="確認済み",0,1)) -> 0 | L14: =IF(COUNTA(A14:F14)=0,IF(AND(J14="",K14="",G14="",H14="",I14=""),0,1),IF(NOT(AND(ISTEXT(J14),J14=IF(COUNTA(A14:F14)=0,"",IF(NOT(AND(ISTEXT(A14),LEN(A14)=8,EXACT(LEFT(A14,4),"REC-"),ISNUMBER(FIND(MID(A14,5,1)&"x","0x1x2x3x4x5x6x7x8x9x")),ISNUMBER(FIND(MID(A14,6,1)&"x","0x1x2x3x4x5x6x7x8x9x")),ISNUMBER(FIND(MID(A14,7,1)&"x","0x1x2x3x4x5x6x7x8x9x")),ISNUMBER(FIND(MID(A14,8,1)&"x","0x1x2x3x4x5x6x7x8x9x")))),"照合行IDの形式を確認",IF(COUNTIFS($A$8:$A$57,A14)>1,"照合行IDが重複",IF(AND(COUNTA(B14)>0,NOT(AND(ISTEXT(B14),LEN(B14)=8,EXACT(LEFT(B14,4),"CUS-"),ISNUMBER(FIND(MID(B14,5,1)&"x","0x1x2x3x4x5x6x7x8x9x")),ISNUMBER(FIND(MID(B14,6,1)&"x","0x1x2x3x4x5x6x7x8x9x")),ISNUMBER(FIND(MID(B14,7,1)&"x","0x1x2x3x4x5x6x7x8x9x")),ISNUMBER(FIND(MID(B14,8,1)&"x","0x1x2x3x4x5x6x7x8x9x"))))),"照合顧客IDの形式を確認",IF(NOT(OR(C14="未確認",C14="一致確認",C14="対象外")),"確認区分を確認",IF(NOT(IF(ISNUMBER(F14),AND(F14>=43831,F14<73051,F14=INT(F14)),FALSE())),"元記録確認日は時刻なしで必須",IF(F14>照合結果!$B$3,"元記録確認日が基準日より後",IF(AND(C14<>"一致確認",COUNTA(D14:E14)>0),"未確認/対象外の確認先と一致確認日は空欄",IF(AND(C14="一致確認",COUNTA(B14)=0),"一致確認には照合顧客IDが必須",IF(AND(C14="一致確認",NOT(AND(ISTEXT(D14),LEN(D14)=8,EXACT(LEFT(D14,4),"MST-"),ISNUMBER(FIND(MID(D14,5,1)&"x","0x1x2x3x4x5x6x7x8x9x")),ISNUMBER(FIND(MID(D14,6,1)&"x","0x1x2x3x4x5x6x7x8x9x")),ISNUMBER(FIND(MID(D14,7,1)&"x","0x1x2x3x4x5x6x7x8x9x")),ISNUMBER(FIND(MID(D14,8,1)&"x","0x1x2x3x4x5x6x7x8x9x"))))),"確認先行IDの形式を確認",IF(AND(C14="一致確認",COUNTIFS(顧客マスター!$A$8:$A$57,D14)<>1),"確認先行が未登録/重複",IF(IF(C14="一致確認",INDEX(顧客マスター!$B$8:$B$57,MATCH(D14,顧客マスター!$A$8:$A$57,0))<>B14,FALSE()),"確認先の顧客IDが一致しません",IF(IF(C14="一致確認",INDEX(顧客マスター!$C$8:$C$57,MATCH(D14,顧客マスター!$A$8:$A$57,0))<>"有効",FALSE()),"確認先の台帳区分を確認",IF(AND(C14="一致確認",NOT(IF(ISNUMBER(E14),AND(E14>=43831,E14<73051,E14=INT(E14)),FALSE()))),"一致確認日は時刻なしで必須",IF(IF(C14="一致確認",OR(E14>F14,E14<INDEX(顧客マスター!$D$8:$D$57,MATCH(D14,顧客マスター!$A$8:$A$57,0))),FALSE()),"台帳確認日≦一致確認日≦元記録確認日を確認","確認済み"))))))))))))))),ISNUMBER(K14),K14=IF(J14="確認済み",0,1))),1,IF(K14<>0,0,IF(AND(IF(COUNTA(B14)=0,ISTEXT(G14),ISNUMBER(G14)),G14=IF(COUNTA(B14)=0,"",COUNTIFS(顧客マスター!$B$8:$B$57,B14)),ISTEXT(H14),H14=IF(AND(COUNTA(B14)>0,G14=1),INDEX(顧客マスター!$A$8:$A$57,MATCH(B14,顧客マスター!$B$8:$B$57,0)),""),ISTEXT(I14),I14=IF(C14="対象外","対象外",IF(照合結果!$E$3<>"確認済","体系未確認",IF(COUNTA(B14)=0,"キー未確認",IF(C14="一致確認","一致確認",IF(G14=0,"候補なし",IF(G14>1,"複数候補",IF(INDEX(顧客マスター!$C$8:$C$57,MATCH(B14,顧客マスター!$B$8:$B$57,0))<>"有効","台帳要確認","単一候補")))))))),0,1)))) -> 0
A15: REC-0008 | B15: CUS-0001 | C15: 未確認 | F15: 46311 | G15: =IF(J15="","",IF(K15<>0,NA(),IF(COUNTA(B15)=0,"",COUNTIFS(顧客マスター!$B$8:$B$57,B15)))) -> 1 | H15: =IF(J15="","",IF(K15<>0,NA(),IF(AND(COUNTA(B15)>0,G15=1),INDEX(顧客マスター!$A$8:$A$57,MATCH(B15,顧客マスター!$B$8:$B$57,0)),""))) -> MST-0001 | I15: =IF(J15="","",IF(K15<>0,NA(),IF(C15="対象外","対象外",IF(照合結果!$E$3<>"確認済","体系未確認",IF(COUNTA(B15)=0,"キー未確認",IF(C15="一致確認","一致確認",IF(G15=0,"候補なし",IF(G15>1,"複数候補",IF(INDEX(顧客マスター!$C$8:$C$57,MATCH(B15,顧客マスター!$B$8:$B$57,0))<>"有効","台帳要確認","単一候補"))))))))) -> 体系未確認 | J15: =IF(COUNTA(A15:F15)=0,"",IF(NOT(AND(ISTEXT(A15),LEN(A15)=8,EXACT(LEFT(A15,4),"REC-"),ISNUMBER(FIND(MID(A15,5,1)&"x","0x1x2x3x4x5x6x7x8x9x")),ISNUMBER(FIND(MID(A15,6,1)&"x","0x1x2x3x4x5x6x7x8x9x")),ISNUMBER(FIND(MID(A15,7,1)&"x","0x1x2x3x4x5x6x7x8x9x")),ISNUMBER(FIND(MID(A15,8,1)&"x","0x1x2x3x4x5x6x7x8x9x")))),"照合行IDの形式を確認",IF(COUNTIFS($A$8:$A$57,A15)>1,"照合行IDが重複",IF(AND(COUNTA(B15)>0,NOT(AND(ISTEXT(B15),LEN(B15)=8,EXACT(LEFT(B15,4),"CUS-"),ISNUMBER(FIND(MID(B15,5,1)&"x","0x1x2x3x4x5x6x7x8x9x")),ISNUMBER(FIND(MID(B15,6,1)&"x","0x1x2x3x4x5x6x7x8x9x")),ISNUMBER(FIND(MID(B15,7,1)&"x","0x1x2x3x4x5x6x7x8x9x")),ISNUMBER(FIND(MID(B15,8,1)&"x","0x1x2x3x4x5x6x7x8x9x"))))),"照合顧客IDの形式を確認",IF(NOT(OR(C15="未確認",C15="一致確認",C15="対象外")),"確認区分を確認",IF(NOT(IF(ISNUMBER(F15),AND(F15>=43831,F15<73051,F15=INT(F15)),FALSE())),"元記録確認日は時刻なしで必須",IF(F15>照合結果!$B$3,"元記録確認日が基準日より後",IF(AND(C15<>"一致確認",COUNTA(D15:E15)>0),"未確認/対象外の確認先と一致確認日は空欄",IF(AND(C15="一致確認",COUNTA(B15)=0),"一致確認には照合顧客IDが必須",IF(AND(C15="一致確認",NOT(AND(ISTEXT(D15),LEN(D15)=8,EXACT(LEFT(D15,4),"MST-"),ISNUMBER(FIND(MID(D15,5,1)&"x","0x1x2x3x4x5x6x7x8x9x")),ISNUMBER(FIND(MID(D15,6,1)&"x","0x1x2x3x4x5x6x7x8x9x")),ISNUMBER(FIND(MID(D15,7,1)&"x","0x1x2x3x4x5x6x7x8x9x")),ISNUMBER(FIND(MID(D15,8,1)&"x","0x1x2x3x4x5x6x7x8x9x"))))),"確認先行IDの形式を確認",IF(AND(C15="一致確認",COUNTIFS(顧客マスター!$A$8:$A$57,D15)<>1),"確認先行が未登録/重複",IF(IF(C15="一致確認",INDEX(顧客マスター!$B$8:$B$57,MATCH(D15,顧客マスター!$A$8:$A$57,0))<>B15,FALSE()),"確認先の顧客IDが一致しません",IF(IF(C15="一致確認",INDEX(顧客マスター!$C$8:$C$57,MATCH(D15,顧客マスター!$A$8:$A$57,0))<>"有効",FALSE()),"確認先の台帳区分を確認",IF(AND(C15="一致確認",NOT(IF(ISNUMBER(E15),AND(E15>=43831,E15<73051,E15=INT(E15)),FALSE()))),"一致確認日は時刻なしで必須",IF(IF(C15="一致確認",OR(E15>F15,E15<INDEX(顧客マスター!$D$8:$D$57,MATCH(D15,顧客マスター!$A$8:$A$57,0))),FALSE()),"台帳確認日≦一致確認日≦元記録確認日を確認","確認済み"))))))))))))))) -> 確認済み | K15: =IF(J15="","",IF(J15="確認済み",0,1)) -> 0 | L15: =IF(COUNTA(A15:F15)=0,IF(AND(J15="",K15="",G15="",H15="",I15=""),0,1),IF(NOT(AND(ISTEXT(J15),J15=IF(COUNTA(A15:F15)=0,"",IF(NOT(AND(ISTEXT(A15),LEN(A15)=8,EXACT(LEFT(A15,4),"REC-"),ISNUMBER(FIND(MID(A15,5,1)&"x","0x1x2x3x4x5x6x7x8x9x")),ISNUMBER(FIND(MID(A15,6,1)&"x","0x1x2x3x4x5x6x7x8x9x")),ISNUMBER(FIND(MID(A15,7,1)&"x","0x1x2x3x4x5x6x7x8x9x")),ISNUMBER(FIND(MID(A15,8,1)&"x","0x1x2x3x4x5x6x7x8x9x")))),"照合行IDの形式を確認",IF(COUNTIFS($A$8:$A$57,A15)>1,"照合行IDが重複",IF(AND(COUNTA(B15)>0,NOT(AND(ISTEXT(B15),LEN(B15)=8,EXACT(LEFT(B15,4),"CUS-"),ISNUMBER(FIND(MID(B15,5,1)&"x","0x1x2x3x4x5x6x7x8x9x")),ISNUMBER(FIND(MID(B15,6,1)&"x","0x1x2x3x4x5x6x7x8x9x")),ISNUMBER(FIND(MID(B15,7,1)&"x","0x1x2x3x4x5x6x7x8x9x")),ISNUMBER(FIND(MID(B15,8,1)&"x","0x1x2x3x4x5x6x7x8x9x"))))),"照合顧客IDの形式を確認",IF(NOT(OR(C15="未確認",C15="一致確認",C15="対象外")),"確認区分を確認",IF(NOT(IF(ISNUMBER(F15),AND(F15>=43831,F15<73051,F15=INT(F15)),FALSE())),"元記録確認日は時刻なしで必須",IF(F15>照合結果!$B$3,"元記録確認日が基準日より後",IF(AND(C15<>"一致確認",COUNTA(D15:E15)>0),"未確認/対象外の確認先と一致確認日は空欄",IF(AND(C15="一致確認",COUNTA(B15)=0),"一致確認には照合顧客IDが必須",IF(AND(C15="一致確認",NOT(AND(ISTEXT(D15),LEN(D15)=8,EXACT(LEFT(D15,4),"MST-"),ISNUMBER(FIND(MID(D15,5,1)&"x","0x1x2x3x4x5x6x7x8x9x")),ISNUMBER(FIND(MID(D15,6,1)&"x","0x1x2x3x4x5x6x7x8x9x")),ISNUMBER(FIND(MID(D15,7,1)&"x","0x1x2x3x4x5x6x7x8x9x")),ISNUMBER(FIND(MID(D15,8,1)&"x","0x1x2x3x4x5x6x7x8x9x"))))),"確認先行IDの形式を確認",IF(AND(C15="一致確認",COUNTIFS(顧客マスター!$A$8:$A$57,D15)<>1),"確認先行が未登録/重複",IF(IF(C15="一致確認",INDEX(顧客マスター!$B$8:$B$57,MATCH(D15,顧客マスター!$A$8:$A$57,0))<>B15,FALSE()),"確認先の顧客IDが一致しません",IF(IF(C15="一致確認",INDEX(顧客マスター!$C$8:$C$57,MATCH(D15,顧客マスター!$A$8:$A$57,0))<>"有効",FALSE()),"確認先の台帳区分を確認",IF(AND(C15="一致確認",NOT(IF(ISNUMBER(E15),AND(E15>=43831,E15<73051,E15=INT(E15)),FALSE()))),"一致確認日は時刻なしで必須",IF(IF(C15="一致確認",OR(E15>F15,E15<INDEX(顧客マスター!$D$8:$D$57,MATCH(D15,顧客マスター!$A$8:$A$57,0))),FALSE()),"台帳確認日≦一致確認日≦元記録確認日を確認","確認済み"))))))))))))))),ISNUMBER(K15),K15=IF(J15="確認済み",0,1))),1,IF(K15<>0,0,IF(AND(IF(COUNTA(B15)=0,ISTEXT(G15),ISNUMBER(G15)),G15=IF(COUNTA(B15)=0,"",COUNTIFS(顧客マスター!$B$8:$B$57,B15)),ISTEXT(H15),H15=IF(AND(COUNTA(B15)>0,G15=1),INDEX(顧客マスター!$A$8:$A$57,MATCH(B15,顧客マスター!$B$8:$B$57,0)),""),ISTEXT(I15),I15=IF(C15="対象外","対象外",IF(照合結果!$E$3<>"確認済","体系未確認",IF(COUNTA(B15)=0,"キー未確認",IF(C15="一致確認","一致確認",IF(G15=0,"候補なし",IF(G15>1,"複数候補",IF(INDEX(顧客マスター!$C$8:$C$57,MATCH(B15,顧客マスター!$B$8:$B$57,0))<>"有効","台帳要確認","単一候補")))))))),0,1)))) -> 0
G16: =IF(J16="","",IF(K16<>0,NA(),IF(COUNTA(B16)=0,"",COUNTIFS(顧客マスター!$B$8:$B$57,B16)))) | H16: =IF(J16="","",IF(K16<>0,NA(),IF(AND(COUNTA(B16)>0,G16=1),INDEX(顧客マスター!$A$8:$A$57,MATCH(B16,顧客マスター!$B$8:$B$57,0)),""))) | I16: =IF(J16="","",IF(K16<>0,NA(),IF(C16="対象外","対象外",IF(照合結果!$E$3<>"確認済","体系未確認",IF(COUNTA(B16)=0,"キー未確認",IF(C16="一致確認","一致確認",IF(G16=0,"候補なし",IF(G16>1,"複数候補",IF(INDEX(顧客マスター!$C$8:$C$57,MATCH(B16,顧客マスター!$B$8:$B$57,0))<>"有効","台帳要確認","単一候補"))))))))) | J16: =IF(COUNTA(A16:F16)=0,"",IF(NOT(AND(ISTEXT(A16),LEN(A16)=8,EXACT(LEFT(A16,4),"REC-"),ISNUMBER(FIND(MID(A16,5,1)&"x","0x1x2x3x4x5x6x7x8x9x")),ISNUMBER(FIND(MID(A16,6,1)&"x","0x1x2x3x4x5x6x7x8x9x")),ISNUMBER(FIND(MID(A16,7,1)&"x","0x1x2x3x4x5x6x7x8x9x")),ISNUMBER(FIND(MID(A16,8,1)&"x","0x1x2x3x4x5x6x7x8x9x")))),"照合行IDの形式を確認",IF(COUNTIFS($A$8:$A$57,A16)>1,"照合行IDが重複",IF(AND(COUNTA(B16)>0,NOT(AND(ISTEXT(B16),LEN(B16)=8,EXACT(LEFT(B16,4),"CUS-"),ISNUMBER(FIND(MID(B16,5,1)&"x","0x1x2x3x4x5x6x7x8x9x")),ISNUMBER(FIND(MID(B16,6,1)&"x","0x1x2x3x4x5x6x7x8x9x")),ISNUMBER(FIND(MID(B16,7,1)&"x","0x1x2x3x4x5x6x7x8x9x")),ISNUMBER(FIND(MID(B16,8,1)&"x","0x1x2x3x4x5x6x7x8x9x"))))),"照合顧客IDの形式を確認",IF(NOT(OR(C16="未確認",C16="一致確認",C16="対象外")),"確認区分を確認",IF(NOT(IF(ISNUMBER(F16),AND(F16>=43831,F16<73051,F16=INT(F16)),FALSE())),"元記録確認日は時刻なしで必須",IF(F16>照合結果!$B$3,"元記録確認日が基準日より後",IF(AND(C16<>"一致確認",COUNTA(D16:E16)>0),"未確認/対象外の確認先と一致確認日は空欄",IF(AND(C16="一致確認",COUNTA(B16)=0),"一致確認には照合顧客IDが必須",IF(AND(C16="一致確認",NOT(AND(ISTEXT(D16),LEN(D16)=8,EXACT(LEFT(D16,4),"MST-"),ISNUMBER(FIND(MID(D16,5,1)&"x","0x1x2x3x4x5x6x7x8x9x")),ISNUMBER(FIND(MID(D16,6,1)&"x","0x1x2x3x4x5x6x7x8x9x")),ISNUMBER(FIND(MID(D16,7,1)&"x","0x1x2x3x4x5x6x7x8x9x")),ISNUMBER(FIND(MID(D16,8,1)&"x","0x1x2x3x4x5x6x7x8x9x"))))),"確認先行IDの形式を確認",IF(AND(C16="一致確認",COUNTIFS(顧客マスター!$A$8:$A$57,D16)<>1),"確認先行が未登録/重複",IF(IF(C16="一致確認",INDEX(顧客マスター!$B$8:$B$57,MATCH(D16,顧客マスター!$A$8:$A$57,0))<>B16,FALSE()),"確認先の顧客IDが一致しません",IF(IF(C16="一致確認",INDEX(顧客マスター!$C$8:$C$57,MATCH(D16,顧客マスター!$A$8:$A$57,0))<>"有効",FALSE()),"確認先の台帳区分を確認",IF(AND(C16="一致確認",NOT(IF(ISNUMBER(E16),AND(E16>=43831,E16<73051,E16=INT(E16)),FALSE()))),"一致確認日は時刻なしで必須",IF(IF(C16="一致確認",OR(E16>F16,E16<INDEX(顧客マスター!$D$8:$D$57,MATCH(D16,顧客マスター!$A$8:$A$57,0))),FALSE()),"台帳確認日≦一致確認日≦元記録確認日を確認","確認済み"))))))))))))))) | K16: =IF(J16="","",IF(J16="確認済み",0,1)) | L16: =IF(COUNTA(A16:F16)=0,IF(AND(J16="",K16="",G16="",H16="",I16=""),0,1),IF(NOT(AND(ISTEXT(J16),J16=IF(COUNTA(A16:F16)=0,"",IF(NOT(AND(ISTEXT(A16),LEN(A16)=8,EXACT(LEFT(A16,4),"REC-"),ISNUMBER(FIND(MID(A16,5,1)&"x","0x1x2x3x4x5x6x7x8x9x")),ISNUMBER(FIND(MID(A16,6,1)&"x","0x1x2x3x4x5x6x7x8x9x")),ISNUMBER(FIND(MID(A16,7,1)&"x","0x1x2x3x4x5x6x7x8x9x")),ISNUMBER(FIND(MID(A16,8,1)&"x","0x1x2x3x4x5x6x7x8x9x")))),"照合行IDの形式を確認",IF(COUNTIFS($A$8:$A$57,A16)>1,"照合行IDが重複",IF(AND(COUNTA(B16)>0,NOT(AND(ISTEXT(B16),LEN(B16)=8,EXACT(LEFT(B16,4),"CUS-"),ISNUMBER(FIND(MID(B16,5,1)&"x","0x1x2x3x4x5x6x7x8x9x")),ISNUMBER(FIND(MID(B16,6,1)&"x","0x1x2x3x4x5x6x7x8x9x")),ISNUMBER(FIND(MID(B16,7,1)&"x","0x1x2x3x4x5x6x7x8x9x")),ISNUMBER(FIND(MID(B16,8,1)&"x","0x1x2x3x4x5x6x7x8x9x"))))),"照合顧客IDの形式を確認",IF(NOT(OR(C16="未確認",C16="一致確認",C16="対象外")),"確認区分を確認",IF(NOT(IF(ISNUMBER(F16),AND(F16>=43831,F16<73051,F16=INT(F16)),FALSE())),"元記録確認日は時刻なしで必須",IF(F16>照合結果!$B$3,"元記録確認日が基準日より後",IF(AND(C16<>"一致確認",COUNTA(D16:E16)>0),"未確認/対象外の確認先と一致確認日は空欄",IF(AND(C16="一致確認",COUNTA(B16)=0),"一致確認には照合顧客IDが必須",IF(AND(C16="一致確認",NOT(AND(ISTEXT(D16),LEN(D16)=8,EXACT(LEFT(D16,4),"MST-"),ISNUMBER(FIND(MID(D16,5,1)&"x","0x1x2x3x4x5x6x7x8x9x")),ISNUMBER(FIND(MID(D16,6,1)&"x","0x1x2x3x4x5x6x7x8x9x")),ISNUMBER(FIND(MID(D16,7,1)&"x","0x1x2x3x4x5x6x7x8x9x")),ISNUMBER(FIND(MID(D16,8,1)&"x","0x1x2x3x4x5x6x7x8x9x"))))),"確認先行IDの形式を確認",IF(AND(C16="一致確認",COUNTIFS(顧客マスター!$A$8:$A$57,D16)<>1),"確認先行が未登録/重複",IF(IF(C16="一致確認",INDEX(顧客マスター!$B$8:$B$57,MATCH(D16,顧客マスター!$A$8:$A$57,0))<>B16,FALSE()),"確認先の顧客IDが一致しません",IF(IF(C16="一致確認",INDEX(顧客マスター!$C$8:$C$57,MATCH(D16,顧客マスター!$A$8:$A$57,0))<>"有効",FALSE()),"確認先の台帳区分を確認",IF(AND(C16="一致確認",NOT(IF(ISNUMBER(E16),AND(E16>=43831,E16<73051,E16=INT(E16)),FALSE()))),"一致確認日は時刻なしで必須",IF(IF(C16="一致確認",OR(E16>F16,E16<INDEX(顧客マスター!$D$8:$D$57,MATCH(D16,顧客マスター!$A$8:$A$57,0))),FALSE()),"台帳確認日≦一致確認日≦元記録確認日を確認","確認済み"))))))))))))))),ISNUMBER(K16),K16=IF(J16="確認済み",0,1))),1,IF(K16<>0,0,IF(AND(IF(COUNTA(B16)=0,ISTEXT(G16),ISNUMBER(G16)),G16=IF(COUNTA(B16)=0,"",COUNTIFS(顧客マスター!$B$8:$B$57,B16)),ISTEXT(H16),H16=IF(AND(COUNTA(B16)>0,G16=1),INDEX(顧客マスター!$A$8:$A$57,MATCH(B16,顧客マスター!$B$8:$B$57,0)),""),ISTEXT(I16),I16=IF(C16="対象外","対象外",IF(照合結果!$E$3<>"確認済","体系未確認",IF(COUNTA(B16)=0,"キー未確認",IF(C16="一致確認","一致確認",IF(G16=0,"候補なし",IF(G16>1,"複数候補",IF(INDEX(顧客マスター!$C$8:$C$57,MATCH(B16,顧客マスター!$B$8:$B$57,0))<>"有効","台帳要確認","単一候補")))))))),0,1)))) -> 0
G17: =IF(J17="","",IF(K17<>0,NA(),IF(COUNTA(B17)=0,"",COUNTIFS(顧客マスター!$B$8:$B$57,B17)))) | H17: =IF(J17="","",IF(K17<>0,NA(),IF(AND(COUNTA(B17)>0,G17=1),INDEX(顧客マスター!$A$8:$A$57,MATCH(B17,顧客マスター!$B$8:$B$57,0)),""))) | I17: =IF(J17="","",IF(K17<>0,NA(),IF(C17="対象外","対象外",IF(照合結果!$E$3<>"確認済","体系未確認",IF(COUNTA(B17)=0,"キー未確認",IF(C17="一致確認","一致確認",IF(G17=0,"候補なし",IF(G17>1,"複数候補",IF(INDEX(顧客マスター!$C$8:$C$57,MATCH(B17,顧客マスター!$B$8:$B$57,0))<>"有効","台帳要確認","単一候補"))))))))) | J17: =IF(COUNTA(A17:F17)=0,"",IF(NOT(AND(ISTEXT(A17),LEN(A17)=8,EXACT(LEFT(A17,4),"REC-"),ISNUMBER(FIND(MID(A17,5,1)&"x","0x1x2x3x4x5x6x7x8x9x")),ISNUMBER(FIND(MID(A17,6,1)&"x","0x1x2x3x4x5x6x7x8x9x")),ISNUMBER(FIND(MID(A17,7,1)&"x","0x1x2x3x4x5x6x7x8x9x")),ISNUMBER(FIND(MID(A17,8,1)&"x","0x1x2x3x4x5x6x7x8x9x")))),"照合行IDの形式を確認",IF(COUNTIFS($A$8:$A$57,A17)>1,"照合行IDが重複",IF(AND(COUNTA(B17)>0,NOT(AND(ISTEXT(B17),LEN(B17)=8,EXACT(LEFT(B17,4),"CUS-"),ISNUMBER(FIND(MID(B17,5,1)&"x","0x1x2x3x4x5x6x7x8x9x")),ISNUMBER(FIND(MID(B17,6,1)&"x","0x1x2x3x4x5x6x7x8x9x")),ISNUMBER(FIND(MID(B17,7,1)&"x","0x1x2x3x4x5x6x7x8x9x")),ISNUMBER(FIND(MID(B17,8,1)&"x","0x1x2x3x4x5x6x7x8x9x"))))),"照合顧客IDの形式を確認",IF(NOT(OR(C17="未確認",C17="一致確認",C17="対象外")),"確認区分を確認",IF(NOT(IF(ISNUMBER(F17),AND(F17>=43831,F17<73051,F17=INT(F17)),FALSE())),"元記録確認日は時刻なしで必須",IF(F17>照合結果!$B$3,"元記録確認日が基準日より後",IF(AND(C17<>"一致確認",COUNTA(D17:E17)>0),"未確認/対象外の確認先と一致確認日は空欄",IF(AND(C17="一致確認",COUNTA(B17)=0),"一致確認には照合顧客IDが必須",IF(AND(C17="一致確認",NOT(AND(ISTEXT(D17),LEN(D17)=8,EXACT(LEFT(D17,4),"MST-"),ISNUMBER(FIND(MID(D17,5,1)&"x","0x1x2x3x4x5x6x7x8x9x")),ISNUMBER(FIND(MID(D17,6,1)&"x","0x1x2x3x4x5x6x7x8x9x")),ISNUMBER(FIND(MID(D17,7,1)&"x","0x1x2x3x4x5x6x7x8x9x")),ISNUMBER(FIND(MID(D17,8,1)&"x","0x1x2x3x4x5x6x7x8x9x"))))),"確認先行IDの形式を確認",IF(AND(C17="一致確認",COUNTIFS(顧客マスター!$A$8:$A$57,D17)<>1),"確認先行が未登録/重複",IF(IF(C17="一致確認",INDEX(顧客マスター!$B$8:$B$57,MATCH(D17,顧客マスター!$A$8:$A$57,0))<>B17,FALSE()),"確認先の顧客IDが一致しません",IF(IF(C17="一致確認",INDEX(顧客マスター!$C$8:$C$57,MATCH(D17,顧客マスター!$A$8:$A$57,0))<>"有効",FALSE()),"確認先の台帳区分を確認",IF(AND(C17="一致確認",NOT(IF(ISNUMBER(E17),AND(E17>=43831,E17<73051,E17=INT(E17)),FALSE()))),"一致確認日は時刻なしで必須",IF(IF(C17="一致確認",OR(E17>F17,E17<INDEX(顧客マスター!$D$8:$D$57,MATCH(D17,顧客マスター!$A$8:$A$57,0))),FALSE()),"台帳確認日≦一致確認日≦元記録確認日を確認","確認済み"))))))))))))))) | K17: =IF(J17="","",IF(J17="確認済み",0,1)) | L17: =IF(COUNTA(A17:F17)=0,IF(AND(J17="",K17="",G17="",H17="",I17=""),0,1),IF(NOT(AND(ISTEXT(J17),J17=IF(COUNTA(A17:F17)=0,"",IF(NOT(AND(ISTEXT(A17),LEN(A17)=8,EXACT(LEFT(A17,4),"REC-"),ISNUMBER(FIND(MID(A17,5,1)&"x","0x1x2x3x4x5x6x7x8x9x")),ISNUMBER(FIND(MID(A17,6,1)&"x","0x1x2x3x4x5x6x7x8x9x")),ISNUMBER(FIND(MID(A17,7,1)&"x","0x1x2x3x4x5x6x7x8x9x")),ISNUMBER(FIND(MID(A17,8,1)&"x","0x1x2x3x4x5x6x7x8x9x")))),"照合行IDの形式を確認",IF(COUNTIFS($A$8:$A$57,A17)>1,"照合行IDが重複",IF(AND(COUNTA(B17)>0,NOT(AND(ISTEXT(B17),LEN(B17)=8,EXACT(LEFT(B17,4),"CUS-"),ISNUMBER(FIND(MID(B17,5,1)&"x","0x1x2x3x4x5x6x7x8x9x")),ISNUMBER(FIND(MID(B17,6,1)&"x","0x1x2x3x4x5x6x7x8x9x")),ISNUMBER(FIND(MID(B17,7,1)&"x","0x1x2x3x4x5x6x7x8x9x")),ISNUMBER(FIND(MID(B17,8,1)&"x","0x1x2x3x4x5x6x7x8x9x"))))),"照合顧客IDの形式を確認",IF(NOT(OR(C17="未確認",C17="一致確認",C17="対象外")),"確認区分を確認",IF(NOT(IF(ISNUMBER(F17),AND(F17>=43831,F17<73051,F17=INT(F17)),FALSE())),"元記録確認日は時刻なしで必須",IF(F17>照合結果!$B$3,"元記録確認日が基準日より後",IF(AND(C17<>"一致確認",COUNTA(D17:E17)>0),"未確認/対象外の確認先と一致確認日は空欄",IF(AND(C17="一致確認",COUNTA(B17)=0),"一致確認には照合顧客IDが必須",IF(AND(C17="一致確認",NOT(AND(ISTEXT(D17),LEN(D17)=8,EXACT(LEFT(D17,4),"MST-"),ISNUMBER(FIND(MID(D17,5,1)&"x","0x1x2x3x4x5x6x7x8x9x")),ISNUMBER(FIND(MID(D17,6,1)&"x","0x1x2x3x4x5x6x7x8x9x")),ISNUMBER(FIND(MID(D17,7,1)&"x","0x1x2x3x4x5x6x7x8x9x")),ISNUMBER(FIND(MID(D17,8,1)&"x","0x1x2x3x4x5x6x7x8x9x"))))),"確認先行IDの形式を確認",IF(AND(C17="一致確認",COUNTIFS(顧客マスター!$A$8:$A$57,D17)<>1),"確認先行が未登録/重複",IF(IF(C17="一致確認",INDEX(顧客マスター!$B$8:$B$57,MATCH(D17,顧客マスター!$A$8:$A$57,0))<>B17,FALSE()),"確認先の顧客IDが一致しません",IF(IF(C17="一致確認",INDEX(顧客マスター!$C$8:$C$57,MATCH(D17,顧客マスター!$A$8:$A$57,0))<>"有効",FALSE()),"確認先の台帳区分を確認",IF(AND(C17="一致確認",NOT(IF(ISNUMBER(E17),AND(E17>=43831,E17<73051,E17=INT(E17)),FALSE()))),"一致確認日は時刻なしで必須",IF(IF(C17="一致確認",OR(E17>F17,E17<INDEX(顧客マスター!$D$8:$D$57,MATCH(D17,顧客マスター!$A$8:$A$57,0))),FALSE()),"台帳確認日≦一致確認日≦元記録確認日を確認","確認済み"))))))))))))))),ISNUMBER(K17),K17=IF(J17="確認済み",0,1))),1,IF(K17<>0,0,IF(AND(IF(COUNTA(B17)=0,ISTEXT(G17),ISNUMBER(G17)),G17=IF(COUNTA(B17)=0,"",COUNTIFS(顧客マスター!$B$8:$B$57,B17)),ISTEXT(H17),H17=IF(AND(COUNTA(B17)>0,G17=1),INDEX(顧客マスター!$A$8:$A$57,MATCH(B17,顧客マスター!$B$8:$B$57,0)),""),ISTEXT(I17),I17=IF(C17="対象外","対象外",IF(照合結果!$E$3<>"確認済","体系未確認",IF(COUNTA(B17)=0,"キー未確認",IF(C17="一致確認","一致確認",IF(G17=0,"候補なし",IF(G17>1,"複数候補",IF(INDEX(顧客マスター!$C$8:$C$57,MATCH(B17,顧客マスター!$B$8:$B$57,0))<>"有効","台帳要確認","単一候補")))))))),0,1)))) -> 0
G18: =IF(J18="","",IF(K18<>0,NA(),IF(COUNTA(B18)=0,"",COUNTIFS(顧客マスター!$B$8:$B$57,B18)))) | H18: =IF(J18="","",IF(K18<>0,NA(),IF(AND(COUNTA(B18)>0,G18=1),INDEX(顧客マスター!$A$8:$A$57,MATCH(B18,顧客マスター!$B$8:$B$57,0)),""))) | I18: =IF(J18="","",IF(K18<>0,NA(),IF(C18="対象外","対象外",IF(照合結果!$E$3<>"確認済","体系未確認",IF(COUNTA(B18)=0,"キー未確認",IF(C18="一致確認","一致確認",IF(G18=0,"候補なし",IF(G18>1,"複数候補",IF(INDEX(顧客マスター!$C$8:$C$57,MATCH(B18,顧客マスター!$B$8:$B$57,0))<>"有効","台帳要確認","単一候補"))))))))) | J18: =IF(COUNTA(A18:F18)=0,"",IF(NOT(AND(ISTEXT(A18),LEN(A18)=8,EXACT(LEFT(A18,4),"REC-"),ISNUMBER(FIND(MID(A18,5,1)&"x","0x1x2x3x4x5x6x7x8x9x")),ISNUMBER(FIND(MID(A18,6,1)&"x","0x1x2x3x4x5x6x7x8x9x")),ISNUMBER(FIND(MID(A18,7,1)&"x","0x1x2x3x4x5x6x7x8x9x")),ISNUMBER(FIND(MID(A18,8,1)&"x","0x1x2x3x4x5x6x7x8x9x")))),"照合行IDの形式を確認",IF(COUNTIFS($A$8:$A$57,A18)>1,"照合行IDが重複",IF(AND(COUNTA(B18)>0,NOT(AND(ISTEXT(B18),LEN(B18)=8,EXACT(LEFT(B18,4),"CUS-"),ISNUMBER(FIND(MID(B18,5,1)&"x","0x1x2x3x4x5x6x7x8x9x")),ISNUMBER(FIND(MID(B18,6,1)&"x","0x1x2x3x4x5x6x7x8x9x")),ISNUMBER(FIND(MID(B18,7,1)&"x","0x1x2x3x4x5x6x7x8x9x")),ISNUMBER(FIND(MID(B18,8,1)&"x","0x1x2x3x4x5x6x7x8x9x"))))),"照合顧客IDの形式を確認",IF(NOT(OR(C18="未確認",C18="一致確認",C18="対象外")),"確認区分を確認",IF(NOT(IF(ISNUMBER(F18),AND(F18>=43831,F18<73051,F18=INT(F18)),FALSE())),"元記録確認日は時刻なしで必須",IF(F18>照合結果!$B$3,"元記録確認日が基準日より後",IF(AND(C18<>"一致確認",COUNTA(D18:E18)>0),"未確認/対象外の確認先と一致確認日は空欄",IF(AND(C18="一致確認",COUNTA(B18)=0),"一致確認には照合顧客IDが必須",IF(AND(C18="一致確認",NOT(AND(ISTEXT(D18),LEN(D18)=8,EXACT(LEFT(D18,4),"MST-"),ISNUMBER(FIND(MID(D18,5,1)&"x","0x1x2x3x4x5x6x7x8x9x")),ISNUMBER(FIND(MID(D18,6,1)&"x","0x1x2x3x4x5x6x7x8x9x")),ISNUMBER(FIND(MID(D18,7,1)&"x","0x1x2x3x4x5x6x7x8x9x")),ISNUMBER(FIND(MID(D18,8,1)&"x","0x1x2x3x4x5x6x7x8x9x"))))),"確認先行IDの形式を確認",IF(AND(C18="一致確認",COUNTIFS(顧客マスター!$A$8:$A$57,D18)<>1),"確認先行が未登録/重複",IF(IF(C18="一致確認",INDEX(顧客マスター!$B$8:$B$57,MATCH(D18,顧客マスター!$A$8:$A$57,0))<>B18,FALSE()),"確認先の顧客IDが一致しません",IF(IF(C18="一致確認",INDEX(顧客マスター!$C$8:$C$57,MATCH(D18,顧客マスター!$A$8:$A$57,0))<>"有効",FALSE()),"確認先の台帳区分を確認",IF(AND(C18="一致確認",NOT(IF(ISNUMBER(E18),AND(E18>=43831,E18<73051,E18=INT(E18)),FALSE()))),"一致確認日は時刻なしで必須",IF(IF(C18="一致確認",OR(E18>F18,E18<INDEX(顧客マスター!$D$8:$D$57,MATCH(D18,顧客マスター!$A$8:$A$57,0))),FALSE()),"台帳確認日≦一致確認日≦元記録確認日を確認","確認済み"))))))))))))))) | K18: =IF(J18="","",IF(J18="確認済み",0,1)) | L18: =IF(COUNTA(A18:F18)=0,IF(AND(J18="",K18="",G18="",H18="",I18=""),0,1),IF(NOT(AND(ISTEXT(J18),J18=IF(COUNTA(A18:F18)=0,"",IF(NOT(AND(ISTEXT(A18),LEN(A18)=8,EXACT(LEFT(A18,4),"REC-"),ISNUMBER(FIND(MID(A18,5,1)&"x","0x1x2x3x4x5x6x7x8x9x")),ISNUMBER(FIND(MID(A18,6,1)&"x","0x1x2x3x4x5x6x7x8x9x")),ISNUMBER(FIND(MID(A18,7,1)&"x","0x1x2x3x4x5x6x7x8x9x")),ISNUMBER(FIND(MID(A18,8,1)&"x","0x1x2x3x4x5x6x7x8x9x")))),"照合行IDの形式を確認",IF(COUNTIFS($A$8:$A$57,A18)>1,"照合行IDが重複",IF(AND(COUNTA(B18)>0,NOT(AND(ISTEXT(B18),LEN(B18)=8,EXACT(LEFT(B18,4),"CUS-"),ISNUMBER(FIND(MID(B18,5,1)&"x","0x1x2x3x4x5x6x7x8x9x")),ISNUMBER(FIND(MID(B18,6,1)&"x","0x1x2x3x4x5x6x7x8x9x")),ISNUMBER(FIND(MID(B18,7,1)&"x","0x1x2x3x4x5x6x7x8x9x")),ISNUMBER(FIND(MID(B18,8,1)&"x","0x1x2x3x4x5x6x7x8x9x"))))),"照合顧客IDの形式を確認",IF(NOT(OR(C18="未確認",C18="一致確認",C18="対象外")),"確認区分を確認",IF(NOT(IF(ISNUMBER(F18),AND(F18>=43831,F18<73051,F18=INT(F18)),FALSE())),"元記録確認日は時刻なしで必須",IF(F18>照合結果!$B$3,"元記録確認日が基準日より後",IF(AND(C18<>"一致確認",COUNTA(D18:E18)>0),"未確認/対象外の確認先と一致確認日は空欄",IF(AND(C18="一致確認",COUNTA(B18)=0),"一致確認には照合顧客IDが必須",IF(AND(C18="一致確認",NOT(AND(ISTEXT(D18),LEN(D18)=8,EXACT(LEFT(D18,4),"MST-"),ISNUMBER(FIND(MID(D18,5,1)&"x","0x1x2x3x4x5x6x7x8x9x")),ISNUMBER(FIND(MID(D18,6,1)&"x","0x1x2x3x4x5x6x7x8x9x")),ISNUMBER(FIND(MID(D18,7,1)&"x","0x1x2x3x4x5x6x7x8x9x")),ISNUMBER(FIND(MID(D18,8,1)&"x","0x1x2x3x4x5x6x7x8x9x"))))),"確認先行IDの形式を確認",IF(AND(C18="一致確認",COUNTIFS(顧客マスター!$A$8:$A$57,D18)<>1),"確認先行が未登録/重複",IF(IF(C18="一致確認",INDEX(顧客マスター!$B$8:$B$57,MATCH(D18,顧客マスター!$A$8:$A$57,0))<>B18,FALSE()),"確認先の顧客IDが一致しません",IF(IF(C18="一致確認",INDEX(顧客マスター!$C$8:$C$57,MATCH(D18,顧客マスター!$A$8:$A$57,0))<>"有効",FALSE()),"確認先の台帳区分を確認",IF(AND(C18="一致確認",NOT(IF(ISNUMBER(E18),AND(E18>=43831,E18<73051,E18=INT(E18)),FALSE()))),"一致確認日は時刻なしで必須",IF(IF(C18="一致確認",OR(E18>F18,E18<INDEX(顧客マスター!$D$8:$D$57,MATCH(D18,顧客マスター!$A$8:$A$57,0))),FALSE()),"台帳確認日≦一致確認日≦元記録確認日を確認","確認済み"))))))))))))))),ISNUMBER(K18),K18=IF(J18="確認済み",0,1))),1,IF(K18<>0,0,IF(AND(IF(COUNTA(B18)=0,ISTEXT(G18),ISNUMBER(G18)),G18=IF(COUNTA(B18)=0,"",COUNTIFS(顧客マスター!$B$8:$B$57,B18)),ISTEXT(H18),H18=IF(AND(COUNTA(B18)>0,G18=1),INDEX(顧客マスター!$A$8:$A$57,MATCH(B18,顧客マスター!$B$8:$B$57,0)),""),ISTEXT(I18),I18=IF(C18="対象外","対象外",IF(照合結果!$E$3<>"確認済","体系未確認",IF(COUNTA(B18)=0,"キー未確認",IF(C18="一致確認","一致確認",IF(G18=0,"候補なし",IF(G18>1,"複数候補",IF(INDEX(顧客マスター!$C$8:$C$57,MATCH(B18,顧客マスター!$B$8:$B$57,0))<>"有効","台帳要確認","単一候補")))))))),0,1)))) -> 0
G19: =IF(J19="","",IF(K19<>0,NA(),IF(COUNTA(B19)=0,"",COUNTIFS(顧客マスター!$B$8:$B$57,B19)))) | H19: =IF(J19="","",IF(K19<>0,NA(),IF(AND(COUNTA(B19)>0,G19=1),INDEX(顧客マスター!$A$8:$A$57,MATCH(B19,顧客マスター!$B$8:$B$57,0)),""))) | I19: =IF(J19="","",IF(K19<>0,NA(),IF(C19="対象外","対象外",IF(照合結果!$E$3<>"確認済","体系未確認",IF(COUNTA(B19)=0,"キー未確認",IF(C19="一致確認","一致確認",IF(G19=0,"候補なし",IF(G19>1,"複数候補",IF(INDEX(顧客マスター!$C$8:$C$57,MATCH(B19,顧客マスター!$B$8:$B$57,0))<>"有効","台帳要確認","単一候補"))))))))) | J19: =IF(COUNTA(A19:F19)=0,"",IF(NOT(AND(ISTEXT(A19),LEN(A19)=8,EXACT(LEFT(A19,4),"REC-"),ISNUMBER(FIND(MID(A19,5,1)&"x","0x1x2x3x4x5x6x7x8x9x")),ISNUMBER(FIND(MID(A19,6,1)&"x","0x1x2x3x4x5x6x7x8x9x")),ISNUMBER(FIND(MID(A19,7,1)&"x","0x1x2x3x4x5x6x7x8x9x")),ISNUMBER(FIND(MID(A19,8,1)&"x","0x1x2x3x4x5x6x7x8x9x")))),"照合行IDの形式を確認",IF(COUNTIFS($A$8:$A$57,A19)>1,"照合行IDが重複",IF(AND(COUNTA(B19)>0,NOT(AND(ISTEXT(B19),LEN(B19)=8,EXACT(LEFT(B19,4),"CUS-"),ISNUMBER(FIND(MID(B19,5,1)&"x","0x1x2x3x4x5x6x7x8x9x")),ISNUMBER(FIND(MID(B19,6,1)&"x","0x1x2x3x4x5x6x7x8x9x")),ISNUMBER(FIND(MID(B19,7,1)&"x","0x1x2x3x4x5x6x7x8x9x")),ISNUMBER(FIND(MID(B19,8,1)&"x","0x1x2x3x4x5x6x7x8x9x"))))),"照合顧客IDの形式を確認",IF(NOT(OR(C19="未確認",C19="一致確認",C19="対象外")),"確認区分を確認",IF(NOT(IF(ISNUMBER(F19),AND(F19>=43831,F19<73051,F19=INT(F19)),FALSE())),"元記録確認日は時刻なしで必須",IF(F19>照合結果!$B$3,"元記録確認日が基準日より後",IF(AND(C19<>"一致確認",COUNTA(D19:E19)>0),"未確認/対象外の確認先と一致確認日は空欄",IF(AND(C19="一致確認",COUNTA(B19)=0),"一致確認には照合顧客IDが必須",IF(AND(C19="一致確認",NOT(AND(ISTEXT(D19),LEN(D19)=8,EXACT(LEFT(D19,4),"MST-"),ISNUMBER(FIND(MID(D19,5,1)&"x","0x1x2x3x4x5x6x7x8x9x")),ISNUMBER(FIND(MID(D19,6,1)&"x","0x1x2x3x4x5x6x7x8x9x")),ISNUMBER(FIND(MID(D19,7,1)&"x","0x1x2x3x4x5x6x7x8x9x")),ISNUMBER(FIND(MID(D19,8,1)&"x","0x1x2x3x4x5x6x7x8x9x"))))),"確認先行IDの形式を確認",IF(AND(C19="一致確認",COUNTIFS(顧客マスター!$A$8:$A$57,D19)<>1),"確認先行が未登録/重複",IF(IF(C19="一致確認",INDEX(顧客マスター!$B$8:$B$57,MATCH(D19,顧客マスター!$A$8:$A$57,0))<>B19,FALSE()),"確認先の顧客IDが一致しません",IF(IF(C19="一致確認",INDEX(顧客マスター!$C$8:$C$57,MATCH(D19,顧客マスター!$A$8:$A$57,0))<>"有効",FALSE()),"確認先の台帳区分を確認",IF(AND(C19="一致確認",NOT(IF(ISNUMBER(E19),AND(E19>=43831,E19<73051,E19=INT(E19)),FALSE()))),"一致確認日は時刻なしで必須",IF(IF(C19="一致確認",OR(E19>F19,E19<INDEX(顧客マスター!$D$8:$D$57,MATCH(D19,顧客マスター!$A$8:$A$57,0))),FALSE()),"台帳確認日≦一致確認日≦元記録確認日を確認","確認済み"))))))))))))))) | K19: =IF(J19="","",IF(J19="確認済み",0,1)) | L19: =IF(COUNTA(A19:F19)=0,IF(AND(J19="",K19="",G19="",H19="",I19=""),0,1),IF(NOT(AND(ISTEXT(J19),J19=IF(COUNTA(A19:F19)=0,"",IF(NOT(AND(ISTEXT(A19),LEN(A19)=8,EXACT(LEFT(A19,4),"REC-"),ISNUMBER(FIND(MID(A19,5,1)&"x","0x1x2x3x4x5x6x7x8x9x")),ISNUMBER(FIND(MID(A19,6,1)&"x","0x1x2x3x4x5x6x7x8x9x")),ISNUMBER(FIND(MID(A19,7,1)&"x","0x1x2x3x4x5x6x7x8x9x")),ISNUMBER(FIND(MID(A19,8,1)&"x","0x1x2x3x4x5x6x7x8x9x")))),"照合行IDの形式を確認",IF(COUNTIFS($A$8:$A$57,A19)>1,"照合行IDが重複",IF(AND(COUNTA(B19)>0,NOT(AND(ISTEXT(B19),LEN(B19)=8,EXACT(LEFT(B19,4),"CUS-"),ISNUMBER(FIND(MID(B19,5,1)&"x","0x1x2x3x4x5x6x7x8x9x")),ISNUMBER(FIND(MID(B19,6,1)&"x","0x1x2x3x4x5x6x7x8x9x")),ISNUMBER(FIND(MID(B19,7,1)&"x","0x1x2x3x4x5x6x7x8x9x")),ISNUMBER(FIND(MID(B19,8,1)&"x","0x1x2x3x4x5x6x7x8x9x"))))),"照合顧客IDの形式を確認",IF(NOT(OR(C19="未確認",C19="一致確認",C19="対象外")),"確認区分を確認",IF(NOT(IF(ISNUMBER(F19),AND(F19>=43831,F19<73051,F19=INT(F19)),FALSE())),"元記録確認日は時刻なしで必須",IF(F19>照合結果!$B$3,"元記録確認日が基準日より後",IF(AND(C19<>"一致確認",COUNTA(D19:E19)>0),"未確認/対象外の確認先と一致確認日は空欄",IF(AND(C19="一致確認",COUNTA(B19)=0),"一致確認には照合顧客IDが必須",IF(AND(C19="一致確認",NOT(AND(ISTEXT(D19),LEN(D19)=8,EXACT(LEFT(D19,4),"MST-"),ISNUMBER(FIND(MID(D19,5,1)&"x","0x1x2x3x4x5x6x7x8x9x")),ISNUMBER(FIND(MID(D19,6,1)&"x","0x1x2x3x4x5x6x7x8x9x")),ISNUMBER(FIND(MID(D19,7,1)&"x","0x1x2x3x4x5x6x7x8x9x")),ISNUMBER(FIND(MID(D19,8,1)&"x","0x1x2x3x4x5x6x7x8x9x"))))),"確認先行IDの形式を確認",IF(AND(C19="一致確認",COUNTIFS(顧客マスター!$A$8:$A$57,D19)<>1),"確認先行が未登録/重複",IF(IF(C19="一致確認",INDEX(顧客マスター!$B$8:$B$57,MATCH(D19,顧客マスター!$A$8:$A$57,0))<>B19,FALSE()),"確認先の顧客IDが一致しません",IF(IF(C19="一致確認",INDEX(顧客マスター!$C$8:$C$57,MATCH(D19,顧客マスター!$A$8:$A$57,0))<>"有効",FALSE()),"確認先の台帳区分を確認",IF(AND(C19="一致確認",NOT(IF(ISNUMBER(E19),AND(E19>=43831,E19<73051,E19=INT(E19)),FALSE()))),"一致確認日は時刻なしで必須",IF(IF(C19="一致確認",OR(E19>F19,E19<INDEX(顧客マスター!$D$8:$D$57,MATCH(D19,顧客マスター!$A$8:$A$57,0))),FALSE()),"台帳確認日≦一致確認日≦元記録確認日を確認","確認済み"))))))))))))))),ISNUMBER(K19),K19=IF(J19="確認済み",0,1))),1,IF(K19<>0,0,IF(AND(IF(COUNTA(B19)=0,ISTEXT(G19),ISNUMBER(G19)),G19=IF(COUNTA(B19)=0,"",COUNTIFS(顧客マスター!$B$8:$B$57,B19)),ISTEXT(H19),H19=IF(AND(COUNTA(B19)>0,G19=1),INDEX(顧客マスター!$A$8:$A$57,MATCH(B19,顧客マスター!$B$8:$B$57,0)),""),ISTEXT(I19),I19=IF(C19="対象外","対象外",IF(照合結果!$E$3<>"確認済","体系未確認",IF(COUNTA(B19)=0,"キー未確認",IF(C19="一致確認","一致確認",IF(G19=0,"候補なし",IF(G19>1,"複数候補",IF(INDEX(顧客マスター!$C$8:$C$57,MATCH(B19,顧客マスター!$B$8:$B$57,0))<>"有効","台帳要確認","単一候補")))))))),0,1)))) -> 0
G20: =IF(J20="","",IF(K20<>0,NA(),IF(COUNTA(B20)=0,"",COUNTIFS(顧客マスター!$B$8:$B$57,B20)))) | H20: =IF(J20="","",IF(K20<>0,NA(),IF(AND(COUNTA(B20)>0,G20=1),INDEX(顧客マスター!$A$8:$A$57,MATCH(B20,顧客マスター!$B$8:$B$57,0)),""))) | I20: =IF(J20="","",IF(K20<>0,NA(),IF(C20="対象外","対象外",IF(照合結果!$E$3<>"確認済","体系未確認",IF(COUNTA(B20)=0,"キー未確認",IF(C20="一致確認","一致確認",IF(G20=0,"候補なし",IF(G20>1,"複数候補",IF(INDEX(顧客マスター!$C$8:$C$57,MATCH(B20,顧客マスター!$B$8:$B$57,0))<>"有効","台帳要確認","単一候補"))))))))) | J20: =IF(COUNTA(A20:F20)=0,"",IF(NOT(AND(ISTEXT(A20),LEN(A20)=8,EXACT(LEFT(A20,4),"REC-"),ISNUMBER(FIND(MID(A20,5,1)&"x","0x1x2x3x4x5x6x7x8x9x")),ISNUMBER(FIND(MID(A20,6,1)&"x","0x1x2x3x4x5x6x7x8x9x")),ISNUMBER(FIND(MID(A20,7,1)&"x","0x1x2x3x4x5x6x7x8x9x")),ISNUMBER(FIND(MID(A20,8,1)&"x","0x1x2x3x4x5x6x7x8x9x")))),"照合行IDの形式を確認",IF(COUNTIFS($A$8:$A$57,A20)>1,"照合行IDが重複",IF(AND(COUNTA(B20)>0,NOT(AND(ISTEXT(B20),LEN(B20)=8,EXACT(LEFT(B20,4),"CUS-"),ISNUMBER(FIND(MID(B20,5,1)&"x","0x1x2x3x4x5x6x7x8x9x")),ISNUMBER(FIND(MID(B20,6,1)&"x","0x1x2x3x4x5x6x7x8x9x")),ISNUMBER(FIND(MID(B20,7,1)&"x","0x1x2x3x4x5x6x7x8x9x")),ISNUMBER(FIND(MID(B20,8,1)&"x","0x1x2x3x4x5x6x7x8x9x"))))),"照合顧客IDの形式を確認",IF(NOT(OR(C20="未確認",C20="一致確認",C20="対象外")),"確認区分を確認",IF(NOT(IF(ISNUMBER(F20),AND(F20>=43831,F20<73051,F20=INT(F20)),FALSE())),"元記録確認日は時刻なしで必須",IF(F20>照合結果!$B$3,"元記録確認日が基準日より後",IF(AND(C20<>"一致確認",COUNTA(D20:E20)>0),"未確認/対象外の確認先と一致確認日は空欄",IF(AND(C20="一致確認",COUNTA(B20)=0),"一致確認には照合顧客IDが必須",IF(AND(C20="一致確認",NOT(AND(ISTEXT(D20),LEN(D20)=8,EXACT(LEFT(D20,4),"MST-"),ISNUMBER(FIND(MID(D20,5,1)&"x","0x1x2x3x4x5x6x7x8x9x")),ISNUMBER(FIND(MID(D20,6,1)&"x","0x1x2x3x4x5x6x7x8x9x")),ISNUMBER(FIND(MID(D20,7,1)&"x","0x1x2x3x4x5x6x7x8x9x")),ISNUMBER(FIND(MID(D20,8,1)&"x","0x1x2x3x4x5x6x7x8x9x"))))),"確認先行IDの形式を確認",IF(AND(C20="一致確認",COUNTIFS(顧客マスター!$A$8:$A$57,D20)<>1),"確認先行が未登録/重複",IF(IF(C20="一致確認",INDEX(顧客マスター!$B$8:$B$57,MATCH(D20,顧客マスター!$A$8:$A$57,0))<>B20,FALSE()),"確認先の顧客IDが一致しません",IF(IF(C20="一致確認",INDEX(顧客マスター!$C$8:$C$57,MATCH(D20,顧客マスター!$A$8:$A$57,0))<>"有効",FALSE()),"確認先の台帳区分を確認",IF(AND(C20="一致確認",NOT(IF(ISNUMBER(E20),AND(E20>=43831,E20<73051,E20=INT(E20)),FALSE()))),"一致確認日は時刻なしで必須",IF(IF(C20="一致確認",OR(E20>F20,E20<INDEX(顧客マスター!$D$8:$D$57,MATCH(D20,顧客マスター!$A$8:$A$57,0))),FALSE()),"台帳確認日≦一致確認日≦元記録確認日を確認","確認済み"))))))))))))))) | K20: =IF(J20="","",IF(J20="確認済み",0,1)) | L20: =IF(COUNTA(A20:F20)=0,IF(AND(J20="",K20="",G20="",H20="",I20=""),0,1),IF(NOT(AND(ISTEXT(J20),J20=IF(COUNTA(A20:F20)=0,"",IF(NOT(AND(ISTEXT(A20),LEN(A20)=8,EXACT(LEFT(A20,4),"REC-"),ISNUMBER(FIND(MID(A20,5,1)&"x","0x1x2x3x4x5x6x7x8x9x")),ISNUMBER(FIND(MID(A20,6,1)&"x","0x1x2x3x4x5x6x7x8x9x")),ISNUMBER(FIND(MID(A20,7,1)&"x","0x1x2x3x4x5x6x7x8x9x")),ISNUMBER(FIND(MID(A20,8,1)&"x","0x1x2x3x4x5x6x7x8x9x")))),"照合行IDの形式を確認",IF(COUNTIFS($A$8:$A$57,A20)>1,"照合行IDが重複",IF(AND(COUNTA(B20)>0,NOT(AND(ISTEXT(B20),LEN(B20)=8,EXACT(LEFT(B20,4),"CUS-"),ISNUMBER(FIND(MID(B20,5,1)&"x","0x1x2x3x4x5x6x7x8x9x")),ISNUMBER(FIND(MID(B20,6,1)&"x","0x1x2x3x4x5x6x7x8x9x")),ISNUMBER(FIND(MID(B20,7,1)&"x","0x1x2x3x4x5x6x7x8x9x")),ISNUMBER(FIND(MID(B20,8,1)&"x","0x1x2x3x4x5x6x7x8x9x"))))),"照合顧客IDの形式を確認",IF(NOT(OR(C20="未確認",C20="一致確認",C20="対象外")),"確認区分を確認",IF(NOT(IF(ISNUMBER(F20),AND(F20>=43831,F20<73051,F20=INT(F20)),FALSE())),"元記録確認日は時刻なしで必須",IF(F20>照合結果!$B$3,"元記録確認日が基準日より後",IF(AND(C20<>"一致確認",COUNTA(D20:E20)>0),"未確認/対象外の確認先と一致確認日は空欄",IF(AND(C20="一致確認",COUNTA(B20)=0),"一致確認には照合顧客IDが必須",IF(AND(C20="一致確認",NOT(AND(ISTEXT(D20),LEN(D20)=8,EXACT(LEFT(D20,4),"MST-"),ISNUMBER(FIND(MID(D20,5,1)&"x","0x1x2x3x4x5x6x7x8x9x")),ISNUMBER(FIND(MID(D20,6,1)&"x","0x1x2x3x4x5x6x7x8x9x")),ISNUMBER(FIND(MID(D20,7,1)&"x","0x1x2x3x4x5x6x7x8x9x")),ISNUMBER(FIND(MID(D20,8,1)&"x","0x1x2x3x4x5x6x7x8x9x"))))),"確認先行IDの形式を確認",IF(AND(C20="一致確認",COUNTIFS(顧客マスター!$A$8:$A$57,D20)<>1),"確認先行が未登録/重複",IF(IF(C20="一致確認",INDEX(顧客マスター!$B$8:$B$57,MATCH(D20,顧客マスター!$A$8:$A$57,0))<>B20,FALSE()),"確認先の顧客IDが一致しません",IF(IF(C20="一致確認",INDEX(顧客マスター!$C$8:$C$57,MATCH(D20,顧客マスター!$A$8:$A$57,0))<>"有効",FALSE()),"確認先の台帳区分を確認",IF(AND(C20="一致確認",NOT(IF(ISNUMBER(E20),AND(E20>=43831,E20<73051,E20=INT(E20)),FALSE()))),"一致確認日は時刻なしで必須",IF(IF(C20="一致確認",OR(E20>F20,E20<INDEX(顧客マスター!$D$8:$D$57,MATCH(D20,顧客マスター!$A$8:$A$57,0))),FALSE()),"台帳確認日≦一致確認日≦元記録確認日を確認","確認済み"))))))))))))))),ISNUMBER(K20),K20=IF(J20="確認済み",0,1))),1,IF(K20<>0,0,IF(AND(IF(COUNTA(B20)=0,ISTEXT(G20),ISNUMBER(G20)),G20=IF(COUNTA(B20)=0,"",COUNTIFS(顧客マスター!$B$8:$B$57,B20)),ISTEXT(H20),H20=IF(AND(COUNTA(B20)>0,G20=1),INDEX(顧客マスター!$A$8:$A$57,MATCH(B20,顧客マスター!$B$8:$B$57,0)),""),ISTEXT(I20),I20=IF(C20="対象外","対象外",IF(照合結果!$E$3<>"確認済","体系未確認",IF(COUNTA(B20)=0,"キー未確認",IF(C20="一致確認","一致確認",IF(G20=0,"候補なし",IF(G20>1,"複数候補",IF(INDEX(顧客マスター!$C$8:$C$57,MATCH(B20,顧客マスター!$B$8:$B$57,0))<>"有効","台帳要確認","単一候補")))))))),0,1)))) -> 0
G21: =IF(J21="","",IF(K21<>0,NA(),IF(COUNTA(B21)=0,"",COUNTIFS(顧客マスター!$B$8:$B$57,B21)))) | H21: =IF(J21="","",IF(K21<>0,NA(),IF(AND(COUNTA(B21)>0,G21=1),INDEX(顧客マスター!$A$8:$A$57,MATCH(B21,顧客マスター!$B$8:$B$57,0)),""))) | I21: =IF(J21="","",IF(K21<>0,NA(),IF(C21="対象外","対象外",IF(照合結果!$E$3<>"確認済","体系未確認",IF(COUNTA(B21)=0,"キー未確認",IF(C21="一致確認","一致確認",IF(G21=0,"候補なし",IF(G21>1,"複数候補",IF(INDEX(顧客マスター!$C$8:$C$57,MATCH(B21,顧客マスター!$B$8:$B$57,0))<>"有効","台帳要確認","単一候補"))))))))) | J21: =IF(COUNTA(A21:F21)=0,"",IF(NOT(AND(ISTEXT(A21),LEN(A21)=8,EXACT(LEFT(A21,4),"REC-"),ISNUMBER(FIND(MID(A21,5,1)&"x","0x1x2x3x4x5x6x7x8x9x")),ISNUMBER(FIND(MID(A21,6,1)&"x","0x1x2x3x4x5x6x7x8x9x")),ISNUMBER(FIND(MID(A21,7,1)&"x","0x1x2x3x4x5x6x7x8x9x")),ISNUMBER(FIND(MID(A21,8,1)&"x","0x1x2x3x4x5x6x7x8x9x")))),"照合行IDの形式を確認",IF(COUNTIFS($A$8:$A$57,A21)>1,"照合行IDが重複",IF(AND(COUNTA(B21)>0,NOT(AND(ISTEXT(B21),LEN(B21)=8,EXACT(LEFT(B21,4),"CUS-"),ISNUMBER(FIND(MID(B21,5,1)&"x","0x1x2x3x4x5x6x7x8x9x")),ISNUMBER(FIND(MID(B21,6,1)&"x","0x1x2x3x4x5x6x7x8x9x")),ISNUMBER(FIND(MID(B21,7,1)&"x","0x1x2x3x4x5x6x7x8x9x")),ISNUMBER(FIND(MID(B21,8,1)&"x","0x1x2x3x4x5x6x7x8x9x"))))),"照合顧客IDの形式を確認",IF(NOT(OR(C21="未確認",C21="一致確認",C21="対象外")),"確認区分を確認",IF(NOT(IF(ISNUMBER(F21),AND(F21>=43831,F21<73051,F21=INT(F21)),FALSE())),"元記録確認日は時刻なしで必須",IF(F21>照合結果!$B$3,"元記録確認日が基準日より後",IF(AND(C21<>"一致確認",COUNTA(D21:E21)>0),"未確認/対象外の確認先と一致確認日は空欄",IF(AND(C21="一致確認",COUNTA(B21)=0),"一致確認には照合顧客IDが必須",IF(AND(C21="一致確認",NOT(AND(ISTEXT(D21),LEN(D21)=8,EXACT(LEFT(D21,4),"MST-"),ISNUMBER(FIND(MID(D21,5,1)&"x","0x1x2x3x4x5x6x7x8x9x")),ISNUMBER(FIND(MID(D21,6,1)&"x","0x1x2x3x4x5x6x7x8x9x")),ISNUMBER(FIND(MID(D21,7,1)&"x","0x1x2x3x4x5x6x7x8x9x")),ISNUMBER(FIND(MID(D21,8,1)&"x","0x1x2x3x4x5x6x7x8x9x"))))),"確認先行IDの形式を確認",IF(AND(C21="一致確認",COUNTIFS(顧客マスター!$A$8:$A$57,D21)<>1),"確認先行が未登録/重複",IF(IF(C21="一致確認",INDEX(顧客マスター!$B$8:$B$57,MATCH(D21,顧客マスター!$A$8:$A$57,0))<>B21,FALSE()),"確認先の顧客IDが一致しません",IF(IF(C21="一致確認",INDEX(顧客マスター!$C$8:$C$57,MATCH(D21,顧客マスター!$A$8:$A$57,0))<>"有効",FALSE()),"確認先の台帳区分を確認",IF(AND(C21="一致確認",NOT(IF(ISNUMBER(E21),AND(E21>=43831,E21<73051,E21=INT(E21)),FALSE()))),"一致確認日は時刻なしで必須",IF(IF(C21="一致確認",OR(E21>F21,E21<INDEX(顧客マスター!$D$8:$D$57,MATCH(D21,顧客マスター!$A$8:$A$57,0))),FALSE()),"台帳確認日≦一致確認日≦元記録確認日を確認","確認済み"))))))))))))))) | K21: =IF(J21="","",IF(J21="確認済み",0,1)) | L21: =IF(COUNTA(A21:F21)=0,IF(AND(J21="",K21="",G21="",H21="",I21=""),0,1),IF(NOT(AND(ISTEXT(J21),J21=IF(COUNTA(A21:F21)=0,"",IF(NOT(AND(ISTEXT(A21),LEN(A21)=8,EXACT(LEFT(A21,4),"REC-"),ISNUMBER(FIND(MID(A21,5,1)&"x","0x1x2x3x4x5x6x7x8x9x")),ISNUMBER(FIND(MID(A21,6,1)&"x","0x1x2x3x4x5x6x7x8x9x")),ISNUMBER(FIND(MID(A21,7,1)&"x","0x1x2x3x4x5x6x7x8x9x")),ISNUMBER(FIND(MID(A21,8,1)&"x","0x1x2x3x4x5x6x7x8x9x")))),"照合行IDの形式を確認",IF(COUNTIFS($A$8:$A$57,A21)>1,"照合行IDが重複",IF(AND(COUNTA(B21)>0,NOT(AND(ISTEXT(B21),LEN(B21)=8,EXACT(LEFT(B21,4),"CUS-"),ISNUMBER(FIND(MID(B21,5,1)&"x","0x1x2x3x4x5x6x7x8x9x")),ISNUMBER(FIND(MID(B21,6,1)&"x","0x1x2x3x4x5x6x7x8x9x")),ISNUMBER(FIND(MID(B21,7,1)&"x","0x1x2x3x4x5x6x7x8x9x")),ISNUMBER(FIND(MID(B21,8,1)&"x","0x1x2x3x4x5x6x7x8x9x"))))),"照合顧客IDの形式を確認",IF(NOT(OR(C21="未確認",C21="一致確認",C21="対象外")),"確認区分を確認",IF(NOT(IF(ISNUMBER(F21),AND(F21>=43831,F21<73051,F21=INT(F21)),FALSE())),"元記録確認日は時刻なしで必須",IF(F21>照合結果!$B$3,"元記録確認日が基準日より後",IF(AND(C21<>"一致確認",COUNTA(D21:E21)>0),"未確認/対象外の確認先と一致確認日は空欄",IF(AND(C21="一致確認",COUNTA(B21)=0),"一致確認には照合顧客IDが必須",IF(AND(C21="一致確認",NOT(AND(ISTEXT(D21),LEN(D21)=8,EXACT(LEFT(D21,4),"MST-"),ISNUMBER(FIND(MID(D21,5,1)&"x","0x1x2x3x4x5x6x7x8x9x")),ISNUMBER(FIND(MID(D21,6,1)&"x","0x1x2x3x4x5x6x7x8x9x")),ISNUMBER(FIND(MID(D21,7,1)&"x","0x1x2x3x4x5x6x7x8x9x")),ISNUMBER(FIND(MID(D21,8,1)&"x","0x1x2x3x4x5x6x7x8x9x"))))),"確認先行IDの形式を確認",IF(AND(C21="一致確認",COUNTIFS(顧客マスター!$A$8:$A$57,D21)<>1),"確認先行が未登録/重複",IF(IF(C21="一致確認",INDEX(顧客マスター!$B$8:$B$57,MATCH(D21,顧客マスター!$A$8:$A$57,0))<>B21,FALSE()),"確認先の顧客IDが一致しません",IF(IF(C21="一致確認",INDEX(顧客マスター!$C$8:$C$57,MATCH(D21,顧客マスター!$A$8:$A$57,0))<>"有効",FALSE()),"確認先の台帳区分を確認",IF(AND(C21="一致確認",NOT(IF(ISNUMBER(E21),AND(E21>=43831,E21<73051,E21=INT(E21)),FALSE()))),"一致確認日は時刻なしで必須",IF(IF(C21="一致確認",OR(E21>F21,E21<INDEX(顧客マスター!$D$8:$D$57,MATCH(D21,顧客マスター!$A$8:$A$57,0))),FALSE()),"台帳確認日≦一致確認日≦元記録確認日を確認","確認済み"))))))))))))))),ISNUMBER(K21),K21=IF(J21="確認済み",0,1))),1,IF(K21<>0,0,IF(AND(IF(COUNTA(B21)=0,ISTEXT(G21),ISNUMBER(G21)),G21=IF(COUNTA(B21)=0,"",COUNTIFS(顧客マスター!$B$8:$B$57,B21)),ISTEXT(H21),H21=IF(AND(COUNTA(B21)>0,G21=1),INDEX(顧客マスター!$A$8:$A$57,MATCH(B21,顧客マスター!$B$8:$B$57,0)),""),ISTEXT(I21),I21=IF(C21="対象外","対象外",IF(照合結果!$E$3<>"確認済","体系未確認",IF(COUNTA(B21)=0,"キー未確認",IF(C21="一致確認","一致確認",IF(G21=0,"候補なし",IF(G21>1,"複数候補",IF(INDEX(顧客マスター!$C$8:$C$57,MATCH(B21,顧客マスター!$B$8:$B$57,0))<>"有効","台帳要確認","単一候補")))))))),0,1)))) -> 0
G22: =IF(J22="","",IF(K22<>0,NA(),IF(COUNTA(B22)=0,"",COUNTIFS(顧客マスター!$B$8:$B$57,B22)))) | H22: =IF(J22="","",IF(K22<>0,NA(),IF(AND(COUNTA(B22)>0,G22=1),INDEX(顧客マスター!$A$8:$A$57,MATCH(B22,顧客マスター!$B$8:$B$57,0)),""))) | I22: =IF(J22="","",IF(K22<>0,NA(),IF(C22="対象外","対象外",IF(照合結果!$E$3<>"確認済","体系未確認",IF(COUNTA(B22)=0,"キー未確認",IF(C22="一致確認","一致確認",IF(G22=0,"候補なし",IF(G22>1,"複数候補",IF(INDEX(顧客マスター!$C$8:$C$57,MATCH(B22,顧客マスター!$B$8:$B$57,0))<>"有効","台帳要確認","単一候補"))))))))) | J22: =IF(COUNTA(A22:F22)=0,"",IF(NOT(AND(ISTEXT(A22),LEN(A22)=8,EXACT(LEFT(A22,4),"REC-"),ISNUMBER(FIND(MID(A22,5,1)&"x","0x1x2x3x4x5x6x7x8x9x")),ISNUMBER(FIND(MID(A22,6,1)&"x","0x1x2x3x4x5x6x7x8x9x")),ISNUMBER(FIND(MID(A22,7,1)&"x","0x1x2x3x4x5x6x7x8x9x")),ISNUMBER(FIND(MID(A22,8,1)&"x","0x1x2x3x4x5x6x7x8x9x")))),"照合行IDの形式を確認",IF(COUNTIFS($A$8:$A$57,A22)>1,"照合行IDが重複",IF(AND(COUNTA(B22)>0,NOT(AND(ISTEXT(B22),LEN(B22)=8,EXACT(LEFT(B22,4),"CUS-"),ISNUMBER(FIND(MID(B22,5,1)&"x","0x1x2x3x4x5x6x7x8x9x")),ISNUMBER(FIND(MID(B22,6,1)&"x","0x1x2x3x4x5x6x7x8x9x")),ISNUMBER(FIND(MID(B22,7,1)&"x","0x1x2x3x4x5x6x7x8x9x")),ISNUMBER(FIND(MID(B22,8,1)&"x","0x1x2x3x4x5x6x7x8x9x"))))),"照合顧客IDの形式を確認",IF(NOT(OR(C22="未確認",C22="一致確認",C22="対象外")),"確認区分を確認",IF(NOT(IF(ISNUMBER(F22),AND(F22>=43831,F22<73051,F22=INT(F22)),FALSE())),"元記録確認日は時刻なしで必須",IF(F22>照合結果!$B$3,"元記録確認日が基準日より後",IF(AND(C22<>"一致確認",COUNTA(D22:E22)>0),"未確認/対象外の確認先と一致確認日は空欄",IF(AND(C22="一致確認",COUNTA(B22)=0),"一致確認には照合顧客IDが必須",IF(AND(C22="一致確認",NOT(AND(ISTEXT(D22),LEN(D22)=8,EXACT(LEFT(D22,4),"MST-"),ISNUMBER(FIND(MID(D22,5,1)&"x","0x1x2x3x4x5x6x7x8x9x")),ISNUMBER(FIND(MID(D22,6,1)&"x","0x1x2x3x4x5x6x7x8x9x")),ISNUMBER(FIND(MID(D22,7,1)&"x","0x1x2x3x4x5x6x7x8x9x")),ISNUMBER(FIND(MID(D22,8,1)&"x","0x1x2x3x4x5x6x7x8x9x"))))),"確認先行IDの形式を確認",IF(AND(C22="一致確認",COUNTIFS(顧客マスター!$A$8:$A$57,D22)<>1),"確認先行が未登録/重複",IF(IF(C22="一致確認",INDEX(顧客マスター!$B$8:$B$57,MATCH(D22,顧客マスター!$A$8:$A$57,0))<>B22,FALSE()),"確認先の顧客IDが一致しません",IF(IF(C22="一致確認",INDEX(顧客マスター!$C$8:$C$57,MATCH(D22,顧客マスター!$A$8:$A$57,0))<>"有効",FALSE()),"確認先の台帳区分を確認",IF(AND(C22="一致確認",NOT(IF(ISNUMBER(E22),AND(E22>=43831,E22<73051,E22=INT(E22)),FALSE()))),"一致確認日は時刻なしで必須",IF(IF(C22="一致確認",OR(E22>F22,E22<INDEX(顧客マスター!$D$8:$D$57,MATCH(D22,顧客マスター!$A$8:$A$57,0))),FALSE()),"台帳確認日≦一致確認日≦元記録確認日を確認","確認済み"))))))))))))))) | K22: =IF(J22="","",IF(J22="確認済み",0,1)) | L22: =IF(COUNTA(A22:F22)=0,IF(AND(J22="",K22="",G22="",H22="",I22=""),0,1),IF(NOT(AND(ISTEXT(J22),J22=IF(COUNTA(A22:F22)=0,"",IF(NOT(AND(ISTEXT(A22),LEN(A22)=8,EXACT(LEFT(A22,4),"REC-"),ISNUMBER(FIND(MID(A22,5,1)&"x","0x1x2x3x4x5x6x7x8x9x")),ISNUMBER(FIND(MID(A22,6,1)&"x","0x1x2x3x4x5x6x7x8x9x")),ISNUMBER(FIND(MID(A22,7,1)&"x","0x1x2x3x4x5x6x7x8x9x")),ISNUMBER(FIND(MID(A22,8,1)&"x","0x1x2x3x4x5x6x7x8x9x")))),"照合行IDの形式を確認",IF(COUNTIFS($A$8:$A$57,A22)>1,"照合行IDが重複",IF(AND(COUNTA(B22)>0,NOT(AND(ISTEXT(B22),LEN(B22)=8,EXACT(LEFT(B22,4),"CUS-"),ISNUMBER(FIND(MID(B22,5,1)&"x","0x1x2x3x4x5x6x7x8x9x")),ISNUMBER(FIND(MID(B22,6,1)&"x","0x1x2x3x4x5x6x7x8x9x")),ISNUMBER(FIND(MID(B22,7,1)&"x","0x1x2x3x4x5x6x7x8x9x")),ISNUMBER(FIND(MID(B22,8,1)&"x","0x1x2x3x4x5x6x7x8x9x"))))),"照合顧客IDの形式を確認",IF(NOT(OR(C22="未確認",C22="一致確認",C22="対象外")),"確認区分を確認",IF(NOT(IF(ISNUMBER(F22),AND(F22>=43831,F22<73051,F22=INT(F22)),FALSE())),"元記録確認日は時刻なしで必須",IF(F22>照合結果!$B$3,"元記録確認日が基準日より後",IF(AND(C22<>"一致確認",COUNTA(D22:E22)>0),"未確認/対象外の確認先と一致確認日は空欄",IF(AND(C22="一致確認",COUNTA(B22)=0),"一致確認には照合顧客IDが必須",IF(AND(C22="一致確認",NOT(AND(ISTEXT(D22),LEN(D22)=8,EXACT(LEFT(D22,4),"MST-"),ISNUMBER(FIND(MID(D22,5,1)&"x","0x1x2x3x4x5x6x7x8x9x")),ISNUMBER(FIND(MID(D22,6,1)&"x","0x1x2x3x4x5x6x7x8x9x")),ISNUMBER(FIND(MID(D22,7,1)&"x","0x1x2x3x4x5x6x7x8x9x")),ISNUMBER(FIND(MID(D22,8,1)&"x","0x1x2x3x4x5x6x7x8x9x"))))),"確認先行IDの形式を確認",IF(AND(C22="一致確認",COUNTIFS(顧客マスター!$A$8:$A$57,D22)<>1),"確認先行が未登録/重複",IF(IF(C22="一致確認",INDEX(顧客マスター!$B$8:$B$57,MATCH(D22,顧客マスター!$A$8:$A$57,0))<>B22,FALSE()),"確認先の顧客IDが一致しません",IF(IF(C22="一致確認",INDEX(顧客マスター!$C$8:$C$57,MATCH(D22,顧客マスター!$A$8:$A$57,0))<>"有効",FALSE()),"確認先の台帳区分を確認",IF(AND(C22="一致確認",NOT(IF(ISNUMBER(E22),AND(E22>=43831,E22<73051,E22=INT(E22)),FALSE()))),"一致確認日は時刻なしで必須",IF(IF(C22="一致確認",OR(E22>F22,E22<INDEX(顧客マスター!$D$8:$D$57,MATCH(D22,顧客マスター!$A$8:$A$57,0))),FALSE()),"台帳確認日≦一致確認日≦元記録確認日を確認","確認済み"))))))))))))))),ISNUMBER(K22),K22=IF(J22="確認済み",0,1))),1,IF(K22<>0,0,IF(AND(IF(COUNTA(B22)=0,ISTEXT(G22),ISNUMBER(G22)),G22=IF(COUNTA(B22)=0,"",COUNTIFS(顧客マスター!$B$8:$B$57,B22)),ISTEXT(H22),H22=IF(AND(COUNTA(B22)>0,G22=1),INDEX(顧客マスター!$A$8:$A$57,MATCH(B22,顧客マスター!$B$8:$B$57,0)),""),ISTEXT(I22),I22=IF(C22="対象外","対象外",IF(照合結果!$E$3<>"確認済","体系未確認",IF(COUNTA(B22)=0,"キー未確認",IF(C22="一致確認","一致確認",IF(G22=0,"候補なし",IF(G22>1,"複数候補",IF(INDEX(顧客マスター!$C$8:$C$57,MATCH(B22,顧客マスター!$B$8:$B$57,0))<>"有効","台帳要確認","単一候補")))))))),0,1)))) -> 0
G23: =IF(J23="","",IF(K23<>0,NA(),IF(COUNTA(B23)=0,"",COUNTIFS(顧客マスター!$B$8:$B$57,B23)))) | H23: =IF(J23="","",IF(K23<>0,NA(),IF(AND(COUNTA(B23)>0,G23=1),INDEX(顧客マスター!$A$8:$A$57,MATCH(B23,顧客マスター!$B$8:$B$57,0)),""))) | I23: =IF(J23="","",IF(K23<>0,NA(),IF(C23="対象外","対象外",IF(照合結果!$E$3<>"確認済","体系未確認",IF(COUNTA(B23)=0,"キー未確認",IF(C23="一致確認","一致確認",IF(G23=0,"候補なし",IF(G23>1,"複数候補",IF(INDEX(顧客マスター!$C$8:$C$57,MATCH(B23,顧客マスター!$B$8:$B$57,0))<>"有効","台帳要確認","単一候補"))))))))) | J23: =IF(COUNTA(A23:F23)=0,"",IF(NOT(AND(ISTEXT(A23),LEN(A23)=8,EXACT(LEFT(A23,4),"REC-"),ISNUMBER(FIND(MID(A23,5,1)&"x","0x1x2x3x4x5x6x7x8x9x")),ISNUMBER(FIND(MID(A23,6,1)&"x","0x1x2x3x4x5x6x7x8x9x")),ISNUMBER(FIND(MID(A23,7,1)&"x","0x1x2x3x4x5x6x7x8x9x")),ISNUMBER(FIND(MID(A23,8,1)&"x","0x1x2x3x4x5x6x7x8x9x")))),"照合行IDの形式を確認",IF(COUNTIFS($A$8:$A$57,A23)>1,"照合行IDが重複",IF(AND(COUNTA(B23)>0,NOT(AND(ISTEXT(B23),LEN(B23)=8,EXACT(LEFT(B23,4),"CUS-"),ISNUMBER(FIND(MID(B23,5,1)&"x","0x1x2x3x4x5x6x7x8x9x")),ISNUMBER(FIND(MID(B23,6,1)&"x","0x1x2x3x4x5x6x7x8x9x")),ISNUMBER(FIND(MID(B23,7,1)&"x","0x1x2x3x4x5x6x7x8x9x")),ISNUMBER(FIND(MID(B23,8,1)&"x","0x1x2x3x4x5x6x7x8x9x"))))),"照合顧客IDの形式を確認",IF(NOT(OR(C23="未確認",C23="一致確認",C23="対象外")),"確認区分を確認",IF(NOT(IF(ISNUMBER(F23),AND(F23>=43831,F23<73051,F23=INT(F23)),FALSE())),"元記録確認日は時刻なしで必須",IF(F23>照合結果!$B$3,"元記録確認日が基準日より後",IF(AND(C23<>"一致確認",COUNTA(D23:E23)>0),"未確認/対象外の確認先と一致確認日は空欄",IF(AND(C23="一致確認",COUNTA(B23)=0),"一致確認には照合顧客IDが必須",IF(AND(C23="一致確認",NOT(AND(ISTEXT(D23),LEN(D23)=8,EXACT(LEFT(D23,4),"MST-"),ISNUMBER(FIND(MID(D23,5,1)&"x","0x1x2x3x4x5x6x7x8x9x")),ISNUMBER(FIND(MID(D23,6,1)&"x","0x1x2x3x4x5x6x7x8x9x")),ISNUMBER(FIND(MID(D23,7,1)&"x","0x1x2x3x4x5x6x7x8x9x")),ISNUMBER(FIND(MID(D23,8,1)&"x","0x1x2x3x4x5x6x7x8x9x"))))),"確認先行IDの形式を確認",IF(AND(C23="一致確認",COUNTIFS(顧客マスター!$A$8:$A$57,D23)<>1),"確認先行が未登録/重複",IF(IF(C23="一致確認",INDEX(顧客マスター!$B$8:$B$57,MATCH(D23,顧客マスター!$A$8:$A$57,0))<>B23,FALSE()),"確認先の顧客IDが一致しません",IF(IF(C23="一致確認",INDEX(顧客マスター!$C$8:$C$57,MATCH(D23,顧客マスター!$A$8:$A$57,0))<>"有効",FALSE()),"確認先の台帳区分を確認",IF(AND(C23="一致確認",NOT(IF(ISNUMBER(E23),AND(E23>=43831,E23<73051,E23=INT(E23)),FALSE()))),"一致確認日は時刻なしで必須",IF(IF(C23="一致確認",OR(E23>F23,E23<INDEX(顧客マスター!$D$8:$D$57,MATCH(D23,顧客マスター!$A$8:$A$57,0))),FALSE()),"台帳確認日≦一致確認日≦元記録確認日を確認","確認済み"))))))))))))))) | K23: =IF(J23="","",IF(J23="確認済み",0,1)) | L23: =IF(COUNTA(A23:F23)=0,IF(AND(J23="",K23="",G23="",H23="",I23=""),0,1),IF(NOT(AND(ISTEXT(J23),J23=IF(COUNTA(A23:F23)=0,"",IF(NOT(AND(ISTEXT(A23),LEN(A23)=8,EXACT(LEFT(A23,4),"REC-"),ISNUMBER(FIND(MID(A23,5,1)&"x","0x1x2x3x4x5x6x7x8x9x")),ISNUMBER(FIND(MID(A23,6,1)&"x","0x1x2x3x4x5x6x7x8x9x")),ISNUMBER(FIND(MID(A23,7,1)&"x","0x1x2x3x4x5x6x7x8x9x")),ISNUMBER(FIND(MID(A23,8,1)&"x","0x1x2x3x4x5x6x7x8x9x")))),"照合行IDの形式を確認",IF(COUNTIFS($A$8:$A$57,A23)>1,"照合行IDが重複",IF(AND(COUNTA(B23)>0,NOT(AND(ISTEXT(B23),LEN(B23)=8,EXACT(LEFT(B23,4),"CUS-"),ISNUMBER(FIND(MID(B23,5,1)&"x","0x1x2x3x4x5x6x7x8x9x")),ISNUMBER(FIND(MID(B23,6,1)&"x","0x1x2x3x4x5x6x7x8x9x")),ISNUMBER(FIND(MID(B23,7,1)&"x","0x1x2x3x4x5x6x7x8x9x")),ISNUMBER(FIND(MID(B23,8,1)&"x","0x1x2x3x4x5x6x7x8x9x"))))),"照合顧客IDの形式を確認",IF(NOT(OR(C23="未確認",C23="一致確認",C23="対象外")),"確認区分を確認",IF(NOT(IF(ISNUMBER(F23),AND(F23>=43831,F23<73051,F23=INT(F23)),FALSE())),"元記録確認日は時刻なしで必須",IF(F23>照合結果!$B$3,"元記録確認日が基準日より後",IF(AND(C23<>"一致確認",COUNTA(D23:E23)>0),"未確認/対象外の確認先と一致確認日は空欄",IF(AND(C23="一致確認",COUNTA(B23)=0),"一致確認には照合顧客IDが必須",IF(AND(C23="一致確認",NOT(AND(ISTEXT(D23),LEN(D23)=8,EXACT(LEFT(D23,4),"MST-"),ISNUMBER(FIND(MID(D23,5,1)&"x","0x1x2x3x4x5x6x7x8x9x")),ISNUMBER(FIND(MID(D23,6,1)&"x","0x1x2x3x4x5x6x7x8x9x")),ISNUMBER(FIND(MID(D23,7,1)&"x","0x1x2x3x4x5x6x7x8x9x")),ISNUMBER(FIND(MID(D23,8,1)&"x","0x1x2x3x4x5x6x7x8x9x"))))),"確認先行IDの形式を確認",IF(AND(C23="一致確認",COUNTIFS(顧客マスター!$A$8:$A$57,D23)<>1),"確認先行が未登録/重複",IF(IF(C23="一致確認",INDEX(顧客マスター!$B$8:$B$57,MATCH(D23,顧客マスター!$A$8:$A$57,0))<>B23,FALSE()),"確認先の顧客IDが一致しません",IF(IF(C23="一致確認",INDEX(顧客マスター!$C$8:$C$57,MATCH(D23,顧客マスター!$A$8:$A$57,0))<>"有効",FALSE()),"確認先の台帳区分を確認",IF(AND(C23="一致確認",NOT(IF(ISNUMBER(E23),AND(E23>=43831,E23<73051,E23=INT(E23)),FALSE()))),"一致確認日は時刻なしで必須",IF(IF(C23="一致確認",OR(E23>F23,E23<INDEX(顧客マスター!$D$8:$D$57,MATCH(D23,顧客マスター!$A$8:$A$57,0))),FALSE()),"台帳確認日≦一致確認日≦元記録確認日を確認","確認済み"))))))))))))))),ISNUMBER(K23),K23=IF(J23="確認済み",0,1))),1,IF(K23<>0,0,IF(AND(IF(COUNTA(B23)=0,ISTEXT(G23),ISNUMBER(G23)),G23=IF(COUNTA(B23)=0,"",COUNTIFS(顧客マスター!$B$8:$B$57,B23)),ISTEXT(H23),H23=IF(AND(COUNTA(B23)>0,G23=1),INDEX(顧客マスター!$A$8:$A$57,MATCH(B23,顧客マスター!$B$8:$B$57,0)),""),ISTEXT(I23),I23=IF(C23="対象外","対象外",IF(照合結果!$E$3<>"確認済","体系未確認",IF(COUNTA(B23)=0,"キー未確認",IF(C23="一致確認","一致確認",IF(G23=0,"候補なし",IF(G23>1,"複数候補",IF(INDEX(顧客マスター!$C$8:$C$57,MATCH(B23,顧客マスター!$B$8:$B$57,0))<>"有効","台帳要確認","単一候補")))))))),0,1)))) -> 0
G24: =IF(J24="","",IF(K24<>0,NA(),IF(COUNTA(B24)=0,"",COUNTIFS(顧客マスター!$B$8:$B$57,B24)))) | H24: =IF(J24="","",IF(K24<>0,NA(),IF(AND(COUNTA(B24)>0,G24=1),INDEX(顧客マスター!$A$8:$A$57,MATCH(B24,顧客マスター!$B$8:$B$57,0)),""))) | I24: =IF(J24="","",IF(K24<>0,NA(),IF(C24="対象外","対象外",IF(照合結果!$E$3<>"確認済","体系未確認",IF(COUNTA(B24)=0,"キー未確認",IF(C24="一致確認","一致確認",IF(G24=0,"候補なし",IF(G24>1,"複数候補",IF(INDEX(顧客マスター!$C$8:$C$57,MATCH(B24,顧客マスター!$B$8:$B$57,0))<>"有効","台帳要確認","単一候補"))))))))) | J24: =IF(COUNTA(A24:F24)=0,"",IF(NOT(AND(ISTEXT(A24),LEN(A24)=8,EXACT(LEFT(A24,4),"REC-"),ISNUMBER(FIND(MID(A24,5,1)&"x","0x1x2x3x4x5x6x7x8x9x")),ISNUMBER(FIND(MID(A24,6,1)&"x","0x1x2x3x4x5x6x7x8x9x")),ISNUMBER(FIND(MID(A24,7,1)&"x","0x1x2x3x4x5x6x7x8x9x")),ISNUMBER(FIND(MID(A24,8,1)&"x","0x1x2x3x4x5x6x7x8x9x")))),"照合行IDの形式を確認",IF(COUNTIFS($A$8:$A$57,A24)>1,"照合行IDが重複",IF(AND(COUNTA(B24)>0,NOT(AND(ISTEXT(B24),LEN(B24)=8,EXACT(LEFT(B24,4),"CUS-"),ISNUMBER(FIND(MID(B24,5,1)&"x","0x1x2x3x4x5x6x7x8x9x")),ISNUMBER(FIND(MID(B24,6,1)&"x","0x1x2x3x4x5x6x7x8x9x")),ISNUMBER(FIND(MID(B24,7,1)&"x","0x1x2x3x4x5x6x7x8x9x")),ISNUMBER(FIND(MID(B24,8,1)&"x","0x1x2x3x4x5x6x7x8x9x"))))),"照合顧客IDの形式を確認",IF(NOT(OR(C24="未確認",C24="一致確認",C24="対象外")),"確認区分を確認",IF(NOT(IF(ISNUMBER(F24),AND(F24>=43831,F24<73051,F24=INT(F24)),FALSE())),"元記録確認日は時刻なしで必須",IF(F24>照合結果!$B$3,"元記録確認日が基準日より後",IF(AND(C24<>"一致確認",COUNTA(D24:E24)>0),"未確認/対象外の確認先と一致確認日は空欄",IF(AND(C24="一致確認",COUNTA(B24)=0),"一致確認には照合顧客IDが必須",IF(AND(C24="一致確認",NOT(AND(ISTEXT(D24),LEN(D24)=8,EXACT(LEFT(D24,4),"MST-"),ISNUMBER(FIND(MID(D24,5,1)&"x","0x1x2x3x4x5x6x7x8x9x")),ISNUMBER(FIND(MID(D24,6,1)&"x","0x1x2x3x4x5x6x7x8x9x")),ISNUMBER(FIND(MID(D24,7,1)&"x","0x1x2x3x4x5x6x7x8x9x")),ISNUMBER(FIND(MID(D24,8,1)&"x","0x1x2x3x4x5x6x7x8x9x"))))),"確認先行IDの形式を確認",IF(AND(C24="一致確認",COUNTIFS(顧客マスター!$A$8:$A$57,D24)<>1),"確認先行が未登録/重複",IF(IF(C24="一致確認",INDEX(顧客マスター!$B$8:$B$57,MATCH(D24,顧客マスター!$A$8:$A$57,0))<>B24,FALSE()),"確認先の顧客IDが一致しません",IF(IF(C24="一致確認",INDEX(顧客マスター!$C$8:$C$57,MATCH(D24,顧客マスター!$A$8:$A$57,0))<>"有効",FALSE()),"確認先の台帳区分を確認",IF(AND(C24="一致確認",NOT(IF(ISNUMBER(E24),AND(E24>=43831,E24<73051,E24=INT(E24)),FALSE()))),"一致確認日は時刻なしで必須",IF(IF(C24="一致確認",OR(E24>F24,E24<INDEX(顧客マスター!$D$8:$D$57,MATCH(D24,顧客マスター!$A$8:$A$57,0))),FALSE()),"台帳確認日≦一致確認日≦元記録確認日を確認","確認済み"))))))))))))))) | K24: =IF(J24="","",IF(J24="確認済み",0,1)) | L24: =IF(COUNTA(A24:F24)=0,IF(AND(J24="",K24="",G24="",H24="",I24=""),0,1),IF(NOT(AND(ISTEXT(J24),J24=IF(COUNTA(A24:F24)=0,"",IF(NOT(AND(ISTEXT(A24),LEN(A24)=8,EXACT(LEFT(A24,4),"REC-"),ISNUMBER(FIND(MID(A24,5,1)&"x","0x1x2x3x4x5x6x7x8x9x")),ISNUMBER(FIND(MID(A24,6,1)&"x","0x1x2x3x4x5x6x7x8x9x")),ISNUMBER(FIND(MID(A24,7,1)&"x","0x1x2x3x4x5x6x7x8x9x")),ISNUMBER(FIND(MID(A24,8,1)&"x","0x1x2x3x4x5x6x7x8x9x")))),"照合行IDの形式を確認",IF(COUNTIFS($A$8:$A$57,A24)>1,"照合行IDが重複",IF(AND(COUNTA(B24)>0,NOT(AND(ISTEXT(B24),LEN(B24)=8,EXACT(LEFT(B24,4),"CUS-"),ISNUMBER(FIND(MID(B24,5,1)&"x","0x1x2x3x4x5x6x7x8x9x")),ISNUMBER(FIND(MID(B24,6,1)&"x","0x1x2x3x4x5x6x7x8x9x")),ISNUMBER(FIND(MID(B24,7,1)&"x","0x1x2x3x4x5x6x7x8x9x")),ISNUMBER(FIND(MID(B24,8,1)&"x","0x1x2x3x4x5x6x7x8x9x"))))),"照合顧客IDの形式を確認",IF(NOT(OR(C24="未確認",C24="一致確認",C24="対象外")),"確認区分を確認",IF(NOT(IF(ISNUMBER(F24),AND(F24>=43831,F24<73051,F24=INT(F24)),FALSE())),"元記録確認日は時刻なしで必須",IF(F24>照合結果!$B$3,"元記録確認日が基準日より後",IF(AND(C24<>"一致確認",COUNTA(D24:E24)>0),"未確認/対象外の確認先と一致確認日は空欄",IF(AND(C24="一致確認",COUNTA(B24)=0),"一致確認には照合顧客IDが必須",IF(AND(C24="一致確認",NOT(AND(ISTEXT(D24),LEN(D24)=8,EXACT(LEFT(D24,4),"MST-"),ISNUMBER(FIND(MID(D24,5,1)&"x","0x1x2x3x4x5x6x7x8x9x")),ISNUMBER(FIND(MID(D24,6,1)&"x","0x1x2x3x4x5x6x7x8x9x")),ISNUMBER(FIND(MID(D24,7,1)&"x","0x1x2x3x4x5x6x7x8x9x")),ISNUMBER(FIND(MID(D24,8,1)&"x","0x1x2x3x4x5x6x7x8x9x"))))),"確認先行IDの形式を確認",IF(AND(C24="一致確認",COUNTIFS(顧客マスター!$A$8:$A$57,D24)<>1),"確認先行が未登録/重複",IF(IF(C24="一致確認",INDEX(顧客マスター!$B$8:$B$57,MATCH(D24,顧客マスター!$A$8:$A$57,0))<>B24,FALSE()),"確認先の顧客IDが一致しません",IF(IF(C24="一致確認",INDEX(顧客マスター!$C$8:$C$57,MATCH(D24,顧客マスター!$A$8:$A$57,0))<>"有効",FALSE()),"確認先の台帳区分を確認",IF(AND(C24="一致確認",NOT(IF(ISNUMBER(E24),AND(E24>=43831,E24<73051,E24=INT(E24)),FALSE()))),"一致確認日は時刻なしで必須",IF(IF(C24="一致確認",OR(E24>F24,E24<INDEX(顧客マスター!$D$8:$D$57,MATCH(D24,顧客マスター!$A$8:$A$57,0))),FALSE()),"台帳確認日≦一致確認日≦元記録確認日を確認","確認済み"))))))))))))))),ISNUMBER(K24),K24=IF(J24="確認済み",0,1))),1,IF(K24<>0,0,IF(AND(IF(COUNTA(B24)=0,ISTEXT(G24),ISNUMBER(G24)),G24=IF(COUNTA(B24)=0,"",COUNTIFS(顧客マスター!$B$8:$B$57,B24)),ISTEXT(H24),H24=IF(AND(COUNTA(B24)>0,G24=1),INDEX(顧客マスター!$A$8:$A$57,MATCH(B24,顧客マスター!$B$8:$B$57,0)),""),ISTEXT(I24),I24=IF(C24="対象外","対象外",IF(照合結果!$E$3<>"確認済","体系未確認",IF(COUNTA(B24)=0,"キー未確認",IF(C24="一致確認","一致確認",IF(G24=0,"候補なし",IF(G24>1,"複数候補",IF(INDEX(顧客マスター!$C$8:$C$57,MATCH(B24,顧客マスター!$B$8:$B$57,0))<>"有効","台帳要確認","単一候補")))))))),0,1)))) -> 0
G25: =IF(J25="","",IF(K25<>0,NA(),IF(COUNTA(B25)=0,"",COUNTIFS(顧客マスター!$B$8:$B$57,B25)))) | H25: =IF(J25="","",IF(K25<>0,NA(),IF(AND(COUNTA(B25)>0,G25=1),INDEX(顧客マスター!$A$8:$A$57,MATCH(B25,顧客マスター!$B$8:$B$57,0)),""))) | I25: =IF(J25="","",IF(K25<>0,NA(),IF(C25="対象外","対象外",IF(照合結果!$E$3<>"確認済","体系未確認",IF(COUNTA(B25)=0,"キー未確認",IF(C25="一致確認","一致確認",IF(G25=0,"候補なし",IF(G25>1,"複数候補",IF(INDEX(顧客マスター!$C$8:$C$57,MATCH(B25,顧客マスター!$B$8:$B$57,0))<>"有効","台帳要確認","単一候補"))))))))) | J25: =IF(COUNTA(A25:F25)=0,"",IF(NOT(AND(ISTEXT(A25),LEN(A25)=8,EXACT(LEFT(A25,4),"REC-"),ISNUMBER(FIND(MID(A25,5,1)&"x","0x1x2x3x4x5x6x7x8x9x")),ISNUMBER(FIND(MID(A25,6,1)&"x","0x1x2x3x4x5x6x7x8x9x")),ISNUMBER(FIND(MID(A25,7,1)&"x","0x1x2x3x4x5x6x7x8x9x")),ISNUMBER(FIND(MID(A25,8,1)&"x","0x1x2x3x4x5x6x7x8x9x")))),"照合行IDの形式を確認",IF(COUNTIFS($A$8:$A$57,A25)>1,"照合行IDが重複",IF(AND(COUNTA(B25)>0,NOT(AND(ISTEXT(B25),LEN(B25)=8,EXACT(LEFT(B25,4),"CUS-"),ISNUMBER(FIND(MID(B25,5,1)&"x","0x1x2x3x4x5x6x7x8x9x")),ISNUMBER(FIND(MID(B25,6,1)&"x","0x1x2x3x4x5x6x7x8x9x")),ISNUMBER(FIND(MID(B25,7,1)&"x","0x1x2x3x4x5x6x7x8x9x")),ISNUMBER(FIND(MID(B25,8,1)&"x","0x1x2x3x4x5x6x7x8x9x"))))),"照合顧客IDの形式を確認",IF(NOT(OR(C25="未確認",C25="一致確認",C25="対象外")),"確認区分を確認",IF(NOT(IF(ISNUMBER(F25),AND(F25>=43831,F25<73051,F25=INT(F25)),FALSE())),"元記録確認日は時刻なしで必須",IF(F25>照合結果!$B$3,"元記録確認日が基準日より後",IF(AND(C25<>"一致確認",COUNTA(D25:E25)>0),"未確認/対象外の確認先と一致確認日は空欄",IF(AND(C25="一致確認",COUNTA(B25)=0),"一致確認には照合顧客IDが必須",IF(AND(C25="一致確認",NOT(AND(ISTEXT(D25),LEN(D25)=8,EXACT(LEFT(D25,4),"MST-"),ISNUMBER(FIND(MID(D25,5,1)&"x","0x1x2x3x4x5x6x7x8x9x")),ISNUMBER(FIND(MID(D25,6,1)&"x","0x1x2x3x4x5x6x7x8x9x")),ISNUMBER(FIND(MID(D25,7,1)&"x","0x1x2x3x4x5x6x7x8x9x")),ISNUMBER(FIND(MID(D25,8,1)&"x","0x1x2x3x4x5x6x7x8x9x"))))),"確認先行IDの形式を確認",IF(AND(C25="一致確認",COUNTIFS(顧客マスター!$A$8:$A$57,D25)<>1),"確認先行が未登録/重複",IF(IF(C25="一致確認",INDEX(顧客マスター!$B$8:$B$57,MATCH(D25,顧客マスター!$A$8:$A$57,0))<>B25,FALSE()),"確認先の顧客IDが一致しません",IF(IF(C25="一致確認",INDEX(顧客マスター!$C$8:$C$57,MATCH(D25,顧客マスター!$A$8:$A$57,0))<>"有効",FALSE()),"確認先の台帳区分を確認",IF(AND(C25="一致確認",NOT(IF(ISNUMBER(E25),AND(E25>=43831,E25<73051,E25=INT(E25)),FALSE()))),"一致確認日は時刻なしで必須",IF(IF(C25="一致確認",OR(E25>F25,E25<INDEX(顧客マスター!$D$8:$D$57,MATCH(D25,顧客マスター!$A$8:$A$57,0))),FALSE()),"台帳確認日≦一致確認日≦元記録確認日を確認","確認済み"))))))))))))))) | K25: =IF(J25="","",IF(J25="確認済み",0,1)) | L25: =IF(COUNTA(A25:F25)=0,IF(AND(J25="",K25="",G25="",H25="",I25=""),0,1),IF(NOT(AND(ISTEXT(J25),J25=IF(COUNTA(A25:F25)=0,"",IF(NOT(AND(ISTEXT(A25),LEN(A25)=8,EXACT(LEFT(A25,4),"REC-"),ISNUMBER(FIND(MID(A25,5,1)&"x","0x1x2x3x4x5x6x7x8x9x")),ISNUMBER(FIND(MID(A25,6,1)&"x","0x1x2x3x4x5x6x7x8x9x")),ISNUMBER(FIND(MID(A25,7,1)&"x","0x1x2x3x4x5x6x7x8x9x")),ISNUMBER(FIND(MID(A25,8,1)&"x","0x1x2x3x4x5x6x7x8x9x")))),"照合行IDの形式を確認",IF(COUNTIFS($A$8:$A$57,A25)>1,"照合行IDが重複",IF(AND(COUNTA(B25)>0,NOT(AND(ISTEXT(B25),LEN(B25)=8,EXACT(LEFT(B25,4),"CUS-"),ISNUMBER(FIND(MID(B25,5,1)&"x","0x1x2x3x4x5x6x7x8x9x")),ISNUMBER(FIND(MID(B25,6,1)&"x","0x1x2x3x4x5x6x7x8x9x")),ISNUMBER(FIND(MID(B25,7,1)&"x","0x1x2x3x4x5x6x7x8x9x")),ISNUMBER(FIND(MID(B25,8,1)&"x","0x1x2x3x4x5x6x7x8x9x"))))),"照合顧客IDの形式を確認",IF(NOT(OR(C25="未確認",C25="一致確認",C25="対象外")),"確認区分を確認",IF(NOT(IF(ISNUMBER(F25),AND(F25>=43831,F25<73051,F25=INT(F25)),FALSE())),"元記録確認日は時刻なしで必須",IF(F25>照合結果!$B$3,"元記録確認日が基準日より後",IF(AND(C25<>"一致確認",COUNTA(D25:E25)>0),"未確認/対象外の確認先と一致確認日は空欄",IF(AND(C25="一致確認",COUNTA(B25)=0),"一致確認には照合顧客IDが必須",IF(AND(C25="一致確認",NOT(AND(ISTEXT(D25),LEN(D25)=8,EXACT(LEFT(D25,4),"MST-"),ISNUMBER(FIND(MID(D25,5,1)&"x","0x1x2x3x4x5x6x7x8x9x")),ISNUMBER(FIND(MID(D25,6,1)&"x","0x1x2x3x4x5x6x7x8x9x")),ISNUMBER(FIND(MID(D25,7,1)&"x","0x1x2x3x4x5x6x7x8x9x")),ISNUMBER(FIND(MID(D25,8,1)&"x","0x1x2x3x4x5x6x7x8x9x"))))),"確認先行IDの形式を確認",IF(AND(C25="一致確認",COUNTIFS(顧客マスター!$A$8:$A$57,D25)<>1),"確認先行が未登録/重複",IF(IF(C25="一致確認",INDEX(顧客マスター!$B$8:$B$57,MATCH(D25,顧客マスター!$A$8:$A$57,0))<>B25,FALSE()),"確認先の顧客IDが一致しません",IF(IF(C25="一致確認",INDEX(顧客マスター!$C$8:$C$57,MATCH(D25,顧客マスター!$A$8:$A$57,0))<>"有効",FALSE()),"確認先の台帳区分を確認",IF(AND(C25="一致確認",NOT(IF(ISNUMBER(E25),AND(E25>=43831,E25<73051,E25=INT(E25)),FALSE()))),"一致確認日は時刻なしで必須",IF(IF(C25="一致確認",OR(E25>F25,E25<INDEX(顧客マスター!$D$8:$D$57,MATCH(D25,顧客マスター!$A$8:$A$57,0))),FALSE()),"台帳確認日≦一致確認日≦元記録確認日を確認","確認済み"))))))))))))))),ISNUMBER(K25),K25=IF(J25="確認済み",0,1))),1,IF(K25<>0,0,IF(AND(IF(COUNTA(B25)=0,ISTEXT(G25),ISNUMBER(G25)),G25=IF(COUNTA(B25)=0,"",COUNTIFS(顧客マスター!$B$8:$B$57,B25)),ISTEXT(H25),H25=IF(AND(COUNTA(B25)>0,G25=1),INDEX(顧客マスター!$A$8:$A$57,MATCH(B25,顧客マスター!$B$8:$B$57,0)),""),ISTEXT(I25),I25=IF(C25="対象外","対象外",IF(照合結果!$E$3<>"確認済","体系未確認",IF(COUNTA(B25)=0,"キー未確認",IF(C25="一致確認","一致確認",IF(G25=0,"候補なし",IF(G25>1,"複数候補",IF(INDEX(顧客マスター!$C$8:$C$57,MATCH(B25,顧客マスター!$B$8:$B$57,0))<>"有効","台帳要確認","単一候補")))))))),0,1)))) -> 0
G26: =IF(J26="","",IF(K26<>0,NA(),IF(COUNTA(B26)=0,"",COUNTIFS(顧客マスター!$B$8:$B$57,B26)))) | H26: =IF(J26="","",IF(K26<>0,NA(),IF(AND(COUNTA(B26)>0,G26=1),INDEX(顧客マスター!$A$8:$A$57,MATCH(B26,顧客マスター!$B$8:$B$57,0)),""))) | I26: =IF(J26="","",IF(K26<>0,NA(),IF(C26="対象外","対象外",IF(照合結果!$E$3<>"確認済","体系未確認",IF(COUNTA(B26)=0,"キー未確認",IF(C26="一致確認","一致確認",IF(G26=0,"候補なし",IF(G26>1,"複数候補",IF(INDEX(顧客マスター!$C$8:$C$57,MATCH(B26,顧客マスター!$B$8:$B$57,0))<>"有効","台帳要確認","単一候補"))))))))) | J26: =IF(COUNTA(A26:F26)=0,"",IF(NOT(AND(ISTEXT(A26),LEN(A26)=8,EXACT(LEFT(A26,4),"REC-"),ISNUMBER(FIND(MID(A26,5,1)&"x","0x1x2x3x4x5x6x7x8x9x")),ISNUMBER(FIND(MID(A26,6,1)&"x","0x1x2x3x4x5x6x7x8x9x")),ISNUMBER(FIND(MID(A26,7,1)&"x","0x1x2x3x4x5x6x7x8x9x")),ISNUMBER(FIND(MID(A26,8,1)&"x","0x1x2x3x4x5x6x7x8x9x")))),"照合行IDの形式を確認",IF(COUNTIFS($A$8:$A$57,A26)>1,"照合行IDが重複",IF(AND(COUNTA(B26)>0,NOT(AND(ISTEXT(B26),LEN(B26)=8,EXACT(LEFT(B26,4),"CUS-"),ISNUMBER(FIND(MID(B26,5,1)&"x","0x1x2x3x4x5x6x7x8x9x")),ISNUMBER(FIND(MID(B26,6,1)&"x","0x1x2x3x4x5x6x7x8x9x")),ISNUMBER(FIND(MID(B26,7,1)&"x","0x1x2x3x4x5x6x7x8x9x")),ISNUMBER(FIND(MID(B26,8,1)&"x","0x1x2x3x4x5x6x7x8x9x"))))),"照合顧客IDの形式を確認",IF(NOT(OR(C26="未確認",C26="一致確認",C26="対象外")),"確認区分を確認",IF(NOT(IF(ISNUMBER(F26),AND(F26>=43831,F26<73051,F26=INT(F26)),FALSE())),"元記録確認日は時刻なしで必須",IF(F26>照合結果!$B$3,"元記録確認日が基準日より後",IF(AND(C26<>"一致確認",COUNTA(D26:E26)>0),"未確認/対象外の確認先と一致確認日は空欄",IF(AND(C26="一致確認",COUNTA(B26)=0),"一致確認には照合顧客IDが必須",IF(AND(C26="一致確認",NOT(AND(ISTEXT(D26),LEN(D26)=8,EXACT(LEFT(D26,4),"MST-"),ISNUMBER(FIND(MID(D26,5,1)&"x","0x1x2x3x4x5x6x7x8x9x")),ISNUMBER(FIND(MID(D26,6,1)&"x","0x1x2x3x4x5x6x7x8x9x")),ISNUMBER(FIND(MID(D26,7,1)&"x","0x1x2x3x4x5x6x7x8x9x")),ISNUMBER(FIND(MID(D26,8,1)&"x","0x1x2x3x4x5x6x7x8x9x"))))),"確認先行IDの形式を確認",IF(AND(C26="一致確認",COUNTIFS(顧客マスター!$A$8:$A$57,D26)<>1),"確認先行が未登録/重複",IF(IF(C26="一致確認",INDEX(顧客マスター!$B$8:$B$57,MATCH(D26,顧客マスター!$A$8:$A$57,0))<>B26,FALSE()),"確認先の顧客IDが一致しません",IF(IF(C26="一致確認",INDEX(顧客マスター!$C$8:$C$57,MATCH(D26,顧客マスター!$A$8:$A$57,0))<>"有効",FALSE()),"確認先の台帳区分を確認",IF(AND(C26="一致確認",NOT(IF(ISNUMBER(E26),AND(E26>=43831,E26<73051,E26=INT(E26)),FALSE()))),"一致確認日は時刻なしで必須",IF(IF(C26="一致確認",OR(E26>F26,E26<INDEX(顧客マスター!$D$8:$D$57,MATCH(D26,顧客マスター!$A$8:$A$57,0))),FALSE()),"台帳確認日≦一致確認日≦元記録確認日を確認","確認済み"))))))))))))))) | K26: =IF(J26="","",IF(J26="確認済み",0,1)) | L26: =IF(COUNTA(A26:F26)=0,IF(AND(J26="",K26="",G26="",H26="",I26=""),0,1),IF(NOT(AND(ISTEXT(J26),J26=IF(COUNTA(A26:F26)=0,"",IF(NOT(AND(ISTEXT(A26),LEN(A26)=8,EXACT(LEFT(A26,4),"REC-"),ISNUMBER(FIND(MID(A26,5,1)&"x","0x1x2x3x4x5x6x7x8x9x")),ISNUMBER(FIND(MID(A26,6,1)&"x","0x1x2x3x4x5x6x7x8x9x")),ISNUMBER(FIND(MID(A26,7,1)&"x","0x1x2x3x4x5x6x7x8x9x")),ISNUMBER(FIND(MID(A26,8,1)&"x","0x1x2x3x4x5x6x7x8x9x")))),"照合行IDの形式を確認",IF(COUNTIFS($A$8:$A$57,A26)>1,"照合行IDが重複",IF(AND(COUNTA(B26)>0,NOT(AND(ISTEXT(B26),LEN(B26)=8,EXACT(LEFT(B26,4),"CUS-"),ISNUMBER(FIND(MID(B26,5,1)&"x","0x1x2x3x4x5x6x7x8x9x")),ISNUMBER(FIND(MID(B26,6,1)&"x","0x1x2x3x4x5x6x7x8x9x")),ISNUMBER(FIND(MID(B26,7,1)&"x","0x1x2x3x4x5x6x7x8x9x")),ISNUMBER(FIND(MID(B26,8,1)&"x","0x1x2x3x4x5x6x7x8x9x"))))),"照合顧客IDの形式を確認",IF(NOT(OR(C26="未確認",C26="一致確認",C26="対象外")),"確認区分を確認",IF(NOT(IF(ISNUMBER(F26),AND(F26>=43831,F26<73051,F26=INT(F26)),FALSE())),"元記録確認日は時刻なしで必須",IF(F26>照合結果!$B$3,"元記録確認日が基準日より後",IF(AND(C26<>"一致確認",COUNTA(D26:E26)>0),"未確認/対象外の確認先と一致確認日は空欄",IF(AND(C26="一致確認",COUNTA(B26)=0),"一致確認には照合顧客IDが必須",IF(AND(C26="一致確認",NOT(AND(ISTEXT(D26),LEN(D26)=8,EXACT(LEFT(D26,4),"MST-"),ISNUMBER(FIND(MID(D26,5,1)&"x","0x1x2x3x4x5x6x7x8x9x")),ISNUMBER(FIND(MID(D26,6,1)&"x","0x1x2x3x4x5x6x7x8x9x")),ISNUMBER(FIND(MID(D26,7,1)&"x","0x1x2x3x4x5x6x7x8x9x")),ISNUMBER(FIND(MID(D26,8,1)&"x","0x1x2x3x4x5x6x7x8x9x"))))),"確認先行IDの形式を確認",IF(AND(C26="一致確認",COUNTIFS(顧客マスター!$A$8:$A$57,D26)<>1),"確認先行が未登録/重複",IF(IF(C26="一致確認",INDEX(顧客マスター!$B$8:$B$57,MATCH(D26,顧客マスター!$A$8:$A$57,0))<>B26,FALSE()),"確認先の顧客IDが一致しません",IF(IF(C26="一致確認",INDEX(顧客マスター!$C$8:$C$57,MATCH(D26,顧客マスター!$A$8:$A$57,0))<>"有効",FALSE()),"確認先の台帳区分を確認",IF(AND(C26="一致確認",NOT(IF(ISNUMBER(E26),AND(E26>=43831,E26<73051,E26=INT(E26)),FALSE()))),"一致確認日は時刻なしで必須",IF(IF(C26="一致確認",OR(E26>F26,E26<INDEX(顧客マスター!$D$8:$D$57,MATCH(D26,顧客マスター!$A$8:$A$57,0))),FALSE()),"台帳確認日≦一致確認日≦元記録確認日を確認","確認済み"))))))))))))))),ISNUMBER(K26),K26=IF(J26="確認済み",0,1))),1,IF(K26<>0,0,IF(AND(IF(COUNTA(B26)=0,ISTEXT(G26),ISNUMBER(G26)),G26=IF(COUNTA(B26)=0,"",COUNTIFS(顧客マスター!$B$8:$B$57,B26)),ISTEXT(H26),H26=IF(AND(COUNTA(B26)>0,G26=1),INDEX(顧客マスター!$A$8:$A$57,MATCH(B26,顧客マスター!$B$8:$B$57,0)),""),ISTEXT(I26),I26=IF(C26="対象外","対象外",IF(照合結果!$E$3<>"確認済","体系未確認",IF(COUNTA(B26)=0,"キー未確認",IF(C26="一致確認","一致確認",IF(G26=0,"候補なし",IF(G26>1,"複数候補",IF(INDEX(顧客マスター!$C$8:$C$57,MATCH(B26,顧客マスター!$B$8:$B$57,0))<>"有効","台帳要確認","単一候補")))))))),0,1)))) -> 0
G27: =IF(J27="","",IF(K27<>0,NA(),IF(COUNTA(B27)=0,"",COUNTIFS(顧客マスター!$B$8:$B$57,B27)))) | H27: =IF(J27="","",IF(K27<>0,NA(),IF(AND(COUNTA(B27)>0,G27=1),INDEX(顧客マスター!$A$8:$A$57,MATCH(B27,顧客マスター!$B$8:$B$57,0)),""))) | I27: =IF(J27="","",IF(K27<>0,NA(),IF(C27="対象外","対象外",IF(照合結果!$E$3<>"確認済","体系未確認",IF(COUNTA(B27)=0,"キー未確認",IF(C27="一致確認","一致確認",IF(G27=0,"候補なし",IF(G27>1,"複数候補",IF(INDEX(顧客マスター!$C$8:$C$57,MATCH(B27,顧客マスター!$B$8:$B$57,0))<>"有効","台帳要確認","単一候補"))))))))) | J27: =IF(COUNTA(A27:F27)=0,"",IF(NOT(AND(ISTEXT(A27),LEN(A27)=8,EXACT(LEFT(A27,4),"REC-"),ISNUMBER(FIND(MID(A27,5,1)&"x","0x1x2x3x4x5x6x7x8x9x")),ISNUMBER(FIND(MID(A27,6,1)&"x","0x1x2x3x4x5x6x7x8x9x")),ISNUMBER(FIND(MID(A27,7,1)&"x","0x1x2x3x4x5x6x7x8x9x")),ISNUMBER(FIND(MID(A27,8,1)&"x","0x1x2x3x4x5x6x7x8x9x")))),"照合行IDの形式を確認",IF(COUNTIFS($A$8:$A$57,A27)>1,"照合行IDが重複",IF(AND(COUNTA(B27)>0,NOT(AND(ISTEXT(B27),LEN(B27)=8,EXACT(LEFT(B27,4),"CUS-"),ISNUMBER(FIND(MID(B27,5,1)&"x","0x1x2x3x4x5x6x7x8x9x")),ISNUMBER(FIND(MID(B27,6,1)&"x","0x1x2x3x4x5x6x7x8x9x")),ISNUMBER(FIND(MID(B27,7,1)&"x","0x1x2x3x4x5x6x7x8x9x")),ISNUMBER(FIND(MID(B27,8,1)&"x","0x1x2x3x4x5x6x7x8x9x"))))),"照合顧客IDの形式を確認",IF(NOT(OR(C27="未確認",C27="一致確認",C27="対象外")),"確認区分を確認",IF(NOT(IF(ISNUMBER(F27),AND(F27>=43831,F27<73051,F27=INT(F27)),FALSE())),"元記録確認日は時刻なしで必須",IF(F27>照合結果!$B$3,"元記録確認日が基準日より後",IF(AND(C27<>"一致確認",COUNTA(D27:E27)>0),"未確認/対象外の確認先と一致確認日は空欄",IF(AND(C27="一致確認",COUNTA(B27)=0),"一致確認には照合顧客IDが必須",IF(AND(C27="一致確認",NOT(AND(ISTEXT(D27),LEN(D27)=8,EXACT(LEFT(D27,4),"MST-"),ISNUMBER(FIND(MID(D27,5,1)&"x","0x1x2x3x4x5x6x7x8x9x")),ISNUMBER(FIND(MID(D27,6,1)&"x","0x1x2x3x4x5x6x7x8x9x")),ISNUMBER(FIND(MID(D27,7,1)&"x","0x1x2x3x4x5x6x7x8x9x")),ISNUMBER(FIND(MID(D27,8,1)&"x","0x1x2x3x4x5x6x7x8x9x"))))),"確認先行IDの形式を確認",IF(AND(C27="一致確認",COUNTIFS(顧客マスター!$A$8:$A$57,D27)<>1),"確認先行が未登録/重複",IF(IF(C27="一致確認",INDEX(顧客マスター!$B$8:$B$57,MATCH(D27,顧客マスター!$A$8:$A$57,0))<>B27,FALSE()),"確認先の顧客IDが一致しません",IF(IF(C27="一致確認",INDEX(顧客マスター!$C$8:$C$57,MATCH(D27,顧客マスター!$A$8:$A$57,0))<>"有効",FALSE()),"確認先の台帳区分を確認",IF(AND(C27="一致確認",NOT(IF(ISNUMBER(E27),AND(E27>=43831,E27<73051,E27=INT(E27)),FALSE()))),"一致確認日は時刻なしで必須",IF(IF(C27="一致確認",OR(E27>F27,E27<INDEX(顧客マスター!$D$8:$D$57,MATCH(D27,顧客マスター!$A$8:$A$57,0))),FALSE()),"台帳確認日≦一致確認日≦元記録確認日を確認","確認済み"))))))))))))))) | K27: =IF(J27="","",IF(J27="確認済み",0,1)) | L27: =IF(COUNTA(A27:F27)=0,IF(AND(J27="",K27="",G27="",H27="",I27=""),0,1),IF(NOT(AND(ISTEXT(J27),J27=IF(COUNTA(A27:F27)=0,"",IF(NOT(AND(ISTEXT(A27),LEN(A27)=8,EXACT(LEFT(A27,4),"REC-"),ISNUMBER(FIND(MID(A27,5,1)&"x","0x1x2x3x4x5x6x7x8x9x")),ISNUMBER(FIND(MID(A27,6,1)&"x","0x1x2x3x4x5x6x7x8x9x")),ISNUMBER(FIND(MID(A27,7,1)&"x","0x1x2x3x4x5x6x7x8x9x")),ISNUMBER(FIND(MID(A27,8,1)&"x","0x1x2x3x4x5x6x7x8x9x")))),"照合行IDの形式を確認",IF(COUNTIFS($A$8:$A$57,A27)>1,"照合行IDが重複",IF(AND(COUNTA(B27)>0,NOT(AND(ISTEXT(B27),LEN(B27)=8,EXACT(LEFT(B27,4),"CUS-"),ISNUMBER(FIND(MID(B27,5,1)&"x","0x1x2x3x4x5x6x7x8x9x")),ISNUMBER(FIND(MID(B27,6,1)&"x","0x1x2x3x4x5x6x7x8x9x")),ISNUMBER(FIND(MID(B27,7,1)&"x","0x1x2x3x4x5x6x7x8x9x")),ISNUMBER(FIND(MID(B27,8,1)&"x","0x1x2x3x4x5x6x7x8x9x"))))),"照合顧客IDの形式を確認",IF(NOT(OR(C27="未確認",C27="一致確認",C27="対象外")),"確認区分を確認",IF(NOT(IF(ISNUMBER(F27),AND(F27>=43831,F27<73051,F27=INT(F27)),FALSE())),"元記録確認日は時刻なしで必須",IF(F27>照合結果!$B$3,"元記録確認日が基準日より後",IF(AND(C27<>"一致確認",COUNTA(D27:E27)>0),"未確認/対象外の確認先と一致確認日は空欄",IF(AND(C27="一致確認",COUNTA(B27)=0),"一致確認には照合顧客IDが必須",IF(AND(C27="一致確認",NOT(AND(ISTEXT(D27),LEN(D27)=8,EXACT(LEFT(D27,4),"MST-"),ISNUMBER(FIND(MID(D27,5,1)&"x","0x1x2x3x4x5x6x7x8x9x")),ISNUMBER(FIND(MID(D27,6,1)&"x","0x1x2x3x4x5x6x7x8x9x")),ISNUMBER(FIND(MID(D27,7,1)&"x","0x1x2x3x4x5x6x7x8x9x")),ISNUMBER(FIND(MID(D27,8,1)&"x","0x1x2x3x4x5x6x7x8x9x"))))),"確認先行IDの形式を確認",IF(AND(C27="一致確認",COUNTIFS(顧客マスター!$A$8:$A$57,D27)<>1),"確認先行が未登録/重複",IF(IF(C27="一致確認",INDEX(顧客マスター!$B$8:$B$57,MATCH(D27,顧客マスター!$A$8:$A$57,0))<>B27,FALSE()),"確認先の顧客IDが一致しません",IF(IF(C27="一致確認",INDEX(顧客マスター!$C$8:$C$57,MATCH(D27,顧客マスター!$A$8:$A$57,0))<>"有効",FALSE()),"確認先の台帳区分を確認",IF(AND(C27="一致確認",NOT(IF(ISNUMBER(E27),AND(E27>=43831,E27<73051,E27=INT(E27)),FALSE()))),"一致確認日は時刻なしで必須",IF(IF(C27="一致確認",OR(E27>F27,E27<INDEX(顧客マスター!$D$8:$D$57,MATCH(D27,顧客マスター!$A$8:$A$57,0))),FALSE()),"台帳確認日≦一致確認日≦元記録確認日を確認","確認済み"))))))))))))))),ISNUMBER(K27),K27=IF(J27="確認済み",0,1))),1,IF(K27<>0,0,IF(AND(IF(COUNTA(B27)=0,ISTEXT(G27),ISNUMBER(G27)),G27=IF(COUNTA(B27)=0,"",COUNTIFS(顧客マスター!$B$8:$B$57,B27)),ISTEXT(H27),H27=IF(AND(COUNTA(B27)>0,G27=1),INDEX(顧客マスター!$A$8:$A$57,MATCH(B27,顧客マスター!$B$8:$B$57,0)),""),ISTEXT(I27),I27=IF(C27="対象外","対象外",IF(照合結果!$E$3<>"確認済","体系未確認",IF(COUNTA(B27)=0,"キー未確認",IF(C27="一致確認","一致確認",IF(G27=0,"候補なし",IF(G27>1,"複数候補",IF(INDEX(顧客マスター!$C$8:$C$57,MATCH(B27,顧客マスター!$B$8:$B$57,0))<>"有効","台帳要確認","単一候補")))))))),0,1)))) -> 0
... G57: =IF(J57="","",IF(K57<>0,NA(),IF(COUNTA(B57)=0,"",COUNTIFS(顧客マスター!$B$8:$B$57,B57)))) | H57: =IF(J57="","",IF(K57<>0,NA(),IF(AND(COUNTA(B57)>0,G57=1),INDEX(顧客マスター!$A$8:$A$57,MATCH(B57,顧客マスター!$B$8:$B$57,0)),""))) | I57: =IF(J57="","",IF(K57<>0,NA(),IF(C57="対象外","対象外",IF(照合結果!$E$3<>"確認済","体系未確認",IF(COUNTA(B57)=0,"キー未確認",IF(C57="一致確認","一致確認",IF(G57=0,"候補なし",IF(G57>1,"複数候補",IF(INDEX(顧客マスター!$C$8:$C$57,MATCH(B57,顧客マスター!$B$8:$B$57,0))<>"有効","台帳要確認","単一候補"))))))))) | J57: =IF(COUNTA(A57:F57)=0,"",IF(NOT(AND(ISTEXT(A57),LEN(A57)=8,EXACT(LEFT(A57,4),"REC-"),ISNUMBER(FIND(MID(A57,5,1)&"x","0x1x2x3x4x5x6x7x8x9x")),ISNUMBER(FIND(MID(A57,6,1)&"x","0x1x2x3x4x5x6x7x8x9x")),ISNUMBER(FIND(MID(A57,7,1)&"x","0x1x2x3x4x5x6x7x8x9x")),ISNUMBER(FIND(MID(A57,8,1)&"x","0x1x2x3x4x5x6x7x8x9x")))),"照合行IDの形式を確認",IF(COUNTIFS($A$8:$A$57,A57)>1,"照合行IDが重複",IF(AND(COUNTA(B57)>0,NOT(AND(ISTEXT(B57),LEN(B57)=8,EXACT(LEFT(B57,4),"CUS-"),ISNUMBER(FIND(MID(B57,5,1)&"x","0x1x2x3x4x5x6x7x8x9x")),ISNUMBER(FIND(MID(B57,6,1)&"x","0x1x2x3x4x5x6x7x8x9x")),ISNUMBER(FIND(MID(B57,7,1)&"x","0x1x2x3x4x5x6x7x8x9x")),ISNUMBER(FIND(MID(B57,8,1)&"x","0x1x2x3x4x5x6x7x8x9x"))))),"照合顧客IDの形式を確認",IF(NOT(OR(C57="未確認",C57="一致確認",C57="対象外")),"確認区分を確認",IF(NOT(IF(ISNUMBER(F57),AND(F57>=43831,F57<73051,F57=INT(F57)),FALSE())),"元記録確認日は時刻なしで必須",IF(F57>照合結果!$B$3,"元記録確認日が基準日より後",IF(AND(C57<>"一致確認",COUNTA(D57:E57)>0),"未確認/対象外の確認先と一致確認日は空欄",IF(AND(C57="一致確認",COUNTA(B57)=0),"一致確認には照合顧客IDが必須",IF(AND(C57="一致確認",NOT(AND(ISTEXT(D57),LEN(D57)=8,EXACT(LEFT(D57,4),"MST-"),ISNUMBER(FIND(MID(D57,5,1)&"x","0x1x2x3x4x5x6x7x8x9x")),ISNUMBER(FIND(MID(D57,6,1)&"x","0x1x2x3x4x5x6x7x8x9x")),ISNUMBER(FIND(MID(D57,7,1)&"x","0x1x2x3x4x5x6x7x8x9x")),ISNUMBER(FIND(MID(D57,8,1)&"x","0x1x2x3x4x5x6x7x8x9x"))))),"確認先行IDの形式を確認",IF(AND(C57="一致確認",COUNTIFS(顧客マスター!$A$8:$A$57,D57)<>1),"確認先行が未登録/重複",IF(IF(C57="一致確認",INDEX(顧客マスター!$B$8:$B$57,MATCH(D57,顧客マスター!$A$8:$A$57,0))<>B57,FALSE()),"確認先の顧客IDが一致しません",IF(IF(C57="一致確認",INDEX(顧客マスター!$C$8:$C$57,MATCH(D57,顧客マスター!$A$8:$A$57,0))<>"有効",FALSE()),"確認先の台帳区分を確認",IF(AND(C57="一致確認",NOT(IF(ISNUMBER(E57),AND(E57>=43831,E57<73051,E57=INT(E57)),FALSE()))),"一致確認日は時刻なしで必須",IF(IF(C57="一致確認",OR(E57>F57,E57<INDEX(顧客マスター!$D$8:$D$57,MATCH(D57,顧客マスター!$A$8:$A$57,0))),FALSE()),"台帳確認日≦一致確認日≦元記録確認日を確認","確認済み"))))))))))))))) | K57: =IF(J57="","",IF(J57="確認済み",0,1)) | L57: =IF(COUNTA(A57:F57)=0,IF(AND(J57="",K57="",G57="",H57="",I57=""),0,1),IF(NOT(AND(ISTEXT(J57),J57=IF(COUNTA(A57:F57)=0,"",IF(NOT(AND(ISTEXT(A57),LEN(A57)=8,EXACT(LEFT(A57,4),"REC-"),ISNUMBER(FIND(MID(A57,5,1)&"x","0x1x2x3x4x5x6x7x8x9x")),ISNUMBER(FIND(MID(A57,6,1)&"x","0x1x2x3x4x5x6x7x8x9x")),ISNUMBER(FIND(MID(A57,7,1)&"x","0x1x2x3x4x5x6x7x8x9x")),ISNUMBER(FIND(MID(A57,8,1)&"x","0x1x2x3x4x5x6x7x8x9x")))),"照合行IDの形式を確認",IF(COUNTIFS($A$8:$A$57,A57)>1,"照合行IDが重複",IF(AND(COUNTA(B57)>0,NOT(AND(ISTEXT(B57),LEN(B57)=8,EXACT(LEFT(B57,4),"CUS-"),ISNUMBER(FIND(MID(B57,5,1)&"x","0x1x2x3x4x5x6x7x8x9x")),ISNUMBER(FIND(MID(B57,6,1)&"x","0x1x2x3x4x5x6x7x8x9x")),ISNUMBER(FIND(MID(B57,7,1)&"x","0x1x2x3x4x5x6x7x8x9x")),ISNUMBER(FIND(MID(B57,8,1)&"x","0x1x2x3x4x5x6x7x8x9x"))))),"照合顧客IDの形式を確認",IF(NOT(OR(C57="未確認",C57="一致確認",C57="対象外")),"確認区分を確認",IF(NOT(IF(ISNUMBER(F57),AND(F57>=43831,F57<73051,F57=INT(F57)),FALSE())),"元記録確認日は時刻なしで必須",IF(F57>照合結果!$B$3,"元記録確認日が基準日より後",IF(AND(C57<>"一致確認",COUNTA(D57:E57)>0),"未確認/対象外の確認先と一致確認日は空欄",IF(AND(C57="一致確認",COUNTA(B57)=0),"一致確認には照合顧客IDが必須",IF(AND(C57="一致確認",NOT(AND(ISTEXT(D57),LEN(D57)=8,EXACT(LEFT(D57,4),"MST-"),ISNUMBER(FIND(MID(D57,5,1)&"x","0x1x2x3x4x5x6x7x8x9x")),ISNUMBER(FIND(MID(D57,6,1)&"x","0x1x2x3x4x5x6x7x8x9x")),ISNUMBER(FIND(MID(D57,7,1)&"x","0x1x2x3x4x5x6x7x8x9x")),ISNUMBER(FIND(MID(D57,8,1)&"x","0x1x2x3x4x5x6x7x8x9x"))))),"確認先行IDの形式を確認",IF(AND(C57="一致確認",COUNTIFS(顧客マスター!$A$8:$A$57,D57)<>1),"確認先行が未登録/重複",IF(IF(C57="一致確認",INDEX(顧客マスター!$B$8:$B$57,MATCH(D57,顧客マスター!$A$8:$A$57,0))<>B57,FALSE()),"確認先の顧客IDが一致しません",IF(IF(C57="一致確認",INDEX(顧客マスター!$C$8:$C$57,MATCH(D57,顧客マスター!$A$8:$A$57,0))<>"有効",FALSE()),"確認先の台帳区分を確認",IF(AND(C57="一致確認",NOT(IF(ISNUMBER(E57),AND(E57>=43831,E57<73051,E57=INT(E57)),FALSE()))),"一致確認日は時刻なしで必須",IF(IF(C57="一致確認",OR(E57>F57,E57<INDEX(顧客マスター!$D$8:$D$57,MATCH(D57,顧客マスター!$A$8:$A$57,0))),FALSE()),"台帳確認日≦一致確認日≦元記録確認日を確認","確認済み"))))))))))))))),ISNUMBER(K57),K57=IF(J57="確認済み",0,1))),1,IF(K57<>0,0,IF(AND(IF(COUNTA(B57)=0,ISTEXT(G57),ISNUMBER(G57)),G57=IF(COUNTA(B57)=0,"",COUNTIFS(顧客マスター!$B$8:$B$57,B57)),ISTEXT(H57),H57=IF(AND(COUNTA(B57)>0,G57=1),INDEX(顧客マスター!$A$8:$A$57,MATCH(B57,顧客マスター!$B$8:$B$57,0)),""),ISTEXT(I57),I57=IF(C57="対象外","対象外",IF(照合結果!$E$3<>"確認済","体系未確認",IF(COUNTA(B57)=0,"キー未確認",IF(C57="一致確認","一致確認",IF(G57=0,"候補なし",IF(G57>1,"複数候補",IF(INDEX(顧客マスター!$C$8:$C$57,MATCH(B57,顧客マスター!$B$8:$B$57,0))<>"有効","台帳要確認","単一候補")))))))),0,1)))) -> 0
A61: 架空教材。50照合行/50マスター行。氏名・社名・連絡先を照合キーにせず、元記録は別途保管。
A62: ID体系の確認は初期未確認。照合元と台帳で同じ発行元・体系のIDか、人が元記録で確かめます。
A63: IDの候補数と手動の一致確認は別。候補が1件でも同一顧客や本人確認の証明ではありません。
A64: 同じ顧客IDの複数行を残し、先頭行を自動採用しません。確認先行は根拠のあるMST-行IDで指定。
A65: 未確認/対象外は確認先行と一致確認日を空欄。候補なし・キー未確認を0のIDで埋めません。
A66: 台帳区分が有効の確認先だけを一致確認に使います。有効を連絡許諾やアクセス権にしません。
A67: 台帳確認日≦一致確認日≦元記録確認日≦基準日。全日付2020〜2099年/時刻なし。
A68: 現在の元記録と台帳の照合です。基準日だけを過去へ変えて変更履歴を復元しません。
A69: 同名/表記ゆれの推定、個人の同定、名寄せ/自動統合/削除、CRM同期や任意ファイル取込は扱いません。
A70: 照合結果のみ印刷。初期A1:H17（8行）、50行A1:H59。版1/CC0 https://creativecommons.org/publicdomain/zero/1.0/
A71: 一次情報確認2026-10-16 https://support.microsoft.com/en-us/excel/functions/countifs-function
A72: https://support.microsoft.com/en-us/excel/functions/index-function https://support.microsoft.com/en-us/excel/functions/match-function

Sheet 顧客マスター
A2: 顧客マスターの行を原本どおりに置く
A3: 黄色A〜Dへ50行。MST-の行IDは一意。同じCUS-が複数あっても消去・統合しません。
A5: 有効は台帳の区分で、本人確認・連絡の許諾・アクセス権の証明ではありません。
A7: マスター行ID | B7: 顧客ID | C7: 台帳区分 | D7: 記録確認日 | E7: 入力の確認 | F7: 入力不備 | G7: 計算の前提
A8: MST-0001 | B8: CUS-0001 | C8: 有効 | D8: 46310 | E8: =IF(COUNTA(A8:D8)=0,"",IF(NOT(AND(ISTEXT(A8),LEN(A8)=8,EXACT(LEFT(A8,4),"MST-"),ISNUMBER(FIND(MID(A8,5,1)&"x","0x1x2x3x4x5x6x7x8x9x")),ISNUMBER(FIND(MID(A8,6,1)&"x","0x1x2x3x4x5x6x7x8x9x")),ISNUMBER(FIND(MID(A8,7,1)&"x","0x1x2x3x4x5x6x7x8x9x")),ISNUMBER(FIND(MID(A8,8,1)&"x","0x1x2x3x4x5x6x7x8x9x")))),"マスター行IDの形式を確認",IF(COUNTIFS($A$8:$A$57,A8)>1,"マスター行IDが重複",IF(NOT(AND(ISTEXT(B8),LEN(B8)=8,EXACT(LEFT(B8,4),"CUS-"),ISNUMBER(FIND(MID(B8,5,1)&"x","0x1x2x3x4x5x6x7x8x9x")),ISNUMBER(FIND(MID(B8,6,1)&"x","0x1x2x3x4x5x6x7x8x9x")),ISNUMBER(FIND(MID(B8,7,1)&"x","0x1x2x3x4x5x6x7x8x9x")),ISNUMBER(FIND(MID(B8,8,1)&"x","0x1x2x3x4x5x6x7x8x9x")))),"顧客IDの形式を確認",IF(NOT(OR(C8="有効",C8="保留",C8="終了",C8="未確認")),"台帳区分を確認",IF(NOT(IF(ISNUMBER(D8),AND(D8>=43831,D8<73051,D8=INT(D8)),FALSE())),"記録確認日は時刻なしで必須",IF(D8>照合結果!$B$3,"記録確認日が基準日より後","確認済み"))))))) -> 確認済み | F8: =IF(E8="","",IF(E8="確認済み",0,1)) -> 0 | G8: =IF(E8<>IF(COUNTA(A8:D8)=0,"",IF(NOT(AND(ISTEXT(A8),LEN(A8)=8,EXACT(LEFT(A8,4),"MST-"),ISNUMBER(FIND(MID(A8,5,1)&"x","0x1x2x3x4x5x6x7x8x9x")),ISNUMBER(FIND(MID(A8,6,1)&"x","0x1x2x3x4x5x6x7x8x9x")),ISNUMBER(FIND(MID(A8,7,1)&"x","0x1x2x3x4x5x6x7x8x9x")),ISNUMBER(FIND(MID(A8,8,1)&"x","0x1x2x3x4x5x6x7x8x9x")))),"マスター行IDの形式を確認",IF(COUNTIFS($A$8:$A$57,A8)>1,"マスター行IDが重複",IF(NOT(AND(ISTEXT(B8),LEN(B8)=8,EXACT(LEFT(B8,4),"CUS-"),ISNUMBER(FIND(MID(B8,5,1)&"x","0x1x2x3x4x5x6x7x8x9x")),ISNUMBER(FIND(MID(B8,6,1)&"x","0x1x2x3x4x5x6x7x8x9x")),ISNUMBER(FIND(MID(B8,7,1)&"x","0x1x2x3x4x5x6x7x8x9x")),ISNUMBER(FIND(MID(B8,8,1)&"x","0x1x2x3x4x5x6x7x8x9x")))),"顧客IDの形式を確認",IF(NOT(OR(C8="有効",C8="保留",C8="終了",C8="未確認")),"台帳区分を確認",IF(NOT(IF(ISNUMBER(D8),AND(D8>=43831,D8<73051,D8=INT(D8)),FALSE())),"記録確認日は時刻なしで必須",IF(D8>照合結果!$B$3,"記録確認日が基準日より後","確認済み"))))))),1,IF(COUNTA(A8:D8)=0,IF(F8="",0,1),IF(AND(ISNUMBER(F8),F8=IF(E8="確認済み",0,1)),0,1))) -> 0
A9: MST-0002 | B9: CUS-0002 | C9: 有効 | D9: 46310 | E9: =IF(COUNTA(A9:D9)=0,"",IF(NOT(AND(ISTEXT(A9),LEN(A9)=8,EXACT(LEFT(A9,4),"MST-"),ISNUMBER(FIND(MID(A9,5,1)&"x","0x1x2x3x4x5x6x7x8x9x")),ISNUMBER(FIND(MID(A9,6,1)&"x","0x1x2x3x4x5x6x7x8x9x")),ISNUMBER(FIND(MID(A9,7,1)&"x","0x1x2x3x4x5x6x7x8x9x")),ISNUMBER(FIND(MID(A9,8,1)&"x","0x1x2x3x4x5x6x7x8x9x")))),"マスター行IDの形式を確認",IF(COUNTIFS($A$8:$A$57,A9)>1,"マスター行IDが重複",IF(NOT(AND(ISTEXT(B9),LEN(B9)=8,EXACT(LEFT(B9,4),"CUS-"),ISNUMBER(FIND(MID(B9,5,1)&"x","0x1x2x3x4x5x6x7x8x9x")),ISNUMBER(FIND(MID(B9,6,1)&"x","0x1x2x3x4x5x6x7x8x9x")),ISNUMBER(FIND(MID(B9,7,1)&"x","0x1x2x3x4x5x6x7x8x9x")),ISNUMBER(FIND(MID(B9,8,1)&"x","0x1x2x3x4x5x6x7x8x9x")))),"顧客IDの形式を確認",IF(NOT(OR(C9="有効",C9="保留",C9="終了",C9="未確認")),"台帳区分を確認",IF(NOT(IF(ISNUMBER(D9),AND(D9>=43831,D9<73051,D9=INT(D9)),FALSE())),"記録確認日は時刻なしで必須",IF(D9>照合結果!$B$3,"記録確認日が基準日より後","確認済み"))))))) -> 確認済み | F9: =IF(E9="","",IF(E9="確認済み",0,1)) -> 0 | G9: =IF(E9<>IF(COUNTA(A9:D9)=0,"",IF(NOT(AND(ISTEXT(A9),LEN(A9)=8,EXACT(LEFT(A9,4),"MST-"),ISNUMBER(FIND(MID(A9,5,1)&"x","0x1x2x3x4x5x6x7x8x9x")),ISNUMBER(FIND(MID(A9,6,1)&"x","0x1x2x3x4x5x6x7x8x9x")),ISNUMBER(FIND(MID(A9,7,1)&"x","0x1x2x3x4x5x6x7x8x9x")),ISNUMBER(FIND(MID(A9,8,1)&"x","0x1x2x3x4x5x6x7x8x9x")))),"マスター行IDの形式を確認",IF(COUNTIFS($A$8:$A$57,A9)>1,"マスター行IDが重複",IF(NOT(AND(ISTEXT(B9),LEN(B9)=8,EXACT(LEFT(B9,4),"CUS-"),ISNUMBER(FIND(MID(B9,5,1)&"x","0x1x2x3x4x5x6x7x8x9x")),ISNUMBER(FIND(MID(B9,6,1)&"x","0x1x2x3x4x5x6x7x8x9x")),ISNUMBER(FIND(MID(B9,7,1)&"x","0x1x2x3x4x5x6x7x8x9x")),ISNUMBER(FIND(MID(B9,8,1)&"x","0x1x2x3x4x5x6x7x8x9x")))),"顧客IDの形式を確認",IF(NOT(OR(C9="有効",C9="保留",C9="終了",C9="未確認")),"台帳区分を確認",IF(NOT(IF(ISNUMBER(D9),AND(D9>=43831,D9<73051,D9=INT(D9)),FALSE())),"記録確認日は時刻なしで必須",IF(D9>照合結果!$B$3,"記録確認日が基準日より後","確認済み"))))))),1,IF(COUNTA(A9:D9)=0,IF(F9="",0,1),IF(AND(ISNUMBER(F9),F9=IF(E9="確認済み",0,1)),0,1))) -> 0
A10: MST-0003 | B10: CUS-0002 | C10: 有効 | D10: 46310 | E10: =IF(COUNTA(A10:D10)=0,"",IF(NOT(AND(ISTEXT(A10),LEN(A10)=8,EXACT(LEFT(A10,4),"MST-"),ISNUMBER(FIND(MID(A10,5,1)&"x","0x1x2x3x4x5x6x7x8x9x")),ISNUMBER(FIND(MID(A10,6,1)&"x","0x1x2x3x4x5x6x7x8x9x")),ISNUMBER(FIND(MID(A10,7,1)&"x","0x1x2x3x4x5x6x7x8x9x")),ISNUMBER(FIND(MID(A10,8,1)&"x","0x1x2x3x4x5x6x7x8x9x")))),"マスター行IDの形式を確認",IF(COUNTIFS($A$8:$A$57,A10)>1,"マスター行IDが重複",IF(NOT(AND(ISTEXT(B10),LEN(B10)=8,EXACT(LEFT(B10,4),"CUS-"),ISNUMBER(FIND(MID(B10,5,1)&"x","0x1x2x3x4x5x6x7x8x9x")),ISNUMBER(FIND(MID(B10,6,1)&"x","0x1x2x3x4x5x6x7x8x9x")),ISNUMBER(FIND(MID(B10,7,1)&"x","0x1x2x3x4x5x6x7x8x9x")),ISNUMBER(FIND(MID(B10,8,1)&"x","0x1x2x3x4x5x6x7x8x9x")))),"顧客IDの形式を確認",IF(NOT(OR(C10="有効",C10="保留",C10="終了",C10="未確認")),"台帳区分を確認",IF(NOT(IF(ISNUMBER(D10),AND(D10>=43831,D10<73051,D10=INT(D10)),FALSE())),"記録確認日は時刻なしで必須",IF(D10>照合結果!$B$3,"記録確認日が基準日より後","確認済み"))))))) -> 確認済み | F10: =IF(E10="","",IF(E10="確認済み",0,1)) -> 0 | G10: =IF(E10<>IF(COUNTA(A10:D10)=0,"",IF(NOT(AND(ISTEXT(A10),LEN(A10)=8,EXACT(LEFT(A10,4),"MST-"),ISNUMBER(FIND(MID(A10,5,1)&"x","0x1x2x3x4x5x6x7x8x9x")),ISNUMBER(FIND(MID(A10,6,1)&"x","0x1x2x3x4x5x6x7x8x9x")),ISNUMBER(FIND(MID(A10,7,1)&"x","0x1x2x3x4x5x6x7x8x9x")),ISNUMBER(FIND(MID(A10,8,1)&"x","0x1x2x3x4x5x6x7x8x9x")))),"マスター行IDの形式を確認",IF(COUNTIFS($A$8:$A$57,A10)>1,"マスター行IDが重複",IF(NOT(AND(ISTEXT(B10),LEN(B10)=8,EXACT(LEFT(B10,4),"CUS-"),ISNUMBER(FIND(MID(B10,5,1)&"x","0x1x2x3x4x5x6x7x8x9x")),ISNUMBER(FIND(MID(B10,6,1)&"x","0x1x2x3x4x5x6x7x8x9x")),ISNUMBER(FIND(MID(B10,7,1)&"x","0x1x2x3x4x5x6x7x8x9x")),ISNUMBER(FIND(MID(B10,8,1)&"x","0x1x2x3x4x5x6x7x8x9x")))),"顧客IDの形式を確認",IF(NOT(OR(C10="有効",C10="保留",C10="終了",C10="未確認")),"台帳区分を確認",IF(NOT(IF(ISNUMBER(D10),AND(D10>=43831,D10<73051,D10=INT(D10)),FALSE())),"記録確認日は時刻なしで必須",IF(D10>照合結果!$B$3,"記録確認日が基準日より後","確認済み"))))))),1,IF(COUNTA(A10:D10)=0,IF(F10="",0,1),IF(AND(ISNUMBER(F10),F10=IF(E10="確認済み",0,1)),0,1))) -> 0
A11: MST-0004 | B11: CUS-0003 | C11: 保留 | D11: 46310 | E11: =IF(COUNTA(A11:D11)=0,"",IF(NOT(AND(ISTEXT(A11),LEN(A11)=8,EXACT(LEFT(A11,4),"MST-"),ISNUMBER(FIND(MID(A11,5,1)&"x","0x1x2x3x4x5x6x7x8x9x")),ISNUMBER(FIND(MID(A11,6,1)&"x","0x1x2x3x4x5x6x7x8x9x")),ISNUMBER(FIND(MID(A11,7,1)&"x","0x1x2x3x4x5x6x7x8x9x")),ISNUMBER(FIND(MID(A11,8,1)&"x","0x1x2x3x4x5x6x7x8x9x")))),"マスター行IDの形式を確認",IF(COUNTIFS($A$8:$A$57,A11)>1,"マスター行IDが重複",IF(NOT(AND(ISTEXT(B11),LEN(B11)=8,EXACT(LEFT(B11,4),"CUS-"),ISNUMBER(FIND(MID(B11,5,1)&"x","0x1x2x3x4x5x6x7x8x9x")),ISNUMBER(FIND(MID(B11,6,1)&"x","0x1x2x3x4x5x6x7x8x9x")),ISNUMBER(FIND(MID(B11,7,1)&"x","0x1x2x3x4x5x6x7x8x9x")),ISNUMBER(FIND(MID(B11,8,1)&"x","0x1x2x3x4x5x6x7x8x9x")))),"顧客IDの形式を確認",IF(NOT(OR(C11="有効",C11="保留",C11="終了",C11="未確認")),"台帳区分を確認",IF(NOT(IF(ISNUMBER(D11),AND(D11>=43831,D11<73051,D11=INT(D11)),FALSE())),"記録確認日は時刻なしで必須",IF(D11>照合結果!$B$3,"記録確認日が基準日より後","確認済み"))))))) -> 確認済み | F11: =IF(E11="","",IF(E11="確認済み",0,1)) -> 0 | G11: =IF(E11<>IF(COUNTA(A11:D11)=0,"",IF(NOT(AND(ISTEXT(A11),LEN(A11)=8,EXACT(LEFT(A11,4),"MST-"),ISNUMBER(FIND(MID(A11,5,1)&"x","0x1x2x3x4x5x6x7x8x9x")),ISNUMBER(FIND(MID(A11,6,1)&"x","0x1x2x3x4x5x6x7x8x9x")),ISNUMBER(FIND(MID(A11,7,1)&"x","0x1x2x3x4x5x6x7x8x9x")),ISNUMBER(FIND(MID(A11,8,1)&"x","0x1x2x3x4x5x6x7x8x9x")))),"マスター行IDの形式を確認",IF(COUNTIFS($A$8:$A$57,A11)>1,"マスター行IDが重複",IF(NOT(AND(ISTEXT(B11),LEN(B11)=8,EXACT(LEFT(B11,4),"CUS-"),ISNUMBER(FIND(MID(B11,5,1)&"x","0x1x2x3x4x5x6x7x8x9x")),ISNUMBER(FIND(MID(B11,6,1)&"x","0x1x2x3x4x5x6x7x8x9x")),ISNUMBER(FIND(MID(B11,7,1)&"x","0x1x2x3x4x5x6x7x8x9x")),ISNUMBER(FIND(MID(B11,8,1)&"x","0x1x2x3x4x5x6x7x8x9x")))),"顧客IDの形式を確認",IF(NOT(OR(C11="有効",C11="保留",C11="終了",C11="未確認")),"台帳区分を確認",IF(NOT(IF(ISNUMBER(D11),AND(D11>=43831,D11<73051,D11=INT(D11)),FALSE())),"記録確認日は時刻なしで必須",IF(D11>照合結果!$B$3,"記録確認日が基準日より後","確認済み"))))))),1,IF(COUNTA(A11:D11)=0,IF(F11="",0,1),IF(AND(ISNUMBER(F11),F11=IF(E11="確認済み",0,1)),0,1))) -> 0
A12: MST-0005 | B12: CUS-0004 | C12: 有効 | D12: 46310 | E12: =IF(COUNTA(A12:D12)=0,"",IF(NOT(AND(ISTEXT(A12),LEN(A12)=8,EXACT(LEFT(A12,4),"MST-"),ISNUMBER(FIND(MID(A12,5,1)&"x","0x1x2x3x4x5x6x7x8x9x")),ISNUMBER(FIND(MID(A12,6,1)&"x","0x1x2x3x4x5x6x7x8x9x")),ISNUMBER(FIND(MID(A12,7,1)&"x","0x1x2x3x4x5x6x7x8x9x")),ISNUMBER(FIND(MID(A12,8,1)&"x","0x1x2x3x4x5x6x7x8x9x")))),"マスター行IDの形式を確認",IF(COUNTIFS($A$8:$A$57,A12)>1,"マスター行IDが重複",IF(NOT(AND(ISTEXT(B12),LEN(B12)=8,EXACT(LEFT(B12,4),"CUS-"),ISNUMBER(FIND(MID(B12,5,1)&"x","0x1x2x3x4x5x6x7x8x9x")),ISNUMBER(FIND(MID(B12,6,1)&"x","0x1x2x3x4x5x6x7x8x9x")),ISNUMBER(FIND(MID(B12,7,1)&"x","0x1x2x3x4x5x6x7x8x9x")),ISNUMBER(FIND(MID(B12,8,1)&"x","0x1x2x3x4x5x6x7x8x9x")))),"顧客IDの形式を確認",IF(NOT(OR(C12="有効",C12="保留",C12="終了",C12="未確認")),"台帳区分を確認",IF(NOT(IF(ISNUMBER(D12),AND(D12>=43831,D12<73051,D12=INT(D12)),FALSE())),"記録確認日は時刻なしで必須",IF(D12>照合結果!$B$3,"記録確認日が基準日より後","確認済み"))))))) -> 確認済み | F12: =IF(E12="","",IF(E12="確認済み",0,1)) -> 0 | G12: =IF(E12<>IF(COUNTA(A12:D12)=0,"",IF(NOT(AND(ISTEXT(A12),LEN(A12)=8,EXACT(LEFT(A12,4),"MST-"),ISNUMBER(FIND(MID(A12,5,1)&"x","0x1x2x3x4x5x6x7x8x9x")),ISNUMBER(FIND(MID(A12,6,1)&"x","0x1x2x3x4x5x6x7x8x9x")),ISNUMBER(FIND(MID(A12,7,1)&"x","0x1x2x3x4x5x6x7x8x9x")),ISNUMBER(FIND(MID(A12,8,1)&"x","0x1x2x3x4x5x6x7x8x9x")))),"マスター行IDの形式を確認",IF(COUNTIFS($A$8:$A$57,A12)>1,"マスター行IDが重複",IF(NOT(AND(ISTEXT(B12),LEN(B12)=8,EXACT(LEFT(B12,4),"CUS-"),ISNUMBER(FIND(MID(B12,5,1)&"x","0x1x2x3x4x5x6x7x8x9x")),ISNUMBER(FIND(MID(B12,6,1)&"x","0x1x2x3x4x5x6x7x8x9x")),ISNUMBER(FIND(MID(B12,7,1)&"x","0x1x2x3x4x5x6x7x8x9x")),ISNUMBER(FIND(MID(B12,8,1)&"x","0x1x2x3x4x5x6x7x8x9x")))),"顧客IDの形式を確認",IF(NOT(OR(C12="有効",C12="保留",C12="終了",C12="未確認")),"台帳区分を確認",IF(NOT(IF(ISNUMBER(D12),AND(D12>=43831,D12<73051,D12=INT(D12)),FALSE())),"記録確認日は時刻なしで必須",IF(D12>照合結果!$B$3,"記録確認日が基準日より後","確認済み"))))))),1,IF(COUNTA(A12:D12)=0,IF(F12="",0,1),IF(AND(ISNUMBER(F12),F12=IF(E12="確認済み",0,1)),0,1))) -> 0
A13: MST-0006 | B13: CUS-0005 | C13: 終了 | D13: 46310 | E13: =IF(COUNTA(A13:D13)=0,"",IF(NOT(AND(ISTEXT(A13),LEN(A13)=8,EXACT(LEFT(A13,4),"MST-"),ISNUMBER(FIND(MID(A13,5,1)&"x","0x1x2x3x4x5x6x7x8x9x")),ISNUMBER(FIND(MID(A13,6,1)&"x","0x1x2x3x4x5x6x7x8x9x")),ISNUMBER(FIND(MID(A13,7,1)&"x","0x1x2x3x4x5x6x7x8x9x")),ISNUMBER(FIND(MID(A13,8,1)&"x","0x1x2x3x4x5x6x7x8x9x")))),"マスター行IDの形式を確認",IF(COUNTIFS($A$8:$A$57,A13)>1,"マスター行IDが重複",IF(NOT(AND(ISTEXT(B13),LEN(B13)=8,EXACT(LEFT(B13,4),"CUS-"),ISNUMBER(FIND(MID(B13,5,1)&"x","0x1x2x3x4x5x6x7x8x9x")),ISNUMBER(FIND(MID(B13,6,1)&"x","0x1x2x3x4x5x6x7x8x9x")),ISNUMBER(FIND(MID(B13,7,1)&"x","0x1x2x3x4x5x6x7x8x9x")),ISNUMBER(FIND(MID(B13,8,1)&"x","0x1x2x3x4x5x6x7x8x9x")))),"顧客IDの形式を確認",IF(NOT(OR(C13="有効",C13="保留",C13="終了",C13="未確認")),"台帳区分を確認",IF(NOT(IF(ISNUMBER(D13),AND(D13>=43831,D13<73051,D13=INT(D13)),FALSE())),"記録確認日は時刻なしで必須",IF(D13>照合結果!$B$3,"記録確認日が基準日より後","確認済み"))))))) -> 確認済み | F13: =IF(E13="","",IF(E13="確認済み",0,1)) -> 0 | G13: =IF(E13<>IF(COUNTA(A13:D13)=0,"",IF(NOT(AND(ISTEXT(A13),LEN(A13)=8,EXACT(LEFT(A13,4),"MST-"),ISNUMBER(FIND(MID(A13,5,1)&"x","0x1x2x3x4x5x6x7x8x9x")),ISNUMBER(FIND(MID(A13,6,1)&"x","0x1x2x3x4x5x6x7x8x9x")),ISNUMBER(FIND(MID(A13,7,1)&"x","0x1x2x3x4x5x6x7x8x9x")),ISNUMBER(FIND(MID(A13,8,1)&"x","0x1x2x3x4x5x6x7x8x9x")))),"マスター行IDの形式を確認",IF(COUNTIFS($A$8:$A$57,A13)>1,"マスター行IDが重複",IF(NOT(AND(ISTEXT(B13),LEN(B13)=8,EXACT(LEFT(B13,4),"CUS-"),ISNUMBER(FIND(MID(B13,5,1)&"x","0x1x2x3x4x5x6x7x8x9x")),ISNUMBER(FIND(MID(B13,6,1)&"x","0x1x2x3x4x5x6x7x8x9x")),ISNUMBER(FIND(MID(B13,7,1)&"x","0x1x2x3x4x5x6x7x8x9x")),ISNUMBER(FIND(MID(B13,8,1)&"x","0x1x2x3x4x5x6x7x8x9x")))),"顧客IDの形式を確認",IF(NOT(OR(C13="有効",C13="保留",C13="終了",C13="未確認")),"台帳区分を確認",IF(NOT(IF(ISNUMBER(D13),AND(D13>=43831,D13<73051,D13=INT(D13)),FALSE())),"記録確認日は時刻なしで必須",IF(D13>照合結果!$B$3,"記録確認日が基準日より後","確認済み"))))))),1,IF(COUNTA(A13:D13)=0,IF(F13="",0,1),IF(AND(ISNUMBER(F13),F13=IF(E13="確認済み",0,1)),0,1))) -> 0
A14: MST-0007 | B14: CUS-0006 | C14: 未確認 | D14: 46310 | E14: =IF(COUNTA(A14:D14)=0,"",IF(NOT(AND(ISTEXT(A14),LEN(A14)=8,EXACT(LEFT(A14,4),"MST-"),ISNUMBER(FIND(MID(A14,5,1)&"x","0x1x2x3x4x5x6x7x8x9x")),ISNUMBER(FIND(MID(A14,6,1)&"x","0x1x2x3x4x5x6x7x8x9x")),ISNUMBER(FIND(MID(A14,7,1)&"x","0x1x2x3x4x5x6x7x8x9x")),ISNUMBER(FIND(MID(A14,8,1)&"x","0x1x2x3x4x5x6x7x8x9x")))),"マスター行IDの形式を確認",IF(COUNTIFS($A$8:$A$57,A14)>1,"マスター行IDが重複",IF(NOT(AND(ISTEXT(B14),LEN(B14)=8,EXACT(LEFT(B14,4),"CUS-"),ISNUMBER(FIND(MID(B14,5,1)&"x","0x1x2x3x4x5x6x7x8x9x")),ISNUMBER(FIND(MID(B14,6,1)&"x","0x1x2x3x4x5x6x7x8x9x")),ISNUMBER(FIND(MID(B14,7,1)&"x","0x1x2x3x4x5x6x7x8x9x")),ISNUMBER(FIND(MID(B14,8,1)&"x","0x1x2x3x4x5x6x7x8x9x")))),"顧客IDの形式を確認",IF(NOT(OR(C14="有効",C14="保留",C14="終了",C14="未確認")),"台帳区分を確認",IF(NOT(IF(ISNUMBER(D14),AND(D14>=43831,D14<73051,D14=INT(D14)),FALSE())),"記録確認日は時刻なしで必須",IF(D14>照合結果!$B$3,"記録確認日が基準日より後","確認済み"))))))) -> 確認済み | F14: =IF(E14="","",IF(E14="確認済み",0,1)) -> 0 | G14: =IF(E14<>IF(COUNTA(A14:D14)=0,"",IF(NOT(AND(ISTEXT(A14),LEN(A14)=8,EXACT(LEFT(A14,4),"MST-"),ISNUMBER(FIND(MID(A14,5,1)&"x","0x1x2x3x4x5x6x7x8x9x")),ISNUMBER(FIND(MID(A14,6,1)&"x","0x1x2x3x4x5x6x7x8x9x")),ISNUMBER(FIND(MID(A14,7,1)&"x","0x1x2x3x4x5x6x7x8x9x")),ISNUMBER(FIND(MID(A14,8,1)&"x","0x1x2x3x4x5x6x7x8x9x")))),"マスター行IDの形式を確認",IF(COUNTIFS($A$8:$A$57,A14)>1,"マスター行IDが重複",IF(NOT(AND(ISTEXT(B14),LEN(B14)=8,EXACT(LEFT(B14,4),"CUS-"),ISNUMBER(FIND(MID(B14,5,1)&"x","0x1x2x3x4x5x6x7x8x9x")),ISNUMBER(FIND(MID(B14,6,1)&"x","0x1x2x3x4x5x6x7x8x9x")),ISNUMBER(FIND(MID(B14,7,1)&"x","0x1x2x3x4x5x6x7x8x9x")),ISNUMBER(FIND(MID(B14,8,1)&"x","0x1x2x3x4x5x6x7x8x9x")))),"顧客IDの形式を確認",IF(NOT(OR(C14="有効",C14="保留",C14="終了",C14="未確認")),"台帳区分を確認",IF(NOT(IF(ISNUMBER(D14),AND(D14>=43831,D14<73051,D14=INT(D14)),FALSE())),"記録確認日は時刻なしで必須",IF(D14>照合結果!$B$3,"記録確認日が基準日より後","確認済み"))))))),1,IF(COUNTA(A14:D14)=0,IF(F14="",0,1),IF(AND(ISNUMBER(F14),F14=IF(E14="確認済み",0,1)),0,1))) -> 0
E15: =IF(COUNTA(A15:D15)=0,"",IF(NOT(AND(ISTEXT(A15),LEN(A15)=8,EXACT(LEFT(A15,4),"MST-"),ISNUMBER(FIND(MID(A15,5,1)&"x","0x1x2x3x4x5x6x7x8x9x")),ISNUMBER(FIND(MID(A15,6,1)&"x","0x1x2x3x4x5x6x7x8x9x")),ISNUMBER(FIND(MID(A15,7,1)&"x","0x1x2x3x4x5x6x7x8x9x")),ISNUMBER(FIND(MID(A15,8,1)&"x","0x1x2x3x4x5x6x7x8x9x")))),"マスター行IDの形式を確認",IF(COUNTIFS($A$8:$A$57,A15)>1,"マスター行IDが重複",IF(NOT(AND(ISTEXT(B15),LEN(B15)=8,EXACT(LEFT(B15,4),"CUS-"),ISNUMBER(FIND(MID(B15,5,1)&"x","0x1x2x3x4x5x6x7x8x9x")),ISNUMBER(FIND(MID(B15,6,1)&"x","0x1x2x3x4x5x6x7x8x9x")),ISNUMBER(FIND(MID(B15,7,1)&"x","0x1x2x3x4x5x6x7x8x9x")),ISNUMBER(FIND(MID(B15,8,1)&"x","0x1x2x3x4x5x6x7x8x9x")))),"顧客IDの形式を確認",IF(NOT(OR(C15="有効",C15="保留",C15="終了",C15="未確認")),"台帳区分を確認",IF(NOT(IF(ISNUMBER(D15),AND(D15>=43831,D15<73051,D15=INT(D15)),FALSE())),"記録確認日は時刻なしで必須",IF(D15>照合結果!$B$3,"記録確認日が基準日より後","確認済み"))))))) | F15: =IF(E15="","",IF(E15="確認済み",0,1)) | G15: =IF(E15<>IF(COUNTA(A15:D15)=0,"",IF(NOT(AND(ISTEXT(A15),LEN(A15)=8,EXACT(LEFT(A15,4),"MST-"),ISNUMBER(FIND(MID(A15,5,1)&"x","0x1x2x3x4x5x6x7x8x9x")),ISNUMBER(FIND(MID(A15,6,1)&"x","0x1x2x3x4x5x6x7x8x9x")),ISNUMBER(FIND(MID(A15,7,1)&"x","0x1x2x3x4x5x6x7x8x9x")),ISNUMBER(FIND(MID(A15,8,1)&"x","0x1x2x3x4x5x6x7x8x9x")))),"マスター行IDの形式を確認",IF(COUNTIFS($A$8:$A$57,A15)>1,"マスター行IDが重複",IF(NOT(AND(ISTEXT(B15),LEN(B15)=8,EXACT(LEFT(B15,4),"CUS-"),ISNUMBER(FIND(MID(B15,5,1)&"x","0x1x2x3x4x5x6x7x8x9x")),ISNUMBER(FIND(MID(B15,6,1)&"x","0x1x2x3x4x5x6x7x8x9x")),ISNUMBER(FIND(MID(B15,7,1)&"x","0x1x2x3x4x5x6x7x8x9x")),ISNUMBER(FIND(MID(B15,8,1)&"x","0x1x2x3x4x5x6x7x8x9x")))),"顧客IDの形式を確認",IF(NOT(OR(C15="有効",C15="保留",C15="終了",C15="未確認")),"台帳区分を確認",IF(NOT(IF(ISNUMBER(D15),AND(D15>=43831,D15<73051,D15=INT(D15)),FALSE())),"記録確認日は時刻なしで必須",IF(D15>照合結果!$B$3,"記録確認日が基準日より後","確認済み"))))))),1,IF(COUNTA(A15:D15)=0,IF(F15="",0,1),IF(AND(ISNUMBER(F15),F15=IF(E15="確認済み",0,1)),0,1))) -> 0
E16: =IF(COUNTA(A16:D16)=0,"",IF(NOT(AND(ISTEXT(A16),LEN(A16)=8,EXACT(LEFT(A16,4),"MST-"),ISNUMBER(FIND(MID(A16,5,1)&"x","0x1x2x3x4x5x6x7x8x9x")),ISNUMBER(FIND(MID(A16,6,1)&"x","0x1x2x3x4x5x6x7x8x9x")),ISNUMBER(FIND(MID(A16,7,1)&"x","0x1x2x3x4x5x6x7x8x9x")),ISNUMBER(FIND(MID(A16,8,1)&"x","0x1x2x3x4x5x6x7x8x9x")))),"マスター行IDの形式を確認",IF(COUNTIFS($A$8:$A$57,A16)>1,"マスター行IDが重複",IF(NOT(AND(ISTEXT(B16),LEN(B16)=8,EXACT(LEFT(B16,4),"CUS-"),ISNUMBER(FIND(MID(B16,5,1)&"x","0x1x2x3x4x5x6x7x8x9x")),ISNUMBER(FIND(MID(B16,6,1)&"x","0x1x2x3x4x5x6x7x8x9x")),ISNUMBER(FIND(MID(B16,7,1)&"x","0x1x2x3x4x5x6x7x8x9x")),ISNUMBER(FIND(MID(B16,8,1)&"x","0x1x2x3x4x5x6x7x8x9x")))),"顧客IDの形式を確認",IF(NOT(OR(C16="有効",C16="保留",C16="終了",C16="未確認")),"台帳区分を確認",IF(NOT(IF(ISNUMBER(D16),AND(D16>=43831,D16<73051,D16=INT(D16)),FALSE())),"記録確認日は時刻なしで必須",IF(D16>照合結果!$B$3,"記録確認日が基準日より後","確認済み"))))))) | F16: =IF(E16="","",IF(E16="確認済み",0,1)) | G16: =IF(E16<>IF(COUNTA(A16:D16)=0,"",IF(NOT(AND(ISTEXT(A16),LEN(A16)=8,EXACT(LEFT(A16,4),"MST-"),ISNUMBER(FIND(MID(A16,5,1)&"x","0x1x2x3x4x5x6x7x8x9x")),ISNUMBER(FIND(MID(A16,6,1)&"x","0x1x2x3x4x5x6x7x8x9x")),ISNUMBER(FIND(MID(A16,7,1)&"x","0x1x2x3x4x5x6x7x8x9x")),ISNUMBER(FIND(MID(A16,8,1)&"x","0x1x2x3x4x5x6x7x8x9x")))),"マスター行IDの形式を確認",IF(COUNTIFS($A$8:$A$57,A16)>1,"マスター行IDが重複",IF(NOT(AND(ISTEXT(B16),LEN(B16)=8,EXACT(LEFT(B16,4),"CUS-"),ISNUMBER(FIND(MID(B16,5,1)&"x","0x1x2x3x4x5x6x7x8x9x")),ISNUMBER(FIND(MID(B16,6,1)&"x","0x1x2x3x4x5x6x7x8x9x")),ISNUMBER(FIND(MID(B16,7,1)&"x","0x1x2x3x4x5x6x7x8x9x")),ISNUMBER(FIND(MID(B16,8,1)&"x","0x1x2x3x4x5x6x7x8x9x")))),"顧客IDの形式を確認",IF(NOT(OR(C16="有効",C16="保留",C16="終了",C16="未確認")),"台帳区分を確認",IF(NOT(IF(ISNUMBER(D16),AND(D16>=43831,D16<73051,D16=INT(D16)),FALSE())),"記録確認日は時刻なしで必須",IF(D16>照合結果!$B$3,"記録確認日が基準日より後","確認済み"))))))),1,IF(COUNTA(A16:D16)=0,IF(F16="",0,1),IF(AND(ISNUMBER(F16),F16=IF(E16="確認済み",0,1)),0,1))) -> 0
E17: =IF(COUNTA(A17:D17)=0,"",IF(NOT(AND(ISTEXT(A17),LEN(A17)=8,EXACT(LEFT(A17,4),"MST-"),ISNUMBER(FIND(MID(A17,5,1)&"x","0x1x2x3x4x5x6x7x8x9x")),ISNUMBER(FIND(MID(A17,6,1)&"x","0x1x2x3x4x5x6x7x8x9x")),ISNUMBER(FIND(MID(A17,7,1)&"x","0x1x2x3x4x5x6x7x8x9x")),ISNUMBER(FIND(MID(A17,8,1)&"x","0x1x2x3x4x5x6x7x8x9x")))),"マスター行IDの形式を確認",IF(COUNTIFS($A$8:$A$57,A17)>1,"マスター行IDが重複",IF(NOT(AND(ISTEXT(B17),LEN(B17)=8,EXACT(LEFT(B17,4),"CUS-"),ISNUMBER(FIND(MID(B17,5,1)&"x","0x1x2x3x4x5x6x7x8x9x")),ISNUMBER(FIND(MID(B17,6,1)&"x","0x1x2x3x4x5x6x7x8x9x")),ISNUMBER(FIND(MID(B17,7,1)&"x","0x1x2x3x4x5x6x7x8x9x")),ISNUMBER(FIND(MID(B17,8,1)&"x","0x1x2x3x4x5x6x7x8x9x")))),"顧客IDの形式を確認",IF(NOT(OR(C17="有効",C17="保留",C17="終了",C17="未確認")),"台帳区分を確認",IF(NOT(IF(ISNUMBER(D17),AND(D17>=43831,D17<73051,D17=INT(D17)),FALSE())),"記録確認日は時刻なしで必須",IF(D17>照合結果!$B$3,"記録確認日が基準日より後","確認済み"))))))) | F17: =IF(E17="","",IF(E17="確認済み",0,1)) | G17: =IF(E17<>IF(COUNTA(A17:D17)=0,"",IF(NOT(AND(ISTEXT(A17),LEN(A17)=8,EXACT(LEFT(A17,4),"MST-"),ISNUMBER(FIND(MID(A17,5,1)&"x","0x1x2x3x4x5x6x7x8x9x")),ISNUMBER(FIND(MID(A17,6,1)&"x","0x1x2x3x4x5x6x7x8x9x")),ISNUMBER(FIND(MID(A17,7,1)&"x","0x1x2x3x4x5x6x7x8x9x")),ISNUMBER(FIND(MID(A17,8,1)&"x","0x1x2x3x4x5x6x7x8x9x")))),"マスター行IDの形式を確認",IF(COUNTIFS($A$8:$A$57,A17)>1,"マスター行IDが重複",IF(NOT(AND(ISTEXT(B17),LEN(B17)=8,EXACT(LEFT(B17,4),"CUS-"),ISNUMBER(FIND(MID(B17,5,1)&"x","0x1x2x3x4x5x6x7x8x9x")),ISNUMBER(FIND(MID(B17,6,1)&"x","0x1x2x3x4x5x6x7x8x9x")),ISNUMBER(FIND(MID(B17,7,1)&"x","0x1x2x3x4x5x6x7x8x9x")),ISNUMBER(FIND(MID(B17,8,1)&"x","0x1x2x3x4x5x6x7x8x9x")))),"顧客IDの形式を確認",IF(NOT(OR(C17="有効",C17="保留",C17="終了",C17="未確認")),"台帳区分を確認",IF(NOT(IF(ISNUMBER(D17),AND(D17>=43831,D17<73051,D17=INT(D17)),FALSE())),"記録確認日は時刻なしで必須",IF(D17>照合結果!$B$3,"記録確認日が基準日より後","確認済み"))))))),1,IF(COUNTA(A17:D17)=0,IF(F17="",0,1),IF(AND(ISNUMBER(F17),F17=IF(E17="確認済み",0,1)),0,1))) -> 0
E18: =IF(COUNTA(A18:D18)=0,"",IF(NOT(AND(ISTEXT(A18),LEN(A18)=8,EXACT(LEFT(A18,4),"MST-"),ISNUMBER(FIND(MID(A18,5,1)&"x","0x1x2x3x4x5x6x7x8x9x")),ISNUMBER(FIND(MID(A18,6,1)&"x","0x1x2x3x4x5x6x7x8x9x")),ISNUMBER(FIND(MID(A18,7,1)&"x","0x1x2x3x4x5x6x7x8x9x")),ISNUMBER(FIND(MID(A18,8,1)&"x","0x1x2x3x4x5x6x7x8x9x")))),"マスター行IDの形式を確認",IF(COUNTIFS($A$8:$A$57,A18)>1,"マスター行IDが重複",IF(NOT(AND(ISTEXT(B18),LEN(B18)=8,EXACT(LEFT(B18,4),"CUS-"),ISNUMBER(FIND(MID(B18,5,1)&"x","0x1x2x3x4x5x6x7x8x9x")),ISNUMBER(FIND(MID(B18,6,1)&"x","0x1x2x3x4x5x6x7x8x9x")),ISNUMBER(FIND(MID(B18,7,1)&"x","0x1x2x3x4x5x6x7x8x9x")),ISNUMBER(FIND(MID(B18,8,1)&"x","0x1x2x3x4x5x6x7x8x9x")))),"顧客IDの形式を確認",IF(NOT(OR(C18="有効",C18="保留",C18="終了",C18="未確認")),"台帳区分を確認",IF(NOT(IF(ISNUMBER(D18),AND(D18>=43831,D18<73051,D18=INT(D18)),FALSE())),"記録確認日は時刻なしで必須",IF(D18>照合結果!$B$3,"記録確認日が基準日より後","確認済み"))))))) | F18: =IF(E18="","",IF(E18="確認済み",0,1)) | G18: =IF(E18<>IF(COUNTA(A18:D18)=0,"",IF(NOT(AND(ISTEXT(A18),LEN(A18)=8,EXACT(LEFT(A18,4),"MST-"),ISNUMBER(FIND(MID(A18,5,1)&"x","0x1x2x3x4x5x6x7x8x9x")),ISNUMBER(FIND(MID(A18,6,1)&"x","0x1x2x3x4x5x6x7x8x9x")),ISNUMBER(FIND(MID(A18,7,1)&"x","0x1x2x3x4x5x6x7x8x9x")),ISNUMBER(FIND(MID(A18,8,1)&"x","0x1x2x3x4x5x6x7x8x9x")))),"マスター行IDの形式を確認",IF(COUNTIFS($A$8:$A$57,A18)>1,"マスター行IDが重複",IF(NOT(AND(ISTEXT(B18),LEN(B18)=8,EXACT(LEFT(B18,4),"CUS-"),ISNUMBER(FIND(MID(B18,5,1)&"x","0x1x2x3x4x5x6x7x8x9x")),ISNUMBER(FIND(MID(B18,6,1)&"x","0x1x2x3x4x5x6x7x8x9x")),ISNUMBER(FIND(MID(B18,7,1)&"x","0x1x2x3x4x5x6x7x8x9x")),ISNUMBER(FIND(MID(B18,8,1)&"x","0x1x2x3x4x5x6x7x8x9x")))),"顧客IDの形式を確認",IF(NOT(OR(C18="有効",C18="保留",C18="終了",C18="未確認")),"台帳区分を確認",IF(NOT(IF(ISNUMBER(D18),AND(D18>=43831,D18<73051,D18=INT(D18)),FALSE())),"記録確認日は時刻なしで必須",IF(D18>照合結果!$B$3,"記録確認日が基準日より後","確認済み"))))))),1,IF(COUNTA(A18:D18)=0,IF(F18="",0,1),IF(AND(ISNUMBER(F18),F18=IF(E18="確認済み",0,1)),0,1))) -> 0
E19: =IF(COUNTA(A19:D19)=0,"",IF(NOT(AND(ISTEXT(A19),LEN(A19)=8,EXACT(LEFT(A19,4),"MST-"),ISNUMBER(FIND(MID(A19,5,1)&"x","0x1x2x3x4x5x6x7x8x9x")),ISNUMBER(FIND(MID(A19,6,1)&"x","0x1x2x3x4x5x6x7x8x9x")),ISNUMBER(FIND(MID(A19,7,1)&"x","0x1x2x3x4x5x6x7x8x9x")),ISNUMBER(FIND(MID(A19,8,1)&"x","0x1x2x3x4x5x6x7x8x9x")))),"マスター行IDの形式を確認",IF(COUNTIFS($A$8:$A$57,A19)>1,"マスター行IDが重複",IF(NOT(AND(ISTEXT(B19),LEN(B19)=8,EXACT(LEFT(B19,4),"CUS-"),ISNUMBER(FIND(MID(B19,5,1)&"x","0x1x2x3x4x5x6x7x8x9x")),ISNUMBER(FIND(MID(B19,6,1)&"x","0x1x2x3x4x5x6x7x8x9x")),ISNUMBER(FIND(MID(B19,7,1)&"x","0x1x2x3x4x5x6x7x8x9x")),ISNUMBER(FIND(MID(B19,8,1)&"x","0x1x2x3x4x5x6x7x8x9x")))),"顧客IDの形式を確認",IF(NOT(OR(C19="有効",C19="保留",C19="終了",C19="未確認")),"台帳区分を確認",IF(NOT(IF(ISNUMBER(D19),AND(D19>=43831,D19<73051,D19=INT(D19)),FALSE())),"記録確認日は時刻なしで必須",IF(D19>照合結果!$B$3,"記録確認日が基準日より後","確認済み"))))))) | F19: =IF(E19="","",IF(E19="確認済み",0,1)) | G19: =IF(E19<>IF(COUNTA(A19:D19)=0,"",IF(NOT(AND(ISTEXT(A19),LEN(A19)=8,EXACT(LEFT(A19,4),"MST-"),ISNUMBER(FIND(MID(A19,5,1)&"x","0x1x2x3x4x5x6x7x8x9x")),ISNUMBER(FIND(MID(A19,6,1)&"x","0x1x2x3x4x5x6x7x8x9x")),ISNUMBER(FIND(MID(A19,7,1)&"x","0x1x2x3x4x5x6x7x8x9x")),ISNUMBER(FIND(MID(A19,8,1)&"x","0x1x2x3x4x5x6x7x8x9x")))),"マスター行IDの形式を確認",IF(COUNTIFS($A$8:$A$57,A19)>1,"マスター行IDが重複",IF(NOT(AND(ISTEXT(B19),LEN(B19)=8,EXACT(LEFT(B19,4),"CUS-"),ISNUMBER(FIND(MID(B19,5,1)&"x","0x1x2x3x4x5x6x7x8x9x")),ISNUMBER(FIND(MID(B19,6,1)&"x","0x1x2x3x4x5x6x7x8x9x")),ISNUMBER(FIND(MID(B19,7,1)&"x","0x1x2x3x4x5x6x7x8x9x")),ISNUMBER(FIND(MID(B19,8,1)&"x","0x1x2x3x4x5x6x7x8x9x")))),"顧客IDの形式を確認",IF(NOT(OR(C19="有効",C19="保留",C19="終了",C19="未確認")),"台帳区分を確認",IF(NOT(IF(ISNUMBER(D19),AND(D19>=43831,D19<73051,D19=INT(D19)),FALSE())),"記録確認日は時刻なしで必須",IF(D19>照合結果!$B$3,"記録確認日が基準日より後","確認済み"))))))),1,IF(COUNTA(A19:D19)=0,IF(F19="",0,1),IF(AND(ISNUMBER(F19),F19=IF(E19="確認済み",0,1)),0,1))) -> 0
E20: =IF(COUNTA(A20:D20)=0,"",IF(NOT(AND(ISTEXT(A20),LEN(A20)=8,EXACT(LEFT(A20,4),"MST-"),ISNUMBER(FIND(MID(A20,5,1)&"x","0x1x2x3x4x5x6x7x8x9x")),ISNUMBER(FIND(MID(A20,6,1)&"x","0x1x2x3x4x5x6x7x8x9x")),ISNUMBER(FIND(MID(A20,7,1)&"x","0x1x2x3x4x5x6x7x8x9x")),ISNUMBER(FIND(MID(A20,8,1)&"x","0x1x2x3x4x5x6x7x8x9x")))),"マスター行IDの形式を確認",IF(COUNTIFS($A$8:$A$57,A20)>1,"マスター行IDが重複",IF(NOT(AND(ISTEXT(B20),LEN(B20)=8,EXACT(LEFT(B20,4),"CUS-"),ISNUMBER(FIND(MID(B20,5,1)&"x","0x1x2x3x4x5x6x7x8x9x")),ISNUMBER(FIND(MID(B20,6,1)&"x","0x1x2x3x4x5x6x7x8x9x")),ISNUMBER(FIND(MID(B20,7,1)&"x","0x1x2x3x4x5x6x7x8x9x")),ISNUMBER(FIND(MID(B20,8,1)&"x","0x1x2x3x4x5x6x7x8x9x")))),"顧客IDの形式を確認",IF(NOT(OR(C20="有効",C20="保留",C20="終了",C20="未確認")),"台帳区分を確認",IF(NOT(IF(ISNUMBER(D20),AND(D20>=43831,D20<73051,D20=INT(D20)),FALSE())),"記録確認日は時刻なしで必須",IF(D20>照合結果!$B$3,"記録確認日が基準日より後","確認済み"))))))) | F20: =IF(E20="","",IF(E20="確認済み",0,1)) | G20: =IF(E20<>IF(COUNTA(A20:D20)=0,"",IF(NOT(AND(ISTEXT(A20),LEN(A20)=8,EXACT(LEFT(A20,4),"MST-"),ISNUMBER(FIND(MID(A20,5,1)&"x","0x1x2x3x4x5x6x7x8x9x")),ISNUMBER(FIND(MID(A20,6,1)&"x","0x1x2x3x4x5x6x7x8x9x")),ISNUMBER(FIND(MID(A20,7,1)&"x","0x1x2x3x4x5x6x7x8x9x")),ISNUMBER(FIND(MID(A20,8,1)&"x","0x1x2x3x4x5x6x7x8x9x")))),"マスター行IDの形式を確認",IF(COUNTIFS($A$8:$A$57,A20)>1,"マスター行IDが重複",IF(NOT(AND(ISTEXT(B20),LEN(B20)=8,EXACT(LEFT(B20,4),"CUS-"),ISNUMBER(FIND(MID(B20,5,1)&"x","0x1x2x3x4x5x6x7x8x9x")),ISNUMBER(FIND(MID(B20,6,1)&"x","0x1x2x3x4x5x6x7x8x9x")),ISNUMBER(FIND(MID(B20,7,1)&"x","0x1x2x3x4x5x6x7x8x9x")),ISNUMBER(FIND(MID(B20,8,1)&"x","0x1x2x3x4x5x6x7x8x9x")))),"顧客IDの形式を確認",IF(NOT(OR(C20="有効",C20="保留",C20="終了",C20="未確認")),"台帳区分を確認",IF(NOT(IF(ISNUMBER(D20),AND(D20>=43831,D20<73051,D20=INT(D20)),FALSE())),"記録確認日は時刻なしで必須",IF(D20>照合結果!$B$3,"記録確認日が基準日より後","確認済み"))))))),1,IF(COUNTA(A20:D20)=0,IF(F20="",0,1),IF(AND(ISNUMBER(F20),F20=IF(E20="確認済み",0,1)),0,1))) -> 0
E21: =IF(COUNTA(A21:D21)=0,"",IF(NOT(AND(ISTEXT(A21),LEN(A21)=8,EXACT(LEFT(A21,4),"MST-"),ISNUMBER(FIND(MID(A21,5,1)&"x","0x1x2x3x4x5x6x7x8x9x")),ISNUMBER(FIND(MID(A21,6,1)&"x","0x1x2x3x4x5x6x7x8x9x")),ISNUMBER(FIND(MID(A21,7,1)&"x","0x1x2x3x4x5x6x7x8x9x")),ISNUMBER(FIND(MID(A21,8,1)&"x","0x1x2x3x4x5x6x7x8x9x")))),"マスター行IDの形式を確認",IF(COUNTIFS($A$8:$A$57,A21)>1,"マスター行IDが重複",IF(NOT(AND(ISTEXT(B21),LEN(B21)=8,EXACT(LEFT(B21,4),"CUS-"),ISNUMBER(FIND(MID(B21,5,1)&"x","0x1x2x3x4x5x6x7x8x9x")),ISNUMBER(FIND(MID(B21,6,1)&"x","0x1x2x3x4x5x6x7x8x9x")),ISNUMBER(FIND(MID(B21,7,1)&"x","0x1x2x3x4x5x6x7x8x9x")),ISNUMBER(FIND(MID(B21,8,1)&"x","0x1x2x3x4x5x6x7x8x9x")))),"顧客IDの形式を確認",IF(NOT(OR(C21="有効",C21="保留",C21="終了",C21="未確認")),"台帳区分を確認",IF(NOT(IF(ISNUMBER(D21),AND(D21>=43831,D21<73051,D21=INT(D21)),FALSE())),"記録確認日は時刻なしで必須",IF(D21>照合結果!$B$3,"記録確認日が基準日より後","確認済み"))))))) | F21: =IF(E21="","",IF(E21="確認済み",0,1)) | G21: =IF(E21<>IF(COUNTA(A21:D21)=0,"",IF(NOT(AND(ISTEXT(A21),LEN(A21)=8,EXACT(LEFT(A21,4),"MST-"),ISNUMBER(FIND(MID(A21,5,1)&"x","0x1x2x3x4x5x6x7x8x9x")),ISNUMBER(FIND(MID(A21,6,1)&"x","0x1x2x3x4x5x6x7x8x9x")),ISNUMBER(FIND(MID(A21,7,1)&"x","0x1x2x3x4x5x6x7x8x9x")),ISNUMBER(FIND(MID(A21,8,1)&"x","0x1x2x3x4x5x6x7x8x9x")))),"マスター行IDの形式を確認",IF(COUNTIFS($A$8:$A$57,A21)>1,"マスター行IDが重複",IF(NOT(AND(ISTEXT(B21),LEN(B21)=8,EXACT(LEFT(B21,4),"CUS-"),ISNUMBER(FIND(MID(B21,5,1)&"x","0x1x2x3x4x5x6x7x8x9x")),ISNUMBER(FIND(MID(B21,6,1)&"x","0x1x2x3x4x5x6x7x8x9x")),ISNUMBER(FIND(MID(B21,7,1)&"x","0x1x2x3x4x5x6x7x8x9x")),ISNUMBER(FIND(MID(B21,8,1)&"x","0x1x2x3x4x5x6x7x8x9x")))),"顧客IDの形式を確認",IF(NOT(OR(C21="有効",C21="保留",C21="終了",C21="未確認")),"台帳区分を確認",IF(NOT(IF(ISNUMBER(D21),AND(D21>=43831,D21<73051,D21=INT(D21)),FALSE())),"記録確認日は時刻なしで必須",IF(D21>照合結果!$B$3,"記録確認日が基準日より後","確認済み"))))))),1,IF(COUNTA(A21:D21)=0,IF(F21="",0,1),IF(AND(ISNUMBER(F21),F21=IF(E21="確認済み",0,1)),0,1))) -> 0
E22: =IF(COUNTA(A22:D22)=0,"",IF(NOT(AND(ISTEXT(A22),LEN(A22)=8,EXACT(LEFT(A22,4),"MST-"),ISNUMBER(FIND(MID(A22,5,1)&"x","0x1x2x3x4x5x6x7x8x9x")),ISNUMBER(FIND(MID(A22,6,1)&"x","0x1x2x3x4x5x6x7x8x9x")),ISNUMBER(FIND(MID(A22,7,1)&"x","0x1x2x3x4x5x6x7x8x9x")),ISNUMBER(FIND(MID(A22,8,1)&"x","0x1x2x3x4x5x6x7x8x9x")))),"マスター行IDの形式を確認",IF(COUNTIFS($A$8:$A$57,A22)>1,"マスター行IDが重複",IF(NOT(AND(ISTEXT(B22),LEN(B22)=8,EXACT(LEFT(B22,4),"CUS-"),ISNUMBER(FIND(MID(B22,5,1)&"x","0x1x2x3x4x5x6x7x8x9x")),ISNUMBER(FIND(MID(B22,6,1)&"x","0x1x2x3x4x5x6x7x8x9x")),ISNUMBER(FIND(MID(B22,7,1)&"x","0x1x2x3x4x5x6x7x8x9x")),ISNUMBER(FIND(MID(B22,8,1)&"x","0x1x2x3x4x5x6x7x8x9x")))),"顧客IDの形式を確認",IF(NOT(OR(C22="有効",C22="保留",C22="終了",C22="未確認")),"台帳区分を確認",IF(NOT(IF(ISNUMBER(D22),AND(D22>=43831,D22<73051,D22=INT(D22)),FALSE())),"記録確認日は時刻なしで必須",IF(D22>照合結果!$B$3,"記録確認日が基準日より後","確認済み"))))))) | F22: =IF(E22="","",IF(E22="確認済み",0,1)) | G22: =IF(E22<>IF(COUNTA(A22:D22)=0,"",IF(NOT(AND(ISTEXT(A22),LEN(A22)=8,EXACT(LEFT(A22,4),"MST-"),ISNUMBER(FIND(MID(A22,5,1)&"x","0x1x2x3x4x5x6x7x8x9x")),ISNUMBER(FIND(MID(A22,6,1)&"x","0x1x2x3x4x5x6x7x8x9x")),ISNUMBER(FIND(MID(A22,7,1)&"x","0x1x2x3x4x5x6x7x8x9x")),ISNUMBER(FIND(MID(A22,8,1)&"x","0x1x2x3x4x5x6x7x8x9x")))),"マスター行IDの形式を確認",IF(COUNTIFS($A$8:$A$57,A22)>1,"マスター行IDが重複",IF(NOT(AND(ISTEXT(B22),LEN(B22)=8,EXACT(LEFT(B22,4),"CUS-"),ISNUMBER(FIND(MID(B22,5,1)&"x","0x1x2x3x4x5x6x7x8x9x")),ISNUMBER(FIND(MID(B22,6,1)&"x","0x1x2x3x4x5x6x7x8x9x")),ISNUMBER(FIND(MID(B22,7,1)&"x","0x1x2x3x4x5x6x7x8x9x")),ISNUMBER(FIND(MID(B22,8,1)&"x","0x1x2x3x4x5x6x7x8x9x")))),"顧客IDの形式を確認",IF(NOT(OR(C22="有効",C22="保留",C22="終了",C22="未確認")),"台帳区分を確認",IF(NOT(IF(ISNUMBER(D22),AND(D22>=43831,D22<73051,D22=INT(D22)),FALSE())),"記録確認日は時刻なしで必須",IF(D22>照合結果!$B$3,"記録確認日が基準日より後","確認済み"))))))),1,IF(COUNTA(A22:D22)=0,IF(F22="",0,1),IF(AND(ISNUMBER(F22),F22=IF(E22="確認済み",0,1)),0,1))) -> 0
E23: =IF(COUNTA(A23:D23)=0,"",IF(NOT(AND(ISTEXT(A23),LEN(A23)=8,EXACT(LEFT(A23,4),"MST-"),ISNUMBER(FIND(MID(A23,5,1)&"x","0x1x2x3x4x5x6x7x8x9x")),ISNUMBER(FIND(MID(A23,6,1)&"x","0x1x2x3x4x5x6x7x8x9x")),ISNUMBER(FIND(MID(A23,7,1)&"x","0x1x2x3x4x5x6x7x8x9x")),ISNUMBER(FIND(MID(A23,8,1)&"x","0x1x2x3x4x5x6x7x8x9x")))),"マスター行IDの形式を確認",IF(COUNTIFS($A$8:$A$57,A23)>1,"マスター行IDが重複",IF(NOT(AND(ISTEXT(B23),LEN(B23)=8,EXACT(LEFT(B23,4),"CUS-"),ISNUMBER(FIND(MID(B23,5,1)&"x","0x1x2x3x4x5x6x7x8x9x")),ISNUMBER(FIND(MID(B23,6,1)&"x","0x1x2x3x4x5x6x7x8x9x")),ISNUMBER(FIND(MID(B23,7,1)&"x","0x1x2x3x4x5x6x7x8x9x")),ISNUMBER(FIND(MID(B23,8,1)&"x","0x1x2x3x4x5x6x7x8x9x")))),"顧客IDの形式を確認",IF(NOT(OR(C23="有効",C23="保留",C23="終了",C23="未確認")),"台帳区分を確認",IF(NOT(IF(ISNUMBER(D23),AND(D23>=43831,D23<73051,D23=INT(D23)),FALSE())),"記録確認日は時刻なしで必須",IF(D23>照合結果!$B$3,"記録確認日が基準日より後","確認済み"))))))) | F23: =IF(E23="","",IF(E23="確認済み",0,1)) | G23: =IF(E23<>IF(COUNTA(A23:D23)=0,"",IF(NOT(AND(ISTEXT(A23),LEN(A23)=8,EXACT(LEFT(A23,4),"MST-"),ISNUMBER(FIND(MID(A23,5,1)&"x","0x1x2x3x4x5x6x7x8x9x")),ISNUMBER(FIND(MID(A23,6,1)&"x","0x1x2x3x4x5x6x7x8x9x")),ISNUMBER(FIND(MID(A23,7,1)&"x","0x1x2x3x4x5x6x7x8x9x")),ISNUMBER(FIND(MID(A23,8,1)&"x","0x1x2x3x4x5x6x7x8x9x")))),"マスター行IDの形式を確認",IF(COUNTIFS($A$8:$A$57,A23)>1,"マスター行IDが重複",IF(NOT(AND(ISTEXT(B23),LEN(B23)=8,EXACT(LEFT(B23,4),"CUS-"),ISNUMBER(FIND(MID(B23,5,1)&"x","0x1x2x3x4x5x6x7x8x9x")),ISNUMBER(FIND(MID(B23,6,1)&"x","0x1x2x3x4x5x6x7x8x9x")),ISNUMBER(FIND(MID(B23,7,1)&"x","0x1x2x3x4x5x6x7x8x9x")),ISNUMBER(FIND(MID(B23,8,1)&"x","0x1x2x3x4x5x6x7x8x9x")))),"顧客IDの形式を確認",IF(NOT(OR(C23="有効",C23="保留",C23="終了",C23="未確認")),"台帳区分を確認",IF(NOT(IF(ISNUMBER(D23),AND(D23>=43831,D23<73051,D23=INT(D23)),FALSE())),"記録確認日は時刻なしで必須",IF(D23>照合結果!$B$3,"記録確認日が基準日より後","確認済み"))))))),1,IF(COUNTA(A23:D23)=0,IF(F23="",0,1),IF(AND(ISNUMBER(F23),F23=IF(E23="確認済み",0,1)),0,1))) -> 0
E24: =IF(COUNTA(A24:D24)=0,"",IF(NOT(AND(ISTEXT(A24),LEN(A24)=8,EXACT(LEFT(A24,4),"MST-"),ISNUMBER(FIND(MID(A24,5,1)&"x","0x1x2x3x4x5x6x7x8x9x")),ISNUMBER(FIND(MID(A24,6,1)&"x","0x1x2x3x4x5x6x7x8x9x")),ISNUMBER(FIND(MID(A24,7,1)&"x","0x1x2x3x4x5x6x7x8x9x")),ISNUMBER(FIND(MID(A24,8,1)&"x","0x1x2x3x4x5x6x7x8x9x")))),"マスター行IDの形式を確認",IF(COUNTIFS($A$8:$A$57,A24)>1,"マスター行IDが重複",IF(NOT(AND(ISTEXT(B24),LEN(B24)=8,EXACT(LEFT(B24,4),"CUS-"),ISNUMBER(FIND(MID(B24,5,1)&"x","0x1x2x3x4x5x6x7x8x9x")),ISNUMBER(FIND(MID(B24,6,1)&"x","0x1x2x3x4x5x6x7x8x9x")),ISNUMBER(FIND(MID(B24,7,1)&"x","0x1x2x3x4x5x6x7x8x9x")),ISNUMBER(FIND(MID(B24,8,1)&"x","0x1x2x3x4x5x6x7x8x9x")))),"顧客IDの形式を確認",IF(NOT(OR(C24="有効",C24="保留",C24="終了",C24="未確認")),"台帳区分を確認",IF(NOT(IF(ISNUMBER(D24),AND(D24>=43831,D24<73051,D24=INT(D24)),FALSE())),"記録確認日は時刻なしで必須",IF(D24>照合結果!$B$3,"記録確認日が基準日より後","確認済み"))))))) | F24: =IF(E24="","",IF(E24="確認済み",0,1)) | G24: =IF(E24<>IF(COUNTA(A24:D24)=0,"",IF(NOT(AND(ISTEXT(A24),LEN(A24)=8,EXACT(LEFT(A24,4),"MST-"),ISNUMBER(FIND(MID(A24,5,1)&"x","0x1x2x3x4x5x6x7x8x9x")),ISNUMBER(FIND(MID(A24,6,1)&"x","0x1x2x3x4x5x6x7x8x9x")),ISNUMBER(FIND(MID(A24,7,1)&"x","0x1x2x3x4x5x6x7x8x9x")),ISNUMBER(FIND(MID(A24,8,1)&"x","0x1x2x3x4x5x6x7x8x9x")))),"マスター行IDの形式を確認",IF(COUNTIFS($A$8:$A$57,A24)>1,"マスター行IDが重複",IF(NOT(AND(ISTEXT(B24),LEN(B24)=8,EXACT(LEFT(B24,4),"CUS-"),ISNUMBER(FIND(MID(B24,5,1)&"x","0x1x2x3x4x5x6x7x8x9x")),ISNUMBER(FIND(MID(B24,6,1)&"x","0x1x2x3x4x5x6x7x8x9x")),ISNUMBER(FIND(MID(B24,7,1)&"x","0x1x2x3x4x5x6x7x8x9x")),ISNUMBER(FIND(MID(B24,8,1)&"x","0x1x2x3x4x5x6x7x8x9x")))),"顧客IDの形式を確認",IF(NOT(OR(C24="有効",C24="保留",C24="終了",C24="未確認")),"台帳区分を確認",IF(NOT(IF(ISNUMBER(D24),AND(D24>=43831,D24<73051,D24=INT(D24)),FALSE())),"記録確認日は時刻なしで必須",IF(D24>照合結果!$B$3,"記録確認日が基準日より後","確認済み"))))))),1,IF(COUNTA(A24:D24)=0,IF(F24="",0,1),IF(AND(ISNUMBER(F24),F24=IF(E24="確認済み",0,1)),0,1))) -> 0
E25: =IF(COUNTA(A25:D25)=0,"",IF(NOT(AND(ISTEXT(A25),LEN(A25)=8,EXACT(LEFT(A25,4),"MST-"),ISNUMBER(FIND(MID(A25,5,1)&"x","0x1x2x3x4x5x6x7x8x9x")),ISNUMBER(FIND(MID(A25,6,1)&"x","0x1x2x3x4x5x6x7x8x9x")),ISNUMBER(FIND(MID(A25,7,1)&"x","0x1x2x3x4x5x6x7x8x9x")),ISNUMBER(FIND(MID(A25,8,1)&"x","0x1x2x3x4x5x6x7x8x9x")))),"マスター行IDの形式を確認",IF(COUNTIFS($A$8:$A$57,A25)>1,"マスター行IDが重複",IF(NOT(AND(ISTEXT(B25),LEN(B25)=8,EXACT(LEFT(B25,4),"CUS-"),ISNUMBER(FIND(MID(B25,5,1)&"x","0x1x2x3x4x5x6x7x8x9x")),ISNUMBER(FIND(MID(B25,6,1)&"x","0x1x2x3x4x5x6x7x8x9x")),ISNUMBER(FIND(MID(B25,7,1)&"x","0x1x2x3x4x5x6x7x8x9x")),ISNUMBER(FIND(MID(B25,8,1)&"x","0x1x2x3x4x5x6x7x8x9x")))),"顧客IDの形式を確認",IF(NOT(OR(C25="有効",C25="保留",C25="終了",C25="未確認")),"台帳区分を確認",IF(NOT(IF(ISNUMBER(D25),AND(D25>=43831,D25<73051,D25=INT(D25)),FALSE())),"記録確認日は時刻なしで必須",IF(D25>照合結果!$B$3,"記録確認日が基準日より後","確認済み"))))))) | F25: =IF(E25="","",IF(E25="確認済み",0,1)) | G25: =IF(E25<>IF(COUNTA(A25:D25)=0,"",IF(NOT(AND(ISTEXT(A25),LEN(A25)=8,EXACT(LEFT(A25,4),"MST-"),ISNUMBER(FIND(MID(A25,5,1)&"x","0x1x2x3x4x5x6x7x8x9x")),ISNUMBER(FIND(MID(A25,6,1)&"x","0x1x2x3x4x5x6x7x8x9x")),ISNUMBER(FIND(MID(A25,7,1)&"x","0x1x2x3x4x5x6x7x8x9x")),ISNUMBER(FIND(MID(A25,8,1)&"x","0x1x2x3x4x5x6x7x8x9x")))),"マスター行IDの形式を確認",IF(COUNTIFS($A$8:$A$57,A25)>1,"マスター行IDが重複",IF(NOT(AND(ISTEXT(B25),LEN(B25)=8,EXACT(LEFT(B25,4),"CUS-"),ISNUMBER(FIND(MID(B25,5,1)&"x","0x1x2x3x4x5x6x7x8x9x")),ISNUMBER(FIND(MID(B25,6,1)&"x","0x1x2x3x4x5x6x7x8x9x")),ISNUMBER(FIND(MID(B25,7,1)&"x","0x1x2x3x4x5x6x7x8x9x")),ISNUMBER(FIND(MID(B25,8,1)&"x","0x1x2x3x4x5x6x7x8x9x")))),"顧客IDの形式を確認",IF(NOT(OR(C25="有効",C25="保留",C25="終了",C25="未確認")),"台帳区分を確認",IF(NOT(IF(ISNUMBER(D25),AND(D25>=43831,D25<73051,D25=INT(D25)),FALSE())),"記録確認日は時刻なしで必須",IF(D25>照合結果!$B$3,"記録確認日が基準日より後","確認済み"))))))),1,IF(COUNTA(A25:D25)=0,IF(F25="",0,1),IF(AND(ISNUMBER(F25),F25=IF(E25="確認済み",0,1)),0,1))) -> 0
E26: =IF(COUNTA(A26:D26)=0,"",IF(NOT(AND(ISTEXT(A26),LEN(A26)=8,EXACT(LEFT(A26,4),"MST-"),ISNUMBER(FIND(MID(A26,5,1)&"x","0x1x2x3x4x5x6x7x8x9x")),ISNUMBER(FIND(MID(A26,6,1)&"x","0x1x2x3x4x5x6x7x8x9x")),ISNUMBER(FIND(MID(A26,7,1)&"x","0x1x2x3x4x5x6x7x8x9x")),ISNUMBER(FIND(MID(A26,8,1)&"x","0x1x2x3x4x5x6x7x8x9x")))),"マスター行IDの形式を確認",IF(COUNTIFS($A$8:$A$57,A26)>1,"マスター行IDが重複",IF(NOT(AND(ISTEXT(B26),LEN(B26)=8,EXACT(LEFT(B26,4),"CUS-"),ISNUMBER(FIND(MID(B26,5,1)&"x","0x1x2x3x4x5x6x7x8x9x")),ISNUMBER(FIND(MID(B26,6,1)&"x","0x1x2x3x4x5x6x7x8x9x")),ISNUMBER(FIND(MID(B26,7,1)&"x","0x1x2x3x4x5x6x7x8x9x")),ISNUMBER(FIND(MID(B26,8,1)&"x","0x1x2x3x4x5x6x7x8x9x")))),"顧客IDの形式を確認",IF(NOT(OR(C26="有効",C26="保留",C26="終了",C26="未確認")),"台帳区分を確認",IF(NOT(IF(ISNUMBER(D26),AND(D26>=43831,D26<73051,D26=INT(D26)),FALSE())),"記録確認日は時刻なしで必須",IF(D26>照合結果!$B$3,"記録確認日が基準日より後","確認済み"))))))) | F26: =IF(E26="","",IF(E26="確認済み",0,1)) | G26: =IF(E26<>IF(COUNTA(A26:D26)=0,"",IF(NOT(AND(ISTEXT(A26),LEN(A26)=8,EXACT(LEFT(A26,4),"MST-"),ISNUMBER(FIND(MID(A26,5,1)&"x","0x1x2x3x4x5x6x7x8x9x")),ISNUMBER(FIND(MID(A26,6,1)&"x","0x1x2x3x4x5x6x7x8x9x")),ISNUMBER(FIND(MID(A26,7,1)&"x","0x1x2x3x4x5x6x7x8x9x")),ISNUMBER(FIND(MID(A26,8,1)&"x","0x1x2x3x4x5x6x7x8x9x")))),"マスター行IDの形式を確認",IF(COUNTIFS($A$8:$A$57,A26)>1,"マスター行IDが重複",IF(NOT(AND(ISTEXT(B26),LEN(B26)=8,EXACT(LEFT(B26,4),"CUS-"),ISNUMBER(FIND(MID(B26,5,1)&"x","0x1x2x3x4x5x6x7x8x9x")),ISNUMBER(FIND(MID(B26,6,1)&"x","0x1x2x3x4x5x6x7x8x9x")),ISNUMBER(FIND(MID(B26,7,1)&"x","0x1x2x3x4x5x6x7x8x9x")),ISNUMBER(FIND(MID(B26,8,1)&"x","0x1x2x3x4x5x6x7x8x9x")))),"顧客IDの形式を確認",IF(NOT(OR(C26="有効",C26="保留",C26="終了",C26="未確認")),"台帳区分を確認",IF(NOT(IF(ISNUMBER(D26),AND(D26>=43831,D26<73051,D26=INT(D26)),FALSE())),"記録確認日は時刻なしで必須",IF(D26>照合結果!$B$3,"記録確認日が基準日より後","確認済み"))))))),1,IF(COUNTA(A26:D26)=0,IF(F26="",0,1),IF(AND(ISNUMBER(F26),F26=IF(E26="確認済み",0,1)),0,1))) -> 0
... E57: =IF(COUNTA(A57:D57)=0,"",IF(NOT(AND(ISTEXT(A57),LEN(A57)=8,EXACT(LEFT(A57,4),"MST-"),ISNUMBER(FIND(MID(A57,5,1)&"x","0x1x2x3x4x5x6x7x8x9x")),ISNUMBER(FIND(MID(A57,6,1)&"x","0x1x2x3x4x5x6x7x8x9x")),ISNUMBER(FIND(MID(A57,7,1)&"x","0x1x2x3x4x5x6x7x8x9x")),ISNUMBER(FIND(MID(A57,8,1)&"x","0x1x2x3x4x5x6x7x8x9x")))),"マスター行IDの形式を確認",IF(COUNTIFS($A$8:$A$57,A57)>1,"マスター行IDが重複",IF(NOT(AND(ISTEXT(B57),LEN(B57)=8,EXACT(LEFT(B57,4),"CUS-"),ISNUMBER(FIND(MID(B57,5,1)&"x","0x1x2x3x4x5x6x7x8x9x")),ISNUMBER(FIND(MID(B57,6,1)&"x","0x1x2x3x4x5x6x7x8x9x")),ISNUMBER(FIND(MID(B57,7,1)&"x","0x1x2x3x4x5x6x7x8x9x")),ISNUMBER(FIND(MID(B57,8,1)&"x","0x1x2x3x4x5x6x7x8x9x")))),"顧客IDの形式を確認",IF(NOT(OR(C57="有効",C57="保留",C57="終了",C57="未確認")),"台帳区分を確認",IF(NOT(IF(ISNUMBER(D57),AND(D57>=43831,D57<73051,D57=INT(D57)),FALSE())),"記録確認日は時刻なしで必須",IF(D57>照合結果!$B$3,"記録確認日が基準日より後","確認済み"))))))) | F57: =IF(E57="","",IF(E57="確認済み",0,1)) | G57: =IF(E57<>IF(COUNTA(A57:D57)=0,"",IF(NOT(AND(ISTEXT(A57),LEN(A57)=8,EXACT(LEFT(A57,4),"MST-"),ISNUMBER(FIND(MID(A57,5,1)&"x","0x1x2x3x4x5x6x7x8x9x")),ISNUMBER(FIND(MID(A57,6,1)&"x","0x1x2x3x4x5x6x7x8x9x")),ISNUMBER(FIND(MID(A57,7,1)&"x","0x1x2x3x4x5x6x7x8x9x")),ISNUMBER(FIND(MID(A57,8,1)&"x","0x1x2x3x4x5x6x7x8x9x")))),"マスター行IDの形式を確認",IF(COUNTIFS($A$8:$A$57,A57)>1,"マスター行IDが重複",IF(NOT(AND(ISTEXT(B57),LEN(B57)=8,EXACT(LEFT(B57,4),"CUS-"),ISNUMBER(FIND(MID(B57,5,1)&"x","0x1x2x3x4x5x6x7x8x9x")),ISNUMBER(FIND(MID(B57,6,1)&"x","0x1x2x3x4x5x6x7x8x9x")),ISNUMBER(FIND(MID(B57,7,1)&"x","0x1x2x3x4x5x6x7x8x9x")),ISNUMBER(FIND(MID(B57,8,1)&"x","0x1x2x3x4x5x6x7x8x9x")))),"顧客IDの形式を確認",IF(NOT(OR(C57="有効",C57="保留",C57="終了",C57="未確認")),"台帳区分を確認",IF(NOT(IF(ISNUMBER(D57),AND(D57>=43831,D57<73051,D57=INT(D57)),FALSE())),"記録確認日は時刻なしで必須",IF(D57>照合結果!$B$3,"記録確認日が基準日より後","確認済み"))))))),1,IF(COUNTA(A57:D57)=0,IF(F57="",0,1),IF(AND(ISNUMBER(F57),F57=IF(E57="確認済み",0,1)),0,1))) -> 0
