Workbook

Sheet 照合結果
A2: IDの候補と確認した一致を分ける | K2: 基準日と体系の前提 | L2: 入力の前提
A3: 照合基準日 | B3: 46311 | D3: ID体系の確認 | E3: 未確認 | G3: 入力 | H3: =IF(L3=0,"不備なし","入力を確認") -> 不備なし | K3: =IF(AND(IF(ISNUMBER(B3),AND(B3>=43831,B3<73051,B3=INT(B3)),FALSE()),OR(E3="未確認",E3="確認済")),0,1) -> 0 | L3: =IF(AND(ISNUMBER(K3),K3=IF(AND(IF(ISNUMBER(B3),AND(B3>=43831,B3<73051,B3=INT(B3)),FALSE()),OR(E3="未確認",E3="確認済")),0,1)),K3,1)+SUM(照合入力!K8:L57)+SUM(顧客マスター!F8:G57)+IF(COUNT(照合入力!L8:L57)=50,0,1)+IF(COUNT(顧客マスター!G8:G57)=50,0,1) -> 0
A4: 照合行数（件） | B4: =IF($L$3=0,COUNTIFS(照合入力!J8:J57,"確認済み"),NA()) -> 8 | D4: 一致確認（件） | E4: =IF($L$3=0,COUNTIFS(照合入力!I8:I57,"一致確認"),NA()) -> 0 | G4: 対象外（件） | H4: =IF($L$3=0,COUNTIFS(照合入力!I8:I57,"対象外"),NA()) -> 1
A5: キー未確認（件） | B5: =IF($L$3=0,COUNTIFS(照合入力!I8:I57,"キー未確認"),NA()) -> 0 | D5: 候補なし（件） | E5: =IF($L$3=0,COUNTIFS(照合入力!I8:I57,"候補なし"),NA()) -> 0 | G5: 複数候補（件） | H5: =IF($L$3=0,COUNTIFS(照合入力!I8:I57,"複数候補"),NA()) -> 0
A6: 単一候補（件） | B6: =IF($L$3=0,COUNTIFS(照合入力!I8:I57,"単一候補"),NA()) -> 0 | D6: 台帳要確認（件） | E6: =IF($L$3=0,COUNTIFS(照合入力!I8:I57,"台帳要確認"),NA()) -> 0 | G6: 体系未確認（件） | H6: =IF($L$3=0,COUNTIFS(照合入力!I8:I57,"体系未確認"),NA()) -> 7
A7: 確認待ち（件） | B7: =B4-E4-H4 -> 7 | D7: 照合差額（件） | E7: =B4-E4-H4-B5-E5-H5-B6-E6-H6 -> 0 | G7: 確認の状態 | H7: =IF($L$3<>0,NA(),IF(B4=0,"対象行なし",IF(E3<>"確認済","判定保留",IF(B7>0,"確認待ち","確認区分記録済")))) -> 判定保留
A8: マスター行数 | B8: =IF($L$3=0,COUNTIFS(顧客マスター!E8:E57,"確認済み"),NA()) -> 7 | D8: 候補は同一顧客の証明ではありません。
A9: 照合行ID | B9: 照合顧客ID | C9: 候補数 | D9: 単一候補行 | E9: 確認先行 | F9: 照合結果 | G9: 一致確認日 | H9: 元記録確認日
A10: =IF($L$3<>0,NA(),IF(COUNTA(照合入力!A8:F8)=0,"",IF(COUNTA(照合入力!A8)=0,"",照合入力!A8))) -> REC-0001 | B10: =IF($L$3<>0,NA(),IF(COUNTA(照合入力!A8:F8)=0,"",IF(COUNTA(照合入力!B8)=0,"",照合入力!B8))) -> CUS-0001 | C10: =IF($L$3<>0,NA(),IF(COUNTA(照合入力!A8:F8)=0,"",IF(COUNTA(照合入力!G8)=0,"",照合入力!G8))) -> 1 | D10: =IF($L$3<>0,NA(),IF(COUNTA(照合入力!A8:F8)=0,"",IF(COUNTA(照合入力!H8)=0,"",照合入力!H8))) -> MST-0001 | E10: =IF($L$3<>0,NA(),IF(COUNTA(照合入力!A8:F8)=0,"",IF(COUNTA(照合入力!D8)=0,"",照合入力!D8))) | F10: =IF($L$3<>0,NA(),IF(COUNTA(照合入力!A8:F8)=0,"",IF(COUNTA(照合入力!I8)=0,"",照合入力!I8))) -> 体系未確認 | G10: =IF($L$3<>0,NA(),IF(COUNTA(照合入力!A8:F8)=0,"",IF(COUNTA(照合入力!E8)=0,"",照合入力!E8))) | H10: =IF($L$3<>0,NA(),IF(COUNTA(照合入力!A8:F8)=0,"",IF(COUNTA(照合入力!F8)=0,"",照合入力!F8))) -> 46311
A11: =IF($L$3<>0,NA(),IF(COUNTA(照合入力!A9:F9)=0,"",IF(COUNTA(照合入力!A9)=0,"",照合入力!A9))) -> REC-0002 | B11: =IF($L$3<>0,NA(),IF(COUNTA(照合入力!A9:F9)=0,"",IF(COUNTA(照合入力!B9)=0,"",照合入力!B9))) -> CUS-0002 | C11: =IF($L$3<>0,NA(),IF(COUNTA(照合入力!A9:F9)=0,"",IF(COUNTA(照合入力!G9)=0,"",照合入力!G9))) -> 2 | D11: =IF($L$3<>0,NA(),IF(COUNTA(照合入力!A9:F9)=0,"",IF(COUNTA(照合入力!H9)=0,"",照合入力!H9))) | E11: =IF($L$3<>0,NA(),IF(COUNTA(照合入力!A9:F9)=0,"",IF(COUNTA(照合入力!D9)=0,"",照合入力!D9))) | F11: =IF($L$3<>0,NA(),IF(COUNTA(照合入力!A9:F9)=0,"",IF(COUNTA(照合入力!I9)=0,"",照合入力!I9))) -> 体系未確認 | G11: =IF($L$3<>0,NA(),IF(COUNTA(照合入力!A9:F9)=0,"",IF(COUNTA(照合入力!E9)=0,"",照合入力!E9))) | H11: =IF($L$3<>0,NA(),IF(COUNTA(照合入力!A9:F9)=0,"",IF(COUNTA(照合入力!F9)=0,"",照合入力!F9))) -> 46311
A12: =IF($L$3<>0,NA(),IF(COUNTA(照合入力!A10:F10)=0,"",IF(COUNTA(照合入力!A10)=0,"",照合入力!A10))) -> REC-0003 | B12: =IF($L$3<>0,NA(),IF(COUNTA(照合入力!A10:F10)=0,"",IF(COUNTA(照合入力!B10)=0,"",照合入力!B10))) -> CUS-0009 | C12: =IF($L$3<>0,NA(),IF(COUNTA(照合入力!A10:F10)=0,"",IF(COUNTA(照合入力!G10)=0,"",照合入力!G10))) -> 0 | D12: =IF($L$3<>0,NA(),IF(COUNTA(照合入力!A10:F10)=0,"",IF(COUNTA(照合入力!H10)=0,"",照合入力!H10))) | E12: =IF($L$3<>0,NA(),IF(COUNTA(照合入力!A10:F10)=0,"",IF(COUNTA(照合入力!D10)=0,"",照合入力!D10))) | F12: =IF($L$3<>0,NA(),IF(COUNTA(照合入力!A10:F10)=0,"",IF(COUNTA(照合入力!I10)=0,"",照合入力!I10))) -> 体系未確認 | G12: =IF($L$3<>0,NA(),IF(COUNTA(照合入力!A10:F10)=0,"",IF(COUNTA(照合入力!E10)=0,"",照合入力!E10))) | H12: =IF($L$3<>0,NA(),IF(COUNTA(照合入力!A10:F10)=0,"",IF(COUNTA(照合入力!F10)=0,"",照合入力!F10))) -> 46311
A13: =IF($L$3<>0,NA(),IF(COUNTA(照合入力!A11:F11)=0,"",IF(COUNTA(照合入力!A11)=0,"",照合入力!A11))) -> REC-0004 | B13: =IF($L$3<>0,NA(),IF(COUNTA(照合入力!A11:F11)=0,"",IF(COUNTA(照合入力!B11)=0,"",照合入力!B11))) | C13: =IF($L$3<>0,NA(),IF(COUNTA(照合入力!A11:F11)=0,"",IF(COUNTA(照合入力!G11)=0,"",照合入力!G11))) | D13: =IF($L$3<>0,NA(),IF(COUNTA(照合入力!A11:F11)=0,"",IF(COUNTA(照合入力!H11)=0,"",照合入力!H11))) | E13: =IF($L$3<>0,NA(),IF(COUNTA(照合入力!A11:F11)=0,"",IF(COUNTA(照合入力!D11)=0,"",照合入力!D11))) | F13: =IF($L$3<>0,NA(),IF(COUNTA(照合入力!A11:F11)=0,"",IF(COUNTA(照合入力!I11)=0,"",照合入力!I11))) -> 体系未確認 | G13: =IF($L$3<>0,NA(),IF(COUNTA(照合入力!A11:F11)=0,"",IF(COUNTA(照合入力!E11)=0,"",照合入力!E11))) | H13: =IF($L$3<>0,NA(),IF(COUNTA(照合入力!A11:F11)=0,"",IF(COUNTA(照合入力!F11)=0,"",照合入力!F11))) -> 46311
A14: =IF($L$3<>0,NA(),IF(COUNTA(照合入力!A12:F12)=0,"",IF(COUNTA(照合入力!A12)=0,"",照合入力!A12))) -> REC-0005 | B14: =IF($L$3<>0,NA(),IF(COUNTA(照合入力!A12:F12)=0,"",IF(COUNTA(照合入力!B12)=0,"",照合入力!B12))) -> CUS-0003 | C14: =IF($L$3<>0,NA(),IF(COUNTA(照合入力!A12:F12)=0,"",IF(COUNTA(照合入力!G12)=0,"",照合入力!G12))) -> 1 | D14: =IF($L$3<>0,NA(),IF(COUNTA(照合入力!A12:F12)=0,"",IF(COUNTA(照合入力!H12)=0,"",照合入力!H12))) -> MST-0004 | E14: =IF($L$3<>0,NA(),IF(COUNTA(照合入力!A12:F12)=0,"",IF(COUNTA(照合入力!D12)=0,"",照合入力!D12))) | F14: =IF($L$3<>0,NA(),IF(COUNTA(照合入力!A12:F12)=0,"",IF(COUNTA(照合入力!I12)=0,"",照合入力!I12))) -> 体系未確認 | G14: =IF($L$3<>0,NA(),IF(COUNTA(照合入力!A12:F12)=0,"",IF(COUNTA(照合入力!E12)=0,"",照合入力!E12))) | H14: =IF($L$3<>0,NA(),IF(COUNTA(照合入力!A12:F12)=0,"",IF(COUNTA(照合入力!F12)=0,"",照合入力!F12))) -> 46311
A15: =IF($L$3<>0,NA(),IF(COUNTA(照合入力!A13:F13)=0,"",IF(COUNTA(照合入力!A13)=0,"",照合入力!A13))) -> REC-0006 | B15: =IF($L$3<>0,NA(),IF(COUNTA(照合入力!A13:F13)=0,"",IF(COUNTA(照合入力!B13)=0,"",照合入力!B13))) -> CUS-0004 | C15: =IF($L$3<>0,NA(),IF(COUNTA(照合入力!A13:F13)=0,"",IF(COUNTA(照合入力!G13)=0,"",照合入力!G13))) -> 1 | D15: =IF($L$3<>0,NA(),IF(COUNTA(照合入力!A13:F13)=0,"",IF(COUNTA(照合入力!H13)=0,"",照合入力!H13))) -> MST-0005 | E15: =IF($L$3<>0,NA(),IF(COUNTA(照合入力!A13:F13)=0,"",IF(COUNTA(照合入力!D13)=0,"",照合入力!D13))) -> MST-0005 | F15: =IF($L$3<>0,NA(),IF(COUNTA(照合入力!A13:F13)=0,"",IF(COUNTA(照合入力!I13)=0,"",照合入力!I13))) -> 体系未確認 | G15: =IF($L$3<>0,NA(),IF(COUNTA(照合入力!A13:F13)=0,"",IF(COUNTA(照合入力!E13)=0,"",照合入力!E13))) -> 46311 | H15: =IF($L$3<>0,NA(),IF(COUNTA(照合入力!A13:F13)=0,"",IF(COUNTA(照合入力!F13)=0,"",照合入力!F13))) -> 46311
A16: =IF($L$3<>0,NA(),IF(COUNTA(照合入力!A14:F14)=0,"",IF(COUNTA(照合入力!A14)=0,"",照合入力!A14))) -> REC-0007 | B16: =IF($L$3<>0,NA(),IF(COUNTA(照合入力!A14:F14)=0,"",IF(COUNTA(照合入力!B14)=0,"",照合入力!B14))) -> CUS-0005 | C16: =IF($L$3<>0,NA(),IF(COUNTA(照合入力!A14:F14)=0,"",IF(COUNTA(照合入力!G14)=0,"",照合入力!G14))) -> 1 | D16: =IF($L$3<>0,NA(),IF(COUNTA(照合入力!A14:F14)=0,"",IF(COUNTA(照合入力!H14)=0,"",照合入力!H14))) -> MST-0006 | E16: =IF($L$3<>0,NA(),IF(COUNTA(照合入力!A14:F14)=0,"",IF(COUNTA(照合入力!D14)=0,"",照合入力!D14))) | F16: =IF($L$3<>0,NA(),IF(COUNTA(照合入力!A14:F14)=0,"",IF(COUNTA(照合入力!I14)=0,"",照合入力!I14))) -> 対象外 | G16: =IF($L$3<>0,NA(),IF(COUNTA(照合入力!A14:F14)=0,"",IF(COUNTA(照合入力!E14)=0,"",照合入力!E14))) | H16: =IF($L$3<>0,NA(),IF(COUNTA(照合入力!A14:F14)=0,"",IF(COUNTA(照合入力!F14)=0,"",照合入力!F14))) -> 46311
A17: =IF($L$3<>0,NA(),IF(COUNTA(照合入力!A15:F15)=0,"",IF(COUNTA(照合入力!A15)=0,"",照合入力!A15))) -> REC-0008 | B17: =IF($L$3<>0,NA(),IF(COUNTA(照合入力!A15:F15)=0,"",IF(COUNTA(照合入力!B15)=0,"",照合入力!B15))) -> CUS-0001 | C17: =IF($L$3<>0,NA(),IF(COUNTA(照合入力!A15:F15)=0,"",IF(COUNTA(照合入力!G15)=0,"",照合入力!G15))) -> 1 | D17: =IF($L$3<>0,NA(),IF(COUNTA(照合入力!A15:F15)=0,"",IF(COUNTA(照合入力!H15)=0,"",照合入力!H15))) -> MST-0001 | E17: =IF($L$3<>0,NA(),IF(COUNTA(照合入力!A15:F15)=0,"",IF(COUNTA(照合入力!D15)=0,"",照合入力!D15))) | F17: =IF($L$3<>0,NA(),IF(COUNTA(照合入力!A15:F15)=0,"",IF(COUNTA(照合入力!I15)=0,"",照合入力!I15))) -> 体系未確認 | G17: =IF($L$3<>0,NA(),IF(COUNTA(照合入力!A15:F15)=0,"",IF(COUNTA(照合入力!E15)=0,"",照合入力!E15))) | H17: =IF($L$3<>0,NA(),IF(COUNTA(照合入力!A15:F15)=0,"",IF(COUNTA(照合入力!F15)=0,"",照合入力!F15))) -> 46311
A18: =IF($L$3<>0,NA(),IF(COUNTA(照合入力!A16:F16)=0,"",IF(COUNTA(照合入力!A16)=0,"",照合入力!A16))) | B18: =IF($L$3<>0,NA(),IF(COUNTA(照合入力!A16:F16)=0,"",IF(COUNTA(照合入力!B16)=0,"",照合入力!B16))) | C18: =IF($L$3<>0,NA(),IF(COUNTA(照合入力!A16:F16)=0,"",IF(COUNTA(照合入力!G16)=0,"",照合入力!G16))) | D18: =IF($L$3<>0,NA(),IF(COUNTA(照合入力!A16:F16)=0,"",IF(COUNTA(照合入力!H16)=0,"",照合入力!H16))) | E18: =IF($L$3<>0,NA(),IF(COUNTA(照合入力!A16:F16)=0,"",IF(COUNTA(照合入力!D16)=0,"",照合入力!D16))) | F18: =IF($L$3<>0,NA(),IF(COUNTA(照合入力!A16:F16)=0,"",IF(COUNTA(照合入力!I16)=0,"",照合入力!I16))) | G18: =IF($L$3<>0,NA(),IF(COUNTA(照合入力!A16:F16)=0,"",IF(COUNTA(照合入力!E16)=0,"",照合入力!E16))) | H18: =IF($L$3<>0,NA(),IF(COUNTA(照合入力!A16:F16)=0,"",IF(COUNTA(照合入力!F16)=0,"",照合入力!F16)))
A19: =IF($L$3<>0,NA(),IF(COUNTA(照合入力!A17:F17)=0,"",IF(COUNTA(照合入力!A17)=0,"",照合入力!A17))) | B19: =IF($L$3<>0,NA(),IF(COUNTA(照合入力!A17:F17)=0,"",IF(COUNTA(照合入力!B17)=0,"",照合入力!B17))) | C19: =IF($L$3<>0,NA(),IF(COUNTA(照合入力!A17:F17)=0,"",IF(COUNTA(照合入力!G17)=0,"",照合入力!G17))) | D19: =IF($L$3<>0,NA(),IF(COUNTA(照合入力!A17:F17)=0,"",IF(COUNTA(照合入力!H17)=0,"",照合入力!H17))) | E19: =IF($L$3<>0,NA(),IF(COUNTA(照合入力!A17:F17)=0,"",IF(COUNTA(照合入力!D17)=0,"",照合入力!D17))) | F19: =IF($L$3<>0,NA(),IF(COUNTA(照合入力!A17:F17)=0,"",IF(COUNTA(照合入力!I17)=0,"",照合入力!I17))) | G19: =IF($L$3<>0,NA(),IF(COUNTA(照合入力!A17:F17)=0,"",IF(COUNTA(照合入力!E17)=0,"",照合入力!E17))) | H19: =IF($L$3<>0,NA(),IF(COUNTA(照合入力!A17:F17)=0,"",IF(COUNTA(照合入力!F17)=0,"",照合入力!F17)))
A20: =IF($L$3<>0,NA(),IF(COUNTA(照合入力!A18:F18)=0,"",IF(COUNTA(照合入力!A18)=0,"",照合入力!A18))) | B20: =IF($L$3<>0,NA(),IF(COUNTA(照合入力!A18:F18)=0,"",IF(COUNTA(照合入力!B18)=0,"",照合入力!B18))) | C20: =IF($L$3<>0,NA(),IF(COUNTA(照合入力!A18:F18)=0,"",IF(COUNTA(照合入力!G18)=0,"",照合入力!G18))) | D20: =IF($L$3<>0,NA(),IF(COUNTA(照合入力!A18:F18)=0,"",IF(COUNTA(照合入力!H18)=0,"",照合入力!H18))) | E20: =IF($L$3<>0,NA(),IF(COUNTA(照合入力!A18:F18)=0,"",IF(COUNTA(照合入力!D18)=0,"",照合入力!D18))) | F20: =IF($L$3<>0,NA(),IF(COUNTA(照合入力!A18:F18)=0,"",IF(COUNTA(照合入力!I18)=0,"",照合入力!I18))) | G20: =IF($L$3<>0,NA(),IF(COUNTA(照合入力!A18:F18)=0,"",IF(COUNTA(照合入力!E18)=0,"",照合入力!E18))) | H20: =IF($L$3<>0,NA(),IF(COUNTA(照合入力!A18:F18)=0,"",IF(COUNTA(照合入力!F18)=0,"",照合入力!F18)))
A21: =IF($L$3<>0,NA(),IF(COUNTA(照合入力!A19:F19)=0,"",IF(COUNTA(照合入力!A19)=0,"",照合入力!A19))) | B21: =IF($L$3<>0,NA(),IF(COUNTA(照合入力!A19:F19)=0,"",IF(COUNTA(照合入力!B19)=0,"",照合入力!B19))) | C21: =IF($L$3<>0,NA(),IF(COUNTA(照合入力!A19:F19)=0,"",IF(COUNTA(照合入力!G19)=0,"",照合入力!G19))) | D21: =IF($L$3<>0,NA(),IF(COUNTA(照合入力!A19:F19)=0,"",IF(COUNTA(照合入力!H19)=0,"",照合入力!H19))) | E21: =IF($L$3<>0,NA(),IF(COUNTA(照合入力!A19:F19)=0,"",IF(COUNTA(照合入力!D19)=0,"",照合入力!D19))) | F21: =IF($L$3<>0,NA(),IF(COUNTA(照合入力!A19:F19)=0,"",IF(COUNTA(照合入力!I19)=0,"",照合入力!I19))) | G21: =IF($L$3<>0,NA(),IF(COUNTA(照合入力!A19:F19)=0,"",IF(COUNTA(照合入力!E19)=0,"",照合入力!E19))) | H21: =IF($L$3<>0,NA(),IF(COUNTA(照合入力!A19:F19)=0,"",IF(COUNTA(照合入力!F19)=0,"",照合入力!F19)))
... A59: =IF($L$3<>0,NA(),IF(COUNTA(照合入力!A57:F57)=0,"",IF(COUNTA(照合入力!A57)=0,"",照合入力!A57))) | B59: =IF($L$3<>0,NA(),IF(COUNTA(照合入力!A57:F57)=0,"",IF(COUNTA(照合入力!B57)=0,"",照合入力!B57))) | C59: =IF($L$3<>0,NA(),IF(COUNTA(照合入力!A57:F57)=0,"",IF(COUNTA(照合入力!G57)=0,"",照合入力!G57))) | D59: =IF($L$3<>0,NA(),IF(COUNTA(照合入力!A57:F57)=0,"",IF(COUNTA(照合入力!H57)=0,"",照合入力!H57))) | E59: =IF($L$3<>0,NA(),IF(COUNTA(照合入力!A57:F57)=0,"",IF(COUNTA(照合入力!D57)=0,"",照合入力!D57))) | F59: =IF($L$3<>0,NA(),IF(COUNTA(照合入力!A57:F57)=0,"",IF(COUNTA(照合入力!I57)=0,"",照合入力!I57))) | G59: =IF($L$3<>0,NA(),IF(COUNTA(照合入力!A57:F57)=0,"",IF(COUNTA(照合入力!E57)=0,"",照合入力!E57))) | H59: =IF($L$3<>0,NA(),IF(COUNTA(照合入力!A57:F57)=0,"",IF(COUNTA(照合入力!F57)=0,"",照合入力!F57)))

Sheet 照合入力
A2: 照合元のIDと手動確認を記録
A3: 黄色A〜Fへ50行。元記録と顧客名/本人・IDの対応や確認根拠は別資料で管理。
A5: 候補が1件でも自動一致にしません。複数候補は先頭を選ばず、元記録で確認先の行IDを確かめます。
A7: 照合行ID | B7: 照合顧客ID | C7: 確認区分 | D7: 確認先行ID | E7: 一致確認日 | F7: 元記録確認日 | G7: 候補数 | H7: 単一候補行 | I7: 照合結果 | J7: 入力の確認 | K7: 入力不備 | L7: 計算の前提
A8: REC-0001 | B8: CUS-0001 | C8: 未確認 | F8: 46311 | G8: =IF(J8="","",IF(K8<>0,NA(),IF(COUNTA(B8)=0,"",COUNTIFS(顧客マスター!$B$8:$B$57,B8)))) -> 1 | H8: =IF(J8="","",IF(K8<>0,NA(),IF(AND(COUNTA(B8)>0,G8=1),INDEX(顧客マスター!$A$8:$A$57,MATCH(B8,顧客マスター!$B$8:$B$57,0)),""))) -> MST-0001 | I8: =IF(J8="","",IF(K8<>0,NA(),IF(C8="対象外","対象外",IF(照合結果!$E$3<>"確認済","体系未確認",IF(COUNTA(B8)=0,"キー未確認",IF(C8="一致確認","一致確認",IF(G8=0,"候補なし",IF(G8>1,"複数候補",IF(INDEX(顧客マスター!$C$8:$C$57,MATCH(B8,顧客マスター!$B$8:$B$57,0))<>"有効","台帳要確認","単一候補"))))))))) -> 体系未確認 | J8: =IF(COUNTA(A8:F8)=0,"",IF(NOT(AND(ISTEXT(A8),LEN(A8)=8,EXACT(LEFT(A8,4),"REC-"),ISNUMBER(FIND(MID(A8,5,1)&"x","0x1x2x3x4x5x6x7x8x9x")),ISNUMBER(FIND(MID(A8,6,1)&"x","0x1x2x3x4x5x6x7x8x9x")),ISNUMBER(FIND(MID(A8,7,1)&"x","0x1x2x3x4x5x6x7x8x9x")),ISNUMBER(FIND(MID(A8,8,1)&"x","0x1x2x3x4x5x6x7x8x9x")))),"照合行IDの形式を確認",IF(COUNTIFS($A$8:$A$57,A8)>1,"照合行IDが重複",IF(AND(COUNTA(B8)>0,NOT(AND(ISTEXT(B8),LEN(B8)=8,EXACT(LEFT(B8,4),"CUS-"),ISNUMBER(FIND(MID(B8,5,1)&"x","0x1x2x3x4x5x6x7x8x9x")),ISNUMBER(FIND(MID(B8,6,1)&"x","0x1x2x3x4x5x6x7x8x9x")),ISNUMBER(FIND(MID(B8,7,1)&"x","0x1x2x3x4x5x6x7x8x9x")),ISNUMBER(FIND(MID(B8,8,1)&"x","0x1x2x3x4x5x6x7x8x9x"))))),"照合顧客IDの形式を確認",IF(NOT(OR(C8="未確認",C8="一致確認",C8="対象外")),"確認区分を確認",IF(NOT(IF(ISNUMBER(F8),AND(F8>=43831,F8<73051,F8=INT(F8)),FALSE())),"元記録確認日は時刻なしで必須",IF(F8>照合結果!$B$3,"元記録確認日が基準日より後",IF(AND(C8<>"一致確認",COUNTA(D8:E8)>0),"未確認/対象外の確認先と一致確認日は空欄",IF(AND(C8="一致確認",COUNTA(B8)=0),"一致確認には照合顧客IDが必須",IF(AND(C8="一致確認",NOT(AND(ISTEXT(D8),LEN(D8)=8,EXACT(LEFT(D8,4),"MST-"),ISNUMBER(FIND(MID(D8,5,1)&"x","0x1x2x3x4x5x6x7x8x9x")),ISNUMBER(FIND(MID(D8,6,1)&"x","0x1x2x3x4x5x6x7x8x9x")),ISNUMBER(FIND(MID(D8,7,1)&"x","0x1x2x3x4x5x6x7x8x9x")),ISNUMBER(FIND(MID(D8,8,1)&"x","0x1x2x3x4x5x6x7x8x9x"))))),"確認先行IDの形式を確認",IF(AND(C8="一致確認",COUNTIFS(顧客マスター!$A$8:$A$57,D8)<>1),"確認先行が未登録/重複",IF(IF(C8="一致確認",INDEX(顧客マスター!$B$8:$B$57,MATCH(D8,顧客マスター!$A$8:$A$57,0))<>B8,FALSE()),"確認先の顧客IDが一致しません",IF(IF(C8="一致確認",INDEX(顧客マスター!$C$8:$C$57,MATCH(D8,顧客マスター!$A$8:$A$57,0))<>"有効",FALSE()),"確認先の台帳区分を確認",IF(AND(C8="一致確認",NOT(IF(ISNUMBER(E8),AND(E8>=43831,E8<73051,E8=INT(E8)),FALSE()))),"一致確認日は時刻なしで必須",IF(IF(C8="一致確認",OR(E8>F8,E8<INDEX(顧客マスター!$D$8:$D$57,MATCH(D8,顧客マスター!$A$8:$A$57,0))),FALSE()),"台帳確認日≦一致確認日≦元記録確認日を確認","確認済み"))))))))))))))) -> 確認済み | K8: =IF(J8="","",IF(J8="確認済み",0,1)) -> 0 | L8: =IF(COUNTA(A8:F8)=0,IF(AND(J8="",K8="",G8="",H8="",I8=""),0,1),IF(NOT(AND(ISTEXT(J8),J8=IF(COUNTA(A8:F8)=0,"",IF(NOT(AND(ISTEXT(A8),LEN(A8)=8,EXACT(LEFT(A8,4),"REC-"),ISNUMBER(FIND(MID(A8,5,1)&"x","0x1x2x3x4x5x6x7x8x9x")),ISNUMBER(FIND(MID(A8,6,1)&"x","0x1x2x3x4x5x6x7x8x9x")),ISNUMBER(FIND(MID(A8,7,1)&"x","0x1x2x3x4x5x6x7x8x9x")),ISNUMBER(FIND(MID(A8,8,1)&"x","0x1x2x3x4x5x6x7x8x9x")))),"照合行IDの形式を確認",IF(COUNTIFS($A$8:$A$57,A8)>1,"照合行IDが重複",IF(AND(COUNTA(B8)>0,NOT(AND(ISTEXT(B8),LEN(B8)=8,EXACT(LEFT(B8,4),"CUS-"),ISNUMBER(FIND(MID(B8,5,1)&"x","0x1x2x3x4x5x6x7x8x9x")),ISNUMBER(FIND(MID(B8,6,1)&"x","0x1x2x3x4x5x6x7x8x9x")),ISNUMBER(FIND(MID(B8,7,1)&"x","0x1x2x3x4x5x6x7x8x9x")),ISNUMBER(FIND(MID(B8,8,1)&"x","0x1x2x3x4x5x6x7x8x9x"))))),"照合顧客IDの形式を確認",IF(NOT(OR(C8="未確認",C8="一致確認",C8="対象外")),"確認区分を確認",IF(NOT(IF(ISNUMBER(F8),AND(F8>=43831,F8<73051,F8=INT(F8)),FALSE())),"元記録確認日は時刻なしで必須",IF(F8>照合結果!$B$3,"元記録確認日が基準日より後",IF(AND(C8<>"一致確認",COUNTA(D8:E8)>0),"未確認/対象外の確認先と一致確認日は空欄",IF(AND(C8="一致確認",COUNTA(B8)=0),"一致確認には照合顧客IDが必須",IF(AND(C8="一致確認",NOT(AND(ISTEXT(D8),LEN(D8)=8,EXACT(LEFT(D8,4),"MST-"),ISNUMBER(FIND(MID(D8,5,1)&"x","0x1x2x3x4x5x6x7x8x9x")),ISNUMBER(FIND(MID(D8,6,1)&"x","0x1x2x3x4x5x6x7x8x9x")),ISNUMBER(FIND(MID(D8,7,1)&"x","0x1x2x3x4x5x6x7x8x9x")),ISNUMBER(FIND(MID(D8,8,1)&"x","0x1x2x3x4x5x6x7x8x9x"))))),"確認先行IDの形式を確認",IF(AND(C8="一致確認",COUNTIFS(顧客マスター!$A$8:$A$57,D8)<>1),"確認先行が未登録/重複",IF(IF(C8="一致確認",INDEX(顧客マスター!$B$8:$B$57,MATCH(D8,顧客マスター!$A$8:$A$57,0))<>B8,FALSE()),"確認先の顧客IDが一致しません",IF(IF(C8="一致確認",INDEX(顧客マスター!$C$8:$C$57,MATCH(D8,顧客マスター!$A$8:$A$57,0))<>"有効",FALSE()),"確認先の台帳区分を確認",IF(AND(C8="一致確認",NOT(IF(ISNUMBER(E8),AND(E8>=43831,E8<73051,E8=INT(E8)),FALSE()))),"一致確認日は時刻なしで必須",IF(IF(C8="一致確認",OR(E8>F8,E8<INDEX(顧客マスター!$D$8:$D$57,MATCH(D8,顧客マスター!$A$8:$A$57,0))),FALSE()),"台帳確認日≦一致確認日≦元記録確認日を確認","確認済み"))))))))))))))),ISNUMBER(K8),K8=IF(J8="確認済み",0,1))),1,IF(K8<>0,0,IF(AND(IF(COUNTA(B8)=0,ISTEXT(G8),ISNUMBER(G8)),G8=IF(COUNTA(B8)=0,"",COUNTIFS(顧客マスター!$B$8:$B$57,B8)),ISTEXT(H8),H8=IF(AND(COUNTA(B8)>0,G8=1),INDEX(顧客マスター!$A$8:$A$57,MATCH(B8,顧客マスター!$B$8:$B$57,0)),""),ISTEXT(I8),I8=IF(C8="対象外","対象外",IF(照合結果!$E$3<>"確認済","体系未確認",IF(COUNTA(B8)=0,"キー未確認",IF(C8="一致確認","一致確認",IF(G8=0,"候補なし",IF(G8>1,"複数候補",IF(INDEX(顧客マスター!$C$8:$C$57,MATCH(B8,顧客マスター!$B$8:$B$57,0))<>"有効","台帳要確認","単一候補")))))))),0,1)))) -> 0
A9: REC-0002 | B9: CUS-0002 | C9: 未確認 | F9: 46311 | G9: =IF(J9="","",IF(K9<>0,NA(),IF(COUNTA(B9)=0,"",COUNTIFS(顧客マスター!$B$8:$B$57,B9)))) -> 2 | H9: =IF(J9="","",IF(K9<>0,NA(),IF(AND(COUNTA(B9)>0,G9=1),INDEX(顧客マスター!$A$8:$A$57,MATCH(B9,顧客マスター!$B$8:$B$57,0)),""))) | I9: =IF(J9="","",IF(K9<>0,NA(),IF(C9="対象外","対象外",IF(照合結果!$E$3<>"確認済","体系未確認",IF(COUNTA(B9)=0,"キー未確認",IF(C9="一致確認","一致確認",IF(G9=0,"候補なし",IF(G9>1,"複数候補",IF(INDEX(顧客マスター!$C$8:$C$57,MATCH(B9,顧客マスター!$B$8:$B$57,0))<>"有効","台帳要確認","単一候補"))))))))) -> 体系未確認 | J9: =IF(COUNTA(A9:F9)=0,"",IF(NOT(AND(ISTEXT(A9),LEN(A9)=8,EXACT(LEFT(A9,4),"REC-"),ISNUMBER(FIND(MID(A9,5,1)&"x","0x1x2x3x4x5x6x7x8x9x")),ISNUMBER(FIND(MID(A9,6,1)&"x","0x1x2x3x4x5x6x7x8x9x")),ISNUMBER(FIND(MID(A9,7,1)&"x","0x1x2x3x4x5x6x7x8x9x")),ISNUMBER(FIND(MID(A9,8,1)&"x","0x1x2x3x4x5x6x7x8x9x")))),"照合行IDの形式を確認",IF(COUNTIFS($A$8:$A$57,A9)>1,"照合行IDが重複",IF(AND(COUNTA(B9)>0,NOT(AND(ISTEXT(B9),LEN(B9)=8,EXACT(LEFT(B9,4),"CUS-"),ISNUMBER(FIND(MID(B9,5,1)&"x","0x1x2x3x4x5x6x7x8x9x")),ISNUMBER(FIND(MID(B9,6,1)&"x","0x1x2x3x4x5x6x7x8x9x")),ISNUMBER(FIND(MID(B9,7,1)&"x","0x1x2x3x4x5x6x7x8x9x")),ISNUMBER(FIND(MID(B9,8,1)&"x","0x1x2x3x4x5x6x7x8x9x"))))),"照合顧客IDの形式を確認",IF(NOT(OR(C9="未確認",C9="一致確認",C9="対象外")),"確認区分を確認",IF(NOT(IF(ISNUMBER(F9),AND(F9>=43831,F9<73051,F9=INT(F9)),FALSE())),"元記録確認日は時刻なしで必須",IF(F9>照合結果!$B$3,"元記録確認日が基準日より後",IF(AND(C9<>"一致確認",COUNTA(D9:E9)>0),"未確認/対象外の確認先と一致確認日は空欄",IF(AND(C9="一致確認",COUNTA(B9)=0),"一致確認には照合顧客IDが必須",IF(AND(C9="一致確認",NOT(AND(ISTEXT(D9),LEN(D9)=8,EXACT(LEFT(D9,4),"MST-"),ISNUMBER(FIND(MID(D9,5,1)&"x","0x1x2x3x4x5x6x7x8x9x")),ISNUMBER(FIND(MID(D9,6,1)&"x","0x1x2x3x4x5x6x7x8x9x")),ISNUMBER(FIND(MID(D9,7,1)&"x","0x1x2x3x4x5x6x7x8x9x")),ISNUMBER(FIND(MID(D9,8,1)&"x","0x1x2x3x4x5x6x7x8x9x"))))),"確認先行IDの形式を確認",IF(AND(C9="一致確認",COUNTIFS(顧客マスター!$A$8:$A$57,D9)<>1),"確認先行が未登録/重複",IF(IF(C9="一致確認",INDEX(顧客マスター!$B$8:$B$57,MATCH(D9,顧客マスター!$A$8:$A$57,0))<>B9,FALSE()),"確認先の顧客IDが一致しません",IF(IF(C9="一致確認",INDEX(顧客マスター!$C$8:$C$57,MATCH(D9,顧客マスター!$A$8:$A$57,0))<>"有効",FALSE()),"確認先の台帳区分を確認",IF(AND(C9="一致確認",NOT(IF(ISNUMBER(E9),AND(E9>=43831,E9<73051,E9=INT(E9)),FALSE()))),"一致確認日は時刻なしで必須",IF(IF(C9="一致確認",OR(E9>F9,E9<INDEX(顧客マスター!$D$8:$D$57,MATCH(D9,顧客マスター!$A$8:$A$57,0))),FALSE()),"台帳確認日≦一致確認日≦元記録確認日を確認","確認済み"))))))))))))))) -> 確認済み | K9: =IF(J9="","",IF(J9="確認済み",0,1)) -> 0 | L9: =IF(COUNTA(A9:F9)=0,IF(AND(J9="",K9="",G9="",H9="",I9=""),0,1),IF(NOT(AND(ISTEXT(J9),J9=IF(COUNTA(A9:F9)=0,"",IF(NOT(AND(ISTEXT(A9),LEN(A9)=8,EXACT(LEFT(A9,4),"REC-"),ISNUMBER(FIND(MID(A9,5,1)&"x","0x1x2x3x4x5x6x7x8x9x")),ISNUMBER(FIND(MID(A9,6,1)&"x","0x1x2x3x4x5x6x7x8x9x")),ISNUMBER(FIND(MID(A9,7,1)&"x","0x1x2x3x4x5x6x7x8x9x")),ISNUMBER(FIND(MID(A9,8,1)&"x","0x1x2x3x4x5x6x7x8x9x")))),"照合行IDの形式を確認",IF(COUNTIFS($A$8:$A$57,A9)>1,"照合行IDが重複",IF(AND(COUNTA(B9)>0,NOT(AND(ISTEXT(B9),LEN(B9)=8,EXACT(LEFT(B9,4),"CUS-"),ISNUMBER(FIND(MID(B9,5,1)&"x","0x1x2x3x4x5x6x7x8x9x")),ISNUMBER(FIND(MID(B9,6,1)&"x","0x1x2x3x4x5x6x7x8x9x")),ISNUMBER(FIND(MID(B9,7,1)&"x","0x1x2x3x4x5x6x7x8x9x")),ISNUMBER(FIND(MID(B9,8,1)&"x","0x1x2x3x4x5x6x7x8x9x"))))),"照合顧客IDの形式を確認",IF(NOT(OR(C9="未確認",C9="一致確認",C9="対象外")),"確認区分を確認",IF(NOT(IF(ISNUMBER(F9),AND(F9>=43831,F9<73051,F9=INT(F9)),FALSE())),"元記録確認日は時刻なしで必須",IF(F9>照合結果!$B$3,"元記録確認日が基準日より後",IF(AND(C9<>"一致確認",COUNTA(D9:E9)>0),"未確認/対象外の確認先と一致確認日は空欄",IF(AND(C9="一致確認",COUNTA(B9)=0),"一致確認には照合顧客IDが必須",IF(AND(C9="一致確認",NOT(AND(ISTEXT(D9),LEN(D9)=8,EXACT(LEFT(D9,4),"MST-"),ISNUMBER(FIND(MID(D9,5,1)&"x","0x1x2x3x4x5x6x7x8x9x")),ISNUMBER(FIND(MID(D9,6,1)&"x","0x1x2x3x4x5x6x7x8x9x")),ISNUMBER(FIND(MID(D9,7,1)&"x","0x1x2x3x4x5x6x7x8x9x")),ISNUMBER(FIND(MID(D9,8,1)&"x","0x1x2x3x4x5x6x7x8x9x"))))),"確認先行IDの形式を確認",IF(AND(C9="一致確認",COUNTIFS(顧客マスター!$A$8:$A$57,D9)<>1),"確認先行が未登録/重複",IF(IF(C9="一致確認",INDEX(顧客マスター!$B$8:$B$57,MATCH(D9,顧客マスター!$A$8:$A$57,0))<>B9,FALSE()),"確認先の顧客IDが一致しません",IF(IF(C9="一致確認",INDEX(顧客マスター!$C$8:$C$57,MATCH(D9,顧客マスター!$A$8:$A$57,0))<>"有効",FALSE()),"確認先の台帳区分を確認",IF(AND(C9="一致確認",NOT(IF(ISNUMBER(E9),AND(E9>=43831,E9<73051,E9=INT(E9)),FALSE()))),"一致確認日は時刻なしで必須",IF(IF(C9="一致確認",OR(E9>F9,E9<INDEX(顧客マスター!$D$8:$D$57,MATCH(D9,顧客マスター!$A$8:$A$57,0))),FALSE()),"台帳確認日≦一致確認日≦元記録確認日を確認","確認済み"))))))))))))))),ISNUMBER(K9),K9=IF(J9="確認済み",0,1))),1,IF(K9<>0,0,IF(AND(IF(COUNTA(B9)=0,ISTEXT(G9),ISNUMBER(G9)),G9=IF(COUNTA(B9)=0,"",COUNTIFS(顧客マスター!$B$8:$B$57,B9)),ISTEXT(H9),H9=IF(AND(COUNTA(B9)>0,G9=1),INDEX(顧客マスター!$A$8:$A$57,MATCH(B9,顧客マスター!$B$8:$B$57,0)),""),ISTEXT(I9),I9=IF(C9="対象外","対象外",IF(照合結果!$E$3<>"確認済","体系未確認",IF(COUNTA(B9)=0,"キー未確認",IF(C9="一致確認","一致確認",IF(G9=0,"候補なし",IF(G9>1,"複数候補",IF(INDEX(顧客マスター!$C$8:$C$57,MATCH(B9,顧客マスター!$B$8:$B$57,0))<>"有効","台帳要確認","単一候補")))))))),0,1)))) -> 0
A10: REC-0003 | B10: CUS-0009 | C10: 未確認 | F10: 46311 | G10: =IF(J10="","",IF(K10<>0,NA(),IF(COUNTA(B10)=0,"",COUNTIFS(顧客マスター!$B$8:$B$57,B10)))) -> 0 | H10: =IF(J10="","",IF(K10<>0,NA(),IF(AND(COUNTA(B10)>0,G10=1),INDEX(顧客マスター!$A$8:$A$57,MATCH(B10,顧客マスター!$B$8:$B$57,0)),""))) | I10: =IF(J10="","",IF(K10<>0,NA(),IF(C10="対象外","対象外",IF(照合結果!$E$3<>"確認済","体系未確認",IF(COUNTA(B10)=0,"キー未確認",IF(C10="一致確認","一致確認",IF(G10=0,"候補なし",IF(G10>1,"複数候補",IF(INDEX(顧客マスター!$C$8:$C$57,MATCH(B10,顧客マスター!$B$8:$B$57,0))<>"有効","台帳要確認","単一候補"))))))))) -> 体系未確認 | J10: =IF(COUNTA(A10:F10)=0,"",IF(NOT(AND(ISTEXT(A10),LEN(A10)=8,EXACT(LEFT(A10,4),"REC-"),ISNUMBER(FIND(MID(A10,5,1)&"x","0x1x2x3x4x5x6x7x8x9x")),ISNUMBER(FIND(MID(A10,6,1)&"x","0x1x2x3x4x5x6x7x8x9x")),ISNUMBER(FIND(MID(A10,7,1)&"x","0x1x2x3x4x5x6x7x8x9x")),ISNUMBER(FIND(MID(A10,8,1)&"x","0x1x2x3x4x5x6x7x8x9x")))),"照合行IDの形式を確認",IF(COUNTIFS($A$8:$A$57,A10)>1,"照合行IDが重複",IF(AND(COUNTA(B10)>0,NOT(AND(ISTEXT(B10),LEN(B10)=8,EXACT(LEFT(B10,4),"CUS-"),ISNUMBER(FIND(MID(B10,5,1)&"x","0x1x2x3x4x5x6x7x8x9x")),ISNUMBER(FIND(MID(B10,6,1)&"x","0x1x2x3x4x5x6x7x8x9x")),ISNUMBER(FIND(MID(B10,7,1)&"x","0x1x2x3x4x5x6x7x8x9x")),ISNUMBER(FIND(MID(B10,8,1)&"x","0x1x2x3x4x5x6x7x8x9x"))))),"照合顧客IDの形式を確認",IF(NOT(OR(C10="未確認",C10="一致確認",C10="対象外")),"確認区分を確認",IF(NOT(IF(ISNUMBER(F10),AND(F10>=43831,F10<73051,F10=INT(F10)),FALSE())),"元記録確認日は時刻なしで必須",IF(F10>照合結果!$B$3,"元記録確認日が基準日より後",IF(AND(C10<>"一致確認",COUNTA(D10:E10)>0),"未確認/対象外の確認先と一致確認日は空欄",IF(AND(C10="一致確認",COUNTA(B10)=0),"一致確認には照合顧客IDが必須",IF(AND(C10="一致確認",NOT(AND(ISTEXT(D10),LEN(D10)=8,EXACT(LEFT(D10,4),"MST-"),ISNUMBER(FIND(MID(D10,5,1)&"x","0x1x2x3x4x5x6x7x8x9x")),ISNUMBER(FIND(MID(D10,6,1)&"x","0x1x2x3x4x5x6x7x8x9x")),ISNUMBER(FIND(MID(D10,7,1)&"x","0x1x2x3x4x5x6x7x8x9x")),ISNUMBER(FIND(MID(D10,8,1)&"x","0x1x2x3x4x5x6x7x8x9x"))))),"確認先行IDの形式を確認",IF(AND(C10="一致確認",COUNTIFS(顧客マスター!$A$8:$A$57,D10)<>1),"確認先行が未登録/重複",IF(IF(C10="一致確認",INDEX(顧客マスター!$B$8:$B$57,MATCH(D10,顧客マスター!$A$8:$A$57,0))<>B10,FALSE()),"確認先の顧客IDが一致しません",IF(IF(C10="一致確認",INDEX(顧客マスター!$C$8:$C$57,MATCH(D10,顧客マスター!$A$8:$A$57,0))<>"有効",FALSE()),"確認先の台帳区分を確認",IF(AND(C10="一致確認",NOT(IF(ISNUMBER(E10),AND(E10>=43831,E10<73051,E10=INT(E10)),FALSE()))),"一致確認日は時刻なしで必須",IF(IF(C10="一致確認",OR(E10>F10,E10<INDEX(顧客マスター!$D$8:$D$57,MATCH(D10,顧客マスター!$A$8:$A$57,0))),FALSE()),"台帳確認日≦一致確認日≦元記録確認日を確認","確認済み"))))))))))))))) -> 確認済み | K10: =IF(J10="","",IF(J10="確認済み",0,1)) -> 0 | L10: =IF(COUNTA(A10:F10)=0,IF(AND(J10="",K10="",G10="",H10="",I10=""),0,1),IF(NOT(AND(ISTEXT(J10),J10=IF(COUNTA(A10:F10)=0,"",IF(NOT(AND(ISTEXT(A10),LEN(A10)=8,EXACT(LEFT(A10,4),"REC-"),ISNUMBER(FIND(MID(A10,5,1)&"x","0x1x2x3x4x5x6x7x8x9x")),ISNUMBER(FIND(MID(A10,6,1)&"x","0x1x2x3x4x5x6x7x8x9x")),ISNUMBER(FIND(MID(A10,7,1)&"x","0x1x2x3x4x5x6x7x8x9x")),ISNUMBER(FIND(MID(A10,8,1)&"x","0x1x2x3x4x5x6x7x8x9x")))),"照合行IDの形式を確認",IF(COUNTIFS($A$8:$A$57,A10)>1,"照合行IDが重複",IF(AND(COUNTA(B10)>0,NOT(AND(ISTEXT(B10),LEN(B10)=8,EXACT(LEFT(B10,4),"CUS-"),ISNUMBER(FIND(MID(B10,5,1)&"x","0x1x2x3x4x5x6x7x8x9x")),ISNUMBER(FIND(MID(B10,6,1)&"x","0x1x2x3x4x5x6x7x8x9x")),ISNUMBER(FIND(MID(B10,7,1)&"x","0x1x2x3x4x5x6x7x8x9x")),ISNUMBER(FIND(MID(B10,8,1)&"x","0x1x2x3x4x5x6x7x8x9x"))))),"照合顧客IDの形式を確認",IF(NOT(OR(C10="未確認",C10="一致確認",C10="対象外")),"確認区分を確認",IF(NOT(IF(ISNUMBER(F10),AND(F10>=43831,F10<73051,F10=INT(F10)),FALSE())),"元記録確認日は時刻なしで必須",IF(F10>照合結果!$B$3,"元記録確認日が基準日より後",IF(AND(C10<>"一致確認",COUNTA(D10:E10)>0),"未確認/対象外の確認先と一致確認日は空欄",IF(AND(C10="一致確認",COUNTA(B10)=0),"一致確認には照合顧客IDが必須",IF(AND(C10="一致確認",NOT(AND(ISTEXT(D10),LEN(D10)=8,EXACT(LEFT(D10,4),"MST-"),ISNUMBER(FIND(MID(D10,5,1)&"x","0x1x2x3x4x5x6x7x8x9x")),ISNUMBER(FIND(MID(D10,6,1)&"x","0x1x2x3x4x5x6x7x8x9x")),ISNUMBER(FIND(MID(D10,7,1)&"x","0x1x2x3x4x5x6x7x8x9x")),ISNUMBER(FIND(MID(D10,8,1)&"x","0x1x2x3x4x5x6x7x8x9x"))))),"確認先行IDの形式を確認",IF(AND(C10="一致確認",COUNTIFS(顧客マスター!$A$8:$A$57,D10)<>1),"確認先行が未登録/重複",IF(IF(C10="一致確認",INDEX(顧客マスター!$B$8:$B$57,MATCH(D10,顧客マスター!$A$8:$A$57,0))<>B10,FALSE()),"確認先の顧客IDが一致しません",IF(IF(C10="一致確認",INDEX(顧客マスター!$C$8:$C$57,MATCH(D10,顧客マスター!$A$8:$A$57,0))<>"有効",FALSE()),"確認先の台帳区分を確認",IF(AND(C10="一致確認",NOT(IF(ISNUMBER(E10),AND(E10>=43831,E10<73051,E10=INT(E10)),FALSE()))),"一致確認日は時刻なしで必須",IF(IF(C10="一致確認",OR(E10>F10,E10<INDEX(顧客マスター!$D$8:$D$57,MATCH(D10,顧客マスター!$A$8:$A$57,0))),FALSE()),"台帳確認日≦一致確認日≦元記録確認日を確認","確認済み"))))))))))))))),ISNUMBER(K10),K10=IF(J10="確認済み",0,1))),1,IF(K10<>0,0,IF(AND(IF(COUNTA(B10)=0,ISTEXT(G10),ISNUMBER(G10)),G10=IF(COUNTA(B10)=0,"",COUNTIFS(顧客マスター!$B$8:$B$57,B10)),ISTEXT(H10),H10=IF(AND(COUNTA(B10)>0,G10=1),INDEX(顧客マスター!$A$8:$A$57,MATCH(B10,顧客マスター!$B$8:$B$57,0)),""),ISTEXT(I10),I10=IF(C10="対象外","対象外",IF(照合結果!$E$3<>"確認済","体系未確認",IF(COUNTA(B10)=0,"キー未確認",IF(C10="一致確認","一致確認",IF(G10=0,"候補なし",IF(G10>1,"複数候補",IF(INDEX(顧客マスター!$C$8:$C$57,MATCH(B10,顧客マスター!$B$8:$B$57,0))<>"有効","台帳要確認","単一候補")))))))),0,1)))) -> 0
A11: REC-0004 | C11: 未確認 | F11: 46311 | G11: =IF(J11="","",IF(K11<>0,NA(),IF(COUNTA(B11)=0,"",COUNTIFS(顧客マスター!$B$8:$B$57,B11)))) | H11: =IF(J11="","",IF(K11<>0,NA(),IF(AND(COUNTA(B11)>0,G11=1),INDEX(顧客マスター!$A$8:$A$57,MATCH(B11,顧客マスター!$B$8:$B$57,0)),""))) | I11: =IF(J11="","",IF(K11<>0,NA(),IF(C11="対象外","対象外",IF(照合結果!$E$3<>"確認済","体系未確認",IF(COUNTA(B11)=0,"キー未確認",IF(C11="一致確認","一致確認",IF(G11=0,"候補なし",IF(G11>1,"複数候補",IF(INDEX(顧客マスター!$C$8:$C$57,MATCH(B11,顧客マスター!$B$8:$B$57,0))<>"有効","台帳要確認","単一候補"))))))))) -> 体系未確認 | J11: =IF(COUNTA(A11:F11)=0,"",IF(NOT(AND(ISTEXT(A11),LEN(A11)=8,EXACT(LEFT(A11,4),"REC-"),ISNUMBER(FIND(MID(A11,5,1)&"x","0x1x2x3x4x5x6x7x8x9x")),ISNUMBER(FIND(MID(A11,6,1)&"x","0x1x2x3x4x5x6x7x8x9x")),ISNUMBER(FIND(MID(A11,7,1)&"x","0x1x2x3x4x5x6x7x8x9x")),ISNUMBER(FIND(MID(A11,8,1)&"x","0x1x2x3x4x5x6x7x8x9x")))),"照合行IDの形式を確認",IF(COUNTIFS($A$8:$A$57,A11)>1,"照合行IDが重複",IF(AND(COUNTA(B11)>0,NOT(AND(ISTEXT(B11),LEN(B11)=8,EXACT(LEFT(B11,4),"CUS-"),ISNUMBER(FIND(MID(B11,5,1)&"x","0x1x2x3x4x5x6x7x8x9x")),ISNUMBER(FIND(MID(B11,6,1)&"x","0x1x2x3x4x5x6x7x8x9x")),ISNUMBER(FIND(MID(B11,7,1)&"x","0x1x2x3x4x5x6x7x8x9x")),ISNUMBER(FIND(MID(B11,8,1)&"x","0x1x2x3x4x5x6x7x8x9x"))))),"照合顧客IDの形式を確認",IF(NOT(OR(C11="未確認",C11="一致確認",C11="対象外")),"確認区分を確認",IF(NOT(IF(ISNUMBER(F11),AND(F11>=43831,F11<73051,F11=INT(F11)),FALSE())),"元記録確認日は時刻なしで必須",IF(F11>照合結果!$B$3,"元記録確認日が基準日より後",IF(AND(C11<>"一致確認",COUNTA(D11:E11)>0),"未確認/対象外の確認先と一致確認日は空欄",IF(AND(C11="一致確認",COUNTA(B11)=0),"一致確認には照合顧客IDが必須",IF(AND(C11="一致確認",NOT(AND(ISTEXT(D11),LEN(D11)=8,EXACT(LEFT(D11,4),"MST-"),ISNUMBER(FIND(MID(D11,5,1)&"x","0x1x2x3x4x5x6x7x8x9x")),ISNUMBER(FIND(MID(D11,6,1)&"x","0x1x2x3x4x5x6x7x8x9x")),ISNUMBER(FIND(MID(D11,7,1)&"x","0x1x2x3x4x5x6x7x8x9x")),ISNUMBER(FIND(MID(D11,8,1)&"x","0x1x2x3x4x5x6x7x8x9x"))))),"確認先行IDの形式を確認",IF(AND(C11="一致確認",COUNTIFS(顧客マスター!$A$8:$A$57,D11)<>1),"確認先行が未登録/重複",IF(IF(C11="一致確認",INDEX(顧客マスター!$B$8:$B$57,MATCH(D11,顧客マスター!$A$8:$A$57,0))<>B11,FALSE()),"確認先の顧客IDが一致しません",IF(IF(C11="一致確認",INDEX(顧客マスター!$C$8:$C$57,MATCH(D11,顧客マスター!$A$8:$A$57,0))<>"有効",FALSE()),"確認先の台帳区分を確認",IF(AND(C11="一致確認",NOT(IF(ISNUMBER(E11),AND(E11>=43831,E11<73051,E11=INT(E11)),FALSE()))),"一致確認日は時刻なしで必須",IF(IF(C11="一致確認",OR(E11>F11,E11<INDEX(顧客マスター!$D$8:$D$57,MATCH(D11,顧客マスター!$A$8:$A$57,0))),FALSE()),"台帳確認日≦一致確認日≦元記録確認日を確認","確認済み"))))))))))))))) -> 確認済み | K11: =IF(J11="","",IF(J11="確認済み",0,1)) -> 0 | L11: =IF(COUNTA(A11:F11)=0,IF(AND(J11="",K11="",G11="",H11="",I11=""),0,1),IF(NOT(AND(ISTEXT(J11),J11=IF(COUNTA(A11:F11)=0,"",IF(NOT(AND(ISTEXT(A11),LEN(A11)=8,EXACT(LEFT(A11,4),"REC-"),ISNUMBER(FIND(MID(A11,5,1)&"x","0x1x2x3x4x5x6x7x8x9x")),ISNUMBER(FIND(MID(A11,6,1)&"x","0x1x2x3x4x5x6x7x8x9x")),ISNUMBER(FIND(MID(A11,7,1)&"x","0x1x2x3x4x5x6x7x8x9x")),ISNUMBER(FIND(MID(A11,8,1)&"x","0x1x2x3x4x5x6x7x8x9x")))),"照合行IDの形式を確認",IF(COUNTIFS($A$8:$A$57,A11)>1,"照合行IDが重複",IF(AND(COUNTA(B11)>0,NOT(AND(ISTEXT(B11),LEN(B11)=8,EXACT(LEFT(B11,4),"CUS-"),ISNUMBER(FIND(MID(B11,5,1)&"x","0x1x2x3x4x5x6x7x8x9x")),ISNUMBER(FIND(MID(B11,6,1)&"x","0x1x2x3x4x5x6x7x8x9x")),ISNUMBER(FIND(MID(B11,7,1)&"x","0x1x2x3x4x5x6x7x8x9x")),ISNUMBER(FIND(MID(B11,8,1)&"x","0x1x2x3x4x5x6x7x8x9x"))))),"照合顧客IDの形式を確認",IF(NOT(OR(C11="未確認",C11="一致確認",C11="対象外")),"確認区分を確認",IF(NOT(IF(ISNUMBER(F11),AND(F11>=43831,F11<73051,F11=INT(F11)),FALSE())),"元記録確認日は時刻なしで必須",IF(F11>照合結果!$B$3,"元記録確認日が基準日より後",IF(AND(C11<>"一致確認",COUNTA(D11:E11)>0),"未確認/対象外の確認先と一致確認日は空欄",IF(AND(C11="一致確認",COUNTA(B11)=0),"一致確認には照合顧客IDが必須",IF(AND(C11="一致確認",NOT(AND(ISTEXT(D11),LEN(D11)=8,EXACT(LEFT(D11,4),"MST-"),ISNUMBER(FIND(MID(D11,5,1)&"x","0x1x2x3x4x5x6x7x8x9x")),ISNUMBER(FIND(MID(D11,6,1)&"x","0x1x2x3x4x5x6x7x8x9x")),ISNUMBER(FIND(MID(D11,7,1)&"x","0x1x2x3x4x5x6x7x8x9x")),ISNUMBER(FIND(MID(D11,8,1)&"x","0x1x2x3x4x5x6x7x8x9x"))))),"確認先行IDの形式を確認",IF(AND(C11="一致確認",COUNTIFS(顧客マスター!$A$8:$A$57,D11)<>1),"確認先行が未登録/重複",IF(IF(C11="一致確認",INDEX(顧客マスター!$B$8:$B$57,MATCH(D11,顧客マスター!$A$8:$A$57,0))<>B11,FALSE()),"確認先の顧客IDが一致しません",IF(IF(C11="一致確認",INDEX(顧客マスター!$C$8:$C$57,MATCH(D11,顧客マスター!$A$8:$A$57,0))<>"有効",FALSE()),"確認先の台帳区分を確認",IF(AND(C11="一致確認",NOT(IF(ISNUMBER(E11),AND(E11>=43831,E11<73051,E11=INT(E11)),FALSE()))),"一致確認日は時刻なしで必須",IF(IF(C11="一致確認",OR(E11>F11,E11<INDEX(顧客マスター!$D$8:$D$57,MATCH(D11,顧客マスター!$A$8:$A$57,0))),FALSE()),"台帳確認日≦一致確認日≦元記録確認日を確認","確認済み"))))))))))))))),ISNUMBER(K11),K11=IF(J11="確認済み",0,1))),1,IF(K11<>0,0,IF(AND(IF(COUNTA(B11)=0,ISTEXT(G11),ISNUMBER(G11)),G11=IF(COUNTA(B11)=0,"",COUNTIFS(顧客マスター!$B$8:$B$57,B11)),ISTEXT(H11),H11=IF(AND(COUNTA(B11)>0,G11=1),INDEX(顧客マスター!$A$8:$A$57,MATCH(B11,顧客マスター!$B$8:$B$57,0)),""),ISTEXT(I11),I11=IF(C11="対象外","対象外",IF(照合結果!$E$3<>"確認済","体系未確認",IF(COUNTA(B11)=0,"キー未確認",IF(C11="一致確認","一致確認",IF(G11=0,"候補なし",IF(G11>1,"複数候補",IF(INDEX(顧客マスター!$C$8:$C$57,MATCH(B11,顧客マスター!$B$8:$B$57,0))<>"有効","台帳要確認","単一候補")))))))),0,1)))) -> 0
A12: REC-0005 | B12: CUS-0003 | C12: 未確認 | F12: 46311 | G12: =IF(J12="","",IF(K12<>0,NA(),IF(COUNTA(B12)=0,"",COUNTIFS(顧客マスター!$B$8:$B$57,B12)))) -> 1 | H12: =IF(J12="","",IF(K12<>0,NA(),IF(AND(COUNTA(B12)>0,G12=1),INDEX(顧客マスター!$A$8:$A$57,MATCH(B12,顧客マスター!$B$8:$B$57,0)),""))) -> MST-0004 | I12: =IF(J12="","",IF(K12<>0,NA(),IF(C12="対象外","対象外",IF(照合結果!$E$3<>"確認済","体系未確認",IF(COUNTA(B12)=0,"キー未確認",IF(C12="一致確認","一致確認",IF(G12=0,"候補なし",IF(G12>1,"複数候補",IF(INDEX(顧客マスター!$C$8:$C$57,MATCH(B12,顧客マスター!$B$8:$B$57,0))<>"有効","台帳要確認","単一候補"))))))))) -> 体系未確認 | J12: =IF(COUNTA(A12:F12)=0,"",IF(NOT(AND(ISTEXT(A12),LEN(A12)=8,EXACT(LEFT(A12,4),"REC-"),ISNUMBER(FIND(MID(A12,5,1)&"x","0x1x2x3x4x5x6x7x8x9x")),ISNUMBER(FIND(MID(A12,6,1)&"x","0x1x2x3x4x5x6x7x8x9x")),ISNUMBER(FIND(MID(A12,7,1)&"x","0x1x2x3x4x5x6x7x8x9x")),ISNUMBER(FIND(MID(A12,8,1)&"x","0x1x2x3x4x5x6x7x8x9x")))),"照合行IDの形式を確認",IF(COUNTIFS($A$8:$A$57,A12)>1,"照合行IDが重複",IF(AND(COUNTA(B12)>0,NOT(AND(ISTEXT(B12),LEN(B12)=8,EXACT(LEFT(B12,4),"CUS-"),ISNUMBER(FIND(MID(B12,5,1)&"x","0x1x2x3x4x5x6x7x8x9x")),ISNUMBER(FIND(MID(B12,6,1)&"x","0x1x2x3x4x5x6x7x8x9x")),ISNUMBER(FIND(MID(B12,7,1)&"x","0x1x2x3x4x5x6x7x8x9x")),ISNUMBER(FIND(MID(B12,8,1)&"x","0x1x2x3x4x5x6x7x8x9x"))))),"照合顧客IDの形式を確認",IF(NOT(OR(C12="未確認",C12="一致確認",C12="対象外")),"確認区分を確認",IF(NOT(IF(ISNUMBER(F12),AND(F12>=43831,F12<73051,F12=INT(F12)),FALSE())),"元記録確認日は時刻なしで必須",IF(F12>照合結果!$B$3,"元記録確認日が基準日より後",IF(AND(C12<>"一致確認",COUNTA(D12:E12)>0),"未確認/対象外の確認先と一致確認日は空欄",IF(AND(C12="一致確認",COUNTA(B12)=0),"一致確認には照合顧客IDが必須",IF(AND(C12="一致確認",NOT(AND(ISTEXT(D12),LEN(D12)=8,EXACT(LEFT(D12,4),"MST-"),ISNUMBER(FIND(MID(D12,5,1)&"x","0x1x2x3x4x5x6x7x8x9x")),ISNUMBER(FIND(MID(D12,6,1)&"x","0x1x2x3x4x5x6x7x8x9x")),ISNUMBER(FIND(MID(D12,7,1)&"x","0x1x2x3x4x5x6x7x8x9x")),ISNUMBER(FIND(MID(D12,8,1)&"x","0x1x2x3x4x5x6x7x8x9x"))))),"確認先行IDの形式を確認",IF(AND(C12="一致確認",COUNTIFS(顧客マスター!$A$8:$A$57,D12)<>1),"確認先行が未登録/重複",IF(IF(C12="一致確認",INDEX(顧客マスター!$B$8:$B$57,MATCH(D12,顧客マスター!$A$8:$A$57,0))<>B12,FALSE()),"確認先の顧客IDが一致しません",IF(IF(C12="一致確認",INDEX(顧客マスター!$C$8:$C$57,MATCH(D12,顧客マスター!$A$8:$A$57,0))<>"有効",FALSE()),"確認先の台帳区分を確認",IF(AND(C12="一致確認",NOT(IF(ISNUMBER(E12),AND(E12>=43831,E12<73051,E12=INT(E12)),FALSE()))),"一致確認日は時刻なしで必須",IF(IF(C12="一致確認",OR(E12>F12,E12<INDEX(顧客マスター!$D$8:$D$57,MATCH(D12,顧客マスター!$A$8:$A$57,0))),FALSE()),"台帳確認日≦一致確認日≦元記録確認日を確認","確認済み"))))))))))))))) -> 確認済み | K12: =IF(J12="","",IF(J12="確認済み",0,1)) -> 0 | L12: =IF(COUNTA(A12:F12)=0,IF(AND(J12="",K12="",G12="",H12="",I12=""),0,1),IF(NOT(AND(ISTEXT(J12),J12=IF(COUNTA(A12:F12)=0,"",IF(NOT(AND(ISTEXT(A12),LEN(A12)=8,EXACT(LEFT(A12,4),"REC-"),ISNUMBER(FIND(MID(A12,5,1)&"x","0x1x2x3x4x5x6x7x8x9x")),ISNUMBER(FIND(MID(A12,6,1)&"x","0x1x2x3x4x5x6x7x8x9x")),ISNUMBER(FIND(MID(A12,7,1)&"x","0x1x2x3x4x5x6x7x8x9x")),ISNUMBER(FIND(MID(A12,8,1)&"x","0x1x2x3x4x5x6x7x8x9x")))),"照合行IDの形式を確認",IF(COUNTIFS($A$8:$A$57,A12)>1,"照合行IDが重複",IF(AND(COUNTA(B12)>0,NOT(AND(ISTEXT(B12),LEN(B12)=8,EXACT(LEFT(B12,4),"CUS-"),ISNUMBER(FIND(MID(B12,5,1)&"x","0x1x2x3x4x5x6x7x8x9x")),ISNUMBER(FIND(MID(B12,6,1)&"x","0x1x2x3x4x5x6x7x8x9x")),ISNUMBER(FIND(MID(B12,7,1)&"x","0x1x2x3x4x5x6x7x8x9x")),ISNUMBER(FIND(MID(B12,8,1)&"x","0x1x2x3x4x5x6x7x8x9x"))))),"照合顧客IDの形式を確認",IF(NOT(OR(C12="未確認",C12="一致確認",C12="対象外")),"確認区分を確認",IF(NOT(IF(ISNUMBER(F12),AND(F12>=43831,F12<73051,F12=INT(F12)),FALSE())),"元記録確認日は時刻なしで必須",IF(F12>照合結果!$B$3,"元記録確認日が基準日より後",IF(AND(C12<>"一致確認",COUNTA(D12:E12)>0),"未確認/対象外の確認先と一致確認日は空欄",IF(AND(C12="一致確認",COUNTA(B12)=0),"一致確認には照合顧客IDが必須",IF(AND(C12="一致確認",NOT(AND(ISTEXT(D12),LEN(D12)=8,EXACT(LEFT(D12,4),"MST-"),ISNUMBER(FIND(MID(D12,5,1)&"x","0x1x2x3x4x5x6x7x8x9x")),ISNUMBER(FIND(MID(D12,6,1)&"x","0x1x2x3x4x5x6x7x8x9x")),ISNUMBER(FIND(MID(D12,7,1)&"x","0x1x2x3x4x5x6x7x8x9x")),ISNUMBER(FIND(MID(D12,8,1)&"x","0x1x2x3x4x5x6x7x8x9x"))))),"確認先行IDの形式を確認",IF(AND(C12="一致確認",COUNTIFS(顧客マスター!$A$8:$A$57,D12)<>1),"確認先行が未登録/重複",IF(IF(C12="一致確認",INDEX(顧客マスター!$B$8:$B$57,MATCH(D12,顧客マスター!$A$8:$A$57,0))<>B12,FALSE()),"確認先の顧客IDが一致しません",IF(IF(C12="一致確認",INDEX(顧客マスター!$C$8:$C$57,MATCH(D12,顧客マスター!$A$8:$A$57,0))<>"有効",FALSE()),"確認先の台帳区分を確認",IF(AND(C12="一致確認",NOT(IF(ISNUMBER(E12),AND(E12>=43831,E12<73051,E12=INT(E12)),FALSE()))),"一致確認日は時刻なしで必須",IF(IF(C12="一致確認",OR(E12>F12,E12<INDEX(顧客マスター!$D$8:$D$57,MATCH(D12,顧客マスター!$A$8:$A$57,0))),FALSE()),"台帳確認日≦一致確認日≦元記録確認日を確認","確認済み"))))))))))))))),ISNUMBER(K12),K12=IF(J12="確認済み",0,1))),1,IF(K12<>0,0,IF(AND(IF(COUNTA(B12)=0,ISTEXT(G12),ISNUMBER(G12)),G12=IF(COUNTA(B12)=0,"",COUNTIFS(顧客マスター!$B$8:$B$57,B12)),ISTEXT(H12),H12=IF(AND(COUNTA(B12)>0,G12=1),INDEX(顧客マスター!$A$8:$A$57,MATCH(B12,顧客マスター!$B$8:$B$57,0)),""),ISTEXT(I12),I12=IF(C12="対象外","対象外",IF(照合結果!$E$3<>"確認済","体系未確認",IF(COUNTA(B12)=0,"キー未確認",IF(C12="一致確認","一致確認",IF(G12=0,"候補なし",IF(G12>1,"複数候補",IF(INDEX(顧客マスター!$C$8:$C$57,MATCH(B12,顧客マスター!$B$8:$B$57,0))<>"有効","台帳要確認","単一候補")))))))),0,1)))) -> 0
A13: REC-0006 | B13: CUS-0004 | C13: 一致確認 | D13: MST-0005 | E13: 46311 | F13: 46311 | G13: =IF(J13="","",IF(K13<>0,NA(),IF(COUNTA(B13)=0,"",COUNTIFS(顧客マスター!$B$8:$B$57,B13)))) -> 1 | H13: =IF(J13="","",IF(K13<>0,NA(),IF(AND(COUNTA(B13)>0,G13=1),INDEX(顧客マスター!$A$8:$A$57,MATCH(B13,顧客マスター!$B$8:$B$57,0)),""))) -> MST-0005 | I13: =IF(J13="","",IF(K13<>0,NA(),IF(C13="対象外","対象外",IF(照合結果!$E$3<>"確認済","体系未確認",IF(COUNTA(B13)=0,"キー未確認",IF(C13="一致確認","一致確認",IF(G13=0,"候補なし",IF(G13>1,"複数候補",IF(INDEX(顧客マスター!$C$8:$C$57,MATCH(B13,顧客マスター!$B$8:$B$57,0))<>"有効","台帳要確認","単一候補"))))))))) -> 体系未確認 | J13: =IF(COUNTA(A13:F13)=0,"",IF(NOT(AND(ISTEXT(A13),LEN(A13)=8,EXACT(LEFT(A13,4),"REC-"),ISNUMBER(FIND(MID(A13,5,1)&"x","0x1x2x3x4x5x6x7x8x9x")),ISNUMBER(FIND(MID(A13,6,1)&"x","0x1x2x3x4x5x6x7x8x9x")),ISNUMBER(FIND(MID(A13,7,1)&"x","0x1x2x3x4x5x6x7x8x9x")),ISNUMBER(FIND(MID(A13,8,1)&"x","0x1x2x3x4x5x6x7x8x9x")))),"照合行IDの形式を確認",IF(COUNTIFS($A$8:$A$57,A13)>1,"照合行IDが重複",IF(AND(COUNTA(B13)>0,NOT(AND(ISTEXT(B13),LEN(B13)=8,EXACT(LEFT(B13,4),"CUS-"),ISNUMBER(FIND(MID(B13,5,1)&"x","0x1x2x3x4x5x6x7x8x9x")),ISNUMBER(FIND(MID(B13,6,1)&"x","0x1x2x3x4x5x6x7x8x9x")),ISNUMBER(FIND(MID(B13,7,1)&"x","0x1x2x3x4x5x6x7x8x9x")),ISNUMBER(FIND(MID(B13,8,1)&"x","0x1x2x3x4x5x6x7x8x9x"))))),"照合顧客IDの形式を確認",IF(NOT(OR(C13="未確認",C13="一致確認",C13="対象外")),"確認区分を確認",IF(NOT(IF(ISNUMBER(F13),AND(F13>=43831,F13<73051,F13=INT(F13)),FALSE())),"元記録確認日は時刻なしで必須",IF(F13>照合結果!$B$3,"元記録確認日が基準日より後",IF(AND(C13<>"一致確認",COUNTA(D13:E13)>0),"未確認/対象外の確認先と一致確認日は空欄",IF(AND(C13="一致確認",COUNTA(B13)=0),"一致確認には照合顧客IDが必須",IF(AND(C13="一致確認",NOT(AND(ISTEXT(D13),LEN(D13)=8,EXACT(LEFT(D13,4),"MST-"),ISNUMBER(FIND(MID(D13,5,1)&"x","0x1x2x3x4x5x6x7x8x9x")),ISNUMBER(FIND(MID(D13,6,1)&"x","0x1x2x3x4x5x6x7x8x9x")),ISNUMBER(FIND(MID(D13,7,1)&"x","0x1x2x3x4x5x6x7x8x9x")),ISNUMBER(FIND(MID(D13,8,1)&"x","0x1x2x3x4x5x6x7x8x9x"))))),"確認先行IDの形式を確認",IF(AND(C13="一致確認",COUNTIFS(顧客マスター!$A$8:$A$57,D13)<>1),"確認先行が未登録/重複",IF(IF(C13="一致確認",INDEX(顧客マスター!$B$8:$B$57,MATCH(D13,顧客マスター!$A$8:$A$57,0))<>B13,FALSE()),"確認先の顧客IDが一致しません",IF(IF(C13="一致確認",INDEX(顧客マスター!$C$8:$C$57,MATCH(D13,顧客マスター!$A$8:$A$57,0))<>"有効",FALSE()),"確認先の台帳区分を確認",IF(AND(C13="一致確認",NOT(IF(ISNUMBER(E13),AND(E13>=43831,E13<73051,E13=INT(E13)),FALSE()))),"一致確認日は時刻なしで必須",IF(IF(C13="一致確認",OR(E13>F13,E13<INDEX(顧客マスター!$D$8:$D$57,MATCH(D13,顧客マスター!$A$8:$A$57,0))),FALSE()),"台帳確認日≦一致確認日≦元記録確認日を確認","確認済み"))))))))))))))) -> 確認済み | K13: =IF(J13="","",IF(J13="確認済み",0,1)) -> 0 | L13: =IF(COUNTA(A13:F13)=0,IF(AND(J13="",K13="",G13="",H13="",I13=""),0,1),IF(NOT(AND(ISTEXT(J13),J13=IF(COUNTA(A13:F13)=0,"",IF(NOT(AND(ISTEXT(A13),LEN(A13)=8,EXACT(LEFT(A13,4),"REC-"),ISNUMBER(FIND(MID(A13,5,1)&"x","0x1x2x3x4x5x6x7x8x9x")),ISNUMBER(FIND(MID(A13,6,1)&"x","0x1x2x3x4x5x6x7x8x9x")),ISNUMBER(FIND(MID(A13,7,1)&"x","0x1x2x3x4x5x6x7x8x9x")),ISNUMBER(FIND(MID(A13,8,1)&"x","0x1x2x3x4x5x6x7x8x9x")))),"照合行IDの形式を確認",IF(COUNTIFS($A$8:$A$57,A13)>1,"照合行IDが重複",IF(AND(COUNTA(B13)>0,NOT(AND(ISTEXT(B13),LEN(B13)=8,EXACT(LEFT(B13,4),"CUS-"),ISNUMBER(FIND(MID(B13,5,1)&"x","0x1x2x3x4x5x6x7x8x9x")),ISNUMBER(FIND(MID(B13,6,1)&"x","0x1x2x3x4x5x6x7x8x9x")),ISNUMBER(FIND(MID(B13,7,1)&"x","0x1x2x3x4x5x6x7x8x9x")),ISNUMBER(FIND(MID(B13,8,1)&"x","0x1x2x3x4x5x6x7x8x9x"))))),"照合顧客IDの形式を確認",IF(NOT(OR(C13="未確認",C13="一致確認",C13="対象外")),"確認区分を確認",IF(NOT(IF(ISNUMBER(F13),AND(F13>=43831,F13<73051,F13=INT(F13)),FALSE())),"元記録確認日は時刻なしで必須",IF(F13>照合結果!$B$3,"元記録確認日が基準日より後",IF(AND(C13<>"一致確認",COUNTA(D13:E13)>0),"未確認/対象外の確認先と一致確認日は空欄",IF(AND(C13="一致確認",COUNTA(B13)=0),"一致確認には照合顧客IDが必須",IF(AND(C13="一致確認",NOT(AND(ISTEXT(D13),LEN(D13)=8,EXACT(LEFT(D13,4),"MST-"),ISNUMBER(FIND(MID(D13,5,1)&"x","0x1x2x3x4x5x6x7x8x9x")),ISNUMBER(FIND(MID(D13,6,1)&"x","0x1x2x3x4x5x6x7x8x9x")),ISNUMBER(FIND(MID(D13,7,1)&"x","0x1x2x3x4x5x6x7x8x9x")),ISNUMBER(FIND(MID(D13,8,1)&"x","0x1x2x3x4x5x6x7x8x9x"))))),"確認先行IDの形式を確認",IF(AND(C13="一致確認",COUNTIFS(顧客マスター!$A$8:$A$57,D13)<>1),"確認先行が未登録/重複",IF(IF(C13="一致確認",INDEX(顧客マスター!$B$8:$B$57,MATCH(D13,顧客マスター!$A$8:$A$57,0))<>B13,FALSE()),"確認先の顧客IDが一致しません",IF(IF(C13="一致確認",INDEX(顧客マスター!$C$8:$C$57,MATCH(D13,顧客マスター!$A$8:$A$57,0))<>"有効",FALSE()),"確認先の台帳区分を確認",IF(AND(C13="一致確認",NOT(IF(ISNUMBER(E13),AND(E13>=43831,E13<73051,E13=INT(E13)),FALSE()))),"一致確認日は時刻なしで必須",IF(IF(C13="一致確認",OR(E13>F13,E13<INDEX(顧客マスター!$D$8:$D$57,MATCH(D13,顧客マスター!$A$8:$A$57,0))),FALSE()),"台帳確認日≦一致確認日≦元記録確認日を確認","確認済み"))))))))))))))),ISNUMBER(K13),K13=IF(J13="確認済み",0,1))),1,IF(K13<>0,0,IF(AND(IF(COUNTA(B13)=0,ISTEXT(G13),ISNUMBER(G13)),G13=IF(COUNTA(B13)=0,"",COUNTIFS(顧客マスター!$B$8:$B$57,B13)),ISTEXT(H13),H13=IF(AND(COUNTA(B13)>0,G13=1),INDEX(顧客マスター!$A$8:$A$57,MATCH(B13,顧客マスター!$B$8:$B$57,0)),""),ISTEXT(I13),I13=IF(C13="対象外","対象外",IF(照合結果!$E$3<>"確認済","体系未確認",IF(COUNTA(B13)=0,"キー未確認",IF(C13="一致確認","一致確認",IF(G13=0,"候補なし",IF(G13>1,"複数候補",IF(INDEX(顧客マスター!$C$8:$C$57,MATCH(B13,顧客マスター!$B$8:$B$57,0))<>"有効","台帳要確認","単一候補")))))))),0,1)))) -> 0
A14: REC-0007 | B14: CUS-0005 | C14: 対象外 | F14: 46311 | G14: =IF(J14="","",IF(K14<>0,NA(),IF(COUNTA(B14)=0,"",COUNTIFS(顧客マスター!$B$8:$B$57,B14)))) -> 1 | H14: =IF(J14="","",IF(K14<>0,NA(),IF(AND(COUNTA(B14)>0,G14=1),INDEX(顧客マスター!$A$8:$A$57,MATCH(B14,顧客マスター!$B$8:$B$57,0)),""))) -> MST-0006 | I14: =IF(J14="","",IF(K14<>0,NA(),IF(C14="対象外","対象外",IF(照合結果!$E$3<>"確認済","体系未確認",IF(COUNTA(B14)=0,"キー未確認",IF(C14="一致確認","一致確認",IF(G14=0,"候補なし",IF(G14>1,"複数候補",IF(INDEX(顧客マスター!$C$8:$C$57,MATCH(B14,顧客マスター!$B$8:$B$57,0))<>"有効","台帳要確認","単一候補"))))))))) -> 対象外 | J14: =IF(COUNTA(A14:F14)=0,"",IF(NOT(AND(ISTEXT(A14),LEN(A14)=8,EXACT(LEFT(A14,4),"REC-"),ISNUMBER(FIND(MID(A14,5,1)&"x","0x1x2x3x4x5x6x7x8x9x")),ISNUMBER(FIND(MID(A14,6,1)&"x","0x1x2x3x4x5x6x7x8x9x")),ISNUMBER(FIND(MID(A14,7,1)&"x","0x1x2x3x4x5x6x7x8x9x")),ISNUMBER(FIND(MID(A14,8,1)&"x","0x1x2x3x4x5x6x7x8x9x")))),"照合行IDの形式を確認",IF(COUNTIFS($A$8:$A$57,A14)>1,"照合行IDが重複",IF(AND(COUNTA(B14)>0,NOT(AND(ISTEXT(B14),LEN(B14)=8,EXACT(LEFT(B14,4),"CUS-"),ISNUMBER(FIND(MID(B14,5,1)&"x","0x1x2x3x4x5x6x7x8x9x")),ISNUMBER(FIND(MID(B14,6,1)&"x","0x1x2x3x4x5x6x7x8x9x")),ISNUMBER(FIND(MID(B14,7,1)&"x","0x1x2x3x4x5x6x7x8x9x")),ISNUMBER(FIND(MID(B14,8,1)&"x","0x1x2x3x4x5x6x7x8x9x"))))),"照合顧客IDの形式を確認",IF(NOT(OR(C14="未確認",C14="一致確認",C14="対象外")),"確認区分を確認",IF(NOT(IF(ISNUMBER(F14),AND(F14>=43831,F14<73051,F14=INT(F14)),FALSE())),"元記録確認日は時刻なしで必須",IF(F14>照合結果!$B$3,"元記録確認日が基準日より後",IF(AND(C14<>"一致確認",COUNTA(D14:E14)>0),"未確認/対象外の確認先と一致確認日は空欄",IF(AND(C14="一致確認",COUNTA(B14)=0),"一致確認には照合顧客IDが必須",IF(AND(C14="一致確認",NOT(AND(ISTEXT(D14),LEN(D14)=8,EXACT(LEFT(D14,4),"MST-"),ISNUMBER(FIND(MID(D14,5,1)&"x","0x1x2x3x4x5x6x7x8x9x")),ISNUMBER(FIND(MID(D14,6,1)&"x","0x1x2x3x4x5x6x7x8x9x")),ISNUMBER(FIND(MID(D14,7,1)&"x","0x1x2x3x4x5x6x7x8x9x")),ISNUMBER(FIND(MID(D14,8,1)&"x","0x1x2x3x4x5x6x7x8x9x"))))),"確認先行IDの形式を確認",IF(AND(C14="一致確認",COUNTIFS(顧客マスター!$A$8:$A$57,D14)<>1),"確認先行が未登録/重複",IF(IF(C14="一致確認",INDEX(顧客マスター!$B$8:$B$57,MATCH(D14,顧客マスター!$A$8:$A$57,0))<>B14,FALSE()),"確認先の顧客IDが一致しません",IF(IF(C14="一致確認",INDEX(顧客マスター!$C$8:$C$57,MATCH(D14,顧客マスター!$A$8:$A$57,0))<>"有効",FALSE()),"確認先の台帳区分を確認",IF(AND(C14="一致確認",NOT(IF(ISNUMBER(E14),AND(E14>=43831,E14<73051,E14=INT(E14)),FALSE()))),"一致確認日は時刻なしで必須",IF(IF(C14="一致確認",OR(E14>F14,E14<INDEX(顧客マスター!$D$8:$D$57,MATCH(D14,顧客マスター!$A$8:$A$57,0))),FALSE()),"台帳確認日≦一致確認日≦元記録確認日を確認","確認済み"))))))))))))))) -> 確認済み | K14: =IF(J14="","",IF(J14="確認済み",0,1)) -> 0 | L14: =IF(COUNTA(A14:F14)=0,IF(AND(J14="",K14="",G14="",H14="",I14=""),0,1),IF(NOT(AND(ISTEXT(J14),J14=IF(COUNTA(A14:F14)=0,"",IF(NOT(AND(ISTEXT(A14),LEN(A14)=8,EXACT(LEFT(A14,4),"REC-"),ISNUMBER(FIND(MID(A14,5,1)&"x","0x1x2x3x4x5x6x7x8x9x")),ISNUMBER(FIND(MID(A14,6,1)&"x","0x1x2x3x4x5x6x7x8x9x")),ISNUMBER(FIND(MID(A14,7,1)&"x","0x1x2x3x4x5x6x7x8x9x")),ISNUMBER(FIND(MID(A14,8,1)&"x","0x1x2x3x4x5x6x7x8x9x")))),"照合行IDの形式を確認",IF(COUNTIFS($A$8:$A$57,A14)>1,"照合行IDが重複",IF(AND(COUNTA(B14)>0,NOT(AND(ISTEXT(B14),LEN(B14)=8,EXACT(LEFT(B14,4),"CUS-"),ISNUMBER(FIND(MID(B14,5,1)&"x","0x1x2x3x4x5x6x7x8x9x")),ISNUMBER(FIND(MID(B14,6,1)&"x","0x1x2x3x4x5x6x7x8x9x")),ISNUMBER(FIND(MID(B14,7,1)&"x","0x1x2x3x4x5x6x7x8x9x")),ISNUMBER(FIND(MID(B14,8,1)&"x","0x1x2x3x4x5x6x7x8x9x"))))),"照合顧客IDの形式を確認",IF(NOT(OR(C14="未確認",C14="一致確認",C14="対象外")),"確認区分を確認",IF(NOT(IF(ISNUMBER(F14),AND(F14>=43831,F14<73051,F14=INT(F14)),FALSE())),"元記録確認日は時刻なしで必須",IF(F14>照合結果!$B$3,"元記録確認日が基準日より後",IF(AND(C14<>"一致確認",COUNTA(D14:E14)>0),"未確認/対象外の確認先と一致確認日は空欄",IF(AND(C14="一致確認",COUNTA(B14)=0),"一致確認には照合顧客IDが必須",IF(AND(C14="一致確認",NOT(AND(ISTEXT(D14),LEN(D14)=8,EXACT(LEFT(D14,4),"MST-"),ISNUMBER(FIND(MID(D14,5,1)&"x","0x1x2x3x4x5x6x7x8x9x")),ISNUMBER(FIND(MID(D14,6,1)&"x","0x1x2x3x4x5x6x7x8x9x")),ISNUMBER(FIND(MID(D14,7,1)&"x","0x1x2x3x4x5x6x7x8x9x")),ISNUMBER(FIND(MID(D14,8,1)&"x","0x1x2x3x4x5x6x7x8x9x"))))),"確認先行IDの形式を確認",IF(AND(C14="一致確認",COUNTIFS(顧客マスター!$A$8:$A$57,D14)<>1),"確認先行が未登録/重複",IF(IF(C14="一致確認",INDEX(顧客マスター!$B$8:$B$57,MATCH(D14,顧客マスター!$A$8:$A$57,0))<>B14,FALSE()),"確認先の顧客IDが一致しません",IF(IF(C14="一致確認",INDEX(顧客マスター!$C$8:$C$57,MATCH(D14,顧客マスター!$A$8:$A$57,0))<>"有効",FALSE()),"確認先の台帳区分を確認",IF(AND(C14="一致確認",NOT(IF(ISNUMBER(E14),AND(E14>=43831,E14<73051,E14=INT(E14)),FALSE()))),"一致確認日は時刻なしで必須",IF(IF(C14="一致確認",OR(E14>F14,E14<INDEX(顧客マスター!$D$8:$D$57,MATCH(D14,顧客マスター!$A$8:$A$57,0))),FALSE()),"台帳確認日≦一致確認日≦元記録確認日を確認","確認済み"))))))))))))))),ISNUMBER(K14),K14=IF(J14="確認済み",0,1))),1,IF(K14<>0,0,IF(AND(IF(COUNTA(B14)=0,ISTEXT(G14),ISNUMBER(G14)),G14=IF(COUNTA(B14)=0,"",COUNTIFS(顧客マスター!$B$8:$B$57,B14)),ISTEXT(H14),H14=IF(AND(COUNTA(B14)>0,G14=1),INDEX(顧客マスター!$A$8:$A$57,MATCH(B14,顧客マスター!$B$8:$B$57,0)),""),ISTEXT(I14),I14=IF(C14="対象外","対象外",IF(照合結果!$E$3<>"確認済","体系未確認",IF(COUNTA(B14)=0,"キー未確認",IF(C14="一致確認","一致確認",IF(G14=0,"候補なし",IF(G14>1,"複数候補",IF(INDEX(顧客マスター!$C$8:$C$57,MATCH(B14,顧客マスター!$B$8:$B$57,0))<>"有効","台帳要確認","単一候補")))))))),0,1)))) -> 0
A15: REC-0008 | B15: CUS-0001 | C15: 未確認 | F15: 46311 | G15: =IF(J15="","",IF(K15<>0,NA(),IF(COUNTA(B15)=0,"",COUNTIFS(顧客マスター!$B$8:$B$57,B15)))) -> 1 | H15: =IF(J15="","",IF(K15<>0,NA(),IF(AND(COUNTA(B15)>0,G15=1),INDEX(顧客マスター!$A$8:$A$57,MATCH(B15,顧客マスター!$B$8:$B$57,0)),""))) -> MST-0001 | I15: =IF(J15="","",IF(K15<>0,NA(),IF(C15="対象外","対象外",IF(照合結果!$E$3<>"確認済","体系未確認",IF(COUNTA(B15)=0,"キー未確認",IF(C15="一致確認","一致確認",IF(G15=0,"候補なし",IF(G15>1,"複数候補",IF(INDEX(顧客マスター!$C$8:$C$57,MATCH(B15,顧客マスター!$B$8:$B$57,0))<>"有効","台帳要確認","単一候補"))))))))) -> 体系未確認 | J15: =IF(COUNTA(A15:F15)=0,"",IF(NOT(AND(ISTEXT(A15),LEN(A15)=8,EXACT(LEFT(A15,4),"REC-"),ISNUMBER(FIND(MID(A15,5,1)&"x","0x1x2x3x4x5x6x7x8x9x")),ISNUMBER(FIND(MID(A15,6,1)&"x","0x1x2x3x4x5x6x7x8x9x")),ISNUMBER(FIND(MID(A15,7,1)&"x","0x1x2x3x4x5x6x7x8x9x")),ISNUMBER(FIND(MID(A15,8,1)&"x","0x1x2x3x4x5x6x7x8x9x")))),"照合行IDの形式を確認",IF(COUNTIFS($A$8:$A$57,A15)>1,"照合行IDが重複",IF(AND(COUNTA(B15)>0,NOT(AND(ISTEXT(B15),LEN(B15)=8,EXACT(LEFT(B15,4),"CUS-"),ISNUMBER(FIND(MID(B15,5,1)&"x","0x1x2x3x4x5x6x7x8x9x")),ISNUMBER(FIND(MID(B15,6,1)&"x","0x1x2x3x4x5x6x7x8x9x")),ISNUMBER(FIND(MID(B15,7,1)&"x","0x1x2x3x4x5x6x7x8x9x")),ISNUMBER(FIND(MID(B15,8,1)&"x","0x1x2x3x4x5x6x7x8x9x"))))),"照合顧客IDの形式を確認",IF(NOT(OR(C15="未確認",C15="一致確認",C15="対象外")),"確認区分を確認",IF(NOT(IF(ISNUMBER(F15),AND(F15>=43831,F15<73051,F15=INT(F15)),FALSE())),"元記録確認日は時刻なしで必須",IF(F15>照合結果!$B$3,"元記録確認日が基準日より後",IF(AND(C15<>"一致確認",COUNTA(D15:E15)>0),"未確認/対象外の確認先と一致確認日は空欄",IF(AND(C15="一致確認",COUNTA(B15)=0),"一致確認には照合顧客IDが必須",IF(AND(C15="一致確認",NOT(AND(ISTEXT(D15),LEN(D15)=8,EXACT(LEFT(D15,4),"MST-"),ISNUMBER(FIND(MID(D15,5,1)&"x","0x1x2x3x4x5x6x7x8x9x")),ISNUMBER(FIND(MID(D15,6,1)&"x","0x1x2x3x4x5x6x7x8x9x")),ISNUMBER(FIND(MID(D15,7,1)&"x","0x1x2x3x4x5x6x7x8x9x")),ISNUMBER(FIND(MID(D15,8,1)&"x","0x1x2x3x4x5x6x7x8x9x"))))),"確認先行IDの形式を確認",IF(AND(C15="一致確認",COUNTIFS(顧客マスター!$A$8:$A$57,D15)<>1),"確認先行が未登録/重複",IF(IF(C15="一致確認",INDEX(顧客マスター!$B$8:$B$57,MATCH(D15,顧客マスター!$A$8:$A$57,0))<>B15,FALSE()),"確認先の顧客IDが一致しません",IF(IF(C15="一致確認",INDEX(顧客マスター!$C$8:$C$57,MATCH(D15,顧客マスター!$A$8:$A$57,0))<>"有効",FALSE()),"確認先の台帳区分を確認",IF(AND(C15="一致確認",NOT(IF(ISNUMBER(E15),AND(E15>=43831,E15<73051,E15=INT(E15)),FALSE()))),"一致確認日は時刻なしで必須",IF(IF(C15="一致確認",OR(E15>F15,E15<INDEX(顧客マスター!$D$8:$D$57,MATCH(D15,顧客マスター!$A$8:$A$57,0))),FALSE()),"台帳確認日≦一致確認日≦元記録確認日を確認","確認済み"))))))))))))))) -> 確認済み | K15: =IF(J15="","",IF(J15="確認済み",0,1)) -> 0 | L15: =IF(COUNTA(A15:F15)=0,IF(AND(J15="",K15="",G15="",H15="",I15=""),0,1),IF(NOT(AND(ISTEXT(J15),J15=IF(COUNTA(A15:F15)=0,"",IF(NOT(AND(ISTEXT(A15),LEN(A15)=8,EXACT(LEFT(A15,4),"REC-"),ISNUMBER(FIND(MID(A15,5,1)&"x","0x1x2x3x4x5x6x7x8x9x")),ISNUMBER(FIND(MID(A15,6,1)&"x","0x1x2x3x4x5x6x7x8x9x")),ISNUMBER(FIND(MID(A15,7,1)&"x","0x1x2x3x4x5x6x7x8x9x")),ISNUMBER(FIND(MID(A15,8,1)&"x","0x1x2x3x4x5x6x7x8x9x")))),"照合行IDの形式を確認",IF(COUNTIFS($A$8:$A$57,A15)>1,"照合行IDが重複",IF(AND(COUNTA(B15)>0,NOT(AND(ISTEXT(B15),LEN(B15)=8,EXACT(LEFT(B15,4),"CUS-"),ISNUMBER(FIND(MID(B15,5,1)&"x","0x1x2x3x4x5x6x7x8x9x")),ISNUMBER(FIND(MID(B15,6,1)&"x","0x1x2x3x4x5x6x7x8x9x")),ISNUMBER(FIND(MID(B15,7,1)&"x","0x1x2x3x4x5x6x7x8x9x")),ISNUMBER(FIND(MID(B15,8,1)&"x","0x1x2x3x4x5x6x7x8x9x"))))),"照合顧客IDの形式を確認",IF(NOT(OR(C15="未確認",C15="一致確認",C15="対象外")),"確認区分を確認",IF(NOT(IF(ISNUMBER(F15),AND(F15>=43831,F15<73051,F15=INT(F15)),FALSE())),"元記録確認日は時刻なしで必須",IF(F15>照合結果!$B$3,"元記録確認日が基準日より後",IF(AND(C15<>"一致確認",COUNTA(D15:E15)>0),"未確認/対象外の確認先と一致確認日は空欄",IF(AND(C15="一致確認",COUNTA(B15)=0),"一致確認には照合顧客IDが必須",IF(AND(C15="一致確認",NOT(AND(ISTEXT(D15),LEN(D15)=8,EXACT(LEFT(D15,4),"MST-"),ISNUMBER(FIND(MID(D15,5,1)&"x","0x1x2x3x4x5x6x7x8x9x")),ISNUMBER(FIND(MID(D15,6,1)&"x","0x1x2x3x4x5x6x7x8x9x")),ISNUMBER(FIND(MID(D15,7,1)&"x","0x1x2x3x4x5x6x7x8x9x")),ISNUMBER(FIND(MID(D15,8,1)&"x","0x1x2x3x4x5x6x7x8x9x"))))),"確認先行IDの形式を確認",IF(AND(C15="一致確認",COUNTIFS(顧客マスター!$A$8:$A$57,D15)<>1),"確認先行が未登録/重複",IF(IF(C15="一致確認",INDEX(顧客マスター!$B$8:$B$57,MATCH(D15,顧客マスター!$A$8:$A$57,0))<>B15,FALSE()),"確認先の顧客IDが一致しません",IF(IF(C15="一致確認",INDEX(顧客マスター!$C$8:$C$57,MATCH(D15,顧客マスター!$A$8:$A$57,0))<>"有効",FALSE()),"確認先の台帳区分を確認",IF(AND(C15="一致確認",NOT(IF(ISNUMBER(E15),AND(E15>=43831,E15<73051,E15=INT(E15)),FALSE()))),"一致確認日は時刻なしで必須",IF(IF(C15="一致確認",OR(E15>F15,E15<INDEX(顧客マスター!$D$8:$D$57,MATCH(D15,顧客マスター!$A$8:$A$57,0))),FALSE()),"台帳確認日≦一致確認日≦元記録確認日を確認","確認済み"))))))))))))))),ISNUMBER(K15),K15=IF(J15="確認済み",0,1))),1,IF(K15<>0,0,IF(AND(IF(COUNTA(B15)=0,ISTEXT(G15),ISNUMBER(G15)),G15=IF(COUNTA(B15)=0,"",COUNTIFS(顧客マスター!$B$8:$B$57,B15)),ISTEXT(H15),H15=IF(AND(COUNTA(B15)>0,G15=1),INDEX(顧客マスター!$A$8:$A$57,MATCH(B15,顧客マスター!$B$8:$B$57,0)),""),ISTEXT(I15),I15=IF(C15="対象外","対象外",IF(照合結果!$E$3<>"確認済","体系未確認",IF(COUNTA(B15)=0,"キー未確認",IF(C15="一致確認","一致確認",IF(G15=0,"候補なし",IF(G15>1,"複数候補",IF(INDEX(顧客マスター!$C$8:$C$57,MATCH(B15,顧客マスター!$B$8:$B$57,0))<>"有効","台帳要確認","単一候補")))))))),0,1)))) -> 0
G16: =IF(J16="","",IF(K16<>0,NA(),IF(COUNTA(B16)=0,"",COUNTIFS(顧客マスター!$B$8:$B$57,B16)))) | H16: =IF(J16="","",IF(K16<>0,NA(),IF(AND(COUNTA(B16)>0,G16=1),INDEX(顧客マスター!$A$8:$A$57,MATCH(B16,顧客マスター!$B$8:$B$57,0)),""))) | I16: =IF(J16="","",IF(K16<>0,NA(),IF(C16="対象外","対象外",IF(照合結果!$E$3<>"確認済","体系未確認",IF(COUNTA(B16)=0,"キー未確認",IF(C16="一致確認","一致確認",IF(G16=0,"候補なし",IF(G16>1,"複数候補",IF(INDEX(顧客マスター!$C$8:$C$57,MATCH(B16,顧客マスター!$B$8:$B$57,0))<>"有効","台帳要確認","単一候補"))))))))) | J16: =IF(COUNTA(A16:F16)=0,"",IF(NOT(AND(ISTEXT(A16),LEN(A16)=8,EXACT(LEFT(A16,4),"REC-"),ISNUMBER(FIND(MID(A16,5,1)&"x","0x1x2x3x4x5x6x7x8x9x")),ISNUMBER(FIND(MID(A16,6,1)&"x","0x1x2x3x4x5x6x7x8x9x")),ISNUMBER(FIND(MID(A16,7,1)&"x","0x1x2x3x4x5x6x7x8x9x")),ISNUMBER(FIND(MID(A16,8,1)&"x","0x1x2x3x4x5x6x7x8x9x")))),"照合行IDの形式を確認",IF(COUNTIFS($A$8:$A$57,A16)>1,"照合行IDが重複",IF(AND(COUNTA(B16)>0,NOT(AND(ISTEXT(B16),LEN(B16)=8,EXACT(LEFT(B16,4),"CUS-"),ISNUMBER(FIND(MID(B16,5,1)&"x","0x1x2x3x4x5x6x7x8x9x")),ISNUMBER(FIND(MID(B16,6,1)&"x","0x1x2x3x4x5x6x7x8x9x")),ISNUMBER(FIND(MID(B16,7,1)&"x","0x1x2x3x4x5x6x7x8x9x")),ISNUMBER(FIND(MID(B16,8,1)&"x","0x1x2x3x4x5x6x7x8x9x"))))),"照合顧客IDの形式を確認",IF(NOT(OR(C16="未確認",C16="一致確認",C16="対象外")),"確認区分を確認",IF(NOT(IF(ISNUMBER(F16),AND(F16>=43831,F16<73051,F16=INT(F16)),FALSE())),"元記録確認日は時刻なしで必須",IF(F16>照合結果!$B$3,"元記録確認日が基準日より後",IF(AND(C16<>"一致確認",COUNTA(D16:E16)>0),"未確認/対象外の確認先と一致確認日は空欄",IF(AND(C16="一致確認",COUNTA(B16)=0),"一致確認には照合顧客IDが必須",IF(AND(C16="一致確認",NOT(AND(ISTEXT(D16),LEN(D16)=8,EXACT(LEFT(D16,4),"MST-"),ISNUMBER(FIND(MID(D16,5,1)&"x","0x1x2x3x4x5x6x7x8x9x")),ISNUMBER(FIND(MID(D16,6,1)&"x","0x1x2x3x4x5x6x7x8x9x")),ISNUMBER(FIND(MID(D16,7,1)&"x","0x1x2x3x4x5x6x7x8x9x")),ISNUMBER(FIND(MID(D16,8,1)&"x","0x1x2x3x4x5x6x7x8x9x"))))),"確認先行IDの形式を確認",IF(AND(C16="一致確認",COUNTIFS(顧客マスター!$A$8:$A$57,D16)<>1),"確認先行が未登録/重複",IF(IF(C16="一致確認",INDEX(顧客マスター!$B$8:$B$57,MATCH(D16,顧客マスター!$A$8:$A$57,0))<>B16,FALSE()),"確認先の顧客IDが一致しません",IF(IF(C16="一致確認",INDEX(顧客マスター!$C$8:$C$57,MATCH(D16,顧客マスター!$A$8:$A$57,0))<>"有効",FALSE()),"確認先の台帳区分を確認",IF(AND(C16="一致確認",NOT(IF(ISNUMBER(E16),AND(E16>=43831,E16<73051,E16=INT(E16)),FALSE()))),"一致確認日は時刻なしで必須",IF(IF(C16="一致確認",OR(E16>F16,E16<INDEX(顧客マスター!$D$8:$D$57,MATCH(D16,顧客マスター!$A$8:$A$57,0))),FALSE()),"台帳確認日≦一致確認日≦元記録確認日を確認","確認済み"))))))))))))))) | K16: =IF(J16="","",IF(J16="確認済み",0,1)) | L16: =IF(COUNTA(A16:F16)=0,IF(AND(J16="",K16="",G16="",H16="",I16=""),0,1),IF(NOT(AND(ISTEXT(J16),J16=IF(COUNTA(A16:F16)=0,"",IF(NOT(AND(ISTEXT(A16),LEN(A16)=8,EXACT(LEFT(A16,4),"REC-"),ISNUMBER(FIND(MID(A16,5,1)&"x","0x1x2x3x4x5x6x7x8x9x")),ISNUMBER(FIND(MID(A16,6,1)&"x","0x1x2x3x4x5x6x7x8x9x")),ISNUMBER(FIND(MID(A16,7,1)&"x","0x1x2x3x4x5x6x7x8x9x")),ISNUMBER(FIND(MID(A16,8,1)&"x","0x1x2x3x4x5x6x7x8x9x")))),"照合行IDの形式を確認",IF(COUNTIFS($A$8:$A$57,A16)>1,"照合行IDが重複",IF(AND(COUNTA(B16)>0,NOT(AND(ISTEXT(B16),LEN(B16)=8,EXACT(LEFT(B16,4),"CUS-"),ISNUMBER(FIND(MID(B16,5,1)&"x","0x1x2x3x4x5x6x7x8x9x")),ISNUMBER(FIND(MID(B16,6,1)&"x","0x1x2x3x4x5x6x7x8x9x")),ISNUMBER(FIND(MID(B16,7,1)&"x","0x1x2x3x4x5x6x7x8x9x")),ISNUMBER(FIND(MID(B16,8,1)&"x","0x1x2x3x4x5x6x7x8x9x"))))),"照合顧客IDの形式を確認",IF(NOT(OR(C16="未確認",C16="一致確認",C16="対象外")),"確認区分を確認",IF(NOT(IF(ISNUMBER(F16),AND(F16>=43831,F16<73051,F16=INT(F16)),FALSE())),"元記録確認日は時刻なしで必須",IF(F16>照合結果!$B$3,"元記録確認日が基準日より後",IF(AND(C16<>"一致確認",COUNTA(D16:E16)>0),"未確認/対象外の確認先と一致確認日は空欄",IF(AND(C16="一致確認",COUNTA(B16)=0),"一致確認には照合顧客IDが必須",IF(AND(C16="一致確認",NOT(AND(ISTEXT(D16),LEN(D16)=8,EXACT(LEFT(D16,4),"MST-"),ISNUMBER(FIND(MID(D16,5,1)&"x","0x1x2x3x4x5x6x7x8x9x")),ISNUMBER(FIND(MID(D16,6,1)&"x","0x1x2x3x4x5x6x7x8x9x")),ISNUMBER(FIND(MID(D16,7,1)&"x","0x1x2x3x4x5x6x7x8x9x")),ISNUMBER(FIND(MID(D16,8,1)&"x","0x1x2x3x4x5x6x7x8x9x"))))),"確認先行IDの形式を確認",IF(AND(C16="一致確認",COUNTIFS(顧客マスター!$A$8:$A$57,D16)<>1),"確認先行が未登録/重複",IF(IF(C16="一致確認",INDEX(顧客マスター!$B$8:$B$57,MATCH(D16,顧客マスター!$A$8:$A$57,0))<>B16,FALSE()),"確認先の顧客IDが一致しません",IF(IF(C16="一致確認",INDEX(顧客マスター!$C$8:$C$57,MATCH(D16,顧客マスター!$A$8:$A$57,0))<>"有効",FALSE()),"確認先の台帳区分を確認",IF(AND(C16="一致確認",NOT(IF(ISNUMBER(E16),AND(E16>=43831,E16<73051,E16=INT(E16)),FALSE()))),"一致確認日は時刻なしで必須",IF(IF(C16="一致確認",OR(E16>F16,E16<INDEX(顧客マスター!$D$8:$D$57,MATCH(D16,顧客マスター!$A$8:$A$57,0))),FALSE()),"台帳確認日≦一致確認日≦元記録確認日を確認","確認済み"))))))))))))))),ISNUMBER(K16),K16=IF(J16="確認済み",0,1))),1,IF(K16<>0,0,IF(AND(IF(COUNTA(B16)=0,ISTEXT(G16),ISNUMBER(G16)),G16=IF(COUNTA(B16)=0,"",COUNTIFS(顧客マスター!$B$8:$B$57,B16)),ISTEXT(H16),H16=IF(AND(COUNTA(B16)>0,G16=1),INDEX(顧客マスター!$A$8:$A$57,MATCH(B16,顧客マスター!$B$8:$B$57,0)),""),ISTEXT(I16),I16=IF(C16="対象外","対象外",IF(照合結果!$E$3<>"確認済","体系未確認",IF(COUNTA(B16)=0,"キー未確認",IF(C16="一致確認","一致確認",IF(G16=0,"候補なし",IF(G16>1,"複数候補",IF(INDEX(顧客マスター!$C$8:$C$57,MATCH(B16,顧客マスター!$B$8:$B$57,0))<>"有効","台帳要確認","単一候補")))))))),0,1)))) -> 0
G17: =IF(J17="","",IF(K17<>0,NA(),IF(COUNTA(B17)=0,"",COUNTIFS(顧客マスター!$B$8:$B$57,B17)))) | H17: =IF(J17="","",IF(K17<>0,NA(),IF(AND(COUNTA(B17)>0,G17=1),INDEX(顧客マスター!$A$8:$A$57,MATCH(B17,顧客マスター!$B$8:$B$57,0)),""))) | I17: =IF(J17="","",IF(K17<>0,NA(),IF(C17="対象外","対象外",IF(照合結果!$E$3<>"確認済","体系未確認",IF(COUNTA(B17)=0,"キー未確認",IF(C17="一致確認","一致確認",IF(G17=0,"候補なし",IF(G17>1,"複数候補",IF(INDEX(顧客マスター!$C$8:$C$57,MATCH(B17,顧客マスター!$B$8:$B$57,0))<>"有効","台帳要確認","単一候補"))))))))) | J17: =IF(COUNTA(A17:F17)=0,"",IF(NOT(AND(ISTEXT(A17),LEN(A17)=8,EXACT(LEFT(A17,4),"REC-"),ISNUMBER(FIND(MID(A17,5,1)&"x","0x1x2x3x4x5x6x7x8x9x")),ISNUMBER(FIND(MID(A17,6,1)&"x","0x1x2x3x4x5x6x7x8x9x")),ISNUMBER(FIND(MID(A17,7,1)&"x","0x1x2x3x4x5x6x7x8x9x")),ISNUMBER(FIND(MID(A17,8,1)&"x","0x1x2x3x4x5x6x7x8x9x")))),"照合行IDの形式を確認",IF(COUNTIFS($A$8:$A$57,A17)>1,"照合行IDが重複",IF(AND(COUNTA(B17)>0,NOT(AND(ISTEXT(B17),LEN(B17)=8,EXACT(LEFT(B17,4),"CUS-"),ISNUMBER(FIND(MID(B17,5,1)&"x","0x1x2x3x4x5x6x7x8x9x")),ISNUMBER(FIND(MID(B17,6,1)&"x","0x1x2x3x4x5x6x7x8x9x")),ISNUMBER(FIND(MID(B17,7,1)&"x","0x1x2x3x4x5x6x7x8x9x")),ISNUMBER(FIND(MID(B17,8,1)&"x","0x1x2x3x4x5x6x7x8x9x"))))),"照合顧客IDの形式を確認",IF(NOT(OR(C17="未確認",C17="一致確認",C17="対象外")),"確認区分を確認",IF(NOT(IF(ISNUMBER(F17),AND(F17>=43831,F17<73051,F17=INT(F17)),FALSE())),"元記録確認日は時刻なしで必須",IF(F17>照合結果!$B$3,"元記録確認日が基準日より後",IF(AND(C17<>"一致確認",COUNTA(D17:E17)>0),"未確認/対象外の確認先と一致確認日は空欄",IF(AND(C17="一致確認",COUNTA(B17)=0),"一致確認には照合顧客IDが必須",IF(AND(C17="一致確認",NOT(AND(ISTEXT(D17),LEN(D17)=8,EXACT(LEFT(D17,4),"MST-"),ISNUMBER(FIND(MID(D17,5,1)&"x","0x1x2x3x4x5x6x7x8x9x")),ISNUMBER(FIND(MID(D17,6,1)&"x","0x1x2x3x4x5x6x7x8x9x")),ISNUMBER(FIND(MID(D17,7,1)&"x","0x1x2x3x4x5x6x7x8x9x")),ISNUMBER(FIND(MID(D17,8,1)&"x","0x1x2x3x4x5x6x7x8x9x"))))),"確認先行IDの形式を確認",IF(AND(C17="一致確認",COUNTIFS(顧客マスター!$A$8:$A$57,D17)<>1),"確認先行が未登録/重複",IF(IF(C17="一致確認",INDEX(顧客マスター!$B$8:$B$57,MATCH(D17,顧客マスター!$A$8:$A$57,0))<>B17,FALSE()),"確認先の顧客IDが一致しません",IF(IF(C17="一致確認",INDEX(顧客マスター!$C$8:$C$57,MATCH(D17,顧客マスター!$A$8:$A$57,0))<>"有効",FALSE()),"確認先の台帳区分を確認",IF(AND(C17="一致確認",NOT(IF(ISNUMBER(E17),AND(E17>=43831,E17<73051,E17=INT(E17)),FALSE()))),"一致確認日は時刻なしで必須",IF(IF(C17="一致確認",OR(E17>F17,E17<INDEX(顧客マスター!$D$8:$D$57,MATCH(D17,顧客マスター!$A$8:$A$57,0))),FALSE()),"台帳確認日≦一致確認日≦元記録確認日を確認","確認済み"))))))))))))))) | K17: =IF(J17="","",IF(J17="確認済み",0,1)) | L17: =IF(COUNTA(A17:F17)=0,IF(AND(J17="",K17="",G17="",H17="",I17=""),0,1),IF(NOT(AND(ISTEXT(J17),J17=IF(COUNTA(A17:F17)=0,"",IF(NOT(AND(ISTEXT(A17),LEN(A17)=8,EXACT(LEFT(A17,4),"REC-"),ISNUMBER(FIND(MID(A17,5,1)&"x","0x1x2x3x4x5x6x7x8x9x")),ISNUMBER(FIND(MID(A17,6,1)&"x","0x1x2x3x4x5x6x7x8x9x")),ISNUMBER(FIND(MID(A17,7,1)&"x","0x1x2x3x4x5x6x7x8x9x")),ISNUMBER(FIND(MID(A17,8,1)&"x","0x1x2x3x4x5x6x7x8x9x")))),"照合行IDの形式を確認",IF(COUNTIFS($A$8:$A$57,A17)>1,"照合行IDが重複",IF(AND(COUNTA(B17)>0,NOT(AND(ISTEXT(B17),LEN(B17)=8,EXACT(LEFT(B17,4),"CUS-"),ISNUMBER(FIND(MID(B17,5,1)&"x","0x1x2x3x4x5x6x7x8x9x")),ISNUMBER(FIND(MID(B17,6,1)&"x","0x1x2x3x4x5x6x7x8x9x")),ISNUMBER(FIND(MID(B17,7,1)&"x","0x1x2x3x4x5x6x7x8x9x")),ISNUMBER(FIND(MID(B17,8,1)&"x","0x1x2x3x4x5x6x7x8x9x"))))),"照合顧客IDの形式を確認",IF(NOT(OR(C17="未確認",C17="一致確認",C17="対象外")),"確認区分を確認",IF(NOT(IF(ISNUMBER(F17),AND(F17>=43831,F17<73051,F17=INT(F17)),FALSE())),"元記録確認日は時刻なしで必須",IF(F17>照合結果!$B$3,"元記録確認日が基準日より後",IF(AND(C17<>"一致確認",COUNTA(D17:E17)>0),"未確認/対象外の確認先と一致確認日は空欄",IF(AND(C17="一致確認",COUNTA(B17)=0),"一致確認には照合顧客IDが必須",IF(AND(C17="一致確認",NOT(AND(ISTEXT(D17),LEN(D17)=8,EXACT(LEFT(D17,4),"MST-"),ISNUMBER(FIND(MID(D17,5,1)&"x","0x1x2x3x4x5x6x7x8x9x")),ISNUMBER(FIND(MID(D17,6,1)&"x","0x1x2x3x4x5x6x7x8x9x")),ISNUMBER(FIND(MID(D17,7,1)&"x","0x1x2x3x4x5x6x7x8x9x")),ISNUMBER(FIND(MID(D17,8,1)&"x","0x1x2x3x4x5x6x7x8x9x"))))),"確認先行IDの形式を確認",IF(AND(C17="一致確認",COUNTIFS(顧客マスター!$A$8:$A$57,D17)<>1),"確認先行が未登録/重複",IF(IF(C17="一致確認",INDEX(顧客マスター!$B$8:$B$57,MATCH(D17,顧客マスター!$A$8:$A$57,0))<>B17,FALSE()),"確認先の顧客IDが一致しません",IF(IF(C17="一致確認",INDEX(顧客マスター!$C$8:$C$57,MATCH(D17,顧客マスター!$A$8:$A$57,0))<>"有効",FALSE()),"確認先の台帳区分を確認",IF(AND(C17="一致確認",NOT(IF(ISNUMBER(E17),AND(E17>=43831,E17<73051,E17=INT(E17)),FALSE()))),"一致確認日は時刻なしで必須",IF(IF(C17="一致確認",OR(E17>F17,E17<INDEX(顧客マスター!$D$8:$D$57,MATCH(D17,顧客マスター!$A$8:$A$57,0))),FALSE()),"台帳確認日≦一致確認日≦元記録確認日を確認","確認済み"))))))))))))))),ISNUMBER(K17),K17=IF(J17="確認済み",0,1))),1,IF(K17<>0,0,IF(AND(IF(COUNTA(B17)=0,ISTEXT(G17),ISNUMBER(G17)),G17=IF(COUNTA(B17)=0,"",COUNTIFS(顧客マスター!$B$8:$B$57,B17)),ISTEXT(H17),H17=IF(AND(COUNTA(B17)>0,G17=1),INDEX(顧客マスター!$A$8:$A$57,MATCH(B17,顧客マスター!$B$8:$B$57,0)),""),ISTEXT(I17),I17=IF(C17="対象外","対象外",IF(照合結果!$E$3<>"確認済","体系未確認",IF(COUNTA(B17)=0,"キー未確認",IF(C17="一致確認","一致確認",IF(G17=0,"候補なし",IF(G17>1,"複数候補",IF(INDEX(顧客マスター!$C$8:$C$57,MATCH(B17,顧客マスター!$B$8:$B$57,0))<>"有効","台帳要確認","単一候補")))))))),0,1)))) -> 0
