Workbook

Sheet 顧客一覧
A2: 顧客・担当・次回予定を確認 | I2: 基準日の前提 | J2: 入力の前提
A3: 照合基準日 | B3: 46311 | H3: =IF(J3=0,"入力不備なし","入力を確認") -> 入力不備なし | I3: =IF(AND(ISNUMBER(B3),B3>=43831,B3<73051,B3=INT(B3)),0,1) -> 0 | J3: =I3+SUM(顧客入力!P8:P57)+SUM(顧客入力!Q8:Q57)+SUM(担当者ID!C8:C27) -> 0
A4: 継続（件） | B4: =IF($J$3=0,COUNTIFS(顧客入力!C8:C57,"継続"),NA()) -> 6 | D4: 保留（件） | E4: =IF($J$3=0,COUNTIFS(顧客入力!C8:C57,"保留"),NA()) -> 1 | G4: 終了（件） | H4: =IF($J$3=0,COUNTIFS(顧客入力!C8:C57,"終了"),NA()) -> 1
A5: 予定遅延（件） | B5: =IF($J$3=0,COUNTIFS(顧客入力!M8:M57,"予定遅延"),NA()) -> 1 | D5: 本日予定（件） | E5: =IF($J$3=0,COUNTIFS(顧客入力!M8:M57,"本日予定"),NA()) -> 1 | G5: 今後予定（件） | H5: =IF($J$3=0,COUNTIFS(顧客入力!M8:M57,"今後予定"),NA()) -> 1
A6: 担当未設定（件） | B6: =IF($J$3=0,COUNTIFS(顧客入力!J8:J57,1),NA()) -> 1 | D6: 連絡要確認（件） | E6: =IF($J$3=0,COUNTIFS(顧客入力!N8:N57,1),NA()) -> 1 | G6: 予定要見直し（件） | H6: =IF($J$3=0,COUNTIFS(顧客入力!L8:L57,1),NA()) -> 4
A7: 全登録（件） | B7: =IF($J$3=0,COUNTIFS(顧客入力!O8:O57,"確認済み"),NA()) -> 8 | D7: 連絡停止（件） | E7: =IF($J$3=0,COUNTIFS(顧客入力!C8:C57,"<>終了",顧客入力!E8:E57,"連絡停止"),NA()) -> 1 | G7: 照合差額（件） | H7: =B7-B4-E4-H4 -> 0
A8: 予定の3集計は継続・担当あり・連絡可のみ。担当未設定/連絡要確認/連絡停止は終了を除きます。
A9: 顧客ID | B9: 表示名 | C9: 管理区分 | D9: 担当ID | E9: 連絡区分 | F9: 最終接点日 | G9: 次回予定日 | H9: 予定の確認
A10: =IF(COUNTA(顧客入力!A8:H8)=0,"",顧客入力!A8) -> CUS-0001 | B10: =IF(COUNTA(顧客入力!A8:H8)=0,"",CLEAN(顧客入力!B8)) -> 架空顧客A | C10: =IF(COUNTA(顧客入力!A8:H8)=0,"",顧客入力!C8) -> 継続 | D10: =IF(COUNTA(顧客入力!A8:H8)=0,"",IF(顧客入力!D8="","",顧客入力!D8)) -> STF-0001 | E10: =IF(COUNTA(顧客入力!A8:H8)=0,"",顧客入力!E8) -> 連絡可 | F10: =IF(COUNTA(顧客入力!A8:H8)=0,"",IF(顧客入力!F8="","",顧客入力!F8)) -> 46296 | G10: =IF(COUNTA(顧客入力!A8:H8)=0,"",IF(顧客入力!H8="","",顧客入力!H8)) -> 46310 | H10: =IF(COUNTA(顧客入力!A8:H8)=0,"",顧客入力!M8) -> 予定遅延
A11: =IF(COUNTA(顧客入力!A9:H9)=0,"",顧客入力!A9) -> CUS-0002 | B11: =IF(COUNTA(顧客入力!A9:H9)=0,"",CLEAN(顧客入力!B9)) -> 架空顧客B | C11: =IF(COUNTA(顧客入力!A9:H9)=0,"",顧客入力!C9) -> 継続 | D11: =IF(COUNTA(顧客入力!A9:H9)=0,"",IF(顧客入力!D9="","",顧客入力!D9)) -> STF-0002 | E11: =IF(COUNTA(顧客入力!A9:H9)=0,"",顧客入力!E9) -> 連絡可 | F11: =IF(COUNTA(顧客入力!A9:H9)=0,"",IF(顧客入力!F9="","",顧客入力!F9)) -> 46305 | G11: =IF(COUNTA(顧客入力!A9:H9)=0,"",IF(顧客入力!H9="","",顧客入力!H9)) -> 46311 | H11: =IF(COUNTA(顧客入力!A9:H9)=0,"",顧客入力!M9) -> 本日予定
A12: =IF(COUNTA(顧客入力!A10:H10)=0,"",顧客入力!A10) -> CUS-0003 | B12: =IF(COUNTA(顧客入力!A10:H10)=0,"",CLEAN(顧客入力!B10)) -> 架空顧客C | C12: =IF(COUNTA(顧客入力!A10:H10)=0,"",顧客入力!C10) -> 継続 | D12: =IF(COUNTA(顧客入力!A10:H10)=0,"",IF(顧客入力!D10="","",顧客入力!D10)) -> STF-0003 | E12: =IF(COUNTA(顧客入力!A10:H10)=0,"",顧客入力!E10) -> 連絡可 | F12: =IF(COUNTA(顧客入力!A10:H10)=0,"",IF(顧客入力!F10="","",顧客入力!F10)) | G12: =IF(COUNTA(顧客入力!A10:H10)=0,"",IF(顧客入力!H10="","",顧客入力!H10)) -> 46315 | H12: =IF(COUNTA(顧客入力!A10:H10)=0,"",顧客入力!M10) -> 今後予定
A13: =IF(COUNTA(顧客入力!A11:H11)=0,"",顧客入力!A11) -> CUS-0004 | B13: =IF(COUNTA(顧客入力!A11:H11)=0,"",CLEAN(顧客入力!B11)) -> 架空顧客D | C13: =IF(COUNTA(顧客入力!A11:H11)=0,"",顧客入力!C11) -> 継続 | D13: =IF(COUNTA(顧客入力!A11:H11)=0,"",IF(顧客入力!D11="","",顧客入力!D11)) | E13: =IF(COUNTA(顧客入力!A11:H11)=0,"",顧客入力!E11) -> 連絡可 | F13: =IF(COUNTA(顧客入力!A11:H11)=0,"",IF(顧客入力!F11="","",顧客入力!F11)) -> 46300 | G13: =IF(COUNTA(顧客入力!A11:H11)=0,"",IF(顧客入力!H11="","",顧客入力!H11)) -> 46310 | H13: =IF(COUNTA(顧客入力!A11:H11)=0,"",顧客入力!M11) -> 担当未設定
A14: =IF(COUNTA(顧客入力!A12:H12)=0,"",顧客入力!A12) -> CUS-0005 | B14: =IF(COUNTA(顧客入力!A12:H12)=0,"",CLEAN(顧客入力!B12)) -> 架空顧客E | C14: =IF(COUNTA(顧客入力!A12:H12)=0,"",顧客入力!C12) -> 継続 | D14: =IF(COUNTA(顧客入力!A12:H12)=0,"",IF(顧客入力!D12="","",顧客入力!D12)) -> STF-0004 | E14: =IF(COUNTA(顧客入力!A12:H12)=0,"",顧客入力!E12) -> 要確認 | F14: =IF(COUNTA(顧客入力!A12:H12)=0,"",IF(顧客入力!F12="","",顧客入力!F12)) | G14: =IF(COUNTA(顧客入力!A12:H12)=0,"",IF(顧客入力!H12="","",顧客入力!H12)) -> 46309 | H14: =IF(COUNTA(顧客入力!A12:H12)=0,"",顧客入力!M12) -> 連絡要確認
A15: =IF(COUNTA(顧客入力!A13:H13)=0,"",顧客入力!A13) -> CUS-0006 | B15: =IF(COUNTA(顧客入力!A13:H13)=0,"",CLEAN(顧客入力!B13)) -> 架空顧客F | C15: =IF(COUNTA(顧客入力!A13:H13)=0,"",顧客入力!C13) -> 保留 | D15: =IF(COUNTA(顧客入力!A13:H13)=0,"",IF(顧客入力!D13="","",顧客入力!D13)) -> STF-0001 | E15: =IF(COUNTA(顧客入力!A13:H13)=0,"",顧客入力!E13) -> 連絡可 | F15: =IF(COUNTA(顧客入力!A13:H13)=0,"",IF(顧客入力!F13="","",顧客入力!F13)) -> 46275 | G15: =IF(COUNTA(顧客入力!A13:H13)=0,"",IF(顧客入力!H13="","",顧客入力!H13)) -> 46310 | H15: =IF(COUNTA(顧客入力!A13:H13)=0,"",顧客入力!M13) -> 保留
A16: =IF(COUNTA(顧客入力!A14:H14)=0,"",顧客入力!A14) -> CUS-0007 | B16: =IF(COUNTA(顧客入力!A14:H14)=0,"",CLEAN(顧客入力!B14)) -> 架空顧客G | C16: =IF(COUNTA(顧客入力!A14:H14)=0,"",顧客入力!C14) -> 終了 | D16: =IF(COUNTA(顧客入力!A14:H14)=0,"",IF(顧客入力!D14="","",顧客入力!D14)) | E16: =IF(COUNTA(顧客入力!A14:H14)=0,"",顧客入力!E14) -> 連絡停止 | F16: =IF(COUNTA(顧客入力!A14:H14)=0,"",IF(顧客入力!F14="","",顧客入力!F14)) -> 46266 | G16: =IF(COUNTA(顧客入力!A14:H14)=0,"",IF(顧客入力!H14="","",顧客入力!H14)) | H16: =IF(COUNTA(顧客入力!A14:H14)=0,"",顧客入力!M14) -> 終了
A17: =IF(COUNTA(顧客入力!A15:H15)=0,"",顧客入力!A15) -> CUS-0008 | B17: =IF(COUNTA(顧客入力!A15:H15)=0,"",CLEAN(顧客入力!B15)) -> 架空顧客H | C17: =IF(COUNTA(顧客入力!A15:H15)=0,"",顧客入力!C15) -> 継続 | D17: =IF(COUNTA(顧客入力!A15:H15)=0,"",IF(顧客入力!D15="","",顧客入力!D15)) -> STF-0002 | E17: =IF(COUNTA(顧客入力!A15:H15)=0,"",顧客入力!E15) -> 連絡停止 | F17: =IF(COUNTA(顧客入力!A15:H15)=0,"",IF(顧客入力!F15="","",顧客入力!F15)) -> 46296 | G17: =IF(COUNTA(顧客入力!A15:H15)=0,"",IF(顧客入力!H15="","",顧客入力!H15)) -> 46311 | H17: =IF(COUNTA(顧客入力!A15:H15)=0,"",顧客入力!M15) -> 連絡停止
A18: =IF(COUNTA(顧客入力!A16:H16)=0,"",顧客入力!A16) | B18: =IF(COUNTA(顧客入力!A16:H16)=0,"",CLEAN(顧客入力!B16)) | C18: =IF(COUNTA(顧客入力!A16:H16)=0,"",顧客入力!C16) | D18: =IF(COUNTA(顧客入力!A16:H16)=0,"",IF(顧客入力!D16="","",顧客入力!D16)) | E18: =IF(COUNTA(顧客入力!A16:H16)=0,"",顧客入力!E16) | F18: =IF(COUNTA(顧客入力!A16:H16)=0,"",IF(顧客入力!F16="","",顧客入力!F16)) | G18: =IF(COUNTA(顧客入力!A16:H16)=0,"",IF(顧客入力!H16="","",顧客入力!H16)) | H18: =IF(COUNTA(顧客入力!A16:H16)=0,"",顧客入力!M16)
A19: =IF(COUNTA(顧客入力!A17:H17)=0,"",顧客入力!A17) | B19: =IF(COUNTA(顧客入力!A17:H17)=0,"",CLEAN(顧客入力!B17)) | C19: =IF(COUNTA(顧客入力!A17:H17)=0,"",顧客入力!C17) | D19: =IF(COUNTA(顧客入力!A17:H17)=0,"",IF(顧客入力!D17="","",顧客入力!D17)) | E19: =IF(COUNTA(顧客入力!A17:H17)=0,"",顧客入力!E17) | F19: =IF(COUNTA(顧客入力!A17:H17)=0,"",IF(顧客入力!F17="","",顧客入力!F17)) | G19: =IF(COUNTA(顧客入力!A17:H17)=0,"",IF(顧客入力!H17="","",顧客入力!H17)) | H19: =IF(COUNTA(顧客入力!A17:H17)=0,"",顧客入力!M17)
A20: =IF(COUNTA(顧客入力!A18:H18)=0,"",顧客入力!A18) | B20: =IF(COUNTA(顧客入力!A18:H18)=0,"",CLEAN(顧客入力!B18)) | C20: =IF(COUNTA(顧客入力!A18:H18)=0,"",顧客入力!C18) | D20: =IF(COUNTA(顧客入力!A18:H18)=0,"",IF(顧客入力!D18="","",顧客入力!D18)) | E20: =IF(COUNTA(顧客入力!A18:H18)=0,"",顧客入力!E18) | F20: =IF(COUNTA(顧客入力!A18:H18)=0,"",IF(顧客入力!F18="","",顧客入力!F18)) | G20: =IF(COUNTA(顧客入力!A18:H18)=0,"",IF(顧客入力!H18="","",顧客入力!H18)) | H20: =IF(COUNTA(顧客入力!A18:H18)=0,"",顧客入力!M18)
A21: =IF(COUNTA(顧客入力!A19:H19)=0,"",顧客入力!A19) | B21: =IF(COUNTA(顧客入力!A19:H19)=0,"",CLEAN(顧客入力!B19)) | C21: =IF(COUNTA(顧客入力!A19:H19)=0,"",顧客入力!C19) | D21: =IF(COUNTA(顧客入力!A19:H19)=0,"",IF(顧客入力!D19="","",顧客入力!D19)) | E21: =IF(COUNTA(顧客入力!A19:H19)=0,"",顧客入力!E19) | F21: =IF(COUNTA(顧客入力!A19:H19)=0,"",IF(顧客入力!F19="","",顧客入力!F19)) | G21: =IF(COUNTA(顧客入力!A19:H19)=0,"",IF(顧客入力!H19="","",顧客入力!H19)) | H21: =IF(COUNTA(顧客入力!A19:H19)=0,"",顧客入力!M19)
... A59: =IF(COUNTA(顧客入力!A57:H57)=0,"",顧客入力!A57) | B59: =IF(COUNTA(顧客入力!A57:H57)=0,"",CLEAN(顧客入力!B57)) | C59: =IF(COUNTA(顧客入力!A57:H57)=0,"",顧客入力!C57) | D59: =IF(COUNTA(顧客入力!A57:H57)=0,"",IF(顧客入力!D57="","",顧客入力!D57)) | E59: =IF(COUNTA(顧客入力!A57:H57)=0,"",顧客入力!E57) | F59: =IF(COUNTA(顧客入力!A57:H57)=0,"",IF(顧客入力!F57="","",顧客入力!F57)) | G59: =IF(COUNTA(顧客入力!A57:H57)=0,"",IF(顧客入力!H57="","",顧客入力!H57)) | H59: =IF(COUNTA(顧客入力!A57:H57)=0,"",顧客入力!M57)

Sheet 顧客入力
A2: 顧客台帳の入力
A3: 黄色のA〜Hへ。50顧客・20担当者ID。表示名は20文字まで。住所/メール/窓口名の対応は別資料で管理。
A5: 連絡区分は目的/経路ごとに元記録を確認。入力欄だけで同意/権限/適法性を証明しません。
A7: 顧客ID | B7: 表示名 | C7: 管理区分 | D7: 担当ID | E7: 連絡区分 | F7: 最終接点日 | G7: 記録確認日 | H7: 次回予定日 | I7: 管理対象 | J7: 担当未設定 | K7: 照合できる予定 | L7: 予定要見直し | M7: 予定の確認 | N7: 連絡要確認 | O7: 入力の確認 | P7: 入力不備 | Q7: 計算の前提
A8: CUS-0001 | B8: 架空顧客A | C8: 継続 | D8: STF-0001 | E8: 連絡可 | F8: 46296 | G8: 46311 | H8: 46310 | I8: =IF(O8="","",IF(P8<>0,NA(),IF(C8="終了",0,1))) -> 1 | J8: =IF(O8="","",IF(P8<>0,NA(),IF(AND(C8<>"終了",D8=""),1,0))) -> 0 | K8: =IF(O8="","",IF(P8<>0,NA(),IF(AND(C8="継続",E8="連絡可",D8<>"",H8<>""),1,0))) -> 1 | L8: =IF(O8="","",IF(P8<>0,NA(),IF(AND(H8<>"",NOT(AND(C8="継続",E8="連絡可",D8<>""))),1,0))) -> 0 | M8: =IF(O8="","",IF(P8<>0,NA(),IF(C8="終了","終了",IF(E8="連絡停止","連絡停止",IF(E8="要確認","連絡要確認",IF(C8="保留","保留",IF(D8="","担当未設定",IF(H8="","予定なし",IF(H8<顧客一覧!$B$3,"予定遅延",IF(H8=顧客一覧!$B$3,"本日予定","今後予定")))))))))) -> 予定遅延 | N8: =IF(O8="","",IF(P8<>0,NA(),IF(AND(C8<>"終了",E8="要確認"),1,0))) -> 0 | O8: =IF(COUNTA(A8:H8)=0,"",IF(NOT(AND(ISTEXT(A8),LEN(A8)=8,EXACT(LEFT(A8,4),"CUS-"),ISNUMBER(FIND(MID(A8,5,1)&"x","0x1x2x3x4x5x6x7x8x9x")),ISNUMBER(FIND(MID(A8,6,1)&"x","0x1x2x3x4x5x6x7x8x9x")),ISNUMBER(FIND(MID(A8,7,1)&"x","0x1x2x3x4x5x6x7x8x9x")),ISNUMBER(FIND(MID(A8,8,1)&"x","0x1x2x3x4x5x6x7x8x9x")))),"顧客IDはCUS-と半角数字4桁",IF(COUNTIFS($A$8:$A$57,A8)>1,"顧客IDが重複",IF(NOT(AND(ISTEXT(B8),LEN(B8)>0,LEN(B8)<=20,EXACT(B8,TRIM(CLEAN(B8))),ISERROR(FIND(CHAR(10),B8)),ISERROR(FIND(CHAR(13),B8)),ISERROR(FIND(" ",B8)),ISERROR(FIND(" ",B8)),ISERROR(FIND(CHAR(127),B8)),ISERROR(FIND(LEFT(B8,1),"=+-@＝＋－＠")))),"表示名は1〜20文字の文字列",IF(NOT(OR(C8="継続",C8="保留",C8="終了")),"管理区分を確認",IF(AND(D8<>"",NOT(AND(ISTEXT(D8),LEN(D8)=8,EXACT(LEFT(D8,4),"STF-"),ISNUMBER(FIND(MID(D8,5,1)&"x","0x1x2x3x4x5x6x7x8x9x")),ISNUMBER(FIND(MID(D8,6,1)&"x","0x1x2x3x4x5x6x7x8x9x")),ISNUMBER(FIND(MID(D8,7,1)&"x","0x1x2x3x4x5x6x7x8x9x")),ISNUMBER(FIND(MID(D8,8,1)&"x","0x1x2x3x4x5x6x7x8x9x"))))),"担当IDの形式を確認",IF(AND(D8<>"",COUNTIFS(担当者ID!$A$8:$A$27,D8)<>1),"担当が未登録/重複",IF(NOT(OR(E8="連絡可",E8="要確認",E8="連絡停止")),"連絡区分を確認",IF(NOT(AND(ISNUMBER(G8),G8>=43831,G8<73051,G8=INT(G8))),"記録確認日は日付で必須",IF(G8>顧客一覧!$B$3,"確認日が基準日より後",IF(AND(F8<>"",NOT(AND(ISNUMBER(F8),F8>=43831,F8<73051,F8=INT(F8)))),"最終接点日は日付で入力",IF(AND(F8<>"",F8>G8),"接点日が記録確認日より後",IF(AND(H8<>"",NOT(AND(ISNUMBER(H8),H8>=43831,H8<73051,H8=INT(H8)))),"次回予定日は日付で入力","確認済み"))))))))))))) -> 確認済み | P8: =IF(O8="","",IF(O8="確認済み",0,1)) -> 0 | Q8: =IF(O8="","",IF(NOT(AND(ISNUMBER(P8),P8=IF(O8="確認済み",0,1))),1,IF(P8<>0,0,IF(AND(ISNUMBER(I8),I8=IF(C8="終了",0,1),ISNUMBER(J8),J8=IF(AND(C8<>"終了",D8=""),1,0),ISNUMBER(K8),K8=IF(AND(C8="継続",E8="連絡可",D8<>"",H8<>""),1,0),ISNUMBER(L8),L8=IF(AND(H8<>"",NOT(AND(C8="継続",E8="連絡可",D8<>""))),1,0),ISTEXT(M8),M8=IF(C8="終了","終了",IF(E8="連絡停止","連絡停止",IF(E8="要確認","連絡要確認",IF(C8="保留","保留",IF(D8="","担当未設定",IF(H8="","予定なし",IF(H8<顧客一覧!$B$3,"予定遅延",IF(H8=顧客一覧!$B$3,"本日予定","今後予定")))))))),ISNUMBER(N8),N8=IF(AND(C8<>"終了",E8="要確認"),1,0)),0,1)))) -> 0
A9: CUS-0002 | B9: 架空顧客B | C9: 継続 | D9: STF-0002 | E9: 連絡可 | F9: 46305 | G9: 46311 | H9: 46311 | I9: =IF(O9="","",IF(P9<>0,NA(),IF(C9="終了",0,1))) -> 1 | J9: =IF(O9="","",IF(P9<>0,NA(),IF(AND(C9<>"終了",D9=""),1,0))) -> 0 | K9: =IF(O9="","",IF(P9<>0,NA(),IF(AND(C9="継続",E9="連絡可",D9<>"",H9<>""),1,0))) -> 1 | L9: =IF(O9="","",IF(P9<>0,NA(),IF(AND(H9<>"",NOT(AND(C9="継続",E9="連絡可",D9<>""))),1,0))) -> 0 | M9: =IF(O9="","",IF(P9<>0,NA(),IF(C9="終了","終了",IF(E9="連絡停止","連絡停止",IF(E9="要確認","連絡要確認",IF(C9="保留","保留",IF(D9="","担当未設定",IF(H9="","予定なし",IF(H9<顧客一覧!$B$3,"予定遅延",IF(H9=顧客一覧!$B$3,"本日予定","今後予定")))))))))) -> 本日予定 | N9: =IF(O9="","",IF(P9<>0,NA(),IF(AND(C9<>"終了",E9="要確認"),1,0))) -> 0 | O9: =IF(COUNTA(A9:H9)=0,"",IF(NOT(AND(ISTEXT(A9),LEN(A9)=8,EXACT(LEFT(A9,4),"CUS-"),ISNUMBER(FIND(MID(A9,5,1)&"x","0x1x2x3x4x5x6x7x8x9x")),ISNUMBER(FIND(MID(A9,6,1)&"x","0x1x2x3x4x5x6x7x8x9x")),ISNUMBER(FIND(MID(A9,7,1)&"x","0x1x2x3x4x5x6x7x8x9x")),ISNUMBER(FIND(MID(A9,8,1)&"x","0x1x2x3x4x5x6x7x8x9x")))),"顧客IDはCUS-と半角数字4桁",IF(COUNTIFS($A$8:$A$57,A9)>1,"顧客IDが重複",IF(NOT(AND(ISTEXT(B9),LEN(B9)>0,LEN(B9)<=20,EXACT(B9,TRIM(CLEAN(B9))),ISERROR(FIND(CHAR(10),B9)),ISERROR(FIND(CHAR(13),B9)),ISERROR(FIND(" ",B9)),ISERROR(FIND(" ",B9)),ISERROR(FIND(CHAR(127),B9)),ISERROR(FIND(LEFT(B9,1),"=+-@＝＋－＠")))),"表示名は1〜20文字の文字列",IF(NOT(OR(C9="継続",C9="保留",C9="終了")),"管理区分を確認",IF(AND(D9<>"",NOT(AND(ISTEXT(D9),LEN(D9)=8,EXACT(LEFT(D9,4),"STF-"),ISNUMBER(FIND(MID(D9,5,1)&"x","0x1x2x3x4x5x6x7x8x9x")),ISNUMBER(FIND(MID(D9,6,1)&"x","0x1x2x3x4x5x6x7x8x9x")),ISNUMBER(FIND(MID(D9,7,1)&"x","0x1x2x3x4x5x6x7x8x9x")),ISNUMBER(FIND(MID(D9,8,1)&"x","0x1x2x3x4x5x6x7x8x9x"))))),"担当IDの形式を確認",IF(AND(D9<>"",COUNTIFS(担当者ID!$A$8:$A$27,D9)<>1),"担当が未登録/重複",IF(NOT(OR(E9="連絡可",E9="要確認",E9="連絡停止")),"連絡区分を確認",IF(NOT(AND(ISNUMBER(G9),G9>=43831,G9<73051,G9=INT(G9))),"記録確認日は日付で必須",IF(G9>顧客一覧!$B$3,"確認日が基準日より後",IF(AND(F9<>"",NOT(AND(ISNUMBER(F9),F9>=43831,F9<73051,F9=INT(F9)))),"最終接点日は日付で入力",IF(AND(F9<>"",F9>G9),"接点日が記録確認日より後",IF(AND(H9<>"",NOT(AND(ISNUMBER(H9),H9>=43831,H9<73051,H9=INT(H9)))),"次回予定日は日付で入力","確認済み"))))))))))))) -> 確認済み | P9: =IF(O9="","",IF(O9="確認済み",0,1)) -> 0 | Q9: =IF(O9="","",IF(NOT(AND(ISNUMBER(P9),P9=IF(O9="確認済み",0,1))),1,IF(P9<>0,0,IF(AND(ISNUMBER(I9),I9=IF(C9="終了",0,1),ISNUMBER(J9),J9=IF(AND(C9<>"終了",D9=""),1,0),ISNUMBER(K9),K9=IF(AND(C9="継続",E9="連絡可",D9<>"",H9<>""),1,0),ISNUMBER(L9),L9=IF(AND(H9<>"",NOT(AND(C9="継続",E9="連絡可",D9<>""))),1,0),ISTEXT(M9),M9=IF(C9="終了","終了",IF(E9="連絡停止","連絡停止",IF(E9="要確認","連絡要確認",IF(C9="保留","保留",IF(D9="","担当未設定",IF(H9="","予定なし",IF(H9<顧客一覧!$B$3,"予定遅延",IF(H9=顧客一覧!$B$3,"本日予定","今後予定")))))))),ISNUMBER(N9),N9=IF(AND(C9<>"終了",E9="要確認"),1,0)),0,1)))) -> 0
A10: CUS-0003 | B10: 架空顧客C | C10: 継続 | D10: STF-0003 | E10: 連絡可 | G10: 46311 | H10: 46315 | I10: =IF(O10="","",IF(P10<>0,NA(),IF(C10="終了",0,1))) -> 1 | J10: =IF(O10="","",IF(P10<>0,NA(),IF(AND(C10<>"終了",D10=""),1,0))) -> 0 | K10: =IF(O10="","",IF(P10<>0,NA(),IF(AND(C10="継続",E10="連絡可",D10<>"",H10<>""),1,0))) -> 1 | L10: =IF(O10="","",IF(P10<>0,NA(),IF(AND(H10<>"",NOT(AND(C10="継続",E10="連絡可",D10<>""))),1,0))) -> 0 | M10: =IF(O10="","",IF(P10<>0,NA(),IF(C10="終了","終了",IF(E10="連絡停止","連絡停止",IF(E10="要確認","連絡要確認",IF(C10="保留","保留",IF(D10="","担当未設定",IF(H10="","予定なし",IF(H10<顧客一覧!$B$3,"予定遅延",IF(H10=顧客一覧!$B$3,"本日予定","今後予定")))))))))) -> 今後予定 | N10: =IF(O10="","",IF(P10<>0,NA(),IF(AND(C10<>"終了",E10="要確認"),1,0))) -> 0 | O10: =IF(COUNTA(A10:H10)=0,"",IF(NOT(AND(ISTEXT(A10),LEN(A10)=8,EXACT(LEFT(A10,4),"CUS-"),ISNUMBER(FIND(MID(A10,5,1)&"x","0x1x2x3x4x5x6x7x8x9x")),ISNUMBER(FIND(MID(A10,6,1)&"x","0x1x2x3x4x5x6x7x8x9x")),ISNUMBER(FIND(MID(A10,7,1)&"x","0x1x2x3x4x5x6x7x8x9x")),ISNUMBER(FIND(MID(A10,8,1)&"x","0x1x2x3x4x5x6x7x8x9x")))),"顧客IDはCUS-と半角数字4桁",IF(COUNTIFS($A$8:$A$57,A10)>1,"顧客IDが重複",IF(NOT(AND(ISTEXT(B10),LEN(B10)>0,LEN(B10)<=20,EXACT(B10,TRIM(CLEAN(B10))),ISERROR(FIND(CHAR(10),B10)),ISERROR(FIND(CHAR(13),B10)),ISERROR(FIND(" ",B10)),ISERROR(FIND(" ",B10)),ISERROR(FIND(CHAR(127),B10)),ISERROR(FIND(LEFT(B10,1),"=+-@＝＋－＠")))),"表示名は1〜20文字の文字列",IF(NOT(OR(C10="継続",C10="保留",C10="終了")),"管理区分を確認",IF(AND(D10<>"",NOT(AND(ISTEXT(D10),LEN(D10)=8,EXACT(LEFT(D10,4),"STF-"),ISNUMBER(FIND(MID(D10,5,1)&"x","0x1x2x3x4x5x6x7x8x9x")),ISNUMBER(FIND(MID(D10,6,1)&"x","0x1x2x3x4x5x6x7x8x9x")),ISNUMBER(FIND(MID(D10,7,1)&"x","0x1x2x3x4x5x6x7x8x9x")),ISNUMBER(FIND(MID(D10,8,1)&"x","0x1x2x3x4x5x6x7x8x9x"))))),"担当IDの形式を確認",IF(AND(D10<>"",COUNTIFS(担当者ID!$A$8:$A$27,D10)<>1),"担当が未登録/重複",IF(NOT(OR(E10="連絡可",E10="要確認",E10="連絡停止")),"連絡区分を確認",IF(NOT(AND(ISNUMBER(G10),G10>=43831,G10<73051,G10=INT(G10))),"記録確認日は日付で必須",IF(G10>顧客一覧!$B$3,"確認日が基準日より後",IF(AND(F10<>"",NOT(AND(ISNUMBER(F10),F10>=43831,F10<73051,F10=INT(F10)))),"最終接点日は日付で入力",IF(AND(F10<>"",F10>G10),"接点日が記録確認日より後",IF(AND(H10<>"",NOT(AND(ISNUMBER(H10),H10>=43831,H10<73051,H10=INT(H10)))),"次回予定日は日付で入力","確認済み"))))))))))))) -> 確認済み | P10: =IF(O10="","",IF(O10="確認済み",0,1)) -> 0 | Q10: =IF(O10="","",IF(NOT(AND(ISNUMBER(P10),P10=IF(O10="確認済み",0,1))),1,IF(P10<>0,0,IF(AND(ISNUMBER(I10),I10=IF(C10="終了",0,1),ISNUMBER(J10),J10=IF(AND(C10<>"終了",D10=""),1,0),ISNUMBER(K10),K10=IF(AND(C10="継続",E10="連絡可",D10<>"",H10<>""),1,0),ISNUMBER(L10),L10=IF(AND(H10<>"",NOT(AND(C10="継続",E10="連絡可",D10<>""))),1,0),ISTEXT(M10),M10=IF(C10="終了","終了",IF(E10="連絡停止","連絡停止",IF(E10="要確認","連絡要確認",IF(C10="保留","保留",IF(D10="","担当未設定",IF(H10="","予定なし",IF(H10<顧客一覧!$B$3,"予定遅延",IF(H10=顧客一覧!$B$3,"本日予定","今後予定")))))))),ISNUMBER(N10),N10=IF(AND(C10<>"終了",E10="要確認"),1,0)),0,1)))) -> 0
A11: CUS-0004 | B11: 架空顧客D | C11: 継続 | E11: 連絡可 | F11: 46300 | G11: 46311 | H11: 46310 | I11: =IF(O11="","",IF(P11<>0,NA(),IF(C11="終了",0,1))) -> 1 | J11: =IF(O11="","",IF(P11<>0,NA(),IF(AND(C11<>"終了",D11=""),1,0))) -> 1 | K11: =IF(O11="","",IF(P11<>0,NA(),IF(AND(C11="継続",E11="連絡可",D11<>"",H11<>""),1,0))) -> 0 | L11: =IF(O11="","",IF(P11<>0,NA(),IF(AND(H11<>"",NOT(AND(C11="継続",E11="連絡可",D11<>""))),1,0))) -> 1 | M11: =IF(O11="","",IF(P11<>0,NA(),IF(C11="終了","終了",IF(E11="連絡停止","連絡停止",IF(E11="要確認","連絡要確認",IF(C11="保留","保留",IF(D11="","担当未設定",IF(H11="","予定なし",IF(H11<顧客一覧!$B$3,"予定遅延",IF(H11=顧客一覧!$B$3,"本日予定","今後予定")))))))))) -> 担当未設定 | N11: =IF(O11="","",IF(P11<>0,NA(),IF(AND(C11<>"終了",E11="要確認"),1,0))) -> 0 | O11: =IF(COUNTA(A11:H11)=0,"",IF(NOT(AND(ISTEXT(A11),LEN(A11)=8,EXACT(LEFT(A11,4),"CUS-"),ISNUMBER(FIND(MID(A11,5,1)&"x","0x1x2x3x4x5x6x7x8x9x")),ISNUMBER(FIND(MID(A11,6,1)&"x","0x1x2x3x4x5x6x7x8x9x")),ISNUMBER(FIND(MID(A11,7,1)&"x","0x1x2x3x4x5x6x7x8x9x")),ISNUMBER(FIND(MID(A11,8,1)&"x","0x1x2x3x4x5x6x7x8x9x")))),"顧客IDはCUS-と半角数字4桁",IF(COUNTIFS($A$8:$A$57,A11)>1,"顧客IDが重複",IF(NOT(AND(ISTEXT(B11),LEN(B11)>0,LEN(B11)<=20,EXACT(B11,TRIM(CLEAN(B11))),ISERROR(FIND(CHAR(10),B11)),ISERROR(FIND(CHAR(13),B11)),ISERROR(FIND(" ",B11)),ISERROR(FIND(" ",B11)),ISERROR(FIND(CHAR(127),B11)),ISERROR(FIND(LEFT(B11,1),"=+-@＝＋－＠")))),"表示名は1〜20文字の文字列",IF(NOT(OR(C11="継続",C11="保留",C11="終了")),"管理区分を確認",IF(AND(D11<>"",NOT(AND(ISTEXT(D11),LEN(D11)=8,EXACT(LEFT(D11,4),"STF-"),ISNUMBER(FIND(MID(D11,5,1)&"x","0x1x2x3x4x5x6x7x8x9x")),ISNUMBER(FIND(MID(D11,6,1)&"x","0x1x2x3x4x5x6x7x8x9x")),ISNUMBER(FIND(MID(D11,7,1)&"x","0x1x2x3x4x5x6x7x8x9x")),ISNUMBER(FIND(MID(D11,8,1)&"x","0x1x2x3x4x5x6x7x8x9x"))))),"担当IDの形式を確認",IF(AND(D11<>"",COUNTIFS(担当者ID!$A$8:$A$27,D11)<>1),"担当が未登録/重複",IF(NOT(OR(E11="連絡可",E11="要確認",E11="連絡停止")),"連絡区分を確認",IF(NOT(AND(ISNUMBER(G11),G11>=43831,G11<73051,G11=INT(G11))),"記録確認日は日付で必須",IF(G11>顧客一覧!$B$3,"確認日が基準日より後",IF(AND(F11<>"",NOT(AND(ISNUMBER(F11),F11>=43831,F11<73051,F11=INT(F11)))),"最終接点日は日付で入力",IF(AND(F11<>"",F11>G11),"接点日が記録確認日より後",IF(AND(H11<>"",NOT(AND(ISNUMBER(H11),H11>=43831,H11<73051,H11=INT(H11)))),"次回予定日は日付で入力","確認済み"))))))))))))) -> 確認済み | P11: =IF(O11="","",IF(O11="確認済み",0,1)) -> 0 | Q11: =IF(O11="","",IF(NOT(AND(ISNUMBER(P11),P11=IF(O11="確認済み",0,1))),1,IF(P11<>0,0,IF(AND(ISNUMBER(I11),I11=IF(C11="終了",0,1),ISNUMBER(J11),J11=IF(AND(C11<>"終了",D11=""),1,0),ISNUMBER(K11),K11=IF(AND(C11="継続",E11="連絡可",D11<>"",H11<>""),1,0),ISNUMBER(L11),L11=IF(AND(H11<>"",NOT(AND(C11="継続",E11="連絡可",D11<>""))),1,0),ISTEXT(M11),M11=IF(C11="終了","終了",IF(E11="連絡停止","連絡停止",IF(E11="要確認","連絡要確認",IF(C11="保留","保留",IF(D11="","担当未設定",IF(H11="","予定なし",IF(H11<顧客一覧!$B$3,"予定遅延",IF(H11=顧客一覧!$B$3,"本日予定","今後予定")))))))),ISNUMBER(N11),N11=IF(AND(C11<>"終了",E11="要確認"),1,0)),0,1)))) -> 0
A12: CUS-0005 | B12: 架空顧客E | C12: 継続 | D12: STF-0004 | E12: 要確認 | G12: 46311 | H12: 46309 | I12: =IF(O12="","",IF(P12<>0,NA(),IF(C12="終了",0,1))) -> 1 | J12: =IF(O12="","",IF(P12<>0,NA(),IF(AND(C12<>"終了",D12=""),1,0))) -> 0 | K12: =IF(O12="","",IF(P12<>0,NA(),IF(AND(C12="継続",E12="連絡可",D12<>"",H12<>""),1,0))) -> 0 | L12: =IF(O12="","",IF(P12<>0,NA(),IF(AND(H12<>"",NOT(AND(C12="継続",E12="連絡可",D12<>""))),1,0))) -> 1 | M12: =IF(O12="","",IF(P12<>0,NA(),IF(C12="終了","終了",IF(E12="連絡停止","連絡停止",IF(E12="要確認","連絡要確認",IF(C12="保留","保留",IF(D12="","担当未設定",IF(H12="","予定なし",IF(H12<顧客一覧!$B$3,"予定遅延",IF(H12=顧客一覧!$B$3,"本日予定","今後予定")))))))))) -> 連絡要確認 | N12: =IF(O12="","",IF(P12<>0,NA(),IF(AND(C12<>"終了",E12="要確認"),1,0))) -> 1 | O12: =IF(COUNTA(A12:H12)=0,"",IF(NOT(AND(ISTEXT(A12),LEN(A12)=8,EXACT(LEFT(A12,4),"CUS-"),ISNUMBER(FIND(MID(A12,5,1)&"x","0x1x2x3x4x5x6x7x8x9x")),ISNUMBER(FIND(MID(A12,6,1)&"x","0x1x2x3x4x5x6x7x8x9x")),ISNUMBER(FIND(MID(A12,7,1)&"x","0x1x2x3x4x5x6x7x8x9x")),ISNUMBER(FIND(MID(A12,8,1)&"x","0x1x2x3x4x5x6x7x8x9x")))),"顧客IDはCUS-と半角数字4桁",IF(COUNTIFS($A$8:$A$57,A12)>1,"顧客IDが重複",IF(NOT(AND(ISTEXT(B12),LEN(B12)>0,LEN(B12)<=20,EXACT(B12,TRIM(CLEAN(B12))),ISERROR(FIND(CHAR(10),B12)),ISERROR(FIND(CHAR(13),B12)),ISERROR(FIND(" ",B12)),ISERROR(FIND(" ",B12)),ISERROR(FIND(CHAR(127),B12)),ISERROR(FIND(LEFT(B12,1),"=+-@＝＋－＠")))),"表示名は1〜20文字の文字列",IF(NOT(OR(C12="継続",C12="保留",C12="終了")),"管理区分を確認",IF(AND(D12<>"",NOT(AND(ISTEXT(D12),LEN(D12)=8,EXACT(LEFT(D12,4),"STF-"),ISNUMBER(FIND(MID(D12,5,1)&"x","0x1x2x3x4x5x6x7x8x9x")),ISNUMBER(FIND(MID(D12,6,1)&"x","0x1x2x3x4x5x6x7x8x9x")),ISNUMBER(FIND(MID(D12,7,1)&"x","0x1x2x3x4x5x6x7x8x9x")),ISNUMBER(FIND(MID(D12,8,1)&"x","0x1x2x3x4x5x6x7x8x9x"))))),"担当IDの形式を確認",IF(AND(D12<>"",COUNTIFS(担当者ID!$A$8:$A$27,D12)<>1),"担当が未登録/重複",IF(NOT(OR(E12="連絡可",E12="要確認",E12="連絡停止")),"連絡区分を確認",IF(NOT(AND(ISNUMBER(G12),G12>=43831,G12<73051,G12=INT(G12))),"記録確認日は日付で必須",IF(G12>顧客一覧!$B$3,"確認日が基準日より後",IF(AND(F12<>"",NOT(AND(ISNUMBER(F12),F12>=43831,F12<73051,F12=INT(F12)))),"最終接点日は日付で入力",IF(AND(F12<>"",F12>G12),"接点日が記録確認日より後",IF(AND(H12<>"",NOT(AND(ISNUMBER(H12),H12>=43831,H12<73051,H12=INT(H12)))),"次回予定日は日付で入力","確認済み"))))))))))))) -> 確認済み | P12: =IF(O12="","",IF(O12="確認済み",0,1)) -> 0 | Q12: =IF(O12="","",IF(NOT(AND(ISNUMBER(P12),P12=IF(O12="確認済み",0,1))),1,IF(P12<>0,0,IF(AND(ISNUMBER(I12),I12=IF(C12="終了",0,1),ISNUMBER(J12),J12=IF(AND(C12<>"終了",D12=""),1,0),ISNUMBER(K12),K12=IF(AND(C12="継続",E12="連絡可",D12<>"",H12<>""),1,0),ISNUMBER(L12),L12=IF(AND(H12<>"",NOT(AND(C12="継続",E12="連絡可",D12<>""))),1,0),ISTEXT(M12),M12=IF(C12="終了","終了",IF(E12="連絡停止","連絡停止",IF(E12="要確認","連絡要確認",IF(C12="保留","保留",IF(D12="","担当未設定",IF(H12="","予定なし",IF(H12<顧客一覧!$B$3,"予定遅延",IF(H12=顧客一覧!$B$3,"本日予定","今後予定")))))))),ISNUMBER(N12),N12=IF(AND(C12<>"終了",E12="要確認"),1,0)),0,1)))) -> 0
A13: CUS-0006 | B13: 架空顧客F | C13: 保留 | D13: STF-0001 | E13: 連絡可 | F13: 46275 | G13: 46311 | H13: 46310 | I13: =IF(O13="","",IF(P13<>0,NA(),IF(C13="終了",0,1))) -> 1 | J13: =IF(O13="","",IF(P13<>0,NA(),IF(AND(C13<>"終了",D13=""),1,0))) -> 0 | K13: =IF(O13="","",IF(P13<>0,NA(),IF(AND(C13="継続",E13="連絡可",D13<>"",H13<>""),1,0))) -> 0 | L13: =IF(O13="","",IF(P13<>0,NA(),IF(AND(H13<>"",NOT(AND(C13="継続",E13="連絡可",D13<>""))),1,0))) -> 1 | M13: =IF(O13="","",IF(P13<>0,NA(),IF(C13="終了","終了",IF(E13="連絡停止","連絡停止",IF(E13="要確認","連絡要確認",IF(C13="保留","保留",IF(D13="","担当未設定",IF(H13="","予定なし",IF(H13<顧客一覧!$B$3,"予定遅延",IF(H13=顧客一覧!$B$3,"本日予定","今後予定")))))))))) -> 保留 | N13: =IF(O13="","",IF(P13<>0,NA(),IF(AND(C13<>"終了",E13="要確認"),1,0))) -> 0 | O13: =IF(COUNTA(A13:H13)=0,"",IF(NOT(AND(ISTEXT(A13),LEN(A13)=8,EXACT(LEFT(A13,4),"CUS-"),ISNUMBER(FIND(MID(A13,5,1)&"x","0x1x2x3x4x5x6x7x8x9x")),ISNUMBER(FIND(MID(A13,6,1)&"x","0x1x2x3x4x5x6x7x8x9x")),ISNUMBER(FIND(MID(A13,7,1)&"x","0x1x2x3x4x5x6x7x8x9x")),ISNUMBER(FIND(MID(A13,8,1)&"x","0x1x2x3x4x5x6x7x8x9x")))),"顧客IDはCUS-と半角数字4桁",IF(COUNTIFS($A$8:$A$57,A13)>1,"顧客IDが重複",IF(NOT(AND(ISTEXT(B13),LEN(B13)>0,LEN(B13)<=20,EXACT(B13,TRIM(CLEAN(B13))),ISERROR(FIND(CHAR(10),B13)),ISERROR(FIND(CHAR(13),B13)),ISERROR(FIND(" ",B13)),ISERROR(FIND(" ",B13)),ISERROR(FIND(CHAR(127),B13)),ISERROR(FIND(LEFT(B13,1),"=+-@＝＋－＠")))),"表示名は1〜20文字の文字列",IF(NOT(OR(C13="継続",C13="保留",C13="終了")),"管理区分を確認",IF(AND(D13<>"",NOT(AND(ISTEXT(D13),LEN(D13)=8,EXACT(LEFT(D13,4),"STF-"),ISNUMBER(FIND(MID(D13,5,1)&"x","0x1x2x3x4x5x6x7x8x9x")),ISNUMBER(FIND(MID(D13,6,1)&"x","0x1x2x3x4x5x6x7x8x9x")),ISNUMBER(FIND(MID(D13,7,1)&"x","0x1x2x3x4x5x6x7x8x9x")),ISNUMBER(FIND(MID(D13,8,1)&"x","0x1x2x3x4x5x6x7x8x9x"))))),"担当IDの形式を確認",IF(AND(D13<>"",COUNTIFS(担当者ID!$A$8:$A$27,D13)<>1),"担当が未登録/重複",IF(NOT(OR(E13="連絡可",E13="要確認",E13="連絡停止")),"連絡区分を確認",IF(NOT(AND(ISNUMBER(G13),G13>=43831,G13<73051,G13=INT(G13))),"記録確認日は日付で必須",IF(G13>顧客一覧!$B$3,"確認日が基準日より後",IF(AND(F13<>"",NOT(AND(ISNUMBER(F13),F13>=43831,F13<73051,F13=INT(F13)))),"最終接点日は日付で入力",IF(AND(F13<>"",F13>G13),"接点日が記録確認日より後",IF(AND(H13<>"",NOT(AND(ISNUMBER(H13),H13>=43831,H13<73051,H13=INT(H13)))),"次回予定日は日付で入力","確認済み"))))))))))))) -> 確認済み | P13: =IF(O13="","",IF(O13="確認済み",0,1)) -> 0 | Q13: =IF(O13="","",IF(NOT(AND(ISNUMBER(P13),P13=IF(O13="確認済み",0,1))),1,IF(P13<>0,0,IF(AND(ISNUMBER(I13),I13=IF(C13="終了",0,1),ISNUMBER(J13),J13=IF(AND(C13<>"終了",D13=""),1,0),ISNUMBER(K13),K13=IF(AND(C13="継続",E13="連絡可",D13<>"",H13<>""),1,0),ISNUMBER(L13),L13=IF(AND(H13<>"",NOT(AND(C13="継続",E13="連絡可",D13<>""))),1,0),ISTEXT(M13),M13=IF(C13="終了","終了",IF(E13="連絡停止","連絡停止",IF(E13="要確認","連絡要確認",IF(C13="保留","保留",IF(D13="","担当未設定",IF(H13="","予定なし",IF(H13<顧客一覧!$B$3,"予定遅延",IF(H13=顧客一覧!$B$3,"本日予定","今後予定")))))))),ISNUMBER(N13),N13=IF(AND(C13<>"終了",E13="要確認"),1,0)),0,1)))) -> 0
A14: CUS-0007 | B14: 架空顧客G | C14: 終了 | E14: 連絡停止 | F14: 46266 | G14: 46311 | I14: =IF(O14="","",IF(P14<>0,NA(),IF(C14="終了",0,1))) -> 0 | J14: =IF(O14="","",IF(P14<>0,NA(),IF(AND(C14<>"終了",D14=""),1,0))) -> 0 | K14: =IF(O14="","",IF(P14<>0,NA(),IF(AND(C14="継続",E14="連絡可",D14<>"",H14<>""),1,0))) -> 0 | L14: =IF(O14="","",IF(P14<>0,NA(),IF(AND(H14<>"",NOT(AND(C14="継続",E14="連絡可",D14<>""))),1,0))) -> 0 | M14: =IF(O14="","",IF(P14<>0,NA(),IF(C14="終了","終了",IF(E14="連絡停止","連絡停止",IF(E14="要確認","連絡要確認",IF(C14="保留","保留",IF(D14="","担当未設定",IF(H14="","予定なし",IF(H14<顧客一覧!$B$3,"予定遅延",IF(H14=顧客一覧!$B$3,"本日予定","今後予定")))))))))) -> 終了 | N14: =IF(O14="","",IF(P14<>0,NA(),IF(AND(C14<>"終了",E14="要確認"),1,0))) -> 0 | O14: =IF(COUNTA(A14:H14)=0,"",IF(NOT(AND(ISTEXT(A14),LEN(A14)=8,EXACT(LEFT(A14,4),"CUS-"),ISNUMBER(FIND(MID(A14,5,1)&"x","0x1x2x3x4x5x6x7x8x9x")),ISNUMBER(FIND(MID(A14,6,1)&"x","0x1x2x3x4x5x6x7x8x9x")),ISNUMBER(FIND(MID(A14,7,1)&"x","0x1x2x3x4x5x6x7x8x9x")),ISNUMBER(FIND(MID(A14,8,1)&"x","0x1x2x3x4x5x6x7x8x9x")))),"顧客IDはCUS-と半角数字4桁",IF(COUNTIFS($A$8:$A$57,A14)>1,"顧客IDが重複",IF(NOT(AND(ISTEXT(B14),LEN(B14)>0,LEN(B14)<=20,EXACT(B14,TRIM(CLEAN(B14))),ISERROR(FIND(CHAR(10),B14)),ISERROR(FIND(CHAR(13),B14)),ISERROR(FIND(" ",B14)),ISERROR(FIND(" ",B14)),ISERROR(FIND(CHAR(127),B14)),ISERROR(FIND(LEFT(B14,1),"=+-@＝＋－＠")))),"表示名は1〜20文字の文字列",IF(NOT(OR(C14="継続",C14="保留",C14="終了")),"管理区分を確認",IF(AND(D14<>"",NOT(AND(ISTEXT(D14),LEN(D14)=8,EXACT(LEFT(D14,4),"STF-"),ISNUMBER(FIND(MID(D14,5,1)&"x","0x1x2x3x4x5x6x7x8x9x")),ISNUMBER(FIND(MID(D14,6,1)&"x","0x1x2x3x4x5x6x7x8x9x")),ISNUMBER(FIND(MID(D14,7,1)&"x","0x1x2x3x4x5x6x7x8x9x")),ISNUMBER(FIND(MID(D14,8,1)&"x","0x1x2x3x4x5x6x7x8x9x"))))),"担当IDの形式を確認",IF(AND(D14<>"",COUNTIFS(担当者ID!$A$8:$A$27,D14)<>1),"担当が未登録/重複",IF(NOT(OR(E14="連絡可",E14="要確認",E14="連絡停止")),"連絡区分を確認",IF(NOT(AND(ISNUMBER(G14),G14>=43831,G14<73051,G14=INT(G14))),"記録確認日は日付で必須",IF(G14>顧客一覧!$B$3,"確認日が基準日より後",IF(AND(F14<>"",NOT(AND(ISNUMBER(F14),F14>=43831,F14<73051,F14=INT(F14)))),"最終接点日は日付で入力",IF(AND(F14<>"",F14>G14),"接点日が記録確認日より後",IF(AND(H14<>"",NOT(AND(ISNUMBER(H14),H14>=43831,H14<73051,H14=INT(H14)))),"次回予定日は日付で入力","確認済み"))))))))))))) -> 確認済み | P14: =IF(O14="","",IF(O14="確認済み",0,1)) -> 0 | Q14: =IF(O14="","",IF(NOT(AND(ISNUMBER(P14),P14=IF(O14="確認済み",0,1))),1,IF(P14<>0,0,IF(AND(ISNUMBER(I14),I14=IF(C14="終了",0,1),ISNUMBER(J14),J14=IF(AND(C14<>"終了",D14=""),1,0),ISNUMBER(K14),K14=IF(AND(C14="継続",E14="連絡可",D14<>"",H14<>""),1,0),ISNUMBER(L14),L14=IF(AND(H14<>"",NOT(AND(C14="継続",E14="連絡可",D14<>""))),1,0),ISTEXT(M14),M14=IF(C14="終了","終了",IF(E14="連絡停止","連絡停止",IF(E14="要確認","連絡要確認",IF(C14="保留","保留",IF(D14="","担当未設定",IF(H14="","予定なし",IF(H14<顧客一覧!$B$3,"予定遅延",IF(H14=顧客一覧!$B$3,"本日予定","今後予定")))))))),ISNUMBER(N14),N14=IF(AND(C14<>"終了",E14="要確認"),1,0)),0,1)))) -> 0
A15: CUS-0008 | B15: 架空顧客H | C15: 継続 | D15: STF-0002 | E15: 連絡停止 | F15: 46296 | G15: 46311 | H15: 46311 | I15: =IF(O15="","",IF(P15<>0,NA(),IF(C15="終了",0,1))) -> 1 | J15: =IF(O15="","",IF(P15<>0,NA(),IF(AND(C15<>"終了",D15=""),1,0))) -> 0 | K15: =IF(O15="","",IF(P15<>0,NA(),IF(AND(C15="継続",E15="連絡可",D15<>"",H15<>""),1,0))) -> 0 | L15: =IF(O15="","",IF(P15<>0,NA(),IF(AND(H15<>"",NOT(AND(C15="継続",E15="連絡可",D15<>""))),1,0))) -> 1 | M15: =IF(O15="","",IF(P15<>0,NA(),IF(C15="終了","終了",IF(E15="連絡停止","連絡停止",IF(E15="要確認","連絡要確認",IF(C15="保留","保留",IF(D15="","担当未設定",IF(H15="","予定なし",IF(H15<顧客一覧!$B$3,"予定遅延",IF(H15=顧客一覧!$B$3,"本日予定","今後予定")))))))))) -> 連絡停止 | N15: =IF(O15="","",IF(P15<>0,NA(),IF(AND(C15<>"終了",E15="要確認"),1,0))) -> 0 | O15: =IF(COUNTA(A15:H15)=0,"",IF(NOT(AND(ISTEXT(A15),LEN(A15)=8,EXACT(LEFT(A15,4),"CUS-"),ISNUMBER(FIND(MID(A15,5,1)&"x","0x1x2x3x4x5x6x7x8x9x")),ISNUMBER(FIND(MID(A15,6,1)&"x","0x1x2x3x4x5x6x7x8x9x")),ISNUMBER(FIND(MID(A15,7,1)&"x","0x1x2x3x4x5x6x7x8x9x")),ISNUMBER(FIND(MID(A15,8,1)&"x","0x1x2x3x4x5x6x7x8x9x")))),"顧客IDはCUS-と半角数字4桁",IF(COUNTIFS($A$8:$A$57,A15)>1,"顧客IDが重複",IF(NOT(AND(ISTEXT(B15),LEN(B15)>0,LEN(B15)<=20,EXACT(B15,TRIM(CLEAN(B15))),ISERROR(FIND(CHAR(10),B15)),ISERROR(FIND(CHAR(13),B15)),ISERROR(FIND(" ",B15)),ISERROR(FIND(" ",B15)),ISERROR(FIND(CHAR(127),B15)),ISERROR(FIND(LEFT(B15,1),"=+-@＝＋－＠")))),"表示名は1〜20文字の文字列",IF(NOT(OR(C15="継続",C15="保留",C15="終了")),"管理区分を確認",IF(AND(D15<>"",NOT(AND(ISTEXT(D15),LEN(D15)=8,EXACT(LEFT(D15,4),"STF-"),ISNUMBER(FIND(MID(D15,5,1)&"x","0x1x2x3x4x5x6x7x8x9x")),ISNUMBER(FIND(MID(D15,6,1)&"x","0x1x2x3x4x5x6x7x8x9x")),ISNUMBER(FIND(MID(D15,7,1)&"x","0x1x2x3x4x5x6x7x8x9x")),ISNUMBER(FIND(MID(D15,8,1)&"x","0x1x2x3x4x5x6x7x8x9x"))))),"担当IDの形式を確認",IF(AND(D15<>"",COUNTIFS(担当者ID!$A$8:$A$27,D15)<>1),"担当が未登録/重複",IF(NOT(OR(E15="連絡可",E15="要確認",E15="連絡停止")),"連絡区分を確認",IF(NOT(AND(ISNUMBER(G15),G15>=43831,G15<73051,G15=INT(G15))),"記録確認日は日付で必須",IF(G15>顧客一覧!$B$3,"確認日が基準日より後",IF(AND(F15<>"",NOT(AND(ISNUMBER(F15),F15>=43831,F15<73051,F15=INT(F15)))),"最終接点日は日付で入力",IF(AND(F15<>"",F15>G15),"接点日が記録確認日より後",IF(AND(H15<>"",NOT(AND(ISNUMBER(H15),H15>=43831,H15<73051,H15=INT(H15)))),"次回予定日は日付で入力","確認済み"))))))))))))) -> 確認済み | P15: =IF(O15="","",IF(O15="確認済み",0,1)) -> 0 | Q15: =IF(O15="","",IF(NOT(AND(ISNUMBER(P15),P15=IF(O15="確認済み",0,1))),1,IF(P15<>0,0,IF(AND(ISNUMBER(I15),I15=IF(C15="終了",0,1),ISNUMBER(J15),J15=IF(AND(C15<>"終了",D15=""),1,0),ISNUMBER(K15),K15=IF(AND(C15="継続",E15="連絡可",D15<>"",H15<>""),1,0),ISNUMBER(L15),L15=IF(AND(H15<>"",NOT(AND(C15="継続",E15="連絡可",D15<>""))),1,0),ISTEXT(M15),M15=IF(C15="終了","終了",IF(E15="連絡停止","連絡停止",IF(E15="要確認","連絡要確認",IF(C15="保留","保留",IF(D15="","担当未設定",IF(H15="","予定なし",IF(H15<顧客一覧!$B$3,"予定遅延",IF(H15=顧客一覧!$B$3,"本日予定","今後予定")))))))),ISNUMBER(N15),N15=IF(AND(C15<>"終了",E15="要確認"),1,0)),0,1)))) -> 0
I16: =IF(O16="","",IF(P16<>0,NA(),IF(C16="終了",0,1))) | J16: =IF(O16="","",IF(P16<>0,NA(),IF(AND(C16<>"終了",D16=""),1,0))) | K16: =IF(O16="","",IF(P16<>0,NA(),IF(AND(C16="継続",E16="連絡可",D16<>"",H16<>""),1,0))) | L16: =IF(O16="","",IF(P16<>0,NA(),IF(AND(H16<>"",NOT(AND(C16="継続",E16="連絡可",D16<>""))),1,0))) | M16: =IF(O16="","",IF(P16<>0,NA(),IF(C16="終了","終了",IF(E16="連絡停止","連絡停止",IF(E16="要確認","連絡要確認",IF(C16="保留","保留",IF(D16="","担当未設定",IF(H16="","予定なし",IF(H16<顧客一覧!$B$3,"予定遅延",IF(H16=顧客一覧!$B$3,"本日予定","今後予定")))))))))) | N16: =IF(O16="","",IF(P16<>0,NA(),IF(AND(C16<>"終了",E16="要確認"),1,0))) | O16: =IF(COUNTA(A16:H16)=0,"",IF(NOT(AND(ISTEXT(A16),LEN(A16)=8,EXACT(LEFT(A16,4),"CUS-"),ISNUMBER(FIND(MID(A16,5,1)&"x","0x1x2x3x4x5x6x7x8x9x")),ISNUMBER(FIND(MID(A16,6,1)&"x","0x1x2x3x4x5x6x7x8x9x")),ISNUMBER(FIND(MID(A16,7,1)&"x","0x1x2x3x4x5x6x7x8x9x")),ISNUMBER(FIND(MID(A16,8,1)&"x","0x1x2x3x4x5x6x7x8x9x")))),"顧客IDはCUS-と半角数字4桁",IF(COUNTIFS($A$8:$A$57,A16)>1,"顧客IDが重複",IF(NOT(AND(ISTEXT(B16),LEN(B16)>0,LEN(B16)<=20,EXACT(B16,TRIM(CLEAN(B16))),ISERROR(FIND(CHAR(10),B16)),ISERROR(FIND(CHAR(13),B16)),ISERROR(FIND(" ",B16)),ISERROR(FIND(" ",B16)),ISERROR(FIND(CHAR(127),B16)),ISERROR(FIND(LEFT(B16,1),"=+-@＝＋－＠")))),"表示名は1〜20文字の文字列",IF(NOT(OR(C16="継続",C16="保留",C16="終了")),"管理区分を確認",IF(AND(D16<>"",NOT(AND(ISTEXT(D16),LEN(D16)=8,EXACT(LEFT(D16,4),"STF-"),ISNUMBER(FIND(MID(D16,5,1)&"x","0x1x2x3x4x5x6x7x8x9x")),ISNUMBER(FIND(MID(D16,6,1)&"x","0x1x2x3x4x5x6x7x8x9x")),ISNUMBER(FIND(MID(D16,7,1)&"x","0x1x2x3x4x5x6x7x8x9x")),ISNUMBER(FIND(MID(D16,8,1)&"x","0x1x2x3x4x5x6x7x8x9x"))))),"担当IDの形式を確認",IF(AND(D16<>"",COUNTIFS(担当者ID!$A$8:$A$27,D16)<>1),"担当が未登録/重複",IF(NOT(OR(E16="連絡可",E16="要確認",E16="連絡停止")),"連絡区分を確認",IF(NOT(AND(ISNUMBER(G16),G16>=43831,G16<73051,G16=INT(G16))),"記録確認日は日付で必須",IF(G16>顧客一覧!$B$3,"確認日が基準日より後",IF(AND(F16<>"",NOT(AND(ISNUMBER(F16),F16>=43831,F16<73051,F16=INT(F16)))),"最終接点日は日付で入力",IF(AND(F16<>"",F16>G16),"接点日が記録確認日より後",IF(AND(H16<>"",NOT(AND(ISNUMBER(H16),H16>=43831,H16<73051,H16=INT(H16)))),"次回予定日は日付で入力","確認済み"))))))))))))) | P16: =IF(O16="","",IF(O16="確認済み",0,1)) | Q16: =IF(O16="","",IF(NOT(AND(ISNUMBER(P16),P16=IF(O16="確認済み",0,1))),1,IF(P16<>0,0,IF(AND(ISNUMBER(I16),I16=IF(C16="終了",0,1),ISNUMBER(J16),J16=IF(AND(C16<>"終了",D16=""),1,0),ISNUMBER(K16),K16=IF(AND(C16="継続",E16="連絡可",D16<>"",H16<>""),1,0),ISNUMBER(L16),L16=IF(AND(H16<>"",NOT(AND(C16="継続",E16="連絡可",D16<>""))),1,0),ISTEXT(M16),M16=IF(C16="終了","終了",IF(E16="連絡停止","連絡停止",IF(E16="要確認","連絡要確認",IF(C16="保留","保留",IF(D16="","担当未設定",IF(H16="","予定なし",IF(H16<顧客一覧!$B$3,"予定遅延",IF(H16=顧客一覧!$B$3,"本日予定","今後予定")))))))),ISNUMBER(N16),N16=IF(AND(C16<>"終了",E16="要確認"),1,0)),0,1))))
I17: =IF(O17="","",IF(P17<>0,NA(),IF(C17="終了",0,1))) | J17: =IF(O17="","",IF(P17<>0,NA(),IF(AND(C17<>"終了",D17=""),1,0))) | K17: =IF(O17="","",IF(P17<>0,NA(),IF(AND(C17="継続",E17="連絡可",D17<>"",H17<>""),1,0))) | L17: =IF(O17="","",IF(P17<>0,NA(),IF(AND(H17<>"",NOT(AND(C17="継続",E17="連絡可",D17<>""))),1,0))) | M17: =IF(O17="","",IF(P17<>0,NA(),IF(C17="終了","終了",IF(E17="連絡停止","連絡停止",IF(E17="要確認","連絡要確認",IF(C17="保留","保留",IF(D17="","担当未設定",IF(H17="","予定なし",IF(H17<顧客一覧!$B$3,"予定遅延",IF(H17=顧客一覧!$B$3,"本日予定","今後予定")))))))))) | N17: =IF(O17="","",IF(P17<>0,NA(),IF(AND(C17<>"終了",E17="要確認"),1,0))) | O17: =IF(COUNTA(A17:H17)=0,"",IF(NOT(AND(ISTEXT(A17),LEN(A17)=8,EXACT(LEFT(A17,4),"CUS-"),ISNUMBER(FIND(MID(A17,5,1)&"x","0x1x2x3x4x5x6x7x8x9x")),ISNUMBER(FIND(MID(A17,6,1)&"x","0x1x2x3x4x5x6x7x8x9x")),ISNUMBER(FIND(MID(A17,7,1)&"x","0x1x2x3x4x5x6x7x8x9x")),ISNUMBER(FIND(MID(A17,8,1)&"x","0x1x2x3x4x5x6x7x8x9x")))),"顧客IDはCUS-と半角数字4桁",IF(COUNTIFS($A$8:$A$57,A17)>1,"顧客IDが重複",IF(NOT(AND(ISTEXT(B17),LEN(B17)>0,LEN(B17)<=20,EXACT(B17,TRIM(CLEAN(B17))),ISERROR(FIND(CHAR(10),B17)),ISERROR(FIND(CHAR(13),B17)),ISERROR(FIND(" ",B17)),ISERROR(FIND(" ",B17)),ISERROR(FIND(CHAR(127),B17)),ISERROR(FIND(LEFT(B17,1),"=+-@＝＋－＠")))),"表示名は1〜20文字の文字列",IF(NOT(OR(C17="継続",C17="保留",C17="終了")),"管理区分を確認",IF(AND(D17<>"",NOT(AND(ISTEXT(D17),LEN(D17)=8,EXACT(LEFT(D17,4),"STF-"),ISNUMBER(FIND(MID(D17,5,1)&"x","0x1x2x3x4x5x6x7x8x9x")),ISNUMBER(FIND(MID(D17,6,1)&"x","0x1x2x3x4x5x6x7x8x9x")),ISNUMBER(FIND(MID(D17,7,1)&"x","0x1x2x3x4x5x6x7x8x9x")),ISNUMBER(FIND(MID(D17,8,1)&"x","0x1x2x3x4x5x6x7x8x9x"))))),"担当IDの形式を確認",IF(AND(D17<>"",COUNTIFS(担当者ID!$A$8:$A$27,D17)<>1),"担当が未登録/重複",IF(NOT(OR(E17="連絡可",E17="要確認",E17="連絡停止")),"連絡区分を確認",IF(NOT(AND(ISNUMBER(G17),G17>=43831,G17<73051,G17=INT(G17))),"記録確認日は日付で必須",IF(G17>顧客一覧!$B$3,"確認日が基準日より後",IF(AND(F17<>"",NOT(AND(ISNUMBER(F17),F17>=43831,F17<73051,F17=INT(F17)))),"最終接点日は日付で入力",IF(AND(F17<>"",F17>G17),"接点日が記録確認日より後",IF(AND(H17<>"",NOT(AND(ISNUMBER(H17),H17>=43831,H17<73051,H17=INT(H17)))),"次回予定日は日付で入力","確認済み"))))))))))))) | P17: =IF(O17="","",IF(O17="確認済み",0,1)) | Q17: =IF(O17="","",IF(NOT(AND(ISNUMBER(P17),P17=IF(O17="確認済み",0,1))),1,IF(P17<>0,0,IF(AND(ISNUMBER(I17),I17=IF(C17="終了",0,1),ISNUMBER(J17),J17=IF(AND(C17<>"終了",D17=""),1,0),ISNUMBER(K17),K17=IF(AND(C17="継続",E17="連絡可",D17<>"",H17<>""),1,0),ISNUMBER(L17),L17=IF(AND(H17<>"",NOT(AND(C17="継続",E17="連絡可",D17<>""))),1,0),ISTEXT(M17),M17=IF(C17="終了","終了",IF(E17="連絡停止","連絡停止",IF(E17="要確認","連絡要確認",IF(C17="保留","保留",IF(D17="","担当未設定",IF(H17="","予定なし",IF(H17<顧客一覧!$B$3,"予定遅延",IF(H17=顧客一覧!$B$3,"本日予定","今後予定")))))))),ISNUMBER(N17),N17=IF(AND(C17<>"終了",E17="要確認"),1,0)),0,1))))
I18: =IF(O18="","",IF(P18<>0,NA(),IF(C18="終了",0,1))) | J18: =IF(O18="","",IF(P18<>0,NA(),IF(AND(C18<>"終了",D18=""),1,0))) | K18: =IF(O18="","",IF(P18<>0,NA(),IF(AND(C18="継続",E18="連絡可",D18<>"",H18<>""),1,0))) | L18: =IF(O18="","",IF(P18<>0,NA(),IF(AND(H18<>"",NOT(AND(C18="継続",E18="連絡可",D18<>""))),1,0))) | M18: =IF(O18="","",IF(P18<>0,NA(),IF(C18="終了","終了",IF(E18="連絡停止","連絡停止",IF(E18="要確認","連絡要確認",IF(C18="保留","保留",IF(D18="","担当未設定",IF(H18="","予定なし",IF(H18<顧客一覧!$B$3,"予定遅延",IF(H18=顧客一覧!$B$3,"本日予定","今後予定")))))))))) | N18: =IF(O18="","",IF(P18<>0,NA(),IF(AND(C18<>"終了",E18="要確認"),1,0))) | O18: =IF(COUNTA(A18:H18)=0,"",IF(NOT(AND(ISTEXT(A18),LEN(A18)=8,EXACT(LEFT(A18,4),"CUS-"),ISNUMBER(FIND(MID(A18,5,1)&"x","0x1x2x3x4x5x6x7x8x9x")),ISNUMBER(FIND(MID(A18,6,1)&"x","0x1x2x3x4x5x6x7x8x9x")),ISNUMBER(FIND(MID(A18,7,1)&"x","0x1x2x3x4x5x6x7x8x9x")),ISNUMBER(FIND(MID(A18,8,1)&"x","0x1x2x3x4x5x6x7x8x9x")))),"顧客IDはCUS-と半角数字4桁",IF(COUNTIFS($A$8:$A$57,A18)>1,"顧客IDが重複",IF(NOT(AND(ISTEXT(B18),LEN(B18)>0,LEN(B18)<=20,EXACT(B18,TRIM(CLEAN(B18))),ISERROR(FIND(CHAR(10),B18)),ISERROR(FIND(CHAR(13),B18)),ISERROR(FIND(" ",B18)),ISERROR(FIND(" ",B18)),ISERROR(FIND(CHAR(127),B18)),ISERROR(FIND(LEFT(B18,1),"=+-@＝＋－＠")))),"表示名は1〜20文字の文字列",IF(NOT(OR(C18="継続",C18="保留",C18="終了")),"管理区分を確認",IF(AND(D18<>"",NOT(AND(ISTEXT(D18),LEN(D18)=8,EXACT(LEFT(D18,4),"STF-"),ISNUMBER(FIND(MID(D18,5,1)&"x","0x1x2x3x4x5x6x7x8x9x")),ISNUMBER(FIND(MID(D18,6,1)&"x","0x1x2x3x4x5x6x7x8x9x")),ISNUMBER(FIND(MID(D18,7,1)&"x","0x1x2x3x4x5x6x7x8x9x")),ISNUMBER(FIND(MID(D18,8,1)&"x","0x1x2x3x4x5x6x7x8x9x"))))),"担当IDの形式を確認",IF(AND(D18<>"",COUNTIFS(担当者ID!$A$8:$A$27,D18)<>1),"担当が未登録/重複",IF(NOT(OR(E18="連絡可",E18="要確認",E18="連絡停止")),"連絡区分を確認",IF(NOT(AND(ISNUMBER(G18),G18>=43831,G18<73051,G18=INT(G18))),"記録確認日は日付で必須",IF(G18>顧客一覧!$B$3,"確認日が基準日より後",IF(AND(F18<>"",NOT(AND(ISNUMBER(F18),F18>=43831,F18<73051,F18=INT(F18)))),"最終接点日は日付で入力",IF(AND(F18<>"",F18>G18),"接点日が記録確認日より後",IF(AND(H18<>"",NOT(AND(ISNUMBER(H18),H18>=43831,H18<73051,H18=INT(H18)))),"次回予定日は日付で入力","確認済み"))))))))))))) | P18: =IF(O18="","",IF(O18="確認済み",0,1)) | Q18: =IF(O18="","",IF(NOT(AND(ISNUMBER(P18),P18=IF(O18="確認済み",0,1))),1,IF(P18<>0,0,IF(AND(ISNUMBER(I18),I18=IF(C18="終了",0,1),ISNUMBER(J18),J18=IF(AND(C18<>"終了",D18=""),1,0),ISNUMBER(K18),K18=IF(AND(C18="継続",E18="連絡可",D18<>"",H18<>""),1,0),ISNUMBER(L18),L18=IF(AND(H18<>"",NOT(AND(C18="継続",E18="連絡可",D18<>""))),1,0),ISTEXT(M18),M18=IF(C18="終了","終了",IF(E18="連絡停止","連絡停止",IF(E18="要確認","連絡要確認",IF(C18="保留","保留",IF(D18="","担当未設定",IF(H18="","予定なし",IF(H18<顧客一覧!$B$3,"予定遅延",IF(H18=顧客一覧!$B$3,"本日予定","今後予定")))))))),ISNUMBER(N18),N18=IF(AND(C18<>"終了",E18="要確認"),1,0)),0,1))))
I19: =IF(O19="","",IF(P19<>0,NA(),IF(C19="終了",0,1))) | J19: =IF(O19="","",IF(P19<>0,NA(),IF(AND(C19<>"終了",D19=""),1,0))) | K19: =IF(O19="","",IF(P19<>0,NA(),IF(AND(C19="継続",E19="連絡可",D19<>"",H19<>""),1,0))) | L19: =IF(O19="","",IF(P19<>0,NA(),IF(AND(H19<>"",NOT(AND(C19="継続",E19="連絡可",D19<>""))),1,0))) | M19: =IF(O19="","",IF(P19<>0,NA(),IF(C19="終了","終了",IF(E19="連絡停止","連絡停止",IF(E19="要確認","連絡要確認",IF(C19="保留","保留",IF(D19="","担当未設定",IF(H19="","予定なし",IF(H19<顧客一覧!$B$3,"予定遅延",IF(H19=顧客一覧!$B$3,"本日予定","今後予定")))))))))) | N19: =IF(O19="","",IF(P19<>0,NA(),IF(AND(C19<>"終了",E19="要確認"),1,0))) | O19: =IF(COUNTA(A19:H19)=0,"",IF(NOT(AND(ISTEXT(A19),LEN(A19)=8,EXACT(LEFT(A19,4),"CUS-"),ISNUMBER(FIND(MID(A19,5,1)&"x","0x1x2x3x4x5x6x7x8x9x")),ISNUMBER(FIND(MID(A19,6,1)&"x","0x1x2x3x4x5x6x7x8x9x")),ISNUMBER(FIND(MID(A19,7,1)&"x","0x1x2x3x4x5x6x7x8x9x")),ISNUMBER(FIND(MID(A19,8,1)&"x","0x1x2x3x4x5x6x7x8x9x")))),"顧客IDはCUS-と半角数字4桁",IF(COUNTIFS($A$8:$A$57,A19)>1,"顧客IDが重複",IF(NOT(AND(ISTEXT(B19),LEN(B19)>0,LEN(B19)<=20,EXACT(B19,TRIM(CLEAN(B19))),ISERROR(FIND(CHAR(10),B19)),ISERROR(FIND(CHAR(13),B19)),ISERROR(FIND(" ",B19)),ISERROR(FIND(" ",B19)),ISERROR(FIND(CHAR(127),B19)),ISERROR(FIND(LEFT(B19,1),"=+-@＝＋－＠")))),"表示名は1〜20文字の文字列",IF(NOT(OR(C19="継続",C19="保留",C19="終了")),"管理区分を確認",IF(AND(D19<>"",NOT(AND(ISTEXT(D19),LEN(D19)=8,EXACT(LEFT(D19,4),"STF-"),ISNUMBER(FIND(MID(D19,5,1)&"x","0x1x2x3x4x5x6x7x8x9x")),ISNUMBER(FIND(MID(D19,6,1)&"x","0x1x2x3x4x5x6x7x8x9x")),ISNUMBER(FIND(MID(D19,7,1)&"x","0x1x2x3x4x5x6x7x8x9x")),ISNUMBER(FIND(MID(D19,8,1)&"x","0x1x2x3x4x5x6x7x8x9x"))))),"担当IDの形式を確認",IF(AND(D19<>"",COUNTIFS(担当者ID!$A$8:$A$27,D19)<>1),"担当が未登録/重複",IF(NOT(OR(E19="連絡可",E19="要確認",E19="連絡停止")),"連絡区分を確認",IF(NOT(AND(ISNUMBER(G19),G19>=43831,G19<73051,G19=INT(G19))),"記録確認日は日付で必須",IF(G19>顧客一覧!$B$3,"確認日が基準日より後",IF(AND(F19<>"",NOT(AND(ISNUMBER(F19),F19>=43831,F19<73051,F19=INT(F19)))),"最終接点日は日付で入力",IF(AND(F19<>"",F19>G19),"接点日が記録確認日より後",IF(AND(H19<>"",NOT(AND(ISNUMBER(H19),H19>=43831,H19<73051,H19=INT(H19)))),"次回予定日は日付で入力","確認済み"))))))))))))) | P19: =IF(O19="","",IF(O19="確認済み",0,1)) | Q19: =IF(O19="","",IF(NOT(AND(ISNUMBER(P19),P19=IF(O19="確認済み",0,1))),1,IF(P19<>0,0,IF(AND(ISNUMBER(I19),I19=IF(C19="終了",0,1),ISNUMBER(J19),J19=IF(AND(C19<>"終了",D19=""),1,0),ISNUMBER(K19),K19=IF(AND(C19="継続",E19="連絡可",D19<>"",H19<>""),1,0),ISNUMBER(L19),L19=IF(AND(H19<>"",NOT(AND(C19="継続",E19="連絡可",D19<>""))),1,0),ISTEXT(M19),M19=IF(C19="終了","終了",IF(E19="連絡停止","連絡停止",IF(E19="要確認","連絡要確認",IF(C19="保留","保留",IF(D19="","担当未設定",IF(H19="","予定なし",IF(H19<顧客一覧!$B$3,"予定遅延",IF(H19=顧客一覧!$B$3,"本日予定","今後予定")))))))),ISNUMBER(N19),N19=IF(AND(C19<>"終了",E19="要確認"),1,0)),0,1))))
I20: =IF(O20="","",IF(P20<>0,NA(),IF(C20="終了",0,1))) | J20: =IF(O20="","",IF(P20<>0,NA(),IF(AND(C20<>"終了",D20=""),1,0))) | K20: =IF(O20="","",IF(P20<>0,NA(),IF(AND(C20="継続",E20="連絡可",D20<>"",H20<>""),1,0))) | L20: =IF(O20="","",IF(P20<>0,NA(),IF(AND(H20<>"",NOT(AND(C20="継続",E20="連絡可",D20<>""))),1,0))) | M20: =IF(O20="","",IF(P20<>0,NA(),IF(C20="終了","終了",IF(E20="連絡停止","連絡停止",IF(E20="要確認","連絡要確認",IF(C20="保留","保留",IF(D20="","担当未設定",IF(H20="","予定なし",IF(H20<顧客一覧!$B$3,"予定遅延",IF(H20=顧客一覧!$B$3,"本日予定","今後予定")))))))))) | N20: =IF(O20="","",IF(P20<>0,NA(),IF(AND(C20<>"終了",E20="要確認"),1,0))) | O20: =IF(COUNTA(A20:H20)=0,"",IF(NOT(AND(ISTEXT(A20),LEN(A20)=8,EXACT(LEFT(A20,4),"CUS-"),ISNUMBER(FIND(MID(A20,5,1)&"x","0x1x2x3x4x5x6x7x8x9x")),ISNUMBER(FIND(MID(A20,6,1)&"x","0x1x2x3x4x5x6x7x8x9x")),ISNUMBER(FIND(MID(A20,7,1)&"x","0x1x2x3x4x5x6x7x8x9x")),ISNUMBER(FIND(MID(A20,8,1)&"x","0x1x2x3x4x5x6x7x8x9x")))),"顧客IDはCUS-と半角数字4桁",IF(COUNTIFS($A$8:$A$57,A20)>1,"顧客IDが重複",IF(NOT(AND(ISTEXT(B20),LEN(B20)>0,LEN(B20)<=20,EXACT(B20,TRIM(CLEAN(B20))),ISERROR(FIND(CHAR(10),B20)),ISERROR(FIND(CHAR(13),B20)),ISERROR(FIND(" ",B20)),ISERROR(FIND(" ",B20)),ISERROR(FIND(CHAR(127),B20)),ISERROR(FIND(LEFT(B20,1),"=+-@＝＋－＠")))),"表示名は1〜20文字の文字列",IF(NOT(OR(C20="継続",C20="保留",C20="終了")),"管理区分を確認",IF(AND(D20<>"",NOT(AND(ISTEXT(D20),LEN(D20)=8,EXACT(LEFT(D20,4),"STF-"),ISNUMBER(FIND(MID(D20,5,1)&"x","0x1x2x3x4x5x6x7x8x9x")),ISNUMBER(FIND(MID(D20,6,1)&"x","0x1x2x3x4x5x6x7x8x9x")),ISNUMBER(FIND(MID(D20,7,1)&"x","0x1x2x3x4x5x6x7x8x9x")),ISNUMBER(FIND(MID(D20,8,1)&"x","0x1x2x3x4x5x6x7x8x9x"))))),"担当IDの形式を確認",IF(AND(D20<>"",COUNTIFS(担当者ID!$A$8:$A$27,D20)<>1),"担当が未登録/重複",IF(NOT(OR(E20="連絡可",E20="要確認",E20="連絡停止")),"連絡区分を確認",IF(NOT(AND(ISNUMBER(G20),G20>=43831,G20<73051,G20=INT(G20))),"記録確認日は日付で必須",IF(G20>顧客一覧!$B$3,"確認日が基準日より後",IF(AND(F20<>"",NOT(AND(ISNUMBER(F20),F20>=43831,F20<73051,F20=INT(F20)))),"最終接点日は日付で入力",IF(AND(F20<>"",F20>G20),"接点日が記録確認日より後",IF(AND(H20<>"",NOT(AND(ISNUMBER(H20),H20>=43831,H20<73051,H20=INT(H20)))),"次回予定日は日付で入力","確認済み"))))))))))))) | P20: =IF(O20="","",IF(O20="確認済み",0,1)) | Q20: =IF(O20="","",IF(NOT(AND(ISNUMBER(P20),P20=IF(O20="確認済み",0,1))),1,IF(P20<>0,0,IF(AND(ISNUMBER(I20),I20=IF(C20="終了",0,1),ISNUMBER(J20),J20=IF(AND(C20<>"終了",D20=""),1,0),ISNUMBER(K20),K20=IF(AND(C20="継続",E20="連絡可",D20<>"",H20<>""),1,0),ISNUMBER(L20),L20=IF(AND(H20<>"",NOT(AND(C20="継続",E20="連絡可",D20<>""))),1,0),ISTEXT(M20),M20=IF(C20="終了","終了",IF(E20="連絡停止","連絡停止",IF(E20="要確認","連絡要確認",IF(C20="保留","保留",IF(D20="","担当未設定",IF(H20="","予定なし",IF(H20<顧客一覧!$B$3,"予定遅延",IF(H20=顧客一覧!$B$3,"本日予定","今後予定")))))))),ISNUMBER(N20),N20=IF(AND(C20<>"終了",E20="要確認"),1,0)),0,1))))
I21: =IF(O21="","",IF(P21<>0,NA(),IF(C21="終了",0,1))) | J21: =IF(O21="","",IF(P21<>0,NA(),IF(AND(C21<>"終了",D21=""),1,0))) | K21: =IF(O21="","",IF(P21<>0,NA(),IF(AND(C21="継続",E21="連絡可",D21<>"",H21<>""),1,0))) | L21: =IF(O21="","",IF(P21<>0,NA(),IF(AND(H21<>"",NOT(AND(C21="継続",E21="連絡可",D21<>""))),1,0))) | M21: =IF(O21="","",IF(P21<>0,NA(),IF(C21="終了","終了",IF(E21="連絡停止","連絡停止",IF(E21="要確認","連絡要確認",IF(C21="保留","保留",IF(D21="","担当未設定",IF(H21="","予定なし",IF(H21<顧客一覧!$B$3,"予定遅延",IF(H21=顧客一覧!$B$3,"本日予定","今後予定")))))))))) | N21: =IF(O21="","",IF(P21<>0,NA(),IF(AND(C21<>"終了",E21="要確認"),1,0))) | O21: =IF(COUNTA(A21:H21)=0,"",IF(NOT(AND(ISTEXT(A21),LEN(A21)=8,EXACT(LEFT(A21,4),"CUS-"),ISNUMBER(FIND(MID(A21,5,1)&"x","0x1x2x3x4x5x6x7x8x9x")),ISNUMBER(FIND(MID(A21,6,1)&"x","0x1x2x3x4x5x6x7x8x9x")),ISNUMBER(FIND(MID(A21,7,1)&"x","0x1x2x3x4x5x6x7x8x9x")),ISNUMBER(FIND(MID(A21,8,1)&"x","0x1x2x3x4x5x6x7x8x9x")))),"顧客IDはCUS-と半角数字4桁",IF(COUNTIFS($A$8:$A$57,A21)>1,"顧客IDが重複",IF(NOT(AND(ISTEXT(B21),LEN(B21)>0,LEN(B21)<=20,EXACT(B21,TRIM(CLEAN(B21))),ISERROR(FIND(CHAR(10),B21)),ISERROR(FIND(CHAR(13),B21)),ISERROR(FIND(" ",B21)),ISERROR(FIND(" ",B21)),ISERROR(FIND(CHAR(127),B21)),ISERROR(FIND(LEFT(B21,1),"=+-@＝＋－＠")))),"表示名は1〜20文字の文字列",IF(NOT(OR(C21="継続",C21="保留",C21="終了")),"管理区分を確認",IF(AND(D21<>"",NOT(AND(ISTEXT(D21),LEN(D21)=8,EXACT(LEFT(D21,4),"STF-"),ISNUMBER(FIND(MID(D21,5,1)&"x","0x1x2x3x4x5x6x7x8x9x")),ISNUMBER(FIND(MID(D21,6,1)&"x","0x1x2x3x4x5x6x7x8x9x")),ISNUMBER(FIND(MID(D21,7,1)&"x","0x1x2x3x4x5x6x7x8x9x")),ISNUMBER(FIND(MID(D21,8,1)&"x","0x1x2x3x4x5x6x7x8x9x"))))),"担当IDの形式を確認",IF(AND(D21<>"",COUNTIFS(担当者ID!$A$8:$A$27,D21)<>1),"担当が未登録/重複",IF(NOT(OR(E21="連絡可",E21="要確認",E21="連絡停止")),"連絡区分を確認",IF(NOT(AND(ISNUMBER(G21),G21>=43831,G21<73051,G21=INT(G21))),"記録確認日は日付で必須",IF(G21>顧客一覧!$B$3,"確認日が基準日より後",IF(AND(F21<>"",NOT(AND(ISNUMBER(F21),F21>=43831,F21<73051,F21=INT(F21)))),"最終接点日は日付で入力",IF(AND(F21<>"",F21>G21),"接点日が記録確認日より後",IF(AND(H21<>"",NOT(AND(ISNUMBER(H21),H21>=43831,H21<73051,H21=INT(H21)))),"次回予定日は日付で入力","確認済み"))))))))))))) | P21: =IF(O21="","",IF(O21="確認済み",0,1)) | Q21: =IF(O21="","",IF(NOT(AND(ISNUMBER(P21),P21=IF(O21="確認済み",0,1))),1,IF(P21<>0,0,IF(AND(ISNUMBER(I21),I21=IF(C21="終了",0,1),ISNUMBER(J21),J21=IF(AND(C21<>"終了",D21=""),1,0),ISNUMBER(K21),K21=IF(AND(C21="継続",E21="連絡可",D21<>"",H21<>""),1,0),ISNUMBER(L21),L21=IF(AND(H21<>"",NOT(AND(C21="継続",E21="連絡可",D21<>""))),1,0),ISTEXT(M21),M21=IF(C21="終了","終了",IF(E21="連絡停止","連絡停止",IF(E21="要確認","連絡要確認",IF(C21="保留","保留",IF(D21="","担当未設定",IF(H21="","予定なし",IF(H21<顧客一覧!$B$3,"予定遅延",IF(H21=顧客一覧!$B$3,"本日予定","今後予定")))))))),ISNUMBER(N21),N21=IF(AND(C21<>"終了",E21="要確認"),1,0)),0,1))))
I22: =IF(O22="","",IF(P22<>0,NA(),IF(C22="終了",0,1))) | J22: =IF(O22="","",IF(P22<>0,NA(),IF(AND(C22<>"終了",D22=""),1,0))) | K22: =IF(O22="","",IF(P22<>0,NA(),IF(AND(C22="継続",E22="連絡可",D22<>"",H22<>""),1,0))) | L22: =IF(O22="","",IF(P22<>0,NA(),IF(AND(H22<>"",NOT(AND(C22="継続",E22="連絡可",D22<>""))),1,0))) | M22: =IF(O22="","",IF(P22<>0,NA(),IF(C22="終了","終了",IF(E22="連絡停止","連絡停止",IF(E22="要確認","連絡要確認",IF(C22="保留","保留",IF(D22="","担当未設定",IF(H22="","予定なし",IF(H22<顧客一覧!$B$3,"予定遅延",IF(H22=顧客一覧!$B$3,"本日予定","今後予定")))))))))) | N22: =IF(O22="","",IF(P22<>0,NA(),IF(AND(C22<>"終了",E22="要確認"),1,0))) | O22: =IF(COUNTA(A22:H22)=0,"",IF(NOT(AND(ISTEXT(A22),LEN(A22)=8,EXACT(LEFT(A22,4),"CUS-"),ISNUMBER(FIND(MID(A22,5,1)&"x","0x1x2x3x4x5x6x7x8x9x")),ISNUMBER(FIND(MID(A22,6,1)&"x","0x1x2x3x4x5x6x7x8x9x")),ISNUMBER(FIND(MID(A22,7,1)&"x","0x1x2x3x4x5x6x7x8x9x")),ISNUMBER(FIND(MID(A22,8,1)&"x","0x1x2x3x4x5x6x7x8x9x")))),"顧客IDはCUS-と半角数字4桁",IF(COUNTIFS($A$8:$A$57,A22)>1,"顧客IDが重複",IF(NOT(AND(ISTEXT(B22),LEN(B22)>0,LEN(B22)<=20,EXACT(B22,TRIM(CLEAN(B22))),ISERROR(FIND(CHAR(10),B22)),ISERROR(FIND(CHAR(13),B22)),ISERROR(FIND(" ",B22)),ISERROR(FIND(" ",B22)),ISERROR(FIND(CHAR(127),B22)),ISERROR(FIND(LEFT(B22,1),"=+-@＝＋－＠")))),"表示名は1〜20文字の文字列",IF(NOT(OR(C22="継続",C22="保留",C22="終了")),"管理区分を確認",IF(AND(D22<>"",NOT(AND(ISTEXT(D22),LEN(D22)=8,EXACT(LEFT(D22,4),"STF-"),ISNUMBER(FIND(MID(D22,5,1)&"x","0x1x2x3x4x5x6x7x8x9x")),ISNUMBER(FIND(MID(D22,6,1)&"x","0x1x2x3x4x5x6x7x8x9x")),ISNUMBER(FIND(MID(D22,7,1)&"x","0x1x2x3x4x5x6x7x8x9x")),ISNUMBER(FIND(MID(D22,8,1)&"x","0x1x2x3x4x5x6x7x8x9x"))))),"担当IDの形式を確認",IF(AND(D22<>"",COUNTIFS(担当者ID!$A$8:$A$27,D22)<>1),"担当が未登録/重複",IF(NOT(OR(E22="連絡可",E22="要確認",E22="連絡停止")),"連絡区分を確認",IF(NOT(AND(ISNUMBER(G22),G22>=43831,G22<73051,G22=INT(G22))),"記録確認日は日付で必須",IF(G22>顧客一覧!$B$3,"確認日が基準日より後",IF(AND(F22<>"",NOT(AND(ISNUMBER(F22),F22>=43831,F22<73051,F22=INT(F22)))),"最終接点日は日付で入力",IF(AND(F22<>"",F22>G22),"接点日が記録確認日より後",IF(AND(H22<>"",NOT(AND(ISNUMBER(H22),H22>=43831,H22<73051,H22=INT(H22)))),"次回予定日は日付で入力","確認済み"))))))))))))) | P22: =IF(O22="","",IF(O22="確認済み",0,1)) | Q22: =IF(O22="","",IF(NOT(AND(ISNUMBER(P22),P22=IF(O22="確認済み",0,1))),1,IF(P22<>0,0,IF(AND(ISNUMBER(I22),I22=IF(C22="終了",0,1),ISNUMBER(J22),J22=IF(AND(C22<>"終了",D22=""),1,0),ISNUMBER(K22),K22=IF(AND(C22="継続",E22="連絡可",D22<>"",H22<>""),1,0),ISNUMBER(L22),L22=IF(AND(H22<>"",NOT(AND(C22="継続",E22="連絡可",D22<>""))),1,0),ISTEXT(M22),M22=IF(C22="終了","終了",IF(E22="連絡停止","連絡停止",IF(E22="要確認","連絡要確認",IF(C22="保留","保留",IF(D22="","担当未設定",IF(H22="","予定なし",IF(H22<顧客一覧!$B$3,"予定遅延",IF(H22=顧客一覧!$B$3,"本日予定","今後予定")))))))),ISNUMBER(N22),N22=IF(AND(C22<>"終了",E22="要確認"),1,0)),0,1))))
I23: =IF(O23="","",IF(P23<>0,NA(),IF(C23="終了",0,1))) | J23: =IF(O23="","",IF(P23<>0,NA(),IF(AND(C23<>"終了",D23=""),1,0))) | K23: =IF(O23="","",IF(P23<>0,NA(),IF(AND(C23="継続",E23="連絡可",D23<>"",H23<>""),1,0))) | L23: =IF(O23="","",IF(P23<>0,NA(),IF(AND(H23<>"",NOT(AND(C23="継続",E23="連絡可",D23<>""))),1,0))) | M23: =IF(O23="","",IF(P23<>0,NA(),IF(C23="終了","終了",IF(E23="連絡停止","連絡停止",IF(E23="要確認","連絡要確認",IF(C23="保留","保留",IF(D23="","担当未設定",IF(H23="","予定なし",IF(H23<顧客一覧!$B$3,"予定遅延",IF(H23=顧客一覧!$B$3,"本日予定","今後予定")))))))))) | N23: =IF(O23="","",IF(P23<>0,NA(),IF(AND(C23<>"終了",E23="要確認"),1,0))) | O23: =IF(COUNTA(A23:H23)=0,"",IF(NOT(AND(ISTEXT(A23),LEN(A23)=8,EXACT(LEFT(A23,4),"CUS-"),ISNUMBER(FIND(MID(A23,5,1)&"x","0x1x2x3x4x5x6x7x8x9x")),ISNUMBER(FIND(MID(A23,6,1)&"x","0x1x2x3x4x5x6x7x8x9x")),ISNUMBER(FIND(MID(A23,7,1)&"x","0x1x2x3x4x5x6x7x8x9x")),ISNUMBER(FIND(MID(A23,8,1)&"x","0x1x2x3x4x5x6x7x8x9x")))),"顧客IDはCUS-と半角数字4桁",IF(COUNTIFS($A$8:$A$57,A23)>1,"顧客IDが重複",IF(NOT(AND(ISTEXT(B23),LEN(B23)>0,LEN(B23)<=20,EXACT(B23,TRIM(CLEAN(B23))),ISERROR(FIND(CHAR(10),B23)),ISERROR(FIND(CHAR(13),B23)),ISERROR(FIND(" ",B23)),ISERROR(FIND(" ",B23)),ISERROR(FIND(CHAR(127),B23)),ISERROR(FIND(LEFT(B23,1),"=+-@＝＋－＠")))),"表示名は1〜20文字の文字列",IF(NOT(OR(C23="継続",C23="保留",C23="終了")),"管理区分を確認",IF(AND(D23<>"",NOT(AND(ISTEXT(D23),LEN(D23)=8,EXACT(LEFT(D23,4),"STF-"),ISNUMBER(FIND(MID(D23,5,1)&"x","0x1x2x3x4x5x6x7x8x9x")),ISNUMBER(FIND(MID(D23,6,1)&"x","0x1x2x3x4x5x6x7x8x9x")),ISNUMBER(FIND(MID(D23,7,1)&"x","0x1x2x3x4x5x6x7x8x9x")),ISNUMBER(FIND(MID(D23,8,1)&"x","0x1x2x3x4x5x6x7x8x9x"))))),"担当IDの形式を確認",IF(AND(D23<>"",COUNTIFS(担当者ID!$A$8:$A$27,D23)<>1),"担当が未登録/重複",IF(NOT(OR(E23="連絡可",E23="要確認",E23="連絡停止")),"連絡区分を確認",IF(NOT(AND(ISNUMBER(G23),G23>=43831,G23<73051,G23=INT(G23))),"記録確認日は日付で必須",IF(G23>顧客一覧!$B$3,"確認日が基準日より後",IF(AND(F23<>"",NOT(AND(ISNUMBER(F23),F23>=43831,F23<73051,F23=INT(F23)))),"最終接点日は日付で入力",IF(AND(F23<>"",F23>G23),"接点日が記録確認日より後",IF(AND(H23<>"",NOT(AND(ISNUMBER(H23),H23>=43831,H23<73051,H23=INT(H23)))),"次回予定日は日付で入力","確認済み"))))))))))))) | P23: =IF(O23="","",IF(O23="確認済み",0,1)) | Q23: =IF(O23="","",IF(NOT(AND(ISNUMBER(P23),P23=IF(O23="確認済み",0,1))),1,IF(P23<>0,0,IF(AND(ISNUMBER(I23),I23=IF(C23="終了",0,1),ISNUMBER(J23),J23=IF(AND(C23<>"終了",D23=""),1,0),ISNUMBER(K23),K23=IF(AND(C23="継続",E23="連絡可",D23<>"",H23<>""),1,0),ISNUMBER(L23),L23=IF(AND(H23<>"",NOT(AND(C23="継続",E23="連絡可",D23<>""))),1,0),ISTEXT(M23),M23=IF(C23="終了","終了",IF(E23="連絡停止","連絡停止",IF(E23="要確認","連絡要確認",IF(C23="保留","保留",IF(D23="","担当未設定",IF(H23="","予定なし",IF(H23<顧客一覧!$B$3,"予定遅延",IF(H23=顧客一覧!$B$3,"本日予定","今後予定")))))))),ISNUMBER(N23),N23=IF(AND(C23<>"終了",E23="要確認"),1,0)),0,1))))
I24: =IF(O24="","",IF(P24<>0,NA(),IF(C24="終了",0,1))) | J24: =IF(O24="","",IF(P24<>0,NA(),IF(AND(C24<>"終了",D24=""),1,0))) | K24: =IF(O24="","",IF(P24<>0,NA(),IF(AND(C24="継続",E24="連絡可",D24<>"",H24<>""),1,0))) | L24: =IF(O24="","",IF(P24<>0,NA(),IF(AND(H24<>"",NOT(AND(C24="継続",E24="連絡可",D24<>""))),1,0))) | M24: =IF(O24="","",IF(P24<>0,NA(),IF(C24="終了","終了",IF(E24="連絡停止","連絡停止",IF(E24="要確認","連絡要確認",IF(C24="保留","保留",IF(D24="","担当未設定",IF(H24="","予定なし",IF(H24<顧客一覧!$B$3,"予定遅延",IF(H24=顧客一覧!$B$3,"本日予定","今後予定")))))))))) | N24: =IF(O24="","",IF(P24<>0,NA(),IF(AND(C24<>"終了",E24="要確認"),1,0))) | O24: =IF(COUNTA(A24:H24)=0,"",IF(NOT(AND(ISTEXT(A24),LEN(A24)=8,EXACT(LEFT(A24,4),"CUS-"),ISNUMBER(FIND(MID(A24,5,1)&"x","0x1x2x3x4x5x6x7x8x9x")),ISNUMBER(FIND(MID(A24,6,1)&"x","0x1x2x3x4x5x6x7x8x9x")),ISNUMBER(FIND(MID(A24,7,1)&"x","0x1x2x3x4x5x6x7x8x9x")),ISNUMBER(FIND(MID(A24,8,1)&"x","0x1x2x3x4x5x6x7x8x9x")))),"顧客IDはCUS-と半角数字4桁",IF(COUNTIFS($A$8:$A$57,A24)>1,"顧客IDが重複",IF(NOT(AND(ISTEXT(B24),LEN(B24)>0,LEN(B24)<=20,EXACT(B24,TRIM(CLEAN(B24))),ISERROR(FIND(CHAR(10),B24)),ISERROR(FIND(CHAR(13),B24)),ISERROR(FIND(" ",B24)),ISERROR(FIND(" ",B24)),ISERROR(FIND(CHAR(127),B24)),ISERROR(FIND(LEFT(B24,1),"=+-@＝＋－＠")))),"表示名は1〜20文字の文字列",IF(NOT(OR(C24="継続",C24="保留",C24="終了")),"管理区分を確認",IF(AND(D24<>"",NOT(AND(ISTEXT(D24),LEN(D24)=8,EXACT(LEFT(D24,4),"STF-"),ISNUMBER(FIND(MID(D24,5,1)&"x","0x1x2x3x4x5x6x7x8x9x")),ISNUMBER(FIND(MID(D24,6,1)&"x","0x1x2x3x4x5x6x7x8x9x")),ISNUMBER(FIND(MID(D24,7,1)&"x","0x1x2x3x4x5x6x7x8x9x")),ISNUMBER(FIND(MID(D24,8,1)&"x","0x1x2x3x4x5x6x7x8x9x"))))),"担当IDの形式を確認",IF(AND(D24<>"",COUNTIFS(担当者ID!$A$8:$A$27,D24)<>1),"担当が未登録/重複",IF(NOT(OR(E24="連絡可",E24="要確認",E24="連絡停止")),"連絡区分を確認",IF(NOT(AND(ISNUMBER(G24),G24>=43831,G24<73051,G24=INT(G24))),"記録確認日は日付で必須",IF(G24>顧客一覧!$B$3,"確認日が基準日より後",IF(AND(F24<>"",NOT(AND(ISNUMBER(F24),F24>=43831,F24<73051,F24=INT(F24)))),"最終接点日は日付で入力",IF(AND(F24<>"",F24>G24),"接点日が記録確認日より後",IF(AND(H24<>"",NOT(AND(ISNUMBER(H24),H24>=43831,H24<73051,H24=INT(H24)))),"次回予定日は日付で入力","確認済み"))))))))))))) | P24: =IF(O24="","",IF(O24="確認済み",0,1)) | Q24: =IF(O24="","",IF(NOT(AND(ISNUMBER(P24),P24=IF(O24="確認済み",0,1))),1,IF(P24<>0,0,IF(AND(ISNUMBER(I24),I24=IF(C24="終了",0,1),ISNUMBER(J24),J24=IF(AND(C24<>"終了",D24=""),1,0),ISNUMBER(K24),K24=IF(AND(C24="継続",E24="連絡可",D24<>"",H24<>""),1,0),ISNUMBER(L24),L24=IF(AND(H24<>"",NOT(AND(C24="継続",E24="連絡可",D24<>""))),1,0),ISTEXT(M24),M24=IF(C24="終了","終了",IF(E24="連絡停止","連絡停止",IF(E24="要確認","連絡要確認",IF(C24="保留","保留",IF(D24="","担当未設定",IF(H24="","予定なし",IF(H24<顧客一覧!$B$3,"予定遅延",IF(H24=顧客一覧!$B$3,"本日予定","今後予定")))))))),ISNUMBER(N24),N24=IF(AND(C24<>"終了",E24="要確認"),1,0)),0,1))))
I25: =IF(O25="","",IF(P25<>0,NA(),IF(C25="終了",0,1))) | J25: =IF(O25="","",IF(P25<>0,NA(),IF(AND(C25<>"終了",D25=""),1,0))) | K25: =IF(O25="","",IF(P25<>0,NA(),IF(AND(C25="継続",E25="連絡可",D25<>"",H25<>""),1,0))) | L25: =IF(O25="","",IF(P25<>0,NA(),IF(AND(H25<>"",NOT(AND(C25="継続",E25="連絡可",D25<>""))),1,0))) | M25: =IF(O25="","",IF(P25<>0,NA(),IF(C25="終了","終了",IF(E25="連絡停止","連絡停止",IF(E25="要確認","連絡要確認",IF(C25="保留","保留",IF(D25="","担当未設定",IF(H25="","予定なし",IF(H25<顧客一覧!$B$3,"予定遅延",IF(H25=顧客一覧!$B$3,"本日予定","今後予定")))))))))) | N25: =IF(O25="","",IF(P25<>0,NA(),IF(AND(C25<>"終了",E25="要確認"),1,0))) | O25: =IF(COUNTA(A25:H25)=0,"",IF(NOT(AND(ISTEXT(A25),LEN(A25)=8,EXACT(LEFT(A25,4),"CUS-"),ISNUMBER(FIND(MID(A25,5,1)&"x","0x1x2x3x4x5x6x7x8x9x")),ISNUMBER(FIND(MID(A25,6,1)&"x","0x1x2x3x4x5x6x7x8x9x")),ISNUMBER(FIND(MID(A25,7,1)&"x","0x1x2x3x4x5x6x7x8x9x")),ISNUMBER(FIND(MID(A25,8,1)&"x","0x1x2x3x4x5x6x7x8x9x")))),"顧客IDはCUS-と半角数字4桁",IF(COUNTIFS($A$8:$A$57,A25)>1,"顧客IDが重複",IF(NOT(AND(ISTEXT(B25),LEN(B25)>0,LEN(B25)<=20,EXACT(B25,TRIM(CLEAN(B25))),ISERROR(FIND(CHAR(10),B25)),ISERROR(FIND(CHAR(13),B25)),ISERROR(FIND(" ",B25)),ISERROR(FIND(" ",B25)),ISERROR(FIND(CHAR(127),B25)),ISERROR(FIND(LEFT(B25,1),"=+-@＝＋－＠")))),"表示名は1〜20文字の文字列",IF(NOT(OR(C25="継続",C25="保留",C25="終了")),"管理区分を確認",IF(AND(D25<>"",NOT(AND(ISTEXT(D25),LEN(D25)=8,EXACT(LEFT(D25,4),"STF-"),ISNUMBER(FIND(MID(D25,5,1)&"x","0x1x2x3x4x5x6x7x8x9x")),ISNUMBER(FIND(MID(D25,6,1)&"x","0x1x2x3x4x5x6x7x8x9x")),ISNUMBER(FIND(MID(D25,7,1)&"x","0x1x2x3x4x5x6x7x8x9x")),ISNUMBER(FIND(MID(D25,8,1)&"x","0x1x2x3x4x5x6x7x8x9x"))))),"担当IDの形式を確認",IF(AND(D25<>"",COUNTIFS(担当者ID!$A$8:$A$27,D25)<>1),"担当が未登録/重複",IF(NOT(OR(E25="連絡可",E25="要確認",E25="連絡停止")),"連絡区分を確認",IF(NOT(AND(ISNUMBER(G25),G25>=43831,G25<73051,G25=INT(G25))),"記録確認日は日付で必須",IF(G25>顧客一覧!$B$3,"確認日が基準日より後",IF(AND(F25<>"",NOT(AND(ISNUMBER(F25),F25>=43831,F25<73051,F25=INT(F25)))),"最終接点日は日付で入力",IF(AND(F25<>"",F25>G25),"接点日が記録確認日より後",IF(AND(H25<>"",NOT(AND(ISNUMBER(H25),H25>=43831,H25<73051,H25=INT(H25)))),"次回予定日は日付で入力","確認済み"))))))))))))) | P25: =IF(O25="","",IF(O25="確認済み",0,1)) | Q25: =IF(O25="","",IF(NOT(AND(ISNUMBER(P25),P25=IF(O25="確認済み",0,1))),1,IF(P25<>0,0,IF(AND(ISNUMBER(I25),I25=IF(C25="終了",0,1),ISNUMBER(J25),J25=IF(AND(C25<>"終了",D25=""),1,0),ISNUMBER(K25),K25=IF(AND(C25="継続",E25="連絡可",D25<>"",H25<>""),1,0),ISNUMBER(L25),L25=IF(AND(H25<>"",NOT(AND(C25="継続",E25="連絡可",D25<>""))),1,0),ISTEXT(M25),M25=IF(C25="終了","終了",IF(E25="連絡停止","連絡停止",IF(E25="要確認","連絡要確認",IF(C25="保留","保留",IF(D25="","担当未設定",IF(H25="","予定なし",IF(H25<顧客一覧!$B$3,"予定遅延",IF(H25=顧客一覧!$B$3,"本日予定","今後予定")))))))),ISNUMBER(N25),N25=IF(AND(C25<>"終了",E25="要確認"),1,0)),0,1))))
I26: =IF(O26="","",IF(P26<>0,NA(),IF(C26="終了",0,1))) | J26: =IF(O26="","",IF(P26<>0,NA(),IF(AND(C26<>"終了",D26=""),1,0))) | K26: =IF(O26="","",IF(P26<>0,NA(),IF(AND(C26="継続",E26="連絡可",D26<>"",H26<>""),1,0))) | L26: =IF(O26="","",IF(P26<>0,NA(),IF(AND(H26<>"",NOT(AND(C26="継続",E26="連絡可",D26<>""))),1,0))) | M26: =IF(O26="","",IF(P26<>0,NA(),IF(C26="終了","終了",IF(E26="連絡停止","連絡停止",IF(E26="要確認","連絡要確認",IF(C26="保留","保留",IF(D26="","担当未設定",IF(H26="","予定なし",IF(H26<顧客一覧!$B$3,"予定遅延",IF(H26=顧客一覧!$B$3,"本日予定","今後予定")))))))))) | N26: =IF(O26="","",IF(P26<>0,NA(),IF(AND(C26<>"終了",E26="要確認"),1,0))) | O26: =IF(COUNTA(A26:H26)=0,"",IF(NOT(AND(ISTEXT(A26),LEN(A26)=8,EXACT(LEFT(A26,4),"CUS-"),ISNUMBER(FIND(MID(A26,5,1)&"x","0x1x2x3x4x5x6x7x8x9x")),ISNUMBER(FIND(MID(A26,6,1)&"x","0x1x2x3x4x5x6x7x8x9x")),ISNUMBER(FIND(MID(A26,7,1)&"x","0x1x2x3x4x5x6x7x8x9x")),ISNUMBER(FIND(MID(A26,8,1)&"x","0x1x2x3x4x5x6x7x8x9x")))),"顧客IDはCUS-と半角数字4桁",IF(COUNTIFS($A$8:$A$57,A26)>1,"顧客IDが重複",IF(NOT(AND(ISTEXT(B26),LEN(B26)>0,LEN(B26)<=20,EXACT(B26,TRIM(CLEAN(B26))),ISERROR(FIND(CHAR(10),B26)),ISERROR(FIND(CHAR(13),B26)),ISERROR(FIND(" ",B26)),ISERROR(FIND(" ",B26)),ISERROR(FIND(CHAR(127),B26)),ISERROR(FIND(LEFT(B26,1),"=+-@＝＋－＠")))),"表示名は1〜20文字の文字列",IF(NOT(OR(C26="継続",C26="保留",C26="終了")),"管理区分を確認",IF(AND(D26<>"",NOT(AND(ISTEXT(D26),LEN(D26)=8,EXACT(LEFT(D26,4),"STF-"),ISNUMBER(FIND(MID(D26,5,1)&"x","0x1x2x3x4x5x6x7x8x9x")),ISNUMBER(FIND(MID(D26,6,1)&"x","0x1x2x3x4x5x6x7x8x9x")),ISNUMBER(FIND(MID(D26,7,1)&"x","0x1x2x3x4x5x6x7x8x9x")),ISNUMBER(FIND(MID(D26,8,1)&"x","0x1x2x3x4x5x6x7x8x9x"))))),"担当IDの形式を確認",IF(AND(D26<>"",COUNTIFS(担当者ID!$A$8:$A$27,D26)<>1),"担当が未登録/重複",IF(NOT(OR(E26="連絡可",E26="要確認",E26="連絡停止")),"連絡区分を確認",IF(NOT(AND(ISNUMBER(G26),G26>=43831,G26<73051,G26=INT(G26))),"記録確認日は日付で必須",IF(G26>顧客一覧!$B$3,"確認日が基準日より後",IF(AND(F26<>"",NOT(AND(ISNUMBER(F26),F26>=43831,F26<73051,F26=INT(F26)))),"最終接点日は日付で入力",IF(AND(F26<>"",F26>G26),"接点日が記録確認日より後",IF(AND(H26<>"",NOT(AND(ISNUMBER(H26),H26>=43831,H26<73051,H26=INT(H26)))),"次回予定日は日付で入力","確認済み"))))))))))))) | P26: =IF(O26="","",IF(O26="確認済み",0,1)) | Q26: =IF(O26="","",IF(NOT(AND(ISNUMBER(P26),P26=IF(O26="確認済み",0,1))),1,IF(P26<>0,0,IF(AND(ISNUMBER(I26),I26=IF(C26="終了",0,1),ISNUMBER(J26),J26=IF(AND(C26<>"終了",D26=""),1,0),ISNUMBER(K26),K26=IF(AND(C26="継続",E26="連絡可",D26<>"",H26<>""),1,0),ISNUMBER(L26),L26=IF(AND(H26<>"",NOT(AND(C26="継続",E26="連絡可",D26<>""))),1,0),ISTEXT(M26),M26=IF(C26="終了","終了",IF(E26="連絡停止","連絡停止",IF(E26="要確認","連絡要確認",IF(C26="保留","保留",IF(D26="","担当未設定",IF(H26="","予定なし",IF(H26<顧客一覧!$B$3,"予定遅延",IF(H26=顧客一覧!$B$3,"本日予定","今後予定")))))))),ISNUMBER(N26),N26=IF(AND(C26<>"終了",E26="要確認"),1,0)),0,1))))
