Workbook

Sheet 備品の確認
A2: 備品の確認 | K2: 日付の前提 | L2: 入力の前提
A3: 基準日 | B3: 46326 | D3: 確認間隔（日） | E3: 30 | K3: =IF(AND(IF(ISNUMBER(B3),AND(B3>=43831,B3<=73050,B3=INT(B3)),FALSE()),IF(ISNUMBER(E3),AND(E3>=0,E3<=365,E3=INT(E3)),FALSE())),0,1) -> 0 | L3: =IF(AND(ISNUMBER(K3),K3=IF(AND(IF(ISNUMBER(B3),AND(B3>=43831,B3<=73050,B3=INT(B3)),FALSE()),IF(ISNUMBER(E3),AND(E3>=0,E3<=365,E3=INT(E3)),FALSE())),0,1)),K3,1)+SUM(備品記録!W8:X57)+IF(COUNT(備品記録!X8:X57)=50,0,1) -> 0
A4: 1点1行・現在/直近の利用記録。返却しても現物/状態の不足は残ります。使用可否・全履歴の判定なし。
A5: 登録（件） | B5: =IF($L$3<>0,NA(),COUNTIFS(備品記録!V8:V57,"確認済み")) -> 12 | D5: 保管記録（件） | E5: =IF($L$3<>0,NA(),COUNTIFS(備品記録!F8:F57,"保管中")) -> 5 | G5: 貸出中（件） | H5: =IF($L$3<>0,NA(),COUNTIFS(備品記録!F8:F57,"貸出中")) -> 4
A6: 返却記録（件） | B6: =IF($L$3<>0,NA(),COUNTIFS(備品記録!F8:F57,"返却済")) -> 2 | D6: 返却期限超過（件） | E6: =IF($L$3<>0,NA(),COUNTIFS(備品記録!T8:T57,"返却期限超過")) -> 1 | G6: 返却期日（件） | H6: =IF($L$3<>0,NA(),COUNTIFS(備品記録!T8:T57,"返却期日")) -> 1
A7: 期限未確認（件） | B7: =IF($L$3<>0,NA(),COUNTIFS(備品記録!T8:T57,"期限未確認")) -> 1 | D7: 現物未確認（件） | E7: =IF($L$3<>0,NA(),COUNTIFS(備品記録!S8:S57,"現物未確認")) -> 5 | G7: 確認間隔超過（件） | H7: =IF($L$3<>0,NA(),COUNTIFS(備品記録!S8:S57,"確認間隔超過")) -> 2
A8: 記録要確認（件） | B8: =IF($L$3<>0,NA(),SUM(備品記録!U8:U57)) -> 10 | D8: 状態要対応（件） | E8: =IF($L$3<>0,NA(),COUNTIFS(備品記録!L8:L57,"要対応")) -> 3 | G8: 利用未確認（件） | H8: =IF($L$3<>0,NA(),COUNTIFS(備品記録!F8:F57,"未確認")) -> 1
A9: 備品ID | B9: 種類 | C9: 記録所在ID | D9: 利用区分 | E9: 借用者ID | F9: 返却期日 | G9: 貸出状況 | H9: 現物確認状況 | I9: 状態確認
A10: =IF($L$3<>0,NA(),IF(COUNTA(備品記録!A8:O8)=0,"",備品記録!A8)) -> AST-0001 | B10: =IF($L$3<>0,NA(),IF(COUNTA(備品記録!A8:O8)=0,"",備品記録!B8)) -> PC | C10: =IF($L$3<>0,NA(),IF(COUNTA(備品記録!A8:O8)=0,"",IF(COUNTA(備品記録!E8)=0,"",備品記録!E8))) -> LOC-0001 | D10: =IF($L$3<>0,NA(),IF(COUNTA(備品記録!A8:O8)=0,"",備品記録!F8)) -> 保管中 | E10: =IF($L$3<>0,NA(),IF(COUNTA(備品記録!A8:O8)=0,"",IF(COUNTA(備品記録!H8)=0,"",備品記録!H8))) | F10: =IF($L$3<>0,NA(),IF(COUNTA(備品記録!A8:O8)=0,"",IF(COUNTA(備品記録!J8)=0,"",備品記録!J8))) | G10: =IF($L$3<>0,NA(),IF(COUNTA(備品記録!A8:O8)=0,"",備品記録!T8)) -> 保管記録 | H10: =IF($L$3<>0,NA(),IF(COUNTA(備品記録!A8:O8)=0,"",備品記録!S8)) -> 確認間隔内 | I10: =IF($L$3<>0,NA(),IF(COUNTA(備品記録!A8:O8)=0,"",備品記録!L8)) -> 確認済
A11: =IF($L$3<>0,NA(),IF(COUNTA(備品記録!A9:O9)=0,"",備品記録!A9)) -> AST-0002 | B11: =IF($L$3<>0,NA(),IF(COUNTA(備品記録!A9:O9)=0,"",備品記録!B9)) -> 周辺機器 | C11: =IF($L$3<>0,NA(),IF(COUNTA(備品記録!A9:O9)=0,"",IF(COUNTA(備品記録!E9)=0,"",備品記録!E9))) -> LOC-0002 | D11: =IF($L$3<>0,NA(),IF(COUNTA(備品記録!A9:O9)=0,"",備品記録!F9)) -> 貸出中 | E11: =IF($L$3<>0,NA(),IF(COUNTA(備品記録!A9:O9)=0,"",IF(COUNTA(備品記録!H9)=0,"",備品記録!H9))) -> PER-0001 | F11: =IF($L$3<>0,NA(),IF(COUNTA(備品記録!A9:O9)=0,"",IF(COUNTA(備品記録!J9)=0,"",備品記録!J9))) -> 46325 | G11: =IF($L$3<>0,NA(),IF(COUNTA(備品記録!A9:O9)=0,"",備品記録!T9)) -> 返却期限超過 | H11: =IF($L$3<>0,NA(),IF(COUNTA(備品記録!A9:O9)=0,"",備品記録!S9)) -> 確認間隔内 | I11: =IF($L$3<>0,NA(),IF(COUNTA(備品記録!A9:O9)=0,"",備品記録!L9)) -> 確認済
A12: =IF($L$3<>0,NA(),IF(COUNTA(備品記録!A10:O10)=0,"",備品記録!A10)) -> AST-0003 | B12: =IF($L$3<>0,NA(),IF(COUNTA(備品記録!A10:O10)=0,"",備品記録!B10)) -> 工具 | C12: =IF($L$3<>0,NA(),IF(COUNTA(備品記録!A10:O10)=0,"",IF(COUNTA(備品記録!E10)=0,"",備品記録!E10))) -> LOC-0003 | D12: =IF($L$3<>0,NA(),IF(COUNTA(備品記録!A10:O10)=0,"",備品記録!F10)) -> 貸出中 | E12: =IF($L$3<>0,NA(),IF(COUNTA(備品記録!A10:O10)=0,"",IF(COUNTA(備品記録!H10)=0,"",備品記録!H10))) -> PER-0002 | F12: =IF($L$3<>0,NA(),IF(COUNTA(備品記録!A10:O10)=0,"",IF(COUNTA(備品記録!J10)=0,"",備品記録!J10))) -> 46326 | G12: =IF($L$3<>0,NA(),IF(COUNTA(備品記録!A10:O10)=0,"",備品記録!T10)) -> 返却期日 | H12: =IF($L$3<>0,NA(),IF(COUNTA(備品記録!A10:O10)=0,"",備品記録!S10)) -> 確認間隔超過 | I12: =IF($L$3<>0,NA(),IF(COUNTA(備品記録!A10:O10)=0,"",備品記録!L10)) -> 確認済
A13: =IF($L$3<>0,NA(),IF(COUNTA(備品記録!A11:O11)=0,"",備品記録!A11)) -> AST-0004 | B13: =IF($L$3<>0,NA(),IF(COUNTA(備品記録!A11:O11)=0,"",備品記録!B11)) -> PC | C13: =IF($L$3<>0,NA(),IF(COUNTA(備品記録!A11:O11)=0,"",IF(COUNTA(備品記録!E11)=0,"",備品記録!E11))) -> LOC-0004 | D13: =IF($L$3<>0,NA(),IF(COUNTA(備品記録!A11:O11)=0,"",備品記録!F11)) -> 貸出中 | E13: =IF($L$3<>0,NA(),IF(COUNTA(備品記録!A11:O11)=0,"",IF(COUNTA(備品記録!H11)=0,"",備品記録!H11))) | F13: =IF($L$3<>0,NA(),IF(COUNTA(備品記録!A11:O11)=0,"",IF(COUNTA(備品記録!J11)=0,"",備品記録!J11))) -> 46327 | G13: =IF($L$3<>0,NA(),IF(COUNTA(備品記録!A11:O11)=0,"",備品記録!T11)) -> 貸出中 | H13: =IF($L$3<>0,NA(),IF(COUNTA(備品記録!A11:O11)=0,"",備品記録!S11)) -> 現物未確認 | I13: =IF($L$3<>0,NA(),IF(COUNTA(備品記録!A11:O11)=0,"",備品記録!L11)) -> 未確認
A14: =IF($L$3<>0,NA(),IF(COUNTA(備品記録!A12:O12)=0,"",備品記録!A12)) -> AST-0005 | B14: =IF($L$3<>0,NA(),IF(COUNTA(備品記録!A12:O12)=0,"",備品記録!B12)) -> その他 | C14: =IF($L$3<>0,NA(),IF(COUNTA(備品記録!A12:O12)=0,"",IF(COUNTA(備品記録!E12)=0,"",備品記録!E12))) -> LOC-0005 | D14: =IF($L$3<>0,NA(),IF(COUNTA(備品記録!A12:O12)=0,"",備品記録!F12)) -> 貸出中 | E14: =IF($L$3<>0,NA(),IF(COUNTA(備品記録!A12:O12)=0,"",IF(COUNTA(備品記録!H12)=0,"",備品記録!H12))) -> PER-0003 | F14: =IF($L$3<>0,NA(),IF(COUNTA(備品記録!A12:O12)=0,"",IF(COUNTA(備品記録!J12)=0,"",備品記録!J12))) | G14: =IF($L$3<>0,NA(),IF(COUNTA(備品記録!A12:O12)=0,"",備品記録!T12)) -> 期限未確認 | H14: =IF($L$3<>0,NA(),IF(COUNTA(備品記録!A12:O12)=0,"",備品記録!S12)) -> 確認間隔内 | I14: =IF($L$3<>0,NA(),IF(COUNTA(備品記録!A12:O12)=0,"",備品記録!L12)) -> 要対応
A15: =IF($L$3<>0,NA(),IF(COUNTA(備品記録!A13:O13)=0,"",備品記録!A13)) -> AST-0006 | B15: =IF($L$3<>0,NA(),IF(COUNTA(備品記録!A13:O13)=0,"",備品記録!B13)) -> PC | C15: =IF($L$3<>0,NA(),IF(COUNTA(備品記録!A13:O13)=0,"",IF(COUNTA(備品記録!E13)=0,"",備品記録!E13))) -> LOC-0002 | D15: =IF($L$3<>0,NA(),IF(COUNTA(備品記録!A13:O13)=0,"",備品記録!F13)) -> 返却済 | E15: =IF($L$3<>0,NA(),IF(COUNTA(備品記録!A13:O13)=0,"",IF(COUNTA(備品記録!H13)=0,"",備品記録!H13))) -> PER-0004 | F15: =IF($L$3<>0,NA(),IF(COUNTA(備品記録!A13:O13)=0,"",IF(COUNTA(備品記録!J13)=0,"",備品記録!J13))) -> 46315 | G15: =IF($L$3<>0,NA(),IF(COUNTA(備品記録!A13:O13)=0,"",備品記録!T13)) -> 返却記録 | H15: =IF($L$3<>0,NA(),IF(COUNTA(備品記録!A13:O13)=0,"",備品記録!S13)) -> 現物未確認 | I15: =IF($L$3<>0,NA(),IF(COUNTA(備品記録!A13:O13)=0,"",備品記録!L13)) -> 要対応
A16: =IF($L$3<>0,NA(),IF(COUNTA(備品記録!A14:O14)=0,"",備品記録!A14)) -> AST-0007 | B16: =IF($L$3<>0,NA(),IF(COUNTA(備品記録!A14:O14)=0,"",備品記録!B14)) -> 周辺機器 | C16: =IF($L$3<>0,NA(),IF(COUNTA(備品記録!A14:O14)=0,"",IF(COUNTA(備品記録!E14)=0,"",備品記録!E14))) -> LOC-0001 | D16: =IF($L$3<>0,NA(),IF(COUNTA(備品記録!A14:O14)=0,"",備品記録!F14)) -> 保管中 | E16: =IF($L$3<>0,NA(),IF(COUNTA(備品記録!A14:O14)=0,"",IF(COUNTA(備品記録!H14)=0,"",備品記録!H14))) | F16: =IF($L$3<>0,NA(),IF(COUNTA(備品記録!A14:O14)=0,"",IF(COUNTA(備品記録!J14)=0,"",備品記録!J14))) | G16: =IF($L$3<>0,NA(),IF(COUNTA(備品記録!A14:O14)=0,"",備品記録!T14)) -> 保管記録 | H16: =IF($L$3<>0,NA(),IF(COUNTA(備品記録!A14:O14)=0,"",備品記録!S14)) -> 現物未確認 | I16: =IF($L$3<>0,NA(),IF(COUNTA(備品記録!A14:O14)=0,"",備品記録!L14)) -> 未確認
A17: =IF($L$3<>0,NA(),IF(COUNTA(備品記録!A15:O15)=0,"",備品記録!A15)) -> AST-0008 | B17: =IF($L$3<>0,NA(),IF(COUNTA(備品記録!A15:O15)=0,"",備品記録!B15)) -> 工具 | C17: =IF($L$3<>0,NA(),IF(COUNTA(備品記録!A15:O15)=0,"",IF(COUNTA(備品記録!E15)=0,"",備品記録!E15))) | D17: =IF($L$3<>0,NA(),IF(COUNTA(備品記録!A15:O15)=0,"",備品記録!F15)) -> 未確認 | E17: =IF($L$3<>0,NA(),IF(COUNTA(備品記録!A15:O15)=0,"",IF(COUNTA(備品記録!H15)=0,"",備品記録!H15))) | F17: =IF($L$3<>0,NA(),IF(COUNTA(備品記録!A15:O15)=0,"",IF(COUNTA(備品記録!J15)=0,"",備品記録!J15))) -> 46310 | G17: =IF($L$3<>0,NA(),IF(COUNTA(備品記録!A15:O15)=0,"",備品記録!T15)) -> 利用未確認 | H17: =IF($L$3<>0,NA(),IF(COUNTA(備品記録!A15:O15)=0,"",備品記録!S15)) -> 現物未確認 | I17: =IF($L$3<>0,NA(),IF(COUNTA(備品記録!A15:O15)=0,"",備品記録!L15)) -> 未確認
A18: =IF($L$3<>0,NA(),IF(COUNTA(備品記録!A16:O16)=0,"",備品記録!A16)) -> AST-0009 | B18: =IF($L$3<>0,NA(),IF(COUNTA(備品記録!A16:O16)=0,"",備品記録!B16)) -> その他 | C18: =IF($L$3<>0,NA(),IF(COUNTA(備品記録!A16:O16)=0,"",IF(COUNTA(備品記録!E16)=0,"",備品記録!E16))) -> LOC-0003 | D18: =IF($L$3<>0,NA(),IF(COUNTA(備品記録!A16:O16)=0,"",備品記録!F16)) -> 保管中 | E18: =IF($L$3<>0,NA(),IF(COUNTA(備品記録!A16:O16)=0,"",IF(COUNTA(備品記録!H16)=0,"",備品記録!H16))) | F18: =IF($L$3<>0,NA(),IF(COUNTA(備品記録!A16:O16)=0,"",IF(COUNTA(備品記録!J16)=0,"",備品記録!J16))) | G18: =IF($L$3<>0,NA(),IF(COUNTA(備品記録!A16:O16)=0,"",備品記録!T16)) -> 保管記録 | H18: =IF($L$3<>0,NA(),IF(COUNTA(備品記録!A16:O16)=0,"",備品記録!S16)) -> 現物未確認 | I18: =IF($L$3<>0,NA(),IF(COUNTA(備品記録!A16:O16)=0,"",備品記録!L16)) -> 要対応
A19: =IF($L$3<>0,NA(),IF(COUNTA(備品記録!A17:O17)=0,"",備品記録!A17)) -> AST-0010 | B19: =IF($L$3<>0,NA(),IF(COUNTA(備品記録!A17:O17)=0,"",備品記録!B17)) -> 未確認 | C19: =IF($L$3<>0,NA(),IF(COUNTA(備品記録!A17:O17)=0,"",IF(COUNTA(備品記録!E17)=0,"",備品記録!E17))) | D19: =IF($L$3<>0,NA(),IF(COUNTA(備品記録!A17:O17)=0,"",備品記録!F17)) -> 保管中 | E19: =IF($L$3<>0,NA(),IF(COUNTA(備品記録!A17:O17)=0,"",IF(COUNTA(備品記録!H17)=0,"",備品記録!H17))) | F19: =IF($L$3<>0,NA(),IF(COUNTA(備品記録!A17:O17)=0,"",IF(COUNTA(備品記録!J17)=0,"",備品記録!J17))) | G19: =IF($L$3<>0,NA(),IF(COUNTA(備品記録!A17:O17)=0,"",備品記録!T17)) -> 保管記録 | H19: =IF($L$3<>0,NA(),IF(COUNTA(備品記録!A17:O17)=0,"",備品記録!S17)) -> 確認間隔内 | I19: =IF($L$3<>0,NA(),IF(COUNTA(備品記録!A17:O17)=0,"",備品記録!L17)) -> 確認済
A20: =IF($L$3<>0,NA(),IF(COUNTA(備品記録!A18:O18)=0,"",備品記録!A18)) -> AST-0011 | B20: =IF($L$3<>0,NA(),IF(COUNTA(備品記録!A18:O18)=0,"",備品記録!B18)) -> 工具 | C20: =IF($L$3<>0,NA(),IF(COUNTA(備品記録!A18:O18)=0,"",IF(COUNTA(備品記録!E18)=0,"",備品記録!E18))) -> LOC-0001 | D20: =IF($L$3<>0,NA(),IF(COUNTA(備品記録!A18:O18)=0,"",備品記録!F18)) -> 返却済 | E20: =IF($L$3<>0,NA(),IF(COUNTA(備品記録!A18:O18)=0,"",IF(COUNTA(備品記録!H18)=0,"",備品記録!H18))) -> PER-0001 | F20: =IF($L$3<>0,NA(),IF(COUNTA(備品記録!A18:O18)=0,"",IF(COUNTA(備品記録!J18)=0,"",備品記録!J18))) -> 46315 | G20: =IF($L$3<>0,NA(),IF(COUNTA(備品記録!A18:O18)=0,"",備品記録!T18)) -> 返却記録 | H20: =IF($L$3<>0,NA(),IF(COUNTA(備品記録!A18:O18)=0,"",備品記録!S18)) -> 確認間隔内 | I20: =IF($L$3<>0,NA(),IF(COUNTA(備品記録!A18:O18)=0,"",備品記録!L18)) -> 確認済
A21: =IF($L$3<>0,NA(),IF(COUNTA(備品記録!A19:O19)=0,"",備品記録!A19)) -> AST-0012 | B21: =IF($L$3<>0,NA(),IF(COUNTA(備品記録!A19:O19)=0,"",備品記録!B19)) -> PC | C21: =IF($L$3<>0,NA(),IF(COUNTA(備品記録!A19:O19)=0,"",IF(COUNTA(備品記録!E19)=0,"",備品記録!E19))) -> LOC-0001 | D21: =IF($L$3<>0,NA(),IF(COUNTA(備品記録!A19:O19)=0,"",備品記録!F19)) -> 保管中 | E21: =IF($L$3<>0,NA(),IF(COUNTA(備品記録!A19:O19)=0,"",IF(COUNTA(備品記録!H19)=0,"",備品記録!H19))) | F21: =IF($L$3<>0,NA(),IF(COUNTA(備品記録!A19:O19)=0,"",IF(COUNTA(備品記録!J19)=0,"",備品記録!J19))) | G21: =IF($L$3<>0,NA(),IF(COUNTA(備品記録!A19:O19)=0,"",備品記録!T19)) -> 保管記録 | H21: =IF($L$3<>0,NA(),IF(COUNTA(備品記録!A19:O19)=0,"",備品記録!S19)) -> 確認間隔超過 | I21: =IF($L$3<>0,NA(),IF(COUNTA(備品記録!A19:O19)=0,"",備品記録!L19)) -> 確認済
... A59: =IF($L$3<>0,NA(),IF(COUNTA(備品記録!A57:O57)=0,"",備品記録!A57)) | B59: =IF($L$3<>0,NA(),IF(COUNTA(備品記録!A57:O57)=0,"",備品記録!B57)) | C59: =IF($L$3<>0,NA(),IF(COUNTA(備品記録!A57:O57)=0,"",IF(COUNTA(備品記録!E57)=0,"",備品記録!E57))) | D59: =IF($L$3<>0,NA(),IF(COUNTA(備品記録!A57:O57)=0,"",備品記録!F57)) | E59: =IF($L$3<>0,NA(),IF(COUNTA(備品記録!A57:O57)=0,"",IF(COUNTA(備品記録!H57)=0,"",備品記録!H57))) | F59: =IF($L$3<>0,NA(),IF(COUNTA(備品記録!A57:O57)=0,"",IF(COUNTA(備品記録!J57)=0,"",備品記録!J57))) | G59: =IF($L$3<>0,NA(),IF(COUNTA(備品記録!A57:O57)=0,"",備品記録!T57)) | H59: =IF($L$3<>0,NA(),IF(COUNTA(備品記録!A57:O57)=0,"",備品記録!S57)) | I59: =IF($L$3<>0,NA(),IF(COUNTA(備品記録!A57:O57)=0,"",備品記録!L57))

Sheet 備品記録
A2: 備品の記録
A3: 黄色A〜Oへ50備品。備品AST-/場所LOC-/人物PER-と半角数字4桁。品名・型番とIDの対応は別保存。
A5: 確認間隔は整理の目安。過去の現物確認日を記録更新日で置き換えず、返却済だけで使用可能としません。
A7: 備品ID | B7: 種類 | C7: 登録保管先ID | D7: 所在区分 | E7: 記録所在ID | F7: 利用区分 | G7: 借用者区分 | H7: 借用者ID | I7: 貸出日 | J7: 返却期日 | K7: 返却日 | L7: 状態確認 | M7: 現物区分 | N7: 現物確認日 | O7: 記録確認日 | P7: 期日差（日） | Q7: 返却差（日） | R7: 確認経過（日） | S7: 現物確認状況 | T7: 貸出状況 | U7: 記録要確認 | V7: 入力の確認 | W7: 入力不備 | X7: 計算の前提
A8: AST-0001 | B8: PC | C8: LOC-0001 | D8: 確認済 | E8: LOC-0001 | F8: 保管中 | G8: 対象外 | L8: 確認済 | M8: 確認済 | N8: 46326 | O8: 46326 | P8: =IF(V8="","",IF(W8<>0,NA(),IF(AND(F8="貸出中",COUNTA(J8)>0),J8-備品の確認!$B$3,""))) | Q8: =IF(V8="","",IF(W8<>0,NA(),IF(AND(F8="返却済",COUNTA(J8)>0),K8-J8,""))) | R8: =IF(V8="","",IF(W8<>0,NA(),IF(M8="確認済",備品の確認!$B$3-N8,""))) -> 0 | S8: =IF(V8="","",IF(W8<>0,NA(),IF(M8="未確認","現物未確認",IF(R8>備品の確認!$E$3,"確認間隔超過","確認間隔内")))) -> 確認間隔内 | T8: =IF(V8="","",IF(W8<>0,NA(),IF(F8="保管中","保管記録",IF(F8="返却済","返却記録",IF(F8="未確認","利用未確認",IF(COUNTA(J8)=0,"期限未確認",IF(P8<0,"返却期限超過",IF(P8=0,"返却期日","貸出中")))))))) -> 保管記録 | U8: =IF(V8="","",IF(W8<>0,NA(),IF(OR(B8="未確認",D8="未確認",F8="未確認",G8="未確認",L8<>"確認済",M8="未確認",S8="確認間隔超過",AND(F8="貸出中",OR(COUNTA(J8)=0,P8<=0))),1,0))) -> 0 | V8: =IF(COUNTA(A8:O8)=0,"",IF(NOT(AND(ISTEXT(A8),LEN(A8)=8,EXACT(LEFT(A8,4),"AST-"),ISNUMBER(FIND(MID(A8,5,1)&"x","0x1x2x3x4x5x6x7x8x9x")),ISNUMBER(FIND(MID(A8,6,1)&"x","0x1x2x3x4x5x6x7x8x9x")),ISNUMBER(FIND(MID(A8,7,1)&"x","0x1x2x3x4x5x6x7x8x9x")),ISNUMBER(FIND(MID(A8,8,1)&"x","0x1x2x3x4x5x6x7x8x9x")))),"備品IDはAST-と半角数字4桁",IF(COUNTIFS($A$8:$A$57,A8)>1,"備品IDが重複",IF(NOT(OR(B8="PC",B8="周辺機器",B8="工具",B8="その他",B8="未確認")),"種類を確認",IF(NOT(AND(ISTEXT(C8),LEN(C8)=8,EXACT(LEFT(C8,4),"LOC-"),ISNUMBER(FIND(MID(C8,5,1)&"x","0x1x2x3x4x5x6x7x8x9x")),ISNUMBER(FIND(MID(C8,6,1)&"x","0x1x2x3x4x5x6x7x8x9x")),ISNUMBER(FIND(MID(C8,7,1)&"x","0x1x2x3x4x5x6x7x8x9x")),ISNUMBER(FIND(MID(C8,8,1)&"x","0x1x2x3x4x5x6x7x8x9x")))),"登録保管先IDはLOC-と半角数字4桁",IF(NOT(OR(D8="確認済",D8="未確認")),"所在区分を確認",IF(AND(D8="確認済",NOT(AND(ISTEXT(E8),LEN(E8)=8,EXACT(LEFT(E8,4),"LOC-"),ISNUMBER(FIND(MID(E8,5,1)&"x","0x1x2x3x4x5x6x7x8x9x")),ISNUMBER(FIND(MID(E8,6,1)&"x","0x1x2x3x4x5x6x7x8x9x")),ISNUMBER(FIND(MID(E8,7,1)&"x","0x1x2x3x4x5x6x7x8x9x")),ISNUMBER(FIND(MID(E8,8,1)&"x","0x1x2x3x4x5x6x7x8x9x"))))),"確認済所在IDが必須",IF(AND(D8="未確認",COUNTA(E8)>0),"所在未確認は所在ID空欄",IF(NOT(OR(F8="保管中",F8="貸出中",F8="返却済",F8="未確認")),"利用区分を確認",IF(AND(F8="保管中",NOT(AND(G8="対象外",COUNTA(H8:K8)=0))),"保管中の借用者は対象外/貸出欄は空欄",IF(AND(F8<>"保管中",NOT(OR(G8="確認済",G8="未確認"))),"借用者を確認/未確認で記録",IF(AND(G8="確認済",NOT(AND(ISTEXT(H8),LEN(H8)=8,EXACT(LEFT(H8,4),"PER-"),ISNUMBER(FIND(MID(H8,5,1)&"x","0x1x2x3x4x5x6x7x8x9x")),ISNUMBER(FIND(MID(H8,6,1)&"x","0x1x2x3x4x5x6x7x8x9x")),ISNUMBER(FIND(MID(H8,7,1)&"x","0x1x2x3x4x5x6x7x8x9x")),ISNUMBER(FIND(MID(H8,8,1)&"x","0x1x2x3x4x5x6x7x8x9x"))))),"確認済借用者IDが必須",IF(AND(G8<>"確認済",COUNTA(H8)>0),"未確認/対象外の借用者IDは空欄",IF(AND(OR(F8="貸出中",F8="返却済"),NOT(IF(ISNUMBER(I8),AND(I8>=43831,I8<=73050,I8=INT(I8)),FALSE()))),"貸出日が必須",IF(AND(COUNTA(I8)>0,NOT(IF(ISNUMBER(I8),AND(I8>=43831,I8<=73050,I8=INT(I8)),FALSE()))),"貸出日は2020〜2099年/時刻なし",IF(AND(COUNTA(J8)>0,NOT(IF(ISNUMBER(J8),AND(J8>=43831,J8<=73050,J8=INT(J8)),FALSE()))),"返却期日は2020〜2099年/時刻なし",IF(AND(COUNTA(J8)>0,OR(COUNTA(I8)=0,J8<I8)),"期日は貸出日以上/貸出日必須",IF(AND(F8="返却済",NOT(IF(ISNUMBER(K8),AND(K8>=43831,K8<=73050,K8=INT(K8)),FALSE()))),"返却済の返却日が必須",IF(AND(F8<>"返却済",COUNTA(K8)>0),"返却済以外の返却日は空欄",IF(AND(F8="返却済",K8<I8),"返却日は貸出日以上",IF(NOT(OR(L8="確認済",L8="要対応",L8="未確認")),"状態確認を記録",IF(NOT(OR(M8="確認済",M8="未確認")),"現物区分を確認",IF(AND(M8="確認済",NOT(IF(ISNUMBER(N8),AND(N8>=43831,N8<=73050,N8=INT(N8)),FALSE()))),"現物確認日が必須",IF(AND(M8="未確認",COUNTA(N8)>0),"現物未確認の日付は空欄",IF(NOT(IF(ISNUMBER(O8),AND(O8>=43831,O8<=73050,O8=INT(O8)),FALSE())),"記録確認日が必須",IF(OR(O8>備品の確認!$B$3,AND(COUNTA(I8)>0,I8>O8),AND(F8="返却済",K8>O8),AND(M8="確認済",N8>O8)),"貸出/返却/現物日≦記録確認日≦基準日","確認済み")))))))))))))))))))))))))) -> 確認済み | W8: =IF(V8="","",IF(V8="確認済み",0,1)) -> 0 | X8: =IF(COUNTA(A8:O8)=0,IF(AND(V8="",W8="",P8="",Q8="",R8="",S8="",T8="",U8=""),0,1),IF(NOT(AND(ISTEXT(V8),V8=IF(COUNTA(A8:O8)=0,"",IF(NOT(AND(ISTEXT(A8),LEN(A8)=8,EXACT(LEFT(A8,4),"AST-"),ISNUMBER(FIND(MID(A8,5,1)&"x","0x1x2x3x4x5x6x7x8x9x")),ISNUMBER(FIND(MID(A8,6,1)&"x","0x1x2x3x4x5x6x7x8x9x")),ISNUMBER(FIND(MID(A8,7,1)&"x","0x1x2x3x4x5x6x7x8x9x")),ISNUMBER(FIND(MID(A8,8,1)&"x","0x1x2x3x4x5x6x7x8x9x")))),"備品IDはAST-と半角数字4桁",IF(COUNTIFS($A$8:$A$57,A8)>1,"備品IDが重複",IF(NOT(OR(B8="PC",B8="周辺機器",B8="工具",B8="その他",B8="未確認")),"種類を確認",IF(NOT(AND(ISTEXT(C8),LEN(C8)=8,EXACT(LEFT(C8,4),"LOC-"),ISNUMBER(FIND(MID(C8,5,1)&"x","0x1x2x3x4x5x6x7x8x9x")),ISNUMBER(FIND(MID(C8,6,1)&"x","0x1x2x3x4x5x6x7x8x9x")),ISNUMBER(FIND(MID(C8,7,1)&"x","0x1x2x3x4x5x6x7x8x9x")),ISNUMBER(FIND(MID(C8,8,1)&"x","0x1x2x3x4x5x6x7x8x9x")))),"登録保管先IDはLOC-と半角数字4桁",IF(NOT(OR(D8="確認済",D8="未確認")),"所在区分を確認",IF(AND(D8="確認済",NOT(AND(ISTEXT(E8),LEN(E8)=8,EXACT(LEFT(E8,4),"LOC-"),ISNUMBER(FIND(MID(E8,5,1)&"x","0x1x2x3x4x5x6x7x8x9x")),ISNUMBER(FIND(MID(E8,6,1)&"x","0x1x2x3x4x5x6x7x8x9x")),ISNUMBER(FIND(MID(E8,7,1)&"x","0x1x2x3x4x5x6x7x8x9x")),ISNUMBER(FIND(MID(E8,8,1)&"x","0x1x2x3x4x5x6x7x8x9x"))))),"確認済所在IDが必須",IF(AND(D8="未確認",COUNTA(E8)>0),"所在未確認は所在ID空欄",IF(NOT(OR(F8="保管中",F8="貸出中",F8="返却済",F8="未確認")),"利用区分を確認",IF(AND(F8="保管中",NOT(AND(G8="対象外",COUNTA(H8:K8)=0))),"保管中の借用者は対象外/貸出欄は空欄",IF(AND(F8<>"保管中",NOT(OR(G8="確認済",G8="未確認"))),"借用者を確認/未確認で記録",IF(AND(G8="確認済",NOT(AND(ISTEXT(H8),LEN(H8)=8,EXACT(LEFT(H8,4),"PER-"),ISNUMBER(FIND(MID(H8,5,1)&"x","0x1x2x3x4x5x6x7x8x9x")),ISNUMBER(FIND(MID(H8,6,1)&"x","0x1x2x3x4x5x6x7x8x9x")),ISNUMBER(FIND(MID(H8,7,1)&"x","0x1x2x3x4x5x6x7x8x9x")),ISNUMBER(FIND(MID(H8,8,1)&"x","0x1x2x3x4x5x6x7x8x9x"))))),"確認済借用者IDが必須",IF(AND(G8<>"確認済",COUNTA(H8)>0),"未確認/対象外の借用者IDは空欄",IF(AND(OR(F8="貸出中",F8="返却済"),NOT(IF(ISNUMBER(I8),AND(I8>=43831,I8<=73050,I8=INT(I8)),FALSE()))),"貸出日が必須",IF(AND(COUNTA(I8)>0,NOT(IF(ISNUMBER(I8),AND(I8>=43831,I8<=73050,I8=INT(I8)),FALSE()))),"貸出日は2020〜2099年/時刻なし",IF(AND(COUNTA(J8)>0,NOT(IF(ISNUMBER(J8),AND(J8>=43831,J8<=73050,J8=INT(J8)),FALSE()))),"返却期日は2020〜2099年/時刻なし",IF(AND(COUNTA(J8)>0,OR(COUNTA(I8)=0,J8<I8)),"期日は貸出日以上/貸出日必須",IF(AND(F8="返却済",NOT(IF(ISNUMBER(K8),AND(K8>=43831,K8<=73050,K8=INT(K8)),FALSE()))),"返却済の返却日が必須",IF(AND(F8<>"返却済",COUNTA(K8)>0),"返却済以外の返却日は空欄",IF(AND(F8="返却済",K8<I8),"返却日は貸出日以上",IF(NOT(OR(L8="確認済",L8="要対応",L8="未確認")),"状態確認を記録",IF(NOT(OR(M8="確認済",M8="未確認")),"現物区分を確認",IF(AND(M8="確認済",NOT(IF(ISNUMBER(N8),AND(N8>=43831,N8<=73050,N8=INT(N8)),FALSE()))),"現物確認日が必須",IF(AND(M8="未確認",COUNTA(N8)>0),"現物未確認の日付は空欄",IF(NOT(IF(ISNUMBER(O8),AND(O8>=43831,O8<=73050,O8=INT(O8)),FALSE())),"記録確認日が必須",IF(OR(O8>備品の確認!$B$3,AND(COUNTA(I8)>0,I8>O8),AND(F8="返却済",K8>O8),AND(M8="確認済",N8>O8)),"貸出/返却/現物日≦記録確認日≦基準日","確認済み")))))))))))))))))))))))))),ISNUMBER(W8),W8=IF(V8="確認済み",0,1))),1,IF(W8<>0,0,IF(AND(IF(AND(F8="貸出中",COUNTA(J8)>0),ISNUMBER(P8),ISTEXT(P8)),P8=IF(AND(F8="貸出中",COUNTA(J8)>0),J8-備品の確認!$B$3,""),IF(AND(F8="返却済",COUNTA(J8)>0),ISNUMBER(Q8),ISTEXT(Q8)),Q8=IF(AND(F8="返却済",COUNTA(J8)>0),K8-J8,""),IF(M8="確認済",ISNUMBER(R8),ISTEXT(R8)),R8=IF(M8="確認済",備品の確認!$B$3-N8,""),ISTEXT(S8),S8=IF(M8="未確認","現物未確認",IF(R8>備品の確認!$E$3,"確認間隔超過","確認間隔内")),ISTEXT(T8),T8=IF(F8="保管中","保管記録",IF(F8="返却済","返却記録",IF(F8="未確認","利用未確認",IF(COUNTA(J8)=0,"期限未確認",IF(P8<0,"返却期限超過",IF(P8=0,"返却期日","貸出中")))))),ISNUMBER(U8),U8=IF(OR(B8="未確認",D8="未確認",F8="未確認",G8="未確認",L8<>"確認済",M8="未確認",S8="確認間隔超過",AND(F8="貸出中",OR(COUNTA(J8)=0,P8<=0))),1,0)),0,1)))) -> 0
A9: AST-0002 | B9: 周辺機器 | C9: LOC-0001 | D9: 確認済 | E9: LOC-0002 | F9: 貸出中 | G9: 確認済 | H9: PER-0001 | I9: 46296 | J9: 46325 | L9: 確認済 | M9: 確認済 | N9: 46296 | O9: 46326 | P9: =IF(V9="","",IF(W9<>0,NA(),IF(AND(F9="貸出中",COUNTA(J9)>0),J9-備品の確認!$B$3,""))) -> -1 | Q9: =IF(V9="","",IF(W9<>0,NA(),IF(AND(F9="返却済",COUNTA(J9)>0),K9-J9,""))) | R9: =IF(V9="","",IF(W9<>0,NA(),IF(M9="確認済",備品の確認!$B$3-N9,""))) -> 30 | S9: =IF(V9="","",IF(W9<>0,NA(),IF(M9="未確認","現物未確認",IF(R9>備品の確認!$E$3,"確認間隔超過","確認間隔内")))) -> 確認間隔内 | T9: =IF(V9="","",IF(W9<>0,NA(),IF(F9="保管中","保管記録",IF(F9="返却済","返却記録",IF(F9="未確認","利用未確認",IF(COUNTA(J9)=0,"期限未確認",IF(P9<0,"返却期限超過",IF(P9=0,"返却期日","貸出中")))))))) -> 返却期限超過 | U9: =IF(V9="","",IF(W9<>0,NA(),IF(OR(B9="未確認",D9="未確認",F9="未確認",G9="未確認",L9<>"確認済",M9="未確認",S9="確認間隔超過",AND(F9="貸出中",OR(COUNTA(J9)=0,P9<=0))),1,0))) -> 1 | V9: =IF(COUNTA(A9:O9)=0,"",IF(NOT(AND(ISTEXT(A9),LEN(A9)=8,EXACT(LEFT(A9,4),"AST-"),ISNUMBER(FIND(MID(A9,5,1)&"x","0x1x2x3x4x5x6x7x8x9x")),ISNUMBER(FIND(MID(A9,6,1)&"x","0x1x2x3x4x5x6x7x8x9x")),ISNUMBER(FIND(MID(A9,7,1)&"x","0x1x2x3x4x5x6x7x8x9x")),ISNUMBER(FIND(MID(A9,8,1)&"x","0x1x2x3x4x5x6x7x8x9x")))),"備品IDはAST-と半角数字4桁",IF(COUNTIFS($A$8:$A$57,A9)>1,"備品IDが重複",IF(NOT(OR(B9="PC",B9="周辺機器",B9="工具",B9="その他",B9="未確認")),"種類を確認",IF(NOT(AND(ISTEXT(C9),LEN(C9)=8,EXACT(LEFT(C9,4),"LOC-"),ISNUMBER(FIND(MID(C9,5,1)&"x","0x1x2x3x4x5x6x7x8x9x")),ISNUMBER(FIND(MID(C9,6,1)&"x","0x1x2x3x4x5x6x7x8x9x")),ISNUMBER(FIND(MID(C9,7,1)&"x","0x1x2x3x4x5x6x7x8x9x")),ISNUMBER(FIND(MID(C9,8,1)&"x","0x1x2x3x4x5x6x7x8x9x")))),"登録保管先IDはLOC-と半角数字4桁",IF(NOT(OR(D9="確認済",D9="未確認")),"所在区分を確認",IF(AND(D9="確認済",NOT(AND(ISTEXT(E9),LEN(E9)=8,EXACT(LEFT(E9,4),"LOC-"),ISNUMBER(FIND(MID(E9,5,1)&"x","0x1x2x3x4x5x6x7x8x9x")),ISNUMBER(FIND(MID(E9,6,1)&"x","0x1x2x3x4x5x6x7x8x9x")),ISNUMBER(FIND(MID(E9,7,1)&"x","0x1x2x3x4x5x6x7x8x9x")),ISNUMBER(FIND(MID(E9,8,1)&"x","0x1x2x3x4x5x6x7x8x9x"))))),"確認済所在IDが必須",IF(AND(D9="未確認",COUNTA(E9)>0),"所在未確認は所在ID空欄",IF(NOT(OR(F9="保管中",F9="貸出中",F9="返却済",F9="未確認")),"利用区分を確認",IF(AND(F9="保管中",NOT(AND(G9="対象外",COUNTA(H9:K9)=0))),"保管中の借用者は対象外/貸出欄は空欄",IF(AND(F9<>"保管中",NOT(OR(G9="確認済",G9="未確認"))),"借用者を確認/未確認で記録",IF(AND(G9="確認済",NOT(AND(ISTEXT(H9),LEN(H9)=8,EXACT(LEFT(H9,4),"PER-"),ISNUMBER(FIND(MID(H9,5,1)&"x","0x1x2x3x4x5x6x7x8x9x")),ISNUMBER(FIND(MID(H9,6,1)&"x","0x1x2x3x4x5x6x7x8x9x")),ISNUMBER(FIND(MID(H9,7,1)&"x","0x1x2x3x4x5x6x7x8x9x")),ISNUMBER(FIND(MID(H9,8,1)&"x","0x1x2x3x4x5x6x7x8x9x"))))),"確認済借用者IDが必須",IF(AND(G9<>"確認済",COUNTA(H9)>0),"未確認/対象外の借用者IDは空欄",IF(AND(OR(F9="貸出中",F9="返却済"),NOT(IF(ISNUMBER(I9),AND(I9>=43831,I9<=73050,I9=INT(I9)),FALSE()))),"貸出日が必須",IF(AND(COUNTA(I9)>0,NOT(IF(ISNUMBER(I9),AND(I9>=43831,I9<=73050,I9=INT(I9)),FALSE()))),"貸出日は2020〜2099年/時刻なし",IF(AND(COUNTA(J9)>0,NOT(IF(ISNUMBER(J9),AND(J9>=43831,J9<=73050,J9=INT(J9)),FALSE()))),"返却期日は2020〜2099年/時刻なし",IF(AND(COUNTA(J9)>0,OR(COUNTA(I9)=0,J9<I9)),"期日は貸出日以上/貸出日必須",IF(AND(F9="返却済",NOT(IF(ISNUMBER(K9),AND(K9>=43831,K9<=73050,K9=INT(K9)),FALSE()))),"返却済の返却日が必須",IF(AND(F9<>"返却済",COUNTA(K9)>0),"返却済以外の返却日は空欄",IF(AND(F9="返却済",K9<I9),"返却日は貸出日以上",IF(NOT(OR(L9="確認済",L9="要対応",L9="未確認")),"状態確認を記録",IF(NOT(OR(M9="確認済",M9="未確認")),"現物区分を確認",IF(AND(M9="確認済",NOT(IF(ISNUMBER(N9),AND(N9>=43831,N9<=73050,N9=INT(N9)),FALSE()))),"現物確認日が必須",IF(AND(M9="未確認",COUNTA(N9)>0),"現物未確認の日付は空欄",IF(NOT(IF(ISNUMBER(O9),AND(O9>=43831,O9<=73050,O9=INT(O9)),FALSE())),"記録確認日が必須",IF(OR(O9>備品の確認!$B$3,AND(COUNTA(I9)>0,I9>O9),AND(F9="返却済",K9>O9),AND(M9="確認済",N9>O9)),"貸出/返却/現物日≦記録確認日≦基準日","確認済み")))))))))))))))))))))))))) -> 確認済み | W9: =IF(V9="","",IF(V9="確認済み",0,1)) -> 0 | X9: =IF(COUNTA(A9:O9)=0,IF(AND(V9="",W9="",P9="",Q9="",R9="",S9="",T9="",U9=""),0,1),IF(NOT(AND(ISTEXT(V9),V9=IF(COUNTA(A9:O9)=0,"",IF(NOT(AND(ISTEXT(A9),LEN(A9)=8,EXACT(LEFT(A9,4),"AST-"),ISNUMBER(FIND(MID(A9,5,1)&"x","0x1x2x3x4x5x6x7x8x9x")),ISNUMBER(FIND(MID(A9,6,1)&"x","0x1x2x3x4x5x6x7x8x9x")),ISNUMBER(FIND(MID(A9,7,1)&"x","0x1x2x3x4x5x6x7x8x9x")),ISNUMBER(FIND(MID(A9,8,1)&"x","0x1x2x3x4x5x6x7x8x9x")))),"備品IDはAST-と半角数字4桁",IF(COUNTIFS($A$8:$A$57,A9)>1,"備品IDが重複",IF(NOT(OR(B9="PC",B9="周辺機器",B9="工具",B9="その他",B9="未確認")),"種類を確認",IF(NOT(AND(ISTEXT(C9),LEN(C9)=8,EXACT(LEFT(C9,4),"LOC-"),ISNUMBER(FIND(MID(C9,5,1)&"x","0x1x2x3x4x5x6x7x8x9x")),ISNUMBER(FIND(MID(C9,6,1)&"x","0x1x2x3x4x5x6x7x8x9x")),ISNUMBER(FIND(MID(C9,7,1)&"x","0x1x2x3x4x5x6x7x8x9x")),ISNUMBER(FIND(MID(C9,8,1)&"x","0x1x2x3x4x5x6x7x8x9x")))),"登録保管先IDはLOC-と半角数字4桁",IF(NOT(OR(D9="確認済",D9="未確認")),"所在区分を確認",IF(AND(D9="確認済",NOT(AND(ISTEXT(E9),LEN(E9)=8,EXACT(LEFT(E9,4),"LOC-"),ISNUMBER(FIND(MID(E9,5,1)&"x","0x1x2x3x4x5x6x7x8x9x")),ISNUMBER(FIND(MID(E9,6,1)&"x","0x1x2x3x4x5x6x7x8x9x")),ISNUMBER(FIND(MID(E9,7,1)&"x","0x1x2x3x4x5x6x7x8x9x")),ISNUMBER(FIND(MID(E9,8,1)&"x","0x1x2x3x4x5x6x7x8x9x"))))),"確認済所在IDが必須",IF(AND(D9="未確認",COUNTA(E9)>0),"所在未確認は所在ID空欄",IF(NOT(OR(F9="保管中",F9="貸出中",F9="返却済",F9="未確認")),"利用区分を確認",IF(AND(F9="保管中",NOT(AND(G9="対象外",COUNTA(H9:K9)=0))),"保管中の借用者は対象外/貸出欄は空欄",IF(AND(F9<>"保管中",NOT(OR(G9="確認済",G9="未確認"))),"借用者を確認/未確認で記録",IF(AND(G9="確認済",NOT(AND(ISTEXT(H9),LEN(H9)=8,EXACT(LEFT(H9,4),"PER-"),ISNUMBER(FIND(MID(H9,5,1)&"x","0x1x2x3x4x5x6x7x8x9x")),ISNUMBER(FIND(MID(H9,6,1)&"x","0x1x2x3x4x5x6x7x8x9x")),ISNUMBER(FIND(MID(H9,7,1)&"x","0x1x2x3x4x5x6x7x8x9x")),ISNUMBER(FIND(MID(H9,8,1)&"x","0x1x2x3x4x5x6x7x8x9x"))))),"確認済借用者IDが必須",IF(AND(G9<>"確認済",COUNTA(H9)>0),"未確認/対象外の借用者IDは空欄",IF(AND(OR(F9="貸出中",F9="返却済"),NOT(IF(ISNUMBER(I9),AND(I9>=43831,I9<=73050,I9=INT(I9)),FALSE()))),"貸出日が必須",IF(AND(COUNTA(I9)>0,NOT(IF(ISNUMBER(I9),AND(I9>=43831,I9<=73050,I9=INT(I9)),FALSE()))),"貸出日は2020〜2099年/時刻なし",IF(AND(COUNTA(J9)>0,NOT(IF(ISNUMBER(J9),AND(J9>=43831,J9<=73050,J9=INT(J9)),FALSE()))),"返却期日は2020〜2099年/時刻なし",IF(AND(COUNTA(J9)>0,OR(COUNTA(I9)=0,J9<I9)),"期日は貸出日以上/貸出日必須",IF(AND(F9="返却済",NOT(IF(ISNUMBER(K9),AND(K9>=43831,K9<=73050,K9=INT(K9)),FALSE()))),"返却済の返却日が必須",IF(AND(F9<>"返却済",COUNTA(K9)>0),"返却済以外の返却日は空欄",IF(AND(F9="返却済",K9<I9),"返却日は貸出日以上",IF(NOT(OR(L9="確認済",L9="要対応",L9="未確認")),"状態確認を記録",IF(NOT(OR(M9="確認済",M9="未確認")),"現物区分を確認",IF(AND(M9="確認済",NOT(IF(ISNUMBER(N9),AND(N9>=43831,N9<=73050,N9=INT(N9)),FALSE()))),"現物確認日が必須",IF(AND(M9="未確認",COUNTA(N9)>0),"現物未確認の日付は空欄",IF(NOT(IF(ISNUMBER(O9),AND(O9>=43831,O9<=73050,O9=INT(O9)),FALSE())),"記録確認日が必須",IF(OR(O9>備品の確認!$B$3,AND(COUNTA(I9)>0,I9>O9),AND(F9="返却済",K9>O9),AND(M9="確認済",N9>O9)),"貸出/返却/現物日≦記録確認日≦基準日","確認済み")))))))))))))))))))))))))),ISNUMBER(W9),W9=IF(V9="確認済み",0,1))),1,IF(W9<>0,0,IF(AND(IF(AND(F9="貸出中",COUNTA(J9)>0),ISNUMBER(P9),ISTEXT(P9)),P9=IF(AND(F9="貸出中",COUNTA(J9)>0),J9-備品の確認!$B$3,""),IF(AND(F9="返却済",COUNTA(J9)>0),ISNUMBER(Q9),ISTEXT(Q9)),Q9=IF(AND(F9="返却済",COUNTA(J9)>0),K9-J9,""),IF(M9="確認済",ISNUMBER(R9),ISTEXT(R9)),R9=IF(M9="確認済",備品の確認!$B$3-N9,""),ISTEXT(S9),S9=IF(M9="未確認","現物未確認",IF(R9>備品の確認!$E$3,"確認間隔超過","確認間隔内")),ISTEXT(T9),T9=IF(F9="保管中","保管記録",IF(F9="返却済","返却記録",IF(F9="未確認","利用未確認",IF(COUNTA(J9)=0,"期限未確認",IF(P9<0,"返却期限超過",IF(P9=0,"返却期日","貸出中")))))),ISNUMBER(U9),U9=IF(OR(B9="未確認",D9="未確認",F9="未確認",G9="未確認",L9<>"確認済",M9="未確認",S9="確認間隔超過",AND(F9="貸出中",OR(COUNTA(J9)=0,P9<=0))),1,0)),0,1)))) -> 0
A10: AST-0003 | B10: 工具 | C10: LOC-0001 | D10: 確認済 | E10: LOC-0003 | F10: 貸出中 | G10: 確認済 | H10: PER-0002 | I10: 46305 | J10: 46326 | L10: 確認済 | M10: 確認済 | N10: 46295 | O10: 46326 | P10: =IF(V10="","",IF(W10<>0,NA(),IF(AND(F10="貸出中",COUNTA(J10)>0),J10-備品の確認!$B$3,""))) -> 0 | Q10: =IF(V10="","",IF(W10<>0,NA(),IF(AND(F10="返却済",COUNTA(J10)>0),K10-J10,""))) | R10: =IF(V10="","",IF(W10<>0,NA(),IF(M10="確認済",備品の確認!$B$3-N10,""))) -> 31 | S10: =IF(V10="","",IF(W10<>0,NA(),IF(M10="未確認","現物未確認",IF(R10>備品の確認!$E$3,"確認間隔超過","確認間隔内")))) -> 確認間隔超過 | T10: =IF(V10="","",IF(W10<>0,NA(),IF(F10="保管中","保管記録",IF(F10="返却済","返却記録",IF(F10="未確認","利用未確認",IF(COUNTA(J10)=0,"期限未確認",IF(P10<0,"返却期限超過",IF(P10=0,"返却期日","貸出中")))))))) -> 返却期日 | U10: =IF(V10="","",IF(W10<>0,NA(),IF(OR(B10="未確認",D10="未確認",F10="未確認",G10="未確認",L10<>"確認済",M10="未確認",S10="確認間隔超過",AND(F10="貸出中",OR(COUNTA(J10)=0,P10<=0))),1,0))) -> 1 | V10: =IF(COUNTA(A10:O10)=0,"",IF(NOT(AND(ISTEXT(A10),LEN(A10)=8,EXACT(LEFT(A10,4),"AST-"),ISNUMBER(FIND(MID(A10,5,1)&"x","0x1x2x3x4x5x6x7x8x9x")),ISNUMBER(FIND(MID(A10,6,1)&"x","0x1x2x3x4x5x6x7x8x9x")),ISNUMBER(FIND(MID(A10,7,1)&"x","0x1x2x3x4x5x6x7x8x9x")),ISNUMBER(FIND(MID(A10,8,1)&"x","0x1x2x3x4x5x6x7x8x9x")))),"備品IDはAST-と半角数字4桁",IF(COUNTIFS($A$8:$A$57,A10)>1,"備品IDが重複",IF(NOT(OR(B10="PC",B10="周辺機器",B10="工具",B10="その他",B10="未確認")),"種類を確認",IF(NOT(AND(ISTEXT(C10),LEN(C10)=8,EXACT(LEFT(C10,4),"LOC-"),ISNUMBER(FIND(MID(C10,5,1)&"x","0x1x2x3x4x5x6x7x8x9x")),ISNUMBER(FIND(MID(C10,6,1)&"x","0x1x2x3x4x5x6x7x8x9x")),ISNUMBER(FIND(MID(C10,7,1)&"x","0x1x2x3x4x5x6x7x8x9x")),ISNUMBER(FIND(MID(C10,8,1)&"x","0x1x2x3x4x5x6x7x8x9x")))),"登録保管先IDはLOC-と半角数字4桁",IF(NOT(OR(D10="確認済",D10="未確認")),"所在区分を確認",IF(AND(D10="確認済",NOT(AND(ISTEXT(E10),LEN(E10)=8,EXACT(LEFT(E10,4),"LOC-"),ISNUMBER(FIND(MID(E10,5,1)&"x","0x1x2x3x4x5x6x7x8x9x")),ISNUMBER(FIND(MID(E10,6,1)&"x","0x1x2x3x4x5x6x7x8x9x")),ISNUMBER(FIND(MID(E10,7,1)&"x","0x1x2x3x4x5x6x7x8x9x")),ISNUMBER(FIND(MID(E10,8,1)&"x","0x1x2x3x4x5x6x7x8x9x"))))),"確認済所在IDが必須",IF(AND(D10="未確認",COUNTA(E10)>0),"所在未確認は所在ID空欄",IF(NOT(OR(F10="保管中",F10="貸出中",F10="返却済",F10="未確認")),"利用区分を確認",IF(AND(F10="保管中",NOT(AND(G10="対象外",COUNTA(H10:K10)=0))),"保管中の借用者は対象外/貸出欄は空欄",IF(AND(F10<>"保管中",NOT(OR(G10="確認済",G10="未確認"))),"借用者を確認/未確認で記録",IF(AND(G10="確認済",NOT(AND(ISTEXT(H10),LEN(H10)=8,EXACT(LEFT(H10,4),"PER-"),ISNUMBER(FIND(MID(H10,5,1)&"x","0x1x2x3x4x5x6x7x8x9x")),ISNUMBER(FIND(MID(H10,6,1)&"x","0x1x2x3x4x5x6x7x8x9x")),ISNUMBER(FIND(MID(H10,7,1)&"x","0x1x2x3x4x5x6x7x8x9x")),ISNUMBER(FIND(MID(H10,8,1)&"x","0x1x2x3x4x5x6x7x8x9x"))))),"確認済借用者IDが必須",IF(AND(G10<>"確認済",COUNTA(H10)>0),"未確認/対象外の借用者IDは空欄",IF(AND(OR(F10="貸出中",F10="返却済"),NOT(IF(ISNUMBER(I10),AND(I10>=43831,I10<=73050,I10=INT(I10)),FALSE()))),"貸出日が必須",IF(AND(COUNTA(I10)>0,NOT(IF(ISNUMBER(I10),AND(I10>=43831,I10<=73050,I10=INT(I10)),FALSE()))),"貸出日は2020〜2099年/時刻なし",IF(AND(COUNTA(J10)>0,NOT(IF(ISNUMBER(J10),AND(J10>=43831,J10<=73050,J10=INT(J10)),FALSE()))),"返却期日は2020〜2099年/時刻なし",IF(AND(COUNTA(J10)>0,OR(COUNTA(I10)=0,J10<I10)),"期日は貸出日以上/貸出日必須",IF(AND(F10="返却済",NOT(IF(ISNUMBER(K10),AND(K10>=43831,K10<=73050,K10=INT(K10)),FALSE()))),"返却済の返却日が必須",IF(AND(F10<>"返却済",COUNTA(K10)>0),"返却済以外の返却日は空欄",IF(AND(F10="返却済",K10<I10),"返却日は貸出日以上",IF(NOT(OR(L10="確認済",L10="要対応",L10="未確認")),"状態確認を記録",IF(NOT(OR(M10="確認済",M10="未確認")),"現物区分を確認",IF(AND(M10="確認済",NOT(IF(ISNUMBER(N10),AND(N10>=43831,N10<=73050,N10=INT(N10)),FALSE()))),"現物確認日が必須",IF(AND(M10="未確認",COUNTA(N10)>0),"現物未確認の日付は空欄",IF(NOT(IF(ISNUMBER(O10),AND(O10>=43831,O10<=73050,O10=INT(O10)),FALSE())),"記録確認日が必須",IF(OR(O10>備品の確認!$B$3,AND(COUNTA(I10)>0,I10>O10),AND(F10="返却済",K10>O10),AND(M10="確認済",N10>O10)),"貸出/返却/現物日≦記録確認日≦基準日","確認済み")))))))))))))))))))))))))) -> 確認済み | W10: =IF(V10="","",IF(V10="確認済み",0,1)) -> 0 | X10: =IF(COUNTA(A10:O10)=0,IF(AND(V10="",W10="",P10="",Q10="",R10="",S10="",T10="",U10=""),0,1),IF(NOT(AND(ISTEXT(V10),V10=IF(COUNTA(A10:O10)=0,"",IF(NOT(AND(ISTEXT(A10),LEN(A10)=8,EXACT(LEFT(A10,4),"AST-"),ISNUMBER(FIND(MID(A10,5,1)&"x","0x1x2x3x4x5x6x7x8x9x")),ISNUMBER(FIND(MID(A10,6,1)&"x","0x1x2x3x4x5x6x7x8x9x")),ISNUMBER(FIND(MID(A10,7,1)&"x","0x1x2x3x4x5x6x7x8x9x")),ISNUMBER(FIND(MID(A10,8,1)&"x","0x1x2x3x4x5x6x7x8x9x")))),"備品IDはAST-と半角数字4桁",IF(COUNTIFS($A$8:$A$57,A10)>1,"備品IDが重複",IF(NOT(OR(B10="PC",B10="周辺機器",B10="工具",B10="その他",B10="未確認")),"種類を確認",IF(NOT(AND(ISTEXT(C10),LEN(C10)=8,EXACT(LEFT(C10,4),"LOC-"),ISNUMBER(FIND(MID(C10,5,1)&"x","0x1x2x3x4x5x6x7x8x9x")),ISNUMBER(FIND(MID(C10,6,1)&"x","0x1x2x3x4x5x6x7x8x9x")),ISNUMBER(FIND(MID(C10,7,1)&"x","0x1x2x3x4x5x6x7x8x9x")),ISNUMBER(FIND(MID(C10,8,1)&"x","0x1x2x3x4x5x6x7x8x9x")))),"登録保管先IDはLOC-と半角数字4桁",IF(NOT(OR(D10="確認済",D10="未確認")),"所在区分を確認",IF(AND(D10="確認済",NOT(AND(ISTEXT(E10),LEN(E10)=8,EXACT(LEFT(E10,4),"LOC-"),ISNUMBER(FIND(MID(E10,5,1)&"x","0x1x2x3x4x5x6x7x8x9x")),ISNUMBER(FIND(MID(E10,6,1)&"x","0x1x2x3x4x5x6x7x8x9x")),ISNUMBER(FIND(MID(E10,7,1)&"x","0x1x2x3x4x5x6x7x8x9x")),ISNUMBER(FIND(MID(E10,8,1)&"x","0x1x2x3x4x5x6x7x8x9x"))))),"確認済所在IDが必須",IF(AND(D10="未確認",COUNTA(E10)>0),"所在未確認は所在ID空欄",IF(NOT(OR(F10="保管中",F10="貸出中",F10="返却済",F10="未確認")),"利用区分を確認",IF(AND(F10="保管中",NOT(AND(G10="対象外",COUNTA(H10:K10)=0))),"保管中の借用者は対象外/貸出欄は空欄",IF(AND(F10<>"保管中",NOT(OR(G10="確認済",G10="未確認"))),"借用者を確認/未確認で記録",IF(AND(G10="確認済",NOT(AND(ISTEXT(H10),LEN(H10)=8,EXACT(LEFT(H10,4),"PER-"),ISNUMBER(FIND(MID(H10,5,1)&"x","0x1x2x3x4x5x6x7x8x9x")),ISNUMBER(FIND(MID(H10,6,1)&"x","0x1x2x3x4x5x6x7x8x9x")),ISNUMBER(FIND(MID(H10,7,1)&"x","0x1x2x3x4x5x6x7x8x9x")),ISNUMBER(FIND(MID(H10,8,1)&"x","0x1x2x3x4x5x6x7x8x9x"))))),"確認済借用者IDが必須",IF(AND(G10<>"確認済",COUNTA(H10)>0),"未確認/対象外の借用者IDは空欄",IF(AND(OR(F10="貸出中",F10="返却済"),NOT(IF(ISNUMBER(I10),AND(I10>=43831,I10<=73050,I10=INT(I10)),FALSE()))),"貸出日が必須",IF(AND(COUNTA(I10)>0,NOT(IF(ISNUMBER(I10),AND(I10>=43831,I10<=73050,I10=INT(I10)),FALSE()))),"貸出日は2020〜2099年/時刻なし",IF(AND(COUNTA(J10)>0,NOT(IF(ISNUMBER(J10),AND(J10>=43831,J10<=73050,J10=INT(J10)),FALSE()))),"返却期日は2020〜2099年/時刻なし",IF(AND(COUNTA(J10)>0,OR(COUNTA(I10)=0,J10<I10)),"期日は貸出日以上/貸出日必須",IF(AND(F10="返却済",NOT(IF(ISNUMBER(K10),AND(K10>=43831,K10<=73050,K10=INT(K10)),FALSE()))),"返却済の返却日が必須",IF(AND(F10<>"返却済",COUNTA(K10)>0),"返却済以外の返却日は空欄",IF(AND(F10="返却済",K10<I10),"返却日は貸出日以上",IF(NOT(OR(L10="確認済",L10="要対応",L10="未確認")),"状態確認を記録",IF(NOT(OR(M10="確認済",M10="未確認")),"現物区分を確認",IF(AND(M10="確認済",NOT(IF(ISNUMBER(N10),AND(N10>=43831,N10<=73050,N10=INT(N10)),FALSE()))),"現物確認日が必須",IF(AND(M10="未確認",COUNTA(N10)>0),"現物未確認の日付は空欄",IF(NOT(IF(ISNUMBER(O10),AND(O10>=43831,O10<=73050,O10=INT(O10)),FALSE())),"記録確認日が必須",IF(OR(O10>備品の確認!$B$3,AND(COUNTA(I10)>0,I10>O10),AND(F10="返却済",K10>O10),AND(M10="確認済",N10>O10)),"貸出/返却/現物日≦記録確認日≦基準日","確認済み")))))))))))))))))))))))))),ISNUMBER(W10),W10=IF(V10="確認済み",0,1))),1,IF(W10<>0,0,IF(AND(IF(AND(F10="貸出中",COUNTA(J10)>0),ISNUMBER(P10),ISTEXT(P10)),P10=IF(AND(F10="貸出中",COUNTA(J10)>0),J10-備品の確認!$B$3,""),IF(AND(F10="返却済",COUNTA(J10)>0),ISNUMBER(Q10),ISTEXT(Q10)),Q10=IF(AND(F10="返却済",COUNTA(J10)>0),K10-J10,""),IF(M10="確認済",ISNUMBER(R10),ISTEXT(R10)),R10=IF(M10="確認済",備品の確認!$B$3-N10,""),ISTEXT(S10),S10=IF(M10="未確認","現物未確認",IF(R10>備品の確認!$E$3,"確認間隔超過","確認間隔内")),ISTEXT(T10),T10=IF(F10="保管中","保管記録",IF(F10="返却済","返却記録",IF(F10="未確認","利用未確認",IF(COUNTA(J10)=0,"期限未確認",IF(P10<0,"返却期限超過",IF(P10=0,"返却期日","貸出中")))))),ISNUMBER(U10),U10=IF(OR(B10="未確認",D10="未確認",F10="未確認",G10="未確認",L10<>"確認済",M10="未確認",S10="確認間隔超過",AND(F10="貸出中",OR(COUNTA(J10)=0,P10<=0))),1,0)),0,1)))) -> 0
A11: AST-0004 | B11: PC | C11: LOC-0002 | D11: 確認済 | E11: LOC-0004 | F11: 貸出中 | G11: 未確認 | I11: 46315 | J11: 46327 | L11: 未確認 | M11: 未確認 | O11: 46326 | P11: =IF(V11="","",IF(W11<>0,NA(),IF(AND(F11="貸出中",COUNTA(J11)>0),J11-備品の確認!$B$3,""))) -> 1 | Q11: =IF(V11="","",IF(W11<>0,NA(),IF(AND(F11="返却済",COUNTA(J11)>0),K11-J11,""))) | R11: =IF(V11="","",IF(W11<>0,NA(),IF(M11="確認済",備品の確認!$B$3-N11,""))) | S11: =IF(V11="","",IF(W11<>0,NA(),IF(M11="未確認","現物未確認",IF(R11>備品の確認!$E$3,"確認間隔超過","確認間隔内")))) -> 現物未確認 | T11: =IF(V11="","",IF(W11<>0,NA(),IF(F11="保管中","保管記録",IF(F11="返却済","返却記録",IF(F11="未確認","利用未確認",IF(COUNTA(J11)=0,"期限未確認",IF(P11<0,"返却期限超過",IF(P11=0,"返却期日","貸出中")))))))) -> 貸出中 | U11: =IF(V11="","",IF(W11<>0,NA(),IF(OR(B11="未確認",D11="未確認",F11="未確認",G11="未確認",L11<>"確認済",M11="未確認",S11="確認間隔超過",AND(F11="貸出中",OR(COUNTA(J11)=0,P11<=0))),1,0))) -> 1 | V11: =IF(COUNTA(A11:O11)=0,"",IF(NOT(AND(ISTEXT(A11),LEN(A11)=8,EXACT(LEFT(A11,4),"AST-"),ISNUMBER(FIND(MID(A11,5,1)&"x","0x1x2x3x4x5x6x7x8x9x")),ISNUMBER(FIND(MID(A11,6,1)&"x","0x1x2x3x4x5x6x7x8x9x")),ISNUMBER(FIND(MID(A11,7,1)&"x","0x1x2x3x4x5x6x7x8x9x")),ISNUMBER(FIND(MID(A11,8,1)&"x","0x1x2x3x4x5x6x7x8x9x")))),"備品IDはAST-と半角数字4桁",IF(COUNTIFS($A$8:$A$57,A11)>1,"備品IDが重複",IF(NOT(OR(B11="PC",B11="周辺機器",B11="工具",B11="その他",B11="未確認")),"種類を確認",IF(NOT(AND(ISTEXT(C11),LEN(C11)=8,EXACT(LEFT(C11,4),"LOC-"),ISNUMBER(FIND(MID(C11,5,1)&"x","0x1x2x3x4x5x6x7x8x9x")),ISNUMBER(FIND(MID(C11,6,1)&"x","0x1x2x3x4x5x6x7x8x9x")),ISNUMBER(FIND(MID(C11,7,1)&"x","0x1x2x3x4x5x6x7x8x9x")),ISNUMBER(FIND(MID(C11,8,1)&"x","0x1x2x3x4x5x6x7x8x9x")))),"登録保管先IDはLOC-と半角数字4桁",IF(NOT(OR(D11="確認済",D11="未確認")),"所在区分を確認",IF(AND(D11="確認済",NOT(AND(ISTEXT(E11),LEN(E11)=8,EXACT(LEFT(E11,4),"LOC-"),ISNUMBER(FIND(MID(E11,5,1)&"x","0x1x2x3x4x5x6x7x8x9x")),ISNUMBER(FIND(MID(E11,6,1)&"x","0x1x2x3x4x5x6x7x8x9x")),ISNUMBER(FIND(MID(E11,7,1)&"x","0x1x2x3x4x5x6x7x8x9x")),ISNUMBER(FIND(MID(E11,8,1)&"x","0x1x2x3x4x5x6x7x8x9x"))))),"確認済所在IDが必須",IF(AND(D11="未確認",COUNTA(E11)>0),"所在未確認は所在ID空欄",IF(NOT(OR(F11="保管中",F11="貸出中",F11="返却済",F11="未確認")),"利用区分を確認",IF(AND(F11="保管中",NOT(AND(G11="対象外",COUNTA(H11:K11)=0))),"保管中の借用者は対象外/貸出欄は空欄",IF(AND(F11<>"保管中",NOT(OR(G11="確認済",G11="未確認"))),"借用者を確認/未確認で記録",IF(AND(G11="確認済",NOT(AND(ISTEXT(H11),LEN(H11)=8,EXACT(LEFT(H11,4),"PER-"),ISNUMBER(FIND(MID(H11,5,1)&"x","0x1x2x3x4x5x6x7x8x9x")),ISNUMBER(FIND(MID(H11,6,1)&"x","0x1x2x3x4x5x6x7x8x9x")),ISNUMBER(FIND(MID(H11,7,1)&"x","0x1x2x3x4x5x6x7x8x9x")),ISNUMBER(FIND(MID(H11,8,1)&"x","0x1x2x3x4x5x6x7x8x9x"))))),"確認済借用者IDが必須",IF(AND(G11<>"確認済",COUNTA(H11)>0),"未確認/対象外の借用者IDは空欄",IF(AND(OR(F11="貸出中",F11="返却済"),NOT(IF(ISNUMBER(I11),AND(I11>=43831,I11<=73050,I11=INT(I11)),FALSE()))),"貸出日が必須",IF(AND(COUNTA(I11)>0,NOT(IF(ISNUMBER(I11),AND(I11>=43831,I11<=73050,I11=INT(I11)),FALSE()))),"貸出日は2020〜2099年/時刻なし",IF(AND(COUNTA(J11)>0,NOT(IF(ISNUMBER(J11),AND(J11>=43831,J11<=73050,J11=INT(J11)),FALSE()))),"返却期日は2020〜2099年/時刻なし",IF(AND(COUNTA(J11)>0,OR(COUNTA(I11)=0,J11<I11)),"期日は貸出日以上/貸出日必須",IF(AND(F11="返却済",NOT(IF(ISNUMBER(K11),AND(K11>=43831,K11<=73050,K11=INT(K11)),FALSE()))),"返却済の返却日が必須",IF(AND(F11<>"返却済",COUNTA(K11)>0),"返却済以外の返却日は空欄",IF(AND(F11="返却済",K11<I11),"返却日は貸出日以上",IF(NOT(OR(L11="確認済",L11="要対応",L11="未確認")),"状態確認を記録",IF(NOT(OR(M11="確認済",M11="未確認")),"現物区分を確認",IF(AND(M11="確認済",NOT(IF(ISNUMBER(N11),AND(N11>=43831,N11<=73050,N11=INT(N11)),FALSE()))),"現物確認日が必須",IF(AND(M11="未確認",COUNTA(N11)>0),"現物未確認の日付は空欄",IF(NOT(IF(ISNUMBER(O11),AND(O11>=43831,O11<=73050,O11=INT(O11)),FALSE())),"記録確認日が必須",IF(OR(O11>備品の確認!$B$3,AND(COUNTA(I11)>0,I11>O11),AND(F11="返却済",K11>O11),AND(M11="確認済",N11>O11)),"貸出/返却/現物日≦記録確認日≦基準日","確認済み")))))))))))))))))))))))))) -> 確認済み | W11: =IF(V11="","",IF(V11="確認済み",0,1)) -> 0 | X11: =IF(COUNTA(A11:O11)=0,IF(AND(V11="",W11="",P11="",Q11="",R11="",S11="",T11="",U11=""),0,1),IF(NOT(AND(ISTEXT(V11),V11=IF(COUNTA(A11:O11)=0,"",IF(NOT(AND(ISTEXT(A11),LEN(A11)=8,EXACT(LEFT(A11,4),"AST-"),ISNUMBER(FIND(MID(A11,5,1)&"x","0x1x2x3x4x5x6x7x8x9x")),ISNUMBER(FIND(MID(A11,6,1)&"x","0x1x2x3x4x5x6x7x8x9x")),ISNUMBER(FIND(MID(A11,7,1)&"x","0x1x2x3x4x5x6x7x8x9x")),ISNUMBER(FIND(MID(A11,8,1)&"x","0x1x2x3x4x5x6x7x8x9x")))),"備品IDはAST-と半角数字4桁",IF(COUNTIFS($A$8:$A$57,A11)>1,"備品IDが重複",IF(NOT(OR(B11="PC",B11="周辺機器",B11="工具",B11="その他",B11="未確認")),"種類を確認",IF(NOT(AND(ISTEXT(C11),LEN(C11)=8,EXACT(LEFT(C11,4),"LOC-"),ISNUMBER(FIND(MID(C11,5,1)&"x","0x1x2x3x4x5x6x7x8x9x")),ISNUMBER(FIND(MID(C11,6,1)&"x","0x1x2x3x4x5x6x7x8x9x")),ISNUMBER(FIND(MID(C11,7,1)&"x","0x1x2x3x4x5x6x7x8x9x")),ISNUMBER(FIND(MID(C11,8,1)&"x","0x1x2x3x4x5x6x7x8x9x")))),"登録保管先IDはLOC-と半角数字4桁",IF(NOT(OR(D11="確認済",D11="未確認")),"所在区分を確認",IF(AND(D11="確認済",NOT(AND(ISTEXT(E11),LEN(E11)=8,EXACT(LEFT(E11,4),"LOC-"),ISNUMBER(FIND(MID(E11,5,1)&"x","0x1x2x3x4x5x6x7x8x9x")),ISNUMBER(FIND(MID(E11,6,1)&"x","0x1x2x3x4x5x6x7x8x9x")),ISNUMBER(FIND(MID(E11,7,1)&"x","0x1x2x3x4x5x6x7x8x9x")),ISNUMBER(FIND(MID(E11,8,1)&"x","0x1x2x3x4x5x6x7x8x9x"))))),"確認済所在IDが必須",IF(AND(D11="未確認",COUNTA(E11)>0),"所在未確認は所在ID空欄",IF(NOT(OR(F11="保管中",F11="貸出中",F11="返却済",F11="未確認")),"利用区分を確認",IF(AND(F11="保管中",NOT(AND(G11="対象外",COUNTA(H11:K11)=0))),"保管中の借用者は対象外/貸出欄は空欄",IF(AND(F11<>"保管中",NOT(OR(G11="確認済",G11="未確認"))),"借用者を確認/未確認で記録",IF(AND(G11="確認済",NOT(AND(ISTEXT(H11),LEN(H11)=8,EXACT(LEFT(H11,4),"PER-"),ISNUMBER(FIND(MID(H11,5,1)&"x","0x1x2x3x4x5x6x7x8x9x")),ISNUMBER(FIND(MID(H11,6,1)&"x","0x1x2x3x4x5x6x7x8x9x")),ISNUMBER(FIND(MID(H11,7,1)&"x","0x1x2x3x4x5x6x7x8x9x")),ISNUMBER(FIND(MID(H11,8,1)&"x","0x1x2x3x4x5x6x7x8x9x"))))),"確認済借用者IDが必須",IF(AND(G11<>"確認済",COUNTA(H11)>0),"未確認/対象外の借用者IDは空欄",IF(AND(OR(F11="貸出中",F11="返却済"),NOT(IF(ISNUMBER(I11),AND(I11>=43831,I11<=73050,I11=INT(I11)),FALSE()))),"貸出日が必須",IF(AND(COUNTA(I11)>0,NOT(IF(ISNUMBER(I11),AND(I11>=43831,I11<=73050,I11=INT(I11)),FALSE()))),"貸出日は2020〜2099年/時刻なし",IF(AND(COUNTA(J11)>0,NOT(IF(ISNUMBER(J11),AND(J11>=43831,J11<=73050,J11=INT(J11)),FALSE()))),"返却期日は2020〜2099年/時刻なし",IF(AND(COUNTA(J11)>0,OR(COUNTA(I11)=0,J11<I11)),"期日は貸出日以上/貸出日必須",IF(AND(F11="返却済",NOT(IF(ISNUMBER(K11),AND(K11>=43831,K11<=73050,K11=INT(K11)),FALSE()))),"返却済の返却日が必須",IF(AND(F11<>"返却済",COUNTA(K11)>0),"返却済以外の返却日は空欄",IF(AND(F11="返却済",K11<I11),"返却日は貸出日以上",IF(NOT(OR(L11="確認済",L11="要対応",L11="未確認")),"状態確認を記録",IF(NOT(OR(M11="確認済",M11="未確認")),"現物区分を確認",IF(AND(M11="確認済",NOT(IF(ISNUMBER(N11),AND(N11>=43831,N11<=73050,N11=INT(N11)),FALSE()))),"現物確認日が必須",IF(AND(M11="未確認",COUNTA(N11)>0),"現物未確認の日付は空欄",IF(NOT(IF(ISNUMBER(O11),AND(O11>=43831,O11<=73050,O11=INT(O11)),FALSE())),"記録確認日が必須",IF(OR(O11>備品の確認!$B$3,AND(COUNTA(I11)>0,I11>O11),AND(F11="返却済",K11>O11),AND(M11="確認済",N11>O11)),"貸出/返却/現物日≦記録確認日≦基準日","確認済み")))))))))))))))))))))))))),ISNUMBER(W11),W11=IF(V11="確認済み",0,1))),1,IF(W11<>0,0,IF(AND(IF(AND(F11="貸出中",COUNTA(J11)>0),ISNUMBER(P11),ISTEXT(P11)),P11=IF(AND(F11="貸出中",COUNTA(J11)>0),J11-備品の確認!$B$3,""),IF(AND(F11="返却済",COUNTA(J11)>0),ISNUMBER(Q11),ISTEXT(Q11)),Q11=IF(AND(F11="返却済",COUNTA(J11)>0),K11-J11,""),IF(M11="確認済",ISNUMBER(R11),ISTEXT(R11)),R11=IF(M11="確認済",備品の確認!$B$3-N11,""),ISTEXT(S11),S11=IF(M11="未確認","現物未確認",IF(R11>備品の確認!$E$3,"確認間隔超過","確認間隔内")),ISTEXT(T11),T11=IF(F11="保管中","保管記録",IF(F11="返却済","返却記録",IF(F11="未確認","利用未確認",IF(COUNTA(J11)=0,"期限未確認",IF(P11<0,"返却期限超過",IF(P11=0,"返却期日","貸出中")))))),ISNUMBER(U11),U11=IF(OR(B11="未確認",D11="未確認",F11="未確認",G11="未確認",L11<>"確認済",M11="未確認",S11="確認間隔超過",AND(F11="貸出中",OR(COUNTA(J11)=0,P11<=0))),1,0)),0,1)))) -> 0
A12: AST-0005 | B12: その他 | C12: LOC-0002 | D12: 確認済 | E12: LOC-0005 | F12: 貸出中 | G12: 確認済 | H12: PER-0003 | I12: 46315 | L12: 要対応 | M12: 確認済 | N12: 46326 | O12: 46326 | P12: =IF(V12="","",IF(W12<>0,NA(),IF(AND(F12="貸出中",COUNTA(J12)>0),J12-備品の確認!$B$3,""))) | Q12: =IF(V12="","",IF(W12<>0,NA(),IF(AND(F12="返却済",COUNTA(J12)>0),K12-J12,""))) | R12: =IF(V12="","",IF(W12<>0,NA(),IF(M12="確認済",備品の確認!$B$3-N12,""))) -> 0 | S12: =IF(V12="","",IF(W12<>0,NA(),IF(M12="未確認","現物未確認",IF(R12>備品の確認!$E$3,"確認間隔超過","確認間隔内")))) -> 確認間隔内 | T12: =IF(V12="","",IF(W12<>0,NA(),IF(F12="保管中","保管記録",IF(F12="返却済","返却記録",IF(F12="未確認","利用未確認",IF(COUNTA(J12)=0,"期限未確認",IF(P12<0,"返却期限超過",IF(P12=0,"返却期日","貸出中")))))))) -> 期限未確認 | U12: =IF(V12="","",IF(W12<>0,NA(),IF(OR(B12="未確認",D12="未確認",F12="未確認",G12="未確認",L12<>"確認済",M12="未確認",S12="確認間隔超過",AND(F12="貸出中",OR(COUNTA(J12)=0,P12<=0))),1,0))) -> 1 | V12: =IF(COUNTA(A12:O12)=0,"",IF(NOT(AND(ISTEXT(A12),LEN(A12)=8,EXACT(LEFT(A12,4),"AST-"),ISNUMBER(FIND(MID(A12,5,1)&"x","0x1x2x3x4x5x6x7x8x9x")),ISNUMBER(FIND(MID(A12,6,1)&"x","0x1x2x3x4x5x6x7x8x9x")),ISNUMBER(FIND(MID(A12,7,1)&"x","0x1x2x3x4x5x6x7x8x9x")),ISNUMBER(FIND(MID(A12,8,1)&"x","0x1x2x3x4x5x6x7x8x9x")))),"備品IDはAST-と半角数字4桁",IF(COUNTIFS($A$8:$A$57,A12)>1,"備品IDが重複",IF(NOT(OR(B12="PC",B12="周辺機器",B12="工具",B12="その他",B12="未確認")),"種類を確認",IF(NOT(AND(ISTEXT(C12),LEN(C12)=8,EXACT(LEFT(C12,4),"LOC-"),ISNUMBER(FIND(MID(C12,5,1)&"x","0x1x2x3x4x5x6x7x8x9x")),ISNUMBER(FIND(MID(C12,6,1)&"x","0x1x2x3x4x5x6x7x8x9x")),ISNUMBER(FIND(MID(C12,7,1)&"x","0x1x2x3x4x5x6x7x8x9x")),ISNUMBER(FIND(MID(C12,8,1)&"x","0x1x2x3x4x5x6x7x8x9x")))),"登録保管先IDはLOC-と半角数字4桁",IF(NOT(OR(D12="確認済",D12="未確認")),"所在区分を確認",IF(AND(D12="確認済",NOT(AND(ISTEXT(E12),LEN(E12)=8,EXACT(LEFT(E12,4),"LOC-"),ISNUMBER(FIND(MID(E12,5,1)&"x","0x1x2x3x4x5x6x7x8x9x")),ISNUMBER(FIND(MID(E12,6,1)&"x","0x1x2x3x4x5x6x7x8x9x")),ISNUMBER(FIND(MID(E12,7,1)&"x","0x1x2x3x4x5x6x7x8x9x")),ISNUMBER(FIND(MID(E12,8,1)&"x","0x1x2x3x4x5x6x7x8x9x"))))),"確認済所在IDが必須",IF(AND(D12="未確認",COUNTA(E12)>0),"所在未確認は所在ID空欄",IF(NOT(OR(F12="保管中",F12="貸出中",F12="返却済",F12="未確認")),"利用区分を確認",IF(AND(F12="保管中",NOT(AND(G12="対象外",COUNTA(H12:K12)=0))),"保管中の借用者は対象外/貸出欄は空欄",IF(AND(F12<>"保管中",NOT(OR(G12="確認済",G12="未確認"))),"借用者を確認/未確認で記録",IF(AND(G12="確認済",NOT(AND(ISTEXT(H12),LEN(H12)=8,EXACT(LEFT(H12,4),"PER-"),ISNUMBER(FIND(MID(H12,5,1)&"x","0x1x2x3x4x5x6x7x8x9x")),ISNUMBER(FIND(MID(H12,6,1)&"x","0x1x2x3x4x5x6x7x8x9x")),ISNUMBER(FIND(MID(H12,7,1)&"x","0x1x2x3x4x5x6x7x8x9x")),ISNUMBER(FIND(MID(H12,8,1)&"x","0x1x2x3x4x5x6x7x8x9x"))))),"確認済借用者IDが必須",IF(AND(G12<>"確認済",COUNTA(H12)>0),"未確認/対象外の借用者IDは空欄",IF(AND(OR(F12="貸出中",F12="返却済"),NOT(IF(ISNUMBER(I12),AND(I12>=43831,I12<=73050,I12=INT(I12)),FALSE()))),"貸出日が必須",IF(AND(COUNTA(I12)>0,NOT(IF(ISNUMBER(I12),AND(I12>=43831,I12<=73050,I12=INT(I12)),FALSE()))),"貸出日は2020〜2099年/時刻なし",IF(AND(COUNTA(J12)>0,NOT(IF(ISNUMBER(J12),AND(J12>=43831,J12<=73050,J12=INT(J12)),FALSE()))),"返却期日は2020〜2099年/時刻なし",IF(AND(COUNTA(J12)>0,OR(COUNTA(I12)=0,J12<I12)),"期日は貸出日以上/貸出日必須",IF(AND(F12="返却済",NOT(IF(ISNUMBER(K12),AND(K12>=43831,K12<=73050,K12=INT(K12)),FALSE()))),"返却済の返却日が必須",IF(AND(F12<>"返却済",COUNTA(K12)>0),"返却済以外の返却日は空欄",IF(AND(F12="返却済",K12<I12),"返却日は貸出日以上",IF(NOT(OR(L12="確認済",L12="要対応",L12="未確認")),"状態確認を記録",IF(NOT(OR(M12="確認済",M12="未確認")),"現物区分を確認",IF(AND(M12="確認済",NOT(IF(ISNUMBER(N12),AND(N12>=43831,N12<=73050,N12=INT(N12)),FALSE()))),"現物確認日が必須",IF(AND(M12="未確認",COUNTA(N12)>0),"現物未確認の日付は空欄",IF(NOT(IF(ISNUMBER(O12),AND(O12>=43831,O12<=73050,O12=INT(O12)),FALSE())),"記録確認日が必須",IF(OR(O12>備品の確認!$B$3,AND(COUNTA(I12)>0,I12>O12),AND(F12="返却済",K12>O12),AND(M12="確認済",N12>O12)),"貸出/返却/現物日≦記録確認日≦基準日","確認済み")))))))))))))))))))))))))) -> 確認済み | W12: =IF(V12="","",IF(V12="確認済み",0,1)) -> 0 | X12: =IF(COUNTA(A12:O12)=0,IF(AND(V12="",W12="",P12="",Q12="",R12="",S12="",T12="",U12=""),0,1),IF(NOT(AND(ISTEXT(V12),V12=IF(COUNTA(A12:O12)=0,"",IF(NOT(AND(ISTEXT(A12),LEN(A12)=8,EXACT(LEFT(A12,4),"AST-"),ISNUMBER(FIND(MID(A12,5,1)&"x","0x1x2x3x4x5x6x7x8x9x")),ISNUMBER(FIND(MID(A12,6,1)&"x","0x1x2x3x4x5x6x7x8x9x")),ISNUMBER(FIND(MID(A12,7,1)&"x","0x1x2x3x4x5x6x7x8x9x")),ISNUMBER(FIND(MID(A12,8,1)&"x","0x1x2x3x4x5x6x7x8x9x")))),"備品IDはAST-と半角数字4桁",IF(COUNTIFS($A$8:$A$57,A12)>1,"備品IDが重複",IF(NOT(OR(B12="PC",B12="周辺機器",B12="工具",B12="その他",B12="未確認")),"種類を確認",IF(NOT(AND(ISTEXT(C12),LEN(C12)=8,EXACT(LEFT(C12,4),"LOC-"),ISNUMBER(FIND(MID(C12,5,1)&"x","0x1x2x3x4x5x6x7x8x9x")),ISNUMBER(FIND(MID(C12,6,1)&"x","0x1x2x3x4x5x6x7x8x9x")),ISNUMBER(FIND(MID(C12,7,1)&"x","0x1x2x3x4x5x6x7x8x9x")),ISNUMBER(FIND(MID(C12,8,1)&"x","0x1x2x3x4x5x6x7x8x9x")))),"登録保管先IDはLOC-と半角数字4桁",IF(NOT(OR(D12="確認済",D12="未確認")),"所在区分を確認",IF(AND(D12="確認済",NOT(AND(ISTEXT(E12),LEN(E12)=8,EXACT(LEFT(E12,4),"LOC-"),ISNUMBER(FIND(MID(E12,5,1)&"x","0x1x2x3x4x5x6x7x8x9x")),ISNUMBER(FIND(MID(E12,6,1)&"x","0x1x2x3x4x5x6x7x8x9x")),ISNUMBER(FIND(MID(E12,7,1)&"x","0x1x2x3x4x5x6x7x8x9x")),ISNUMBER(FIND(MID(E12,8,1)&"x","0x1x2x3x4x5x6x7x8x9x"))))),"確認済所在IDが必須",IF(AND(D12="未確認",COUNTA(E12)>0),"所在未確認は所在ID空欄",IF(NOT(OR(F12="保管中",F12="貸出中",F12="返却済",F12="未確認")),"利用区分を確認",IF(AND(F12="保管中",NOT(AND(G12="対象外",COUNTA(H12:K12)=0))),"保管中の借用者は対象外/貸出欄は空欄",IF(AND(F12<>"保管中",NOT(OR(G12="確認済",G12="未確認"))),"借用者を確認/未確認で記録",IF(AND(G12="確認済",NOT(AND(ISTEXT(H12),LEN(H12)=8,EXACT(LEFT(H12,4),"PER-"),ISNUMBER(FIND(MID(H12,5,1)&"x","0x1x2x3x4x5x6x7x8x9x")),ISNUMBER(FIND(MID(H12,6,1)&"x","0x1x2x3x4x5x6x7x8x9x")),ISNUMBER(FIND(MID(H12,7,1)&"x","0x1x2x3x4x5x6x7x8x9x")),ISNUMBER(FIND(MID(H12,8,1)&"x","0x1x2x3x4x5x6x7x8x9x"))))),"確認済借用者IDが必須",IF(AND(G12<>"確認済",COUNTA(H12)>0),"未確認/対象外の借用者IDは空欄",IF(AND(OR(F12="貸出中",F12="返却済"),NOT(IF(ISNUMBER(I12),AND(I12>=43831,I12<=73050,I12=INT(I12)),FALSE()))),"貸出日が必須",IF(AND(COUNTA(I12)>0,NOT(IF(ISNUMBER(I12),AND(I12>=43831,I12<=73050,I12=INT(I12)),FALSE()))),"貸出日は2020〜2099年/時刻なし",IF(AND(COUNTA(J12)>0,NOT(IF(ISNUMBER(J12),AND(J12>=43831,J12<=73050,J12=INT(J12)),FALSE()))),"返却期日は2020〜2099年/時刻なし",IF(AND(COUNTA(J12)>0,OR(COUNTA(I12)=0,J12<I12)),"期日は貸出日以上/貸出日必須",IF(AND(F12="返却済",NOT(IF(ISNUMBER(K12),AND(K12>=43831,K12<=73050,K12=INT(K12)),FALSE()))),"返却済の返却日が必須",IF(AND(F12<>"返却済",COUNTA(K12)>0),"返却済以外の返却日は空欄",IF(AND(F12="返却済",K12<I12),"返却日は貸出日以上",IF(NOT(OR(L12="確認済",L12="要対応",L12="未確認")),"状態確認を記録",IF(NOT(OR(M12="確認済",M12="未確認")),"現物区分を確認",IF(AND(M12="確認済",NOT(IF(ISNUMBER(N12),AND(N12>=43831,N12<=73050,N12=INT(N12)),FALSE()))),"現物確認日が必須",IF(AND(M12="未確認",COUNTA(N12)>0),"現物未確認の日付は空欄",IF(NOT(IF(ISNUMBER(O12),AND(O12>=43831,O12<=73050,O12=INT(O12)),FALSE())),"記録確認日が必須",IF(OR(O12>備品の確認!$B$3,AND(COUNTA(I12)>0,I12>O12),AND(F12="返却済",K12>O12),AND(M12="確認済",N12>O12)),"貸出/返却/現物日≦記録確認日≦基準日","確認済み")))))))))))))))))))))))))),ISNUMBER(W12),W12=IF(V12="確認済み",0,1))),1,IF(W12<>0,0,IF(AND(IF(AND(F12="貸出中",COUNTA(J12)>0),ISNUMBER(P12),ISTEXT(P12)),P12=IF(AND(F12="貸出中",COUNTA(J12)>0),J12-備品の確認!$B$3,""),IF(AND(F12="返却済",COUNTA(J12)>0),ISNUMBER(Q12),ISTEXT(Q12)),Q12=IF(AND(F12="返却済",COUNTA(J12)>0),K12-J12,""),IF(M12="確認済",ISNUMBER(R12),ISTEXT(R12)),R12=IF(M12="確認済",備品の確認!$B$3-N12,""),ISTEXT(S12),S12=IF(M12="未確認","現物未確認",IF(R12>備品の確認!$E$3,"確認間隔超過","確認間隔内")),ISTEXT(T12),T12=IF(F12="保管中","保管記録",IF(F12="返却済","返却記録",IF(F12="未確認","利用未確認",IF(COUNTA(J12)=0,"期限未確認",IF(P12<0,"返却期限超過",IF(P12=0,"返却期日","貸出中")))))),ISNUMBER(U12),U12=IF(OR(B12="未確認",D12="未確認",F12="未確認",G12="未確認",L12<>"確認済",M12="未確認",S12="確認間隔超過",AND(F12="貸出中",OR(COUNTA(J12)=0,P12<=0))),1,0)),0,1)))) -> 0
A13: AST-0006 | B13: PC | C13: LOC-0002 | D13: 確認済 | E13: LOC-0002 | F13: 返却済 | G13: 確認済 | H13: PER-0004 | I13: 46296 | J13: 46315 | K13: 46320 | L13: 要対応 | M13: 未確認 | O13: 46326 | P13: =IF(V13="","",IF(W13<>0,NA(),IF(AND(F13="貸出中",COUNTA(J13)>0),J13-備品の確認!$B$3,""))) | Q13: =IF(V13="","",IF(W13<>0,NA(),IF(AND(F13="返却済",COUNTA(J13)>0),K13-J13,""))) -> 5 | R13: =IF(V13="","",IF(W13<>0,NA(),IF(M13="確認済",備品の確認!$B$3-N13,""))) | S13: =IF(V13="","",IF(W13<>0,NA(),IF(M13="未確認","現物未確認",IF(R13>備品の確認!$E$3,"確認間隔超過","確認間隔内")))) -> 現物未確認 | T13: =IF(V13="","",IF(W13<>0,NA(),IF(F13="保管中","保管記録",IF(F13="返却済","返却記録",IF(F13="未確認","利用未確認",IF(COUNTA(J13)=0,"期限未確認",IF(P13<0,"返却期限超過",IF(P13=0,"返却期日","貸出中")))))))) -> 返却記録 | U13: =IF(V13="","",IF(W13<>0,NA(),IF(OR(B13="未確認",D13="未確認",F13="未確認",G13="未確認",L13<>"確認済",M13="未確認",S13="確認間隔超過",AND(F13="貸出中",OR(COUNTA(J13)=0,P13<=0))),1,0))) -> 1 | V13: =IF(COUNTA(A13:O13)=0,"",IF(NOT(AND(ISTEXT(A13),LEN(A13)=8,EXACT(LEFT(A13,4),"AST-"),ISNUMBER(FIND(MID(A13,5,1)&"x","0x1x2x3x4x5x6x7x8x9x")),ISNUMBER(FIND(MID(A13,6,1)&"x","0x1x2x3x4x5x6x7x8x9x")),ISNUMBER(FIND(MID(A13,7,1)&"x","0x1x2x3x4x5x6x7x8x9x")),ISNUMBER(FIND(MID(A13,8,1)&"x","0x1x2x3x4x5x6x7x8x9x")))),"備品IDはAST-と半角数字4桁",IF(COUNTIFS($A$8:$A$57,A13)>1,"備品IDが重複",IF(NOT(OR(B13="PC",B13="周辺機器",B13="工具",B13="その他",B13="未確認")),"種類を確認",IF(NOT(AND(ISTEXT(C13),LEN(C13)=8,EXACT(LEFT(C13,4),"LOC-"),ISNUMBER(FIND(MID(C13,5,1)&"x","0x1x2x3x4x5x6x7x8x9x")),ISNUMBER(FIND(MID(C13,6,1)&"x","0x1x2x3x4x5x6x7x8x9x")),ISNUMBER(FIND(MID(C13,7,1)&"x","0x1x2x3x4x5x6x7x8x9x")),ISNUMBER(FIND(MID(C13,8,1)&"x","0x1x2x3x4x5x6x7x8x9x")))),"登録保管先IDはLOC-と半角数字4桁",IF(NOT(OR(D13="確認済",D13="未確認")),"所在区分を確認",IF(AND(D13="確認済",NOT(AND(ISTEXT(E13),LEN(E13)=8,EXACT(LEFT(E13,4),"LOC-"),ISNUMBER(FIND(MID(E13,5,1)&"x","0x1x2x3x4x5x6x7x8x9x")),ISNUMBER(FIND(MID(E13,6,1)&"x","0x1x2x3x4x5x6x7x8x9x")),ISNUMBER(FIND(MID(E13,7,1)&"x","0x1x2x3x4x5x6x7x8x9x")),ISNUMBER(FIND(MID(E13,8,1)&"x","0x1x2x3x4x5x6x7x8x9x"))))),"確認済所在IDが必須",IF(AND(D13="未確認",COUNTA(E13)>0),"所在未確認は所在ID空欄",IF(NOT(OR(F13="保管中",F13="貸出中",F13="返却済",F13="未確認")),"利用区分を確認",IF(AND(F13="保管中",NOT(AND(G13="対象外",COUNTA(H13:K13)=0))),"保管中の借用者は対象外/貸出欄は空欄",IF(AND(F13<>"保管中",NOT(OR(G13="確認済",G13="未確認"))),"借用者を確認/未確認で記録",IF(AND(G13="確認済",NOT(AND(ISTEXT(H13),LEN(H13)=8,EXACT(LEFT(H13,4),"PER-"),ISNUMBER(FIND(MID(H13,5,1)&"x","0x1x2x3x4x5x6x7x8x9x")),ISNUMBER(FIND(MID(H13,6,1)&"x","0x1x2x3x4x5x6x7x8x9x")),ISNUMBER(FIND(MID(H13,7,1)&"x","0x1x2x3x4x5x6x7x8x9x")),ISNUMBER(FIND(MID(H13,8,1)&"x","0x1x2x3x4x5x6x7x8x9x"))))),"確認済借用者IDが必須",IF(AND(G13<>"確認済",COUNTA(H13)>0),"未確認/対象外の借用者IDは空欄",IF(AND(OR(F13="貸出中",F13="返却済"),NOT(IF(ISNUMBER(I13),AND(I13>=43831,I13<=73050,I13=INT(I13)),FALSE()))),"貸出日が必須",IF(AND(COUNTA(I13)>0,NOT(IF(ISNUMBER(I13),AND(I13>=43831,I13<=73050,I13=INT(I13)),FALSE()))),"貸出日は2020〜2099年/時刻なし",IF(AND(COUNTA(J13)>0,NOT(IF(ISNUMBER(J13),AND(J13>=43831,J13<=73050,J13=INT(J13)),FALSE()))),"返却期日は2020〜2099年/時刻なし",IF(AND(COUNTA(J13)>0,OR(COUNTA(I13)=0,J13<I13)),"期日は貸出日以上/貸出日必須",IF(AND(F13="返却済",NOT(IF(ISNUMBER(K13),AND(K13>=43831,K13<=73050,K13=INT(K13)),FALSE()))),"返却済の返却日が必須",IF(AND(F13<>"返却済",COUNTA(K13)>0),"返却済以外の返却日は空欄",IF(AND(F13="返却済",K13<I13),"返却日は貸出日以上",IF(NOT(OR(L13="確認済",L13="要対応",L13="未確認")),"状態確認を記録",IF(NOT(OR(M13="確認済",M13="未確認")),"現物区分を確認",IF(AND(M13="確認済",NOT(IF(ISNUMBER(N13),AND(N13>=43831,N13<=73050,N13=INT(N13)),FALSE()))),"現物確認日が必須",IF(AND(M13="未確認",COUNTA(N13)>0),"現物未確認の日付は空欄",IF(NOT(IF(ISNUMBER(O13),AND(O13>=43831,O13<=73050,O13=INT(O13)),FALSE())),"記録確認日が必須",IF(OR(O13>備品の確認!$B$3,AND(COUNTA(I13)>0,I13>O13),AND(F13="返却済",K13>O13),AND(M13="確認済",N13>O13)),"貸出/返却/現物日≦記録確認日≦基準日","確認済み")))))))))))))))))))))))))) -> 確認済み | W13: =IF(V13="","",IF(V13="確認済み",0,1)) -> 0 | X13: =IF(COUNTA(A13:O13)=0,IF(AND(V13="",W13="",P13="",Q13="",R13="",S13="",T13="",U13=""),0,1),IF(NOT(AND(ISTEXT(V13),V13=IF(COUNTA(A13:O13)=0,"",IF(NOT(AND(ISTEXT(A13),LEN(A13)=8,EXACT(LEFT(A13,4),"AST-"),ISNUMBER(FIND(MID(A13,5,1)&"x","0x1x2x3x4x5x6x7x8x9x")),ISNUMBER(FIND(MID(A13,6,1)&"x","0x1x2x3x4x5x6x7x8x9x")),ISNUMBER(FIND(MID(A13,7,1)&"x","0x1x2x3x4x5x6x7x8x9x")),ISNUMBER(FIND(MID(A13,8,1)&"x","0x1x2x3x4x5x6x7x8x9x")))),"備品IDはAST-と半角数字4桁",IF(COUNTIFS($A$8:$A$57,A13)>1,"備品IDが重複",IF(NOT(OR(B13="PC",B13="周辺機器",B13="工具",B13="その他",B13="未確認")),"種類を確認",IF(NOT(AND(ISTEXT(C13),LEN(C13)=8,EXACT(LEFT(C13,4),"LOC-"),ISNUMBER(FIND(MID(C13,5,1)&"x","0x1x2x3x4x5x6x7x8x9x")),ISNUMBER(FIND(MID(C13,6,1)&"x","0x1x2x3x4x5x6x7x8x9x")),ISNUMBER(FIND(MID(C13,7,1)&"x","0x1x2x3x4x5x6x7x8x9x")),ISNUMBER(FIND(MID(C13,8,1)&"x","0x1x2x3x4x5x6x7x8x9x")))),"登録保管先IDはLOC-と半角数字4桁",IF(NOT(OR(D13="確認済",D13="未確認")),"所在区分を確認",IF(AND(D13="確認済",NOT(AND(ISTEXT(E13),LEN(E13)=8,EXACT(LEFT(E13,4),"LOC-"),ISNUMBER(FIND(MID(E13,5,1)&"x","0x1x2x3x4x5x6x7x8x9x")),ISNUMBER(FIND(MID(E13,6,1)&"x","0x1x2x3x4x5x6x7x8x9x")),ISNUMBER(FIND(MID(E13,7,1)&"x","0x1x2x3x4x5x6x7x8x9x")),ISNUMBER(FIND(MID(E13,8,1)&"x","0x1x2x3x4x5x6x7x8x9x"))))),"確認済所在IDが必須",IF(AND(D13="未確認",COUNTA(E13)>0),"所在未確認は所在ID空欄",IF(NOT(OR(F13="保管中",F13="貸出中",F13="返却済",F13="未確認")),"利用区分を確認",IF(AND(F13="保管中",NOT(AND(G13="対象外",COUNTA(H13:K13)=0))),"保管中の借用者は対象外/貸出欄は空欄",IF(AND(F13<>"保管中",NOT(OR(G13="確認済",G13="未確認"))),"借用者を確認/未確認で記録",IF(AND(G13="確認済",NOT(AND(ISTEXT(H13),LEN(H13)=8,EXACT(LEFT(H13,4),"PER-"),ISNUMBER(FIND(MID(H13,5,1)&"x","0x1x2x3x4x5x6x7x8x9x")),ISNUMBER(FIND(MID(H13,6,1)&"x","0x1x2x3x4x5x6x7x8x9x")),ISNUMBER(FIND(MID(H13,7,1)&"x","0x1x2x3x4x5x6x7x8x9x")),ISNUMBER(FIND(MID(H13,8,1)&"x","0x1x2x3x4x5x6x7x8x9x"))))),"確認済借用者IDが必須",IF(AND(G13<>"確認済",COUNTA(H13)>0),"未確認/対象外の借用者IDは空欄",IF(AND(OR(F13="貸出中",F13="返却済"),NOT(IF(ISNUMBER(I13),AND(I13>=43831,I13<=73050,I13=INT(I13)),FALSE()))),"貸出日が必須",IF(AND(COUNTA(I13)>0,NOT(IF(ISNUMBER(I13),AND(I13>=43831,I13<=73050,I13=INT(I13)),FALSE()))),"貸出日は2020〜2099年/時刻なし",IF(AND(COUNTA(J13)>0,NOT(IF(ISNUMBER(J13),AND(J13>=43831,J13<=73050,J13=INT(J13)),FALSE()))),"返却期日は2020〜2099年/時刻なし",IF(AND(COUNTA(J13)>0,OR(COUNTA(I13)=0,J13<I13)),"期日は貸出日以上/貸出日必須",IF(AND(F13="返却済",NOT(IF(ISNUMBER(K13),AND(K13>=43831,K13<=73050,K13=INT(K13)),FALSE()))),"返却済の返却日が必須",IF(AND(F13<>"返却済",COUNTA(K13)>0),"返却済以外の返却日は空欄",IF(AND(F13="返却済",K13<I13),"返却日は貸出日以上",IF(NOT(OR(L13="確認済",L13="要対応",L13="未確認")),"状態確認を記録",IF(NOT(OR(M13="確認済",M13="未確認")),"現物区分を確認",IF(AND(M13="確認済",NOT(IF(ISNUMBER(N13),AND(N13>=43831,N13<=73050,N13=INT(N13)),FALSE()))),"現物確認日が必須",IF(AND(M13="未確認",COUNTA(N13)>0),"現物未確認の日付は空欄",IF(NOT(IF(ISNUMBER(O13),AND(O13>=43831,O13<=73050,O13=INT(O13)),FALSE())),"記録確認日が必須",IF(OR(O13>備品の確認!$B$3,AND(COUNTA(I13)>0,I13>O13),AND(F13="返却済",K13>O13),AND(M13="確認済",N13>O13)),"貸出/返却/現物日≦記録確認日≦基準日","確認済み")))))))))))))))))))))))))),ISNUMBER(W13),W13=IF(V13="確認済み",0,1))),1,IF(W13<>0,0,IF(AND(IF(AND(F13="貸出中",COUNTA(J13)>0),ISNUMBER(P13),ISTEXT(P13)),P13=IF(AND(F13="貸出中",COUNTA(J13)>0),J13-備品の確認!$B$3,""),IF(AND(F13="返却済",COUNTA(J13)>0),ISNUMBER(Q13),ISTEXT(Q13)),Q13=IF(AND(F13="返却済",COUNTA(J13)>0),K13-J13,""),IF(M13="確認済",ISNUMBER(R13),ISTEXT(R13)),R13=IF(M13="確認済",備品の確認!$B$3-N13,""),ISTEXT(S13),S13=IF(M13="未確認","現物未確認",IF(R13>備品の確認!$E$3,"確認間隔超過","確認間隔内")),ISTEXT(T13),T13=IF(F13="保管中","保管記録",IF(F13="返却済","返却記録",IF(F13="未確認","利用未確認",IF(COUNTA(J13)=0,"期限未確認",IF(P13<0,"返却期限超過",IF(P13=0,"返却期日","貸出中")))))),ISNUMBER(U13),U13=IF(OR(B13="未確認",D13="未確認",F13="未確認",G13="未確認",L13<>"確認済",M13="未確認",S13="確認間隔超過",AND(F13="貸出中",OR(COUNTA(J13)=0,P13<=0))),1,0)),0,1)))) -> 0
A14: AST-0007 | B14: 周辺機器 | C14: LOC-0001 | D14: 確認済 | E14: LOC-0001 | F14: 保管中 | G14: 対象外 | L14: 未確認 | M14: 未確認 | O14: 46326 | P14: =IF(V14="","",IF(W14<>0,NA(),IF(AND(F14="貸出中",COUNTA(J14)>0),J14-備品の確認!$B$3,""))) | Q14: =IF(V14="","",IF(W14<>0,NA(),IF(AND(F14="返却済",COUNTA(J14)>0),K14-J14,""))) | R14: =IF(V14="","",IF(W14<>0,NA(),IF(M14="確認済",備品の確認!$B$3-N14,""))) | S14: =IF(V14="","",IF(W14<>0,NA(),IF(M14="未確認","現物未確認",IF(R14>備品の確認!$E$3,"確認間隔超過","確認間隔内")))) -> 現物未確認 | T14: =IF(V14="","",IF(W14<>0,NA(),IF(F14="保管中","保管記録",IF(F14="返却済","返却記録",IF(F14="未確認","利用未確認",IF(COUNTA(J14)=0,"期限未確認",IF(P14<0,"返却期限超過",IF(P14=0,"返却期日","貸出中")))))))) -> 保管記録 | U14: =IF(V14="","",IF(W14<>0,NA(),IF(OR(B14="未確認",D14="未確認",F14="未確認",G14="未確認",L14<>"確認済",M14="未確認",S14="確認間隔超過",AND(F14="貸出中",OR(COUNTA(J14)=0,P14<=0))),1,0))) -> 1 | V14: =IF(COUNTA(A14:O14)=0,"",IF(NOT(AND(ISTEXT(A14),LEN(A14)=8,EXACT(LEFT(A14,4),"AST-"),ISNUMBER(FIND(MID(A14,5,1)&"x","0x1x2x3x4x5x6x7x8x9x")),ISNUMBER(FIND(MID(A14,6,1)&"x","0x1x2x3x4x5x6x7x8x9x")),ISNUMBER(FIND(MID(A14,7,1)&"x","0x1x2x3x4x5x6x7x8x9x")),ISNUMBER(FIND(MID(A14,8,1)&"x","0x1x2x3x4x5x6x7x8x9x")))),"備品IDはAST-と半角数字4桁",IF(COUNTIFS($A$8:$A$57,A14)>1,"備品IDが重複",IF(NOT(OR(B14="PC",B14="周辺機器",B14="工具",B14="その他",B14="未確認")),"種類を確認",IF(NOT(AND(ISTEXT(C14),LEN(C14)=8,EXACT(LEFT(C14,4),"LOC-"),ISNUMBER(FIND(MID(C14,5,1)&"x","0x1x2x3x4x5x6x7x8x9x")),ISNUMBER(FIND(MID(C14,6,1)&"x","0x1x2x3x4x5x6x7x8x9x")),ISNUMBER(FIND(MID(C14,7,1)&"x","0x1x2x3x4x5x6x7x8x9x")),ISNUMBER(FIND(MID(C14,8,1)&"x","0x1x2x3x4x5x6x7x8x9x")))),"登録保管先IDはLOC-と半角数字4桁",IF(NOT(OR(D14="確認済",D14="未確認")),"所在区分を確認",IF(AND(D14="確認済",NOT(AND(ISTEXT(E14),LEN(E14)=8,EXACT(LEFT(E14,4),"LOC-"),ISNUMBER(FIND(MID(E14,5,1)&"x","0x1x2x3x4x5x6x7x8x9x")),ISNUMBER(FIND(MID(E14,6,1)&"x","0x1x2x3x4x5x6x7x8x9x")),ISNUMBER(FIND(MID(E14,7,1)&"x","0x1x2x3x4x5x6x7x8x9x")),ISNUMBER(FIND(MID(E14,8,1)&"x","0x1x2x3x4x5x6x7x8x9x"))))),"確認済所在IDが必須",IF(AND(D14="未確認",COUNTA(E14)>0),"所在未確認は所在ID空欄",IF(NOT(OR(F14="保管中",F14="貸出中",F14="返却済",F14="未確認")),"利用区分を確認",IF(AND(F14="保管中",NOT(AND(G14="対象外",COUNTA(H14:K14)=0))),"保管中の借用者は対象外/貸出欄は空欄",IF(AND(F14<>"保管中",NOT(OR(G14="確認済",G14="未確認"))),"借用者を確認/未確認で記録",IF(AND(G14="確認済",NOT(AND(ISTEXT(H14),LEN(H14)=8,EXACT(LEFT(H14,4),"PER-"),ISNUMBER(FIND(MID(H14,5,1)&"x","0x1x2x3x4x5x6x7x8x9x")),ISNUMBER(FIND(MID(H14,6,1)&"x","0x1x2x3x4x5x6x7x8x9x")),ISNUMBER(FIND(MID(H14,7,1)&"x","0x1x2x3x4x5x6x7x8x9x")),ISNUMBER(FIND(MID(H14,8,1)&"x","0x1x2x3x4x5x6x7x8x9x"))))),"確認済借用者IDが必須",IF(AND(G14<>"確認済",COUNTA(H14)>0),"未確認/対象外の借用者IDは空欄",IF(AND(OR(F14="貸出中",F14="返却済"),NOT(IF(ISNUMBER(I14),AND(I14>=43831,I14<=73050,I14=INT(I14)),FALSE()))),"貸出日が必須",IF(AND(COUNTA(I14)>0,NOT(IF(ISNUMBER(I14),AND(I14>=43831,I14<=73050,I14=INT(I14)),FALSE()))),"貸出日は2020〜2099年/時刻なし",IF(AND(COUNTA(J14)>0,NOT(IF(ISNUMBER(J14),AND(J14>=43831,J14<=73050,J14=INT(J14)),FALSE()))),"返却期日は2020〜2099年/時刻なし",IF(AND(COUNTA(J14)>0,OR(COUNTA(I14)=0,J14<I14)),"期日は貸出日以上/貸出日必須",IF(AND(F14="返却済",NOT(IF(ISNUMBER(K14),AND(K14>=43831,K14<=73050,K14=INT(K14)),FALSE()))),"返却済の返却日が必須",IF(AND(F14<>"返却済",COUNTA(K14)>0),"返却済以外の返却日は空欄",IF(AND(F14="返却済",K14<I14),"返却日は貸出日以上",IF(NOT(OR(L14="確認済",L14="要対応",L14="未確認")),"状態確認を記録",IF(NOT(OR(M14="確認済",M14="未確認")),"現物区分を確認",IF(AND(M14="確認済",NOT(IF(ISNUMBER(N14),AND(N14>=43831,N14<=73050,N14=INT(N14)),FALSE()))),"現物確認日が必須",IF(AND(M14="未確認",COUNTA(N14)>0),"現物未確認の日付は空欄",IF(NOT(IF(ISNUMBER(O14),AND(O14>=43831,O14<=73050,O14=INT(O14)),FALSE())),"記録確認日が必須",IF(OR(O14>備品の確認!$B$3,AND(COUNTA(I14)>0,I14>O14),AND(F14="返却済",K14>O14),AND(M14="確認済",N14>O14)),"貸出/返却/現物日≦記録確認日≦基準日","確認済み")))))))))))))))))))))))))) -> 確認済み | W14: =IF(V14="","",IF(V14="確認済み",0,1)) -> 0 | X14: =IF(COUNTA(A14:O14)=0,IF(AND(V14="",W14="",P14="",Q14="",R14="",S14="",T14="",U14=""),0,1),IF(NOT(AND(ISTEXT(V14),V14=IF(COUNTA(A14:O14)=0,"",IF(NOT(AND(ISTEXT(A14),LEN(A14)=8,EXACT(LEFT(A14,4),"AST-"),ISNUMBER(FIND(MID(A14,5,1)&"x","0x1x2x3x4x5x6x7x8x9x")),ISNUMBER(FIND(MID(A14,6,1)&"x","0x1x2x3x4x5x6x7x8x9x")),ISNUMBER(FIND(MID(A14,7,1)&"x","0x1x2x3x4x5x6x7x8x9x")),ISNUMBER(FIND(MID(A14,8,1)&"x","0x1x2x3x4x5x6x7x8x9x")))),"備品IDはAST-と半角数字4桁",IF(COUNTIFS($A$8:$A$57,A14)>1,"備品IDが重複",IF(NOT(OR(B14="PC",B14="周辺機器",B14="工具",B14="その他",B14="未確認")),"種類を確認",IF(NOT(AND(ISTEXT(C14),LEN(C14)=8,EXACT(LEFT(C14,4),"LOC-"),ISNUMBER(FIND(MID(C14,5,1)&"x","0x1x2x3x4x5x6x7x8x9x")),ISNUMBER(FIND(MID(C14,6,1)&"x","0x1x2x3x4x5x6x7x8x9x")),ISNUMBER(FIND(MID(C14,7,1)&"x","0x1x2x3x4x5x6x7x8x9x")),ISNUMBER(FIND(MID(C14,8,1)&"x","0x1x2x3x4x5x6x7x8x9x")))),"登録保管先IDはLOC-と半角数字4桁",IF(NOT(OR(D14="確認済",D14="未確認")),"所在区分を確認",IF(AND(D14="確認済",NOT(AND(ISTEXT(E14),LEN(E14)=8,EXACT(LEFT(E14,4),"LOC-"),ISNUMBER(FIND(MID(E14,5,1)&"x","0x1x2x3x4x5x6x7x8x9x")),ISNUMBER(FIND(MID(E14,6,1)&"x","0x1x2x3x4x5x6x7x8x9x")),ISNUMBER(FIND(MID(E14,7,1)&"x","0x1x2x3x4x5x6x7x8x9x")),ISNUMBER(FIND(MID(E14,8,1)&"x","0x1x2x3x4x5x6x7x8x9x"))))),"確認済所在IDが必須",IF(AND(D14="未確認",COUNTA(E14)>0),"所在未確認は所在ID空欄",IF(NOT(OR(F14="保管中",F14="貸出中",F14="返却済",F14="未確認")),"利用区分を確認",IF(AND(F14="保管中",NOT(AND(G14="対象外",COUNTA(H14:K14)=0))),"保管中の借用者は対象外/貸出欄は空欄",IF(AND(F14<>"保管中",NOT(OR(G14="確認済",G14="未確認"))),"借用者を確認/未確認で記録",IF(AND(G14="確認済",NOT(AND(ISTEXT(H14),LEN(H14)=8,EXACT(LEFT(H14,4),"PER-"),ISNUMBER(FIND(MID(H14,5,1)&"x","0x1x2x3x4x5x6x7x8x9x")),ISNUMBER(FIND(MID(H14,6,1)&"x","0x1x2x3x4x5x6x7x8x9x")),ISNUMBER(FIND(MID(H14,7,1)&"x","0x1x2x3x4x5x6x7x8x9x")),ISNUMBER(FIND(MID(H14,8,1)&"x","0x1x2x3x4x5x6x7x8x9x"))))),"確認済借用者IDが必須",IF(AND(G14<>"確認済",COUNTA(H14)>0),"未確認/対象外の借用者IDは空欄",IF(AND(OR(F14="貸出中",F14="返却済"),NOT(IF(ISNUMBER(I14),AND(I14>=43831,I14<=73050,I14=INT(I14)),FALSE()))),"貸出日が必須",IF(AND(COUNTA(I14)>0,NOT(IF(ISNUMBER(I14),AND(I14>=43831,I14<=73050,I14=INT(I14)),FALSE()))),"貸出日は2020〜2099年/時刻なし",IF(AND(COUNTA(J14)>0,NOT(IF(ISNUMBER(J14),AND(J14>=43831,J14<=73050,J14=INT(J14)),FALSE()))),"返却期日は2020〜2099年/時刻なし",IF(AND(COUNTA(J14)>0,OR(COUNTA(I14)=0,J14<I14)),"期日は貸出日以上/貸出日必須",IF(AND(F14="返却済",NOT(IF(ISNUMBER(K14),AND(K14>=43831,K14<=73050,K14=INT(K14)),FALSE()))),"返却済の返却日が必須",IF(AND(F14<>"返却済",COUNTA(K14)>0),"返却済以外の返却日は空欄",IF(AND(F14="返却済",K14<I14),"返却日は貸出日以上",IF(NOT(OR(L14="確認済",L14="要対応",L14="未確認")),"状態確認を記録",IF(NOT(OR(M14="確認済",M14="未確認")),"現物区分を確認",IF(AND(M14="確認済",NOT(IF(ISNUMBER(N14),AND(N14>=43831,N14<=73050,N14=INT(N14)),FALSE()))),"現物確認日が必須",IF(AND(M14="未確認",COUNTA(N14)>0),"現物未確認の日付は空欄",IF(NOT(IF(ISNUMBER(O14),AND(O14>=43831,O14<=73050,O14=INT(O14)),FALSE())),"記録確認日が必須",IF(OR(O14>備品の確認!$B$3,AND(COUNTA(I14)>0,I14>O14),AND(F14="返却済",K14>O14),AND(M14="確認済",N14>O14)),"貸出/返却/現物日≦記録確認日≦基準日","確認済み")))))))))))))))))))))))))),ISNUMBER(W14),W14=IF(V14="確認済み",0,1))),1,IF(W14<>0,0,IF(AND(IF(AND(F14="貸出中",COUNTA(J14)>0),ISNUMBER(P14),ISTEXT(P14)),P14=IF(AND(F14="貸出中",COUNTA(J14)>0),J14-備品の確認!$B$3,""),IF(AND(F14="返却済",COUNTA(J14)>0),ISNUMBER(Q14),ISTEXT(Q14)),Q14=IF(AND(F14="返却済",COUNTA(J14)>0),K14-J14,""),IF(M14="確認済",ISNUMBER(R14),ISTEXT(R14)),R14=IF(M14="確認済",備品の確認!$B$3-N14,""),ISTEXT(S14),S14=IF(M14="未確認","現物未確認",IF(R14>備品の確認!$E$3,"確認間隔超過","確認間隔内")),ISTEXT(T14),T14=IF(F14="保管中","保管記録",IF(F14="返却済","返却記録",IF(F14="未確認","利用未確認",IF(COUNTA(J14)=0,"期限未確認",IF(P14<0,"返却期限超過",IF(P14=0,"返却期日","貸出中")))))),ISNUMBER(U14),U14=IF(OR(B14="未確認",D14="未確認",F14="未確認",G14="未確認",L14<>"確認済",M14="未確認",S14="確認間隔超過",AND(F14="貸出中",OR(COUNTA(J14)=0,P14<=0))),1,0)),0,1)))) -> 0
A15: AST-0008 | B15: 工具 | C15: LOC-0001 | D15: 未確認 | F15: 未確認 | G15: 未確認 | I15: 46296 | J15: 46310 | L15: 未確認 | M15: 未確認 | O15: 46326 | P15: =IF(V15="","",IF(W15<>0,NA(),IF(AND(F15="貸出中",COUNTA(J15)>0),J15-備品の確認!$B$3,""))) | Q15: =IF(V15="","",IF(W15<>0,NA(),IF(AND(F15="返却済",COUNTA(J15)>0),K15-J15,""))) | R15: =IF(V15="","",IF(W15<>0,NA(),IF(M15="確認済",備品の確認!$B$3-N15,""))) | S15: =IF(V15="","",IF(W15<>0,NA(),IF(M15="未確認","現物未確認",IF(R15>備品の確認!$E$3,"確認間隔超過","確認間隔内")))) -> 現物未確認 | T15: =IF(V15="","",IF(W15<>0,NA(),IF(F15="保管中","保管記録",IF(F15="返却済","返却記録",IF(F15="未確認","利用未確認",IF(COUNTA(J15)=0,"期限未確認",IF(P15<0,"返却期限超過",IF(P15=0,"返却期日","貸出中")))))))) -> 利用未確認 | U15: =IF(V15="","",IF(W15<>0,NA(),IF(OR(B15="未確認",D15="未確認",F15="未確認",G15="未確認",L15<>"確認済",M15="未確認",S15="確認間隔超過",AND(F15="貸出中",OR(COUNTA(J15)=0,P15<=0))),1,0))) -> 1 | V15: =IF(COUNTA(A15:O15)=0,"",IF(NOT(AND(ISTEXT(A15),LEN(A15)=8,EXACT(LEFT(A15,4),"AST-"),ISNUMBER(FIND(MID(A15,5,1)&"x","0x1x2x3x4x5x6x7x8x9x")),ISNUMBER(FIND(MID(A15,6,1)&"x","0x1x2x3x4x5x6x7x8x9x")),ISNUMBER(FIND(MID(A15,7,1)&"x","0x1x2x3x4x5x6x7x8x9x")),ISNUMBER(FIND(MID(A15,8,1)&"x","0x1x2x3x4x5x6x7x8x9x")))),"備品IDはAST-と半角数字4桁",IF(COUNTIFS($A$8:$A$57,A15)>1,"備品IDが重複",IF(NOT(OR(B15="PC",B15="周辺機器",B15="工具",B15="その他",B15="未確認")),"種類を確認",IF(NOT(AND(ISTEXT(C15),LEN(C15)=8,EXACT(LEFT(C15,4),"LOC-"),ISNUMBER(FIND(MID(C15,5,1)&"x","0x1x2x3x4x5x6x7x8x9x")),ISNUMBER(FIND(MID(C15,6,1)&"x","0x1x2x3x4x5x6x7x8x9x")),ISNUMBER(FIND(MID(C15,7,1)&"x","0x1x2x3x4x5x6x7x8x9x")),ISNUMBER(FIND(MID(C15,8,1)&"x","0x1x2x3x4x5x6x7x8x9x")))),"登録保管先IDはLOC-と半角数字4桁",IF(NOT(OR(D15="確認済",D15="未確認")),"所在区分を確認",IF(AND(D15="確認済",NOT(AND(ISTEXT(E15),LEN(E15)=8,EXACT(LEFT(E15,4),"LOC-"),ISNUMBER(FIND(MID(E15,5,1)&"x","0x1x2x3x4x5x6x7x8x9x")),ISNUMBER(FIND(MID(E15,6,1)&"x","0x1x2x3x4x5x6x7x8x9x")),ISNUMBER(FIND(MID(E15,7,1)&"x","0x1x2x3x4x5x6x7x8x9x")),ISNUMBER(FIND(MID(E15,8,1)&"x","0x1x2x3x4x5x6x7x8x9x"))))),"確認済所在IDが必須",IF(AND(D15="未確認",COUNTA(E15)>0),"所在未確認は所在ID空欄",IF(NOT(OR(F15="保管中",F15="貸出中",F15="返却済",F15="未確認")),"利用区分を確認",IF(AND(F15="保管中",NOT(AND(G15="対象外",COUNTA(H15:K15)=0))),"保管中の借用者は対象外/貸出欄は空欄",IF(AND(F15<>"保管中",NOT(OR(G15="確認済",G15="未確認"))),"借用者を確認/未確認で記録",IF(AND(G15="確認済",NOT(AND(ISTEXT(H15),LEN(H15)=8,EXACT(LEFT(H15,4),"PER-"),ISNUMBER(FIND(MID(H15,5,1)&"x","0x1x2x3x4x5x6x7x8x9x")),ISNUMBER(FIND(MID(H15,6,1)&"x","0x1x2x3x4x5x6x7x8x9x")),ISNUMBER(FIND(MID(H15,7,1)&"x","0x1x2x3x4x5x6x7x8x9x")),ISNUMBER(FIND(MID(H15,8,1)&"x","0x1x2x3x4x5x6x7x8x9x"))))),"確認済借用者IDが必須",IF(AND(G15<>"確認済",COUNTA(H15)>0),"未確認/対象外の借用者IDは空欄",IF(AND(OR(F15="貸出中",F15="返却済"),NOT(IF(ISNUMBER(I15),AND(I15>=43831,I15<=73050,I15=INT(I15)),FALSE()))),"貸出日が必須",IF(AND(COUNTA(I15)>0,NOT(IF(ISNUMBER(I15),AND(I15>=43831,I15<=73050,I15=INT(I15)),FALSE()))),"貸出日は2020〜2099年/時刻なし",IF(AND(COUNTA(J15)>0,NOT(IF(ISNUMBER(J15),AND(J15>=43831,J15<=73050,J15=INT(J15)),FALSE()))),"返却期日は2020〜2099年/時刻なし",IF(AND(COUNTA(J15)>0,OR(COUNTA(I15)=0,J15<I15)),"期日は貸出日以上/貸出日必須",IF(AND(F15="返却済",NOT(IF(ISNUMBER(K15),AND(K15>=43831,K15<=73050,K15=INT(K15)),FALSE()))),"返却済の返却日が必須",IF(AND(F15<>"返却済",COUNTA(K15)>0),"返却済以外の返却日は空欄",IF(AND(F15="返却済",K15<I15),"返却日は貸出日以上",IF(NOT(OR(L15="確認済",L15="要対応",L15="未確認")),"状態確認を記録",IF(NOT(OR(M15="確認済",M15="未確認")),"現物区分を確認",IF(AND(M15="確認済",NOT(IF(ISNUMBER(N15),AND(N15>=43831,N15<=73050,N15=INT(N15)),FALSE()))),"現物確認日が必須",IF(AND(M15="未確認",COUNTA(N15)>0),"現物未確認の日付は空欄",IF(NOT(IF(ISNUMBER(O15),AND(O15>=43831,O15<=73050,O15=INT(O15)),FALSE())),"記録確認日が必須",IF(OR(O15>備品の確認!$B$3,AND(COUNTA(I15)>0,I15>O15),AND(F15="返却済",K15>O15),AND(M15="確認済",N15>O15)),"貸出/返却/現物日≦記録確認日≦基準日","確認済み")))))))))))))))))))))))))) -> 確認済み | W15: =IF(V15="","",IF(V15="確認済み",0,1)) -> 0 | X15: =IF(COUNTA(A15:O15)=0,IF(AND(V15="",W15="",P15="",Q15="",R15="",S15="",T15="",U15=""),0,1),IF(NOT(AND(ISTEXT(V15),V15=IF(COUNTA(A15:O15)=0,"",IF(NOT(AND(ISTEXT(A15),LEN(A15)=8,EXACT(LEFT(A15,4),"AST-"),ISNUMBER(FIND(MID(A15,5,1)&"x","0x1x2x3x4x5x6x7x8x9x")),ISNUMBER(FIND(MID(A15,6,1)&"x","0x1x2x3x4x5x6x7x8x9x")),ISNUMBER(FIND(MID(A15,7,1)&"x","0x1x2x3x4x5x6x7x8x9x")),ISNUMBER(FIND(MID(A15,8,1)&"x","0x1x2x3x4x5x6x7x8x9x")))),"備品IDはAST-と半角数字4桁",IF(COUNTIFS($A$8:$A$57,A15)>1,"備品IDが重複",IF(NOT(OR(B15="PC",B15="周辺機器",B15="工具",B15="その他",B15="未確認")),"種類を確認",IF(NOT(AND(ISTEXT(C15),LEN(C15)=8,EXACT(LEFT(C15,4),"LOC-"),ISNUMBER(FIND(MID(C15,5,1)&"x","0x1x2x3x4x5x6x7x8x9x")),ISNUMBER(FIND(MID(C15,6,1)&"x","0x1x2x3x4x5x6x7x8x9x")),ISNUMBER(FIND(MID(C15,7,1)&"x","0x1x2x3x4x5x6x7x8x9x")),ISNUMBER(FIND(MID(C15,8,1)&"x","0x1x2x3x4x5x6x7x8x9x")))),"登録保管先IDはLOC-と半角数字4桁",IF(NOT(OR(D15="確認済",D15="未確認")),"所在区分を確認",IF(AND(D15="確認済",NOT(AND(ISTEXT(E15),LEN(E15)=8,EXACT(LEFT(E15,4),"LOC-"),ISNUMBER(FIND(MID(E15,5,1)&"x","0x1x2x3x4x5x6x7x8x9x")),ISNUMBER(FIND(MID(E15,6,1)&"x","0x1x2x3x4x5x6x7x8x9x")),ISNUMBER(FIND(MID(E15,7,1)&"x","0x1x2x3x4x5x6x7x8x9x")),ISNUMBER(FIND(MID(E15,8,1)&"x","0x1x2x3x4x5x6x7x8x9x"))))),"確認済所在IDが必須",IF(AND(D15="未確認",COUNTA(E15)>0),"所在未確認は所在ID空欄",IF(NOT(OR(F15="保管中",F15="貸出中",F15="返却済",F15="未確認")),"利用区分を確認",IF(AND(F15="保管中",NOT(AND(G15="対象外",COUNTA(H15:K15)=0))),"保管中の借用者は対象外/貸出欄は空欄",IF(AND(F15<>"保管中",NOT(OR(G15="確認済",G15="未確認"))),"借用者を確認/未確認で記録",IF(AND(G15="確認済",NOT(AND(ISTEXT(H15),LEN(H15)=8,EXACT(LEFT(H15,4),"PER-"),ISNUMBER(FIND(MID(H15,5,1)&"x","0x1x2x3x4x5x6x7x8x9x")),ISNUMBER(FIND(MID(H15,6,1)&"x","0x1x2x3x4x5x6x7x8x9x")),ISNUMBER(FIND(MID(H15,7,1)&"x","0x1x2x3x4x5x6x7x8x9x")),ISNUMBER(FIND(MID(H15,8,1)&"x","0x1x2x3x4x5x6x7x8x9x"))))),"確認済借用者IDが必須",IF(AND(G15<>"確認済",COUNTA(H15)>0),"未確認/対象外の借用者IDは空欄",IF(AND(OR(F15="貸出中",F15="返却済"),NOT(IF(ISNUMBER(I15),AND(I15>=43831,I15<=73050,I15=INT(I15)),FALSE()))),"貸出日が必須",IF(AND(COUNTA(I15)>0,NOT(IF(ISNUMBER(I15),AND(I15>=43831,I15<=73050,I15=INT(I15)),FALSE()))),"貸出日は2020〜2099年/時刻なし",IF(AND(COUNTA(J15)>0,NOT(IF(ISNUMBER(J15),AND(J15>=43831,J15<=73050,J15=INT(J15)),FALSE()))),"返却期日は2020〜2099年/時刻なし",IF(AND(COUNTA(J15)>0,OR(COUNTA(I15)=0,J15<I15)),"期日は貸出日以上/貸出日必須",IF(AND(F15="返却済",NOT(IF(ISNUMBER(K15),AND(K15>=43831,K15<=73050,K15=INT(K15)),FALSE()))),"返却済の返却日が必須",IF(AND(F15<>"返却済",COUNTA(K15)>0),"返却済以外の返却日は空欄",IF(AND(F15="返却済",K15<I15),"返却日は貸出日以上",IF(NOT(OR(L15="確認済",L15="要対応",L15="未確認")),"状態確認を記録",IF(NOT(OR(M15="確認済",M15="未確認")),"現物区分を確認",IF(AND(M15="確認済",NOT(IF(ISNUMBER(N15),AND(N15>=43831,N15<=73050,N15=INT(N15)),FALSE()))),"現物確認日が必須",IF(AND(M15="未確認",COUNTA(N15)>0),"現物未確認の日付は空欄",IF(NOT(IF(ISNUMBER(O15),AND(O15>=43831,O15<=73050,O15=INT(O15)),FALSE())),"記録確認日が必須",IF(OR(O15>備品の確認!$B$3,AND(COUNTA(I15)>0,I15>O15),AND(F15="返却済",K15>O15),AND(M15="確認済",N15>O15)),"貸出/返却/現物日≦記録確認日≦基準日","確認済み")))))))))))))))))))))))))),ISNUMBER(W15),W15=IF(V15="確認済み",0,1))),1,IF(W15<>0,0,IF(AND(IF(AND(F15="貸出中",COUNTA(J15)>0),ISNUMBER(P15),ISTEXT(P15)),P15=IF(AND(F15="貸出中",COUNTA(J15)>0),J15-備品の確認!$B$3,""),IF(AND(F15="返却済",COUNTA(J15)>0),ISNUMBER(Q15),ISTEXT(Q15)),Q15=IF(AND(F15="返却済",COUNTA(J15)>0),K15-J15,""),IF(M15="確認済",ISNUMBER(R15),ISTEXT(R15)),R15=IF(M15="確認済",備品の確認!$B$3-N15,""),ISTEXT(S15),S15=IF(M15="未確認","現物未確認",IF(R15>備品の確認!$E$3,"確認間隔超過","確認間隔内")),ISTEXT(T15),T15=IF(F15="保管中","保管記録",IF(F15="返却済","返却記録",IF(F15="未確認","利用未確認",IF(COUNTA(J15)=0,"期限未確認",IF(P15<0,"返却期限超過",IF(P15=0,"返却期日","貸出中")))))),ISNUMBER(U15),U15=IF(OR(B15="未確認",D15="未確認",F15="未確認",G15="未確認",L15<>"確認済",M15="未確認",S15="確認間隔超過",AND(F15="貸出中",OR(COUNTA(J15)=0,P15<=0))),1,0)),0,1)))) -> 0
A16: AST-0009 | B16: その他 | C16: LOC-0003 | D16: 確認済 | E16: LOC-0003 | F16: 保管中 | G16: 対象外 | L16: 要対応 | M16: 未確認 | O16: 46326 | P16: =IF(V16="","",IF(W16<>0,NA(),IF(AND(F16="貸出中",COUNTA(J16)>0),J16-備品の確認!$B$3,""))) | Q16: =IF(V16="","",IF(W16<>0,NA(),IF(AND(F16="返却済",COUNTA(J16)>0),K16-J16,""))) | R16: =IF(V16="","",IF(W16<>0,NA(),IF(M16="確認済",備品の確認!$B$3-N16,""))) | S16: =IF(V16="","",IF(W16<>0,NA(),IF(M16="未確認","現物未確認",IF(R16>備品の確認!$E$3,"確認間隔超過","確認間隔内")))) -> 現物未確認 | T16: =IF(V16="","",IF(W16<>0,NA(),IF(F16="保管中","保管記録",IF(F16="返却済","返却記録",IF(F16="未確認","利用未確認",IF(COUNTA(J16)=0,"期限未確認",IF(P16<0,"返却期限超過",IF(P16=0,"返却期日","貸出中")))))))) -> 保管記録 | U16: =IF(V16="","",IF(W16<>0,NA(),IF(OR(B16="未確認",D16="未確認",F16="未確認",G16="未確認",L16<>"確認済",M16="未確認",S16="確認間隔超過",AND(F16="貸出中",OR(COUNTA(J16)=0,P16<=0))),1,0))) -> 1 | V16: =IF(COUNTA(A16:O16)=0,"",IF(NOT(AND(ISTEXT(A16),LEN(A16)=8,EXACT(LEFT(A16,4),"AST-"),ISNUMBER(FIND(MID(A16,5,1)&"x","0x1x2x3x4x5x6x7x8x9x")),ISNUMBER(FIND(MID(A16,6,1)&"x","0x1x2x3x4x5x6x7x8x9x")),ISNUMBER(FIND(MID(A16,7,1)&"x","0x1x2x3x4x5x6x7x8x9x")),ISNUMBER(FIND(MID(A16,8,1)&"x","0x1x2x3x4x5x6x7x8x9x")))),"備品IDはAST-と半角数字4桁",IF(COUNTIFS($A$8:$A$57,A16)>1,"備品IDが重複",IF(NOT(OR(B16="PC",B16="周辺機器",B16="工具",B16="その他",B16="未確認")),"種類を確認",IF(NOT(AND(ISTEXT(C16),LEN(C16)=8,EXACT(LEFT(C16,4),"LOC-"),ISNUMBER(FIND(MID(C16,5,1)&"x","0x1x2x3x4x5x6x7x8x9x")),ISNUMBER(FIND(MID(C16,6,1)&"x","0x1x2x3x4x5x6x7x8x9x")),ISNUMBER(FIND(MID(C16,7,1)&"x","0x1x2x3x4x5x6x7x8x9x")),ISNUMBER(FIND(MID(C16,8,1)&"x","0x1x2x3x4x5x6x7x8x9x")))),"登録保管先IDはLOC-と半角数字4桁",IF(NOT(OR(D16="確認済",D16="未確認")),"所在区分を確認",IF(AND(D16="確認済",NOT(AND(ISTEXT(E16),LEN(E16)=8,EXACT(LEFT(E16,4),"LOC-"),ISNUMBER(FIND(MID(E16,5,1)&"x","0x1x2x3x4x5x6x7x8x9x")),ISNUMBER(FIND(MID(E16,6,1)&"x","0x1x2x3x4x5x6x7x8x9x")),ISNUMBER(FIND(MID(E16,7,1)&"x","0x1x2x3x4x5x6x7x8x9x")),ISNUMBER(FIND(MID(E16,8,1)&"x","0x1x2x3x4x5x6x7x8x9x"))))),"確認済所在IDが必須",IF(AND(D16="未確認",COUNTA(E16)>0),"所在未確認は所在ID空欄",IF(NOT(OR(F16="保管中",F16="貸出中",F16="返却済",F16="未確認")),"利用区分を確認",IF(AND(F16="保管中",NOT(AND(G16="対象外",COUNTA(H16:K16)=0))),"保管中の借用者は対象外/貸出欄は空欄",IF(AND(F16<>"保管中",NOT(OR(G16="確認済",G16="未確認"))),"借用者を確認/未確認で記録",IF(AND(G16="確認済",NOT(AND(ISTEXT(H16),LEN(H16)=8,EXACT(LEFT(H16,4),"PER-"),ISNUMBER(FIND(MID(H16,5,1)&"x","0x1x2x3x4x5x6x7x8x9x")),ISNUMBER(FIND(MID(H16,6,1)&"x","0x1x2x3x4x5x6x7x8x9x")),ISNUMBER(FIND(MID(H16,7,1)&"x","0x1x2x3x4x5x6x7x8x9x")),ISNUMBER(FIND(MID(H16,8,1)&"x","0x1x2x3x4x5x6x7x8x9x"))))),"確認済借用者IDが必須",IF(AND(G16<>"確認済",COUNTA(H16)>0),"未確認/対象外の借用者IDは空欄",IF(AND(OR(F16="貸出中",F16="返却済"),NOT(IF(ISNUMBER(I16),AND(I16>=43831,I16<=73050,I16=INT(I16)),FALSE()))),"貸出日が必須",IF(AND(COUNTA(I16)>0,NOT(IF(ISNUMBER(I16),AND(I16>=43831,I16<=73050,I16=INT(I16)),FALSE()))),"貸出日は2020〜2099年/時刻なし",IF(AND(COUNTA(J16)>0,NOT(IF(ISNUMBER(J16),AND(J16>=43831,J16<=73050,J16=INT(J16)),FALSE()))),"返却期日は2020〜2099年/時刻なし",IF(AND(COUNTA(J16)>0,OR(COUNTA(I16)=0,J16<I16)),"期日は貸出日以上/貸出日必須",IF(AND(F16="返却済",NOT(IF(ISNUMBER(K16),AND(K16>=43831,K16<=73050,K16=INT(K16)),FALSE()))),"返却済の返却日が必須",IF(AND(F16<>"返却済",COUNTA(K16)>0),"返却済以外の返却日は空欄",IF(AND(F16="返却済",K16<I16),"返却日は貸出日以上",IF(NOT(OR(L16="確認済",L16="要対応",L16="未確認")),"状態確認を記録",IF(NOT(OR(M16="確認済",M16="未確認")),"現物区分を確認",IF(AND(M16="確認済",NOT(IF(ISNUMBER(N16),AND(N16>=43831,N16<=73050,N16=INT(N16)),FALSE()))),"現物確認日が必須",IF(AND(M16="未確認",COUNTA(N16)>0),"現物未確認の日付は空欄",IF(NOT(IF(ISNUMBER(O16),AND(O16>=43831,O16<=73050,O16=INT(O16)),FALSE())),"記録確認日が必須",IF(OR(O16>備品の確認!$B$3,AND(COUNTA(I16)>0,I16>O16),AND(F16="返却済",K16>O16),AND(M16="確認済",N16>O16)),"貸出/返却/現物日≦記録確認日≦基準日","確認済み")))))))))))))))))))))))))) -> 確認済み | W16: =IF(V16="","",IF(V16="確認済み",0,1)) -> 0 | X16: =IF(COUNTA(A16:O16)=0,IF(AND(V16="",W16="",P16="",Q16="",R16="",S16="",T16="",U16=""),0,1),IF(NOT(AND(ISTEXT(V16),V16=IF(COUNTA(A16:O16)=0,"",IF(NOT(AND(ISTEXT(A16),LEN(A16)=8,EXACT(LEFT(A16,4),"AST-"),ISNUMBER(FIND(MID(A16,5,1)&"x","0x1x2x3x4x5x6x7x8x9x")),ISNUMBER(FIND(MID(A16,6,1)&"x","0x1x2x3x4x5x6x7x8x9x")),ISNUMBER(FIND(MID(A16,7,1)&"x","0x1x2x3x4x5x6x7x8x9x")),ISNUMBER(FIND(MID(A16,8,1)&"x","0x1x2x3x4x5x6x7x8x9x")))),"備品IDはAST-と半角数字4桁",IF(COUNTIFS($A$8:$A$57,A16)>1,"備品IDが重複",IF(NOT(OR(B16="PC",B16="周辺機器",B16="工具",B16="その他",B16="未確認")),"種類を確認",IF(NOT(AND(ISTEXT(C16),LEN(C16)=8,EXACT(LEFT(C16,4),"LOC-"),ISNUMBER(FIND(MID(C16,5,1)&"x","0x1x2x3x4x5x6x7x8x9x")),ISNUMBER(FIND(MID(C16,6,1)&"x","0x1x2x3x4x5x6x7x8x9x")),ISNUMBER(FIND(MID(C16,7,1)&"x","0x1x2x3x4x5x6x7x8x9x")),ISNUMBER(FIND(MID(C16,8,1)&"x","0x1x2x3x4x5x6x7x8x9x")))),"登録保管先IDはLOC-と半角数字4桁",IF(NOT(OR(D16="確認済",D16="未確認")),"所在区分を確認",IF(AND(D16="確認済",NOT(AND(ISTEXT(E16),LEN(E16)=8,EXACT(LEFT(E16,4),"LOC-"),ISNUMBER(FIND(MID(E16,5,1)&"x","0x1x2x3x4x5x6x7x8x9x")),ISNUMBER(FIND(MID(E16,6,1)&"x","0x1x2x3x4x5x6x7x8x9x")),ISNUMBER(FIND(MID(E16,7,1)&"x","0x1x2x3x4x5x6x7x8x9x")),ISNUMBER(FIND(MID(E16,8,1)&"x","0x1x2x3x4x5x6x7x8x9x"))))),"確認済所在IDが必須",IF(AND(D16="未確認",COUNTA(E16)>0),"所在未確認は所在ID空欄",IF(NOT(OR(F16="保管中",F16="貸出中",F16="返却済",F16="未確認")),"利用区分を確認",IF(AND(F16="保管中",NOT(AND(G16="対象外",COUNTA(H16:K16)=0))),"保管中の借用者は対象外/貸出欄は空欄",IF(AND(F16<>"保管中",NOT(OR(G16="確認済",G16="未確認"))),"借用者を確認/未確認で記録",IF(AND(G16="確認済",NOT(AND(ISTEXT(H16),LEN(H16)=8,EXACT(LEFT(H16,4),"PER-"),ISNUMBER(FIND(MID(H16,5,1)&"x","0x1x2x3x4x5x6x7x8x9x")),ISNUMBER(FIND(MID(H16,6,1)&"x","0x1x2x3x4x5x6x7x8x9x")),ISNUMBER(FIND(MID(H16,7,1)&"x","0x1x2x3x4x5x6x7x8x9x")),ISNUMBER(FIND(MID(H16,8,1)&"x","0x1x2x3x4x5x6x7x8x9x"))))),"確認済借用者IDが必須",IF(AND(G16<>"確認済",COUNTA(H16)>0),"未確認/対象外の借用者IDは空欄",IF(AND(OR(F16="貸出中",F16="返却済"),NOT(IF(ISNUMBER(I16),AND(I16>=43831,I16<=73050,I16=INT(I16)),FALSE()))),"貸出日が必須",IF(AND(COUNTA(I16)>0,NOT(IF(ISNUMBER(I16),AND(I16>=43831,I16<=73050,I16=INT(I16)),FALSE()))),"貸出日は2020〜2099年/時刻なし",IF(AND(COUNTA(J16)>0,NOT(IF(ISNUMBER(J16),AND(J16>=43831,J16<=73050,J16=INT(J16)),FALSE()))),"返却期日は2020〜2099年/時刻なし",IF(AND(COUNTA(J16)>0,OR(COUNTA(I16)=0,J16<I16)),"期日は貸出日以上/貸出日必須",IF(AND(F16="返却済",NOT(IF(ISNUMBER(K16),AND(K16>=43831,K16<=73050,K16=INT(K16)),FALSE()))),"返却済の返却日が必須",IF(AND(F16<>"返却済",COUNTA(K16)>0),"返却済以外の返却日は空欄",IF(AND(F16="返却済",K16<I16),"返却日は貸出日以上",IF(NOT(OR(L16="確認済",L16="要対応",L16="未確認")),"状態確認を記録",IF(NOT(OR(M16="確認済",M16="未確認")),"現物区分を確認",IF(AND(M16="確認済",NOT(IF(ISNUMBER(N16),AND(N16>=43831,N16<=73050,N16=INT(N16)),FALSE()))),"現物確認日が必須",IF(AND(M16="未確認",COUNTA(N16)>0),"現物未確認の日付は空欄",IF(NOT(IF(ISNUMBER(O16),AND(O16>=43831,O16<=73050,O16=INT(O16)),FALSE())),"記録確認日が必須",IF(OR(O16>備品の確認!$B$3,AND(COUNTA(I16)>0,I16>O16),AND(F16="返却済",K16>O16),AND(M16="確認済",N16>O16)),"貸出/返却/現物日≦記録確認日≦基準日","確認済み")))))))))))))))))))))))))),ISNUMBER(W16),W16=IF(V16="確認済み",0,1))),1,IF(W16<>0,0,IF(AND(IF(AND(F16="貸出中",COUNTA(J16)>0),ISNUMBER(P16),ISTEXT(P16)),P16=IF(AND(F16="貸出中",COUNTA(J16)>0),J16-備品の確認!$B$3,""),IF(AND(F16="返却済",COUNTA(J16)>0),ISNUMBER(Q16),ISTEXT(Q16)),Q16=IF(AND(F16="返却済",COUNTA(J16)>0),K16-J16,""),IF(M16="確認済",ISNUMBER(R16),ISTEXT(R16)),R16=IF(M16="確認済",備品の確認!$B$3-N16,""),ISTEXT(S16),S16=IF(M16="未確認","現物未確認",IF(R16>備品の確認!$E$3,"確認間隔超過","確認間隔内")),ISTEXT(T16),T16=IF(F16="保管中","保管記録",IF(F16="返却済","返却記録",IF(F16="未確認","利用未確認",IF(COUNTA(J16)=0,"期限未確認",IF(P16<0,"返却期限超過",IF(P16=0,"返却期日","貸出中")))))),ISNUMBER(U16),U16=IF(OR(B16="未確認",D16="未確認",F16="未確認",G16="未確認",L16<>"確認済",M16="未確認",S16="確認間隔超過",AND(F16="貸出中",OR(COUNTA(J16)=0,P16<=0))),1,0)),0,1)))) -> 0
A17: AST-0010 | B17: 未確認 | C17: LOC-0003 | D17: 未確認 | F17: 保管中 | G17: 対象外 | L17: 確認済 | M17: 確認済 | N17: 46326 | O17: 46326 | P17: =IF(V17="","",IF(W17<>0,NA(),IF(AND(F17="貸出中",COUNTA(J17)>0),J17-備品の確認!$B$3,""))) | Q17: =IF(V17="","",IF(W17<>0,NA(),IF(AND(F17="返却済",COUNTA(J17)>0),K17-J17,""))) | R17: =IF(V17="","",IF(W17<>0,NA(),IF(M17="確認済",備品の確認!$B$3-N17,""))) -> 0 | S17: =IF(V17="","",IF(W17<>0,NA(),IF(M17="未確認","現物未確認",IF(R17>備品の確認!$E$3,"確認間隔超過","確認間隔内")))) -> 確認間隔内 | T17: =IF(V17="","",IF(W17<>0,NA(),IF(F17="保管中","保管記録",IF(F17="返却済","返却記録",IF(F17="未確認","利用未確認",IF(COUNTA(J17)=0,"期限未確認",IF(P17<0,"返却期限超過",IF(P17=0,"返却期日","貸出中")))))))) -> 保管記録 | U17: =IF(V17="","",IF(W17<>0,NA(),IF(OR(B17="未確認",D17="未確認",F17="未確認",G17="未確認",L17<>"確認済",M17="未確認",S17="確認間隔超過",AND(F17="貸出中",OR(COUNTA(J17)=0,P17<=0))),1,0))) -> 1 | V17: =IF(COUNTA(A17:O17)=0,"",IF(NOT(AND(ISTEXT(A17),LEN(A17)=8,EXACT(LEFT(A17,4),"AST-"),ISNUMBER(FIND(MID(A17,5,1)&"x","0x1x2x3x4x5x6x7x8x9x")),ISNUMBER(FIND(MID(A17,6,1)&"x","0x1x2x3x4x5x6x7x8x9x")),ISNUMBER(FIND(MID(A17,7,1)&"x","0x1x2x3x4x5x6x7x8x9x")),ISNUMBER(FIND(MID(A17,8,1)&"x","0x1x2x3x4x5x6x7x8x9x")))),"備品IDはAST-と半角数字4桁",IF(COUNTIFS($A$8:$A$57,A17)>1,"備品IDが重複",IF(NOT(OR(B17="PC",B17="周辺機器",B17="工具",B17="その他",B17="未確認")),"種類を確認",IF(NOT(AND(ISTEXT(C17),LEN(C17)=8,EXACT(LEFT(C17,4),"LOC-"),ISNUMBER(FIND(MID(C17,5,1)&"x","0x1x2x3x4x5x6x7x8x9x")),ISNUMBER(FIND(MID(C17,6,1)&"x","0x1x2x3x4x5x6x7x8x9x")),ISNUMBER(FIND(MID(C17,7,1)&"x","0x1x2x3x4x5x6x7x8x9x")),ISNUMBER(FIND(MID(C17,8,1)&"x","0x1x2x3x4x5x6x7x8x9x")))),"登録保管先IDはLOC-と半角数字4桁",IF(NOT(OR(D17="確認済",D17="未確認")),"所在区分を確認",IF(AND(D17="確認済",NOT(AND(ISTEXT(E17),LEN(E17)=8,EXACT(LEFT(E17,4),"LOC-"),ISNUMBER(FIND(MID(E17,5,1)&"x","0x1x2x3x4x5x6x7x8x9x")),ISNUMBER(FIND(MID(E17,6,1)&"x","0x1x2x3x4x5x6x7x8x9x")),ISNUMBER(FIND(MID(E17,7,1)&"x","0x1x2x3x4x5x6x7x8x9x")),ISNUMBER(FIND(MID(E17,8,1)&"x","0x1x2x3x4x5x6x7x8x9x"))))),"確認済所在IDが必須",IF(AND(D17="未確認",COUNTA(E17)>0),"所在未確認は所在ID空欄",IF(NOT(OR(F17="保管中",F17="貸出中",F17="返却済",F17="未確認")),"利用区分を確認",IF(AND(F17="保管中",NOT(AND(G17="対象外",COUNTA(H17:K17)=0))),"保管中の借用者は対象外/貸出欄は空欄",IF(AND(F17<>"保管中",NOT(OR(G17="確認済",G17="未確認"))),"借用者を確認/未確認で記録",IF(AND(G17="確認済",NOT(AND(ISTEXT(H17),LEN(H17)=8,EXACT(LEFT(H17,4),"PER-"),ISNUMBER(FIND(MID(H17,5,1)&"x","0x1x2x3x4x5x6x7x8x9x")),ISNUMBER(FIND(MID(H17,6,1)&"x","0x1x2x3x4x5x6x7x8x9x")),ISNUMBER(FIND(MID(H17,7,1)&"x","0x1x2x3x4x5x6x7x8x9x")),ISNUMBER(FIND(MID(H17,8,1)&"x","0x1x2x3x4x5x6x7x8x9x"))))),"確認済借用者IDが必須",IF(AND(G17<>"確認済",COUNTA(H17)>0),"未確認/対象外の借用者IDは空欄",IF(AND(OR(F17="貸出中",F17="返却済"),NOT(IF(ISNUMBER(I17),AND(I17>=43831,I17<=73050,I17=INT(I17)),FALSE()))),"貸出日が必須",IF(AND(COUNTA(I17)>0,NOT(IF(ISNUMBER(I17),AND(I17>=43831,I17<=73050,I17=INT(I17)),FALSE()))),"貸出日は2020〜2099年/時刻なし",IF(AND(COUNTA(J17)>0,NOT(IF(ISNUMBER(J17),AND(J17>=43831,J17<=73050,J17=INT(J17)),FALSE()))),"返却期日は2020〜2099年/時刻なし",IF(AND(COUNTA(J17)>0,OR(COUNTA(I17)=0,J17<I17)),"期日は貸出日以上/貸出日必須",IF(AND(F17="返却済",NOT(IF(ISNUMBER(K17),AND(K17>=43831,K17<=73050,K17=INT(K17)),FALSE()))),"返却済の返却日が必須",IF(AND(F17<>"返却済",COUNTA(K17)>0),"返却済以外の返却日は空欄",IF(AND(F17="返却済",K17<I17),"返却日は貸出日以上",IF(NOT(OR(L17="確認済",L17="要対応",L17="未確認")),"状態確認を記録",IF(NOT(OR(M17="確認済",M17="未確認")),"現物区分を確認",IF(AND(M17="確認済",NOT(IF(ISNUMBER(N17),AND(N17>=43831,N17<=73050,N17=INT(N17)),FALSE()))),"現物確認日が必須",IF(AND(M17="未確認",COUNTA(N17)>0),"現物未確認の日付は空欄",IF(NOT(IF(ISNUMBER(O17),AND(O17>=43831,O17<=73050,O17=INT(O17)),FALSE())),"記録確認日が必須",IF(OR(O17>備品の確認!$B$3,AND(COUNTA(I17)>0,I17>O17),AND(F17="返却済",K17>O17),AND(M17="確認済",N17>O17)),"貸出/返却/現物日≦記録確認日≦基準日","確認済み")))))))))))))))))))))))))) -> 確認済み | W17: =IF(V17="","",IF(V17="確認済み",0,1)) -> 0 | X17: =IF(COUNTA(A17:O17)=0,IF(AND(V17="",W17="",P17="",Q17="",R17="",S17="",T17="",U17=""),0,1),IF(NOT(AND(ISTEXT(V17),V17=IF(COUNTA(A17:O17)=0,"",IF(NOT(AND(ISTEXT(A17),LEN(A17)=8,EXACT(LEFT(A17,4),"AST-"),ISNUMBER(FIND(MID(A17,5,1)&"x","0x1x2x3x4x5x6x7x8x9x")),ISNUMBER(FIND(MID(A17,6,1)&"x","0x1x2x3x4x5x6x7x8x9x")),ISNUMBER(FIND(MID(A17,7,1)&"x","0x1x2x3x4x5x6x7x8x9x")),ISNUMBER(FIND(MID(A17,8,1)&"x","0x1x2x3x4x5x6x7x8x9x")))),"備品IDはAST-と半角数字4桁",IF(COUNTIFS($A$8:$A$57,A17)>1,"備品IDが重複",IF(NOT(OR(B17="PC",B17="周辺機器",B17="工具",B17="その他",B17="未確認")),"種類を確認",IF(NOT(AND(ISTEXT(C17),LEN(C17)=8,EXACT(LEFT(C17,4),"LOC-"),ISNUMBER(FIND(MID(C17,5,1)&"x","0x1x2x3x4x5x6x7x8x9x")),ISNUMBER(FIND(MID(C17,6,1)&"x","0x1x2x3x4x5x6x7x8x9x")),ISNUMBER(FIND(MID(C17,7,1)&"x","0x1x2x3x4x5x6x7x8x9x")),ISNUMBER(FIND(MID(C17,8,1)&"x","0x1x2x3x4x5x6x7x8x9x")))),"登録保管先IDはLOC-と半角数字4桁",IF(NOT(OR(D17="確認済",D17="未確認")),"所在区分を確認",IF(AND(D17="確認済",NOT(AND(ISTEXT(E17),LEN(E17)=8,EXACT(LEFT(E17,4),"LOC-"),ISNUMBER(FIND(MID(E17,5,1)&"x","0x1x2x3x4x5x6x7x8x9x")),ISNUMBER(FIND(MID(E17,6,1)&"x","0x1x2x3x4x5x6x7x8x9x")),ISNUMBER(FIND(MID(E17,7,1)&"x","0x1x2x3x4x5x6x7x8x9x")),ISNUMBER(FIND(MID(E17,8,1)&"x","0x1x2x3x4x5x6x7x8x9x"))))),"確認済所在IDが必須",IF(AND(D17="未確認",COUNTA(E17)>0),"所在未確認は所在ID空欄",IF(NOT(OR(F17="保管中",F17="貸出中",F17="返却済",F17="未確認")),"利用区分を確認",IF(AND(F17="保管中",NOT(AND(G17="対象外",COUNTA(H17:K17)=0))),"保管中の借用者は対象外/貸出欄は空欄",IF(AND(F17<>"保管中",NOT(OR(G17="確認済",G17="未確認"))),"借用者を確認/未確認で記録",IF(AND(G17="確認済",NOT(AND(ISTEXT(H17),LEN(H17)=8,EXACT(LEFT(H17,4),"PER-"),ISNUMBER(FIND(MID(H17,5,1)&"x","0x1x2x3x4x5x6x7x8x9x")),ISNUMBER(FIND(MID(H17,6,1)&"x","0x1x2x3x4x5x6x7x8x9x")),ISNUMBER(FIND(MID(H17,7,1)&"x","0x1x2x3x4x5x6x7x8x9x")),ISNUMBER(FIND(MID(H17,8,1)&"x","0x1x2x3x4x5x6x7x8x9x"))))),"確認済借用者IDが必須",IF(AND(G17<>"確認済",COUNTA(H17)>0),"未確認/対象外の借用者IDは空欄",IF(AND(OR(F17="貸出中",F17="返却済"),NOT(IF(ISNUMBER(I17),AND(I17>=43831,I17<=73050,I17=INT(I17)),FALSE()))),"貸出日が必須",IF(AND(COUNTA(I17)>0,NOT(IF(ISNUMBER(I17),AND(I17>=43831,I17<=73050,I17=INT(I17)),FALSE()))),"貸出日は2020〜2099年/時刻なし",IF(AND(COUNTA(J17)>0,NOT(IF(ISNUMBER(J17),AND(J17>=43831,J17<=73050,J17=INT(J17)),FALSE()))),"返却期日は2020〜2099年/時刻なし",IF(AND(COUNTA(J17)>0,OR(COUNTA(I17)=0,J17<I17)),"期日は貸出日以上/貸出日必須",IF(AND(F17="返却済",NOT(IF(ISNUMBER(K17),AND(K17>=43831,K17<=73050,K17=INT(K17)),FALSE()))),"返却済の返却日が必須",IF(AND(F17<>"返却済",COUNTA(K17)>0),"返却済以外の返却日は空欄",IF(AND(F17="返却済",K17<I17),"返却日は貸出日以上",IF(NOT(OR(L17="確認済",L17="要対応",L17="未確認")),"状態確認を記録",IF(NOT(OR(M17="確認済",M17="未確認")),"現物区分を確認",IF(AND(M17="確認済",NOT(IF(ISNUMBER(N17),AND(N17>=43831,N17<=73050,N17=INT(N17)),FALSE()))),"現物確認日が必須",IF(AND(M17="未確認",COUNTA(N17)>0),"現物未確認の日付は空欄",IF(NOT(IF(ISNUMBER(O17),AND(O17>=43831,O17<=73050,O17=INT(O17)),FALSE())),"記録確認日が必須",IF(OR(O17>備品の確認!$B$3,AND(COUNTA(I17)>0,I17>O17),AND(F17="返却済",K17>O17),AND(M17="確認済",N17>O17)),"貸出/返却/現物日≦記録確認日≦基準日","確認済み")))))))))))))))))))))))))),ISNUMBER(W17),W17=IF(V17="確認済み",0,1))),1,IF(W17<>0,0,IF(AND(IF(AND(F17="貸出中",COUNTA(J17)>0),ISNUMBER(P17),ISTEXT(P17)),P17=IF(AND(F17="貸出中",COUNTA(J17)>0),J17-備品の確認!$B$3,""),IF(AND(F17="返却済",COUNTA(J17)>0),ISNUMBER(Q17),ISTEXT(Q17)),Q17=IF(AND(F17="返却済",COUNTA(J17)>0),K17-J17,""),IF(M17="確認済",ISNUMBER(R17),ISTEXT(R17)),R17=IF(M17="確認済",備品の確認!$B$3-N17,""),ISTEXT(S17),S17=IF(M17="未確認","現物未確認",IF(R17>備品の確認!$E$3,"確認間隔超過","確認間隔内")),ISTEXT(T17),T17=IF(F17="保管中","保管記録",IF(F17="返却済","返却記録",IF(F17="未確認","利用未確認",IF(COUNTA(J17)=0,"期限未確認",IF(P17<0,"返却期限超過",IF(P17=0,"返却期日","貸出中")))))),ISNUMBER(U17),U17=IF(OR(B17="未確認",D17="未確認",F17="未確認",G17="未確認",L17<>"確認済",M17="未確認",S17="確認間隔超過",AND(F17="貸出中",OR(COUNTA(J17)=0,P17<=0))),1,0)),0,1)))) -> 0
A18: AST-0011 | B18: 工具 | C18: LOC-0001 | D18: 確認済 | E18: LOC-0001 | F18: 返却済 | G18: 確認済 | H18: PER-0001 | I18: 46305 | J18: 46315 | K18: 46315 | L18: 確認済 | M18: 確認済 | N18: 46326 | O18: 46326 | P18: =IF(V18="","",IF(W18<>0,NA(),IF(AND(F18="貸出中",COUNTA(J18)>0),J18-備品の確認!$B$3,""))) | Q18: =IF(V18="","",IF(W18<>0,NA(),IF(AND(F18="返却済",COUNTA(J18)>0),K18-J18,""))) -> 0 | R18: =IF(V18="","",IF(W18<>0,NA(),IF(M18="確認済",備品の確認!$B$3-N18,""))) -> 0 | S18: =IF(V18="","",IF(W18<>0,NA(),IF(M18="未確認","現物未確認",IF(R18>備品の確認!$E$3,"確認間隔超過","確認間隔内")))) -> 確認間隔内 | T18: =IF(V18="","",IF(W18<>0,NA(),IF(F18="保管中","保管記録",IF(F18="返却済","返却記録",IF(F18="未確認","利用未確認",IF(COUNTA(J18)=0,"期限未確認",IF(P18<0,"返却期限超過",IF(P18=0,"返却期日","貸出中")))))))) -> 返却記録 | U18: =IF(V18="","",IF(W18<>0,NA(),IF(OR(B18="未確認",D18="未確認",F18="未確認",G18="未確認",L18<>"確認済",M18="未確認",S18="確認間隔超過",AND(F18="貸出中",OR(COUNTA(J18)=0,P18<=0))),1,0))) -> 0 | V18: =IF(COUNTA(A18:O18)=0,"",IF(NOT(AND(ISTEXT(A18),LEN(A18)=8,EXACT(LEFT(A18,4),"AST-"),ISNUMBER(FIND(MID(A18,5,1)&"x","0x1x2x3x4x5x6x7x8x9x")),ISNUMBER(FIND(MID(A18,6,1)&"x","0x1x2x3x4x5x6x7x8x9x")),ISNUMBER(FIND(MID(A18,7,1)&"x","0x1x2x3x4x5x6x7x8x9x")),ISNUMBER(FIND(MID(A18,8,1)&"x","0x1x2x3x4x5x6x7x8x9x")))),"備品IDはAST-と半角数字4桁",IF(COUNTIFS($A$8:$A$57,A18)>1,"備品IDが重複",IF(NOT(OR(B18="PC",B18="周辺機器",B18="工具",B18="その他",B18="未確認")),"種類を確認",IF(NOT(AND(ISTEXT(C18),LEN(C18)=8,EXACT(LEFT(C18,4),"LOC-"),ISNUMBER(FIND(MID(C18,5,1)&"x","0x1x2x3x4x5x6x7x8x9x")),ISNUMBER(FIND(MID(C18,6,1)&"x","0x1x2x3x4x5x6x7x8x9x")),ISNUMBER(FIND(MID(C18,7,1)&"x","0x1x2x3x4x5x6x7x8x9x")),ISNUMBER(FIND(MID(C18,8,1)&"x","0x1x2x3x4x5x6x7x8x9x")))),"登録保管先IDはLOC-と半角数字4桁",IF(NOT(OR(D18="確認済",D18="未確認")),"所在区分を確認",IF(AND(D18="確認済",NOT(AND(ISTEXT(E18),LEN(E18)=8,EXACT(LEFT(E18,4),"LOC-"),ISNUMBER(FIND(MID(E18,5,1)&"x","0x1x2x3x4x5x6x7x8x9x")),ISNUMBER(FIND(MID(E18,6,1)&"x","0x1x2x3x4x5x6x7x8x9x")),ISNUMBER(FIND(MID(E18,7,1)&"x","0x1x2x3x4x5x6x7x8x9x")),ISNUMBER(FIND(MID(E18,8,1)&"x","0x1x2x3x4x5x6x7x8x9x"))))),"確認済所在IDが必須",IF(AND(D18="未確認",COUNTA(E18)>0),"所在未確認は所在ID空欄",IF(NOT(OR(F18="保管中",F18="貸出中",F18="返却済",F18="未確認")),"利用区分を確認",IF(AND(F18="保管中",NOT(AND(G18="対象外",COUNTA(H18:K18)=0))),"保管中の借用者は対象外/貸出欄は空欄",IF(AND(F18<>"保管中",NOT(OR(G18="確認済",G18="未確認"))),"借用者を確認/未確認で記録",IF(AND(G18="確認済",NOT(AND(ISTEXT(H18),LEN(H18)=8,EXACT(LEFT(H18,4),"PER-"),ISNUMBER(FIND(MID(H18,5,1)&"x","0x1x2x3x4x5x6x7x8x9x")),ISNUMBER(FIND(MID(H18,6,1)&"x","0x1x2x3x4x5x6x7x8x9x")),ISNUMBER(FIND(MID(H18,7,1)&"x","0x1x2x3x4x5x6x7x8x9x")),ISNUMBER(FIND(MID(H18,8,1)&"x","0x1x2x3x4x5x6x7x8x9x"))))),"確認済借用者IDが必須",IF(AND(G18<>"確認済",COUNTA(H18)>0),"未確認/対象外の借用者IDは空欄",IF(AND(OR(F18="貸出中",F18="返却済"),NOT(IF(ISNUMBER(I18),AND(I18>=43831,I18<=73050,I18=INT(I18)),FALSE()))),"貸出日が必須",IF(AND(COUNTA(I18)>0,NOT(IF(ISNUMBER(I18),AND(I18>=43831,I18<=73050,I18=INT(I18)),FALSE()))),"貸出日は2020〜2099年/時刻なし",IF(AND(COUNTA(J18)>0,NOT(IF(ISNUMBER(J18),AND(J18>=43831,J18<=73050,J18=INT(J18)),FALSE()))),"返却期日は2020〜2099年/時刻なし",IF(AND(COUNTA(J18)>0,OR(COUNTA(I18)=0,J18<I18)),"期日は貸出日以上/貸出日必須",IF(AND(F18="返却済",NOT(IF(ISNUMBER(K18),AND(K18>=43831,K18<=73050,K18=INT(K18)),FALSE()))),"返却済の返却日が必須",IF(AND(F18<>"返却済",COUNTA(K18)>0),"返却済以外の返却日は空欄",IF(AND(F18="返却済",K18<I18),"返却日は貸出日以上",IF(NOT(OR(L18="確認済",L18="要対応",L18="未確認")),"状態確認を記録",IF(NOT(OR(M18="確認済",M18="未確認")),"現物区分を確認",IF(AND(M18="確認済",NOT(IF(ISNUMBER(N18),AND(N18>=43831,N18<=73050,N18=INT(N18)),FALSE()))),"現物確認日が必須",IF(AND(M18="未確認",COUNTA(N18)>0),"現物未確認の日付は空欄",IF(NOT(IF(ISNUMBER(O18),AND(O18>=43831,O18<=73050,O18=INT(O18)),FALSE())),"記録確認日が必須",IF(OR(O18>備品の確認!$B$3,AND(COUNTA(I18)>0,I18>O18),AND(F18="返却済",K18>O18),AND(M18="確認済",N18>O18)),"貸出/返却/現物日≦記録確認日≦基準日","確認済み")))))))))))))))))))))))))) -> 確認済み | W18: =IF(V18="","",IF(V18="確認済み",0,1)) -> 0 | X18: =IF(COUNTA(A18:O18)=0,IF(AND(V18="",W18="",P18="",Q18="",R18="",S18="",T18="",U18=""),0,1),IF(NOT(AND(ISTEXT(V18),V18=IF(COUNTA(A18:O18)=0,"",IF(NOT(AND(ISTEXT(A18),LEN(A18)=8,EXACT(LEFT(A18,4),"AST-"),ISNUMBER(FIND(MID(A18,5,1)&"x","0x1x2x3x4x5x6x7x8x9x")),ISNUMBER(FIND(MID(A18,6,1)&"x","0x1x2x3x4x5x6x7x8x9x")),ISNUMBER(FIND(MID(A18,7,1)&"x","0x1x2x3x4x5x6x7x8x9x")),ISNUMBER(FIND(MID(A18,8,1)&"x","0x1x2x3x4x5x6x7x8x9x")))),"備品IDはAST-と半角数字4桁",IF(COUNTIFS($A$8:$A$57,A18)>1,"備品IDが重複",IF(NOT(OR(B18="PC",B18="周辺機器",B18="工具",B18="その他",B18="未確認")),"種類を確認",IF(NOT(AND(ISTEXT(C18),LEN(C18)=8,EXACT(LEFT(C18,4),"LOC-"),ISNUMBER(FIND(MID(C18,5,1)&"x","0x1x2x3x4x5x6x7x8x9x")),ISNUMBER(FIND(MID(C18,6,1)&"x","0x1x2x3x4x5x6x7x8x9x")),ISNUMBER(FIND(MID(C18,7,1)&"x","0x1x2x3x4x5x6x7x8x9x")),ISNUMBER(FIND(MID(C18,8,1)&"x","0x1x2x3x4x5x6x7x8x9x")))),"登録保管先IDはLOC-と半角数字4桁",IF(NOT(OR(D18="確認済",D18="未確認")),"所在区分を確認",IF(AND(D18="確認済",NOT(AND(ISTEXT(E18),LEN(E18)=8,EXACT(LEFT(E18,4),"LOC-"),ISNUMBER(FIND(MID(E18,5,1)&"x","0x1x2x3x4x5x6x7x8x9x")),ISNUMBER(FIND(MID(E18,6,1)&"x","0x1x2x3x4x5x6x7x8x9x")),ISNUMBER(FIND(MID(E18,7,1)&"x","0x1x2x3x4x5x6x7x8x9x")),ISNUMBER(FIND(MID(E18,8,1)&"x","0x1x2x3x4x5x6x7x8x9x"))))),"確認済所在IDが必須",IF(AND(D18="未確認",COUNTA(E18)>0),"所在未確認は所在ID空欄",IF(NOT(OR(F18="保管中",F18="貸出中",F18="返却済",F18="未確認")),"利用区分を確認",IF(AND(F18="保管中",NOT(AND(G18="対象外",COUNTA(H18:K18)=0))),"保管中の借用者は対象外/貸出欄は空欄",IF(AND(F18<>"保管中",NOT(OR(G18="確認済",G18="未確認"))),"借用者を確認/未確認で記録",IF(AND(G18="確認済",NOT(AND(ISTEXT(H18),LEN(H18)=8,EXACT(LEFT(H18,4),"PER-"),ISNUMBER(FIND(MID(H18,5,1)&"x","0x1x2x3x4x5x6x7x8x9x")),ISNUMBER(FIND(MID(H18,6,1)&"x","0x1x2x3x4x5x6x7x8x9x")),ISNUMBER(FIND(MID(H18,7,1)&"x","0x1x2x3x4x5x6x7x8x9x")),ISNUMBER(FIND(MID(H18,8,1)&"x","0x1x2x3x4x5x6x7x8x9x"))))),"確認済借用者IDが必須",IF(AND(G18<>"確認済",COUNTA(H18)>0),"未確認/対象外の借用者IDは空欄",IF(AND(OR(F18="貸出中",F18="返却済"),NOT(IF(ISNUMBER(I18),AND(I18>=43831,I18<=73050,I18=INT(I18)),FALSE()))),"貸出日が必須",IF(AND(COUNTA(I18)>0,NOT(IF(ISNUMBER(I18),AND(I18>=43831,I18<=73050,I18=INT(I18)),FALSE()))),"貸出日は2020〜2099年/時刻なし",IF(AND(COUNTA(J18)>0,NOT(IF(ISNUMBER(J18),AND(J18>=43831,J18<=73050,J18=INT(J18)),FALSE()))),"返却期日は2020〜2099年/時刻なし",IF(AND(COUNTA(J18)>0,OR(COUNTA(I18)=0,J18<I18)),"期日は貸出日以上/貸出日必須",IF(AND(F18="返却済",NOT(IF(ISNUMBER(K18),AND(K18>=43831,K18<=73050,K18=INT(K18)),FALSE()))),"返却済の返却日が必須",IF(AND(F18<>"返却済",COUNTA(K18)>0),"返却済以外の返却日は空欄",IF(AND(F18="返却済",K18<I18),"返却日は貸出日以上",IF(NOT(OR(L18="確認済",L18="要対応",L18="未確認")),"状態確認を記録",IF(NOT(OR(M18="確認済",M18="未確認")),"現物区分を確認",IF(AND(M18="確認済",NOT(IF(ISNUMBER(N18),AND(N18>=43831,N18<=73050,N18=INT(N18)),FALSE()))),"現物確認日が必須",IF(AND(M18="未確認",COUNTA(N18)>0),"現物未確認の日付は空欄",IF(NOT(IF(ISNUMBER(O18),AND(O18>=43831,O18<=73050,O18=INT(O18)),FALSE())),"記録確認日が必須",IF(OR(O18>備品の確認!$B$3,AND(COUNTA(I18)>0,I18>O18),AND(F18="返却済",K18>O18),AND(M18="確認済",N18>O18)),"貸出/返却/現物日≦記録確認日≦基準日","確認済み")))))))))))))))))))))))))),ISNUMBER(W18),W18=IF(V18="確認済み",0,1))),1,IF(W18<>0,0,IF(AND(IF(AND(F18="貸出中",COUNTA(J18)>0),ISNUMBER(P18),ISTEXT(P18)),P18=IF(AND(F18="貸出中",COUNTA(J18)>0),J18-備品の確認!$B$3,""),IF(AND(F18="返却済",COUNTA(J18)>0),ISNUMBER(Q18),ISTEXT(Q18)),Q18=IF(AND(F18="返却済",COUNTA(J18)>0),K18-J18,""),IF(M18="確認済",ISNUMBER(R18),ISTEXT(R18)),R18=IF(M18="確認済",備品の確認!$B$3-N18,""),ISTEXT(S18),S18=IF(M18="未確認","現物未確認",IF(R18>備品の確認!$E$3,"確認間隔超過","確認間隔内")),ISTEXT(T18),T18=IF(F18="保管中","保管記録",IF(F18="返却済","返却記録",IF(F18="未確認","利用未確認",IF(COUNTA(J18)=0,"期限未確認",IF(P18<0,"返却期限超過",IF(P18=0,"返却期日","貸出中")))))),ISNUMBER(U18),U18=IF(OR(B18="未確認",D18="未確認",F18="未確認",G18="未確認",L18<>"確認済",M18="未確認",S18="確認間隔超過",AND(F18="貸出中",OR(COUNTA(J18)=0,P18<=0))),1,0)),0,1)))) -> 0
A19: AST-0012 | B19: PC | C19: LOC-0001 | D19: 確認済 | E19: LOC-0001 | F19: 保管中 | G19: 対象外 | L19: 確認済 | M19: 確認済 | N19: 46295 | O19: 46326 | P19: =IF(V19="","",IF(W19<>0,NA(),IF(AND(F19="貸出中",COUNTA(J19)>0),J19-備品の確認!$B$3,""))) | Q19: =IF(V19="","",IF(W19<>0,NA(),IF(AND(F19="返却済",COUNTA(J19)>0),K19-J19,""))) | R19: =IF(V19="","",IF(W19<>0,NA(),IF(M19="確認済",備品の確認!$B$3-N19,""))) -> 31 | S19: =IF(V19="","",IF(W19<>0,NA(),IF(M19="未確認","現物未確認",IF(R19>備品の確認!$E$3,"確認間隔超過","確認間隔内")))) -> 確認間隔超過 | T19: =IF(V19="","",IF(W19<>0,NA(),IF(F19="保管中","保管記録",IF(F19="返却済","返却記録",IF(F19="未確認","利用未確認",IF(COUNTA(J19)=0,"期限未確認",IF(P19<0,"返却期限超過",IF(P19=0,"返却期日","貸出中")))))))) -> 保管記録 | U19: =IF(V19="","",IF(W19<>0,NA(),IF(OR(B19="未確認",D19="未確認",F19="未確認",G19="未確認",L19<>"確認済",M19="未確認",S19="確認間隔超過",AND(F19="貸出中",OR(COUNTA(J19)=0,P19<=0))),1,0))) -> 1 | V19: =IF(COUNTA(A19:O19)=0,"",IF(NOT(AND(ISTEXT(A19),LEN(A19)=8,EXACT(LEFT(A19,4),"AST-"),ISNUMBER(FIND(MID(A19,5,1)&"x","0x1x2x3x4x5x6x7x8x9x")),ISNUMBER(FIND(MID(A19,6,1)&"x","0x1x2x3x4x5x6x7x8x9x")),ISNUMBER(FIND(MID(A19,7,1)&"x","0x1x2x3x4x5x6x7x8x9x")),ISNUMBER(FIND(MID(A19,8,1)&"x","0x1x2x3x4x5x6x7x8x9x")))),"備品IDはAST-と半角数字4桁",IF(COUNTIFS($A$8:$A$57,A19)>1,"備品IDが重複",IF(NOT(OR(B19="PC",B19="周辺機器",B19="工具",B19="その他",B19="未確認")),"種類を確認",IF(NOT(AND(ISTEXT(C19),LEN(C19)=8,EXACT(LEFT(C19,4),"LOC-"),ISNUMBER(FIND(MID(C19,5,1)&"x","0x1x2x3x4x5x6x7x8x9x")),ISNUMBER(FIND(MID(C19,6,1)&"x","0x1x2x3x4x5x6x7x8x9x")),ISNUMBER(FIND(MID(C19,7,1)&"x","0x1x2x3x4x5x6x7x8x9x")),ISNUMBER(FIND(MID(C19,8,1)&"x","0x1x2x3x4x5x6x7x8x9x")))),"登録保管先IDはLOC-と半角数字4桁",IF(NOT(OR(D19="確認済",D19="未確認")),"所在区分を確認",IF(AND(D19="確認済",NOT(AND(ISTEXT(E19),LEN(E19)=8,EXACT(LEFT(E19,4),"LOC-"),ISNUMBER(FIND(MID(E19,5,1)&"x","0x1x2x3x4x5x6x7x8x9x")),ISNUMBER(FIND(MID(E19,6,1)&"x","0x1x2x3x4x5x6x7x8x9x")),ISNUMBER(FIND(MID(E19,7,1)&"x","0x1x2x3x4x5x6x7x8x9x")),ISNUMBER(FIND(MID(E19,8,1)&"x","0x1x2x3x4x5x6x7x8x9x"))))),"確認済所在IDが必須",IF(AND(D19="未確認",COUNTA(E19)>0),"所在未確認は所在ID空欄",IF(NOT(OR(F19="保管中",F19="貸出中",F19="返却済",F19="未確認")),"利用区分を確認",IF(AND(F19="保管中",NOT(AND(G19="対象外",COUNTA(H19:K19)=0))),"保管中の借用者は対象外/貸出欄は空欄",IF(AND(F19<>"保管中",NOT(OR(G19="確認済",G19="未確認"))),"借用者を確認/未確認で記録",IF(AND(G19="確認済",NOT(AND(ISTEXT(H19),LEN(H19)=8,EXACT(LEFT(H19,4),"PER-"),ISNUMBER(FIND(MID(H19,5,1)&"x","0x1x2x3x4x5x6x7x8x9x")),ISNUMBER(FIND(MID(H19,6,1)&"x","0x1x2x3x4x5x6x7x8x9x")),ISNUMBER(FIND(MID(H19,7,1)&"x","0x1x2x3x4x5x6x7x8x9x")),ISNUMBER(FIND(MID(H19,8,1)&"x","0x1x2x3x4x5x6x7x8x9x"))))),"確認済借用者IDが必須",IF(AND(G19<>"確認済",COUNTA(H19)>0),"未確認/対象外の借用者IDは空欄",IF(AND(OR(F19="貸出中",F19="返却済"),NOT(IF(ISNUMBER(I19),AND(I19>=43831,I19<=73050,I19=INT(I19)),FALSE()))),"貸出日が必須",IF(AND(COUNTA(I19)>0,NOT(IF(ISNUMBER(I19),AND(I19>=43831,I19<=73050,I19=INT(I19)),FALSE()))),"貸出日は2020〜2099年/時刻なし",IF(AND(COUNTA(J19)>0,NOT(IF(ISNUMBER(J19),AND(J19>=43831,J19<=73050,J19=INT(J19)),FALSE()))),"返却期日は2020〜2099年/時刻なし",IF(AND(COUNTA(J19)>0,OR(COUNTA(I19)=0,J19<I19)),"期日は貸出日以上/貸出日必須",IF(AND(F19="返却済",NOT(IF(ISNUMBER(K19),AND(K19>=43831,K19<=73050,K19=INT(K19)),FALSE()))),"返却済の返却日が必須",IF(AND(F19<>"返却済",COUNTA(K19)>0),"返却済以外の返却日は空欄",IF(AND(F19="返却済",K19<I19),"返却日は貸出日以上",IF(NOT(OR(L19="確認済",L19="要対応",L19="未確認")),"状態確認を記録",IF(NOT(OR(M19="確認済",M19="未確認")),"現物区分を確認",IF(AND(M19="確認済",NOT(IF(ISNUMBER(N19),AND(N19>=43831,N19<=73050,N19=INT(N19)),FALSE()))),"現物確認日が必須",IF(AND(M19="未確認",COUNTA(N19)>0),"現物未確認の日付は空欄",IF(NOT(IF(ISNUMBER(O19),AND(O19>=43831,O19<=73050,O19=INT(O19)),FALSE())),"記録確認日が必須",IF(OR(O19>備品の確認!$B$3,AND(COUNTA(I19)>0,I19>O19),AND(F19="返却済",K19>O19),AND(M19="確認済",N19>O19)),"貸出/返却/現物日≦記録確認日≦基準日","確認済み")))))))))))))))))))))))))) -> 確認済み | W19: =IF(V19="","",IF(V19="確認済み",0,1)) -> 0 | X19: =IF(COUNTA(A19:O19)=0,IF(AND(V19="",W19="",P19="",Q19="",R19="",S19="",T19="",U19=""),0,1),IF(NOT(AND(ISTEXT(V19),V19=IF(COUNTA(A19:O19)=0,"",IF(NOT(AND(ISTEXT(A19),LEN(A19)=8,EXACT(LEFT(A19,4),"AST-"),ISNUMBER(FIND(MID(A19,5,1)&"x","0x1x2x3x4x5x6x7x8x9x")),ISNUMBER(FIND(MID(A19,6,1)&"x","0x1x2x3x4x5x6x7x8x9x")),ISNUMBER(FIND(MID(A19,7,1)&"x","0x1x2x3x4x5x6x7x8x9x")),ISNUMBER(FIND(MID(A19,8,1)&"x","0x1x2x3x4x5x6x7x8x9x")))),"備品IDはAST-と半角数字4桁",IF(COUNTIFS($A$8:$A$57,A19)>1,"備品IDが重複",IF(NOT(OR(B19="PC",B19="周辺機器",B19="工具",B19="その他",B19="未確認")),"種類を確認",IF(NOT(AND(ISTEXT(C19),LEN(C19)=8,EXACT(LEFT(C19,4),"LOC-"),ISNUMBER(FIND(MID(C19,5,1)&"x","0x1x2x3x4x5x6x7x8x9x")),ISNUMBER(FIND(MID(C19,6,1)&"x","0x1x2x3x4x5x6x7x8x9x")),ISNUMBER(FIND(MID(C19,7,1)&"x","0x1x2x3x4x5x6x7x8x9x")),ISNUMBER(FIND(MID(C19,8,1)&"x","0x1x2x3x4x5x6x7x8x9x")))),"登録保管先IDはLOC-と半角数字4桁",IF(NOT(OR(D19="確認済",D19="未確認")),"所在区分を確認",IF(AND(D19="確認済",NOT(AND(ISTEXT(E19),LEN(E19)=8,EXACT(LEFT(E19,4),"LOC-"),ISNUMBER(FIND(MID(E19,5,1)&"x","0x1x2x3x4x5x6x7x8x9x")),ISNUMBER(FIND(MID(E19,6,1)&"x","0x1x2x3x4x5x6x7x8x9x")),ISNUMBER(FIND(MID(E19,7,1)&"x","0x1x2x3x4x5x6x7x8x9x")),ISNUMBER(FIND(MID(E19,8,1)&"x","0x1x2x3x4x5x6x7x8x9x"))))),"確認済所在IDが必須",IF(AND(D19="未確認",COUNTA(E19)>0),"所在未確認は所在ID空欄",IF(NOT(OR(F19="保管中",F19="貸出中",F19="返却済",F19="未確認")),"利用区分を確認",IF(AND(F19="保管中",NOT(AND(G19="対象外",COUNTA(H19:K19)=0))),"保管中の借用者は対象外/貸出欄は空欄",IF(AND(F19<>"保管中",NOT(OR(G19="確認済",G19="未確認"))),"借用者を確認/未確認で記録",IF(AND(G19="確認済",NOT(AND(ISTEXT(H19),LEN(H19)=8,EXACT(LEFT(H19,4),"PER-"),ISNUMBER(FIND(MID(H19,5,1)&"x","0x1x2x3x4x5x6x7x8x9x")),ISNUMBER(FIND(MID(H19,6,1)&"x","0x1x2x3x4x5x6x7x8x9x")),ISNUMBER(FIND(MID(H19,7,1)&"x","0x1x2x3x4x5x6x7x8x9x")),ISNUMBER(FIND(MID(H19,8,1)&"x","0x1x2x3x4x5x6x7x8x9x"))))),"確認済借用者IDが必須",IF(AND(G19<>"確認済",COUNTA(H19)>0),"未確認/対象外の借用者IDは空欄",IF(AND(OR(F19="貸出中",F19="返却済"),NOT(IF(ISNUMBER(I19),AND(I19>=43831,I19<=73050,I19=INT(I19)),FALSE()))),"貸出日が必須",IF(AND(COUNTA(I19)>0,NOT(IF(ISNUMBER(I19),AND(I19>=43831,I19<=73050,I19=INT(I19)),FALSE()))),"貸出日は2020〜2099年/時刻なし",IF(AND(COUNTA(J19)>0,NOT(IF(ISNUMBER(J19),AND(J19>=43831,J19<=73050,J19=INT(J19)),FALSE()))),"返却期日は2020〜2099年/時刻なし",IF(AND(COUNTA(J19)>0,OR(COUNTA(I19)=0,J19<I19)),"期日は貸出日以上/貸出日必須",IF(AND(F19="返却済",NOT(IF(ISNUMBER(K19),AND(K19>=43831,K19<=73050,K19=INT(K19)),FALSE()))),"返却済の返却日が必須",IF(AND(F19<>"返却済",COUNTA(K19)>0),"返却済以外の返却日は空欄",IF(AND(F19="返却済",K19<I19),"返却日は貸出日以上",IF(NOT(OR(L19="確認済",L19="要対応",L19="未確認")),"状態確認を記録",IF(NOT(OR(M19="確認済",M19="未確認")),"現物区分を確認",IF(AND(M19="確認済",NOT(IF(ISNUMBER(N19),AND(N19>=43831,N19<=73050,N19=INT(N19)),FALSE()))),"現物確認日が必須",IF(AND(M19="未確認",COUNTA(N19)>0),"現物未確認の日付は空欄",IF(NOT(IF(ISNUMBER(O19),AND(O19>=43831,O19<=73050,O19=INT(O19)),FALSE())),"記録確認日が必須",IF(OR(O19>備品の確認!$B$3,AND(COUNTA(I19)>0,I19>O19),AND(F19="返却済",K19>O19),AND(M19="確認済",N19>O19)),"貸出/返却/現物日≦記録確認日≦基準日","確認済み")))))))))))))))))))))))))),ISNUMBER(W19),W19=IF(V19="確認済み",0,1))),1,IF(W19<>0,0,IF(AND(IF(AND(F19="貸出中",COUNTA(J19)>0),ISNUMBER(P19),ISTEXT(P19)),P19=IF(AND(F19="貸出中",COUNTA(J19)>0),J19-備品の確認!$B$3,""),IF(AND(F19="返却済",COUNTA(J19)>0),ISNUMBER(Q19),ISTEXT(Q19)),Q19=IF(AND(F19="返却済",COUNTA(J19)>0),K19-J19,""),IF(M19="確認済",ISNUMBER(R19),ISTEXT(R19)),R19=IF(M19="確認済",備品の確認!$B$3-N19,""),ISTEXT(S19),S19=IF(M19="未確認","現物未確認",IF(R19>備品の確認!$E$3,"確認間隔超過","確認間隔内")),ISTEXT(T19),T19=IF(F19="保管中","保管記録",IF(F19="返却済","返却記録",IF(F19="未確認","利用未確認",IF(COUNTA(J19)=0,"期限未確認",IF(P19<0,"返却期限超過",IF(P19=0,"返却期日","貸出中")))))),ISNUMBER(U19),U19=IF(OR(B19="未確認",D19="未確認",F19="未確認",G19="未確認",L19<>"確認済",M19="未確認",S19="確認間隔超過",AND(F19="貸出中",OR(COUNTA(J19)=0,P19<=0))),1,0)),0,1)))) -> 0
P20: =IF(V20="","",IF(W20<>0,NA(),IF(AND(F20="貸出中",COUNTA(J20)>0),J20-備品の確認!$B$3,""))) | Q20: =IF(V20="","",IF(W20<>0,NA(),IF(AND(F20="返却済",COUNTA(J20)>0),K20-J20,""))) | R20: =IF(V20="","",IF(W20<>0,NA(),IF(M20="確認済",備品の確認!$B$3-N20,""))) | S20: =IF(V20="","",IF(W20<>0,NA(),IF(M20="未確認","現物未確認",IF(R20>備品の確認!$E$3,"確認間隔超過","確認間隔内")))) | T20: =IF(V20="","",IF(W20<>0,NA(),IF(F20="保管中","保管記録",IF(F20="返却済","返却記録",IF(F20="未確認","利用未確認",IF(COUNTA(J20)=0,"期限未確認",IF(P20<0,"返却期限超過",IF(P20=0,"返却期日","貸出中")))))))) | U20: =IF(V20="","",IF(W20<>0,NA(),IF(OR(B20="未確認",D20="未確認",F20="未確認",G20="未確認",L20<>"確認済",M20="未確認",S20="確認間隔超過",AND(F20="貸出中",OR(COUNTA(J20)=0,P20<=0))),1,0))) | V20: =IF(COUNTA(A20:O20)=0,"",IF(NOT(AND(ISTEXT(A20),LEN(A20)=8,EXACT(LEFT(A20,4),"AST-"),ISNUMBER(FIND(MID(A20,5,1)&"x","0x1x2x3x4x5x6x7x8x9x")),ISNUMBER(FIND(MID(A20,6,1)&"x","0x1x2x3x4x5x6x7x8x9x")),ISNUMBER(FIND(MID(A20,7,1)&"x","0x1x2x3x4x5x6x7x8x9x")),ISNUMBER(FIND(MID(A20,8,1)&"x","0x1x2x3x4x5x6x7x8x9x")))),"備品IDはAST-と半角数字4桁",IF(COUNTIFS($A$8:$A$57,A20)>1,"備品IDが重複",IF(NOT(OR(B20="PC",B20="周辺機器",B20="工具",B20="その他",B20="未確認")),"種類を確認",IF(NOT(AND(ISTEXT(C20),LEN(C20)=8,EXACT(LEFT(C20,4),"LOC-"),ISNUMBER(FIND(MID(C20,5,1)&"x","0x1x2x3x4x5x6x7x8x9x")),ISNUMBER(FIND(MID(C20,6,1)&"x","0x1x2x3x4x5x6x7x8x9x")),ISNUMBER(FIND(MID(C20,7,1)&"x","0x1x2x3x4x5x6x7x8x9x")),ISNUMBER(FIND(MID(C20,8,1)&"x","0x1x2x3x4x5x6x7x8x9x")))),"登録保管先IDはLOC-と半角数字4桁",IF(NOT(OR(D20="確認済",D20="未確認")),"所在区分を確認",IF(AND(D20="確認済",NOT(AND(ISTEXT(E20),LEN(E20)=8,EXACT(LEFT(E20,4),"LOC-"),ISNUMBER(FIND(MID(E20,5,1)&"x","0x1x2x3x4x5x6x7x8x9x")),ISNUMBER(FIND(MID(E20,6,1)&"x","0x1x2x3x4x5x6x7x8x9x")),ISNUMBER(FIND(MID(E20,7,1)&"x","0x1x2x3x4x5x6x7x8x9x")),ISNUMBER(FIND(MID(E20,8,1)&"x","0x1x2x3x4x5x6x7x8x9x"))))),"確認済所在IDが必須",IF(AND(D20="未確認",COUNTA(E20)>0),"所在未確認は所在ID空欄",IF(NOT(OR(F20="保管中",F20="貸出中",F20="返却済",F20="未確認")),"利用区分を確認",IF(AND(F20="保管中",NOT(AND(G20="対象外",COUNTA(H20:K20)=0))),"保管中の借用者は対象外/貸出欄は空欄",IF(AND(F20<>"保管中",NOT(OR(G20="確認済",G20="未確認"))),"借用者を確認/未確認で記録",IF(AND(G20="確認済",NOT(AND(ISTEXT(H20),LEN(H20)=8,EXACT(LEFT(H20,4),"PER-"),ISNUMBER(FIND(MID(H20,5,1)&"x","0x1x2x3x4x5x6x7x8x9x")),ISNUMBER(FIND(MID(H20,6,1)&"x","0x1x2x3x4x5x6x7x8x9x")),ISNUMBER(FIND(MID(H20,7,1)&"x","0x1x2x3x4x5x6x7x8x9x")),ISNUMBER(FIND(MID(H20,8,1)&"x","0x1x2x3x4x5x6x7x8x9x"))))),"確認済借用者IDが必須",IF(AND(G20<>"確認済",COUNTA(H20)>0),"未確認/対象外の借用者IDは空欄",IF(AND(OR(F20="貸出中",F20="返却済"),NOT(IF(ISNUMBER(I20),AND(I20>=43831,I20<=73050,I20=INT(I20)),FALSE()))),"貸出日が必須",IF(AND(COUNTA(I20)>0,NOT(IF(ISNUMBER(I20),AND(I20>=43831,I20<=73050,I20=INT(I20)),FALSE()))),"貸出日は2020〜2099年/時刻なし",IF(AND(COUNTA(J20)>0,NOT(IF(ISNUMBER(J20),AND(J20>=43831,J20<=73050,J20=INT(J20)),FALSE()))),"返却期日は2020〜2099年/時刻なし",IF(AND(COUNTA(J20)>0,OR(COUNTA(I20)=0,J20<I20)),"期日は貸出日以上/貸出日必須",IF(AND(F20="返却済",NOT(IF(ISNUMBER(K20),AND(K20>=43831,K20<=73050,K20=INT(K20)),FALSE()))),"返却済の返却日が必須",IF(AND(F20<>"返却済",COUNTA(K20)>0),"返却済以外の返却日は空欄",IF(AND(F20="返却済",K20<I20),"返却日は貸出日以上",IF(NOT(OR(L20="確認済",L20="要対応",L20="未確認")),"状態確認を記録",IF(NOT(OR(M20="確認済",M20="未確認")),"現物区分を確認",IF(AND(M20="確認済",NOT(IF(ISNUMBER(N20),AND(N20>=43831,N20<=73050,N20=INT(N20)),FALSE()))),"現物確認日が必須",IF(AND(M20="未確認",COUNTA(N20)>0),"現物未確認の日付は空欄",IF(NOT(IF(ISNUMBER(O20),AND(O20>=43831,O20<=73050,O20=INT(O20)),FALSE())),"記録確認日が必須",IF(OR(O20>備品の確認!$B$3,AND(COUNTA(I20)>0,I20>O20),AND(F20="返却済",K20>O20),AND(M20="確認済",N20>O20)),"貸出/返却/現物日≦記録確認日≦基準日","確認済み")))))))))))))))))))))))))) | W20: =IF(V20="","",IF(V20="確認済み",0,1)) | X20: =IF(COUNTA(A20:O20)=0,IF(AND(V20="",W20="",P20="",Q20="",R20="",S20="",T20="",U20=""),0,1),IF(NOT(AND(ISTEXT(V20),V20=IF(COUNTA(A20:O20)=0,"",IF(NOT(AND(ISTEXT(A20),LEN(A20)=8,EXACT(LEFT(A20,4),"AST-"),ISNUMBER(FIND(MID(A20,5,1)&"x","0x1x2x3x4x5x6x7x8x9x")),ISNUMBER(FIND(MID(A20,6,1)&"x","0x1x2x3x4x5x6x7x8x9x")),ISNUMBER(FIND(MID(A20,7,1)&"x","0x1x2x3x4x5x6x7x8x9x")),ISNUMBER(FIND(MID(A20,8,1)&"x","0x1x2x3x4x5x6x7x8x9x")))),"備品IDはAST-と半角数字4桁",IF(COUNTIFS($A$8:$A$57,A20)>1,"備品IDが重複",IF(NOT(OR(B20="PC",B20="周辺機器",B20="工具",B20="その他",B20="未確認")),"種類を確認",IF(NOT(AND(ISTEXT(C20),LEN(C20)=8,EXACT(LEFT(C20,4),"LOC-"),ISNUMBER(FIND(MID(C20,5,1)&"x","0x1x2x3x4x5x6x7x8x9x")),ISNUMBER(FIND(MID(C20,6,1)&"x","0x1x2x3x4x5x6x7x8x9x")),ISNUMBER(FIND(MID(C20,7,1)&"x","0x1x2x3x4x5x6x7x8x9x")),ISNUMBER(FIND(MID(C20,8,1)&"x","0x1x2x3x4x5x6x7x8x9x")))),"登録保管先IDはLOC-と半角数字4桁",IF(NOT(OR(D20="確認済",D20="未確認")),"所在区分を確認",IF(AND(D20="確認済",NOT(AND(ISTEXT(E20),LEN(E20)=8,EXACT(LEFT(E20,4),"LOC-"),ISNUMBER(FIND(MID(E20,5,1)&"x","0x1x2x3x4x5x6x7x8x9x")),ISNUMBER(FIND(MID(E20,6,1)&"x","0x1x2x3x4x5x6x7x8x9x")),ISNUMBER(FIND(MID(E20,7,1)&"x","0x1x2x3x4x5x6x7x8x9x")),ISNUMBER(FIND(MID(E20,8,1)&"x","0x1x2x3x4x5x6x7x8x9x"))))),"確認済所在IDが必須",IF(AND(D20="未確認",COUNTA(E20)>0),"所在未確認は所在ID空欄",IF(NOT(OR(F20="保管中",F20="貸出中",F20="返却済",F20="未確認")),"利用区分を確認",IF(AND(F20="保管中",NOT(AND(G20="対象外",COUNTA(H20:K20)=0))),"保管中の借用者は対象外/貸出欄は空欄",IF(AND(F20<>"保管中",NOT(OR(G20="確認済",G20="未確認"))),"借用者を確認/未確認で記録",IF(AND(G20="確認済",NOT(AND(ISTEXT(H20),LEN(H20)=8,EXACT(LEFT(H20,4),"PER-"),ISNUMBER(FIND(MID(H20,5,1)&"x","0x1x2x3x4x5x6x7x8x9x")),ISNUMBER(FIND(MID(H20,6,1)&"x","0x1x2x3x4x5x6x7x8x9x")),ISNUMBER(FIND(MID(H20,7,1)&"x","0x1x2x3x4x5x6x7x8x9x")),ISNUMBER(FIND(MID(H20,8,1)&"x","0x1x2x3x4x5x6x7x8x9x"))))),"確認済借用者IDが必須",IF(AND(G20<>"確認済",COUNTA(H20)>0),"未確認/対象外の借用者IDは空欄",IF(AND(OR(F20="貸出中",F20="返却済"),NOT(IF(ISNUMBER(I20),AND(I20>=43831,I20<=73050,I20=INT(I20)),FALSE()))),"貸出日が必須",IF(AND(COUNTA(I20)>0,NOT(IF(ISNUMBER(I20),AND(I20>=43831,I20<=73050,I20=INT(I20)),FALSE()))),"貸出日は2020〜2099年/時刻なし",IF(AND(COUNTA(J20)>0,NOT(IF(ISNUMBER(J20),AND(J20>=43831,J20<=73050,J20=INT(J20)),FALSE()))),"返却期日は2020〜2099年/時刻なし",IF(AND(COUNTA(J20)>0,OR(COUNTA(I20)=0,J20<I20)),"期日は貸出日以上/貸出日必須",IF(AND(F20="返却済",NOT(IF(ISNUMBER(K20),AND(K20>=43831,K20<=73050,K20=INT(K20)),FALSE()))),"返却済の返却日が必須",IF(AND(F20<>"返却済",COUNTA(K20)>0),"返却済以外の返却日は空欄",IF(AND(F20="返却済",K20<I20),"返却日は貸出日以上",IF(NOT(OR(L20="確認済",L20="要対応",L20="未確認")),"状態確認を記録",IF(NOT(OR(M20="確認済",M20="未確認")),"現物区分を確認",IF(AND(M20="確認済",NOT(IF(ISNUMBER(N20),AND(N20>=43831,N20<=73050,N20=INT(N20)),FALSE()))),"現物確認日が必須",IF(AND(M20="未確認",COUNTA(N20)>0),"現物未確認の日付は空欄",IF(NOT(IF(ISNUMBER(O20),AND(O20>=43831,O20<=73050,O20=INT(O20)),FALSE())),"記録確認日が必須",IF(OR(O20>備品の確認!$B$3,AND(COUNTA(I20)>0,I20>O20),AND(F20="返却済",K20>O20),AND(M20="確認済",N20>O20)),"貸出/返却/現物日≦記録確認日≦基準日","確認済み")))))))))))))))))))))))))),ISNUMBER(W20),W20=IF(V20="確認済み",0,1))),1,IF(W20<>0,0,IF(AND(IF(AND(F20="貸出中",COUNTA(J20)>0),ISNUMBER(P20),ISTEXT(P20)),P20=IF(AND(F20="貸出中",COUNTA(J20)>0),J20-備品の確認!$B$3,""),IF(AND(F20="返却済",COUNTA(J20)>0),ISNUMBER(Q20),ISTEXT(Q20)),Q20=IF(AND(F20="返却済",COUNTA(J20)>0),K20-J20,""),IF(M20="確認済",ISNUMBER(R20),ISTEXT(R20)),R20=IF(M20="確認済",備品の確認!$B$3-N20,""),ISTEXT(S20),S20=IF(M20="未確認","現物未確認",IF(R20>備品の確認!$E$3,"確認間隔超過","確認間隔内")),ISTEXT(T20),T20=IF(F20="保管中","保管記録",IF(F20="返却済","返却記録",IF(F20="未確認","利用未確認",IF(COUNTA(J20)=0,"期限未確認",IF(P20<0,"返却期限超過",IF(P20=0,"返却期日","貸出中")))))),ISNUMBER(U20),U20=IF(OR(B20="未確認",D20="未確認",F20="未確認",G20="未確認",L20<>"確認済",M20="未確認",S20="確認間隔超過",AND(F20="貸出中",OR(COUNTA(J20)=0,P20<=0))),1,0)),0,1)))) -> 0
P21: =IF(V21="","",IF(W21<>0,NA(),IF(AND(F21="貸出中",COUNTA(J21)>0),J21-備品の確認!$B$3,""))) | Q21: =IF(V21="","",IF(W21<>0,NA(),IF(AND(F21="返却済",COUNTA(J21)>0),K21-J21,""))) | R21: =IF(V21="","",IF(W21<>0,NA(),IF(M21="確認済",備品の確認!$B$3-N21,""))) | S21: =IF(V21="","",IF(W21<>0,NA(),IF(M21="未確認","現物未確認",IF(R21>備品の確認!$E$3,"確認間隔超過","確認間隔内")))) | T21: =IF(V21="","",IF(W21<>0,NA(),IF(F21="保管中","保管記録",IF(F21="返却済","返却記録",IF(F21="未確認","利用未確認",IF(COUNTA(J21)=0,"期限未確認",IF(P21<0,"返却期限超過",IF(P21=0,"返却期日","貸出中")))))))) | U21: =IF(V21="","",IF(W21<>0,NA(),IF(OR(B21="未確認",D21="未確認",F21="未確認",G21="未確認",L21<>"確認済",M21="未確認",S21="確認間隔超過",AND(F21="貸出中",OR(COUNTA(J21)=0,P21<=0))),1,0))) | V21: =IF(COUNTA(A21:O21)=0,"",IF(NOT(AND(ISTEXT(A21),LEN(A21)=8,EXACT(LEFT(A21,4),"AST-"),ISNUMBER(FIND(MID(A21,5,1)&"x","0x1x2x3x4x5x6x7x8x9x")),ISNUMBER(FIND(MID(A21,6,1)&"x","0x1x2x3x4x5x6x7x8x9x")),ISNUMBER(FIND(MID(A21,7,1)&"x","0x1x2x3x4x5x6x7x8x9x")),ISNUMBER(FIND(MID(A21,8,1)&"x","0x1x2x3x4x5x6x7x8x9x")))),"備品IDはAST-と半角数字4桁",IF(COUNTIFS($A$8:$A$57,A21)>1,"備品IDが重複",IF(NOT(OR(B21="PC",B21="周辺機器",B21="工具",B21="その他",B21="未確認")),"種類を確認",IF(NOT(AND(ISTEXT(C21),LEN(C21)=8,EXACT(LEFT(C21,4),"LOC-"),ISNUMBER(FIND(MID(C21,5,1)&"x","0x1x2x3x4x5x6x7x8x9x")),ISNUMBER(FIND(MID(C21,6,1)&"x","0x1x2x3x4x5x6x7x8x9x")),ISNUMBER(FIND(MID(C21,7,1)&"x","0x1x2x3x4x5x6x7x8x9x")),ISNUMBER(FIND(MID(C21,8,1)&"x","0x1x2x3x4x5x6x7x8x9x")))),"登録保管先IDはLOC-と半角数字4桁",IF(NOT(OR(D21="確認済",D21="未確認")),"所在区分を確認",IF(AND(D21="確認済",NOT(AND(ISTEXT(E21),LEN(E21)=8,EXACT(LEFT(E21,4),"LOC-"),ISNUMBER(FIND(MID(E21,5,1)&"x","0x1x2x3x4x5x6x7x8x9x")),ISNUMBER(FIND(MID(E21,6,1)&"x","0x1x2x3x4x5x6x7x8x9x")),ISNUMBER(FIND(MID(E21,7,1)&"x","0x1x2x3x4x5x6x7x8x9x")),ISNUMBER(FIND(MID(E21,8,1)&"x","0x1x2x3x4x5x6x7x8x9x"))))),"確認済所在IDが必須",IF(AND(D21="未確認",COUNTA(E21)>0),"所在未確認は所在ID空欄",IF(NOT(OR(F21="保管中",F21="貸出中",F21="返却済",F21="未確認")),"利用区分を確認",IF(AND(F21="保管中",NOT(AND(G21="対象外",COUNTA(H21:K21)=0))),"保管中の借用者は対象外/貸出欄は空欄",IF(AND(F21<>"保管中",NOT(OR(G21="確認済",G21="未確認"))),"借用者を確認/未確認で記録",IF(AND(G21="確認済",NOT(AND(ISTEXT(H21),LEN(H21)=8,EXACT(LEFT(H21,4),"PER-"),ISNUMBER(FIND(MID(H21,5,1)&"x","0x1x2x3x4x5x6x7x8x9x")),ISNUMBER(FIND(MID(H21,6,1)&"x","0x1x2x3x4x5x6x7x8x9x")),ISNUMBER(FIND(MID(H21,7,1)&"x","0x1x2x3x4x5x6x7x8x9x")),ISNUMBER(FIND(MID(H21,8,1)&"x","0x1x2x3x4x5x6x7x8x9x"))))),"確認済借用者IDが必須",IF(AND(G21<>"確認済",COUNTA(H21)>0),"未確認/対象外の借用者IDは空欄",IF(AND(OR(F21="貸出中",F21="返却済"),NOT(IF(ISNUMBER(I21),AND(I21>=43831,I21<=73050,I21=INT(I21)),FALSE()))),"貸出日が必須",IF(AND(COUNTA(I21)>0,NOT(IF(ISNUMBER(I21),AND(I21>=43831,I21<=73050,I21=INT(I21)),FALSE()))),"貸出日は2020〜2099年/時刻なし",IF(AND(COUNTA(J21)>0,NOT(IF(ISNUMBER(J21),AND(J21>=43831,J21<=73050,J21=INT(J21)),FALSE()))),"返却期日は2020〜2099年/時刻なし",IF(AND(COUNTA(J21)>0,OR(COUNTA(I21)=0,J21<I21)),"期日は貸出日以上/貸出日必須",IF(AND(F21="返却済",NOT(IF(ISNUMBER(K21),AND(K21>=43831,K21<=73050,K21=INT(K21)),FALSE()))),"返却済の返却日が必須",IF(AND(F21<>"返却済",COUNTA(K21)>0),"返却済以外の返却日は空欄",IF(AND(F21="返却済",K21<I21),"返却日は貸出日以上",IF(NOT(OR(L21="確認済",L21="要対応",L21="未確認")),"状態確認を記録",IF(NOT(OR(M21="確認済",M21="未確認")),"現物区分を確認",IF(AND(M21="確認済",NOT(IF(ISNUMBER(N21),AND(N21>=43831,N21<=73050,N21=INT(N21)),FALSE()))),"現物確認日が必須",IF(AND(M21="未確認",COUNTA(N21)>0),"現物未確認の日付は空欄",IF(NOT(IF(ISNUMBER(O21),AND(O21>=43831,O21<=73050,O21=INT(O21)),FALSE())),"記録確認日が必須",IF(OR(O21>備品の確認!$B$3,AND(COUNTA(I21)>0,I21>O21),AND(F21="返却済",K21>O21),AND(M21="確認済",N21>O21)),"貸出/返却/現物日≦記録確認日≦基準日","確認済み")))))))))))))))))))))))))) | W21: =IF(V21="","",IF(V21="確認済み",0,1)) | X21: =IF(COUNTA(A21:O21)=0,IF(AND(V21="",W21="",P21="",Q21="",R21="",S21="",T21="",U21=""),0,1),IF(NOT(AND(ISTEXT(V21),V21=IF(COUNTA(A21:O21)=0,"",IF(NOT(AND(ISTEXT(A21),LEN(A21)=8,EXACT(LEFT(A21,4),"AST-"),ISNUMBER(FIND(MID(A21,5,1)&"x","0x1x2x3x4x5x6x7x8x9x")),ISNUMBER(FIND(MID(A21,6,1)&"x","0x1x2x3x4x5x6x7x8x9x")),ISNUMBER(FIND(MID(A21,7,1)&"x","0x1x2x3x4x5x6x7x8x9x")),ISNUMBER(FIND(MID(A21,8,1)&"x","0x1x2x3x4x5x6x7x8x9x")))),"備品IDはAST-と半角数字4桁",IF(COUNTIFS($A$8:$A$57,A21)>1,"備品IDが重複",IF(NOT(OR(B21="PC",B21="周辺機器",B21="工具",B21="その他",B21="未確認")),"種類を確認",IF(NOT(AND(ISTEXT(C21),LEN(C21)=8,EXACT(LEFT(C21,4),"LOC-"),ISNUMBER(FIND(MID(C21,5,1)&"x","0x1x2x3x4x5x6x7x8x9x")),ISNUMBER(FIND(MID(C21,6,1)&"x","0x1x2x3x4x5x6x7x8x9x")),ISNUMBER(FIND(MID(C21,7,1)&"x","0x1x2x3x4x5x6x7x8x9x")),ISNUMBER(FIND(MID(C21,8,1)&"x","0x1x2x3x4x5x6x7x8x9x")))),"登録保管先IDはLOC-と半角数字4桁",IF(NOT(OR(D21="確認済",D21="未確認")),"所在区分を確認",IF(AND(D21="確認済",NOT(AND(ISTEXT(E21),LEN(E21)=8,EXACT(LEFT(E21,4),"LOC-"),ISNUMBER(FIND(MID(E21,5,1)&"x","0x1x2x3x4x5x6x7x8x9x")),ISNUMBER(FIND(MID(E21,6,1)&"x","0x1x2x3x4x5x6x7x8x9x")),ISNUMBER(FIND(MID(E21,7,1)&"x","0x1x2x3x4x5x6x7x8x9x")),ISNUMBER(FIND(MID(E21,8,1)&"x","0x1x2x3x4x5x6x7x8x9x"))))),"確認済所在IDが必須",IF(AND(D21="未確認",COUNTA(E21)>0),"所在未確認は所在ID空欄",IF(NOT(OR(F21="保管中",F21="貸出中",F21="返却済",F21="未確認")),"利用区分を確認",IF(AND(F21="保管中",NOT(AND(G21="対象外",COUNTA(H21:K21)=0))),"保管中の借用者は対象外/貸出欄は空欄",IF(AND(F21<>"保管中",NOT(OR(G21="確認済",G21="未確認"))),"借用者を確認/未確認で記録",IF(AND(G21="確認済",NOT(AND(ISTEXT(H21),LEN(H21)=8,EXACT(LEFT(H21,4),"PER-"),ISNUMBER(FIND(MID(H21,5,1)&"x","0x1x2x3x4x5x6x7x8x9x")),ISNUMBER(FIND(MID(H21,6,1)&"x","0x1x2x3x4x5x6x7x8x9x")),ISNUMBER(FIND(MID(H21,7,1)&"x","0x1x2x3x4x5x6x7x8x9x")),ISNUMBER(FIND(MID(H21,8,1)&"x","0x1x2x3x4x5x6x7x8x9x"))))),"確認済借用者IDが必須",IF(AND(G21<>"確認済",COUNTA(H21)>0),"未確認/対象外の借用者IDは空欄",IF(AND(OR(F21="貸出中",F21="返却済"),NOT(IF(ISNUMBER(I21),AND(I21>=43831,I21<=73050,I21=INT(I21)),FALSE()))),"貸出日が必須",IF(AND(COUNTA(I21)>0,NOT(IF(ISNUMBER(I21),AND(I21>=43831,I21<=73050,I21=INT(I21)),FALSE()))),"貸出日は2020〜2099年/時刻なし",IF(AND(COUNTA(J21)>0,NOT(IF(ISNUMBER(J21),AND(J21>=43831,J21<=73050,J21=INT(J21)),FALSE()))),"返却期日は2020〜2099年/時刻なし",IF(AND(COUNTA(J21)>0,OR(COUNTA(I21)=0,J21<I21)),"期日は貸出日以上/貸出日必須",IF(AND(F21="返却済",NOT(IF(ISNUMBER(K21),AND(K21>=43831,K21<=73050,K21=INT(K21)),FALSE()))),"返却済の返却日が必須",IF(AND(F21<>"返却済",COUNTA(K21)>0),"返却済以外の返却日は空欄",IF(AND(F21="返却済",K21<I21),"返却日は貸出日以上",IF(NOT(OR(L21="確認済",L21="要対応",L21="未確認")),"状態確認を記録",IF(NOT(OR(M21="確認済",M21="未確認")),"現物区分を確認",IF(AND(M21="確認済",NOT(IF(ISNUMBER(N21),AND(N21>=43831,N21<=73050,N21=INT(N21)),FALSE()))),"現物確認日が必須",IF(AND(M21="未確認",COUNTA(N21)>0),"現物未確認の日付は空欄",IF(NOT(IF(ISNUMBER(O21),AND(O21>=43831,O21<=73050,O21=INT(O21)),FALSE())),"記録確認日が必須",IF(OR(O21>備品の確認!$B$3,AND(COUNTA(I21)>0,I21>O21),AND(F21="返却済",K21>O21),AND(M21="確認済",N21>O21)),"貸出/返却/現物日≦記録確認日≦基準日","確認済み")))))))))))))))))))))))))),ISNUMBER(W21),W21=IF(V21="確認済み",0,1))),1,IF(W21<>0,0,IF(AND(IF(AND(F21="貸出中",COUNTA(J21)>0),ISNUMBER(P21),ISTEXT(P21)),P21=IF(AND(F21="貸出中",COUNTA(J21)>0),J21-備品の確認!$B$3,""),IF(AND(F21="返却済",COUNTA(J21)>0),ISNUMBER(Q21),ISTEXT(Q21)),Q21=IF(AND(F21="返却済",COUNTA(J21)>0),K21-J21,""),IF(M21="確認済",ISNUMBER(R21),ISTEXT(R21)),R21=IF(M21="確認済",備品の確認!$B$3-N21,""),ISTEXT(S21),S21=IF(M21="未確認","現物未確認",IF(R21>備品の確認!$E$3,"確認間隔超過","確認間隔内")),ISTEXT(T21),T21=IF(F21="保管中","保管記録",IF(F21="返却済","返却記録",IF(F21="未確認","利用未確認",IF(COUNTA(J21)=0,"期限未確認",IF(P21<0,"返却期限超過",IF(P21=0,"返却期日","貸出中")))))),ISNUMBER(U21),U21=IF(OR(B21="未確認",D21="未確認",F21="未確認",G21="未確認",L21<>"確認済",M21="未確認",S21="確認間隔超過",AND(F21="貸出中",OR(COUNTA(J21)=0,P21<=0))),1,0)),0,1)))) -> 0
P22: =IF(V22="","",IF(W22<>0,NA(),IF(AND(F22="貸出中",COUNTA(J22)>0),J22-備品の確認!$B$3,""))) | Q22: =IF(V22="","",IF(W22<>0,NA(),IF(AND(F22="返却済",COUNTA(J22)>0),K22-J22,""))) | R22: =IF(V22="","",IF(W22<>0,NA(),IF(M22="確認済",備品の確認!$B$3-N22,""))) | S22: =IF(V22="","",IF(W22<>0,NA(),IF(M22="未確認","現物未確認",IF(R22>備品の確認!$E$3,"確認間隔超過","確認間隔内")))) | T22: =IF(V22="","",IF(W22<>0,NA(),IF(F22="保管中","保管記録",IF(F22="返却済","返却記録",IF(F22="未確認","利用未確認",IF(COUNTA(J22)=0,"期限未確認",IF(P22<0,"返却期限超過",IF(P22=0,"返却期日","貸出中")))))))) | U22: =IF(V22="","",IF(W22<>0,NA(),IF(OR(B22="未確認",D22="未確認",F22="未確認",G22="未確認",L22<>"確認済",M22="未確認",S22="確認間隔超過",AND(F22="貸出中",OR(COUNTA(J22)=0,P22<=0))),1,0))) | V22: =IF(COUNTA(A22:O22)=0,"",IF(NOT(AND(ISTEXT(A22),LEN(A22)=8,EXACT(LEFT(A22,4),"AST-"),ISNUMBER(FIND(MID(A22,5,1)&"x","0x1x2x3x4x5x6x7x8x9x")),ISNUMBER(FIND(MID(A22,6,1)&"x","0x1x2x3x4x5x6x7x8x9x")),ISNUMBER(FIND(MID(A22,7,1)&"x","0x1x2x3x4x5x6x7x8x9x")),ISNUMBER(FIND(MID(A22,8,1)&"x","0x1x2x3x4x5x6x7x8x9x")))),"備品IDはAST-と半角数字4桁",IF(COUNTIFS($A$8:$A$57,A22)>1,"備品IDが重複",IF(NOT(OR(B22="PC",B22="周辺機器",B22="工具",B22="その他",B22="未確認")),"種類を確認",IF(NOT(AND(ISTEXT(C22),LEN(C22)=8,EXACT(LEFT(C22,4),"LOC-"),ISNUMBER(FIND(MID(C22,5,1)&"x","0x1x2x3x4x5x6x7x8x9x")),ISNUMBER(FIND(MID(C22,6,1)&"x","0x1x2x3x4x5x6x7x8x9x")),ISNUMBER(FIND(MID(C22,7,1)&"x","0x1x2x3x4x5x6x7x8x9x")),ISNUMBER(FIND(MID(C22,8,1)&"x","0x1x2x3x4x5x6x7x8x9x")))),"登録保管先IDはLOC-と半角数字4桁",IF(NOT(OR(D22="確認済",D22="未確認")),"所在区分を確認",IF(AND(D22="確認済",NOT(AND(ISTEXT(E22),LEN(E22)=8,EXACT(LEFT(E22,4),"LOC-"),ISNUMBER(FIND(MID(E22,5,1)&"x","0x1x2x3x4x5x6x7x8x9x")),ISNUMBER(FIND(MID(E22,6,1)&"x","0x1x2x3x4x5x6x7x8x9x")),ISNUMBER(FIND(MID(E22,7,1)&"x","0x1x2x3x4x5x6x7x8x9x")),ISNUMBER(FIND(MID(E22,8,1)&"x","0x1x2x3x4x5x6x7x8x9x"))))),"確認済所在IDが必須",IF(AND(D22="未確認",COUNTA(E22)>0),"所在未確認は所在ID空欄",IF(NOT(OR(F22="保管中",F22="貸出中",F22="返却済",F22="未確認")),"利用区分を確認",IF(AND(F22="保管中",NOT(AND(G22="対象外",COUNTA(H22:K22)=0))),"保管中の借用者は対象外/貸出欄は空欄",IF(AND(F22<>"保管中",NOT(OR(G22="確認済",G22="未確認"))),"借用者を確認/未確認で記録",IF(AND(G22="確認済",NOT(AND(ISTEXT(H22),LEN(H22)=8,EXACT(LEFT(H22,4),"PER-"),ISNUMBER(FIND(MID(H22,5,1)&"x","0x1x2x3x4x5x6x7x8x9x")),ISNUMBER(FIND(MID(H22,6,1)&"x","0x1x2x3x4x5x6x7x8x9x")),ISNUMBER(FIND(MID(H22,7,1)&"x","0x1x2x3x4x5x6x7x8x9x")),ISNUMBER(FIND(MID(H22,8,1)&"x","0x1x2x3x4x5x6x7x8x9x"))))),"確認済借用者IDが必須",IF(AND(G22<>"確認済",COUNTA(H22)>0),"未確認/対象外の借用者IDは空欄",IF(AND(OR(F22="貸出中",F22="返却済"),NOT(IF(ISNUMBER(I22),AND(I22>=43831,I22<=73050,I22=INT(I22)),FALSE()))),"貸出日が必須",IF(AND(COUNTA(I22)>0,NOT(IF(ISNUMBER(I22),AND(I22>=43831,I22<=73050,I22=INT(I22)),FALSE()))),"貸出日は2020〜2099年/時刻なし",IF(AND(COUNTA(J22)>0,NOT(IF(ISNUMBER(J22),AND(J22>=43831,J22<=73050,J22=INT(J22)),FALSE()))),"返却期日は2020〜2099年/時刻なし",IF(AND(COUNTA(J22)>0,OR(COUNTA(I22)=0,J22<I22)),"期日は貸出日以上/貸出日必須",IF(AND(F22="返却済",NOT(IF(ISNUMBER(K22),AND(K22>=43831,K22<=73050,K22=INT(K22)),FALSE()))),"返却済の返却日が必須",IF(AND(F22<>"返却済",COUNTA(K22)>0),"返却済以外の返却日は空欄",IF(AND(F22="返却済",K22<I22),"返却日は貸出日以上",IF(NOT(OR(L22="確認済",L22="要対応",L22="未確認")),"状態確認を記録",IF(NOT(OR(M22="確認済",M22="未確認")),"現物区分を確認",IF(AND(M22="確認済",NOT(IF(ISNUMBER(N22),AND(N22>=43831,N22<=73050,N22=INT(N22)),FALSE()))),"現物確認日が必須",IF(AND(M22="未確認",COUNTA(N22)>0),"現物未確認の日付は空欄",IF(NOT(IF(ISNUMBER(O22),AND(O22>=43831,O22<=73050,O22=INT(O22)),FALSE())),"記録確認日が必須",IF(OR(O22>備品の確認!$B$3,AND(COUNTA(I22)>0,I22>O22),AND(F22="返却済",K22>O22),AND(M22="確認済",N22>O22)),"貸出/返却/現物日≦記録確認日≦基準日","確認済み")))))))))))))))))))))))))) | W22: =IF(V22="","",IF(V22="確認済み",0,1)) | X22: =IF(COUNTA(A22:O22)=0,IF(AND(V22="",W22="",P22="",Q22="",R22="",S22="",T22="",U22=""),0,1),IF(NOT(AND(ISTEXT(V22),V22=IF(COUNTA(A22:O22)=0,"",IF(NOT(AND(ISTEXT(A22),LEN(A22)=8,EXACT(LEFT(A22,4),"AST-"),ISNUMBER(FIND(MID(A22,5,1)&"x","0x1x2x3x4x5x6x7x8x9x")),ISNUMBER(FIND(MID(A22,6,1)&"x","0x1x2x3x4x5x6x7x8x9x")),ISNUMBER(FIND(MID(A22,7,1)&"x","0x1x2x3x4x5x6x7x8x9x")),ISNUMBER(FIND(MID(A22,8,1)&"x","0x1x2x3x4x5x6x7x8x9x")))),"備品IDはAST-と半角数字4桁",IF(COUNTIFS($A$8:$A$57,A22)>1,"備品IDが重複",IF(NOT(OR(B22="PC",B22="周辺機器",B22="工具",B22="その他",B22="未確認")),"種類を確認",IF(NOT(AND(ISTEXT(C22),LEN(C22)=8,EXACT(LEFT(C22,4),"LOC-"),ISNUMBER(FIND(MID(C22,5,1)&"x","0x1x2x3x4x5x6x7x8x9x")),ISNUMBER(FIND(MID(C22,6,1)&"x","0x1x2x3x4x5x6x7x8x9x")),ISNUMBER(FIND(MID(C22,7,1)&"x","0x1x2x3x4x5x6x7x8x9x")),ISNUMBER(FIND(MID(C22,8,1)&"x","0x1x2x3x4x5x6x7x8x9x")))),"登録保管先IDはLOC-と半角数字4桁",IF(NOT(OR(D22="確認済",D22="未確認")),"所在区分を確認",IF(AND(D22="確認済",NOT(AND(ISTEXT(E22),LEN(E22)=8,EXACT(LEFT(E22,4),"LOC-"),ISNUMBER(FIND(MID(E22,5,1)&"x","0x1x2x3x4x5x6x7x8x9x")),ISNUMBER(FIND(MID(E22,6,1)&"x","0x1x2x3x4x5x6x7x8x9x")),ISNUMBER(FIND(MID(E22,7,1)&"x","0x1x2x3x4x5x6x7x8x9x")),ISNUMBER(FIND(MID(E22,8,1)&"x","0x1x2x3x4x5x6x7x8x9x"))))),"確認済所在IDが必須",IF(AND(D22="未確認",COUNTA(E22)>0),"所在未確認は所在ID空欄",IF(NOT(OR(F22="保管中",F22="貸出中",F22="返却済",F22="未確認")),"利用区分を確認",IF(AND(F22="保管中",NOT(AND(G22="対象外",COUNTA(H22:K22)=0))),"保管中の借用者は対象外/貸出欄は空欄",IF(AND(F22<>"保管中",NOT(OR(G22="確認済",G22="未確認"))),"借用者を確認/未確認で記録",IF(AND(G22="確認済",NOT(AND(ISTEXT(H22),LEN(H22)=8,EXACT(LEFT(H22,4),"PER-"),ISNUMBER(FIND(MID(H22,5,1)&"x","0x1x2x3x4x5x6x7x8x9x")),ISNUMBER(FIND(MID(H22,6,1)&"x","0x1x2x3x4x5x6x7x8x9x")),ISNUMBER(FIND(MID(H22,7,1)&"x","0x1x2x3x4x5x6x7x8x9x")),ISNUMBER(FIND(MID(H22,8,1)&"x","0x1x2x3x4x5x6x7x8x9x"))))),"確認済借用者IDが必須",IF(AND(G22<>"確認済",COUNTA(H22)>0),"未確認/対象外の借用者IDは空欄",IF(AND(OR(F22="貸出中",F22="返却済"),NOT(IF(ISNUMBER(I22),AND(I22>=43831,I22<=73050,I22=INT(I22)),FALSE()))),"貸出日が必須",IF(AND(COUNTA(I22)>0,NOT(IF(ISNUMBER(I22),AND(I22>=43831,I22<=73050,I22=INT(I22)),FALSE()))),"貸出日は2020〜2099年/時刻なし",IF(AND(COUNTA(J22)>0,NOT(IF(ISNUMBER(J22),AND(J22>=43831,J22<=73050,J22=INT(J22)),FALSE()))),"返却期日は2020〜2099年/時刻なし",IF(AND(COUNTA(J22)>0,OR(COUNTA(I22)=0,J22<I22)),"期日は貸出日以上/貸出日必須",IF(AND(F22="返却済",NOT(IF(ISNUMBER(K22),AND(K22>=43831,K22<=73050,K22=INT(K22)),FALSE()))),"返却済の返却日が必須",IF(AND(F22<>"返却済",COUNTA(K22)>0),"返却済以外の返却日は空欄",IF(AND(F22="返却済",K22<I22),"返却日は貸出日以上",IF(NOT(OR(L22="確認済",L22="要対応",L22="未確認")),"状態確認を記録",IF(NOT(OR(M22="確認済",M22="未確認")),"現物区分を確認",IF(AND(M22="確認済",NOT(IF(ISNUMBER(N22),AND(N22>=43831,N22<=73050,N22=INT(N22)),FALSE()))),"現物確認日が必須",IF(AND(M22="未確認",COUNTA(N22)>0),"現物未確認の日付は空欄",IF(NOT(IF(ISNUMBER(O22),AND(O22>=43831,O22<=73050,O22=INT(O22)),FALSE())),"記録確認日が必須",IF(OR(O22>備品の確認!$B$3,AND(COUNTA(I22)>0,I22>O22),AND(F22="返却済",K22>O22),AND(M22="確認済",N22>O22)),"貸出/返却/現物日≦記録確認日≦基準日","確認済み")))))))))))))))))))))))))),ISNUMBER(W22),W22=IF(V22="確認済み",0,1))),1,IF(W22<>0,0,IF(AND(IF(AND(F22="貸出中",COUNTA(J22)>0),ISNUMBER(P22),ISTEXT(P22)),P22=IF(AND(F22="貸出中",COUNTA(J22)>0),J22-備品の確認!$B$3,""),IF(AND(F22="返却済",COUNTA(J22)>0),ISNUMBER(Q22),ISTEXT(Q22)),Q22=IF(AND(F22="返却済",COUNTA(J22)>0),K22-J22,""),IF(M22="確認済",ISNUMBER(R22),ISTEXT(R22)),R22=IF(M22="確認済",備品の確認!$B$3-N22,""),ISTEXT(S22),S22=IF(M22="未確認","現物未確認",IF(R22>備品の確認!$E$3,"確認間隔超過","確認間隔内")),ISTEXT(T22),T22=IF(F22="保管中","保管記録",IF(F22="返却済","返却記録",IF(F22="未確認","利用未確認",IF(COUNTA(J22)=0,"期限未確認",IF(P22<0,"返却期限超過",IF(P22=0,"返却期日","貸出中")))))),ISNUMBER(U22),U22=IF(OR(B22="未確認",D22="未確認",F22="未確認",G22="未確認",L22<>"確認済",M22="未確認",S22="確認間隔超過",AND(F22="貸出中",OR(COUNTA(J22)=0,P22<=0))),1,0)),0,1)))) -> 0
P23: =IF(V23="","",IF(W23<>0,NA(),IF(AND(F23="貸出中",COUNTA(J23)>0),J23-備品の確認!$B$3,""))) | Q23: =IF(V23="","",IF(W23<>0,NA(),IF(AND(F23="返却済",COUNTA(J23)>0),K23-J23,""))) | R23: =IF(V23="","",IF(W23<>0,NA(),IF(M23="確認済",備品の確認!$B$3-N23,""))) | S23: =IF(V23="","",IF(W23<>0,NA(),IF(M23="未確認","現物未確認",IF(R23>備品の確認!$E$3,"確認間隔超過","確認間隔内")))) | T23: =IF(V23="","",IF(W23<>0,NA(),IF(F23="保管中","保管記録",IF(F23="返却済","返却記録",IF(F23="未確認","利用未確認",IF(COUNTA(J23)=0,"期限未確認",IF(P23<0,"返却期限超過",IF(P23=0,"返却期日","貸出中")))))))) | U23: =IF(V23="","",IF(W23<>0,NA(),IF(OR(B23="未確認",D23="未確認",F23="未確認",G23="未確認",L23<>"確認済",M23="未確認",S23="確認間隔超過",AND(F23="貸出中",OR(COUNTA(J23)=0,P23<=0))),1,0))) | V23: =IF(COUNTA(A23:O23)=0,"",IF(NOT(AND(ISTEXT(A23),LEN(A23)=8,EXACT(LEFT(A23,4),"AST-"),ISNUMBER(FIND(MID(A23,5,1)&"x","0x1x2x3x4x5x6x7x8x9x")),ISNUMBER(FIND(MID(A23,6,1)&"x","0x1x2x3x4x5x6x7x8x9x")),ISNUMBER(FIND(MID(A23,7,1)&"x","0x1x2x3x4x5x6x7x8x9x")),ISNUMBER(FIND(MID(A23,8,1)&"x","0x1x2x3x4x5x6x7x8x9x")))),"備品IDはAST-と半角数字4桁",IF(COUNTIFS($A$8:$A$57,A23)>1,"備品IDが重複",IF(NOT(OR(B23="PC",B23="周辺機器",B23="工具",B23="その他",B23="未確認")),"種類を確認",IF(NOT(AND(ISTEXT(C23),LEN(C23)=8,EXACT(LEFT(C23,4),"LOC-"),ISNUMBER(FIND(MID(C23,5,1)&"x","0x1x2x3x4x5x6x7x8x9x")),ISNUMBER(FIND(MID(C23,6,1)&"x","0x1x2x3x4x5x6x7x8x9x")),ISNUMBER(FIND(MID(C23,7,1)&"x","0x1x2x3x4x5x6x7x8x9x")),ISNUMBER(FIND(MID(C23,8,1)&"x","0x1x2x3x4x5x6x7x8x9x")))),"登録保管先IDはLOC-と半角数字4桁",IF(NOT(OR(D23="確認済",D23="未確認")),"所在区分を確認",IF(AND(D23="確認済",NOT(AND(ISTEXT(E23),LEN(E23)=8,EXACT(LEFT(E23,4),"LOC-"),ISNUMBER(FIND(MID(E23,5,1)&"x","0x1x2x3x4x5x6x7x8x9x")),ISNUMBER(FIND(MID(E23,6,1)&"x","0x1x2x3x4x5x6x7x8x9x")),ISNUMBER(FIND(MID(E23,7,1)&"x","0x1x2x3x4x5x6x7x8x9x")),ISNUMBER(FIND(MID(E23,8,1)&"x","0x1x2x3x4x5x6x7x8x9x"))))),"確認済所在IDが必須",IF(AND(D23="未確認",COUNTA(E23)>0),"所在未確認は所在ID空欄",IF(NOT(OR(F23="保管中",F23="貸出中",F23="返却済",F23="未確認")),"利用区分を確認",IF(AND(F23="保管中",NOT(AND(G23="対象外",COUNTA(H23:K23)=0))),"保管中の借用者は対象外/貸出欄は空欄",IF(AND(F23<>"保管中",NOT(OR(G23="確認済",G23="未確認"))),"借用者を確認/未確認で記録",IF(AND(G23="確認済",NOT(AND(ISTEXT(H23),LEN(H23)=8,EXACT(LEFT(H23,4),"PER-"),ISNUMBER(FIND(MID(H23,5,1)&"x","0x1x2x3x4x5x6x7x8x9x")),ISNUMBER(FIND(MID(H23,6,1)&"x","0x1x2x3x4x5x6x7x8x9x")),ISNUMBER(FIND(MID(H23,7,1)&"x","0x1x2x3x4x5x6x7x8x9x")),ISNUMBER(FIND(MID(H23,8,1)&"x","0x1x2x3x4x5x6x7x8x9x"))))),"確認済借用者IDが必須",IF(AND(G23<>"確認済",COUNTA(H23)>0),"未確認/対象外の借用者IDは空欄",IF(AND(OR(F23="貸出中",F23="返却済"),NOT(IF(ISNUMBER(I23),AND(I23>=43831,I23<=73050,I23=INT(I23)),FALSE()))),"貸出日が必須",IF(AND(COUNTA(I23)>0,NOT(IF(ISNUMBER(I23),AND(I23>=43831,I23<=73050,I23=INT(I23)),FALSE()))),"貸出日は2020〜2099年/時刻なし",IF(AND(COUNTA(J23)>0,NOT(IF(ISNUMBER(J23),AND(J23>=43831,J23<=73050,J23=INT(J23)),FALSE()))),"返却期日は2020〜2099年/時刻なし",IF(AND(COUNTA(J23)>0,OR(COUNTA(I23)=0,J23<I23)),"期日は貸出日以上/貸出日必須",IF(AND(F23="返却済",NOT(IF(ISNUMBER(K23),AND(K23>=43831,K23<=73050,K23=INT(K23)),FALSE()))),"返却済の返却日が必須",IF(AND(F23<>"返却済",COUNTA(K23)>0),"返却済以外の返却日は空欄",IF(AND(F23="返却済",K23<I23),"返却日は貸出日以上",IF(NOT(OR(L23="確認済",L23="要対応",L23="未確認")),"状態確認を記録",IF(NOT(OR(M23="確認済",M23="未確認")),"現物区分を確認",IF(AND(M23="確認済",NOT(IF(ISNUMBER(N23),AND(N23>=43831,N23<=73050,N23=INT(N23)),FALSE()))),"現物確認日が必須",IF(AND(M23="未確認",COUNTA(N23)>0),"現物未確認の日付は空欄",IF(NOT(IF(ISNUMBER(O23),AND(O23>=43831,O23<=73050,O23=INT(O23)),FALSE())),"記録確認日が必須",IF(OR(O23>備品の確認!$B$3,AND(COUNTA(I23)>0,I23>O23),AND(F23="返却済",K23>O23),AND(M23="確認済",N23>O23)),"貸出/返却/現物日≦記録確認日≦基準日","確認済み")))))))))))))))))))))))))) | W23: =IF(V23="","",IF(V23="確認済み",0,1)) | X23: =IF(COUNTA(A23:O23)=0,IF(AND(V23="",W23="",P23="",Q23="",R23="",S23="",T23="",U23=""),0,1),IF(NOT(AND(ISTEXT(V23),V23=IF(COUNTA(A23:O23)=0,"",IF(NOT(AND(ISTEXT(A23),LEN(A23)=8,EXACT(LEFT(A23,4),"AST-"),ISNUMBER(FIND(MID(A23,5,1)&"x","0x1x2x3x4x5x6x7x8x9x")),ISNUMBER(FIND(MID(A23,6,1)&"x","0x1x2x3x4x5x6x7x8x9x")),ISNUMBER(FIND(MID(A23,7,1)&"x","0x1x2x3x4x5x6x7x8x9x")),ISNUMBER(FIND(MID(A23,8,1)&"x","0x1x2x3x4x5x6x7x8x9x")))),"備品IDはAST-と半角数字4桁",IF(COUNTIFS($A$8:$A$57,A23)>1,"備品IDが重複",IF(NOT(OR(B23="PC",B23="周辺機器",B23="工具",B23="その他",B23="未確認")),"種類を確認",IF(NOT(AND(ISTEXT(C23),LEN(C23)=8,EXACT(LEFT(C23,4),"LOC-"),ISNUMBER(FIND(MID(C23,5,1)&"x","0x1x2x3x4x5x6x7x8x9x")),ISNUMBER(FIND(MID(C23,6,1)&"x","0x1x2x3x4x5x6x7x8x9x")),ISNUMBER(FIND(MID(C23,7,1)&"x","0x1x2x3x4x5x6x7x8x9x")),ISNUMBER(FIND(MID(C23,8,1)&"x","0x1x2x3x4x5x6x7x8x9x")))),"登録保管先IDはLOC-と半角数字4桁",IF(NOT(OR(D23="確認済",D23="未確認")),"所在区分を確認",IF(AND(D23="確認済",NOT(AND(ISTEXT(E23),LEN(E23)=8,EXACT(LEFT(E23,4),"LOC-"),ISNUMBER(FIND(MID(E23,5,1)&"x","0x1x2x3x4x5x6x7x8x9x")),ISNUMBER(FIND(MID(E23,6,1)&"x","0x1x2x3x4x5x6x7x8x9x")),ISNUMBER(FIND(MID(E23,7,1)&"x","0x1x2x3x4x5x6x7x8x9x")),ISNUMBER(FIND(MID(E23,8,1)&"x","0x1x2x3x4x5x6x7x8x9x"))))),"確認済所在IDが必須",IF(AND(D23="未確認",COUNTA(E23)>0),"所在未確認は所在ID空欄",IF(NOT(OR(F23="保管中",F23="貸出中",F23="返却済",F23="未確認")),"利用区分を確認",IF(AND(F23="保管中",NOT(AND(G23="対象外",COUNTA(H23:K23)=0))),"保管中の借用者は対象外/貸出欄は空欄",IF(AND(F23<>"保管中",NOT(OR(G23="確認済",G23="未確認"))),"借用者を確認/未確認で記録",IF(AND(G23="確認済",NOT(AND(ISTEXT(H23),LEN(H23)=8,EXACT(LEFT(H23,4),"PER-"),ISNUMBER(FIND(MID(H23,5,1)&"x","0x1x2x3x4x5x6x7x8x9x")),ISNUMBER(FIND(MID(H23,6,1)&"x","0x1x2x3x4x5x6x7x8x9x")),ISNUMBER(FIND(MID(H23,7,1)&"x","0x1x2x3x4x5x6x7x8x9x")),ISNUMBER(FIND(MID(H23,8,1)&"x","0x1x2x3x4x5x6x7x8x9x"))))),"確認済借用者IDが必須",IF(AND(G23<>"確認済",COUNTA(H23)>0),"未確認/対象外の借用者IDは空欄",IF(AND(OR(F23="貸出中",F23="返却済"),NOT(IF(ISNUMBER(I23),AND(I23>=43831,I23<=73050,I23=INT(I23)),FALSE()))),"貸出日が必須",IF(AND(COUNTA(I23)>0,NOT(IF(ISNUMBER(I23),AND(I23>=43831,I23<=73050,I23=INT(I23)),FALSE()))),"貸出日は2020〜2099年/時刻なし",IF(AND(COUNTA(J23)>0,NOT(IF(ISNUMBER(J23),AND(J23>=43831,J23<=73050,J23=INT(J23)),FALSE()))),"返却期日は2020〜2099年/時刻なし",IF(AND(COUNTA(J23)>0,OR(COUNTA(I23)=0,J23<I23)),"期日は貸出日以上/貸出日必須",IF(AND(F23="返却済",NOT(IF(ISNUMBER(K23),AND(K23>=43831,K23<=73050,K23=INT(K23)),FALSE()))),"返却済の返却日が必須",IF(AND(F23<>"返却済",COUNTA(K23)>0),"返却済以外の返却日は空欄",IF(AND(F23="返却済",K23<I23),"返却日は貸出日以上",IF(NOT(OR(L23="確認済",L23="要対応",L23="未確認")),"状態確認を記録",IF(NOT(OR(M23="確認済",M23="未確認")),"現物区分を確認",IF(AND(M23="確認済",NOT(IF(ISNUMBER(N23),AND(N23>=43831,N23<=73050,N23=INT(N23)),FALSE()))),"現物確認日が必須",IF(AND(M23="未確認",COUNTA(N23)>0),"現物未確認の日付は空欄",IF(NOT(IF(ISNUMBER(O23),AND(O23>=43831,O23<=73050,O23=INT(O23)),FALSE())),"記録確認日が必須",IF(OR(O23>備品の確認!$B$3,AND(COUNTA(I23)>0,I23>O23),AND(F23="返却済",K23>O23),AND(M23="確認済",N23>O23)),"貸出/返却/現物日≦記録確認日≦基準日","確認済み")))))))))))))))))))))))))),ISNUMBER(W23),W23=IF(V23="確認済み",0,1))),1,IF(W23<>0,0,IF(AND(IF(AND(F23="貸出中",COUNTA(J23)>0),ISNUMBER(P23),ISTEXT(P23)),P23=IF(AND(F23="貸出中",COUNTA(J23)>0),J23-備品の確認!$B$3,""),IF(AND(F23="返却済",COUNTA(J23)>0),ISNUMBER(Q23),ISTEXT(Q23)),Q23=IF(AND(F23="返却済",COUNTA(J23)>0),K23-J23,""),IF(M23="確認済",ISNUMBER(R23),ISTEXT(R23)),R23=IF(M23="確認済",備品の確認!$B$3-N23,""),ISTEXT(S23),S23=IF(M23="未確認","現物未確認",IF(R23>備品の確認!$E$3,"確認間隔超過","確認間隔内")),ISTEXT(T23),T23=IF(F23="保管中","保管記録",IF(F23="返却済","返却記録",IF(F23="未確認","利用未確認",IF(COUNTA(J23)=0,"期限未確認",IF(P23<0,"返却期限超過",IF(P23=0,"返却期日","貸出中")))))),ISNUMBER(U23),U23=IF(OR(B23="未確認",D23="未確認",F23="未確認",G23="未確認",L23<>"確認済",M23="未確認",S23="確認間隔超過",AND(F23="貸出中",OR(COUNTA(J23)=0,P23<=0))),1,0)),0,1)))) -> 0
P24: =IF(V24="","",IF(W24<>0,NA(),IF(AND(F24="貸出中",COUNTA(J24)>0),J24-備品の確認!$B$3,""))) | Q24: =IF(V24="","",IF(W24<>0,NA(),IF(AND(F24="返却済",COUNTA(J24)>0),K24-J24,""))) | R24: =IF(V24="","",IF(W24<>0,NA(),IF(M24="確認済",備品の確認!$B$3-N24,""))) | S24: =IF(V24="","",IF(W24<>0,NA(),IF(M24="未確認","現物未確認",IF(R24>備品の確認!$E$3,"確認間隔超過","確認間隔内")))) | T24: =IF(V24="","",IF(W24<>0,NA(),IF(F24="保管中","保管記録",IF(F24="返却済","返却記録",IF(F24="未確認","利用未確認",IF(COUNTA(J24)=0,"期限未確認",IF(P24<0,"返却期限超過",IF(P24=0,"返却期日","貸出中")))))))) | U24: =IF(V24="","",IF(W24<>0,NA(),IF(OR(B24="未確認",D24="未確認",F24="未確認",G24="未確認",L24<>"確認済",M24="未確認",S24="確認間隔超過",AND(F24="貸出中",OR(COUNTA(J24)=0,P24<=0))),1,0))) | V24: =IF(COUNTA(A24:O24)=0,"",IF(NOT(AND(ISTEXT(A24),LEN(A24)=8,EXACT(LEFT(A24,4),"AST-"),ISNUMBER(FIND(MID(A24,5,1)&"x","0x1x2x3x4x5x6x7x8x9x")),ISNUMBER(FIND(MID(A24,6,1)&"x","0x1x2x3x4x5x6x7x8x9x")),ISNUMBER(FIND(MID(A24,7,1)&"x","0x1x2x3x4x5x6x7x8x9x")),ISNUMBER(FIND(MID(A24,8,1)&"x","0x1x2x3x4x5x6x7x8x9x")))),"備品IDはAST-と半角数字4桁",IF(COUNTIFS($A$8:$A$57,A24)>1,"備品IDが重複",IF(NOT(OR(B24="PC",B24="周辺機器",B24="工具",B24="その他",B24="未確認")),"種類を確認",IF(NOT(AND(ISTEXT(C24),LEN(C24)=8,EXACT(LEFT(C24,4),"LOC-"),ISNUMBER(FIND(MID(C24,5,1)&"x","0x1x2x3x4x5x6x7x8x9x")),ISNUMBER(FIND(MID(C24,6,1)&"x","0x1x2x3x4x5x6x7x8x9x")),ISNUMBER(FIND(MID(C24,7,1)&"x","0x1x2x3x4x5x6x7x8x9x")),ISNUMBER(FIND(MID(C24,8,1)&"x","0x1x2x3x4x5x6x7x8x9x")))),"登録保管先IDはLOC-と半角数字4桁",IF(NOT(OR(D24="確認済",D24="未確認")),"所在区分を確認",IF(AND(D24="確認済",NOT(AND(ISTEXT(E24),LEN(E24)=8,EXACT(LEFT(E24,4),"LOC-"),ISNUMBER(FIND(MID(E24,5,1)&"x","0x1x2x3x4x5x6x7x8x9x")),ISNUMBER(FIND(MID(E24,6,1)&"x","0x1x2x3x4x5x6x7x8x9x")),ISNUMBER(FIND(MID(E24,7,1)&"x","0x1x2x3x4x5x6x7x8x9x")),ISNUMBER(FIND(MID(E24,8,1)&"x","0x1x2x3x4x5x6x7x8x9x"))))),"確認済所在IDが必須",IF(AND(D24="未確認",COUNTA(E24)>0),"所在未確認は所在ID空欄",IF(NOT(OR(F24="保管中",F24="貸出中",F24="返却済",F24="未確認")),"利用区分を確認",IF(AND(F24="保管中",NOT(AND(G24="対象外",COUNTA(H24:K24)=0))),"保管中の借用者は対象外/貸出欄は空欄",IF(AND(F24<>"保管中",NOT(OR(G24="確認済",G24="未確認"))),"借用者を確認/未確認で記録",IF(AND(G24="確認済",NOT(AND(ISTEXT(H24),LEN(H24)=8,EXACT(LEFT(H24,4),"PER-"),ISNUMBER(FIND(MID(H24,5,1)&"x","0x1x2x3x4x5x6x7x8x9x")),ISNUMBER(FIND(MID(H24,6,1)&"x","0x1x2x3x4x5x6x7x8x9x")),ISNUMBER(FIND(MID(H24,7,1)&"x","0x1x2x3x4x5x6x7x8x9x")),ISNUMBER(FIND(MID(H24,8,1)&"x","0x1x2x3x4x5x6x7x8x9x"))))),"確認済借用者IDが必須",IF(AND(G24<>"確認済",COUNTA(H24)>0),"未確認/対象外の借用者IDは空欄",IF(AND(OR(F24="貸出中",F24="返却済"),NOT(IF(ISNUMBER(I24),AND(I24>=43831,I24<=73050,I24=INT(I24)),FALSE()))),"貸出日が必須",IF(AND(COUNTA(I24)>0,NOT(IF(ISNUMBER(I24),AND(I24>=43831,I24<=73050,I24=INT(I24)),FALSE()))),"貸出日は2020〜2099年/時刻なし",IF(AND(COUNTA(J24)>0,NOT(IF(ISNUMBER(J24),AND(J24>=43831,J24<=73050,J24=INT(J24)),FALSE()))),"返却期日は2020〜2099年/時刻なし",IF(AND(COUNTA(J24)>0,OR(COUNTA(I24)=0,J24<I24)),"期日は貸出日以上/貸出日必須",IF(AND(F24="返却済",NOT(IF(ISNUMBER(K24),AND(K24>=43831,K24<=73050,K24=INT(K24)),FALSE()))),"返却済の返却日が必須",IF(AND(F24<>"返却済",COUNTA(K24)>0),"返却済以外の返却日は空欄",IF(AND(F24="返却済",K24<I24),"返却日は貸出日以上",IF(NOT(OR(L24="確認済",L24="要対応",L24="未確認")),"状態確認を記録",IF(NOT(OR(M24="確認済",M24="未確認")),"現物区分を確認",IF(AND(M24="確認済",NOT(IF(ISNUMBER(N24),AND(N24>=43831,N24<=73050,N24=INT(N24)),FALSE()))),"現物確認日が必須",IF(AND(M24="未確認",COUNTA(N24)>0),"現物未確認の日付は空欄",IF(NOT(IF(ISNUMBER(O24),AND(O24>=43831,O24<=73050,O24=INT(O24)),FALSE())),"記録確認日が必須",IF(OR(O24>備品の確認!$B$3,AND(COUNTA(I24)>0,I24>O24),AND(F24="返却済",K24>O24),AND(M24="確認済",N24>O24)),"貸出/返却/現物日≦記録確認日≦基準日","確認済み")))))))))))))))))))))))))) | W24: =IF(V24="","",IF(V24="確認済み",0,1)) | X24: =IF(COUNTA(A24:O24)=0,IF(AND(V24="",W24="",P24="",Q24="",R24="",S24="",T24="",U24=""),0,1),IF(NOT(AND(ISTEXT(V24),V24=IF(COUNTA(A24:O24)=0,"",IF(NOT(AND(ISTEXT(A24),LEN(A24)=8,EXACT(LEFT(A24,4),"AST-"),ISNUMBER(FIND(MID(A24,5,1)&"x","0x1x2x3x4x5x6x7x8x9x")),ISNUMBER(FIND(MID(A24,6,1)&"x","0x1x2x3x4x5x6x7x8x9x")),ISNUMBER(FIND(MID(A24,7,1)&"x","0x1x2x3x4x5x6x7x8x9x")),ISNUMBER(FIND(MID(A24,8,1)&"x","0x1x2x3x4x5x6x7x8x9x")))),"備品IDはAST-と半角数字4桁",IF(COUNTIFS($A$8:$A$57,A24)>1,"備品IDが重複",IF(NOT(OR(B24="PC",B24="周辺機器",B24="工具",B24="その他",B24="未確認")),"種類を確認",IF(NOT(AND(ISTEXT(C24),LEN(C24)=8,EXACT(LEFT(C24,4),"LOC-"),ISNUMBER(FIND(MID(C24,5,1)&"x","0x1x2x3x4x5x6x7x8x9x")),ISNUMBER(FIND(MID(C24,6,1)&"x","0x1x2x3x4x5x6x7x8x9x")),ISNUMBER(FIND(MID(C24,7,1)&"x","0x1x2x3x4x5x6x7x8x9x")),ISNUMBER(FIND(MID(C24,8,1)&"x","0x1x2x3x4x5x6x7x8x9x")))),"登録保管先IDはLOC-と半角数字4桁",IF(NOT(OR(D24="確認済",D24="未確認")),"所在区分を確認",IF(AND(D24="確認済",NOT(AND(ISTEXT(E24),LEN(E24)=8,EXACT(LEFT(E24,4),"LOC-"),ISNUMBER(FIND(MID(E24,5,1)&"x","0x1x2x3x4x5x6x7x8x9x")),ISNUMBER(FIND(MID(E24,6,1)&"x","0x1x2x3x4x5x6x7x8x9x")),ISNUMBER(FIND(MID(E24,7,1)&"x","0x1x2x3x4x5x6x7x8x9x")),ISNUMBER(FIND(MID(E24,8,1)&"x","0x1x2x3x4x5x6x7x8x9x"))))),"確認済所在IDが必須",IF(AND(D24="未確認",COUNTA(E24)>0),"所在未確認は所在ID空欄",IF(NOT(OR(F24="保管中",F24="貸出中",F24="返却済",F24="未確認")),"利用区分を確認",IF(AND(F24="保管中",NOT(AND(G24="対象外",COUNTA(H24:K24)=0))),"保管中の借用者は対象外/貸出欄は空欄",IF(AND(F24<>"保管中",NOT(OR(G24="確認済",G24="未確認"))),"借用者を確認/未確認で記録",IF(AND(G24="確認済",NOT(AND(ISTEXT(H24),LEN(H24)=8,EXACT(LEFT(H24,4),"PER-"),ISNUMBER(FIND(MID(H24,5,1)&"x","0x1x2x3x4x5x6x7x8x9x")),ISNUMBER(FIND(MID(H24,6,1)&"x","0x1x2x3x4x5x6x7x8x9x")),ISNUMBER(FIND(MID(H24,7,1)&"x","0x1x2x3x4x5x6x7x8x9x")),ISNUMBER(FIND(MID(H24,8,1)&"x","0x1x2x3x4x5x6x7x8x9x"))))),"確認済借用者IDが必須",IF(AND(G24<>"確認済",COUNTA(H24)>0),"未確認/対象外の借用者IDは空欄",IF(AND(OR(F24="貸出中",F24="返却済"),NOT(IF(ISNUMBER(I24),AND(I24>=43831,I24<=73050,I24=INT(I24)),FALSE()))),"貸出日が必須",IF(AND(COUNTA(I24)>0,NOT(IF(ISNUMBER(I24),AND(I24>=43831,I24<=73050,I24=INT(I24)),FALSE()))),"貸出日は2020〜2099年/時刻なし",IF(AND(COUNTA(J24)>0,NOT(IF(ISNUMBER(J24),AND(J24>=43831,J24<=73050,J24=INT(J24)),FALSE()))),"返却期日は2020〜2099年/時刻なし",IF(AND(COUNTA(J24)>0,OR(COUNTA(I24)=0,J24<I24)),"期日は貸出日以上/貸出日必須",IF(AND(F24="返却済",NOT(IF(ISNUMBER(K24),AND(K24>=43831,K24<=73050,K24=INT(K24)),FALSE()))),"返却済の返却日が必須",IF(AND(F24<>"返却済",COUNTA(K24)>0),"返却済以外の返却日は空欄",IF(AND(F24="返却済",K24<I24),"返却日は貸出日以上",IF(NOT(OR(L24="確認済",L24="要対応",L24="未確認")),"状態確認を記録",IF(NOT(OR(M24="確認済",M24="未確認")),"現物区分を確認",IF(AND(M24="確認済",NOT(IF(ISNUMBER(N24),AND(N24>=43831,N24<=73050,N24=INT(N24)),FALSE()))),"現物確認日が必須",IF(AND(M24="未確認",COUNTA(N24)>0),"現物未確認の日付は空欄",IF(NOT(IF(ISNUMBER(O24),AND(O24>=43831,O24<=73050,O24=INT(O24)),FALSE())),"記録確認日が必須",IF(OR(O24>備品の確認!$B$3,AND(COUNTA(I24)>0,I24>O24),AND(F24="返却済",K24>O24),AND(M24="確認済",N24>O24)),"貸出/返却/現物日≦記録確認日≦基準日","確認済み")))))))))))))))))))))))))),ISNUMBER(W24),W24=IF(V24="確認済み",0,1))),1,IF(W24<>0,0,IF(AND(IF(AND(F24="貸出中",COUNTA(J24)>0),ISNUMBER(P24),ISTEXT(P24)),P24=IF(AND(F24="貸出中",COUNTA(J24)>0),J24-備品の確認!$B$3,""),IF(AND(F24="返却済",COUNTA(J24)>0),ISNUMBER(Q24),ISTEXT(Q24)),Q24=IF(AND(F24="返却済",COUNTA(J24)>0),K24-J24,""),IF(M24="確認済",ISNUMBER(R24),ISTEXT(R24)),R24=IF(M24="確認済",備品の確認!$B$3-N24,""),ISTEXT(S24),S24=IF(M24="未確認","現物未確認",IF(R24>備品の確認!$E$3,"確認間隔超過","確認間隔内")),ISTEXT(T24),T24=IF(F24="保管中","保管記録",IF(F24="返却済","返却記録",IF(F24="未確認","利用未確認",IF(COUNTA(J24)=0,"期限未確認",IF(P24<0,"返却期限超過",IF(P24=0,"返却期日","貸出中")))))),ISNUMBER(U24),U24=IF(OR(B24="未確認",D24="未確認",F24="未確認",G24="未確認",L24<>"確認済",M24="未確認",S24="確認間隔超過",AND(F24="貸出中",OR(COUNTA(J24)=0,P24<=0))),1,0)),0,1)))) -> 0
P25: =IF(V25="","",IF(W25<>0,NA(),IF(AND(F25="貸出中",COUNTA(J25)>0),J25-備品の確認!$B$3,""))) | Q25: =IF(V25="","",IF(W25<>0,NA(),IF(AND(F25="返却済",COUNTA(J25)>0),K25-J25,""))) | R25: =IF(V25="","",IF(W25<>0,NA(),IF(M25="確認済",備品の確認!$B$3-N25,""))) | S25: =IF(V25="","",IF(W25<>0,NA(),IF(M25="未確認","現物未確認",IF(R25>備品の確認!$E$3,"確認間隔超過","確認間隔内")))) | T25: =IF(V25="","",IF(W25<>0,NA(),IF(F25="保管中","保管記録",IF(F25="返却済","返却記録",IF(F25="未確認","利用未確認",IF(COUNTA(J25)=0,"期限未確認",IF(P25<0,"返却期限超過",IF(P25=0,"返却期日","貸出中")))))))) | U25: =IF(V25="","",IF(W25<>0,NA(),IF(OR(B25="未確認",D25="未確認",F25="未確認",G25="未確認",L25<>"確認済",M25="未確認",S25="確認間隔超過",AND(F25="貸出中",OR(COUNTA(J25)=0,P25<=0))),1,0))) | V25: =IF(COUNTA(A25:O25)=0,"",IF(NOT(AND(ISTEXT(A25),LEN(A25)=8,EXACT(LEFT(A25,4),"AST-"),ISNUMBER(FIND(MID(A25,5,1)&"x","0x1x2x3x4x5x6x7x8x9x")),ISNUMBER(FIND(MID(A25,6,1)&"x","0x1x2x3x4x5x6x7x8x9x")),ISNUMBER(FIND(MID(A25,7,1)&"x","0x1x2x3x4x5x6x7x8x9x")),ISNUMBER(FIND(MID(A25,8,1)&"x","0x1x2x3x4x5x6x7x8x9x")))),"備品IDはAST-と半角数字4桁",IF(COUNTIFS($A$8:$A$57,A25)>1,"備品IDが重複",IF(NOT(OR(B25="PC",B25="周辺機器",B25="工具",B25="その他",B25="未確認")),"種類を確認",IF(NOT(AND(ISTEXT(C25),LEN(C25)=8,EXACT(LEFT(C25,4),"LOC-"),ISNUMBER(FIND(MID(C25,5,1)&"x","0x1x2x3x4x5x6x7x8x9x")),ISNUMBER(FIND(MID(C25,6,1)&"x","0x1x2x3x4x5x6x7x8x9x")),ISNUMBER(FIND(MID(C25,7,1)&"x","0x1x2x3x4x5x6x7x8x9x")),ISNUMBER(FIND(MID(C25,8,1)&"x","0x1x2x3x4x5x6x7x8x9x")))),"登録保管先IDはLOC-と半角数字4桁",IF(NOT(OR(D25="確認済",D25="未確認")),"所在区分を確認",IF(AND(D25="確認済",NOT(AND(ISTEXT(E25),LEN(E25)=8,EXACT(LEFT(E25,4),"LOC-"),ISNUMBER(FIND(MID(E25,5,1)&"x","0x1x2x3x4x5x6x7x8x9x")),ISNUMBER(FIND(MID(E25,6,1)&"x","0x1x2x3x4x5x6x7x8x9x")),ISNUMBER(FIND(MID(E25,7,1)&"x","0x1x2x3x4x5x6x7x8x9x")),ISNUMBER(FIND(MID(E25,8,1)&"x","0x1x2x3x4x5x6x7x8x9x"))))),"確認済所在IDが必須",IF(AND(D25="未確認",COUNTA(E25)>0),"所在未確認は所在ID空欄",IF(NOT(OR(F25="保管中",F25="貸出中",F25="返却済",F25="未確認")),"利用区分を確認",IF(AND(F25="保管中",NOT(AND(G25="対象外",COUNTA(H25:K25)=0))),"保管中の借用者は対象外/貸出欄は空欄",IF(AND(F25<>"保管中",NOT(OR(G25="確認済",G25="未確認"))),"借用者を確認/未確認で記録",IF(AND(G25="確認済",NOT(AND(ISTEXT(H25),LEN(H25)=8,EXACT(LEFT(H25,4),"PER-"),ISNUMBER(FIND(MID(H25,5,1)&"x","0x1x2x3x4x5x6x7x8x9x")),ISNUMBER(FIND(MID(H25,6,1)&"x","0x1x2x3x4x5x6x7x8x9x")),ISNUMBER(FIND(MID(H25,7,1)&"x","0x1x2x3x4x5x6x7x8x9x")),ISNUMBER(FIND(MID(H25,8,1)&"x","0x1x2x3x4x5x6x7x8x9x"))))),"確認済借用者IDが必須",IF(AND(G25<>"確認済",COUNTA(H25)>0),"未確認/対象外の借用者IDは空欄",IF(AND(OR(F25="貸出中",F25="返却済"),NOT(IF(ISNUMBER(I25),AND(I25>=43831,I25<=73050,I25=INT(I25)),FALSE()))),"貸出日が必須",IF(AND(COUNTA(I25)>0,NOT(IF(ISNUMBER(I25),AND(I25>=43831,I25<=73050,I25=INT(I25)),FALSE()))),"貸出日は2020〜2099年/時刻なし",IF(AND(COUNTA(J25)>0,NOT(IF(ISNUMBER(J25),AND(J25>=43831,J25<=73050,J25=INT(J25)),FALSE()))),"返却期日は2020〜2099年/時刻なし",IF(AND(COUNTA(J25)>0,OR(COUNTA(I25)=0,J25<I25)),"期日は貸出日以上/貸出日必須",IF(AND(F25="返却済",NOT(IF(ISNUMBER(K25),AND(K25>=43831,K25<=73050,K25=INT(K25)),FALSE()))),"返却済の返却日が必須",IF(AND(F25<>"返却済",COUNTA(K25)>0),"返却済以外の返却日は空欄",IF(AND(F25="返却済",K25<I25),"返却日は貸出日以上",IF(NOT(OR(L25="確認済",L25="要対応",L25="未確認")),"状態確認を記録",IF(NOT(OR(M25="確認済",M25="未確認")),"現物区分を確認",IF(AND(M25="確認済",NOT(IF(ISNUMBER(N25),AND(N25>=43831,N25<=73050,N25=INT(N25)),FALSE()))),"現物確認日が必須",IF(AND(M25="未確認",COUNTA(N25)>0),"現物未確認の日付は空欄",IF(NOT(IF(ISNUMBER(O25),AND(O25>=43831,O25<=73050,O25=INT(O25)),FALSE())),"記録確認日が必須",IF(OR(O25>備品の確認!$B$3,AND(COUNTA(I25)>0,I25>O25),AND(F25="返却済",K25>O25),AND(M25="確認済",N25>O25)),"貸出/返却/現物日≦記録確認日≦基準日","確認済み")))))))))))))))))))))))))) | W25: =IF(V25="","",IF(V25="確認済み",0,1)) | X25: =IF(COUNTA(A25:O25)=0,IF(AND(V25="",W25="",P25="",Q25="",R25="",S25="",T25="",U25=""),0,1),IF(NOT(AND(ISTEXT(V25),V25=IF(COUNTA(A25:O25)=0,"",IF(NOT(AND(ISTEXT(A25),LEN(A25)=8,EXACT(LEFT(A25,4),"AST-"),ISNUMBER(FIND(MID(A25,5,1)&"x","0x1x2x3x4x5x6x7x8x9x")),ISNUMBER(FIND(MID(A25,6,1)&"x","0x1x2x3x4x5x6x7x8x9x")),ISNUMBER(FIND(MID(A25,7,1)&"x","0x1x2x3x4x5x6x7x8x9x")),ISNUMBER(FIND(MID(A25,8,1)&"x","0x1x2x3x4x5x6x7x8x9x")))),"備品IDはAST-と半角数字4桁",IF(COUNTIFS($A$8:$A$57,A25)>1,"備品IDが重複",IF(NOT(OR(B25="PC",B25="周辺機器",B25="工具",B25="その他",B25="未確認")),"種類を確認",IF(NOT(AND(ISTEXT(C25),LEN(C25)=8,EXACT(LEFT(C25,4),"LOC-"),ISNUMBER(FIND(MID(C25,5,1)&"x","0x1x2x3x4x5x6x7x8x9x")),ISNUMBER(FIND(MID(C25,6,1)&"x","0x1x2x3x4x5x6x7x8x9x")),ISNUMBER(FIND(MID(C25,7,1)&"x","0x1x2x3x4x5x6x7x8x9x")),ISNUMBER(FIND(MID(C25,8,1)&"x","0x1x2x3x4x5x6x7x8x9x")))),"登録保管先IDはLOC-と半角数字4桁",IF(NOT(OR(D25="確認済",D25="未確認")),"所在区分を確認",IF(AND(D25="確認済",NOT(AND(ISTEXT(E25),LEN(E25)=8,EXACT(LEFT(E25,4),"LOC-"),ISNUMBER(FIND(MID(E25,5,1)&"x","0x1x2x3x4x5x6x7x8x9x")),ISNUMBER(FIND(MID(E25,6,1)&"x","0x1x2x3x4x5x6x7x8x9x")),ISNUMBER(FIND(MID(E25,7,1)&"x","0x1x2x3x4x5x6x7x8x9x")),ISNUMBER(FIND(MID(E25,8,1)&"x","0x1x2x3x4x5x6x7x8x9x"))))),"確認済所在IDが必須",IF(AND(D25="未確認",COUNTA(E25)>0),"所在未確認は所在ID空欄",IF(NOT(OR(F25="保管中",F25="貸出中",F25="返却済",F25="未確認")),"利用区分を確認",IF(AND(F25="保管中",NOT(AND(G25="対象外",COUNTA(H25:K25)=0))),"保管中の借用者は対象外/貸出欄は空欄",IF(AND(F25<>"保管中",NOT(OR(G25="確認済",G25="未確認"))),"借用者を確認/未確認で記録",IF(AND(G25="確認済",NOT(AND(ISTEXT(H25),LEN(H25)=8,EXACT(LEFT(H25,4),"PER-"),ISNUMBER(FIND(MID(H25,5,1)&"x","0x1x2x3x4x5x6x7x8x9x")),ISNUMBER(FIND(MID(H25,6,1)&"x","0x1x2x3x4x5x6x7x8x9x")),ISNUMBER(FIND(MID(H25,7,1)&"x","0x1x2x3x4x5x6x7x8x9x")),ISNUMBER(FIND(MID(H25,8,1)&"x","0x1x2x3x4x5x6x7x8x9x"))))),"確認済借用者IDが必須",IF(AND(G25<>"確認済",COUNTA(H25)>0),"未確認/対象外の借用者IDは空欄",IF(AND(OR(F25="貸出中",F25="返却済"),NOT(IF(ISNUMBER(I25),AND(I25>=43831,I25<=73050,I25=INT(I25)),FALSE()))),"貸出日が必須",IF(AND(COUNTA(I25)>0,NOT(IF(ISNUMBER(I25),AND(I25>=43831,I25<=73050,I25=INT(I25)),FALSE()))),"貸出日は2020〜2099年/時刻なし",IF(AND(COUNTA(J25)>0,NOT(IF(ISNUMBER(J25),AND(J25>=43831,J25<=73050,J25=INT(J25)),FALSE()))),"返却期日は2020〜2099年/時刻なし",IF(AND(COUNTA(J25)>0,OR(COUNTA(I25)=0,J25<I25)),"期日は貸出日以上/貸出日必須",IF(AND(F25="返却済",NOT(IF(ISNUMBER(K25),AND(K25>=43831,K25<=73050,K25=INT(K25)),FALSE()))),"返却済の返却日が必須",IF(AND(F25<>"返却済",COUNTA(K25)>0),"返却済以外の返却日は空欄",IF(AND(F25="返却済",K25<I25),"返却日は貸出日以上",IF(NOT(OR(L25="確認済",L25="要対応",L25="未確認")),"状態確認を記録",IF(NOT(OR(M25="確認済",M25="未確認")),"現物区分を確認",IF(AND(M25="確認済",NOT(IF(ISNUMBER(N25),AND(N25>=43831,N25<=73050,N25=INT(N25)),FALSE()))),"現物確認日が必須",IF(AND(M25="未確認",COUNTA(N25)>0),"現物未確認の日付は空欄",IF(NOT(IF(ISNUMBER(O25),AND(O25>=43831,O25<=73050,O25=INT(O25)),FALSE())),"記録確認日が必須",IF(OR(O25>備品の確認!$B$3,AND(COUNTA(I25)>0,I25>O25),AND(F25="返却済",K25>O25),AND(M25="確認済",N25>O25)),"貸出/返却/現物日≦記録確認日≦基準日","確認済み")))))))))))))))))))))))))),ISNUMBER(W25),W25=IF(V25="確認済み",0,1))),1,IF(W25<>0,0,IF(AND(IF(AND(F25="貸出中",COUNTA(J25)>0),ISNUMBER(P25),ISTEXT(P25)),P25=IF(AND(F25="貸出中",COUNTA(J25)>0),J25-備品の確認!$B$3,""),IF(AND(F25="返却済",COUNTA(J25)>0),ISNUMBER(Q25),ISTEXT(Q25)),Q25=IF(AND(F25="返却済",COUNTA(J25)>0),K25-J25,""),IF(M25="確認済",ISNUMBER(R25),ISTEXT(R25)),R25=IF(M25="確認済",備品の確認!$B$3-N25,""),ISTEXT(S25),S25=IF(M25="未確認","現物未確認",IF(R25>備品の確認!$E$3,"確認間隔超過","確認間隔内")),ISTEXT(T25),T25=IF(F25="保管中","保管記録",IF(F25="返却済","返却記録",IF(F25="未確認","利用未確認",IF(COUNTA(J25)=0,"期限未確認",IF(P25<0,"返却期限超過",IF(P25=0,"返却期日","貸出中")))))),ISNUMBER(U25),U25=IF(OR(B25="未確認",D25="未確認",F25="未確認",G25="未確認",L25<>"確認済",M25="未確認",S25="確認間隔超過",AND(F25="貸出中",OR(COUNTA(J25)=0,P25<=0))),1,0)),0,1)))) -> 0
P26: =IF(V26="","",IF(W26<>0,NA(),IF(AND(F26="貸出中",COUNTA(J26)>0),J26-備品の確認!$B$3,""))) | Q26: =IF(V26="","",IF(W26<>0,NA(),IF(AND(F26="返却済",COUNTA(J26)>0),K26-J26,""))) | R26: =IF(V26="","",IF(W26<>0,NA(),IF(M26="確認済",備品の確認!$B$3-N26,""))) | S26: =IF(V26="","",IF(W26<>0,NA(),IF(M26="未確認","現物未確認",IF(R26>備品の確認!$E$3,"確認間隔超過","確認間隔内")))) | T26: =IF(V26="","",IF(W26<>0,NA(),IF(F26="保管中","保管記録",IF(F26="返却済","返却記録",IF(F26="未確認","利用未確認",IF(COUNTA(J26)=0,"期限未確認",IF(P26<0,"返却期限超過",IF(P26=0,"返却期日","貸出中")))))))) | U26: =IF(V26="","",IF(W26<>0,NA(),IF(OR(B26="未確認",D26="未確認",F26="未確認",G26="未確認",L26<>"確認済",M26="未確認",S26="確認間隔超過",AND(F26="貸出中",OR(COUNTA(J26)=0,P26<=0))),1,0))) | V26: =IF(COUNTA(A26:O26)=0,"",IF(NOT(AND(ISTEXT(A26),LEN(A26)=8,EXACT(LEFT(A26,4),"AST-"),ISNUMBER(FIND(MID(A26,5,1)&"x","0x1x2x3x4x5x6x7x8x9x")),ISNUMBER(FIND(MID(A26,6,1)&"x","0x1x2x3x4x5x6x7x8x9x")),ISNUMBER(FIND(MID(A26,7,1)&"x","0x1x2x3x4x5x6x7x8x9x")),ISNUMBER(FIND(MID(A26,8,1)&"x","0x1x2x3x4x5x6x7x8x9x")))),"備品IDはAST-と半角数字4桁",IF(COUNTIFS($A$8:$A$57,A26)>1,"備品IDが重複",IF(NOT(OR(B26="PC",B26="周辺機器",B26="工具",B26="その他",B26="未確認")),"種類を確認",IF(NOT(AND(ISTEXT(C26),LEN(C26)=8,EXACT(LEFT(C26,4),"LOC-"),ISNUMBER(FIND(MID(C26,5,1)&"x","0x1x2x3x4x5x6x7x8x9x")),ISNUMBER(FIND(MID(C26,6,1)&"x","0x1x2x3x4x5x6x7x8x9x")),ISNUMBER(FIND(MID(C26,7,1)&"x","0x1x2x3x4x5x6x7x8x9x")),ISNUMBER(FIND(MID(C26,8,1)&"x","0x1x2x3x4x5x6x7x8x9x")))),"登録保管先IDはLOC-と半角数字4桁",IF(NOT(OR(D26="確認済",D26="未確認")),"所在区分を確認",IF(AND(D26="確認済",NOT(AND(ISTEXT(E26),LEN(E26)=8,EXACT(LEFT(E26,4),"LOC-"),ISNUMBER(FIND(MID(E26,5,1)&"x","0x1x2x3x4x5x6x7x8x9x")),ISNUMBER(FIND(MID(E26,6,1)&"x","0x1x2x3x4x5x6x7x8x9x")),ISNUMBER(FIND(MID(E26,7,1)&"x","0x1x2x3x4x5x6x7x8x9x")),ISNUMBER(FIND(MID(E26,8,1)&"x","0x1x2x3x4x5x6x7x8x9x"))))),"確認済所在IDが必須",IF(AND(D26="未確認",COUNTA(E26)>0),"所在未確認は所在ID空欄",IF(NOT(OR(F26="保管中",F26="貸出中",F26="返却済",F26="未確認")),"利用区分を確認",IF(AND(F26="保管中",NOT(AND(G26="対象外",COUNTA(H26:K26)=0))),"保管中の借用者は対象外/貸出欄は空欄",IF(AND(F26<>"保管中",NOT(OR(G26="確認済",G26="未確認"))),"借用者を確認/未確認で記録",IF(AND(G26="確認済",NOT(AND(ISTEXT(H26),LEN(H26)=8,EXACT(LEFT(H26,4),"PER-"),ISNUMBER(FIND(MID(H26,5,1)&"x","0x1x2x3x4x5x6x7x8x9x")),ISNUMBER(FIND(MID(H26,6,1)&"x","0x1x2x3x4x5x6x7x8x9x")),ISNUMBER(FIND(MID(H26,7,1)&"x","0x1x2x3x4x5x6x7x8x9x")),ISNUMBER(FIND(MID(H26,8,1)&"x","0x1x2x3x4x5x6x7x8x9x"))))),"確認済借用者IDが必須",IF(AND(G26<>"確認済",COUNTA(H26)>0),"未確認/対象外の借用者IDは空欄",IF(AND(OR(F26="貸出中",F26="返却済"),NOT(IF(ISNUMBER(I26),AND(I26>=43831,I26<=73050,I26=INT(I26)),FALSE()))),"貸出日が必須",IF(AND(COUNTA(I26)>0,NOT(IF(ISNUMBER(I26),AND(I26>=43831,I26<=73050,I26=INT(I26)),FALSE()))),"貸出日は2020〜2099年/時刻なし",IF(AND(COUNTA(J26)>0,NOT(IF(ISNUMBER(J26),AND(J26>=43831,J26<=73050,J26=INT(J26)),FALSE()))),"返却期日は2020〜2099年/時刻なし",IF(AND(COUNTA(J26)>0,OR(COUNTA(I26)=0,J26<I26)),"期日は貸出日以上/貸出日必須",IF(AND(F26="返却済",NOT(IF(ISNUMBER(K26),AND(K26>=43831,K26<=73050,K26=INT(K26)),FALSE()))),"返却済の返却日が必須",IF(AND(F26<>"返却済",COUNTA(K26)>0),"返却済以外の返却日は空欄",IF(AND(F26="返却済",K26<I26),"返却日は貸出日以上",IF(NOT(OR(L26="確認済",L26="要対応",L26="未確認")),"状態確認を記録",IF(NOT(OR(M26="確認済",M26="未確認")),"現物区分を確認",IF(AND(M26="確認済",NOT(IF(ISNUMBER(N26),AND(N26>=43831,N26<=73050,N26=INT(N26)),FALSE()))),"現物確認日が必須",IF(AND(M26="未確認",COUNTA(N26)>0),"現物未確認の日付は空欄",IF(NOT(IF(ISNUMBER(O26),AND(O26>=43831,O26<=73050,O26=INT(O26)),FALSE())),"記録確認日が必須",IF(OR(O26>備品の確認!$B$3,AND(COUNTA(I26)>0,I26>O26),AND(F26="返却済",K26>O26),AND(M26="確認済",N26>O26)),"貸出/返却/現物日≦記録確認日≦基準日","確認済み")))))))))))))))))))))))))) | W26: =IF(V26="","",IF(V26="確認済み",0,1)) | X26: =IF(COUNTA(A26:O26)=0,IF(AND(V26="",W26="",P26="",Q26="",R26="",S26="",T26="",U26=""),0,1),IF(NOT(AND(ISTEXT(V26),V26=IF(COUNTA(A26:O26)=0,"",IF(NOT(AND(ISTEXT(A26),LEN(A26)=8,EXACT(LEFT(A26,4),"AST-"),ISNUMBER(FIND(MID(A26,5,1)&"x","0x1x2x3x4x5x6x7x8x9x")),ISNUMBER(FIND(MID(A26,6,1)&"x","0x1x2x3x4x5x6x7x8x9x")),ISNUMBER(FIND(MID(A26,7,1)&"x","0x1x2x3x4x5x6x7x8x9x")),ISNUMBER(FIND(MID(A26,8,1)&"x","0x1x2x3x4x5x6x7x8x9x")))),"備品IDはAST-と半角数字4桁",IF(COUNTIFS($A$8:$A$57,A26)>1,"備品IDが重複",IF(NOT(OR(B26="PC",B26="周辺機器",B26="工具",B26="その他",B26="未確認")),"種類を確認",IF(NOT(AND(ISTEXT(C26),LEN(C26)=8,EXACT(LEFT(C26,4),"LOC-"),ISNUMBER(FIND(MID(C26,5,1)&"x","0x1x2x3x4x5x6x7x8x9x")),ISNUMBER(FIND(MID(C26,6,1)&"x","0x1x2x3x4x5x6x7x8x9x")),ISNUMBER(FIND(MID(C26,7,1)&"x","0x1x2x3x4x5x6x7x8x9x")),ISNUMBER(FIND(MID(C26,8,1)&"x","0x1x2x3x4x5x6x7x8x9x")))),"登録保管先IDはLOC-と半角数字4桁",IF(NOT(OR(D26="確認済",D26="未確認")),"所在区分を確認",IF(AND(D26="確認済",NOT(AND(ISTEXT(E26),LEN(E26)=8,EXACT(LEFT(E26,4),"LOC-"),ISNUMBER(FIND(MID(E26,5,1)&"x","0x1x2x3x4x5x6x7x8x9x")),ISNUMBER(FIND(MID(E26,6,1)&"x","0x1x2x3x4x5x6x7x8x9x")),ISNUMBER(FIND(MID(E26,7,1)&"x","0x1x2x3x4x5x6x7x8x9x")),ISNUMBER(FIND(MID(E26,8,1)&"x","0x1x2x3x4x5x6x7x8x9x"))))),"確認済所在IDが必須",IF(AND(D26="未確認",COUNTA(E26)>0),"所在未確認は所在ID空欄",IF(NOT(OR(F26="保管中",F26="貸出中",F26="返却済",F26="未確認")),"利用区分を確認",IF(AND(F26="保管中",NOT(AND(G26="対象外",COUNTA(H26:K26)=0))),"保管中の借用者は対象外/貸出欄は空欄",IF(AND(F26<>"保管中",NOT(OR(G26="確認済",G26="未確認"))),"借用者を確認/未確認で記録",IF(AND(G26="確認済",NOT(AND(ISTEXT(H26),LEN(H26)=8,EXACT(LEFT(H26,4),"PER-"),ISNUMBER(FIND(MID(H26,5,1)&"x","0x1x2x3x4x5x6x7x8x9x")),ISNUMBER(FIND(MID(H26,6,1)&"x","0x1x2x3x4x5x6x7x8x9x")),ISNUMBER(FIND(MID(H26,7,1)&"x","0x1x2x3x4x5x6x7x8x9x")),ISNUMBER(FIND(MID(H26,8,1)&"x","0x1x2x3x4x5x6x7x8x9x"))))),"確認済借用者IDが必須",IF(AND(G26<>"確認済",COUNTA(H26)>0),"未確認/対象外の借用者IDは空欄",IF(AND(OR(F26="貸出中",F26="返却済"),NOT(IF(ISNUMBER(I26),AND(I26>=43831,I26<=73050,I26=INT(I26)),FALSE()))),"貸出日が必須",IF(AND(COUNTA(I26)>0,NOT(IF(ISNUMBER(I26),AND(I26>=43831,I26<=73050,I26=INT(I26)),FALSE()))),"貸出日は2020〜2099年/時刻なし",IF(AND(COUNTA(J26)>0,NOT(IF(ISNUMBER(J26),AND(J26>=43831,J26<=73050,J26=INT(J26)),FALSE()))),"返却期日は2020〜2099年/時刻なし",IF(AND(COUNTA(J26)>0,OR(COUNTA(I26)=0,J26<I26)),"期日は貸出日以上/貸出日必須",IF(AND(F26="返却済",NOT(IF(ISNUMBER(K26),AND(K26>=43831,K26<=73050,K26=INT(K26)),FALSE()))),"返却済の返却日が必須",IF(AND(F26<>"返却済",COUNTA(K26)>0),"返却済以外の返却日は空欄",IF(AND(F26="返却済",K26<I26),"返却日は貸出日以上",IF(NOT(OR(L26="確認済",L26="要対応",L26="未確認")),"状態確認を記録",IF(NOT(OR(M26="確認済",M26="未確認")),"現物区分を確認",IF(AND(M26="確認済",NOT(IF(ISNUMBER(N26),AND(N26>=43831,N26<=73050,N26=INT(N26)),FALSE()))),"現物確認日が必須",IF(AND(M26="未確認",COUNTA(N26)>0),"現物未確認の日付は空欄",IF(NOT(IF(ISNUMBER(O26),AND(O26>=43831,O26<=73050,O26=INT(O26)),FALSE())),"記録確認日が必須",IF(OR(O26>備品の確認!$B$3,AND(COUNTA(I26)>0,I26>O26),AND(F26="返却済",K26>O26),AND(M26="確認済",N26>O26)),"貸出/返却/現物日≦記録確認日≦基準日","確認済み")))))))))))))))))))))))))),ISNUMBER(W26),W26=IF(V26="確認済み",0,1))),1,IF(W26<>0,0,IF(AND(IF(AND(F26="貸出中",COUNTA(J26)>0),ISNUMBER(P26),ISTEXT(P26)),P26=IF(AND(F26="貸出中",COUNTA(J26)>0),J26-備品の確認!$B$3,""),IF(AND(F26="返却済",COUNTA(J26)>0),ISNUMBER(Q26),ISTEXT(Q26)),Q26=IF(AND(F26="返却済",COUNTA(J26)>0),K26-J26,""),IF(M26="確認済",ISNUMBER(R26),ISTEXT(R26)),R26=IF(M26="確認済",備品の確認!$B$3-N26,""),ISTEXT(S26),S26=IF(M26="未確認","現物未確認",IF(R26>備品の確認!$E$3,"確認間隔超過","確認間隔内")),ISTEXT(T26),T26=IF(F26="保管中","保管記録",IF(F26="返却済","返却記録",IF(F26="未確認","利用未確認",IF(COUNTA(J26)=0,"期限未確認",IF(P26<0,"返却期限超過",IF(P26=0,"返却期日","貸出中")))))),ISNUMBER(U26),U26=IF(OR(B26="未確認",D26="未確認",F26="未確認",G26="未確認",L26<>"確認済",M26="未確認",S26="確認間隔超過",AND(F26="貸出中",OR(COUNTA(J26)=0,P26<=0))),1,0)),0,1)))) -> 0
P27: =IF(V27="","",IF(W27<>0,NA(),IF(AND(F27="貸出中",COUNTA(J27)>0),J27-備品の確認!$B$3,""))) | Q27: =IF(V27="","",IF(W27<>0,NA(),IF(AND(F27="返却済",COUNTA(J27)>0),K27-J27,""))) | R27: =IF(V27="","",IF(W27<>0,NA(),IF(M27="確認済",備品の確認!$B$3-N27,""))) | S27: =IF(V27="","",IF(W27<>0,NA(),IF(M27="未確認","現物未確認",IF(R27>備品の確認!$E$3,"確認間隔超過","確認間隔内")))) | T27: =IF(V27="","",IF(W27<>0,NA(),IF(F27="保管中","保管記録",IF(F27="返却済","返却記録",IF(F27="未確認","利用未確認",IF(COUNTA(J27)=0,"期限未確認",IF(P27<0,"返却期限超過",IF(P27=0,"返却期日","貸出中")))))))) | U27: =IF(V27="","",IF(W27<>0,NA(),IF(OR(B27="未確認",D27="未確認",F27="未確認",G27="未確認",L27<>"確認済",M27="未確認",S27="確認間隔超過",AND(F27="貸出中",OR(COUNTA(J27)=0,P27<=0))),1,0))) | V27: =IF(COUNTA(A27:O27)=0,"",IF(NOT(AND(ISTEXT(A27),LEN(A27)=8,EXACT(LEFT(A27,4),"AST-"),ISNUMBER(FIND(MID(A27,5,1)&"x","0x1x2x3x4x5x6x7x8x9x")),ISNUMBER(FIND(MID(A27,6,1)&"x","0x1x2x3x4x5x6x7x8x9x")),ISNUMBER(FIND(MID(A27,7,1)&"x","0x1x2x3x4x5x6x7x8x9x")),ISNUMBER(FIND(MID(A27,8,1)&"x","0x1x2x3x4x5x6x7x8x9x")))),"備品IDはAST-と半角数字4桁",IF(COUNTIFS($A$8:$A$57,A27)>1,"備品IDが重複",IF(NOT(OR(B27="PC",B27="周辺機器",B27="工具",B27="その他",B27="未確認")),"種類を確認",IF(NOT(AND(ISTEXT(C27),LEN(C27)=8,EXACT(LEFT(C27,4),"LOC-"),ISNUMBER(FIND(MID(C27,5,1)&"x","0x1x2x3x4x5x6x7x8x9x")),ISNUMBER(FIND(MID(C27,6,1)&"x","0x1x2x3x4x5x6x7x8x9x")),ISNUMBER(FIND(MID(C27,7,1)&"x","0x1x2x3x4x5x6x7x8x9x")),ISNUMBER(FIND(MID(C27,8,1)&"x","0x1x2x3x4x5x6x7x8x9x")))),"登録保管先IDはLOC-と半角数字4桁",IF(NOT(OR(D27="確認済",D27="未確認")),"所在区分を確認",IF(AND(D27="確認済",NOT(AND(ISTEXT(E27),LEN(E27)=8,EXACT(LEFT(E27,4),"LOC-"),ISNUMBER(FIND(MID(E27,5,1)&"x","0x1x2x3x4x5x6x7x8x9x")),ISNUMBER(FIND(MID(E27,6,1)&"x","0x1x2x3x4x5x6x7x8x9x")),ISNUMBER(FIND(MID(E27,7,1)&"x","0x1x2x3x4x5x6x7x8x9x")),ISNUMBER(FIND(MID(E27,8,1)&"x","0x1x2x3x4x5x6x7x8x9x"))))),"確認済所在IDが必須",IF(AND(D27="未確認",COUNTA(E27)>0),"所在未確認は所在ID空欄",IF(NOT(OR(F27="保管中",F27="貸出中",F27="返却済",F27="未確認")),"利用区分を確認",IF(AND(F27="保管中",NOT(AND(G27="対象外",COUNTA(H27:K27)=0))),"保管中の借用者は対象外/貸出欄は空欄",IF(AND(F27<>"保管中",NOT(OR(G27="確認済",G27="未確認"))),"借用者を確認/未確認で記録",IF(AND(G27="確認済",NOT(AND(ISTEXT(H27),LEN(H27)=8,EXACT(LEFT(H27,4),"PER-"),ISNUMBER(FIND(MID(H27,5,1)&"x","0x1x2x3x4x5x6x7x8x9x")),ISNUMBER(FIND(MID(H27,6,1)&"x","0x1x2x3x4x5x6x7x8x9x")),ISNUMBER(FIND(MID(H27,7,1)&"x","0x1x2x3x4x5x6x7x8x9x")),ISNUMBER(FIND(MID(H27,8,1)&"x","0x1x2x3x4x5x6x7x8x9x"))))),"確認済借用者IDが必須",IF(AND(G27<>"確認済",COUNTA(H27)>0),"未確認/対象外の借用者IDは空欄",IF(AND(OR(F27="貸出中",F27="返却済"),NOT(IF(ISNUMBER(I27),AND(I27>=43831,I27<=73050,I27=INT(I27)),FALSE()))),"貸出日が必須",IF(AND(COUNTA(I27)>0,NOT(IF(ISNUMBER(I27),AND(I27>=43831,I27<=73050,I27=INT(I27)),FALSE()))),"貸出日は2020〜2099年/時刻なし",IF(AND(COUNTA(J27)>0,NOT(IF(ISNUMBER(J27),AND(J27>=43831,J27<=73050,J27=INT(J27)),FALSE()))),"返却期日は2020〜2099年/時刻なし",IF(AND(COUNTA(J27)>0,OR(COUNTA(I27)=0,J27<I27)),"期日は貸出日以上/貸出日必須",IF(AND(F27="返却済",NOT(IF(ISNUMBER(K27),AND(K27>=43831,K27<=73050,K27=INT(K27)),FALSE()))),"返却済の返却日が必須",IF(AND(F27<>"返却済",COUNTA(K27)>0),"返却済以外の返却日は空欄",IF(AND(F27="返却済",K27<I27),"返却日は貸出日以上",IF(NOT(OR(L27="確認済",L27="要対応",L27="未確認")),"状態確認を記録",IF(NOT(OR(M27="確認済",M27="未確認")),"現物区分を確認",IF(AND(M27="確認済",NOT(IF(ISNUMBER(N27),AND(N27>=43831,N27<=73050,N27=INT(N27)),FALSE()))),"現物確認日が必須",IF(AND(M27="未確認",COUNTA(N27)>0),"現物未確認の日付は空欄",IF(NOT(IF(ISNUMBER(O27),AND(O27>=43831,O27<=73050,O27=INT(O27)),FALSE())),"記録確認日が必須",IF(OR(O27>備品の確認!$B$3,AND(COUNTA(I27)>0,I27>O27),AND(F27="返却済",K27>O27),AND(M27="確認済",N27>O27)),"貸出/返却/現物日≦記録確認日≦基準日","確認済み")))))))))))))))))))))))))) | W27: =IF(V27="","",IF(V27="確認済み",0,1)) | X27: =IF(COUNTA(A27:O27)=0,IF(AND(V27="",W27="",P27="",Q27="",R27="",S27="",T27="",U27=""),0,1),IF(NOT(AND(ISTEXT(V27),V27=IF(COUNTA(A27:O27)=0,"",IF(NOT(AND(ISTEXT(A27),LEN(A27)=8,EXACT(LEFT(A27,4),"AST-"),ISNUMBER(FIND(MID(A27,5,1)&"x","0x1x2x3x4x5x6x7x8x9x")),ISNUMBER(FIND(MID(A27,6,1)&"x","0x1x2x3x4x5x6x7x8x9x")),ISNUMBER(FIND(MID(A27,7,1)&"x","0x1x2x3x4x5x6x7x8x9x")),ISNUMBER(FIND(MID(A27,8,1)&"x","0x1x2x3x4x5x6x7x8x9x")))),"備品IDはAST-と半角数字4桁",IF(COUNTIFS($A$8:$A$57,A27)>1,"備品IDが重複",IF(NOT(OR(B27="PC",B27="周辺機器",B27="工具",B27="その他",B27="未確認")),"種類を確認",IF(NOT(AND(ISTEXT(C27),LEN(C27)=8,EXACT(LEFT(C27,4),"LOC-"),ISNUMBER(FIND(MID(C27,5,1)&"x","0x1x2x3x4x5x6x7x8x9x")),ISNUMBER(FIND(MID(C27,6,1)&"x","0x1x2x3x4x5x6x7x8x9x")),ISNUMBER(FIND(MID(C27,7,1)&"x","0x1x2x3x4x5x6x7x8x9x")),ISNUMBER(FIND(MID(C27,8,1)&"x","0x1x2x3x4x5x6x7x8x9x")))),"登録保管先IDはLOC-と半角数字4桁",IF(NOT(OR(D27="確認済",D27="未確認")),"所在区分を確認",IF(AND(D27="確認済",NOT(AND(ISTEXT(E27),LEN(E27)=8,EXACT(LEFT(E27,4),"LOC-"),ISNUMBER(FIND(MID(E27,5,1)&"x","0x1x2x3x4x5x6x7x8x9x")),ISNUMBER(FIND(MID(E27,6,1)&"x","0x1x2x3x4x5x6x7x8x9x")),ISNUMBER(FIND(MID(E27,7,1)&"x","0x1x2x3x4x5x6x7x8x9x")),ISNUMBER(FIND(MID(E27,8,1)&"x","0x1x2x3x4x5x6x7x8x9x"))))),"確認済所在IDが必須",IF(AND(D27="未確認",COUNTA(E27)>0),"所在未確認は所在ID空欄",IF(NOT(OR(F27="保管中",F27="貸出中",F27="返却済",F27="未確認")),"利用区分を確認",IF(AND(F27="保管中",NOT(AND(G27="対象外",COUNTA(H27:K27)=0))),"保管中の借用者は対象外/貸出欄は空欄",IF(AND(F27<>"保管中",NOT(OR(G27="確認済",G27="未確認"))),"借用者を確認/未確認で記録",IF(AND(G27="確認済",NOT(AND(ISTEXT(H27),LEN(H27)=8,EXACT(LEFT(H27,4),"PER-"),ISNUMBER(FIND(MID(H27,5,1)&"x","0x1x2x3x4x5x6x7x8x9x")),ISNUMBER(FIND(MID(H27,6,1)&"x","0x1x2x3x4x5x6x7x8x9x")),ISNUMBER(FIND(MID(H27,7,1)&"x","0x1x2x3x4x5x6x7x8x9x")),ISNUMBER(FIND(MID(H27,8,1)&"x","0x1x2x3x4x5x6x7x8x9x"))))),"確認済借用者IDが必須",IF(AND(G27<>"確認済",COUNTA(H27)>0),"未確認/対象外の借用者IDは空欄",IF(AND(OR(F27="貸出中",F27="返却済"),NOT(IF(ISNUMBER(I27),AND(I27>=43831,I27<=73050,I27=INT(I27)),FALSE()))),"貸出日が必須",IF(AND(COUNTA(I27)>0,NOT(IF(ISNUMBER(I27),AND(I27>=43831,I27<=73050,I27=INT(I27)),FALSE()))),"貸出日は2020〜2099年/時刻なし",IF(AND(COUNTA(J27)>0,NOT(IF(ISNUMBER(J27),AND(J27>=43831,J27<=73050,J27=INT(J27)),FALSE()))),"返却期日は2020〜2099年/時刻なし",IF(AND(COUNTA(J27)>0,OR(COUNTA(I27)=0,J27<I27)),"期日は貸出日以上/貸出日必須",IF(AND(F27="返却済",NOT(IF(ISNUMBER(K27),AND(K27>=43831,K27<=73050,K27=INT(K27)),FALSE()))),"返却済の返却日が必須",IF(AND(F27<>"返却済",COUNTA(K27)>0),"返却済以外の返却日は空欄",IF(AND(F27="返却済",K27<I27),"返却日は貸出日以上",IF(NOT(OR(L27="確認済",L27="要対応",L27="未確認")),"状態確認を記録",IF(NOT(OR(M27="確認済",M27="未確認")),"現物区分を確認",IF(AND(M27="確認済",NOT(IF(ISNUMBER(N27),AND(N27>=43831,N27<=73050,N27=INT(N27)),FALSE()))),"現物確認日が必須",IF(AND(M27="未確認",COUNTA(N27)>0),"現物未確認の日付は空欄",IF(NOT(IF(ISNUMBER(O27),AND(O27>=43831,O27<=73050,O27=INT(O27)),FALSE())),"記録確認日が必須",IF(OR(O27>備品の確認!$B$3,AND(COUNTA(I27)>0,I27>O27),AND(F27="返却済",K27>O27),AND(M27="確認済",N27>O27)),"貸出/返却/現物日≦記録確認日≦基準日","確認済み")))))))))))))))))))))))))),ISNUMBER(W27),W27=IF(V27="確認済み",0,1))),1,IF(W27<>0,0,IF(AND(IF(AND(F27="貸出中",COUNTA(J27)>0),ISNUMBER(P27),ISTEXT(P27)),P27=IF(AND(F27="貸出中",COUNTA(J27)>0),J27-備品の確認!$B$3,""),IF(AND(F27="返却済",COUNTA(J27)>0),ISNUMBER(Q27),ISTEXT(Q27)),Q27=IF(AND(F27="返却済",COUNTA(J27)>0),K27-J27,""),IF(M27="確認済",ISNUMBER(R27),ISTEXT(R27)),R27=IF(M27="確認済",備品の確認!$B$3-N27,""),ISTEXT(S27),S27=IF(M27="未確認","現物未確認",IF(R27>備品の確認!$E$3,"確認間隔超過","確認間隔内")),ISTEXT(T27),T27=IF(F27="保管中","保管記録",IF(F27="返却済","返却記録",IF(F27="未確認","利用未確認",IF(COUNTA(J27)=0,"期限未確認",IF(P27<0,"返却期限超過",IF(P27=0,"返却期日","貸出中")))))),ISNUMBER(U27),U27=IF(OR(B27="未確認",D27="未確認",F27="未確認",G27="未確認",L27<>"確認済",M27="未確認",S27="確認間隔超過",AND(F27="貸出中",OR(COUNTA(J27)=0,P27<=0))),1,0)),0,1)))) -> 0
P28: =IF(V28="","",IF(W28<>0,NA(),IF(AND(F28="貸出中",COUNTA(J28)>0),J28-備品の確認!$B$3,""))) | Q28: =IF(V28="","",IF(W28<>0,NA(),IF(AND(F28="返却済",COUNTA(J28)>0),K28-J28,""))) | R28: =IF(V28="","",IF(W28<>0,NA(),IF(M28="確認済",備品の確認!$B$3-N28,""))) | S28: =IF(V28="","",IF(W28<>0,NA(),IF(M28="未確認","現物未確認",IF(R28>備品の確認!$E$3,"確認間隔超過","確認間隔内")))) | T28: =IF(V28="","",IF(W28<>0,NA(),IF(F28="保管中","保管記録",IF(F28="返却済","返却記録",IF(F28="未確認","利用未確認",IF(COUNTA(J28)=0,"期限未確認",IF(P28<0,"返却期限超過",IF(P28=0,"返却期日","貸出中")))))))) | U28: =IF(V28="","",IF(W28<>0,NA(),IF(OR(B28="未確認",D28="未確認",F28="未確認",G28="未確認",L28<>"確認済",M28="未確認",S28="確認間隔超過",AND(F28="貸出中",OR(COUNTA(J28)=0,P28<=0))),1,0))) | V28: =IF(COUNTA(A28:O28)=0,"",IF(NOT(AND(ISTEXT(A28),LEN(A28)=8,EXACT(LEFT(A28,4),"AST-"),ISNUMBER(FIND(MID(A28,5,1)&"x","0x1x2x3x4x5x6x7x8x9x")),ISNUMBER(FIND(MID(A28,6,1)&"x","0x1x2x3x4x5x6x7x8x9x")),ISNUMBER(FIND(MID(A28,7,1)&"x","0x1x2x3x4x5x6x7x8x9x")),ISNUMBER(FIND(MID(A28,8,1)&"x","0x1x2x3x4x5x6x7x8x9x")))),"備品IDはAST-と半角数字4桁",IF(COUNTIFS($A$8:$A$57,A28)>1,"備品IDが重複",IF(NOT(OR(B28="PC",B28="周辺機器",B28="工具",B28="その他",B28="未確認")),"種類を確認",IF(NOT(AND(ISTEXT(C28),LEN(C28)=8,EXACT(LEFT(C28,4),"LOC-"),ISNUMBER(FIND(MID(C28,5,1)&"x","0x1x2x3x4x5x6x7x8x9x")),ISNUMBER(FIND(MID(C28,6,1)&"x","0x1x2x3x4x5x6x7x8x9x")),ISNUMBER(FIND(MID(C28,7,1)&"x","0x1x2x3x4x5x6x7x8x9x")),ISNUMBER(FIND(MID(C28,8,1)&"x","0x1x2x3x4x5x6x7x8x9x")))),"登録保管先IDはLOC-と半角数字4桁",IF(NOT(OR(D28="確認済",D28="未確認")),"所在区分を確認",IF(AND(D28="確認済",NOT(AND(ISTEXT(E28),LEN(E28)=8,EXACT(LEFT(E28,4),"LOC-"),ISNUMBER(FIND(MID(E28,5,1)&"x","0x1x2x3x4x5x6x7x8x9x")),ISNUMBER(FIND(MID(E28,6,1)&"x","0x1x2x3x4x5x6x7x8x9x")),ISNUMBER(FIND(MID(E28,7,1)&"x","0x1x2x3x4x5x6x7x8x9x")),ISNUMBER(FIND(MID(E28,8,1)&"x","0x1x2x3x4x5x6x7x8x9x"))))),"確認済所在IDが必須",IF(AND(D28="未確認",COUNTA(E28)>0),"所在未確認は所在ID空欄",IF(NOT(OR(F28="保管中",F28="貸出中",F28="返却済",F28="未確認")),"利用区分を確認",IF(AND(F28="保管中",NOT(AND(G28="対象外",COUNTA(H28:K28)=0))),"保管中の借用者は対象外/貸出欄は空欄",IF(AND(F28<>"保管中",NOT(OR(G28="確認済",G28="未確認"))),"借用者を確認/未確認で記録",IF(AND(G28="確認済",NOT(AND(ISTEXT(H28),LEN(H28)=8,EXACT(LEFT(H28,4),"PER-"),ISNUMBER(FIND(MID(H28,5,1)&"x","0x1x2x3x4x5x6x7x8x9x")),ISNUMBER(FIND(MID(H28,6,1)&"x","0x1x2x3x4x5x6x7x8x9x")),ISNUMBER(FIND(MID(H28,7,1)&"x","0x1x2x3x4x5x6x7x8x9x")),ISNUMBER(FIND(MID(H28,8,1)&"x","0x1x2x3x4x5x6x7x8x9x"))))),"確認済借用者IDが必須",IF(AND(G28<>"確認済",COUNTA(H28)>0),"未確認/対象外の借用者IDは空欄",IF(AND(OR(F28="貸出中",F28="返却済"),NOT(IF(ISNUMBER(I28),AND(I28>=43831,I28<=73050,I28=INT(I28)),FALSE()))),"貸出日が必須",IF(AND(COUNTA(I28)>0,NOT(IF(ISNUMBER(I28),AND(I28>=43831,I28<=73050,I28=INT(I28)),FALSE()))),"貸出日は2020〜2099年/時刻なし",IF(AND(COUNTA(J28)>0,NOT(IF(ISNUMBER(J28),AND(J28>=43831,J28<=73050,J28=INT(J28)),FALSE()))),"返却期日は2020〜2099年/時刻なし",IF(AND(COUNTA(J28)>0,OR(COUNTA(I28)=0,J28<I28)),"期日は貸出日以上/貸出日必須",IF(AND(F28="返却済",NOT(IF(ISNUMBER(K28),AND(K28>=43831,K28<=73050,K28=INT(K28)),FALSE()))),"返却済の返却日が必須",IF(AND(F28<>"返却済",COUNTA(K28)>0),"返却済以外の返却日は空欄",IF(AND(F28="返却済",K28<I28),"返却日は貸出日以上",IF(NOT(OR(L28="確認済",L28="要対応",L28="未確認")),"状態確認を記録",IF(NOT(OR(M28="確認済",M28="未確認")),"現物区分を確認",IF(AND(M28="確認済",NOT(IF(ISNUMBER(N28),AND(N28>=43831,N28<=73050,N28=INT(N28)),FALSE()))),"現物確認日が必須",IF(AND(M28="未確認",COUNTA(N28)>0),"現物未確認の日付は空欄",IF(NOT(IF(ISNUMBER(O28),AND(O28>=43831,O28<=73050,O28=INT(O28)),FALSE())),"記録確認日が必須",IF(OR(O28>備品の確認!$B$3,AND(COUNTA(I28)>0,I28>O28),AND(F28="返却済",K28>O28),AND(M28="確認済",N28>O28)),"貸出/返却/現物日≦記録確認日≦基準日","確認済み")))))))))))))))))))))))))) | W28: =IF(V28="","",IF(V28="確認済み",0,1)) | X28: =IF(COUNTA(A28:O28)=0,IF(AND(V28="",W28="",P28="",Q28="",R28="",S28="",T28="",U28=""),0,1),IF(NOT(AND(ISTEXT(V28),V28=IF(COUNTA(A28:O28)=0,"",IF(NOT(AND(ISTEXT(A28),LEN(A28)=8,EXACT(LEFT(A28,4),"AST-"),ISNUMBER(FIND(MID(A28,5,1)&"x","0x1x2x3x4x5x6x7x8x9x")),ISNUMBER(FIND(MID(A28,6,1)&"x","0x1x2x3x4x5x6x7x8x9x")),ISNUMBER(FIND(MID(A28,7,1)&"x","0x1x2x3x4x5x6x7x8x9x")),ISNUMBER(FIND(MID(A28,8,1)&"x","0x1x2x3x4x5x6x7x8x9x")))),"備品IDはAST-と半角数字4桁",IF(COUNTIFS($A$8:$A$57,A28)>1,"備品IDが重複",IF(NOT(OR(B28="PC",B28="周辺機器",B28="工具",B28="その他",B28="未確認")),"種類を確認",IF(NOT(AND(ISTEXT(C28),LEN(C28)=8,EXACT(LEFT(C28,4),"LOC-"),ISNUMBER(FIND(MID(C28,5,1)&"x","0x1x2x3x4x5x6x7x8x9x")),ISNUMBER(FIND(MID(C28,6,1)&"x","0x1x2x3x4x5x6x7x8x9x")),ISNUMBER(FIND(MID(C28,7,1)&"x","0x1x2x3x4x5x6x7x8x9x")),ISNUMBER(FIND(MID(C28,8,1)&"x","0x1x2x3x4x5x6x7x8x9x")))),"登録保管先IDはLOC-と半角数字4桁",IF(NOT(OR(D28="確認済",D28="未確認")),"所在区分を確認",IF(AND(D28="確認済",NOT(AND(ISTEXT(E28),LEN(E28)=8,EXACT(LEFT(E28,4),"LOC-"),ISNUMBER(FIND(MID(E28,5,1)&"x","0x1x2x3x4x5x6x7x8x9x")),ISNUMBER(FIND(MID(E28,6,1)&"x","0x1x2x3x4x5x6x7x8x9x")),ISNUMBER(FIND(MID(E28,7,1)&"x","0x1x2x3x4x5x6x7x8x9x")),ISNUMBER(FIND(MID(E28,8,1)&"x","0x1x2x3x4x5x6x7x8x9x"))))),"確認済所在IDが必須",IF(AND(D28="未確認",COUNTA(E28)>0),"所在未確認は所在ID空欄",IF(NOT(OR(F28="保管中",F28="貸出中",F28="返却済",F28="未確認")),"利用区分を確認",IF(AND(F28="保管中",NOT(AND(G28="対象外",COUNTA(H28:K28)=0))),"保管中の借用者は対象外/貸出欄は空欄",IF(AND(F28<>"保管中",NOT(OR(G28="確認済",G28="未確認"))),"借用者を確認/未確認で記録",IF(AND(G28="確認済",NOT(AND(ISTEXT(H28),LEN(H28)=8,EXACT(LEFT(H28,4),"PER-"),ISNUMBER(FIND(MID(H28,5,1)&"x","0x1x2x3x4x5x6x7x8x9x")),ISNUMBER(FIND(MID(H28,6,1)&"x","0x1x2x3x4x5x6x7x8x9x")),ISNUMBER(FIND(MID(H28,7,1)&"x","0x1x2x3x4x5x6x7x8x9x")),ISNUMBER(FIND(MID(H28,8,1)&"x","0x1x2x3x4x5x6x7x8x9x"))))),"確認済借用者IDが必須",IF(AND(G28<>"確認済",COUNTA(H28)>0),"未確認/対象外の借用者IDは空欄",IF(AND(OR(F28="貸出中",F28="返却済"),NOT(IF(ISNUMBER(I28),AND(I28>=43831,I28<=73050,I28=INT(I28)),FALSE()))),"貸出日が必須",IF(AND(COUNTA(I28)>0,NOT(IF(ISNUMBER(I28),AND(I28>=43831,I28<=73050,I28=INT(I28)),FALSE()))),"貸出日は2020〜2099年/時刻なし",IF(AND(COUNTA(J28)>0,NOT(IF(ISNUMBER(J28),AND(J28>=43831,J28<=73050,J28=INT(J28)),FALSE()))),"返却期日は2020〜2099年/時刻なし",IF(AND(COUNTA(J28)>0,OR(COUNTA(I28)=0,J28<I28)),"期日は貸出日以上/貸出日必須",IF(AND(F28="返却済",NOT(IF(ISNUMBER(K28),AND(K28>=43831,K28<=73050,K28=INT(K28)),FALSE()))),"返却済の返却日が必須",IF(AND(F28<>"返却済",COUNTA(K28)>0),"返却済以外の返却日は空欄",IF(AND(F28="返却済",K28<I28),"返却日は貸出日以上",IF(NOT(OR(L28="確認済",L28="要対応",L28="未確認")),"状態確認を記録",IF(NOT(OR(M28="確認済",M28="未確認")),"現物区分を確認",IF(AND(M28="確認済",NOT(IF(ISNUMBER(N28),AND(N28>=43831,N28<=73050,N28=INT(N28)),FALSE()))),"現物確認日が必須",IF(AND(M28="未確認",COUNTA(N28)>0),"現物未確認の日付は空欄",IF(NOT(IF(ISNUMBER(O28),AND(O28>=43831,O28<=73050,O28=INT(O28)),FALSE())),"記録確認日が必須",IF(OR(O28>備品の確認!$B$3,AND(COUNTA(I28)>0,I28>O28),AND(F28="返却済",K28>O28),AND(M28="確認済",N28>O28)),"貸出/返却/現物日≦記録確認日≦基準日","確認済み")))))))))))))))))))))))))),ISNUMBER(W28),W28=IF(V28="確認済み",0,1))),1,IF(W28<>0,0,IF(AND(IF(AND(F28="貸出中",COUNTA(J28)>0),ISNUMBER(P28),ISTEXT(P28)),P28=IF(AND(F28="貸出中",COUNTA(J28)>0),J28-備品の確認!$B$3,""),IF(AND(F28="返却済",COUNTA(J28)>0),ISNUMBER(Q28),ISTEXT(Q28)),Q28=IF(AND(F28="返却済",COUNTA(J28)>0),K28-J28,""),IF(M28="確認済",ISNUMBER(R28),ISTEXT(R28)),R28=IF(M28="確認済",備品の確認!$B$3-N28,""),ISTEXT(S28),S28=IF(M28="未確認","現物未確認",IF(R28>備品の確認!$E$3,"確認間隔超過","確認間隔内")),ISTEXT(T28),T28=IF(F28="保管中","保管記録",IF(F28="返却済","返却記録",IF(F28="未確認","利用未確認",IF(COUNTA(J28)=0,"期限未確認",IF(P28<0,"返却期限超過",IF(P28=0,"返却期日","貸出中")))))),ISNUMBER(U28),U28=IF(OR(B28="未確認",D28="未確認",F28="未確認",G28="未確認",L28<>"確認済",M28="未確認",S28="確認間隔超過",AND(F28="貸出中",OR(COUNTA(J28)=0,P28<=0))),1,0)),0,1)))) -> 0
P29: =IF(V29="","",IF(W29<>0,NA(),IF(AND(F29="貸出中",COUNTA(J29)>0),J29-備品の確認!$B$3,""))) | Q29: =IF(V29="","",IF(W29<>0,NA(),IF(AND(F29="返却済",COUNTA(J29)>0),K29-J29,""))) | R29: =IF(V29="","",IF(W29<>0,NA(),IF(M29="確認済",備品の確認!$B$3-N29,""))) | S29: =IF(V29="","",IF(W29<>0,NA(),IF(M29="未確認","現物未確認",IF(R29>備品の確認!$E$3,"確認間隔超過","確認間隔内")))) | T29: =IF(V29="","",IF(W29<>0,NA(),IF(F29="保管中","保管記録",IF(F29="返却済","返却記録",IF(F29="未確認","利用未確認",IF(COUNTA(J29)=0,"期限未確認",IF(P29<0,"返却期限超過",IF(P29=0,"返却期日","貸出中")))))))) | U29: =IF(V29="","",IF(W29<>0,NA(),IF(OR(B29="未確認",D29="未確認",F29="未確認",G29="未確認",L29<>"確認済",M29="未確認",S29="確認間隔超過",AND(F29="貸出中",OR(COUNTA(J29)=0,P29<=0))),1,0))) | V29: =IF(COUNTA(A29:O29)=0,"",IF(NOT(AND(ISTEXT(A29),LEN(A29)=8,EXACT(LEFT(A29,4),"AST-"),ISNUMBER(FIND(MID(A29,5,1)&"x","0x1x2x3x4x5x6x7x8x9x")),ISNUMBER(FIND(MID(A29,6,1)&"x","0x1x2x3x4x5x6x7x8x9x")),ISNUMBER(FIND(MID(A29,7,1)&"x","0x1x2x3x4x5x6x7x8x9x")),ISNUMBER(FIND(MID(A29,8,1)&"x","0x1x2x3x4x5x6x7x8x9x")))),"備品IDはAST-と半角数字4桁",IF(COUNTIFS($A$8:$A$57,A29)>1,"備品IDが重複",IF(NOT(OR(B29="PC",B29="周辺機器",B29="工具",B29="その他",B29="未確認")),"種類を確認",IF(NOT(AND(ISTEXT(C29),LEN(C29)=8,EXACT(LEFT(C29,4),"LOC-"),ISNUMBER(FIND(MID(C29,5,1)&"x","0x1x2x3x4x5x6x7x8x9x")),ISNUMBER(FIND(MID(C29,6,1)&"x","0x1x2x3x4x5x6x7x8x9x")),ISNUMBER(FIND(MID(C29,7,1)&"x","0x1x2x3x4x5x6x7x8x9x")),ISNUMBER(FIND(MID(C29,8,1)&"x","0x1x2x3x4x5x6x7x8x9x")))),"登録保管先IDはLOC-と半角数字4桁",IF(NOT(OR(D29="確認済",D29="未確認")),"所在区分を確認",IF(AND(D29="確認済",NOT(AND(ISTEXT(E29),LEN(E29)=8,EXACT(LEFT(E29,4),"LOC-"),ISNUMBER(FIND(MID(E29,5,1)&"x","0x1x2x3x4x5x6x7x8x9x")),ISNUMBER(FIND(MID(E29,6,1)&"x","0x1x2x3x4x5x6x7x8x9x")),ISNUMBER(FIND(MID(E29,7,1)&"x","0x1x2x3x4x5x6x7x8x9x")),ISNUMBER(FIND(MID(E29,8,1)&"x","0x1x2x3x4x5x6x7x8x9x"))))),"確認済所在IDが必須",IF(AND(D29="未確認",COUNTA(E29)>0),"所在未確認は所在ID空欄",IF(NOT(OR(F29="保管中",F29="貸出中",F29="返却済",F29="未確認")),"利用区分を確認",IF(AND(F29="保管中",NOT(AND(G29="対象外",COUNTA(H29:K29)=0))),"保管中の借用者は対象外/貸出欄は空欄",IF(AND(F29<>"保管中",NOT(OR(G29="確認済",G29="未確認"))),"借用者を確認/未確認で記録",IF(AND(G29="確認済",NOT(AND(ISTEXT(H29),LEN(H29)=8,EXACT(LEFT(H29,4),"PER-"),ISNUMBER(FIND(MID(H29,5,1)&"x","0x1x2x3x4x5x6x7x8x9x")),ISNUMBER(FIND(MID(H29,6,1)&"x","0x1x2x3x4x5x6x7x8x9x")),ISNUMBER(FIND(MID(H29,7,1)&"x","0x1x2x3x4x5x6x7x8x9x")),ISNUMBER(FIND(MID(H29,8,1)&"x","0x1x2x3x4x5x6x7x8x9x"))))),"確認済借用者IDが必須",IF(AND(G29<>"確認済",COUNTA(H29)>0),"未確認/対象外の借用者IDは空欄",IF(AND(OR(F29="貸出中",F29="返却済"),NOT(IF(ISNUMBER(I29),AND(I29>=43831,I29<=73050,I29=INT(I29)),FALSE()))),"貸出日が必須",IF(AND(COUNTA(I29)>0,NOT(IF(ISNUMBER(I29),AND(I29>=43831,I29<=73050,I29=INT(I29)),FALSE()))),"貸出日は2020〜2099年/時刻なし",IF(AND(COUNTA(J29)>0,NOT(IF(ISNUMBER(J29),AND(J29>=43831,J29<=73050,J29=INT(J29)),FALSE()))),"返却期日は2020〜2099年/時刻なし",IF(AND(COUNTA(J29)>0,OR(COUNTA(I29)=0,J29<I29)),"期日は貸出日以上/貸出日必須",IF(AND(F29="返却済",NOT(IF(ISNUMBER(K29),AND(K29>=43831,K29<=73050,K29=INT(K29)),FALSE()))),"返却済の返却日が必須",IF(AND(F29<>"返却済",COUNTA(K29)>0),"返却済以外の返却日は空欄",IF(AND(F29="返却済",K29<I29),"返却日は貸出日以上",IF(NOT(OR(L29="確認済",L29="要対応",L29="未確認")),"状態確認を記録",IF(NOT(OR(M29="確認済",M29="未確認")),"現物区分を確認",IF(AND(M29="確認済",NOT(IF(ISNUMBER(N29),AND(N29>=43831,N29<=73050,N29=INT(N29)),FALSE()))),"現物確認日が必須",IF(AND(M29="未確認",COUNTA(N29)>0),"現物未確認の日付は空欄",IF(NOT(IF(ISNUMBER(O29),AND(O29>=43831,O29<=73050,O29=INT(O29)),FALSE())),"記録確認日が必須",IF(OR(O29>備品の確認!$B$3,AND(COUNTA(I29)>0,I29>O29),AND(F29="返却済",K29>O29),AND(M29="確認済",N29>O29)),"貸出/返却/現物日≦記録確認日≦基準日","確認済み")))))))))))))))))))))))))) | W29: =IF(V29="","",IF(V29="確認済み",0,1)) | X29: =IF(COUNTA(A29:O29)=0,IF(AND(V29="",W29="",P29="",Q29="",R29="",S29="",T29="",U29=""),0,1),IF(NOT(AND(ISTEXT(V29),V29=IF(COUNTA(A29:O29)=0,"",IF(NOT(AND(ISTEXT(A29),LEN(A29)=8,EXACT(LEFT(A29,4),"AST-"),ISNUMBER(FIND(MID(A29,5,1)&"x","0x1x2x3x4x5x6x7x8x9x")),ISNUMBER(FIND(MID(A29,6,1)&"x","0x1x2x3x4x5x6x7x8x9x")),ISNUMBER(FIND(MID(A29,7,1)&"x","0x1x2x3x4x5x6x7x8x9x")),ISNUMBER(FIND(MID(A29,8,1)&"x","0x1x2x3x4x5x6x7x8x9x")))),"備品IDはAST-と半角数字4桁",IF(COUNTIFS($A$8:$A$57,A29)>1,"備品IDが重複",IF(NOT(OR(B29="PC",B29="周辺機器",B29="工具",B29="その他",B29="未確認")),"種類を確認",IF(NOT(AND(ISTEXT(C29),LEN(C29)=8,EXACT(LEFT(C29,4),"LOC-"),ISNUMBER(FIND(MID(C29,5,1)&"x","0x1x2x3x4x5x6x7x8x9x")),ISNUMBER(FIND(MID(C29,6,1)&"x","0x1x2x3x4x5x6x7x8x9x")),ISNUMBER(FIND(MID(C29,7,1)&"x","0x1x2x3x4x5x6x7x8x9x")),ISNUMBER(FIND(MID(C29,8,1)&"x","0x1x2x3x4x5x6x7x8x9x")))),"登録保管先IDはLOC-と半角数字4桁",IF(NOT(OR(D29="確認済",D29="未確認")),"所在区分を確認",IF(AND(D29="確認済",NOT(AND(ISTEXT(E29),LEN(E29)=8,EXACT(LEFT(E29,4),"LOC-"),ISNUMBER(FIND(MID(E29,5,1)&"x","0x1x2x3x4x5x6x7x8x9x")),ISNUMBER(FIND(MID(E29,6,1)&"x","0x1x2x3x4x5x6x7x8x9x")),ISNUMBER(FIND(MID(E29,7,1)&"x","0x1x2x3x4x5x6x7x8x9x")),ISNUMBER(FIND(MID(E29,8,1)&"x","0x1x2x3x4x5x6x7x8x9x"))))),"確認済所在IDが必須",IF(AND(D29="未確認",COUNTA(E29)>0),"所在未確認は所在ID空欄",IF(NOT(OR(F29="保管中",F29="貸出中",F29="返却済",F29="未確認")),"利用区分を確認",IF(AND(F29="保管中",NOT(AND(G29="対象外",COUNTA(H29:K29)=0))),"保管中の借用者は対象外/貸出欄は空欄",IF(AND(F29<>"保管中",NOT(OR(G29="確認済",G29="未確認"))),"借用者を確認/未確認で記録",IF(AND(G29="確認済",NOT(AND(ISTEXT(H29),LEN(H29)=8,EXACT(LEFT(H29,4),"PER-"),ISNUMBER(FIND(MID(H29,5,1)&"x","0x1x2x3x4x5x6x7x8x9x")),ISNUMBER(FIND(MID(H29,6,1)&"x","0x1x2x3x4x5x6x7x8x9x")),ISNUMBER(FIND(MID(H29,7,1)&"x","0x1x2x3x4x5x6x7x8x9x")),ISNUMBER(FIND(MID(H29,8,1)&"x","0x1x2x3x4x5x6x7x8x9x"))))),"確認済借用者IDが必須",IF(AND(G29<>"確認済",COUNTA(H29)>0),"未確認/対象外の借用者IDは空欄",IF(AND(OR(F29="貸出中",F29="返却済"),NOT(IF(ISNUMBER(I29),AND(I29>=43831,I29<=73050,I29=INT(I29)),FALSE()))),"貸出日が必須",IF(AND(COUNTA(I29)>0,NOT(IF(ISNUMBER(I29),AND(I29>=43831,I29<=73050,I29=INT(I29)),FALSE()))),"貸出日は2020〜2099年/時刻なし",IF(AND(COUNTA(J29)>0,NOT(IF(ISNUMBER(J29),AND(J29>=43831,J29<=73050,J29=INT(J29)),FALSE()))),"返却期日は2020〜2099年/時刻なし",IF(AND(COUNTA(J29)>0,OR(COUNTA(I29)=0,J29<I29)),"期日は貸出日以上/貸出日必須",IF(AND(F29="返却済",NOT(IF(ISNUMBER(K29),AND(K29>=43831,K29<=73050,K29=INT(K29)),FALSE()))),"返却済の返却日が必須",IF(AND(F29<>"返却済",COUNTA(K29)>0),"返却済以外の返却日は空欄",IF(AND(F29="返却済",K29<I29),"返却日は貸出日以上",IF(NOT(OR(L29="確認済",L29="要対応",L29="未確認")),"状態確認を記録",IF(NOT(OR(M29="確認済",M29="未確認")),"現物区分を確認",IF(AND(M29="確認済",NOT(IF(ISNUMBER(N29),AND(N29>=43831,N29<=73050,N29=INT(N29)),FALSE()))),"現物確認日が必須",IF(AND(M29="未確認",COUNTA(N29)>0),"現物未確認の日付は空欄",IF(NOT(IF(ISNUMBER(O29),AND(O29>=43831,O29<=73050,O29=INT(O29)),FALSE())),"記録確認日が必須",IF(OR(O29>備品の確認!$B$3,AND(COUNTA(I29)>0,I29>O29),AND(F29="返却済",K29>O29),AND(M29="確認済",N29>O29)),"貸出/返却/現物日≦記録確認日≦基準日","確認済み")))))))))))))))))))))))))),ISNUMBER(W29),W29=IF(V29="確認済み",0,1))),1,IF(W29<>0,0,IF(AND(IF(AND(F29="貸出中",COUNTA(J29)>0),ISNUMBER(P29),ISTEXT(P29)),P29=IF(AND(F29="貸出中",COUNTA(J29)>0),J29-備品の確認!$B$3,""),IF(AND(F29="返却済",COUNTA(J29)>0),ISNUMBER(Q29),ISTEXT(Q29)),Q29=IF(AND(F29="返却済",COUNTA(J29)>0),K29-J29,""),IF(M29="確認済",ISNUMBER(R29),ISTEXT(R29)),R29=IF(M29="確認済",備品の確認!$B$3-N29,""),ISTEXT(S29),S29=IF(M29="未確認","現物未確認",IF(R29>備品の確認!$E$3,"確認間隔超過","確認間隔内")),ISTEXT(T29),T29=IF(F29="保管中","保管記録",IF(F29="返却済","返却記録",IF(F29="未確認","利用未確認",IF(COUNTA(J29)=0,"期限未確認",IF(P29<0,"返却期限超過",IF(P29=0,"返却期日","貸出中")))))),ISNUMBER(U29),U29=IF(OR(B29="未確認",D29="未確認",F29="未確認",G29="未確認",L29<>"確認済",M29="未確認",S29="確認間隔超過",AND(F29="貸出中",OR(COUNTA(J29)=0,P29<=0))),1,0)),0,1)))) -> 0
P30: =IF(V30="","",IF(W30<>0,NA(),IF(AND(F30="貸出中",COUNTA(J30)>0),J30-備品の確認!$B$3,""))) | Q30: =IF(V30="","",IF(W30<>0,NA(),IF(AND(F30="返却済",COUNTA(J30)>0),K30-J30,""))) | R30: =IF(V30="","",IF(W30<>0,NA(),IF(M30="確認済",備品の確認!$B$3-N30,""))) | S30: =IF(V30="","",IF(W30<>0,NA(),IF(M30="未確認","現物未確認",IF(R30>備品の確認!$E$3,"確認間隔超過","確認間隔内")))) | T30: =IF(V30="","",IF(W30<>0,NA(),IF(F30="保管中","保管記録",IF(F30="返却済","返却記録",IF(F30="未確認","利用未確認",IF(COUNTA(J30)=0,"期限未確認",IF(P30<0,"返却期限超過",IF(P30=0,"返却期日","貸出中")))))))) | U30: =IF(V30="","",IF(W30<>0,NA(),IF(OR(B30="未確認",D30="未確認",F30="未確認",G30="未確認",L30<>"確認済",M30="未確認",S30="確認間隔超過",AND(F30="貸出中",OR(COUNTA(J30)=0,P30<=0))),1,0))) | V30: =IF(COUNTA(A30:O30)=0,"",IF(NOT(AND(ISTEXT(A30),LEN(A30)=8,EXACT(LEFT(A30,4),"AST-"),ISNUMBER(FIND(MID(A30,5,1)&"x","0x1x2x3x4x5x6x7x8x9x")),ISNUMBER(FIND(MID(A30,6,1)&"x","0x1x2x3x4x5x6x7x8x9x")),ISNUMBER(FIND(MID(A30,7,1)&"x","0x1x2x3x4x5x6x7x8x9x")),ISNUMBER(FIND(MID(A30,8,1)&"x","0x1x2x3x4x5x6x7x8x9x")))),"備品IDはAST-と半角数字4桁",IF(COUNTIFS($A$8:$A$57,A30)>1,"備品IDが重複",IF(NOT(OR(B30="PC",B30="周辺機器",B30="工具",B30="その他",B30="未確認")),"種類を確認",IF(NOT(AND(ISTEXT(C30),LEN(C30)=8,EXACT(LEFT(C30,4),"LOC-"),ISNUMBER(FIND(MID(C30,5,1)&"x","0x1x2x3x4x5x6x7x8x9x")),ISNUMBER(FIND(MID(C30,6,1)&"x","0x1x2x3x4x5x6x7x8x9x")),ISNUMBER(FIND(MID(C30,7,1)&"x","0x1x2x3x4x5x6x7x8x9x")),ISNUMBER(FIND(MID(C30,8,1)&"x","0x1x2x3x4x5x6x7x8x9x")))),"登録保管先IDはLOC-と半角数字4桁",IF(NOT(OR(D30="確認済",D30="未確認")),"所在区分を確認",IF(AND(D30="確認済",NOT(AND(ISTEXT(E30),LEN(E30)=8,EXACT(LEFT(E30,4),"LOC-"),ISNUMBER(FIND(MID(E30,5,1)&"x","0x1x2x3x4x5x6x7x8x9x")),ISNUMBER(FIND(MID(E30,6,1)&"x","0x1x2x3x4x5x6x7x8x9x")),ISNUMBER(FIND(MID(E30,7,1)&"x","0x1x2x3x4x5x6x7x8x9x")),ISNUMBER(FIND(MID(E30,8,1)&"x","0x1x2x3x4x5x6x7x8x9x"))))),"確認済所在IDが必須",IF(AND(D30="未確認",COUNTA(E30)>0),"所在未確認は所在ID空欄",IF(NOT(OR(F30="保管中",F30="貸出中",F30="返却済",F30="未確認")),"利用区分を確認",IF(AND(F30="保管中",NOT(AND(G30="対象外",COUNTA(H30:K30)=0))),"保管中の借用者は対象外/貸出欄は空欄",IF(AND(F30<>"保管中",NOT(OR(G30="確認済",G30="未確認"))),"借用者を確認/未確認で記録",IF(AND(G30="確認済",NOT(AND(ISTEXT(H30),LEN(H30)=8,EXACT(LEFT(H30,4),"PER-"),ISNUMBER(FIND(MID(H30,5,1)&"x","0x1x2x3x4x5x6x7x8x9x")),ISNUMBER(FIND(MID(H30,6,1)&"x","0x1x2x3x4x5x6x7x8x9x")),ISNUMBER(FIND(MID(H30,7,1)&"x","0x1x2x3x4x5x6x7x8x9x")),ISNUMBER(FIND(MID(H30,8,1)&"x","0x1x2x3x4x5x6x7x8x9x"))))),"確認済借用者IDが必須",IF(AND(G30<>"確認済",COUNTA(H30)>0),"未確認/対象外の借用者IDは空欄",IF(AND(OR(F30="貸出中",F30="返却済"),NOT(IF(ISNUMBER(I30),AND(I30>=43831,I30<=73050,I30=INT(I30)),FALSE()))),"貸出日が必須",IF(AND(COUNTA(I30)>0,NOT(IF(ISNUMBER(I30),AND(I30>=43831,I30<=73050,I30=INT(I30)),FALSE()))),"貸出日は2020〜2099年/時刻なし",IF(AND(COUNTA(J30)>0,NOT(IF(ISNUMBER(J30),AND(J30>=43831,J30<=73050,J30=INT(J30)),FALSE()))),"返却期日は2020〜2099年/時刻なし",IF(AND(COUNTA(J30)>0,OR(COUNTA(I30)=0,J30<I30)),"期日は貸出日以上/貸出日必須",IF(AND(F30="返却済",NOT(IF(ISNUMBER(K30),AND(K30>=43831,K30<=73050,K30=INT(K30)),FALSE()))),"返却済の返却日が必須",IF(AND(F30<>"返却済",COUNTA(K30)>0),"返却済以外の返却日は空欄",IF(AND(F30="返却済",K30<I30),"返却日は貸出日以上",IF(NOT(OR(L30="確認済",L30="要対応",L30="未確認")),"状態確認を記録",IF(NOT(OR(M30="確認済",M30="未確認")),"現物区分を確認",IF(AND(M30="確認済",NOT(IF(ISNUMBER(N30),AND(N30>=43831,N30<=73050,N30=INT(N30)),FALSE()))),"現物確認日が必須",IF(AND(M30="未確認",COUNTA(N30)>0),"現物未確認の日付は空欄",IF(NOT(IF(ISNUMBER(O30),AND(O30>=43831,O30<=73050,O30=INT(O30)),FALSE())),"記録確認日が必須",IF(OR(O30>備品の確認!$B$3,AND(COUNTA(I30)>0,I30>O30),AND(F30="返却済",K30>O30),AND(M30="確認済",N30>O30)),"貸出/返却/現物日≦記録確認日≦基準日","確認済み")))))))))))))))))))))))))) | W30: =IF(V30="","",IF(V30="確認済み",0,1)) | X30: =IF(COUNTA(A30:O30)=0,IF(AND(V30="",W30="",P30="",Q30="",R30="",S30="",T30="",U30=""),0,1),IF(NOT(AND(ISTEXT(V30),V30=IF(COUNTA(A30:O30)=0,"",IF(NOT(AND(ISTEXT(A30),LEN(A30)=8,EXACT(LEFT(A30,4),"AST-"),ISNUMBER(FIND(MID(A30,5,1)&"x","0x1x2x3x4x5x6x7x8x9x")),ISNUMBER(FIND(MID(A30,6,1)&"x","0x1x2x3x4x5x6x7x8x9x")),ISNUMBER(FIND(MID(A30,7,1)&"x","0x1x2x3x4x5x6x7x8x9x")),ISNUMBER(FIND(MID(A30,8,1)&"x","0x1x2x3x4x5x6x7x8x9x")))),"備品IDはAST-と半角数字4桁",IF(COUNTIFS($A$8:$A$57,A30)>1,"備品IDが重複",IF(NOT(OR(B30="PC",B30="周辺機器",B30="工具",B30="その他",B30="未確認")),"種類を確認",IF(NOT(AND(ISTEXT(C30),LEN(C30)=8,EXACT(LEFT(C30,4),"LOC-"),ISNUMBER(FIND(MID(C30,5,1)&"x","0x1x2x3x4x5x6x7x8x9x")),ISNUMBER(FIND(MID(C30,6,1)&"x","0x1x2x3x4x5x6x7x8x9x")),ISNUMBER(FIND(MID(C30,7,1)&"x","0x1x2x3x4x5x6x7x8x9x")),ISNUMBER(FIND(MID(C30,8,1)&"x","0x1x2x3x4x5x6x7x8x9x")))),"登録保管先IDはLOC-と半角数字4桁",IF(NOT(OR(D30="確認済",D30="未確認")),"所在区分を確認",IF(AND(D30="確認済",NOT(AND(ISTEXT(E30),LEN(E30)=8,EXACT(LEFT(E30,4),"LOC-"),ISNUMBER(FIND(MID(E30,5,1)&"x","0x1x2x3x4x5x6x7x8x9x")),ISNUMBER(FIND(MID(E30,6,1)&"x","0x1x2x3x4x5x6x7x8x9x")),ISNUMBER(FIND(MID(E30,7,1)&"x","0x1x2x3x4x5x6x7x8x9x")),ISNUMBER(FIND(MID(E30,8,1)&"x","0x1x2x3x4x5x6x7x8x9x"))))),"確認済所在IDが必須",IF(AND(D30="未確認",COUNTA(E30)>0),"所在未確認は所在ID空欄",IF(NOT(OR(F30="保管中",F30="貸出中",F30="返却済",F30="未確認")),"利用区分を確認",IF(AND(F30="保管中",NOT(AND(G30="対象外",COUNTA(H30:K30)=0))),"保管中の借用者は対象外/貸出欄は空欄",IF(AND(F30<>"保管中",NOT(OR(G30="確認済",G30="未確認"))),"借用者を確認/未確認で記録",IF(AND(G30="確認済",NOT(AND(ISTEXT(H30),LEN(H30)=8,EXACT(LEFT(H30,4),"PER-"),ISNUMBER(FIND(MID(H30,5,1)&"x","0x1x2x3x4x5x6x7x8x9x")),ISNUMBER(FIND(MID(H30,6,1)&"x","0x1x2x3x4x5x6x7x8x9x")),ISNUMBER(FIND(MID(H30,7,1)&"x","0x1x2x3x4x5x6x7x8x9x")),ISNUMBER(FIND(MID(H30,8,1)&"x","0x1x2x3x4x5x6x7x8x9x"))))),"確認済借用者IDが必須",IF(AND(G30<>"確認済",COUNTA(H30)>0),"未確認/対象外の借用者IDは空欄",IF(AND(OR(F30="貸出中",F30="返却済"),NOT(IF(ISNUMBER(I30),AND(I30>=43831,I30<=73050,I30=INT(I30)),FALSE()))),"貸出日が必須",IF(AND(COUNTA(I30)>0,NOT(IF(ISNUMBER(I30),AND(I30>=43831,I30<=73050,I30=INT(I30)),FALSE()))),"貸出日は2020〜2099年/時刻なし",IF(AND(COUNTA(J30)>0,NOT(IF(ISNUMBER(J30),AND(J30>=43831,J30<=73050,J30=INT(J30)),FALSE()))),"返却期日は2020〜2099年/時刻なし",IF(AND(COUNTA(J30)>0,OR(COUNTA(I30)=0,J30<I30)),"期日は貸出日以上/貸出日必須",IF(AND(F30="返却済",NOT(IF(ISNUMBER(K30),AND(K30>=43831,K30<=73050,K30=INT(K30)),FALSE()))),"返却済の返却日が必須",IF(AND(F30<>"返却済",COUNTA(K30)>0),"返却済以外の返却日は空欄",IF(AND(F30="返却済",K30<I30),"返却日は貸出日以上",IF(NOT(OR(L30="確認済",L30="要対応",L30="未確認")),"状態確認を記録",IF(NOT(OR(M30="確認済",M30="未確認")),"現物区分を確認",IF(AND(M30="確認済",NOT(IF(ISNUMBER(N30),AND(N30>=43831,N30<=73050,N30=INT(N30)),FALSE()))),"現物確認日が必須",IF(AND(M30="未確認",COUNTA(N30)>0),"現物未確認の日付は空欄",IF(NOT(IF(ISNUMBER(O30),AND(O30>=43831,O30<=73050,O30=INT(O30)),FALSE())),"記録確認日が必須",IF(OR(O30>備品の確認!$B$3,AND(COUNTA(I30)>0,I30>O30),AND(F30="返却済",K30>O30),AND(M30="確認済",N30>O30)),"貸出/返却/現物日≦記録確認日≦基準日","確認済み")))))))))))))))))))))))))),ISNUMBER(W30),W30=IF(V30="確認済み",0,1))),1,IF(W30<>0,0,IF(AND(IF(AND(F30="貸出中",COUNTA(J30)>0),ISNUMBER(P30),ISTEXT(P30)),P30=IF(AND(F30="貸出中",COUNTA(J30)>0),J30-備品の確認!$B$3,""),IF(AND(F30="返却済",COUNTA(J30)>0),ISNUMBER(Q30),ISTEXT(Q30)),Q30=IF(AND(F30="返却済",COUNTA(J30)>0),K30-J30,""),IF(M30="確認済",ISNUMBER(R30),ISTEXT(R30)),R30=IF(M30="確認済",備品の確認!$B$3-N30,""),ISTEXT(S30),S30=IF(M30="未確認","現物未確認",IF(R30>備品の確認!$E$3,"確認間隔超過","確認間隔内")),ISTEXT(T30),T30=IF(F30="保管中","保管記録",IF(F30="返却済","返却記録",IF(F30="未確認","利用未確認",IF(COUNTA(J30)=0,"期限未確認",IF(P30<0,"返却期限超過",IF(P30=0,"返却期日","貸出中")))))),ISNUMBER(U30),U30=IF(OR(B30="未確認",D30="未確認",F30="未確認",G30="未確認",L30<>"確認済",M30="未確認",S30="確認間隔超過",AND(F30="貸出中",OR(COUNTA(J30)=0,P30<=0))),1,0)),0,1)))) -> 0
P31: =IF(V31="","",IF(W31<>0,NA(),IF(AND(F31="貸出中",COUNTA(J31)>0),J31-備品の確認!$B$3,""))) | Q31: =IF(V31="","",IF(W31<>0,NA(),IF(AND(F31="返却済",COUNTA(J31)>0),K31-J31,""))) | R31: =IF(V31="","",IF(W31<>0,NA(),IF(M31="確認済",備品の確認!$B$3-N31,""))) | S31: =IF(V31="","",IF(W31<>0,NA(),IF(M31="未確認","現物未確認",IF(R31>備品の確認!$E$3,"確認間隔超過","確認間隔内")))) | T31: =IF(V31="","",IF(W31<>0,NA(),IF(F31="保管中","保管記録",IF(F31="返却済","返却記録",IF(F31="未確認","利用未確認",IF(COUNTA(J31)=0,"期限未確認",IF(P31<0,"返却期限超過",IF(P31=0,"返却期日","貸出中")))))))) | U31: =IF(V31="","",IF(W31<>0,NA(),IF(OR(B31="未確認",D31="未確認",F31="未確認",G31="未確認",L31<>"確認済",M31="未確認",S31="確認間隔超過",AND(F31="貸出中",OR(COUNTA(J31)=0,P31<=0))),1,0))) | V31: =IF(COUNTA(A31:O31)=0,"",IF(NOT(AND(ISTEXT(A31),LEN(A31)=8,EXACT(LEFT(A31,4),"AST-"),ISNUMBER(FIND(MID(A31,5,1)&"x","0x1x2x3x4x5x6x7x8x9x")),ISNUMBER(FIND(MID(A31,6,1)&"x","0x1x2x3x4x5x6x7x8x9x")),ISNUMBER(FIND(MID(A31,7,1)&"x","0x1x2x3x4x5x6x7x8x9x")),ISNUMBER(FIND(MID(A31,8,1)&"x","0x1x2x3x4x5x6x7x8x9x")))),"備品IDはAST-と半角数字4桁",IF(COUNTIFS($A$8:$A$57,A31)>1,"備品IDが重複",IF(NOT(OR(B31="PC",B31="周辺機器",B31="工具",B31="その他",B31="未確認")),"種類を確認",IF(NOT(AND(ISTEXT(C31),LEN(C31)=8,EXACT(LEFT(C31,4),"LOC-"),ISNUMBER(FIND(MID(C31,5,1)&"x","0x1x2x3x4x5x6x7x8x9x")),ISNUMBER(FIND(MID(C31,6,1)&"x","0x1x2x3x4x5x6x7x8x9x")),ISNUMBER(FIND(MID(C31,7,1)&"x","0x1x2x3x4x5x6x7x8x9x")),ISNUMBER(FIND(MID(C31,8,1)&"x","0x1x2x3x4x5x6x7x8x9x")))),"登録保管先IDはLOC-と半角数字4桁",IF(NOT(OR(D31="確認済",D31="未確認")),"所在区分を確認",IF(AND(D31="確認済",NOT(AND(ISTEXT(E31),LEN(E31)=8,EXACT(LEFT(E31,4),"LOC-"),ISNUMBER(FIND(MID(E31,5,1)&"x","0x1x2x3x4x5x6x7x8x9x")),ISNUMBER(FIND(MID(E31,6,1)&"x","0x1x2x3x4x5x6x7x8x9x")),ISNUMBER(FIND(MID(E31,7,1)&"x","0x1x2x3x4x5x6x7x8x9x")),ISNUMBER(FIND(MID(E31,8,1)&"x","0x1x2x3x4x5x6x7x8x9x"))))),"確認済所在IDが必須",IF(AND(D31="未確認",COUNTA(E31)>0),"所在未確認は所在ID空欄",IF(NOT(OR(F31="保管中",F31="貸出中",F31="返却済",F31="未確認")),"利用区分を確認",IF(AND(F31="保管中",NOT(AND(G31="対象外",COUNTA(H31:K31)=0))),"保管中の借用者は対象外/貸出欄は空欄",IF(AND(F31<>"保管中",NOT(OR(G31="確認済",G31="未確認"))),"借用者を確認/未確認で記録",IF(AND(G31="確認済",NOT(AND(ISTEXT(H31),LEN(H31)=8,EXACT(LEFT(H31,4),"PER-"),ISNUMBER(FIND(MID(H31,5,1)&"x","0x1x2x3x4x5x6x7x8x9x")),ISNUMBER(FIND(MID(H31,6,1)&"x","0x1x2x3x4x5x6x7x8x9x")),ISNUMBER(FIND(MID(H31,7,1)&"x","0x1x2x3x4x5x6x7x8x9x")),ISNUMBER(FIND(MID(H31,8,1)&"x","0x1x2x3x4x5x6x7x8x9x"))))),"確認済借用者IDが必須",IF(AND(G31<>"確認済",COUNTA(H31)>0),"未確認/対象外の借用者IDは空欄",IF(AND(OR(F31="貸出中",F31="返却済"),NOT(IF(ISNUMBER(I31),AND(I31>=43831,I31<=73050,I31=INT(I31)),FALSE()))),"貸出日が必須",IF(AND(COUNTA(I31)>0,NOT(IF(ISNUMBER(I31),AND(I31>=43831,I31<=73050,I31=INT(I31)),FALSE()))),"貸出日は2020〜2099年/時刻なし",IF(AND(COUNTA(J31)>0,NOT(IF(ISNUMBER(J31),AND(J31>=43831,J31<=73050,J31=INT(J31)),FALSE()))),"返却期日は2020〜2099年/時刻なし",IF(AND(COUNTA(J31)>0,OR(COUNTA(I31)=0,J31<I31)),"期日は貸出日以上/貸出日必須",IF(AND(F31="返却済",NOT(IF(ISNUMBER(K31),AND(K31>=43831,K31<=73050,K31=INT(K31)),FALSE()))),"返却済の返却日が必須",IF(AND(F31<>"返却済",COUNTA(K31)>0),"返却済以外の返却日は空欄",IF(AND(F31="返却済",K31<I31),"返却日は貸出日以上",IF(NOT(OR(L31="確認済",L31="要対応",L31="未確認")),"状態確認を記録",IF(NOT(OR(M31="確認済",M31="未確認")),"現物区分を確認",IF(AND(M31="確認済",NOT(IF(ISNUMBER(N31),AND(N31>=43831,N31<=73050,N31=INT(N31)),FALSE()))),"現物確認日が必須",IF(AND(M31="未確認",COUNTA(N31)>0),"現物未確認の日付は空欄",IF(NOT(IF(ISNUMBER(O31),AND(O31>=43831,O31<=73050,O31=INT(O31)),FALSE())),"記録確認日が必須",IF(OR(O31>備品の確認!$B$3,AND(COUNTA(I31)>0,I31>O31),AND(F31="返却済",K31>O31),AND(M31="確認済",N31>O31)),"貸出/返却/現物日≦記録確認日≦基準日","確認済み")))))))))))))))))))))))))) | W31: =IF(V31="","",IF(V31="確認済み",0,1)) | X31: =IF(COUNTA(A31:O31)=0,IF(AND(V31="",W31="",P31="",Q31="",R31="",S31="",T31="",U31=""),0,1),IF(NOT(AND(ISTEXT(V31),V31=IF(COUNTA(A31:O31)=0,"",IF(NOT(AND(ISTEXT(A31),LEN(A31)=8,EXACT(LEFT(A31,4),"AST-"),ISNUMBER(FIND(MID(A31,5,1)&"x","0x1x2x3x4x5x6x7x8x9x")),ISNUMBER(FIND(MID(A31,6,1)&"x","0x1x2x3x4x5x6x7x8x9x")),ISNUMBER(FIND(MID(A31,7,1)&"x","0x1x2x3x4x5x6x7x8x9x")),ISNUMBER(FIND(MID(A31,8,1)&"x","0x1x2x3x4x5x6x7x8x9x")))),"備品IDはAST-と半角数字4桁",IF(COUNTIFS($A$8:$A$57,A31)>1,"備品IDが重複",IF(NOT(OR(B31="PC",B31="周辺機器",B31="工具",B31="その他",B31="未確認")),"種類を確認",IF(NOT(AND(ISTEXT(C31),LEN(C31)=8,EXACT(LEFT(C31,4),"LOC-"),ISNUMBER(FIND(MID(C31,5,1)&"x","0x1x2x3x4x5x6x7x8x9x")),ISNUMBER(FIND(MID(C31,6,1)&"x","0x1x2x3x4x5x6x7x8x9x")),ISNUMBER(FIND(MID(C31,7,1)&"x","0x1x2x3x4x5x6x7x8x9x")),ISNUMBER(FIND(MID(C31,8,1)&"x","0x1x2x3x4x5x6x7x8x9x")))),"登録保管先IDはLOC-と半角数字4桁",IF(NOT(OR(D31="確認済",D31="未確認")),"所在区分を確認",IF(AND(D31="確認済",NOT(AND(ISTEXT(E31),LEN(E31)=8,EXACT(LEFT(E31,4),"LOC-"),ISNUMBER(FIND(MID(E31,5,1)&"x","0x1x2x3x4x5x6x7x8x9x")),ISNUMBER(FIND(MID(E31,6,1)&"x","0x1x2x3x4x5x6x7x8x9x")),ISNUMBER(FIND(MID(E31,7,1)&"x","0x1x2x3x4x5x6x7x8x9x")),ISNUMBER(FIND(MID(E31,8,1)&"x","0x1x2x3x4x5x6x7x8x9x"))))),"確認済所在IDが必須",IF(AND(D31="未確認",COUNTA(E31)>0),"所在未確認は所在ID空欄",IF(NOT(OR(F31="保管中",F31="貸出中",F31="返却済",F31="未確認")),"利用区分を確認",IF(AND(F31="保管中",NOT(AND(G31="対象外",COUNTA(H31:K31)=0))),"保管中の借用者は対象外/貸出欄は空欄",IF(AND(F31<>"保管中",NOT(OR(G31="確認済",G31="未確認"))),"借用者を確認/未確認で記録",IF(AND(G31="確認済",NOT(AND(ISTEXT(H31),LEN(H31)=8,EXACT(LEFT(H31,4),"PER-"),ISNUMBER(FIND(MID(H31,5,1)&"x","0x1x2x3x4x5x6x7x8x9x")),ISNUMBER(FIND(MID(H31,6,1)&"x","0x1x2x3x4x5x6x7x8x9x")),ISNUMBER(FIND(MID(H31,7,1)&"x","0x1x2x3x4x5x6x7x8x9x")),ISNUMBER(FIND(MID(H31,8,1)&"x","0x1x2x3x4x5x6x7x8x9x"))))),"確認済借用者IDが必須",IF(AND(G31<>"確認済",COUNTA(H31)>0),"未確認/対象外の借用者IDは空欄",IF(AND(OR(F31="貸出中",F31="返却済"),NOT(IF(ISNUMBER(I31),AND(I31>=43831,I31<=73050,I31=INT(I31)),FALSE()))),"貸出日が必須",IF(AND(COUNTA(I31)>0,NOT(IF(ISNUMBER(I31),AND(I31>=43831,I31<=73050,I31=INT(I31)),FALSE()))),"貸出日は2020〜2099年/時刻なし",IF(AND(COUNTA(J31)>0,NOT(IF(ISNUMBER(J31),AND(J31>=43831,J31<=73050,J31=INT(J31)),FALSE()))),"返却期日は2020〜2099年/時刻なし",IF(AND(COUNTA(J31)>0,OR(COUNTA(I31)=0,J31<I31)),"期日は貸出日以上/貸出日必須",IF(AND(F31="返却済",NOT(IF(ISNUMBER(K31),AND(K31>=43831,K31<=73050,K31=INT(K31)),FALSE()))),"返却済の返却日が必須",IF(AND(F31<>"返却済",COUNTA(K31)>0),"返却済以外の返却日は空欄",IF(AND(F31="返却済",K31<I31),"返却日は貸出日以上",IF(NOT(OR(L31="確認済",L31="要対応",L31="未確認")),"状態確認を記録",IF(NOT(OR(M31="確認済",M31="未確認")),"現物区分を確認",IF(AND(M31="確認済",NOT(IF(ISNUMBER(N31),AND(N31>=43831,N31<=73050,N31=INT(N31)),FALSE()))),"現物確認日が必須",IF(AND(M31="未確認",COUNTA(N31)>0),"現物未確認の日付は空欄",IF(NOT(IF(ISNUMBER(O31),AND(O31>=43831,O31<=73050,O31=INT(O31)),FALSE())),"記録確認日が必須",IF(OR(O31>備品の確認!$B$3,AND(COUNTA(I31)>0,I31>O31),AND(F31="返却済",K31>O31),AND(M31="確認済",N31>O31)),"貸出/返却/現物日≦記録確認日≦基準日","確認済み")))))))))))))))))))))))))),ISNUMBER(W31),W31=IF(V31="確認済み",0,1))),1,IF(W31<>0,0,IF(AND(IF(AND(F31="貸出中",COUNTA(J31)>0),ISNUMBER(P31),ISTEXT(P31)),P31=IF(AND(F31="貸出中",COUNTA(J31)>0),J31-備品の確認!$B$3,""),IF(AND(F31="返却済",COUNTA(J31)>0),ISNUMBER(Q31),ISTEXT(Q31)),Q31=IF(AND(F31="返却済",COUNTA(J31)>0),K31-J31,""),IF(M31="確認済",ISNUMBER(R31),ISTEXT(R31)),R31=IF(M31="確認済",備品の確認!$B$3-N31,""),ISTEXT(S31),S31=IF(M31="未確認","現物未確認",IF(R31>備品の確認!$E$3,"確認間隔超過","確認間隔内")),ISTEXT(T31),T31=IF(F31="保管中","保管記録",IF(F31="返却済","返却記録",IF(F31="未確認","利用未確認",IF(COUNTA(J31)=0,"期限未確認",IF(P31<0,"返却期限超過",IF(P31=0,"返却期日","貸出中")))))),ISNUMBER(U31),U31=IF(OR(B31="未確認",D31="未確認",F31="未確認",G31="未確認",L31<>"確認済",M31="未確認",S31="確認間隔超過",AND(F31="貸出中",OR(COUNTA(J31)=0,P31<=0))),1,0)),0,1)))) -> 0
... P57: =IF(V57="","",IF(W57<>0,NA(),IF(AND(F57="貸出中",COUNTA(J57)>0),J57-備品の確認!$B$3,""))) | Q57: =IF(V57="","",IF(W57<>0,NA(),IF(AND(F57="返却済",COUNTA(J57)>0),K57-J57,""))) | R57: =IF(V57="","",IF(W57<>0,NA(),IF(M57="確認済",備品の確認!$B$3-N57,""))) | S57: =IF(V57="","",IF(W57<>0,NA(),IF(M57="未確認","現物未確認",IF(R57>備品の確認!$E$3,"確認間隔超過","確認間隔内")))) | T57: =IF(V57="","",IF(W57<>0,NA(),IF(F57="保管中","保管記録",IF(F57="返却済","返却記録",IF(F57="未確認","利用未確認",IF(COUNTA(J57)=0,"期限未確認",IF(P57<0,"返却期限超過",IF(P57=0,"返却期日","貸出中")))))))) | U57: =IF(V57="","",IF(W57<>0,NA(),IF(OR(B57="未確認",D57="未確認",F57="未確認",G57="未確認",L57<>"確認済",M57="未確認",S57="確認間隔超過",AND(F57="貸出中",OR(COUNTA(J57)=0,P57<=0))),1,0))) | V57: =IF(COUNTA(A57:O57)=0,"",IF(NOT(AND(ISTEXT(A57),LEN(A57)=8,EXACT(LEFT(A57,4),"AST-"),ISNUMBER(FIND(MID(A57,5,1)&"x","0x1x2x3x4x5x6x7x8x9x")),ISNUMBER(FIND(MID(A57,6,1)&"x","0x1x2x3x4x5x6x7x8x9x")),ISNUMBER(FIND(MID(A57,7,1)&"x","0x1x2x3x4x5x6x7x8x9x")),ISNUMBER(FIND(MID(A57,8,1)&"x","0x1x2x3x4x5x6x7x8x9x")))),"備品IDはAST-と半角数字4桁",IF(COUNTIFS($A$8:$A$57,A57)>1,"備品IDが重複",IF(NOT(OR(B57="PC",B57="周辺機器",B57="工具",B57="その他",B57="未確認")),"種類を確認",IF(NOT(AND(ISTEXT(C57),LEN(C57)=8,EXACT(LEFT(C57,4),"LOC-"),ISNUMBER(FIND(MID(C57,5,1)&"x","0x1x2x3x4x5x6x7x8x9x")),ISNUMBER(FIND(MID(C57,6,1)&"x","0x1x2x3x4x5x6x7x8x9x")),ISNUMBER(FIND(MID(C57,7,1)&"x","0x1x2x3x4x5x6x7x8x9x")),ISNUMBER(FIND(MID(C57,8,1)&"x","0x1x2x3x4x5x6x7x8x9x")))),"登録保管先IDはLOC-と半角数字4桁",IF(NOT(OR(D57="確認済",D57="未確認")),"所在区分を確認",IF(AND(D57="確認済",NOT(AND(ISTEXT(E57),LEN(E57)=8,EXACT(LEFT(E57,4),"LOC-"),ISNUMBER(FIND(MID(E57,5,1)&"x","0x1x2x3x4x5x6x7x8x9x")),ISNUMBER(FIND(MID(E57,6,1)&"x","0x1x2x3x4x5x6x7x8x9x")),ISNUMBER(FIND(MID(E57,7,1)&"x","0x1x2x3x4x5x6x7x8x9x")),ISNUMBER(FIND(MID(E57,8,1)&"x","0x1x2x3x4x5x6x7x8x9x"))))),"確認済所在IDが必須",IF(AND(D57="未確認",COUNTA(E57)>0),"所在未確認は所在ID空欄",IF(NOT(OR(F57="保管中",F57="貸出中",F57="返却済",F57="未確認")),"利用区分を確認",IF(AND(F57="保管中",NOT(AND(G57="対象外",COUNTA(H57:K57)=0))),"保管中の借用者は対象外/貸出欄は空欄",IF(AND(F57<>"保管中",NOT(OR(G57="確認済",G57="未確認"))),"借用者を確認/未確認で記録",IF(AND(G57="確認済",NOT(AND(ISTEXT(H57),LEN(H57)=8,EXACT(LEFT(H57,4),"PER-"),ISNUMBER(FIND(MID(H57,5,1)&"x","0x1x2x3x4x5x6x7x8x9x")),ISNUMBER(FIND(MID(H57,6,1)&"x","0x1x2x3x4x5x6x7x8x9x")),ISNUMBER(FIND(MID(H57,7,1)&"x","0x1x2x3x4x5x6x7x8x9x")),ISNUMBER(FIND(MID(H57,8,1)&"x","0x1x2x3x4x5x6x7x8x9x"))))),"確認済借用者IDが必須",IF(AND(G57<>"確認済",COUNTA(H57)>0),"未確認/対象外の借用者IDは空欄",IF(AND(OR(F57="貸出中",F57="返却済"),NOT(IF(ISNUMBER(I57),AND(I57>=43831,I57<=73050,I57=INT(I57)),FALSE()))),"貸出日が必須",IF(AND(COUNTA(I57)>0,NOT(IF(ISNUMBER(I57),AND(I57>=43831,I57<=73050,I57=INT(I57)),FALSE()))),"貸出日は2020〜2099年/時刻なし",IF(AND(COUNTA(J57)>0,NOT(IF(ISNUMBER(J57),AND(J57>=43831,J57<=73050,J57=INT(J57)),FALSE()))),"返却期日は2020〜2099年/時刻なし",IF(AND(COUNTA(J57)>0,OR(COUNTA(I57)=0,J57<I57)),"期日は貸出日以上/貸出日必須",IF(AND(F57="返却済",NOT(IF(ISNUMBER(K57),AND(K57>=43831,K57<=73050,K57=INT(K57)),FALSE()))),"返却済の返却日が必須",IF(AND(F57<>"返却済",COUNTA(K57)>0),"返却済以外の返却日は空欄",IF(AND(F57="返却済",K57<I57),"返却日は貸出日以上",IF(NOT(OR(L57="確認済",L57="要対応",L57="未確認")),"状態確認を記録",IF(NOT(OR(M57="確認済",M57="未確認")),"現物区分を確認",IF(AND(M57="確認済",NOT(IF(ISNUMBER(N57),AND(N57>=43831,N57<=73050,N57=INT(N57)),FALSE()))),"現物確認日が必須",IF(AND(M57="未確認",COUNTA(N57)>0),"現物未確認の日付は空欄",IF(NOT(IF(ISNUMBER(O57),AND(O57>=43831,O57<=73050,O57=INT(O57)),FALSE())),"記録確認日が必須",IF(OR(O57>備品の確認!$B$3,AND(COUNTA(I57)>0,I57>O57),AND(F57="返却済",K57>O57),AND(M57="確認済",N57>O57)),"貸出/返却/現物日≦記録確認日≦基準日","確認済み")))))))))))))))))))))))))) | W57: =IF(V57="","",IF(V57="確認済み",0,1)) | X57: =IF(COUNTA(A57:O57)=0,IF(AND(V57="",W57="",P57="",Q57="",R57="",S57="",T57="",U57=""),0,1),IF(NOT(AND(ISTEXT(V57),V57=IF(COUNTA(A57:O57)=0,"",IF(NOT(AND(ISTEXT(A57),LEN(A57)=8,EXACT(LEFT(A57,4),"AST-"),ISNUMBER(FIND(MID(A57,5,1)&"x","0x1x2x3x4x5x6x7x8x9x")),ISNUMBER(FIND(MID(A57,6,1)&"x","0x1x2x3x4x5x6x7x8x9x")),ISNUMBER(FIND(MID(A57,7,1)&"x","0x1x2x3x4x5x6x7x8x9x")),ISNUMBER(FIND(MID(A57,8,1)&"x","0x1x2x3x4x5x6x7x8x9x")))),"備品IDはAST-と半角数字4桁",IF(COUNTIFS($A$8:$A$57,A57)>1,"備品IDが重複",IF(NOT(OR(B57="PC",B57="周辺機器",B57="工具",B57="その他",B57="未確認")),"種類を確認",IF(NOT(AND(ISTEXT(C57),LEN(C57)=8,EXACT(LEFT(C57,4),"LOC-"),ISNUMBER(FIND(MID(C57,5,1)&"x","0x1x2x3x4x5x6x7x8x9x")),ISNUMBER(FIND(MID(C57,6,1)&"x","0x1x2x3x4x5x6x7x8x9x")),ISNUMBER(FIND(MID(C57,7,1)&"x","0x1x2x3x4x5x6x7x8x9x")),ISNUMBER(FIND(MID(C57,8,1)&"x","0x1x2x3x4x5x6x7x8x9x")))),"登録保管先IDはLOC-と半角数字4桁",IF(NOT(OR(D57="確認済",D57="未確認")),"所在区分を確認",IF(AND(D57="確認済",NOT(AND(ISTEXT(E57),LEN(E57)=8,EXACT(LEFT(E57,4),"LOC-"),ISNUMBER(FIND(MID(E57,5,1)&"x","0x1x2x3x4x5x6x7x8x9x")),ISNUMBER(FIND(MID(E57,6,1)&"x","0x1x2x3x4x5x6x7x8x9x")),ISNUMBER(FIND(MID(E57,7,1)&"x","0x1x2x3x4x5x6x7x8x9x")),ISNUMBER(FIND(MID(E57,8,1)&"x","0x1x2x3x4x5x6x7x8x9x"))))),"確認済所在IDが必須",IF(AND(D57="未確認",COUNTA(E57)>0),"所在未確認は所在ID空欄",IF(NOT(OR(F57="保管中",F57="貸出中",F57="返却済",F57="未確認")),"利用区分を確認",IF(AND(F57="保管中",NOT(AND(G57="対象外",COUNTA(H57:K57)=0))),"保管中の借用者は対象外/貸出欄は空欄",IF(AND(F57<>"保管中",NOT(OR(G57="確認済",G57="未確認"))),"借用者を確認/未確認で記録",IF(AND(G57="確認済",NOT(AND(ISTEXT(H57),LEN(H57)=8,EXACT(LEFT(H57,4),"PER-"),ISNUMBER(FIND(MID(H57,5,1)&"x","0x1x2x3x4x5x6x7x8x9x")),ISNUMBER(FIND(MID(H57,6,1)&"x","0x1x2x3x4x5x6x7x8x9x")),ISNUMBER(FIND(MID(H57,7,1)&"x","0x1x2x3x4x5x6x7x8x9x")),ISNUMBER(FIND(MID(H57,8,1)&"x","0x1x2x3x4x5x6x7x8x9x"))))),"確認済借用者IDが必須",IF(AND(G57<>"確認済",COUNTA(H57)>0),"未確認/対象外の借用者IDは空欄",IF(AND(OR(F57="貸出中",F57="返却済"),NOT(IF(ISNUMBER(I57),AND(I57>=43831,I57<=73050,I57=INT(I57)),FALSE()))),"貸出日が必須",IF(AND(COUNTA(I57)>0,NOT(IF(ISNUMBER(I57),AND(I57>=43831,I57<=73050,I57=INT(I57)),FALSE()))),"貸出日は2020〜2099年/時刻なし",IF(AND(COUNTA(J57)>0,NOT(IF(ISNUMBER(J57),AND(J57>=43831,J57<=73050,J57=INT(J57)),FALSE()))),"返却期日は2020〜2099年/時刻なし",IF(AND(COUNTA(J57)>0,OR(COUNTA(I57)=0,J57<I57)),"期日は貸出日以上/貸出日必須",IF(AND(F57="返却済",NOT(IF(ISNUMBER(K57),AND(K57>=43831,K57<=73050,K57=INT(K57)),FALSE()))),"返却済の返却日が必須",IF(AND(F57<>"返却済",COUNTA(K57)>0),"返却済以外の返却日は空欄",IF(AND(F57="返却済",K57<I57),"返却日は貸出日以上",IF(NOT(OR(L57="確認済",L57="要対応",L57="未確認")),"状態確認を記録",IF(NOT(OR(M57="確認済",M57="未確認")),"現物区分を確認",IF(AND(M57="確認済",NOT(IF(ISNUMBER(N57),AND(N57>=43831,N57<=73050,N57=INT(N57)),FALSE()))),"現物確認日が必須",IF(AND(M57="未確認",COUNTA(N57)>0),"現物未確認の日付は空欄",IF(NOT(IF(ISNUMBER(O57),AND(O57>=43831,O57<=73050,O57=INT(O57)),FALSE())),"記録確認日が必須",IF(OR(O57>備品の確認!$B$3,AND(COUNTA(I57)>0,I57>O57),AND(F57="返却済",K57>O57),AND(M57="確認済",N57>O57)),"貸出/返却/現物日≦記録確認日≦基準日","確認済み")))))))))))))))))))))))))),ISNUMBER(W57),W57=IF(V57="確認済み",0,1))),1,IF(W57<>0,0,IF(AND(IF(AND(F57="貸出中",COUNTA(J57)>0),ISNUMBER(P57),ISTEXT(P57)),P57=IF(AND(F57="貸出中",COUNTA(J57)>0),J57-備品の確認!$B$3,""),IF(AND(F57="返却済",COUNTA(J57)>0),ISNUMBER(Q57),ISTEXT(Q57)),Q57=IF(AND(F57="返却済",COUNTA(J57)>0),K57-J57,""),IF(M57="確認済",ISNUMBER(R57),ISTEXT(R57)),R57=IF(M57="確認済",備品の確認!$B$3-N57,""),ISTEXT(S57),S57=IF(M57="未確認","現物未確認",IF(R57>備品の確認!$E$3,"確認間隔超過","確認間隔内")),ISTEXT(T57),T57=IF(F57="保管中","保管記録",IF(F57="返却済","返却記録",IF(F57="未確認","利用未確認",IF(COUNTA(J57)=0,"期限未確認",IF(P57<0,"返却期限超過",IF(P57=0,"返却期日","貸出中")))))),ISNUMBER(U57),U57=IF(OR(B57="未確認",D57="未確認",F57="未確認",G57="未確認",L57<>"確認済",M57="未確認",S57="確認間隔超過",AND(F57="貸出中",OR(COUNTA(J57)=0,P57<=0))),1,0)),0,1)))) -> 0
A61: 架空教材。現在管理する備品50点、1点1行。数量をまとめずAST-IDを一意にし、現在/直近の利用だけを記録。
A62: 品名/型番/製造番号/人物/場所とIDの対応、原本/証跡は別の管理資料で照合。IDは匿名化/アクセス制御ではありません。
A63: AST-/LOC-/PER-と半角数字4桁。所在や人物が未確認ならID空欄。登録保管先IDと記録所在IDは別。
A64: 利用は保管中/貸出中/返却済/未確認。保管中の借用者は対象外、貸出日/期日/返却日は空欄。
A65: 貸出中/返却済は貸出日が必要。借用者は確認済IDまたは未確認/ID空欄。返却済のIDは直近の借用者。
A66: 利用未確認では既知の直近借用者/貸出日/期日を保持できます。過去の期日だけで貸出継続や超過とは推定しません。
A67: 返却期日は任意。未確認を0日で埋めません。既知期日は貸出日以上。返却済なら実返却日が必要、貸出日以上。
A68: 貸出中の期日差＝期日−基準日。負は期限超過、0は返却期日、正は貸出中。時刻/営業日/休日は非対応。
A69: 返却済の返却差＝返却日−期日。正は期日後、0は同日、負は期日前。現在の返却超過件数には混ぜません。
A70: 状態確認は確認済/要対応/未確認。確認済は手元の記録で、使用可否や修理完了/安全性を自動承認しません。
A71: 現物確認済なら実確認日、未確認なら日付空欄。過去に確認できた日であり、今日の所在/状態の保証ではありません。
A72: 確認経過＝基準日−現物確認日。確認間隔0〜365日の同数まで間隔内、1日超えたら超過。0なら基準日当日だけ間隔内。
... A85: 日付差 https://support.microsoft.com/en-us/excel/get-started/calculate-the-difference-between-two-dates COUNTIFS https://support.microsoft.com/en-us/excel/functions/countifs-function
