Workbook

Sheet 備品の確認
A2: 備品の確認 | K2: 日付の前提 | L2: 入力の前提
A3: 基準日 | B3: 46326 | D3: 確認間隔（日） | E3: 30 | K3: =IF(AND(IF(ISNUMBER(B3),AND(B3>=43831,B3<=73050,B3=INT(B3)),FALSE()),IF(ISNUMBER(E3),AND(E3>=0,E3<=365,E3=INT(E3)),FALSE())),0,1) -> 0 | L3: =IF(AND(ISNUMBER(K3),K3=IF(AND(IF(ISNUMBER(B3),AND(B3>=43831,B3<=73050,B3=INT(B3)),FALSE()),IF(ISNUMBER(E3),AND(E3>=0,E3<=365,E3=INT(E3)),FALSE())),0,1)),K3,1)+SUM(備品記録!W8:X57)+IF(COUNT(備品記録!X8:X57)=50,0,1) -> 0
A4: 1点1行・現在/直近の利用記録。返却しても現物/状態の不足は残ります。使用可否・全履歴の判定なし。
A5: 登録（件） | B5: =IF($L$3<>0,NA(),COUNTIFS(備品記録!V8:V57,"確認済み")) -> 12 | D5: 保管記録（件） | E5: =IF($L$3<>0,NA(),COUNTIFS(備品記録!F8:F57,"保管中")) -> 5 | G5: 貸出中（件） | H5: =IF($L$3<>0,NA(),COUNTIFS(備品記録!F8:F57,"貸出中")) -> 4
A6: 返却記録（件） | B6: =IF($L$3<>0,NA(),COUNTIFS(備品記録!F8:F57,"返却済")) -> 2 | D6: 返却期限超過（件） | E6: =IF($L$3<>0,NA(),COUNTIFS(備品記録!T8:T57,"返却期限超過")) -> 1 | G6: 返却期日（件） | H6: =IF($L$3<>0,NA(),COUNTIFS(備品記録!T8:T57,"返却期日")) -> 1
A7: 期限未確認（件） | B7: =IF($L$3<>0,NA(),COUNTIFS(備品記録!T8:T57,"期限未確認")) -> 1 | D7: 現物未確認（件） | E7: =IF($L$3<>0,NA(),COUNTIFS(備品記録!S8:S57,"現物未確認")) -> 5 | G7: 確認間隔超過（件） | H7: =IF($L$3<>0,NA(),COUNTIFS(備品記録!S8:S57,"確認間隔超過")) -> 2
A8: 記録要確認（件） | B8: =IF($L$3<>0,NA(),SUM(備品記録!U8:U57)) -> 10 | D8: 状態要対応（件） | E8: =IF($L$3<>0,NA(),COUNTIFS(備品記録!L8:L57,"要対応")) -> 3 | G8: 利用未確認（件） | H8: =IF($L$3<>0,NA(),COUNTIFS(備品記録!F8:F57,"未確認")) -> 1
A9: 備品ID | B9: 種類 | C9: 記録所在ID | D9: 利用区分 | E9: 借用者ID | F9: 返却期日 | G9: 貸出状況 | H9: 現物確認状況 | I9: 状態確認
A10: =IF($L$3<>0,NA(),IF(COUNTA(備品記録!A8:O8)=0,"",備品記録!A8)) -> AST-0001 | B10: =IF($L$3<>0,NA(),IF(COUNTA(備品記録!A8:O8)=0,"",備品記録!B8)) -> PC | C10: =IF($L$3<>0,NA(),IF(COUNTA(備品記録!A8:O8)=0,"",IF(COUNTA(備品記録!E8)=0,"",備品記録!E8))) -> LOC-0001 | D10: =IF($L$3<>0,NA(),IF(COUNTA(備品記録!A8:O8)=0,"",備品記録!F8)) -> 保管中 | E10: =IF($L$3<>0,NA(),IF(COUNTA(備品記録!A8:O8)=0,"",IF(COUNTA(備品記録!H8)=0,"",備品記録!H8))) | F10: =IF($L$3<>0,NA(),IF(COUNTA(備品記録!A8:O8)=0,"",IF(COUNTA(備品記録!J8)=0,"",備品記録!J8))) | G10: =IF($L$3<>0,NA(),IF(COUNTA(備品記録!A8:O8)=0,"",備品記録!T8)) -> 保管記録 | H10: =IF($L$3<>0,NA(),IF(COUNTA(備品記録!A8:O8)=0,"",備品記録!S8)) -> 確認間隔内 | I10: =IF($L$3<>0,NA(),IF(COUNTA(備品記録!A8:O8)=0,"",備品記録!L8)) -> 確認済
A11: =IF($L$3<>0,NA(),IF(COUNTA(備品記録!A9:O9)=0,"",備品記録!A9)) -> AST-0002 | B11: =IF($L$3<>0,NA(),IF(COUNTA(備品記録!A9:O9)=0,"",備品記録!B9)) -> 周辺機器 | C11: =IF($L$3<>0,NA(),IF(COUNTA(備品記録!A9:O9)=0,"",IF(COUNTA(備品記録!E9)=0,"",備品記録!E9))) -> LOC-0002 | D11: =IF($L$3<>0,NA(),IF(COUNTA(備品記録!A9:O9)=0,"",備品記録!F9)) -> 貸出中 | E11: =IF($L$3<>0,NA(),IF(COUNTA(備品記録!A9:O9)=0,"",IF(COUNTA(備品記録!H9)=0,"",備品記録!H9))) -> PER-0001 | F11: =IF($L$3<>0,NA(),IF(COUNTA(備品記録!A9:O9)=0,"",IF(COUNTA(備品記録!J9)=0,"",備品記録!J9))) -> 46325 | G11: =IF($L$3<>0,NA(),IF(COUNTA(備品記録!A9:O9)=0,"",備品記録!T9)) -> 返却期限超過 | H11: =IF($L$3<>0,NA(),IF(COUNTA(備品記録!A9:O9)=0,"",備品記録!S9)) -> 確認間隔内 | I11: =IF($L$3<>0,NA(),IF(COUNTA(備品記録!A9:O9)=0,"",備品記録!L9)) -> 確認済
A12: =IF($L$3<>0,NA(),IF(COUNTA(備品記録!A10:O10)=0,"",備品記録!A10)) -> AST-0003 | B12: =IF($L$3<>0,NA(),IF(COUNTA(備品記録!A10:O10)=0,"",備品記録!B10)) -> 工具 | C12: =IF($L$3<>0,NA(),IF(COUNTA(備品記録!A10:O10)=0,"",IF(COUNTA(備品記録!E10)=0,"",備品記録!E10))) -> LOC-0003 | D12: =IF($L$3<>0,NA(),IF(COUNTA(備品記録!A10:O10)=0,"",備品記録!F10)) -> 貸出中 | E12: =IF($L$3<>0,NA(),IF(COUNTA(備品記録!A10:O10)=0,"",IF(COUNTA(備品記録!H10)=0,"",備品記録!H10))) -> PER-0002 | F12: =IF($L$3<>0,NA(),IF(COUNTA(備品記録!A10:O10)=0,"",IF(COUNTA(備品記録!J10)=0,"",備品記録!J10))) -> 46326 | G12: =IF($L$3<>0,NA(),IF(COUNTA(備品記録!A10:O10)=0,"",備品記録!T10)) -> 返却期日 | H12: =IF($L$3<>0,NA(),IF(COUNTA(備品記録!A10:O10)=0,"",備品記録!S10)) -> 確認間隔超過 | I12: =IF($L$3<>0,NA(),IF(COUNTA(備品記録!A10:O10)=0,"",備品記録!L10)) -> 確認済
A13: =IF($L$3<>0,NA(),IF(COUNTA(備品記録!A11:O11)=0,"",備品記録!A11)) -> AST-0004 | B13: =IF($L$3<>0,NA(),IF(COUNTA(備品記録!A11:O11)=0,"",備品記録!B11)) -> PC | C13: =IF($L$3<>0,NA(),IF(COUNTA(備品記録!A11:O11)=0,"",IF(COUNTA(備品記録!E11)=0,"",備品記録!E11))) -> LOC-0004 | D13: =IF($L$3<>0,NA(),IF(COUNTA(備品記録!A11:O11)=0,"",備品記録!F11)) -> 貸出中 | E13: =IF($L$3<>0,NA(),IF(COUNTA(備品記録!A11:O11)=0,"",IF(COUNTA(備品記録!H11)=0,"",備品記録!H11))) | F13: =IF($L$3<>0,NA(),IF(COUNTA(備品記録!A11:O11)=0,"",IF(COUNTA(備品記録!J11)=0,"",備品記録!J11))) -> 46327 | G13: =IF($L$3<>0,NA(),IF(COUNTA(備品記録!A11:O11)=0,"",備品記録!T11)) -> 貸出中 | H13: =IF($L$3<>0,NA(),IF(COUNTA(備品記録!A11:O11)=0,"",備品記録!S11)) -> 現物未確認 | I13: =IF($L$3<>0,NA(),IF(COUNTA(備品記録!A11:O11)=0,"",備品記録!L11)) -> 未確認
A14: =IF($L$3<>0,NA(),IF(COUNTA(備品記録!A12:O12)=0,"",備品記録!A12)) -> AST-0005 | B14: =IF($L$3<>0,NA(),IF(COUNTA(備品記録!A12:O12)=0,"",備品記録!B12)) -> その他 | C14: =IF($L$3<>0,NA(),IF(COUNTA(備品記録!A12:O12)=0,"",IF(COUNTA(備品記録!E12)=0,"",備品記録!E12))) -> LOC-0005 | D14: =IF($L$3<>0,NA(),IF(COUNTA(備品記録!A12:O12)=0,"",備品記録!F12)) -> 貸出中 | E14: =IF($L$3<>0,NA(),IF(COUNTA(備品記録!A12:O12)=0,"",IF(COUNTA(備品記録!H12)=0,"",備品記録!H12))) -> PER-0003 | F14: =IF($L$3<>0,NA(),IF(COUNTA(備品記録!A12:O12)=0,"",IF(COUNTA(備品記録!J12)=0,"",備品記録!J12))) | G14: =IF($L$3<>0,NA(),IF(COUNTA(備品記録!A12:O12)=0,"",備品記録!T12)) -> 期限未確認 | H14: =IF($L$3<>0,NA(),IF(COUNTA(備品記録!A12:O12)=0,"",備品記録!S12)) -> 確認間隔内 | I14: =IF($L$3<>0,NA(),IF(COUNTA(備品記録!A12:O12)=0,"",備品記録!L12)) -> 要対応
A15: =IF($L$3<>0,NA(),IF(COUNTA(備品記録!A13:O13)=0,"",備品記録!A13)) -> AST-0006 | B15: =IF($L$3<>0,NA(),IF(COUNTA(備品記録!A13:O13)=0,"",備品記録!B13)) -> PC | C15: =IF($L$3<>0,NA(),IF(COUNTA(備品記録!A13:O13)=0,"",IF(COUNTA(備品記録!E13)=0,"",備品記録!E13))) -> LOC-0002 | D15: =IF($L$3<>0,NA(),IF(COUNTA(備品記録!A13:O13)=0,"",備品記録!F13)) -> 返却済 | E15: =IF($L$3<>0,NA(),IF(COUNTA(備品記録!A13:O13)=0,"",IF(COUNTA(備品記録!H13)=0,"",備品記録!H13))) -> PER-0004 | F15: =IF($L$3<>0,NA(),IF(COUNTA(備品記録!A13:O13)=0,"",IF(COUNTA(備品記録!J13)=0,"",備品記録!J13))) -> 46315 | G15: =IF($L$3<>0,NA(),IF(COUNTA(備品記録!A13:O13)=0,"",備品記録!T13)) -> 返却記録 | H15: =IF($L$3<>0,NA(),IF(COUNTA(備品記録!A13:O13)=0,"",備品記録!S13)) -> 現物未確認 | I15: =IF($L$3<>0,NA(),IF(COUNTA(備品記録!A13:O13)=0,"",備品記録!L13)) -> 要対応
A16: =IF($L$3<>0,NA(),IF(COUNTA(備品記録!A14:O14)=0,"",備品記録!A14)) -> AST-0007 | B16: =IF($L$3<>0,NA(),IF(COUNTA(備品記録!A14:O14)=0,"",備品記録!B14)) -> 周辺機器 | C16: =IF($L$3<>0,NA(),IF(COUNTA(備品記録!A14:O14)=0,"",IF(COUNTA(備品記録!E14)=0,"",備品記録!E14))) -> LOC-0001 | D16: =IF($L$3<>0,NA(),IF(COUNTA(備品記録!A14:O14)=0,"",備品記録!F14)) -> 保管中 | E16: =IF($L$3<>0,NA(),IF(COUNTA(備品記録!A14:O14)=0,"",IF(COUNTA(備品記録!H14)=0,"",備品記録!H14))) | F16: =IF($L$3<>0,NA(),IF(COUNTA(備品記録!A14:O14)=0,"",IF(COUNTA(備品記録!J14)=0,"",備品記録!J14))) | G16: =IF($L$3<>0,NA(),IF(COUNTA(備品記録!A14:O14)=0,"",備品記録!T14)) -> 保管記録 | H16: =IF($L$3<>0,NA(),IF(COUNTA(備品記録!A14:O14)=0,"",備品記録!S14)) -> 現物未確認 | I16: =IF($L$3<>0,NA(),IF(COUNTA(備品記録!A14:O14)=0,"",備品記録!L14)) -> 未確認
A17: =IF($L$3<>0,NA(),IF(COUNTA(備品記録!A15:O15)=0,"",備品記録!A15)) -> AST-0008 | B17: =IF($L$3<>0,NA(),IF(COUNTA(備品記録!A15:O15)=0,"",備品記録!B15)) -> 工具 | C17: =IF($L$3<>0,NA(),IF(COUNTA(備品記録!A15:O15)=0,"",IF(COUNTA(備品記録!E15)=0,"",備品記録!E15))) | D17: =IF($L$3<>0,NA(),IF(COUNTA(備品記録!A15:O15)=0,"",備品記録!F15)) -> 未確認 | E17: =IF($L$3<>0,NA(),IF(COUNTA(備品記録!A15:O15)=0,"",IF(COUNTA(備品記録!H15)=0,"",備品記録!H15))) | F17: =IF($L$3<>0,NA(),IF(COUNTA(備品記録!A15:O15)=0,"",IF(COUNTA(備品記録!J15)=0,"",備品記録!J15))) -> 46310 | G17: =IF($L$3<>0,NA(),IF(COUNTA(備品記録!A15:O15)=0,"",備品記録!T15)) -> 利用未確認 | H17: =IF($L$3<>0,NA(),IF(COUNTA(備品記録!A15:O15)=0,"",備品記録!S15)) -> 現物未確認 | I17: =IF($L$3<>0,NA(),IF(COUNTA(備品記録!A15:O15)=0,"",備品記録!L15)) -> 未確認
A18: =IF($L$3<>0,NA(),IF(COUNTA(備品記録!A16:O16)=0,"",備品記録!A16)) -> AST-0009 | B18: =IF($L$3<>0,NA(),IF(COUNTA(備品記録!A16:O16)=0,"",備品記録!B16)) -> その他 | C18: =IF($L$3<>0,NA(),IF(COUNTA(備品記録!A16:O16)=0,"",IF(COUNTA(備品記録!E16)=0,"",備品記録!E16))) -> LOC-0003 | D18: =IF($L$3<>0,NA(),IF(COUNTA(備品記録!A16:O16)=0,"",備品記録!F16)) -> 保管中 | E18: =IF($L$3<>0,NA(),IF(COUNTA(備品記録!A16:O16)=0,"",IF(COUNTA(備品記録!H16)=0,"",備品記録!H16))) | F18: =IF($L$3<>0,NA(),IF(COUNTA(備品記録!A16:O16)=0,"",IF(COUNTA(備品記録!J16)=0,"",備品記録!J16))) | G18: =IF($L$3<>0,NA(),IF(COUNTA(備品記録!A16:O16)=0,"",備品記録!T16)) -> 保管記録 | H18: =IF($L$3<>0,NA(),IF(COUNTA(備品記録!A16:O16)=0,"",備品記録!S16)) -> 現物未確認 | I18: =IF($L$3<>0,NA(),IF(COUNTA(備品記録!A16:O16)=0,"",備品記録!L16)) -> 要対応
A19: =IF($L$3<>0,NA(),IF(COUNTA(備品記録!A17:O17)=0,"",備品記録!A17)) -> AST-0010 | B19: =IF($L$3<>0,NA(),IF(COUNTA(備品記録!A17:O17)=0,"",備品記録!B17)) -> 未確認 | C19: =IF($L$3<>0,NA(),IF(COUNTA(備品記録!A17:O17)=0,"",IF(COUNTA(備品記録!E17)=0,"",備品記録!E17))) | D19: =IF($L$3<>0,NA(),IF(COUNTA(備品記録!A17:O17)=0,"",備品記録!F17)) -> 保管中 | E19: =IF($L$3<>0,NA(),IF(COUNTA(備品記録!A17:O17)=0,"",IF(COUNTA(備品記録!H17)=0,"",備品記録!H17))) | F19: =IF($L$3<>0,NA(),IF(COUNTA(備品記録!A17:O17)=0,"",IF(COUNTA(備品記録!J17)=0,"",備品記録!J17))) | G19: =IF($L$3<>0,NA(),IF(COUNTA(備品記録!A17:O17)=0,"",備品記録!T17)) -> 保管記録 | H19: =IF($L$3<>0,NA(),IF(COUNTA(備品記録!A17:O17)=0,"",備品記録!S17)) -> 確認間隔内 | I19: =IF($L$3<>0,NA(),IF(COUNTA(備品記録!A17:O17)=0,"",備品記録!L17)) -> 確認済
A20: =IF($L$3<>0,NA(),IF(COUNTA(備品記録!A18:O18)=0,"",備品記録!A18)) -> AST-0011 | B20: =IF($L$3<>0,NA(),IF(COUNTA(備品記録!A18:O18)=0,"",備品記録!B18)) -> 工具 | C20: =IF($L$3<>0,NA(),IF(COUNTA(備品記録!A18:O18)=0,"",IF(COUNTA(備品記録!E18)=0,"",備品記録!E18))) -> LOC-0001 | D20: =IF($L$3<>0,NA(),IF(COUNTA(備品記録!A18:O18)=0,"",備品記録!F18)) -> 返却済 | E20: =IF($L$3<>0,NA(),IF(COUNTA(備品記録!A18:O18)=0,"",IF(COUNTA(備品記録!H18)=0,"",備品記録!H18))) -> PER-0001 | F20: =IF($L$3<>0,NA(),IF(COUNTA(備品記録!A18:O18)=0,"",IF(COUNTA(備品記録!J18)=0,"",備品記録!J18))) -> 46315 | G20: =IF($L$3<>0,NA(),IF(COUNTA(備品記録!A18:O18)=0,"",備品記録!T18)) -> 返却記録 | H20: =IF($L$3<>0,NA(),IF(COUNTA(備品記録!A18:O18)=0,"",備品記録!S18)) -> 確認間隔内 | I20: =IF($L$3<>0,NA(),IF(COUNTA(備品記録!A18:O18)=0,"",備品記録!L18)) -> 確認済
A21: =IF($L$3<>0,NA(),IF(COUNTA(備品記録!A19:O19)=0,"",備品記録!A19)) -> AST-0012 | B21: =IF($L$3<>0,NA(),IF(COUNTA(備品記録!A19:O19)=0,"",備品記録!B19)) -> PC | C21: =IF($L$3<>0,NA(),IF(COUNTA(備品記録!A19:O19)=0,"",IF(COUNTA(備品記録!E19)=0,"",備品記録!E19))) -> LOC-0001 | D21: =IF($L$3<>0,NA(),IF(COUNTA(備品記録!A19:O19)=0,"",備品記録!F19)) -> 保管中 | E21: =IF($L$3<>0,NA(),IF(COUNTA(備品記録!A19:O19)=0,"",IF(COUNTA(備品記録!H19)=0,"",備品記録!H19))) | F21: =IF($L$3<>0,NA(),IF(COUNTA(備品記録!A19:O19)=0,"",IF(COUNTA(備品記録!J19)=0,"",備品記録!J19))) | G21: =IF($L$3<>0,NA(),IF(COUNTA(備品記録!A19:O19)=0,"",備品記録!T19)) -> 保管記録 | H21: =IF($L$3<>0,NA(),IF(COUNTA(備品記録!A19:O19)=0,"",備品記録!S19)) -> 確認間隔超過 | I21: =IF($L$3<>0,NA(),IF(COUNTA(備品記録!A19:O19)=0,"",備品記録!L19)) -> 確認済
... A59: =IF($L$3<>0,NA(),IF(COUNTA(備品記録!A57:O57)=0,"",備品記録!A57)) | B59: =IF($L$3<>0,NA(),IF(COUNTA(備品記録!A57:O57)=0,"",備品記録!B57)) | C59: =IF($L$3<>0,NA(),IF(COUNTA(備品記録!A57:O57)=0,"",IF(COUNTA(備品記録!E57)=0,"",備品記録!E57))) | D59: =IF($L$3<>0,NA(),IF(COUNTA(備品記録!A57:O57)=0,"",備品記録!F57)) | E59: =IF($L$3<>0,NA(),IF(COUNTA(備品記録!A57:O57)=0,"",IF(COUNTA(備品記録!H57)=0,"",備品記録!H57))) | F59: =IF($L$3<>0,NA(),IF(COUNTA(備品記録!A57:O57)=0,"",IF(COUNTA(備品記録!J57)=0,"",備品記録!J57))) | G59: =IF($L$3<>0,NA(),IF(COUNTA(備品記録!A57:O57)=0,"",備品記録!T57)) | H59: =IF($L$3<>0,NA(),IF(COUNTA(備品記録!A57:O57)=0,"",備品記録!S57)) | I59: =IF($L$3<>0,NA(),IF(COUNTA(備品記録!A57:O57)=0,"",備品記録!L57))

Sheet 備品記録
A2: 備品の記録
A3: 黄色A〜Oへ50備品。備品AST-/場所LOC-/人物PER-と半角数字4桁。品名・型番とIDの対応は別保存。
A5: 確認間隔は整理の目安。過去の現物確認日を記録更新日で置き換えず、返却済だけで使用可能としません。
A7: 備品ID | B7: 種類 | C7: 登録保管先ID | D7: 所在区分 | E7: 記録所在ID | F7: 利用区分 | G7: 借用者区分 | H7: 借用者ID | I7: 貸出日 | J7: 返却期日 | K7: 返却日 | L7: 状態確認 | M7: 現物区分 | N7: 現物確認日 | O7: 記録確認日 | P7: 期日差（日） | Q7: 返却差（日） | R7: 確認経過（日） | S7: 現物確認状況 | T7: 貸出状況 | U7: 記録要確認 | V7: 入力の確認 | W7: 入力不備 | X7: 計算の前提
A8: AST-0001 | B8: PC | C8: LOC-0001 | D8: 確認済 | E8: LOC-0001 | F8: 保管中 | G8: 対象外 | L8: 確認済 | M8: 確認済 | N8: 46326 | O8: 46326 | P8: =IF(V8="","",IF(W8<>0,NA(),IF(AND(F8="貸出中",COUNTA(J8)>0),J8-備品の確認!$B$3,""))) | Q8: =IF(V8="","",IF(W8<>0,NA(),IF(AND(F8="返却済",COUNTA(J8)>0),K8-J8,""))) | R8: =IF(V8="","",IF(W8<>0,NA(),IF(M8="確認済",備品の確認!$B$3-N8,""))) -> 0 | S8: =IF(V8="","",IF(W8<>0,NA(),IF(M8="未確認","現物未確認",IF(R8>備品の確認!$E$3,"確認間隔超過","確認間隔内")))) -> 確認間隔内 | T8: =IF(V8="","",IF(W8<>0,NA(),IF(F8="保管中","保管記録",IF(F8="返却済","返却記録",IF(F8="未確認","利用未確認",IF(COUNTA(J8)=0,"期限未確認",IF(P8<0,"返却期限超過",IF(P8=0,"返却期日","貸出中")))))))) -> 保管記録 | U8: =IF(V8="","",IF(W8<>0,NA(),IF(OR(B8="未確認",D8="未確認",F8="未確認",G8="未確認",L8<>"確認済",M8="未確認",S8="確認間隔超過",AND(F8="貸出中",OR(COUNTA(J8)=0,P8<=0))),1,0))) -> 0 | V8: =IF(COUNTA(A8:O8)=0,"",IF(NOT(AND(ISTEXT(A8),LEN(A8)=8,EXACT(LEFT(A8,4),"AST-"),ISNUMBER(FIND(MID(A8,5,1)&"x","0x1x2x3x4x5x6x7x8x9x")),ISNUMBER(FIND(MID(A8,6,1)&"x","0x1x2x3x4x5x6x7x8x9x")),ISNUMBER(FIND(MID(A8,7,1)&"x","0x1x2x3x4x5x6x7x8x9x")),ISNUMBER(FIND(MID(A8,8,1)&"x","0x1x2x3x4x5x6x7x8x9x")))),"備品IDはAST-と半角数字4桁",IF(COUNTIFS($A$8:$A$57,A8)>1,"備品IDが重複",IF(NOT(OR(B8="PC",B8="周辺機器",B8="工具",B8="その他",B8="未確認")),"種類を確認",IF(NOT(AND(ISTEXT(C8),LEN(C8)=8,EXACT(LEFT(C8,4),"LOC-"),ISNUMBER(FIND(MID(C8,5,1)&"x","0x1x2x3x4x5x6x7x8x9x")),ISNUMBER(FIND(MID(C8,6,1)&"x","0x1x2x3x4x5x6x7x8x9x")),ISNUMBER(FIND(MID(C8,7,1)&"x","0x1x2x3x4x5x6x7x8x9x")),ISNUMBER(FIND(MID(C8,8,1)&"x","0x1x2x3x4x5x6x7x8x9x")))),"登録保管先IDはLOC-と半角数字4桁",IF(NOT(OR(D8="確認済",D8="未確認")),"所在区分を確認",IF(AND(D8="確認済",NOT(AND(ISTEXT(E8),LEN(E8)=8,EXACT(LEFT(E8,4),"LOC-"),ISNUMBER(FIND(MID(E8,5,1)&"x","0x1x2x3x4x5x6x7x8x9x")),ISNUMBER(FIND(MID(E8,6,1)&"x","0x1x2x3x4x5x6x7x8x9x")),ISNUMBER(FIND(MID(E8,7,1)&"x","0x1x2x3x4x5x6x7x8x9x")),ISNUMBER(FIND(MID(E8,8,1)&"x","0x1x2x3x4x5x6x7x8x9x"))))),"確認済所在IDが必須",IF(AND(D8="未確認",COUNTA(E8)>0),"所在未確認は所在ID空欄",IF(NOT(OR(F8="保管中",F8="貸出中",F8="返却済",F8="未確認")),"利用区分を確認",IF(AND(F8="保管中",NOT(AND(G8="対象外",COUNTA(H8:K8)=0))),"保管中の借用者は対象外/貸出欄は空欄",IF(AND(F8<>"保管中",NOT(OR(G8="確認済",G8="未確認"))),"借用者を確認/未確認で記録",IF(AND(G8="確認済",NOT(AND(ISTEXT(H8),LEN(H8)=8,EXACT(LEFT(H8,4),"PER-"),ISNUMBER(FIND(MID(H8,5,1)&"x","0x1x2x3x4x5x6x7x8x9x")),ISNUMBER(FIND(MID(H8,6,1)&"x","0x1x2x3x4x5x6x7x8x9x")),ISNUMBER(FIND(MID(H8,7,1)&"x","0x1x2x3x4x5x6x7x8x9x")),ISNUMBER(FIND(MID(H8,8,1)&"x","0x1x2x3x4x5x6x7x8x9x"))))),"確認済借用者IDが必須",IF(AND(G8<>"確認済",COUNTA(H8)>0),"未確認/対象外の借用者IDは空欄",IF(AND(OR(F8="貸出中",F8="返却済"),NOT(IF(ISNUMBER(I8),AND(I8>=43831,I8<=73050,I8=INT(I8)),FALSE()))),"貸出日が必須",IF(AND(COUNTA(I8)>0,NOT(IF(ISNUMBER(I8),AND(I8>=43831,I8<=73050,I8=INT(I8)),FALSE()))),"貸出日は2020〜2099年/時刻なし",IF(AND(COUNTA(J8)>0,NOT(IF(ISNUMBER(J8),AND(J8>=43831,J8<=73050,J8=INT(J8)),FALSE()))),"返却期日は2020〜2099年/時刻なし",IF(AND(COUNTA(J8)>0,OR(COUNTA(I8)=0,J8<I8)),"期日は貸出日以上/貸出日必須",IF(AND(F8="返却済",NOT(IF(ISNUMBER(K8),AND(K8>=43831,K8<=73050,K8=INT(K8)),FALSE()))),"返却済の返却日が必須",IF(AND(F8<>"返却済",COUNTA(K8)>0),"返却済以外の返却日は空欄",IF(AND(F8="返却済",K8<I8),"返却日は貸出日以上",IF(NOT(OR(L8="確認済",L8="要対応",L8="未確認")),"状態確認を記録",IF(NOT(OR(M8="確認済",M8="未確認")),"現物区分を確認",IF(AND(M8="確認済",NOT(IF(ISNUMBER(N8),AND(N8>=43831,N8<=73050,N8=INT(N8)),FALSE()))),"現物確認日が必須",IF(AND(M8="未確認",COUNTA(N8)>0),"現物未確認の日付は空欄",IF(NOT(IF(ISNUMBER(O8),AND(O8>=43831,O8<=73050,O8=INT(O8)),FALSE())),"記録確認日が必須",IF(OR(O8>備品の確認!$B$3,AND(COUNTA(I8)>0,I8>O8),AND(F8="返却済",K8>O8),AND(M8="確認済",N8>O8)),"貸出/返却/現物日≦記録確認日≦基準日","確認済み")))))))))))))))))))))))))) -> 確認済み | W8: =IF(V8="","",IF(V8="確認済み",0,1)) -> 0 | X8: =IF(COUNTA(A8:O8)=0,IF(AND(V8="",W8="",P8="",Q8="",R8="",S8="",T8="",U8=""),0,1),IF(NOT(AND(ISTEXT(V8),V8=IF(COUNTA(A8:O8)=0,"",IF(NOT(AND(ISTEXT(A8),LEN(A8)=8,EXACT(LEFT(A8,4),"AST-"),ISNUMBER(FIND(MID(A8,5,1)&"x","0x1x2x3x4x5x6x7x8x9x")),ISNUMBER(FIND(MID(A8,6,1)&"x","0x1x2x3x4x5x6x7x8x9x")),ISNUMBER(FIND(MID(A8,7,1)&"x","0x1x2x3x4x5x6x7x8x9x")),ISNUMBER(FIND(MID(A8,8,1)&"x","0x1x2x3x4x5x6x7x8x9x")))),"備品IDはAST-と半角数字4桁",IF(COUNTIFS($A$8:$A$57,A8)>1,"備品IDが重複",IF(NOT(OR(B8="PC",B8="周辺機器",B8="工具",B8="その他",B8="未確認")),"種類を確認",IF(NOT(AND(ISTEXT(C8),LEN(C8)=8,EXACT(LEFT(C8,4),"LOC-"),ISNUMBER(FIND(MID(C8,5,1)&"x","0x1x2x3x4x5x6x7x8x9x")),ISNUMBER(FIND(MID(C8,6,1)&"x","0x1x2x3x4x5x6x7x8x9x")),ISNUMBER(FIND(MID(C8,7,1)&"x","0x1x2x3x4x5x6x7x8x9x")),ISNUMBER(FIND(MID(C8,8,1)&"x","0x1x2x3x4x5x6x7x8x9x")))),"登録保管先IDはLOC-と半角数字4桁",IF(NOT(OR(D8="確認済",D8="未確認")),"所在区分を確認",IF(AND(D8="確認済",NOT(AND(ISTEXT(E8),LEN(E8)=8,EXACT(LEFT(E8,4),"LOC-"),ISNUMBER(FIND(MID(E8,5,1)&"x","0x1x2x3x4x5x6x7x8x9x")),ISNUMBER(FIND(MID(E8,6,1)&"x","0x1x2x3x4x5x6x7x8x9x")),ISNUMBER(FIND(MID(E8,7,1)&"x","0x1x2x3x4x5x6x7x8x9x")),ISNUMBER(FIND(MID(E8,8,1)&"x","0x1x2x3x4x5x6x7x8x9x"))))),"確認済所在IDが必須",IF(AND(D8="未確認",COUNTA(E8)>0),"所在未確認は所在ID空欄",IF(NOT(OR(F8="保管中",F8="貸出中",F8="返却済",F8="未確認")),"利用区分を確認",IF(AND(F8="保管中",NOT(AND(G8="対象外",COUNTA(H8:K8)=0))),"保管中の借用者は対象外/貸出欄は空欄",IF(AND(F8<>"保管中",NOT(OR(G8="確認済",G8="未確認"))),"借用者を確認/未確認で記録",IF(AND(G8="確認済",NOT(AND(ISTEXT(H8),LEN(H8)=8,EXACT(LEFT(H8,4),"PER-"),ISNUMBER(FIND(MID(H8,5,1)&"x","0x1x2x3x4x5x6x7x8x9x")),ISNUMBER(FIND(MID(H8,6,1)&"x","0x1x2x3x4x5x6x7x8x9x")),ISNUMBER(FIND(MID(H8,7,1)&"x","0x1x2x3x4x5x6x7x8x9x")),ISNUMBER(FIND(MID(H8,8,1)&"x","0x1x2x3x4x5x6x7x8x9x"))))),"確認済借用者IDが必須",IF(AND(G8<>"確認済",COUNTA(H8)>0),"未確認/対象外の借用者IDは空欄",IF(AND(OR(F8="貸出中",F8="返却済"),NOT(IF(ISNUMBER(I8),AND(I8>=43831,I8<=73050,I8=INT(I8)),FALSE()))),"貸出日が必須",IF(AND(COUNTA(I8)>0,NOT(IF(ISNUMBER(I8),AND(I8>=43831,I8<=73050,I8=INT(I8)),FALSE()))),"貸出日は2020〜2099年/時刻なし",IF(AND(COUNTA(J8)>0,NOT(IF(ISNUMBER(J8),AND(J8>=43831,J8<=73050,J8=INT(J8)),FALSE()))),"返却期日は2020〜2099年/時刻なし",IF(AND(COUNTA(J8)>0,OR(COUNTA(I8)=0,J8<I8)),"期日は貸出日以上/貸出日必須",IF(AND(F8="返却済",NOT(IF(ISNUMBER(K8),AND(K8>=43831,K8<=73050,K8=INT(K8)),FALSE()))),"返却済の返却日が必須",IF(AND(F8<>"返却済",COUNTA(K8)>0),"返却済以外の返却日は空欄",IF(AND(F8="返却済",K8<I8),"返却日は貸出日以上",IF(NOT(OR(L8="確認済",L8="要対応",L8="未確認")),"状態確認を記録",IF(NOT(OR(M8="確認済",M8="未確認")),"現物区分を確認",IF(AND(M8="確認済",NOT(IF(ISNUMBER(N8),AND(N8>=43831,N8<=73050,N8=INT(N8)),FALSE()))),"現物確認日が必須",IF(AND(M8="未確認",COUNTA(N8)>0),"現物未確認の日付は空欄",IF(NOT(IF(ISNUMBER(O8),AND(O8>=43831,O8<=73050,O8=INT(O8)),FALSE())),"記録確認日が必須",IF(OR(O8>備品の確認!$B$3,AND(COUNTA(I8)>0,I8>O8),AND(F8="返却済",K8>O8),AND(M8="確認済",N8>O8)),"貸出/返却/現物日≦記録確認日≦基準日","確認済み")))))))))))))))))))))))))),ISNUMBER(W8),W8=IF(V8="確認済み",0,1))),1,IF(W8<>0,0,IF(AND(IF(AND(F8="貸出中",COUNTA(J8)>0),ISNUMBER(P8),ISTEXT(P8)),P8=IF(AND(F8="貸出中",COUNTA(J8)>0),J8-備品の確認!$B$3,""),IF(AND(F8="返却済",COUNTA(J8)>0),ISNUMBER(Q8),ISTEXT(Q8)),Q8=IF(AND(F8="返却済",COUNTA(J8)>0),K8-J8,""),IF(M8="確認済",ISNUMBER(R8),ISTEXT(R8)),R8=IF(M8="確認済",備品の確認!$B$3-N8,""),ISTEXT(S8),S8=IF(M8="未確認","現物未確認",IF(R8>備品の確認!$E$3,"確認間隔超過","確認間隔内")),ISTEXT(T8),T8=IF(F8="保管中","保管記録",IF(F8="返却済","返却記録",IF(F8="未確認","利用未確認",IF(COUNTA(J8)=0,"期限未確認",IF(P8<0,"返却期限超過",IF(P8=0,"返却期日","貸出中")))))),ISNUMBER(U8),U8=IF(OR(B8="未確認",D8="未確認",F8="未確認",G8="未確認",L8<>"確認済",M8="未確認",S8="確認間隔超過",AND(F8="貸出中",OR(COUNTA(J8)=0,P8<=0))),1,0)),0,1)))) -> 0
A9: AST-0002 | B9: 周辺機器 | C9: LOC-0001 | D9: 確認済 | E9: LOC-0002 | F9: 貸出中 | G9: 確認済 | H9: PER-0001 | I9: 46296 | J9: 46325 | L9: 確認済 | M9: 確認済 | N9: 46296 | O9: 46326 | P9: =IF(V9="","",IF(W9<>0,NA(),IF(AND(F9="貸出中",COUNTA(J9)>0),J9-備品の確認!$B$3,""))) -> -1 | Q9: =IF(V9="","",IF(W9<>0,NA(),IF(AND(F9="返却済",COUNTA(J9)>0),K9-J9,""))) | R9: =IF(V9="","",IF(W9<>0,NA(),IF(M9="確認済",備品の確認!$B$3-N9,""))) -> 30 | S9: =IF(V9="","",IF(W9<>0,NA(),IF(M9="未確認","現物未確認",IF(R9>備品の確認!$E$3,"確認間隔超過","確認間隔内")))) -> 確認間隔内 | T9: =IF(V9="","",IF(W9<>0,NA(),IF(F9="保管中","保管記録",IF(F9="返却済","返却記録",IF(F9="未確認","利用未確認",IF(COUNTA(J9)=0,"期限未確認",IF(P9<0,"返却期限超過",IF(P9=0,"返却期日","貸出中")))))))) -> 返却期限超過 | U9: =IF(V9="","",IF(W9<>0,NA(),IF(OR(B9="未確認",D9="未確認",F9="未確認",G9="未確認",L9<>"確認済",M9="未確認",S9="確認間隔超過",AND(F9="貸出中",OR(COUNTA(J9)=0,P9<=0))),1,0))) -> 1 | V9: =IF(COUNTA(A9:O9)=0,"",IF(NOT(AND(ISTEXT(A9),LEN(A9)=8,EXACT(LEFT(A9,4),"AST-"),ISNUMBER(FIND(MID(A9,5,1)&"x","0x1x2x3x4x5x6x7x8x9x")),ISNUMBER(FIND(MID(A9,6,1)&"x","0x1x2x3x4x5x6x7x8x9x")),ISNUMBER(FIND(MID(A9,7,1)&"x","0x1x2x3x4x5x6x7x8x9x")),ISNUMBER(FIND(MID(A9,8,1)&"x","0x1x2x3x4x5x6x7x8x9x")))),"備品IDはAST-と半角数字4桁",IF(COUNTIFS($A$8:$A$57,A9)>1,"備品IDが重複",IF(NOT(OR(B9="PC",B9="周辺機器",B9="工具",B9="その他",B9="未確認")),"種類を確認",IF(NOT(AND(ISTEXT(C9),LEN(C9)=8,EXACT(LEFT(C9,4),"LOC-"),ISNUMBER(FIND(MID(C9,5,1)&"x","0x1x2x3x4x5x6x7x8x9x")),ISNUMBER(FIND(MID(C9,6,1)&"x","0x1x2x3x4x5x6x7x8x9x")),ISNUMBER(FIND(MID(C9,7,1)&"x","0x1x2x3x4x5x6x7x8x9x")),ISNUMBER(FIND(MID(C9,8,1)&"x","0x1x2x3x4x5x6x7x8x9x")))),"登録保管先IDはLOC-と半角数字4桁",IF(NOT(OR(D9="確認済",D9="未確認")),"所在区分を確認",IF(AND(D9="確認済",NOT(AND(ISTEXT(E9),LEN(E9)=8,EXACT(LEFT(E9,4),"LOC-"),ISNUMBER(FIND(MID(E9,5,1)&"x","0x1x2x3x4x5x6x7x8x9x")),ISNUMBER(FIND(MID(E9,6,1)&"x","0x1x2x3x4x5x6x7x8x9x")),ISNUMBER(FIND(MID(E9,7,1)&"x","0x1x2x3x4x5x6x7x8x9x")),ISNUMBER(FIND(MID(E9,8,1)&"x","0x1x2x3x4x5x6x7x8x9x"))))),"確認済所在IDが必須",IF(AND(D9="未確認",COUNTA(E9)>0),"所在未確認は所在ID空欄",IF(NOT(OR(F9="保管中",F9="貸出中",F9="返却済",F9="未確認")),"利用区分を確認",IF(AND(F9="保管中",NOT(AND(G9="対象外",COUNTA(H9:K9)=0))),"保管中の借用者は対象外/貸出欄は空欄",IF(AND(F9<>"保管中",NOT(OR(G9="確認済",G9="未確認"))),"借用者を確認/未確認で記録",IF(AND(G9="確認済",NOT(AND(ISTEXT(H9),LEN(H9)=8,EXACT(LEFT(H9,4),"PER-"),ISNUMBER(FIND(MID(H9,5,1)&"x","0x1x2x3x4x5x6x7x8x9x")),ISNUMBER(FIND(MID(H9,6,1)&"x","0x1x2x3x4x5x6x7x8x9x")),ISNUMBER(FIND(MID(H9,7,1)&"x","0x1x2x3x4x5x6x7x8x9x")),ISNUMBER(FIND(MID(H9,8,1)&"x","0x1x2x3x4x5x6x7x8x9x"))))),"確認済借用者IDが必須",IF(AND(G9<>"確認済",COUNTA(H9)>0),"未確認/対象外の借用者IDは空欄",IF(AND(OR(F9="貸出中",F9="返却済"),NOT(IF(ISNUMBER(I9),AND(I9>=43831,I9<=73050,I9=INT(I9)),FALSE()))),"貸出日が必須",IF(AND(COUNTA(I9)>0,NOT(IF(ISNUMBER(I9),AND(I9>=43831,I9<=73050,I9=INT(I9)),FALSE()))),"貸出日は2020〜2099年/時刻なし",IF(AND(COUNTA(J9)>0,NOT(IF(ISNUMBER(J9),AND(J9>=43831,J9<=73050,J9=INT(J9)),FALSE()))),"返却期日は2020〜2099年/時刻なし",IF(AND(COUNTA(J9)>0,OR(COUNTA(I9)=0,J9<I9)),"期日は貸出日以上/貸出日必須",IF(AND(F9="返却済",NOT(IF(ISNUMBER(K9),AND(K9>=43831,K9<=73050,K9=INT(K9)),FALSE()))),"返却済の返却日が必須",IF(AND(F9<>"返却済",COUNTA(K9)>0),"返却済以外の返却日は空欄",IF(AND(F9="返却済",K9<I9),"返却日は貸出日以上",IF(NOT(OR(L9="確認済",L9="要対応",L9="未確認")),"状態確認を記録",IF(NOT(OR(M9="確認済",M9="未確認")),"現物区分を確認",IF(AND(M9="確認済",NOT(IF(ISNUMBER(N9),AND(N9>=43831,N9<=73050,N9=INT(N9)),FALSE()))),"現物確認日が必須",IF(AND(M9="未確認",COUNTA(N9)>0),"現物未確認の日付は空欄",IF(NOT(IF(ISNUMBER(O9),AND(O9>=43831,O9<=73050,O9=INT(O9)),FALSE())),"記録確認日が必須",IF(OR(O9>備品の確認!$B$3,AND(COUNTA(I9)>0,I9>O9),AND(F9="返却済",K9>O9),AND(M9="確認済",N9>O9)),"貸出/返却/現物日≦記録確認日≦基準日","確認済み")))))))))))))))))))))))))) -> 確認済み | W9: =IF(V9="","",IF(V9="確認済み",0,1)) -> 0 | X9: =IF(COUNTA(A9:O9)=0,IF(AND(V9="",W9="",P9="",Q9="",R9="",S9="",T9="",U9=""),0,1),IF(NOT(AND(ISTEXT(V9),V9=IF(COUNTA(A9:O9)=0,"",IF(NOT(AND(ISTEXT(A9),LEN(A9)=8,EXACT(LEFT(A9,4),"AST-"),ISNUMBER(FIND(MID(A9,5,1)&"x","0x1x2x3x4x5x6x7x8x9x")),ISNUMBER(FIND(MID(A9,6,1)&"x","0x1x2x3x4x5x6x7x8x9x")),ISNUMBER(FIND(MID(A9,7,1)&"x","0x1x2x3x4x5x6x7x8x9x")),ISNUMBER(FIND(MID(A9,8,1)&"x","0x1x2x3x4x5x6x7x8x9x")))),"備品IDはAST-と半角数字4桁",IF(COUNTIFS($A$8:$A$57,A9)>1,"備品IDが重複",IF(NOT(OR(B9="PC",B9="周辺機器",B9="工具",B9="その他",B9="未確認")),"種類を確認",IF(NOT(AND(ISTEXT(C9),LEN(C9)=8,EXACT(LEFT(C9,4),"LOC-"),ISNUMBER(FIND(MID(C9,5,1)&"x","0x1x2x3x4x5x6x7x8x9x")),ISNUMBER(FIND(MID(C9,6,1)&"x","0x1x2x3x4x5x6x7x8x9x")),ISNUMBER(FIND(MID(C9,7,1)&"x","0x1x2x3x4x5x6x7x8x9x")),ISNUMBER(FIND(MID(C9,8,1)&"x","0x1x2x3x4x5x6x7x8x9x")))),"登録保管先IDはLOC-と半角数字4桁",IF(NOT(OR(D9="確認済",D9="未確認")),"所在区分を確認",IF(AND(D9="確認済",NOT(AND(ISTEXT(E9),LEN(E9)=8,EXACT(LEFT(E9,4),"LOC-"),ISNUMBER(FIND(MID(E9,5,1)&"x","0x1x2x3x4x5x6x7x8x9x")),ISNUMBER(FIND(MID(E9,6,1)&"x","0x1x2x3x4x5x6x7x8x9x")),ISNUMBER(FIND(MID(E9,7,1)&"x","0x1x2x3x4x5x6x7x8x9x")),ISNUMBER(FIND(MID(E9,8,1)&"x","0x1x2x3x4x5x6x7x8x9x"))))),"確認済所在IDが必須",IF(AND(D9="未確認",COUNTA(E9)>0),"所在未確認は所在ID空欄",IF(NOT(OR(F9="保管中",F9="貸出中",F9="返却済",F9="未確認")),"利用区分を確認",IF(AND(F9="保管中",NOT(AND(G9="対象外",COUNTA(H9:K9)=0))),"保管中の借用者は対象外/貸出欄は空欄",IF(AND(F9<>"保管中",NOT(OR(G9="確認済",G9="未確認"))),"借用者を確認/未確認で記録",IF(AND(G9="確認済",NOT(AND(ISTEXT(H9),LEN(H9)=8,EXACT(LEFT(H9,4),"PER-"),ISNUMBER(FIND(MID(H9,5,1)&"x","0x1x2x3x4x5x6x7x8x9x")),ISNUMBER(FIND(MID(H9,6,1)&"x","0x1x2x3x4x5x6x7x8x9x")),ISNUMBER(FIND(MID(H9,7,1)&"x","0x1x2x3x4x5x6x7x8x9x")),ISNUMBER(FIND(MID(H9,8,1)&"x","0x1x2x3x4x5x6x7x8x9x"))))),"確認済借用者IDが必須",IF(AND(G9<>"確認済",COUNTA(H9)>0),"未確認/対象外の借用者IDは空欄",IF(AND(OR(F9="貸出中",F9="返却済"),NOT(IF(ISNUMBER(I9),AND(I9>=43831,I9<=73050,I9=INT(I9)),FALSE()))),"貸出日が必須",IF(AND(COUNTA(I9)>0,NOT(IF(ISNUMBER(I9),AND(I9>=43831,I9<=73050,I9=INT(I9)),FALSE()))),"貸出日は2020〜2099年/時刻なし",IF(AND(COUNTA(J9)>0,NOT(IF(ISNUMBER(J9),AND(J9>=43831,J9<=73050,J9=INT(J9)),FALSE()))),"返却期日は2020〜2099年/時刻なし",IF(AND(COUNTA(J9)>0,OR(COUNTA(I9)=0,J9<I9)),"期日は貸出日以上/貸出日必須",IF(AND(F9="返却済",NOT(IF(ISNUMBER(K9),AND(K9>=43831,K9<=73050,K9=INT(K9)),FALSE()))),"返却済の返却日が必須",IF(AND(F9<>"返却済",COUNTA(K9)>0),"返却済以外の返却日は空欄",IF(AND(F9="返却済",K9<I9),"返却日は貸出日以上",IF(NOT(OR(L9="確認済",L9="要対応",L9="未確認")),"状態確認を記録",IF(NOT(OR(M9="確認済",M9="未確認")),"現物区分を確認",IF(AND(M9="確認済",NOT(IF(ISNUMBER(N9),AND(N9>=43831,N9<=73050,N9=INT(N9)),FALSE()))),"現物確認日が必須",IF(AND(M9="未確認",COUNTA(N9)>0),"現物未確認の日付は空欄",IF(NOT(IF(ISNUMBER(O9),AND(O9>=43831,O9<=73050,O9=INT(O9)),FALSE())),"記録確認日が必須",IF(OR(O9>備品の確認!$B$3,AND(COUNTA(I9)>0,I9>O9),AND(F9="返却済",K9>O9),AND(M9="確認済",N9>O9)),"貸出/返却/現物日≦記録確認日≦基準日","確認済み")))))))))))))))))))))))))),ISNUMBER(W9),W9=IF(V9="確認済み",0,1))),1,IF(W9<>0,0,IF(AND(IF(AND(F9="貸出中",COUNTA(J9)>0),ISNUMBER(P9),ISTEXT(P9)),P9=IF(AND(F9="貸出中",COUNTA(J9)>0),J9-備品の確認!$B$3,""),IF(AND(F9="返却済",COUNTA(J9)>0),ISNUMBER(Q9),ISTEXT(Q9)),Q9=IF(AND(F9="返却済",COUNTA(J9)>0),K9-J9,""),IF(M9="確認済",ISNUMBER(R9),ISTEXT(R9)),R9=IF(M9="確認済",備品の確認!$B$3-N9,""),ISTEXT(S9),S9=IF(M9="未確認","現物未確認",IF(R9>備品の確認!$E$3,"確認間隔超過","確認間隔内")),ISTEXT(T9),T9=IF(F9="保管中","保管記録",IF(F9="返却済","返却記録",IF(F9="未確認","利用未確認",IF(COUNTA(J9)=0,"期限未確認",IF(P9<0,"返却期限超過",IF(P9=0,"返却期日","貸出中")))))),ISNUMBER(U9),U9=IF(OR(B9="未確認",D9="未確認",F9="未確認",G9="未確認",L9<>"確認済",M9="未確認",S9="確認間隔超過",AND(F9="貸出中",OR(COUNTA(J9)=0,P9<=0))),1,0)),0,1)))) -> 0
A10: AST-0003 | B10: 工具 | C10: LOC-0001 | D10: 確認済 | E10: LOC-0003 | F10: 貸出中 | G10: 確認済 | H10: PER-0002 | I10: 46305 | J10: 46326 | L10: 確認済 | M10: 確認済 | N10: 46295 | O10: 46326 | P10: =IF(V10="","",IF(W10<>0,NA(),IF(AND(F10="貸出中",COUNTA(J10)>0),J10-備品の確認!$B$3,""))) -> 0 | Q10: =IF(V10="","",IF(W10<>0,NA(),IF(AND(F10="返却済",COUNTA(J10)>0),K10-J10,""))) | R10: =IF(V10="","",IF(W10<>0,NA(),IF(M10="確認済",備品の確認!$B$3-N10,""))) -> 31 | S10: =IF(V10="","",IF(W10<>0,NA(),IF(M10="未確認","現物未確認",IF(R10>備品の確認!$E$3,"確認間隔超過","確認間隔内")))) -> 確認間隔超過 | T10: =IF(V10="","",IF(W10<>0,NA(),IF(F10="保管中","保管記録",IF(F10="返却済","返却記録",IF(F10="未確認","利用未確認",IF(COUNTA(J10)=0,"期限未確認",IF(P10<0,"返却期限超過",IF(P10=0,"返却期日","貸出中")))))))) -> 返却期日 | U10: =IF(V10="","",IF(W10<>0,NA(),IF(OR(B10="未確認",D10="未確認",F10="未確認",G10="未確認",L10<>"確認済",M10="未確認",S10="確認間隔超過",AND(F10="貸出中",OR(COUNTA(J10)=0,P10<=0))),1,0))) -> 1 | V10: =IF(COUNTA(A10:O10)=0,"",IF(NOT(AND(ISTEXT(A10),LEN(A10)=8,EXACT(LEFT(A10,4),"AST-"),ISNUMBER(FIND(MID(A10,5,1)&"x","0x1x2x3x4x5x6x7x8x9x")),ISNUMBER(FIND(MID(A10,6,1)&"x","0x1x2x3x4x5x6x7x8x9x")),ISNUMBER(FIND(MID(A10,7,1)&"x","0x1x2x3x4x5x6x7x8x9x")),ISNUMBER(FIND(MID(A10,8,1)&"x","0x1x2x3x4x5x6x7x8x9x")))),"備品IDはAST-と半角数字4桁",IF(COUNTIFS($A$8:$A$57,A10)>1,"備品IDが重複",IF(NOT(OR(B10="PC",B10="周辺機器",B10="工具",B10="その他",B10="未確認")),"種類を確認",IF(NOT(AND(ISTEXT(C10),LEN(C10)=8,EXACT(LEFT(C10,4),"LOC-"),ISNUMBER(FIND(MID(C10,5,1)&"x","0x1x2x3x4x5x6x7x8x9x")),ISNUMBER(FIND(MID(C10,6,1)&"x","0x1x2x3x4x5x6x7x8x9x")),ISNUMBER(FIND(MID(C10,7,1)&"x","0x1x2x3x4x5x6x7x8x9x")),ISNUMBER(FIND(MID(C10,8,1)&"x","0x1x2x3x4x5x6x7x8x9x")))),"登録保管先IDはLOC-と半角数字4桁",IF(NOT(OR(D10="確認済",D10="未確認")),"所在区分を確認",IF(AND(D10="確認済",NOT(AND(ISTEXT(E10),LEN(E10)=8,EXACT(LEFT(E10,4),"LOC-"),ISNUMBER(FIND(MID(E10,5,1)&"x","0x1x2x3x4x5x6x7x8x9x")),ISNUMBER(FIND(MID(E10,6,1)&"x","0x1x2x3x4x5x6x7x8x9x")),ISNUMBER(FIND(MID(E10,7,1)&"x","0x1x2x3x4x5x6x7x8x9x")),ISNUMBER(FIND(MID(E10,8,1)&"x","0x1x2x3x4x5x6x7x8x9x"))))),"確認済所在IDが必須",IF(AND(D10="未確認",COUNTA(E10)>0),"所在未確認は所在ID空欄",IF(NOT(OR(F10="保管中",F10="貸出中",F10="返却済",F10="未確認")),"利用区分を確認",IF(AND(F10="保管中",NOT(AND(G10="対象外",COUNTA(H10:K10)=0))),"保管中の借用者は対象外/貸出欄は空欄",IF(AND(F10<>"保管中",NOT(OR(G10="確認済",G10="未確認"))),"借用者を確認/未確認で記録",IF(AND(G10="確認済",NOT(AND(ISTEXT(H10),LEN(H10)=8,EXACT(LEFT(H10,4),"PER-"),ISNUMBER(FIND(MID(H10,5,1)&"x","0x1x2x3x4x5x6x7x8x9x")),ISNUMBER(FIND(MID(H10,6,1)&"x","0x1x2x3x4x5x6x7x8x9x")),ISNUMBER(FIND(MID(H10,7,1)&"x","0x1x2x3x4x5x6x7x8x9x")),ISNUMBER(FIND(MID(H10,8,1)&"x","0x1x2x3x4x5x6x7x8x9x"))))),"確認済借用者IDが必須",IF(AND(G10<>"確認済",COUNTA(H10)>0),"未確認/対象外の借用者IDは空欄",IF(AND(OR(F10="貸出中",F10="返却済"),NOT(IF(ISNUMBER(I10),AND(I10>=43831,I10<=73050,I10=INT(I10)),FALSE()))),"貸出日が必須",IF(AND(COUNTA(I10)>0,NOT(IF(ISNUMBER(I10),AND(I10>=43831,I10<=73050,I10=INT(I10)),FALSE()))),"貸出日は2020〜2099年/時刻なし",IF(AND(COUNTA(J10)>0,NOT(IF(ISNUMBER(J10),AND(J10>=43831,J10<=73050,J10=INT(J10)),FALSE()))),"返却期日は2020〜2099年/時刻なし",IF(AND(COUNTA(J10)>0,OR(COUNTA(I10)=0,J10<I10)),"期日は貸出日以上/貸出日必須",IF(AND(F10="返却済",NOT(IF(ISNUMBER(K10),AND(K10>=43831,K10<=73050,K10=INT(K10)),FALSE()))),"返却済の返却日が必須",IF(AND(F10<>"返却済",COUNTA(K10)>0),"返却済以外の返却日は空欄",IF(AND(F10="返却済",K10<I10),"返却日は貸出日以上",IF(NOT(OR(L10="確認済",L10="要対応",L10="未確認")),"状態確認を記録",IF(NOT(OR(M10="確認済",M10="未確認")),"現物区分を確認",IF(AND(M10="確認済",NOT(IF(ISNUMBER(N10),AND(N10>=43831,N10<=73050,N10=INT(N10)),FALSE()))),"現物確認日が必須",IF(AND(M10="未確認",COUNTA(N10)>0),"現物未確認の日付は空欄",IF(NOT(IF(ISNUMBER(O10),AND(O10>=43831,O10<=73050,O10=INT(O10)),FALSE())),"記録確認日が必須",IF(OR(O10>備品の確認!$B$3,AND(COUNTA(I10)>0,I10>O10),AND(F10="返却済",K10>O10),AND(M10="確認済",N10>O10)),"貸出/返却/現物日≦記録確認日≦基準日","確認済み")))))))))))))))))))))))))) -> 確認済み | W10: =IF(V10="","",IF(V10="確認済み",0,1)) -> 0 | X10: =IF(COUNTA(A10:O10)=0,IF(AND(V10="",W10="",P10="",Q10="",R10="",S10="",T10="",U10=""),0,1),IF(NOT(AND(ISTEXT(V10),V10=IF(COUNTA(A10:O10)=0,"",IF(NOT(AND(ISTEXT(A10),LEN(A10)=8,EXACT(LEFT(A10,4),"AST-"),ISNUMBER(FIND(MID(A10,5,1)&"x","0x1x2x3x4x5x6x7x8x9x")),ISNUMBER(FIND(MID(A10,6,1)&"x","0x1x2x3x4x5x6x7x8x9x")),ISNUMBER(FIND(MID(A10,7,1)&"x","0x1x2x3x4x5x6x7x8x9x")),ISNUMBER(FIND(MID(A10,8,1)&"x","0x1x2x3x4x5x6x7x8x9x")))),"備品IDはAST-と半角数字4桁",IF(COUNTIFS($A$8:$A$57,A10)>1,"備品IDが重複",IF(NOT(OR(B10="PC",B10="周辺機器",B10="工具",B10="その他",B10="未確認")),"種類を確認",IF(NOT(AND(ISTEXT(C10),LEN(C10)=8,EXACT(LEFT(C10,4),"LOC-"),ISNUMBER(FIND(MID(C10,5,1)&"x","0x1x2x3x4x5x6x7x8x9x")),ISNUMBER(FIND(MID(C10,6,1)&"x","0x1x2x3x4x5x6x7x8x9x")),ISNUMBER(FIND(MID(C10,7,1)&"x","0x1x2x3x4x5x6x7x8x9x")),ISNUMBER(FIND(MID(C10,8,1)&"x","0x1x2x3x4x5x6x7x8x9x")))),"登録保管先IDはLOC-と半角数字4桁",IF(NOT(OR(D10="確認済",D10="未確認")),"所在区分を確認",IF(AND(D10="確認済",NOT(AND(ISTEXT(E10),LEN(E10)=8,EXACT(LEFT(E10,4),"LOC-"),ISNUMBER(FIND(MID(E10,5,1)&"x","0x1x2x3x4x5x6x7x8x9x")),ISNUMBER(FIND(MID(E10,6,1)&"x","0x1x2x3x4x5x6x7x8x9x")),ISNUMBER(FIND(MID(E10,7,1)&"x","0x1x2x3x4x5x6x7x8x9x")),ISNUMBER(FIND(MID(E10,8,1)&"x","0x1x2x3x4x5x6x7x8x9x"))))),"確認済所在IDが必須",IF(AND(D10="未確認",COUNTA(E10)>0),"所在未確認は所在ID空欄",IF(NOT(OR(F10="保管中",F10="貸出中",F10="返却済",F10="未確認")),"利用区分を確認",IF(AND(F10="保管中",NOT(AND(G10="対象外",COUNTA(H10:K10)=0))),"保管中の借用者は対象外/貸出欄は空欄",IF(AND(F10<>"保管中",NOT(OR(G10="確認済",G10="未確認"))),"借用者を確認/未確認で記録",IF(AND(G10="確認済",NOT(AND(ISTEXT(H10),LEN(H10)=8,EXACT(LEFT(H10,4),"PER-"),ISNUMBER(FIND(MID(H10,5,1)&"x","0x1x2x3x4x5x6x7x8x9x")),ISNUMBER(FIND(MID(H10,6,1)&"x","0x1x2x3x4x5x6x7x8x9x")),ISNUMBER(FIND(MID(H10,7,1)&"x","0x1x2x3x4x5x6x7x8x9x")),ISNUMBER(FIND(MID(H10,8,1)&"x","0x1x2x3x4x5x6x7x8x9x"))))),"確認済借用者IDが必須",IF(AND(G10<>"確認済",COUNTA(H10)>0),"未確認/対象外の借用者IDは空欄",IF(AND(OR(F10="貸出中",F10="返却済"),NOT(IF(ISNUMBER(I10),AND(I10>=43831,I10<=73050,I10=INT(I10)),FALSE()))),"貸出日が必須",IF(AND(COUNTA(I10)>0,NOT(IF(ISNUMBER(I10),AND(I10>=43831,I10<=73050,I10=INT(I10)),FALSE()))),"貸出日は2020〜2099年/時刻なし",IF(AND(COUNTA(J10)>0,NOT(IF(ISNUMBER(J10),AND(J10>=43831,J10<=73050,J10=INT(J10)),FALSE()))),"返却期日は2020〜2099年/時刻なし",IF(AND(COUNTA(J10)>0,OR(COUNTA(I10)=0,J10<I10)),"期日は貸出日以上/貸出日必須",IF(AND(F10="返却済",NOT(IF(ISNUMBER(K10),AND(K10>=43831,K10<=73050,K10=INT(K10)),FALSE()))),"返却済の返却日が必須",IF(AND(F10<>"返却済",COUNTA(K10)>0),"返却済以外の返却日は空欄",IF(AND(F10="返却済",K10<I10),"返却日は貸出日以上",IF(NOT(OR(L10="確認済",L10="要対応",L10="未確認")),"状態確認を記録",IF(NOT(OR(M10="確認済",M10="未確認")),"現物区分を確認",IF(AND(M10="確認済",NOT(IF(ISNUMBER(N10),AND(N10>=43831,N10<=73050,N10=INT(N10)),FALSE()))),"現物確認日が必須",IF(AND(M10="未確認",COUNTA(N10)>0),"現物未確認の日付は空欄",IF(NOT(IF(ISNUMBER(O10),AND(O10>=43831,O10<=73050,O10=INT(O10)),FALSE())),"記録確認日が必須",IF(OR(O10>備品の確認!$B$3,AND(COUNTA(I10)>0,I10>O10),AND(F10="返却済",K10>O10),AND(M10="確認済",N10>O10)),"貸出/返却/現物日≦記録確認日≦基準日","確認済み")))))))))))))))))))))))))),ISNUMBER(W10),W10=IF(V10="確認済み",0,1))),1,IF(W10<>0,0,IF(AND(IF(AND(F10="貸出中",COUNTA(J10)>0),ISNUMBER(P10),ISTEXT(P10)),P10=IF(AND(F10="貸出中",COUNTA(J10)>0),J10-備品の確認!$B$3,""),IF(AND(F10="返却済",COUNTA(J10)>0),ISNUMBER(Q10),ISTEXT(Q10)),Q10=IF(AND(F10="返却済",COUNTA(J10)>0),K10-J10,""),IF(M10="確認済",ISNUMBER(R10),ISTEXT(R10)),R10=IF(M10="確認済",備品の確認!$B$3-N10,""),ISTEXT(S10),S10=IF(M10="未確認","現物未確認",IF(R10>備品の確認!$E$3,"確認間隔超過","確認間隔内")),ISTEXT(T10),T10=IF(F10="保管中","保管記録",IF(F10="返却済","返却記録",IF(F10="未確認","利用未確認",IF(COUNTA(J10)=0,"期限未確認",IF(P10<0,"返却期限超過",IF(P10=0,"返却期日","貸出中")))))),ISNUMBER(U10),U10=IF(OR(B10="未確認",D10="未確認",F10="未確認",G10="未確認",L10<>"確認済",M10="未確認",S10="確認間隔超過",AND(F10="貸出中",OR(COUNTA(J10)=0,P10<=0))),1,0)),0,1)))) -> 0
A11: AST-0004 | B11: PC | C11: LOC-0002 | D11: 確認済 | E11: LOC-0004 | F11: 貸出中 | G11: 未確認 | I11: 46315 | J11: 46327 | L11: 未確認 | M11: 未確認 | O11: 46326 | P11: =IF(V11="","",IF(W11<>0,NA(),IF(AND(F11="貸出中",COUNTA(J11)>0),J11-備品の確認!$B$3,""))) -> 1 | Q11: =IF(V11="","",IF(W11<>0,NA(),IF(AND(F11="返却済",COUNTA(J11)>0),K11-J11,""))) | R11: =IF(V11="","",IF(W11<>0,NA(),IF(M11="確認済",備品の確認!$B$3-N11,""))) | S11: =IF(V11="","",IF(W11<>0,NA(),IF(M11="未確認","現物未確認",IF(R11>備品の確認!$E$3,"確認間隔超過","確認間隔内")))) -> 現物未確認 | T11: =IF(V11="","",IF(W11<>0,NA(),IF(F11="保管中","保管記録",IF(F11="返却済","返却記録",IF(F11="未確認","利用未確認",IF(COUNTA(J11)=0,"期限未確認",IF(P11<0,"返却期限超過",IF(P11=0,"返却期日","貸出中")))))))) -> 貸出中 | U11: =IF(V11="","",IF(W11<>0,NA(),IF(OR(B11="未確認",D11="未確認",F11="未確認",G11="未確認",L11<>"確認済",M11="未確認",S11="確認間隔超過",AND(F11="貸出中",OR(COUNTA(J11)=0,P11<=0))),1,0))) -> 1 | V11: =IF(COUNTA(A11:O11)=0,"",IF(NOT(AND(ISTEXT(A11),LEN(A11)=8,EXACT(LEFT(A11,4),"AST-"),ISNUMBER(FIND(MID(A11,5,1)&"x","0x1x2x3x4x5x6x7x8x9x")),ISNUMBER(FIND(MID(A11,6,1)&"x","0x1x2x3x4x5x6x7x8x9x")),ISNUMBER(FIND(MID(A11,7,1)&"x","0x1x2x3x4x5x6x7x8x9x")),ISNUMBER(FIND(MID(A11,8,1)&"x","0x1x2x3x4x5x6x7x8x9x")))),"備品IDはAST-と半角数字4桁",IF(COUNTIFS($A$8:$A$57,A11)>1,"備品IDが重複",IF(NOT(OR(B11="PC",B11="周辺機器",B11="工具",B11="その他",B11="未確認")),"種類を確認",IF(NOT(AND(ISTEXT(C11),LEN(C11)=8,EXACT(LEFT(C11,4),"LOC-"),ISNUMBER(FIND(MID(C11,5,1)&"x","0x1x2x3x4x5x6x7x8x9x")),ISNUMBER(FIND(MID(C11,6,1)&"x","0x1x2x3x4x5x6x7x8x9x")),ISNUMBER(FIND(MID(C11,7,1)&"x","0x1x2x3x4x5x6x7x8x9x")),ISNUMBER(FIND(MID(C11,8,1)&"x","0x1x2x3x4x5x6x7x8x9x")))),"登録保管先IDはLOC-と半角数字4桁",IF(NOT(OR(D11="確認済",D11="未確認")),"所在区分を確認",IF(AND(D11="確認済",NOT(AND(ISTEXT(E11),LEN(E11)=8,EXACT(LEFT(E11,4),"LOC-"),ISNUMBER(FIND(MID(E11,5,1)&"x","0x1x2x3x4x5x6x7x8x9x")),ISNUMBER(FIND(MID(E11,6,1)&"x","0x1x2x3x4x5x6x7x8x9x")),ISNUMBER(FIND(MID(E11,7,1)&"x","0x1x2x3x4x5x6x7x8x9x")),ISNUMBER(FIND(MID(E11,8,1)&"x","0x1x2x3x4x5x6x7x8x9x"))))),"確認済所在IDが必須",IF(AND(D11="未確認",COUNTA(E11)>0),"所在未確認は所在ID空欄",IF(NOT(OR(F11="保管中",F11="貸出中",F11="返却済",F11="未確認")),"利用区分を確認",IF(AND(F11="保管中",NOT(AND(G11="対象外",COUNTA(H11:K11)=0))),"保管中の借用者は対象外/貸出欄は空欄",IF(AND(F11<>"保管中",NOT(OR(G11="確認済",G11="未確認"))),"借用者を確認/未確認で記録",IF(AND(G11="確認済",NOT(AND(ISTEXT(H11),LEN(H11)=8,EXACT(LEFT(H11,4),"PER-"),ISNUMBER(FIND(MID(H11,5,1)&"x","0x1x2x3x4x5x6x7x8x9x")),ISNUMBER(FIND(MID(H11,6,1)&"x","0x1x2x3x4x5x6x7x8x9x")),ISNUMBER(FIND(MID(H11,7,1)&"x","0x1x2x3x4x5x6x7x8x9x")),ISNUMBER(FIND(MID(H11,8,1)&"x","0x1x2x3x4x5x6x7x8x9x"))))),"確認済借用者IDが必須",IF(AND(G11<>"確認済",COUNTA(H11)>0),"未確認/対象外の借用者IDは空欄",IF(AND(OR(F11="貸出中",F11="返却済"),NOT(IF(ISNUMBER(I11),AND(I11>=43831,I11<=73050,I11=INT(I11)),FALSE()))),"貸出日が必須",IF(AND(COUNTA(I11)>0,NOT(IF(ISNUMBER(I11),AND(I11>=43831,I11<=73050,I11=INT(I11)),FALSE()))),"貸出日は2020〜2099年/時刻なし",IF(AND(COUNTA(J11)>0,NOT(IF(ISNUMBER(J11),AND(J11>=43831,J11<=73050,J11=INT(J11)),FALSE()))),"返却期日は2020〜2099年/時刻なし",IF(AND(COUNTA(J11)>0,OR(COUNTA(I11)=0,J11<I11)),"期日は貸出日以上/貸出日必須",IF(AND(F11="返却済",NOT(IF(ISNUMBER(K11),AND(K11>=43831,K11<=73050,K11=INT(K11)),FALSE()))),"返却済の返却日が必須",IF(AND(F11<>"返却済",COUNTA(K11)>0),"返却済以外の返却日は空欄",IF(AND(F11="返却済",K11<I11),"返却日は貸出日以上",IF(NOT(OR(L11="確認済",L11="要対応",L11="未確認")),"状態確認を記録",IF(NOT(OR(M11="確認済",M11="未確認")),"現物区分を確認",IF(AND(M11="確認済",NOT(IF(ISNUMBER(N11),AND(N11>=43831,N11<=73050,N11=INT(N11)),FALSE()))),"現物確認日が必須",IF(AND(M11="未確認",COUNTA(N11)>0),"現物未確認の日付は空欄",IF(NOT(IF(ISNUMBER(O11),AND(O11>=43831,O11<=73050,O11=INT(O11)),FALSE())),"記録確認日が必須",IF(OR(O11>備品の確認!$B$3,AND(COUNTA(I11)>0,I11>O11),AND(F11="返却済",K11>O11),AND(M11="確認済",N11>O11)),"貸出/返却/現物日≦記録確認日≦基準日","確認済み")))))))))))))))))))))))))) -> 確認済み | W11: =IF(V11="","",IF(V11="確認済み",0,1)) -> 0 | X11: =IF(COUNTA(A11:O11)=0,IF(AND(V11="",W11="",P11="",Q11="",R11="",S11="",T11="",U11=""),0,1),IF(NOT(AND(ISTEXT(V11),V11=IF(COUNTA(A11:O11)=0,"",IF(NOT(AND(ISTEXT(A11),LEN(A11)=8,EXACT(LEFT(A11,4),"AST-"),ISNUMBER(FIND(MID(A11,5,1)&"x","0x1x2x3x4x5x6x7x8x9x")),ISNUMBER(FIND(MID(A11,6,1)&"x","0x1x2x3x4x5x6x7x8x9x")),ISNUMBER(FIND(MID(A11,7,1)&"x","0x1x2x3x4x5x6x7x8x9x")),ISNUMBER(FIND(MID(A11,8,1)&"x","0x1x2x3x4x5x6x7x8x9x")))),"備品IDはAST-と半角数字4桁",IF(COUNTIFS($A$8:$A$57,A11)>1,"備品IDが重複",IF(NOT(OR(B11="PC",B11="周辺機器",B11="工具",B11="その他",B11="未確認")),"種類を確認",IF(NOT(AND(ISTEXT(C11),LEN(C11)=8,EXACT(LEFT(C11,4),"LOC-"),ISNUMBER(FIND(MID(C11,5,1)&"x","0x1x2x3x4x5x6x7x8x9x")),ISNUMBER(FIND(MID(C11,6,1)&"x","0x1x2x3x4x5x6x7x8x9x")),ISNUMBER(FIND(MID(C11,7,1)&"x","0x1x2x3x4x5x6x7x8x9x")),ISNUMBER(FIND(MID(C11,8,1)&"x","0x1x2x3x4x5x6x7x8x9x")))),"登録保管先IDはLOC-と半角数字4桁",IF(NOT(OR(D11="確認済",D11="未確認")),"所在区分を確認",IF(AND(D11="確認済",NOT(AND(ISTEXT(E11),LEN(E11)=8,EXACT(LEFT(E11,4),"LOC-"),ISNUMBER(FIND(MID(E11,5,1)&"x","0x1x2x3x4x5x6x7x8x9x")),ISNUMBER(FIND(MID(E11,6,1)&"x","0x1x2x3x4x5x6x7x8x9x")),ISNUMBER(FIND(MID(E11,7,1)&"x","0x1x2x3x4x5x6x7x8x9x")),ISNUMBER(FIND(MID(E11,8,1)&"x","0x1x2x3x4x5x6x7x8x9x"))))),"確認済所在IDが必須",IF(AND(D11="未確認",COUNTA(E11)>0),"所在未確認は所在ID空欄",IF(NOT(OR(F11="保管中",F11="貸出中",F11="返却済",F11="未確認")),"利用区分を確認",IF(AND(F11="保管中",NOT(AND(G11="対象外",COUNTA(H11:K11)=0))),"保管中の借用者は対象外/貸出欄は空欄",IF(AND(F11<>"保管中",NOT(OR(G11="確認済",G11="未確認"))),"借用者を確認/未確認で記録",IF(AND(G11="確認済",NOT(AND(ISTEXT(H11),LEN(H11)=8,EXACT(LEFT(H11,4),"PER-"),ISNUMBER(FIND(MID(H11,5,1)&"x","0x1x2x3x4x5x6x7x8x9x")),ISNUMBER(FIND(MID(H11,6,1)&"x","0x1x2x3x4x5x6x7x8x9x")),ISNUMBER(FIND(MID(H11,7,1)&"x","0x1x2x3x4x5x6x7x8x9x")),ISNUMBER(FIND(MID(H11,8,1)&"x","0x1x2x3x4x5x6x7x8x9x"))))),"確認済借用者IDが必須",IF(AND(G11<>"確認済",COUNTA(H11)>0),"未確認/対象外の借用者IDは空欄",IF(AND(OR(F11="貸出中",F11="返却済"),NOT(IF(ISNUMBER(I11),AND(I11>=43831,I11<=73050,I11=INT(I11)),FALSE()))),"貸出日が必須",IF(AND(COUNTA(I11)>0,NOT(IF(ISNUMBER(I11),AND(I11>=43831,I11<=73050,I11=INT(I11)),FALSE()))),"貸出日は2020〜2099年/時刻なし",IF(AND(COUNTA(J11)>0,NOT(IF(ISNUMBER(J11),AND(J11>=43831,J11<=73050,J11=INT(J11)),FALSE()))),"返却期日は2020〜2099年/時刻なし",IF(AND(COUNTA(J11)>0,OR(COUNTA(I11)=0,J11<I11)),"期日は貸出日以上/貸出日必須",IF(AND(F11="返却済",NOT(IF(ISNUMBER(K11),AND(K11>=43831,K11<=73050,K11=INT(K11)),FALSE()))),"返却済の返却日が必須",IF(AND(F11<>"返却済",COUNTA(K11)>0),"返却済以外の返却日は空欄",IF(AND(F11="返却済",K11<I11),"返却日は貸出日以上",IF(NOT(OR(L11="確認済",L11="要対応",L11="未確認")),"状態確認を記録",IF(NOT(OR(M11="確認済",M11="未確認")),"現物区分を確認",IF(AND(M11="確認済",NOT(IF(ISNUMBER(N11),AND(N11>=43831,N11<=73050,N11=INT(N11)),FALSE()))),"現物確認日が必須",IF(AND(M11="未確認",COUNTA(N11)>0),"現物未確認の日付は空欄",IF(NOT(IF(ISNUMBER(O11),AND(O11>=43831,O11<=73050,O11=INT(O11)),FALSE())),"記録確認日が必須",IF(OR(O11>備品の確認!$B$3,AND(COUNTA(I11)>0,I11>O11),AND(F11="返却済",K11>O11),AND(M11="確認済",N11>O11)),"貸出/返却/現物日≦記録確認日≦基準日","確認済み")))))))))))))))))))))))))),ISNUMBER(W11),W11=IF(V11="確認済み",0,1))),1,IF(W11<>0,0,IF(AND(IF(AND(F11="貸出中",COUNTA(J11)>0),ISNUMBER(P11),ISTEXT(P11)),P11=IF(AND(F11="貸出中",COUNTA(J11)>0),J11-備品の確認!$B$3,""),IF(AND(F11="返却済",COUNTA(J11)>0),ISNUMBER(Q11),ISTEXT(Q11)),Q11=IF(AND(F11="返却済",COUNTA(J11)>0),K11-J11,""),IF(M11="確認済",ISNUMBER(R11),ISTEXT(R11)),R11=IF(M11="確認済",備品の確認!$B$3-N11,""),ISTEXT(S11),S11=IF(M11="未確認","現物未確認",IF(R11>備品の確認!$E$3,"確認間隔超過","確認間隔内")),ISTEXT(T11),T11=IF(F11="保管中","保管記録",IF(F11="返却済","返却記録",IF(F11="未確認","利用未確認",IF(COUNTA(J11)=0,"期限未確認",IF(P11<0,"返却期限超過",IF(P11=0,"返却期日","貸出中")))))),ISNUMBER(U11),U11=IF(OR(B11="未確認",D11="未確認",F11="未確認",G11="未確認",L11<>"確認済",M11="未確認",S11="確認間隔超過",AND(F11="貸出中",OR(COUNTA(J11)=0,P11<=0))),1,0)),0,1)))) -> 0
A12: AST-0005 | B12: その他 | C12: LOC-0002 | D12: 確認済 | E12: LOC-0005 | F12: 貸出中 | G12: 確認済 | H12: PER-0003 | I12: 46315 | L12: 要対応 | M12: 確認済 | N12: 46326 | O12: 46326 | P12: =IF(V12="","",IF(W12<>0,NA(),IF(AND(F12="貸出中",COUNTA(J12)>0),J12-備品の確認!$B$3,""))) | Q12: =IF(V12="","",IF(W12<>0,NA(),IF(AND(F12="返却済",COUNTA(J12)>0),K12-J12,""))) | R12: =IF(V12="","",IF(W12<>0,NA(),IF(M12="確認済",備品の確認!$B$3-N12,""))) -> 0 | S12: =IF(V12="","",IF(W12<>0,NA(),IF(M12="未確認","現物未確認",IF(R12>備品の確認!$E$3,"確認間隔超過","確認間隔内")))) -> 確認間隔内 | T12: =IF(V12="","",IF(W12<>0,NA(),IF(F12="保管中","保管記録",IF(F12="返却済","返却記録",IF(F12="未確認","利用未確認",IF(COUNTA(J12)=0,"期限未確認",IF(P12<0,"返却期限超過",IF(P12=0,"返却期日","貸出中")))))))) -> 期限未確認 | U12: =IF(V12="","",IF(W12<>0,NA(),IF(OR(B12="未確認",D12="未確認",F12="未確認",G12="未確認",L12<>"確認済",M12="未確認",S12="確認間隔超過",AND(F12="貸出中",OR(COUNTA(J12)=0,P12<=0))),1,0))) -> 1 | V12: =IF(COUNTA(A12:O12)=0,"",IF(NOT(AND(ISTEXT(A12),LEN(A12)=8,EXACT(LEFT(A12,4),"AST-"),ISNUMBER(FIND(MID(A12,5,1)&"x","0x1x2x3x4x5x6x7x8x9x")),ISNUMBER(FIND(MID(A12,6,1)&"x","0x1x2x3x4x5x6x7x8x9x")),ISNUMBER(FIND(MID(A12,7,1)&"x","0x1x2x3x4x5x6x7x8x9x")),ISNUMBER(FIND(MID(A12,8,1)&"x","0x1x2x3x4x5x6x7x8x9x")))),"備品IDはAST-と半角数字4桁",IF(COUNTIFS($A$8:$A$57,A12)>1,"備品IDが重複",IF(NOT(OR(B12="PC",B12="周辺機器",B12="工具",B12="その他",B12="未確認")),"種類を確認",IF(NOT(AND(ISTEXT(C12),LEN(C12)=8,EXACT(LEFT(C12,4),"LOC-"),ISNUMBER(FIND(MID(C12,5,1)&"x","0x1x2x3x4x5x6x7x8x9x")),ISNUMBER(FIND(MID(C12,6,1)&"x","0x1x2x3x4x5x6x7x8x9x")),ISNUMBER(FIND(MID(C12,7,1)&"x","0x1x2x3x4x5x6x7x8x9x")),ISNUMBER(FIND(MID(C12,8,1)&"x","0x1x2x3x4x5x6x7x8x9x")))),"登録保管先IDはLOC-と半角数字4桁",IF(NOT(OR(D12="確認済",D12="未確認")),"所在区分を確認",IF(AND(D12="確認済",NOT(AND(ISTEXT(E12),LEN(E12)=8,EXACT(LEFT(E12,4),"LOC-"),ISNUMBER(FIND(MID(E12,5,1)&"x","0x1x2x3x4x5x6x7x8x9x")),ISNUMBER(FIND(MID(E12,6,1)&"x","0x1x2x3x4x5x6x7x8x9x")),ISNUMBER(FIND(MID(E12,7,1)&"x","0x1x2x3x4x5x6x7x8x9x")),ISNUMBER(FIND(MID(E12,8,1)&"x","0x1x2x3x4x5x6x7x8x9x"))))),"確認済所在IDが必須",IF(AND(D12="未確認",COUNTA(E12)>0),"所在未確認は所在ID空欄",IF(NOT(OR(F12="保管中",F12="貸出中",F12="返却済",F12="未確認")),"利用区分を確認",IF(AND(F12="保管中",NOT(AND(G12="対象外",COUNTA(H12:K12)=0))),"保管中の借用者は対象外/貸出欄は空欄",IF(AND(F12<>"保管中",NOT(OR(G12="確認済",G12="未確認"))),"借用者を確認/未確認で記録",IF(AND(G12="確認済",NOT(AND(ISTEXT(H12),LEN(H12)=8,EXACT(LEFT(H12,4),"PER-"),ISNUMBER(FIND(MID(H12,5,1)&"x","0x1x2x3x4x5x6x7x8x9x")),ISNUMBER(FIND(MID(H12,6,1)&"x","0x1x2x3x4x5x6x7x8x9x")),ISNUMBER(FIND(MID(H12,7,1)&"x","0x1x2x3x4x5x6x7x8x9x")),ISNUMBER(FIND(MID(H12,8,1)&"x","0x1x2x3x4x5x6x7x8x9x"))))),"確認済借用者IDが必須",IF(AND(G12<>"確認済",COUNTA(H12)>0),"未確認/対象外の借用者IDは空欄",IF(AND(OR(F12="貸出中",F12="返却済"),NOT(IF(ISNUMBER(I12),AND(I12>=43831,I12<=73050,I12=INT(I12)),FALSE()))),"貸出日が必須",IF(AND(COUNTA(I12)>0,NOT(IF(ISNUMBER(I12),AND(I12>=43831,I12<=73050,I12=INT(I12)),FALSE()))),"貸出日は2020〜2099年/時刻なし",IF(AND(COUNTA(J12)>0,NOT(IF(ISNUMBER(J12),AND(J12>=43831,J12<=73050,J12=INT(J12)),FALSE()))),"返却期日は2020〜2099年/時刻なし",IF(AND(COUNTA(J12)>0,OR(COUNTA(I12)=0,J12<I12)),"期日は貸出日以上/貸出日必須",IF(AND(F12="返却済",NOT(IF(ISNUMBER(K12),AND(K12>=43831,K12<=73050,K12=INT(K12)),FALSE()))),"返却済の返却日が必須",IF(AND(F12<>"返却済",COUNTA(K12)>0),"返却済以外の返却日は空欄",IF(AND(F12="返却済",K12<I12),"返却日は貸出日以上",IF(NOT(OR(L12="確認済",L12="要対応",L12="未確認")),"状態確認を記録",IF(NOT(OR(M12="確認済",M12="未確認")),"現物区分を確認",IF(AND(M12="確認済",NOT(IF(ISNUMBER(N12),AND(N12>=43831,N12<=73050,N12=INT(N12)),FALSE()))),"現物確認日が必須",IF(AND(M12="未確認",COUNTA(N12)>0),"現物未確認の日付は空欄",IF(NOT(IF(ISNUMBER(O12),AND(O12>=43831,O12<=73050,O12=INT(O12)),FALSE())),"記録確認日が必須",IF(OR(O12>備品の確認!$B$3,AND(COUNTA(I12)>0,I12>O12),AND(F12="返却済",K12>O12),AND(M12="確認済",N12>O12)),"貸出/返却/現物日≦記録確認日≦基準日","確認済み")))))))))))))))))))))))))) -> 確認済み | W12: =IF(V12="","",IF(V12="確認済み",0,1)) -> 0 | X12: =IF(COUNTA(A12:O12)=0,IF(AND(V12="",W12="",P12="",Q12="",R12="",S12="",T12="",U12=""),0,1),IF(NOT(AND(ISTEXT(V12),V12=IF(COUNTA(A12:O12)=0,"",IF(NOT(AND(ISTEXT(A12),LEN(A12)=8,EXACT(LEFT(A12,4),"AST-"),ISNUMBER(FIND(MID(A12,5,1)&"x","0x1x2x3x4x5x6x7x8x9x")),ISNUMBER(FIND(MID(A12,6,1)&"x","0x1x2x3x4x5x6x7x8x9x")),ISNUMBER(FIND(MID(A12,7,1)&"x","0x1x2x3x4x5x6x7x8x9x")),ISNUMBER(FIND(MID(A12,8,1)&"x","0x1x2x3x4x5x6x7x8x9x")))),"備品IDはAST-と半角数字4桁",IF(COUNTIFS($A$8:$A$57,A12)>1,"備品IDが重複",IF(NOT(OR(B12="PC",B12="周辺機器",B12="工具",B12="その他",B12="未確認")),"種類を確認",IF(NOT(AND(ISTEXT(C12),LEN(C12)=8,EXACT(LEFT(C12,4),"LOC-"),ISNUMBER(FIND(MID(C12,5,1)&"x","0x1x2x3x4x5x6x7x8x9x")),ISNUMBER(FIND(MID(C12,6,1)&"x","0x1x2x3x4x5x6x7x8x9x")),ISNUMBER(FIND(MID(C12,7,1)&"x","0x1x2x3x4x5x6x7x8x9x")),ISNUMBER(FIND(MID(C12,8,1)&"x","0x1x2x3x4x5x6x7x8x9x")))),"登録保管先IDはLOC-と半角数字4桁",IF(NOT(OR(D12="確認済",D12="未確認")),"所在区分を確認",IF(AND(D12="確認済",NOT(AND(ISTEXT(E12),LEN(E12)=8,EXACT(LEFT(E12,4),"LOC-"),ISNUMBER(FIND(MID(E12,5,1)&"x","0x1x2x3x4x5x6x7x8x9x")),ISNUMBER(FIND(MID(E12,6,1)&"x","0x1x2x3x4x5x6x7x8x9x")),ISNUMBER(FIND(MID(E12,7,1)&"x","0x1x2x3x4x5x6x7x8x9x")),ISNUMBER(FIND(MID(E12,8,1)&"x","0x1x2x3x4x5x6x7x8x9x"))))),"確認済所在IDが必須",IF(AND(D12="未確認",COUNTA(E12)>0),"所在未確認は所在ID空欄",IF(NOT(OR(F12="保管中",F12="貸出中",F12="返却済",F12="未確認")),"利用区分を確認",IF(AND(F12="保管中",NOT(AND(G12="対象外",COUNTA(H12:K12)=0))),"保管中の借用者は対象外/貸出欄は空欄",IF(AND(F12<>"保管中",NOT(OR(G12="確認済",G12="未確認"))),"借用者を確認/未確認で記録",IF(AND(G12="確認済",NOT(AND(ISTEXT(H12),LEN(H12)=8,EXACT(LEFT(H12,4),"PER-"),ISNUMBER(FIND(MID(H12,5,1)&"x","0x1x2x3x4x5x6x7x8x9x")),ISNUMBER(FIND(MID(H12,6,1)&"x","0x1x2x3x4x5x6x7x8x9x")),ISNUMBER(FIND(MID(H12,7,1)&"x","0x1x2x3x4x5x6x7x8x9x")),ISNUMBER(FIND(MID(H12,8,1)&"x","0x1x2x3x4x5x6x7x8x9x"))))),"確認済借用者IDが必須",IF(AND(G12<>"確認済",COUNTA(H12)>0),"未確認/対象外の借用者IDは空欄",IF(AND(OR(F12="貸出中",F12="返却済"),NOT(IF(ISNUMBER(I12),AND(I12>=43831,I12<=73050,I12=INT(I12)),FALSE()))),"貸出日が必須",IF(AND(COUNTA(I12)>0,NOT(IF(ISNUMBER(I12),AND(I12>=43831,I12<=73050,I12=INT(I12)),FALSE()))),"貸出日は2020〜2099年/時刻なし",IF(AND(COUNTA(J12)>0,NOT(IF(ISNUMBER(J12),AND(J12>=43831,J12<=73050,J12=INT(J12)),FALSE()))),"返却期日は2020〜2099年/時刻なし",IF(AND(COUNTA(J12)>0,OR(COUNTA(I12)=0,J12<I12)),"期日は貸出日以上/貸出日必須",IF(AND(F12="返却済",NOT(IF(ISNUMBER(K12),AND(K12>=43831,K12<=73050,K12=INT(K12)),FALSE()))),"返却済の返却日が必須",IF(AND(F12<>"返却済",COUNTA(K12)>0),"返却済以外の返却日は空欄",IF(AND(F12="返却済",K12<I12),"返却日は貸出日以上",IF(NOT(OR(L12="確認済",L12="要対応",L12="未確認")),"状態確認を記録",IF(NOT(OR(M12="確認済",M12="未確認")),"現物区分を確認",IF(AND(M12="確認済",NOT(IF(ISNUMBER(N12),AND(N12>=43831,N12<=73050,N12=INT(N12)),FALSE()))),"現物確認日が必須",IF(AND(M12="未確認",COUNTA(N12)>0),"現物未確認の日付は空欄",IF(NOT(IF(ISNUMBER(O12),AND(O12>=43831,O12<=73050,O12=INT(O12)),FALSE())),"記録確認日が必須",IF(OR(O12>備品の確認!$B$3,AND(COUNTA(I12)>0,I12>O12),AND(F12="返却済",K12>O12),AND(M12="確認済",N12>O12)),"貸出/返却/現物日≦記録確認日≦基準日","確認済み")))))))))))))))))))))))))),ISNUMBER(W12),W12=IF(V12="確認済み",0,1))),1,IF(W12<>0,0,IF(AND(IF(AND(F12="貸出中",COUNTA(J12)>0),ISNUMBER(P12),ISTEXT(P12)),P12=IF(AND(F12="貸出中",COUNTA(J12)>0),J12-備品の確認!$B$3,""),IF(AND(F12="返却済",COUNTA(J12)>0),ISNUMBER(Q12),ISTEXT(Q12)),Q12=IF(AND(F12="返却済",COUNTA(J12)>0),K12-J12,""),IF(M12="確認済",ISNUMBER(R12),ISTEXT(R12)),R12=IF(M12="確認済",備品の確認!$B$3-N12,""),ISTEXT(S12),S12=IF(M12="未確認","現物未確認",IF(R12>備品の確認!$E$3,"確認間隔超過","確認間隔内")),ISTEXT(T12),T12=IF(F12="保管中","保管記録",IF(F12="返却済","返却記録",IF(F12="未確認","利用未確認",IF(COUNTA(J12)=0,"期限未確認",IF(P12<0,"返却期限超過",IF(P12=0,"返却期日","貸出中")))))),ISNUMBER(U12),U12=IF(OR(B12="未確認",D12="未確認",F12="未確認",G12="未確認",L12<>"確認済",M12="未確認",S12="確認間隔超過",AND(F12="貸出中",OR(COUNTA(J12)=0,P12<=0))),1,0)),0,1)))) -> 0
A13: AST-0006 | B13: PC | C13: LOC-0002 | D13: 確認済 | E13: LOC-0002 | F13: 返却済 | G13: 確認済 | H13: PER-0004 | I13: 46296 | J13: 46315 | K13: 46320 | L13: 要対応 | M13: 未確認 | O13: 46326 | P13: =IF(V13="","",IF(W13<>0,NA(),IF(AND(F13="貸出中",COUNTA(J13)>0),J13-備品の確認!$B$3,""))) | Q13: =IF(V13="","",IF(W13<>0,NA(),IF(AND(F13="返却済",COUNTA(J13)>0),K13-J13,""))) -> 5 | R13: =IF(V13="","",IF(W13<>0,NA(),IF(M13="確認済",備品の確認!$B$3-N13,""))) | S13: =IF(V13="","",IF(W13<>0,NA(),IF(M13="未確認","現物未確認",IF(R13>備品の確認!$E$3,"確認間隔超過","確認間隔内")))) -> 現物未確認 | T13: =IF(V13="","",IF(W13<>0,NA(),IF(F13="保管中","保管記録",IF(F13="返却済","返却記録",IF(F13="未確認","利用未確認",IF(COUNTA(J13)=0,"期限未確認",IF(P13<0,"返却期限超過",IF(P13=0,"返却期日","貸出中")))))))) -> 返却記録 | U13: =IF(V13="","",IF(W13<>0,NA(),IF(OR(B13="未確認",D13="未確認",F13="未確認",G13="未確認",L13<>"確認済",M13="未確認",S13="確認間隔超過",AND(F13="貸出中",OR(COUNTA(J13)=0,P13<=0))),1,0))) -> 1 | V13: =IF(COUNTA(A13:O13)=0,"",IF(NOT(AND(ISTEXT(A13),LEN(A13)=8,EXACT(LEFT(A13,4),"AST-"),ISNUMBER(FIND(MID(A13,5,1)&"x","0x1x2x3x4x5x6x7x8x9x")),ISNUMBER(FIND(MID(A13,6,1)&"x","0x1x2x3x4x5x6x7x8x9x")),ISNUMBER(FIND(MID(A13,7,1)&"x","0x1x2x3x4x5x6x7x8x9x")),ISNUMBER(FIND(MID(A13,8,1)&"x","0x1x2x3x4x5x6x7x8x9x")))),"備品IDはAST-と半角数字4桁",IF(COUNTIFS($A$8:$A$57,A13)>1,"備品IDが重複",IF(NOT(OR(B13="PC",B13="周辺機器",B13="工具",B13="その他",B13="未確認")),"種類を確認",IF(NOT(AND(ISTEXT(C13),LEN(C13)=8,EXACT(LEFT(C13,4),"LOC-"),ISNUMBER(FIND(MID(C13,5,1)&"x","0x1x2x3x4x5x6x7x8x9x")),ISNUMBER(FIND(MID(C13,6,1)&"x","0x1x2x3x4x5x6x7x8x9x")),ISNUMBER(FIND(MID(C13,7,1)&"x","0x1x2x3x4x5x6x7x8x9x")),ISNUMBER(FIND(MID(C13,8,1)&"x","0x1x2x3x4x5x6x7x8x9x")))),"登録保管先IDはLOC-と半角数字4桁",IF(NOT(OR(D13="確認済",D13="未確認")),"所在区分を確認",IF(AND(D13="確認済",NOT(AND(ISTEXT(E13),LEN(E13)=8,EXACT(LEFT(E13,4),"LOC-"),ISNUMBER(FIND(MID(E13,5,1)&"x","0x1x2x3x4x5x6x7x8x9x")),ISNUMBER(FIND(MID(E13,6,1)&"x","0x1x2x3x4x5x6x7x8x9x")),ISNUMBER(FIND(MID(E13,7,1)&"x","0x1x2x3x4x5x6x7x8x9x")),ISNUMBER(FIND(MID(E13,8,1)&"x","0x1x2x3x4x5x6x7x8x9x"))))),"確認済所在IDが必須",IF(AND(D13="未確認",COUNTA(E13)>0),"所在未確認は所在ID空欄",IF(NOT(OR(F13="保管中",F13="貸出中",F13="返却済",F13="未確認")),"利用区分を確認",IF(AND(F13="保管中",NOT(AND(G13="対象外",COUNTA(H13:K13)=0))),"保管中の借用者は対象外/貸出欄は空欄",IF(AND(F13<>"保管中",NOT(OR(G13="確認済",G13="未確認"))),"借用者を確認/未確認で記録",IF(AND(G13="確認済",NOT(AND(ISTEXT(H13),LEN(H13)=8,EXACT(LEFT(H13,4),"PER-"),ISNUMBER(FIND(MID(H13,5,1)&"x","0x1x2x3x4x5x6x7x8x9x")),ISNUMBER(FIND(MID(H13,6,1)&"x","0x1x2x3x4x5x6x7x8x9x")),ISNUMBER(FIND(MID(H13,7,1)&"x","0x1x2x3x4x5x6x7x8x9x")),ISNUMBER(FIND(MID(H13,8,1)&"x","0x1x2x3x4x5x6x7x8x9x"))))),"確認済借用者IDが必須",IF(AND(G13<>"確認済",COUNTA(H13)>0),"未確認/対象外の借用者IDは空欄",IF(AND(OR(F13="貸出中",F13="返却済"),NOT(IF(ISNUMBER(I13),AND(I13>=43831,I13<=73050,I13=INT(I13)),FALSE()))),"貸出日が必須",IF(AND(COUNTA(I13)>0,NOT(IF(ISNUMBER(I13),AND(I13>=43831,I13<=73050,I13=INT(I13)),FALSE()))),"貸出日は2020〜2099年/時刻なし",IF(AND(COUNTA(J13)>0,NOT(IF(ISNUMBER(J13),AND(J13>=43831,J13<=73050,J13=INT(J13)),FALSE()))),"返却期日は2020〜2099年/時刻なし",IF(AND(COUNTA(J13)>0,OR(COUNTA(I13)=0,J13<I13)),"期日は貸出日以上/貸出日必須",IF(AND(F13="返却済",NOT(IF(ISNUMBER(K13),AND(K13>=43831,K13<=73050,K13=INT(K13)),FALSE()))),"返却済の返却日が必須",IF(AND(F13<>"返却済",COUNTA(K13)>0),"返却済以外の返却日は空欄",IF(AND(F13="返却済",K13<I13),"返却日は貸出日以上",IF(NOT(OR(L13="確認済",L13="要対応",L13="未確認")),"状態確認を記録",IF(NOT(OR(M13="確認済",M13="未確認")),"現物区分を確認",IF(AND(M13="確認済",NOT(IF(ISNUMBER(N13),AND(N13>=43831,N13<=73050,N13=INT(N13)),FALSE()))),"現物確認日が必須",IF(AND(M13="未確認",COUNTA(N13)>0),"現物未確認の日付は空欄",IF(NOT(IF(ISNUMBER(O13),AND(O13>=43831,O13<=73050,O13=INT(O13)),FALSE())),"記録確認日が必須",IF(OR(O13>備品の確認!$B$3,AND(COUNTA(I13)>0,I13>O13),AND(F13="返却済",K13>O13),AND(M13="確認済",N13>O13)),"貸出/返却/現物日≦記録確認日≦基準日","確認済み")))))))))))))))))))))))))) -> 確認済み | W13: =IF(V13="","",IF(V13="確認済み",0,1)) -> 0 | X13: =IF(COUNTA(A13:O13)=0,IF(AND(V13="",W13="",P13="",Q13="",R13="",S13="",T13="",U13=""),0,1),IF(NOT(AND(ISTEXT(V13),V13=IF(COUNTA(A13:O13)=0,"",IF(NOT(AND(ISTEXT(A13),LEN(A13)=8,EXACT(LEFT(A13,4),"AST-"),ISNUMBER(FIND(MID(A13,5,1)&"x","0x1x2x3x4x5x6x7x8x9x")),ISNUMBER(FIND(MID(A13,6,1)&"x","0x1x2x3x4x5x6x7x8x9x")),ISNUMBER(FIND(MID(A13,7,1)&"x","0x1x2x3x4x5x6x7x8x9x")),ISNUMBER(FIND(MID(A13,8,1)&"x","0x1x2x3x4x5x6x7x8x9x")))),"備品IDはAST-と半角数字4桁",IF(COUNTIFS($A$8:$A$57,A13)>1,"備品IDが重複",IF(NOT(OR(B13="PC",B13="周辺機器",B13="工具",B13="その他",B13="未確認")),"種類を確認",IF(NOT(AND(ISTEXT(C13),LEN(C13)=8,EXACT(LEFT(C13,4),"LOC-"),ISNUMBER(FIND(MID(C13,5,1)&"x","0x1x2x3x4x5x6x7x8x9x")),ISNUMBER(FIND(MID(C13,6,1)&"x","0x1x2x3x4x5x6x7x8x9x")),ISNUMBER(FIND(MID(C13,7,1)&"x","0x1x2x3x4x5x6x7x8x9x")),ISNUMBER(FIND(MID(C13,8,1)&"x","0x1x2x3x4x5x6x7x8x9x")))),"登録保管先IDはLOC-と半角数字4桁",IF(NOT(OR(D13="確認済",D13="未確認")),"所在区分を確認",IF(AND(D13="確認済",NOT(AND(ISTEXT(E13),LEN(E13)=8,EXACT(LEFT(E13,4),"LOC-"),ISNUMBER(FIND(MID(E13,5,1)&"x","0x1x2x3x4x5x6x7x8x9x")),ISNUMBER(FIND(MID(E13,6,1)&"x","0x1x2x3x4x5x6x7x8x9x")),ISNUMBER(FIND(MID(E13,7,1)&"x","0x1x2x3x4x5x6x7x8x9x")),ISNUMBER(FIND(MID(E13,8,1)&"x","0x1x2x3x4x5x6x7x8x9x"))))),"確認済所在IDが必須",IF(AND(D13="未確認",COUNTA(E13)>0),"所在未確認は所在ID空欄",IF(NOT(OR(F13="保管中",F13="貸出中",F13="返却済",F13="未確認")),"利用区分を確認",IF(AND(F13="保管中",NOT(AND(G13="対象外",COUNTA(H13:K13)=0))),"保管中の借用者は対象外/貸出欄は空欄",IF(AND(F13<>"保管中",NOT(OR(G13="確認済",G13="未確認"))),"借用者を確認/未確認で記録",IF(AND(G13="確認済",NOT(AND(ISTEXT(H13),LEN(H13)=8,EXACT(LEFT(H13,4),"PER-"),ISNUMBER(FIND(MID(H13,5,1)&"x","0x1x2x3x4x5x6x7x8x9x")),ISNUMBER(FIND(MID(H13,6,1)&"x","0x1x2x3x4x5x6x7x8x9x")),ISNUMBER(FIND(MID(H13,7,1)&"x","0x1x2x3x4x5x6x7x8x9x")),ISNUMBER(FIND(MID(H13,8,1)&"x","0x1x2x3x4x5x6x7x8x9x"))))),"確認済借用者IDが必須",IF(AND(G13<>"確認済",COUNTA(H13)>0),"未確認/対象外の借用者IDは空欄",IF(AND(OR(F13="貸出中",F13="返却済"),NOT(IF(ISNUMBER(I13),AND(I13>=43831,I13<=73050,I13=INT(I13)),FALSE()))),"貸出日が必須",IF(AND(COUNTA(I13)>0,NOT(IF(ISNUMBER(I13),AND(I13>=43831,I13<=73050,I13=INT(I13)),FALSE()))),"貸出日は2020〜2099年/時刻なし",IF(AND(COUNTA(J13)>0,NOT(IF(ISNUMBER(J13),AND(J13>=43831,J13<=73050,J13=INT(J13)),FALSE()))),"返却期日は2020〜2099年/時刻なし",IF(AND(COUNTA(J13)>0,OR(COUNTA(I13)=0,J13<I13)),"期日は貸出日以上/貸出日必須",IF(AND(F13="返却済",NOT(IF(ISNUMBER(K13),AND(K13>=43831,K13<=73050,K13=INT(K13)),FALSE()))),"返却済の返却日が必須",IF(AND(F13<>"返却済",COUNTA(K13)>0),"返却済以外の返却日は空欄",IF(AND(F13="返却済",K13<I13),"返却日は貸出日以上",IF(NOT(OR(L13="確認済",L13="要対応",L13="未確認")),"状態確認を記録",IF(NOT(OR(M13="確認済",M13="未確認")),"現物区分を確認",IF(AND(M13="確認済",NOT(IF(ISNUMBER(N13),AND(N13>=43831,N13<=73050,N13=INT(N13)),FALSE()))),"現物確認日が必須",IF(AND(M13="未確認",COUNTA(N13)>0),"現物未確認の日付は空欄",IF(NOT(IF(ISNUMBER(O13),AND(O13>=43831,O13<=73050,O13=INT(O13)),FALSE())),"記録確認日が必須",IF(OR(O13>備品の確認!$B$3,AND(COUNTA(I13)>0,I13>O13),AND(F13="返却済",K13>O13),AND(M13="確認済",N13>O13)),"貸出/返却/現物日≦記録確認日≦基準日","確認済み")))))))))))))))))))))))))),ISNUMBER(W13),W13=IF(V13="確認済み",0,1))),1,IF(W13<>0,0,IF(AND(IF(AND(F13="貸出中",COUNTA(J13)>0),ISNUMBER(P13),ISTEXT(P13)),P13=IF(AND(F13="貸出中",COUNTA(J13)>0),J13-備品の確認!$B$3,""),IF(AND(F13="返却済",COUNTA(J13)>0),ISNUMBER(Q13),ISTEXT(Q13)),Q13=IF(AND(F13="返却済",COUNTA(J13)>0),K13-J13,""),IF(M13="確認済",ISNUMBER(R13),ISTEXT(R13)),R13=IF(M13="確認済",備品の確認!$B$3-N13,""),ISTEXT(S13),S13=IF(M13="未確認","現物未確認",IF(R13>備品の確認!$E$3,"確認間隔超過","確認間隔内")),ISTEXT(T13),T13=IF(F13="保管中","保管記録",IF(F13="返却済","返却記録",IF(F13="未確認","利用未確認",IF(COUNTA(J13)=0,"期限未確認",IF(P13<0,"返却期限超過",IF(P13=0,"返却期日","貸出中")))))),ISNUMBER(U13),U13=IF(OR(B13="未確認",D13="未確認",F13="未確認",G13="未確認",L13<>"確認済",M13="未確認",S13="確認間隔超過",AND(F13="貸出中",OR(COUNTA(J13)=0,P13<=0))),1,0)),0,1)))) -> 0
