Workbook

Sheet 精算一覧
A2: 経費精算の確認 | I2: 期間の前提 | J2: 入力不備（件）
A3: 期間開始 | B3: 46296 | D3: 期間終了 | E3: 46326 | G3: 基準日 | H3: 46310 | I3: =IF(AND(AND(ISNUMBER(B3),B3>=43831,B3<=73050,B3=INT(B3)),AND(ISNUMBER(E3),E3>=43831,E3<=73050,E3=INT(E3)),AND(ISNUMBER(H3),H3>=43831,H3<=73050,H3=INT(H3)),B3<=H3,H3<=E3),0,1) -> 0 | J3: =I3+SUM(支出明細!L8:L57)+SUM(支出明細!N8:N57) -> 0
A4: 支出合計 | B4: =IF($J$3=0,SUMIFS(支出明細!G8:G57,支出明細!M8:M57,"<>期間外",支出明細!M8:M57,"<>"),NA()) -> 11600 | D4: 対象立替額 | E4: =IF($J$3=0,SUM(G10:G59),NA()) -> 5800 | G4: 未精算額 | H4: =IF($J$3=0,SUM(H10:H59),NA()) -> 1200
A5: 精算済額 | B5: =IF($J$3=0,SUMIFS(支出明細!G8:G57,支出明細!M8:M57,"精算済"),NA()) -> 3000 | D5: 証憑保留額 | E5: =IF($J$3=0,SUMIFS(支出明細!G8:G57,支出明細!M8:M57,"証憑保留"),NA()) -> 1600 | G5: 会社払い額 | H5: =IF($J$3=0,SUMIFS(支出明細!G8:G57,支出明細!M8:M57,"会社払い"),NA()) -> 5000
A6: 対象外立替 | B6: =IF($J$3=0,SUMIFS(支出明細!G8:G57,支出明細!M8:M57,"対象外"),NA()) -> 800 | D6: 証憑保留件数 | E6: =IF($J$3=0,COUNTIFS(支出明細!M8:M57,"証憑保留"),NA()) -> 1 | G6: 照合差額 | H6: =E4-H4-B5-E5 -> 0
A7: 黄色の日付と支出明細を入力し、証憑保留を未精算と分けて確認します。 | H7: =IF(J3=0,"入力不備なし","入力を確認") -> 入力不備なし
A9: 支出ID | B9: 支出日 | C9: 支払先 / 内容 | D9: 支払者 | E9: 証憑 | F9: 基準日の区分 | G9: 対象立替（円） | H9: 未精算（円）
A10: =IF(支出明細!K8<>"",支出明細!A8,"") -> EXP-0001 | B10: =IF(支出明細!K8<>"",支出明細!B8,"") -> 46296 | C10: =IF(支出明細!K8<>"",CLEAN(支出明細!C8)&CHAR(10)&CLEAN(支出明細!D8),"") -> 架空鉄道 往復交通費 | D10: =IF(支出明細!K8<>"",支出明細!F8,"") -> 本人立替 | E10: =IF(支出明細!K8<>"",支出明細!I8,"") -> 確認済 | F10: =IF(支出明細!K8<>"",支出明細!M8,"") -> 未精算 | G10: =IF(支出明細!K8<>"",IF($J$3<>0,NA(),IF(OR(F10="証憑保留",F10="精算済",F10="未精算"),支出明細!G8,0)),"") -> 1200 | H10: =IF(支出明細!K8<>"",IF($J$3<>0,NA(),IF(F10="未精算",G10,0)),"") -> 1200
A11: =IF(支出明細!K9<>"",支出明細!A9,"") -> EXP-0002 | B11: =IF(支出明細!K9<>"",支出明細!B9,"") -> 46298 | C11: =IF(支出明細!K9<>"",CLEAN(支出明細!C9)&CHAR(10)&CLEAN(支出明細!D9),"") -> 架空文具店 コピー用紙 | D11: =IF(支出明細!K9<>"",支出明細!F9,"") -> 本人立替 | E11: =IF(支出明細!K9<>"",支出明細!I9,"") -> 確認済 | F11: =IF(支出明細!K9<>"",支出明細!M9,"") -> 精算済 | G11: =IF(支出明細!K9<>"",IF($J$3<>0,NA(),IF(OR(F11="証憑保留",F11="精算済",F11="未精算"),支出明細!G9,0)),"") -> 3000 | H11: =IF(支出明細!K9<>"",IF($J$3<>0,NA(),IF(F11="未精算",G11,0)),"") -> 0
A12: =IF(支出明細!K10<>"",支出明細!A10,"") -> EXP-0003 | B12: =IF(支出明細!K10<>"",支出明細!B10,"") -> 46300 | C12: =IF(支出明細!K10<>"",CLEAN(支出明細!C10)&CHAR(10)&CLEAN(支出明細!D10),"") -> 架空通信 オンライン通話 | D12: =IF(支出明細!K10<>"",支出明細!F10,"") -> 会社払い | E12: =IF(支出明細!K10<>"",支出明細!I10,"") -> 確認済 | F12: =IF(支出明細!K10<>"",支出明細!M10,"") -> 会社払い | G12: =IF(支出明細!K10<>"",IF($J$3<>0,NA(),IF(OR(F12="証憑保留",F12="精算済",F12="未精算"),支出明細!G10,0)),"") -> 0 | H12: =IF(支出明細!K10<>"",IF($J$3<>0,NA(),IF(F12="未精算",G12,0)),"") -> 0
A13: =IF(支出明細!K11<>"",支出明細!A11,"") -> EXP-0004 | B13: =IF(支出明細!K11<>"",支出明細!B11,"") -> 46303 | C13: =IF(支出明細!K11<>"",CLEAN(支出明細!C11)&CHAR(10)&CLEAN(支出明細!D11),"") -> 架空小売 参考品 | D13: =IF(支出明細!K11<>"",支出明細!F11,"") -> 本人立替 | E13: =IF(支出明細!K11<>"",支出明細!I11,"") -> 確認済 | F13: =IF(支出明細!K11<>"",支出明細!M11,"") -> 対象外 | G13: =IF(支出明細!K11<>"",IF($J$3<>0,NA(),IF(OR(F13="証憑保留",F13="精算済",F13="未精算"),支出明細!G11,0)),"") -> 0 | H13: =IF(支出明細!K11<>"",IF($J$3<>0,NA(),IF(F13="未精算",G13,0)),"") -> 0
A14: =IF(支出明細!K12<>"",支出明細!A12,"") -> EXP-0005 | B14: =IF(支出明細!K12<>"",支出明細!B12,"") -> 46307 | C14: =IF(支出明細!K12<>"",CLEAN(支出明細!C12)&CHAR(10)&CLEAN(支出明細!D12),"") -> 架空鉄道 追加交通費 | D14: =IF(支出明細!K12<>"",支出明細!F12,"") -> 本人立替 | E14: =IF(支出明細!K12<>"",支出明細!I12,"") -> 要確認 | F14: =IF(支出明細!K12<>"",支出明細!M12,"") -> 証憑保留 | G14: =IF(支出明細!K12<>"",IF($J$3<>0,NA(),IF(OR(F14="証憑保留",F14="精算済",F14="未精算"),支出明細!G12,0)),"") -> 1600 | H14: =IF(支出明細!K12<>"",IF($J$3<>0,NA(),IF(F14="未精算",G14,0)),"") -> 0
A15: =IF(支出明細!K13<>"",支出明細!A13,"") -> EXP-0006 | B15: =IF(支出明細!K13<>"",支出明細!B13,"") -> 46311 | C15: =IF(支出明細!K13<>"",CLEAN(支出明細!C13)&CHAR(10)&CLEAN(支出明細!D13),"") -> 架空文具店 消耗品追加 | D15: =IF(支出明細!K13<>"",支出明細!F13,"") -> 本人立替 | E15: =IF(支出明細!K13<>"",支出明細!I13,"") -> 確認済 | F15: =IF(支出明細!K13<>"",支出明細!M13,"") -> 期間外 | G15: =IF(支出明細!K13<>"",IF($J$3<>0,NA(),IF(OR(F15="証憑保留",F15="精算済",F15="未精算"),支出明細!G13,0)),"") -> 0 | H15: =IF(支出明細!K13<>"",IF($J$3<>0,NA(),IF(F15="未精算",G15,0)),"") -> 0
A16: =IF(支出明細!K14<>"",支出明細!A14,"") -> EXP-0007 | B16: =IF(支出明細!K14<>"",支出明細!B14,"") -> 46295 | C16: =IF(支出明細!K14<>"",CLEAN(支出明細!C14)&CHAR(10)&CLEAN(支出明細!D14),"") -> 架空店舗 前月小物 | D16: =IF(支出明細!K14<>"",支出明細!F14,"") -> 本人立替 | E16: =IF(支出明細!K14<>"",支出明細!I14,"") -> 確認済 | F16: =IF(支出明細!K14<>"",支出明細!M14,"") -> 期間外 | G16: =IF(支出明細!K14<>"",IF($J$3<>0,NA(),IF(OR(F16="証憑保留",F16="精算済",F16="未精算"),支出明細!G14,0)),"") -> 0 | H16: =IF(支出明細!K14<>"",IF($J$3<>0,NA(),IF(F16="未精算",G16,0)),"") -> 0
A17: =IF(支出明細!K15<>"",支出明細!A15,"") | B17: =IF(支出明細!K15<>"",支出明細!B15,"") | C17: =IF(支出明細!K15<>"",CLEAN(支出明細!C15)&CHAR(10)&CLEAN(支出明細!D15),"") | D17: =IF(支出明細!K15<>"",支出明細!F15,"") | E17: =IF(支出明細!K15<>"",支出明細!I15,"") | F17: =IF(支出明細!K15<>"",支出明細!M15,"") | G17: =IF(支出明細!K15<>"",IF($J$3<>0,NA(),IF(OR(F17="証憑保留",F17="精算済",F17="未精算"),支出明細!G15,0)),"") | H17: =IF(支出明細!K15<>"",IF($J$3<>0,NA(),IF(F17="未精算",G17,0)),"")
A18: =IF(支出明細!K16<>"",支出明細!A16,"") | B18: =IF(支出明細!K16<>"",支出明細!B16,"") | C18: =IF(支出明細!K16<>"",CLEAN(支出明細!C16)&CHAR(10)&CLEAN(支出明細!D16),"") | D18: =IF(支出明細!K16<>"",支出明細!F16,"") | E18: =IF(支出明細!K16<>"",支出明細!I16,"") | F18: =IF(支出明細!K16<>"",支出明細!M16,"") | G18: =IF(支出明細!K16<>"",IF($J$3<>0,NA(),IF(OR(F18="証憑保留",F18="精算済",F18="未精算"),支出明細!G16,0)),"") | H18: =IF(支出明細!K16<>"",IF($J$3<>0,NA(),IF(F18="未精算",G18,0)),"")
A19: =IF(支出明細!K17<>"",支出明細!A17,"") | B19: =IF(支出明細!K17<>"",支出明細!B17,"") | C19: =IF(支出明細!K17<>"",CLEAN(支出明細!C17)&CHAR(10)&CLEAN(支出明細!D17),"") | D19: =IF(支出明細!K17<>"",支出明細!F17,"") | E19: =IF(支出明細!K17<>"",支出明細!I17,"") | F19: =IF(支出明細!K17<>"",支出明細!M17,"") | G19: =IF(支出明細!K17<>"",IF($J$3<>0,NA(),IF(OR(F19="証憑保留",F19="精算済",F19="未精算"),支出明細!G17,0)),"") | H19: =IF(支出明細!K17<>"",IF($J$3<>0,NA(),IF(F19="未精算",G19,0)),"")
A20: =IF(支出明細!K18<>"",支出明細!A18,"") | B20: =IF(支出明細!K18<>"",支出明細!B18,"") | C20: =IF(支出明細!K18<>"",CLEAN(支出明細!C18)&CHAR(10)&CLEAN(支出明細!D18),"") | D20: =IF(支出明細!K18<>"",支出明細!F18,"") | E20: =IF(支出明細!K18<>"",支出明細!I18,"") | F20: =IF(支出明細!K18<>"",支出明細!M18,"") | G20: =IF(支出明細!K18<>"",IF($J$3<>0,NA(),IF(OR(F20="証憑保留",F20="精算済",F20="未精算"),支出明細!G18,0)),"") | H20: =IF(支出明細!K18<>"",IF($J$3<>0,NA(),IF(F20="未精算",G20,0)),"")
A21: =IF(支出明細!K19<>"",支出明細!A19,"") | B21: =IF(支出明細!K19<>"",支出明細!B19,"") | C21: =IF(支出明細!K19<>"",CLEAN(支出明細!C19)&CHAR(10)&CLEAN(支出明細!D19),"") | D21: =IF(支出明細!K19<>"",支出明細!F19,"") | E21: =IF(支出明細!K19<>"",支出明細!I19,"") | F21: =IF(支出明細!K19<>"",支出明細!M19,"") | G21: =IF(支出明細!K19<>"",IF($J$3<>0,NA(),IF(OR(F21="証憑保留",F21="精算済",F21="未精算"),支出明細!G19,0)),"") | H21: =IF(支出明細!K19<>"",IF($J$3<>0,NA(),IF(F21="未精算",G21,0)),"")
... A59: =IF(支出明細!K57<>"",支出明細!A57,"") | B59: =IF(支出明細!K57<>"",支出明細!B57,"") | C59: =IF(支出明細!K57<>"",CLEAN(支出明細!C57)&CHAR(10)&CLEAN(支出明細!D57),"") | D59: =IF(支出明細!K57<>"",支出明細!F57,"") | E59: =IF(支出明細!K57<>"",支出明細!I57,"") | F59: =IF(支出明細!K57<>"",支出明細!M57,"") | G59: =IF(支出明細!K57<>"",IF($J$3<>0,NA(),IF(OR(F59="証憑保留",F59="精算済",F59="未精算"),支出明細!G57,0)),"") | H59: =IF(支出明細!K57<>"",IF($J$3<>0,NA(),IF(F59="未精算",G59,0)),"")

Sheet 支出明細
A2: 支出明細
A3: 黄色のA〜Jへ入力。会社払い・対象外・証憑要確認の精算日は空欄にします。
A5: 支払先/内容は改行なし。Calcでは段落区切りを検出できない場合があり、元資料と目視照合します。
A7: 支出ID | B7: 支出日 | C7: 支払先 | D7: 内容 | E7: 費目 | F7: 支払者 | G7: 税込支出（円） | H7: 精算対象 | I7: 証憑 | J7: 精算日 | K7: 入力の確認 | L7: 前提不備 | M7: 基準日の区分 | N7: 分類の前提
A8: EXP-0001 | B8: 46296 | C8: 架空鉄道 | D8: 往復交通費 | E8: 交通費 | F8: 本人立替 | G8: 1200 | H8: 対象 | I8: 確認済 | K8: =IF(COUNTA(A8:J8)=0,"",IF(NOT(AND(ISTEXT(A8),LEN(A8)=8,EXACT(LEFT(A8,4),"EXP-"),ISNUMBER(FIND(MID(A8,5,1)&"x","0x1x2x3x4x5x6x7x8x9x")),ISNUMBER(FIND(MID(A8,6,1)&"x","0x1x2x3x4x5x6x7x8x9x")),ISNUMBER(FIND(MID(A8,7,1)&"x","0x1x2x3x4x5x6x7x8x9x")),ISNUMBER(FIND(MID(A8,8,1)&"x","0x1x2x3x4x5x6x7x8x9x")))),"IDはEXP-と半角数字4桁",IF(COUNTIFS($A$8:$A$57,A8)>1,"支出IDが重複",IF(NOT(AND(ISNUMBER(B8),B8>=43831,B8<=73050,B8=INT(B8))),"支出日を確認",IF(NOT(AND(ISTEXT(C8),LEN(TRIM(C8))>0,LEN(C8)<=20,EXACT(CLEAN(C8),C8))),"支払先20文字以内",IF(NOT(AND(ISTEXT(D8),LEN(TRIM(D8))>0,LEN(D8)<=24,EXACT(CLEAN(D8),D8))),"内容24文字以内",IF(NOT(OR(E8="交通費",E8="消耗品費",E8="通信費",E8="その他")),"費目を選択",IF(NOT(OR(F8="本人立替",F8="会社払い")),"支払者を選択",IF(NOT(AND(ISNUMBER(G8),G8>=0,G8<=1000000000,G8=INT(G8))),"税込支出を確認",IF(NOT(OR(H8="対象",H8="対象外")),"精算対象を選択",IF(NOT(OR(I8="確認済",I8="要確認")),"証憑状態を選択",IF(AND(F8="会社払い",H8<>"対象外"),"会社払いは対象外",IF(AND(J8<>"",NOT(AND(AND(ISNUMBER(J8),J8>=43831,J8<=73050,J8=INT(J8)),J8>=B8))),"精算日を確認",IF(AND(J8<>"",OR(F8<>"本人立替",H8<>"対象",I8<>"確認済")),"精算日の前提を確認","確認済み")))))))))))))) -> 確認済み | L8: =IF(K8="","",IF(K8="確認済み",0,1)) -> 0 | M8: =IF(K8="","",IF(L8<>0,"入力を確認",IF(精算一覧!$I$3<>0,"期間を確認",IF(OR(B8<精算一覧!$B$3,B8>精算一覧!$E$3,B8>精算一覧!$H$3),"期間外",IF(F8="会社払い","会社払い",IF(H8="対象外","対象外",IF(I8="要確認","証憑保留",IF(AND(J8<>"",J8<=精算一覧!$H$3),"精算済","未精算")))))))) -> 未精算 | N8: =IF(K8="","",IF(L8<>0,0,IF(精算一覧!$I$3<>0,0,IF(OR(M8="期間外",M8="会社払い",M8="対象外",M8="証憑保留",M8="精算済",M8="未精算"),0,1)))) -> 0
A9: EXP-0002 | B9: 46298 | C9: 架空文具店 | D9: コピー用紙 | E9: 消耗品費 | F9: 本人立替 | G9: 3000 | H9: 対象 | I9: 確認済 | J9: 46305 | K9: =IF(COUNTA(A9:J9)=0,"",IF(NOT(AND(ISTEXT(A9),LEN(A9)=8,EXACT(LEFT(A9,4),"EXP-"),ISNUMBER(FIND(MID(A9,5,1)&"x","0x1x2x3x4x5x6x7x8x9x")),ISNUMBER(FIND(MID(A9,6,1)&"x","0x1x2x3x4x5x6x7x8x9x")),ISNUMBER(FIND(MID(A9,7,1)&"x","0x1x2x3x4x5x6x7x8x9x")),ISNUMBER(FIND(MID(A9,8,1)&"x","0x1x2x3x4x5x6x7x8x9x")))),"IDはEXP-と半角数字4桁",IF(COUNTIFS($A$8:$A$57,A9)>1,"支出IDが重複",IF(NOT(AND(ISNUMBER(B9),B9>=43831,B9<=73050,B9=INT(B9))),"支出日を確認",IF(NOT(AND(ISTEXT(C9),LEN(TRIM(C9))>0,LEN(C9)<=20,EXACT(CLEAN(C9),C9))),"支払先20文字以内",IF(NOT(AND(ISTEXT(D9),LEN(TRIM(D9))>0,LEN(D9)<=24,EXACT(CLEAN(D9),D9))),"内容24文字以内",IF(NOT(OR(E9="交通費",E9="消耗品費",E9="通信費",E9="その他")),"費目を選択",IF(NOT(OR(F9="本人立替",F9="会社払い")),"支払者を選択",IF(NOT(AND(ISNUMBER(G9),G9>=0,G9<=1000000000,G9=INT(G9))),"税込支出を確認",IF(NOT(OR(H9="対象",H9="対象外")),"精算対象を選択",IF(NOT(OR(I9="確認済",I9="要確認")),"証憑状態を選択",IF(AND(F9="会社払い",H9<>"対象外"),"会社払いは対象外",IF(AND(J9<>"",NOT(AND(AND(ISNUMBER(J9),J9>=43831,J9<=73050,J9=INT(J9)),J9>=B9))),"精算日を確認",IF(AND(J9<>"",OR(F9<>"本人立替",H9<>"対象",I9<>"確認済")),"精算日の前提を確認","確認済み")))))))))))))) -> 確認済み | L9: =IF(K9="","",IF(K9="確認済み",0,1)) -> 0 | M9: =IF(K9="","",IF(L9<>0,"入力を確認",IF(精算一覧!$I$3<>0,"期間を確認",IF(OR(B9<精算一覧!$B$3,B9>精算一覧!$E$3,B9>精算一覧!$H$3),"期間外",IF(F9="会社払い","会社払い",IF(H9="対象外","対象外",IF(I9="要確認","証憑保留",IF(AND(J9<>"",J9<=精算一覧!$H$3),"精算済","未精算")))))))) -> 精算済 | N9: =IF(K9="","",IF(L9<>0,0,IF(精算一覧!$I$3<>0,0,IF(OR(M9="期間外",M9="会社払い",M9="対象外",M9="証憑保留",M9="精算済",M9="未精算"),0,1)))) -> 0
A10: EXP-0003 | B10: 46300 | C10: 架空通信 | D10: オンライン通話 | E10: 通信費 | F10: 会社払い | G10: 5000 | H10: 対象外 | I10: 確認済 | K10: =IF(COUNTA(A10:J10)=0,"",IF(NOT(AND(ISTEXT(A10),LEN(A10)=8,EXACT(LEFT(A10,4),"EXP-"),ISNUMBER(FIND(MID(A10,5,1)&"x","0x1x2x3x4x5x6x7x8x9x")),ISNUMBER(FIND(MID(A10,6,1)&"x","0x1x2x3x4x5x6x7x8x9x")),ISNUMBER(FIND(MID(A10,7,1)&"x","0x1x2x3x4x5x6x7x8x9x")),ISNUMBER(FIND(MID(A10,8,1)&"x","0x1x2x3x4x5x6x7x8x9x")))),"IDはEXP-と半角数字4桁",IF(COUNTIFS($A$8:$A$57,A10)>1,"支出IDが重複",IF(NOT(AND(ISNUMBER(B10),B10>=43831,B10<=73050,B10=INT(B10))),"支出日を確認",IF(NOT(AND(ISTEXT(C10),LEN(TRIM(C10))>0,LEN(C10)<=20,EXACT(CLEAN(C10),C10))),"支払先20文字以内",IF(NOT(AND(ISTEXT(D10),LEN(TRIM(D10))>0,LEN(D10)<=24,EXACT(CLEAN(D10),D10))),"内容24文字以内",IF(NOT(OR(E10="交通費",E10="消耗品費",E10="通信費",E10="その他")),"費目を選択",IF(NOT(OR(F10="本人立替",F10="会社払い")),"支払者を選択",IF(NOT(AND(ISNUMBER(G10),G10>=0,G10<=1000000000,G10=INT(G10))),"税込支出を確認",IF(NOT(OR(H10="対象",H10="対象外")),"精算対象を選択",IF(NOT(OR(I10="確認済",I10="要確認")),"証憑状態を選択",IF(AND(F10="会社払い",H10<>"対象外"),"会社払いは対象外",IF(AND(J10<>"",NOT(AND(AND(ISNUMBER(J10),J10>=43831,J10<=73050,J10=INT(J10)),J10>=B10))),"精算日を確認",IF(AND(J10<>"",OR(F10<>"本人立替",H10<>"対象",I10<>"確認済")),"精算日の前提を確認","確認済み")))))))))))))) -> 確認済み | L10: =IF(K10="","",IF(K10="確認済み",0,1)) -> 0 | M10: =IF(K10="","",IF(L10<>0,"入力を確認",IF(精算一覧!$I$3<>0,"期間を確認",IF(OR(B10<精算一覧!$B$3,B10>精算一覧!$E$3,B10>精算一覧!$H$3),"期間外",IF(F10="会社払い","会社払い",IF(H10="対象外","対象外",IF(I10="要確認","証憑保留",IF(AND(J10<>"",J10<=精算一覧!$H$3),"精算済","未精算")))))))) -> 会社払い | N10: =IF(K10="","",IF(L10<>0,0,IF(精算一覧!$I$3<>0,0,IF(OR(M10="期間外",M10="会社払い",M10="対象外",M10="証憑保留",M10="精算済",M10="未精算"),0,1)))) -> 0
A11: EXP-0004 | B11: 46303 | C11: 架空小売 | D11: 参考品 | E11: その他 | F11: 本人立替 | G11: 800 | H11: 対象外 | I11: 確認済 | K11: =IF(COUNTA(A11:J11)=0,"",IF(NOT(AND(ISTEXT(A11),LEN(A11)=8,EXACT(LEFT(A11,4),"EXP-"),ISNUMBER(FIND(MID(A11,5,1)&"x","0x1x2x3x4x5x6x7x8x9x")),ISNUMBER(FIND(MID(A11,6,1)&"x","0x1x2x3x4x5x6x7x8x9x")),ISNUMBER(FIND(MID(A11,7,1)&"x","0x1x2x3x4x5x6x7x8x9x")),ISNUMBER(FIND(MID(A11,8,1)&"x","0x1x2x3x4x5x6x7x8x9x")))),"IDはEXP-と半角数字4桁",IF(COUNTIFS($A$8:$A$57,A11)>1,"支出IDが重複",IF(NOT(AND(ISNUMBER(B11),B11>=43831,B11<=73050,B11=INT(B11))),"支出日を確認",IF(NOT(AND(ISTEXT(C11),LEN(TRIM(C11))>0,LEN(C11)<=20,EXACT(CLEAN(C11),C11))),"支払先20文字以内",IF(NOT(AND(ISTEXT(D11),LEN(TRIM(D11))>0,LEN(D11)<=24,EXACT(CLEAN(D11),D11))),"内容24文字以内",IF(NOT(OR(E11="交通費",E11="消耗品費",E11="通信費",E11="その他")),"費目を選択",IF(NOT(OR(F11="本人立替",F11="会社払い")),"支払者を選択",IF(NOT(AND(ISNUMBER(G11),G11>=0,G11<=1000000000,G11=INT(G11))),"税込支出を確認",IF(NOT(OR(H11="対象",H11="対象外")),"精算対象を選択",IF(NOT(OR(I11="確認済",I11="要確認")),"証憑状態を選択",IF(AND(F11="会社払い",H11<>"対象外"),"会社払いは対象外",IF(AND(J11<>"",NOT(AND(AND(ISNUMBER(J11),J11>=43831,J11<=73050,J11=INT(J11)),J11>=B11))),"精算日を確認",IF(AND(J11<>"",OR(F11<>"本人立替",H11<>"対象",I11<>"確認済")),"精算日の前提を確認","確認済み")))))))))))))) -> 確認済み | L11: =IF(K11="","",IF(K11="確認済み",0,1)) -> 0 | M11: =IF(K11="","",IF(L11<>0,"入力を確認",IF(精算一覧!$I$3<>0,"期間を確認",IF(OR(B11<精算一覧!$B$3,B11>精算一覧!$E$3,B11>精算一覧!$H$3),"期間外",IF(F11="会社払い","会社払い",IF(H11="対象外","対象外",IF(I11="要確認","証憑保留",IF(AND(J11<>"",J11<=精算一覧!$H$3),"精算済","未精算")))))))) -> 対象外 | N11: =IF(K11="","",IF(L11<>0,0,IF(精算一覧!$I$3<>0,0,IF(OR(M11="期間外",M11="会社払い",M11="対象外",M11="証憑保留",M11="精算済",M11="未精算"),0,1)))) -> 0
A12: EXP-0005 | B12: 46307 | C12: 架空鉄道 | D12: 追加交通費 | E12: 交通費 | F12: 本人立替 | G12: 1600 | H12: 対象 | I12: 要確認 | K12: =IF(COUNTA(A12:J12)=0,"",IF(NOT(AND(ISTEXT(A12),LEN(A12)=8,EXACT(LEFT(A12,4),"EXP-"),ISNUMBER(FIND(MID(A12,5,1)&"x","0x1x2x3x4x5x6x7x8x9x")),ISNUMBER(FIND(MID(A12,6,1)&"x","0x1x2x3x4x5x6x7x8x9x")),ISNUMBER(FIND(MID(A12,7,1)&"x","0x1x2x3x4x5x6x7x8x9x")),ISNUMBER(FIND(MID(A12,8,1)&"x","0x1x2x3x4x5x6x7x8x9x")))),"IDはEXP-と半角数字4桁",IF(COUNTIFS($A$8:$A$57,A12)>1,"支出IDが重複",IF(NOT(AND(ISNUMBER(B12),B12>=43831,B12<=73050,B12=INT(B12))),"支出日を確認",IF(NOT(AND(ISTEXT(C12),LEN(TRIM(C12))>0,LEN(C12)<=20,EXACT(CLEAN(C12),C12))),"支払先20文字以内",IF(NOT(AND(ISTEXT(D12),LEN(TRIM(D12))>0,LEN(D12)<=24,EXACT(CLEAN(D12),D12))),"内容24文字以内",IF(NOT(OR(E12="交通費",E12="消耗品費",E12="通信費",E12="その他")),"費目を選択",IF(NOT(OR(F12="本人立替",F12="会社払い")),"支払者を選択",IF(NOT(AND(ISNUMBER(G12),G12>=0,G12<=1000000000,G12=INT(G12))),"税込支出を確認",IF(NOT(OR(H12="対象",H12="対象外")),"精算対象を選択",IF(NOT(OR(I12="確認済",I12="要確認")),"証憑状態を選択",IF(AND(F12="会社払い",H12<>"対象外"),"会社払いは対象外",IF(AND(J12<>"",NOT(AND(AND(ISNUMBER(J12),J12>=43831,J12<=73050,J12=INT(J12)),J12>=B12))),"精算日を確認",IF(AND(J12<>"",OR(F12<>"本人立替",H12<>"対象",I12<>"確認済")),"精算日の前提を確認","確認済み")))))))))))))) -> 確認済み | L12: =IF(K12="","",IF(K12="確認済み",0,1)) -> 0 | M12: =IF(K12="","",IF(L12<>0,"入力を確認",IF(精算一覧!$I$3<>0,"期間を確認",IF(OR(B12<精算一覧!$B$3,B12>精算一覧!$E$3,B12>精算一覧!$H$3),"期間外",IF(F12="会社払い","会社払い",IF(H12="対象外","対象外",IF(I12="要確認","証憑保留",IF(AND(J12<>"",J12<=精算一覧!$H$3),"精算済","未精算")))))))) -> 証憑保留 | N12: =IF(K12="","",IF(L12<>0,0,IF(精算一覧!$I$3<>0,0,IF(OR(M12="期間外",M12="会社払い",M12="対象外",M12="証憑保留",M12="精算済",M12="未精算"),0,1)))) -> 0
A13: EXP-0006 | B13: 46311 | C13: 架空文具店 | D13: 消耗品追加 | E13: 消耗品費 | F13: 本人立替 | G13: 2000 | H13: 対象 | I13: 確認済 | K13: =IF(COUNTA(A13:J13)=0,"",IF(NOT(AND(ISTEXT(A13),LEN(A13)=8,EXACT(LEFT(A13,4),"EXP-"),ISNUMBER(FIND(MID(A13,5,1)&"x","0x1x2x3x4x5x6x7x8x9x")),ISNUMBER(FIND(MID(A13,6,1)&"x","0x1x2x3x4x5x6x7x8x9x")),ISNUMBER(FIND(MID(A13,7,1)&"x","0x1x2x3x4x5x6x7x8x9x")),ISNUMBER(FIND(MID(A13,8,1)&"x","0x1x2x3x4x5x6x7x8x9x")))),"IDはEXP-と半角数字4桁",IF(COUNTIFS($A$8:$A$57,A13)>1,"支出IDが重複",IF(NOT(AND(ISNUMBER(B13),B13>=43831,B13<=73050,B13=INT(B13))),"支出日を確認",IF(NOT(AND(ISTEXT(C13),LEN(TRIM(C13))>0,LEN(C13)<=20,EXACT(CLEAN(C13),C13))),"支払先20文字以内",IF(NOT(AND(ISTEXT(D13),LEN(TRIM(D13))>0,LEN(D13)<=24,EXACT(CLEAN(D13),D13))),"内容24文字以内",IF(NOT(OR(E13="交通費",E13="消耗品費",E13="通信費",E13="その他")),"費目を選択",IF(NOT(OR(F13="本人立替",F13="会社払い")),"支払者を選択",IF(NOT(AND(ISNUMBER(G13),G13>=0,G13<=1000000000,G13=INT(G13))),"税込支出を確認",IF(NOT(OR(H13="対象",H13="対象外")),"精算対象を選択",IF(NOT(OR(I13="確認済",I13="要確認")),"証憑状態を選択",IF(AND(F13="会社払い",H13<>"対象外"),"会社払いは対象外",IF(AND(J13<>"",NOT(AND(AND(ISNUMBER(J13),J13>=43831,J13<=73050,J13=INT(J13)),J13>=B13))),"精算日を確認",IF(AND(J13<>"",OR(F13<>"本人立替",H13<>"対象",I13<>"確認済")),"精算日の前提を確認","確認済み")))))))))))))) -> 確認済み | L13: =IF(K13="","",IF(K13="確認済み",0,1)) -> 0 | M13: =IF(K13="","",IF(L13<>0,"入力を確認",IF(精算一覧!$I$3<>0,"期間を確認",IF(OR(B13<精算一覧!$B$3,B13>精算一覧!$E$3,B13>精算一覧!$H$3),"期間外",IF(F13="会社払い","会社払い",IF(H13="対象外","対象外",IF(I13="要確認","証憑保留",IF(AND(J13<>"",J13<=精算一覧!$H$3),"精算済","未精算")))))))) -> 期間外 | N13: =IF(K13="","",IF(L13<>0,0,IF(精算一覧!$I$3<>0,0,IF(OR(M13="期間外",M13="会社払い",M13="対象外",M13="証憑保留",M13="精算済",M13="未精算"),0,1)))) -> 0
A14: EXP-0007 | B14: 46295 | C14: 架空店舗 | D14: 前月小物 | E14: その他 | F14: 本人立替 | G14: 500 | H14: 対象 | I14: 確認済 | K14: =IF(COUNTA(A14:J14)=0,"",IF(NOT(AND(ISTEXT(A14),LEN(A14)=8,EXACT(LEFT(A14,4),"EXP-"),ISNUMBER(FIND(MID(A14,5,1)&"x","0x1x2x3x4x5x6x7x8x9x")),ISNUMBER(FIND(MID(A14,6,1)&"x","0x1x2x3x4x5x6x7x8x9x")),ISNUMBER(FIND(MID(A14,7,1)&"x","0x1x2x3x4x5x6x7x8x9x")),ISNUMBER(FIND(MID(A14,8,1)&"x","0x1x2x3x4x5x6x7x8x9x")))),"IDはEXP-と半角数字4桁",IF(COUNTIFS($A$8:$A$57,A14)>1,"支出IDが重複",IF(NOT(AND(ISNUMBER(B14),B14>=43831,B14<=73050,B14=INT(B14))),"支出日を確認",IF(NOT(AND(ISTEXT(C14),LEN(TRIM(C14))>0,LEN(C14)<=20,EXACT(CLEAN(C14),C14))),"支払先20文字以内",IF(NOT(AND(ISTEXT(D14),LEN(TRIM(D14))>0,LEN(D14)<=24,EXACT(CLEAN(D14),D14))),"内容24文字以内",IF(NOT(OR(E14="交通費",E14="消耗品費",E14="通信費",E14="その他")),"費目を選択",IF(NOT(OR(F14="本人立替",F14="会社払い")),"支払者を選択",IF(NOT(AND(ISNUMBER(G14),G14>=0,G14<=1000000000,G14=INT(G14))),"税込支出を確認",IF(NOT(OR(H14="対象",H14="対象外")),"精算対象を選択",IF(NOT(OR(I14="確認済",I14="要確認")),"証憑状態を選択",IF(AND(F14="会社払い",H14<>"対象外"),"会社払いは対象外",IF(AND(J14<>"",NOT(AND(AND(ISNUMBER(J14),J14>=43831,J14<=73050,J14=INT(J14)),J14>=B14))),"精算日を確認",IF(AND(J14<>"",OR(F14<>"本人立替",H14<>"対象",I14<>"確認済")),"精算日の前提を確認","確認済み")))))))))))))) -> 確認済み | L14: =IF(K14="","",IF(K14="確認済み",0,1)) -> 0 | M14: =IF(K14="","",IF(L14<>0,"入力を確認",IF(精算一覧!$I$3<>0,"期間を確認",IF(OR(B14<精算一覧!$B$3,B14>精算一覧!$E$3,B14>精算一覧!$H$3),"期間外",IF(F14="会社払い","会社払い",IF(H14="対象外","対象外",IF(I14="要確認","証憑保留",IF(AND(J14<>"",J14<=精算一覧!$H$3),"精算済","未精算")))))))) -> 期間外 | N14: =IF(K14="","",IF(L14<>0,0,IF(精算一覧!$I$3<>0,0,IF(OR(M14="期間外",M14="会社払い",M14="対象外",M14="証憑保留",M14="精算済",M14="未精算"),0,1)))) -> 0
K15: =IF(COUNTA(A15:J15)=0,"",IF(NOT(AND(ISTEXT(A15),LEN(A15)=8,EXACT(LEFT(A15,4),"EXP-"),ISNUMBER(FIND(MID(A15,5,1)&"x","0x1x2x3x4x5x6x7x8x9x")),ISNUMBER(FIND(MID(A15,6,1)&"x","0x1x2x3x4x5x6x7x8x9x")),ISNUMBER(FIND(MID(A15,7,1)&"x","0x1x2x3x4x5x6x7x8x9x")),ISNUMBER(FIND(MID(A15,8,1)&"x","0x1x2x3x4x5x6x7x8x9x")))),"IDはEXP-と半角数字4桁",IF(COUNTIFS($A$8:$A$57,A15)>1,"支出IDが重複",IF(NOT(AND(ISNUMBER(B15),B15>=43831,B15<=73050,B15=INT(B15))),"支出日を確認",IF(NOT(AND(ISTEXT(C15),LEN(TRIM(C15))>0,LEN(C15)<=20,EXACT(CLEAN(C15),C15))),"支払先20文字以内",IF(NOT(AND(ISTEXT(D15),LEN(TRIM(D15))>0,LEN(D15)<=24,EXACT(CLEAN(D15),D15))),"内容24文字以内",IF(NOT(OR(E15="交通費",E15="消耗品費",E15="通信費",E15="その他")),"費目を選択",IF(NOT(OR(F15="本人立替",F15="会社払い")),"支払者を選択",IF(NOT(AND(ISNUMBER(G15),G15>=0,G15<=1000000000,G15=INT(G15))),"税込支出を確認",IF(NOT(OR(H15="対象",H15="対象外")),"精算対象を選択",IF(NOT(OR(I15="確認済",I15="要確認")),"証憑状態を選択",IF(AND(F15="会社払い",H15<>"対象外"),"会社払いは対象外",IF(AND(J15<>"",NOT(AND(AND(ISNUMBER(J15),J15>=43831,J15<=73050,J15=INT(J15)),J15>=B15))),"精算日を確認",IF(AND(J15<>"",OR(F15<>"本人立替",H15<>"対象",I15<>"確認済")),"精算日の前提を確認","確認済み")))))))))))))) | L15: =IF(K15="","",IF(K15="確認済み",0,1)) | M15: =IF(K15="","",IF(L15<>0,"入力を確認",IF(精算一覧!$I$3<>0,"期間を確認",IF(OR(B15<精算一覧!$B$3,B15>精算一覧!$E$3,B15>精算一覧!$H$3),"期間外",IF(F15="会社払い","会社払い",IF(H15="対象外","対象外",IF(I15="要確認","証憑保留",IF(AND(J15<>"",J15<=精算一覧!$H$3),"精算済","未精算")))))))) | N15: =IF(K15="","",IF(L15<>0,0,IF(精算一覧!$I$3<>0,0,IF(OR(M15="期間外",M15="会社払い",M15="対象外",M15="証憑保留",M15="精算済",M15="未精算"),0,1))))
K16: =IF(COUNTA(A16:J16)=0,"",IF(NOT(AND(ISTEXT(A16),LEN(A16)=8,EXACT(LEFT(A16,4),"EXP-"),ISNUMBER(FIND(MID(A16,5,1)&"x","0x1x2x3x4x5x6x7x8x9x")),ISNUMBER(FIND(MID(A16,6,1)&"x","0x1x2x3x4x5x6x7x8x9x")),ISNUMBER(FIND(MID(A16,7,1)&"x","0x1x2x3x4x5x6x7x8x9x")),ISNUMBER(FIND(MID(A16,8,1)&"x","0x1x2x3x4x5x6x7x8x9x")))),"IDはEXP-と半角数字4桁",IF(COUNTIFS($A$8:$A$57,A16)>1,"支出IDが重複",IF(NOT(AND(ISNUMBER(B16),B16>=43831,B16<=73050,B16=INT(B16))),"支出日を確認",IF(NOT(AND(ISTEXT(C16),LEN(TRIM(C16))>0,LEN(C16)<=20,EXACT(CLEAN(C16),C16))),"支払先20文字以内",IF(NOT(AND(ISTEXT(D16),LEN(TRIM(D16))>0,LEN(D16)<=24,EXACT(CLEAN(D16),D16))),"内容24文字以内",IF(NOT(OR(E16="交通費",E16="消耗品費",E16="通信費",E16="その他")),"費目を選択",IF(NOT(OR(F16="本人立替",F16="会社払い")),"支払者を選択",IF(NOT(AND(ISNUMBER(G16),G16>=0,G16<=1000000000,G16=INT(G16))),"税込支出を確認",IF(NOT(OR(H16="対象",H16="対象外")),"精算対象を選択",IF(NOT(OR(I16="確認済",I16="要確認")),"証憑状態を選択",IF(AND(F16="会社払い",H16<>"対象外"),"会社払いは対象外",IF(AND(J16<>"",NOT(AND(AND(ISNUMBER(J16),J16>=43831,J16<=73050,J16=INT(J16)),J16>=B16))),"精算日を確認",IF(AND(J16<>"",OR(F16<>"本人立替",H16<>"対象",I16<>"確認済")),"精算日の前提を確認","確認済み")))))))))))))) | L16: =IF(K16="","",IF(K16="確認済み",0,1)) | M16: =IF(K16="","",IF(L16<>0,"入力を確認",IF(精算一覧!$I$3<>0,"期間を確認",IF(OR(B16<精算一覧!$B$3,B16>精算一覧!$E$3,B16>精算一覧!$H$3),"期間外",IF(F16="会社払い","会社払い",IF(H16="対象外","対象外",IF(I16="要確認","証憑保留",IF(AND(J16<>"",J16<=精算一覧!$H$3),"精算済","未精算")))))))) | N16: =IF(K16="","",IF(L16<>0,0,IF(精算一覧!$I$3<>0,0,IF(OR(M16="期間外",M16="会社払い",M16="対象外",M16="証憑保留",M16="精算済",M16="未精算"),0,1))))
K17: =IF(COUNTA(A17:J17)=0,"",IF(NOT(AND(ISTEXT(A17),LEN(A17)=8,EXACT(LEFT(A17,4),"EXP-"),ISNUMBER(FIND(MID(A17,5,1)&"x","0x1x2x3x4x5x6x7x8x9x")),ISNUMBER(FIND(MID(A17,6,1)&"x","0x1x2x3x4x5x6x7x8x9x")),ISNUMBER(FIND(MID(A17,7,1)&"x","0x1x2x3x4x5x6x7x8x9x")),ISNUMBER(FIND(MID(A17,8,1)&"x","0x1x2x3x4x5x6x7x8x9x")))),"IDはEXP-と半角数字4桁",IF(COUNTIFS($A$8:$A$57,A17)>1,"支出IDが重複",IF(NOT(AND(ISNUMBER(B17),B17>=43831,B17<=73050,B17=INT(B17))),"支出日を確認",IF(NOT(AND(ISTEXT(C17),LEN(TRIM(C17))>0,LEN(C17)<=20,EXACT(CLEAN(C17),C17))),"支払先20文字以内",IF(NOT(AND(ISTEXT(D17),LEN(TRIM(D17))>0,LEN(D17)<=24,EXACT(CLEAN(D17),D17))),"内容24文字以内",IF(NOT(OR(E17="交通費",E17="消耗品費",E17="通信費",E17="その他")),"費目を選択",IF(NOT(OR(F17="本人立替",F17="会社払い")),"支払者を選択",IF(NOT(AND(ISNUMBER(G17),G17>=0,G17<=1000000000,G17=INT(G17))),"税込支出を確認",IF(NOT(OR(H17="対象",H17="対象外")),"精算対象を選択",IF(NOT(OR(I17="確認済",I17="要確認")),"証憑状態を選択",IF(AND(F17="会社払い",H17<>"対象外"),"会社払いは対象外",IF(AND(J17<>"",NOT(AND(AND(ISNUMBER(J17),J17>=43831,J17<=73050,J17=INT(J17)),J17>=B17))),"精算日を確認",IF(AND(J17<>"",OR(F17<>"本人立替",H17<>"対象",I17<>"確認済")),"精算日の前提を確認","確認済み")))))))))))))) | L17: =IF(K17="","",IF(K17="確認済み",0,1)) | M17: =IF(K17="","",IF(L17<>0,"入力を確認",IF(精算一覧!$I$3<>0,"期間を確認",IF(OR(B17<精算一覧!$B$3,B17>精算一覧!$E$3,B17>精算一覧!$H$3),"期間外",IF(F17="会社払い","会社払い",IF(H17="対象外","対象外",IF(I17="要確認","証憑保留",IF(AND(J17<>"",J17<=精算一覧!$H$3),"精算済","未精算")))))))) | N17: =IF(K17="","",IF(L17<>0,0,IF(精算一覧!$I$3<>0,0,IF(OR(M17="期間外",M17="会社払い",M17="対象外",M17="証憑保留",M17="精算済",M17="未精算"),0,1))))
K18: =IF(COUNTA(A18:J18)=0,"",IF(NOT(AND(ISTEXT(A18),LEN(A18)=8,EXACT(LEFT(A18,4),"EXP-"),ISNUMBER(FIND(MID(A18,5,1)&"x","0x1x2x3x4x5x6x7x8x9x")),ISNUMBER(FIND(MID(A18,6,1)&"x","0x1x2x3x4x5x6x7x8x9x")),ISNUMBER(FIND(MID(A18,7,1)&"x","0x1x2x3x4x5x6x7x8x9x")),ISNUMBER(FIND(MID(A18,8,1)&"x","0x1x2x3x4x5x6x7x8x9x")))),"IDはEXP-と半角数字4桁",IF(COUNTIFS($A$8:$A$57,A18)>1,"支出IDが重複",IF(NOT(AND(ISNUMBER(B18),B18>=43831,B18<=73050,B18=INT(B18))),"支出日を確認",IF(NOT(AND(ISTEXT(C18),LEN(TRIM(C18))>0,LEN(C18)<=20,EXACT(CLEAN(C18),C18))),"支払先20文字以内",IF(NOT(AND(ISTEXT(D18),LEN(TRIM(D18))>0,LEN(D18)<=24,EXACT(CLEAN(D18),D18))),"内容24文字以内",IF(NOT(OR(E18="交通費",E18="消耗品費",E18="通信費",E18="その他")),"費目を選択",IF(NOT(OR(F18="本人立替",F18="会社払い")),"支払者を選択",IF(NOT(AND(ISNUMBER(G18),G18>=0,G18<=1000000000,G18=INT(G18))),"税込支出を確認",IF(NOT(OR(H18="対象",H18="対象外")),"精算対象を選択",IF(NOT(OR(I18="確認済",I18="要確認")),"証憑状態を選択",IF(AND(F18="会社払い",H18<>"対象外"),"会社払いは対象外",IF(AND(J18<>"",NOT(AND(AND(ISNUMBER(J18),J18>=43831,J18<=73050,J18=INT(J18)),J18>=B18))),"精算日を確認",IF(AND(J18<>"",OR(F18<>"本人立替",H18<>"対象",I18<>"確認済")),"精算日の前提を確認","確認済み")))))))))))))) | L18: =IF(K18="","",IF(K18="確認済み",0,1)) | M18: =IF(K18="","",IF(L18<>0,"入力を確認",IF(精算一覧!$I$3<>0,"期間を確認",IF(OR(B18<精算一覧!$B$3,B18>精算一覧!$E$3,B18>精算一覧!$H$3),"期間外",IF(F18="会社払い","会社払い",IF(H18="対象外","対象外",IF(I18="要確認","証憑保留",IF(AND(J18<>"",J18<=精算一覧!$H$3),"精算済","未精算")))))))) | N18: =IF(K18="","",IF(L18<>0,0,IF(精算一覧!$I$3<>0,0,IF(OR(M18="期間外",M18="会社払い",M18="対象外",M18="証憑保留",M18="精算済",M18="未精算"),0,1))))
K19: =IF(COUNTA(A19:J19)=0,"",IF(NOT(AND(ISTEXT(A19),LEN(A19)=8,EXACT(LEFT(A19,4),"EXP-"),ISNUMBER(FIND(MID(A19,5,1)&"x","0x1x2x3x4x5x6x7x8x9x")),ISNUMBER(FIND(MID(A19,6,1)&"x","0x1x2x3x4x5x6x7x8x9x")),ISNUMBER(FIND(MID(A19,7,1)&"x","0x1x2x3x4x5x6x7x8x9x")),ISNUMBER(FIND(MID(A19,8,1)&"x","0x1x2x3x4x5x6x7x8x9x")))),"IDはEXP-と半角数字4桁",IF(COUNTIFS($A$8:$A$57,A19)>1,"支出IDが重複",IF(NOT(AND(ISNUMBER(B19),B19>=43831,B19<=73050,B19=INT(B19))),"支出日を確認",IF(NOT(AND(ISTEXT(C19),LEN(TRIM(C19))>0,LEN(C19)<=20,EXACT(CLEAN(C19),C19))),"支払先20文字以内",IF(NOT(AND(ISTEXT(D19),LEN(TRIM(D19))>0,LEN(D19)<=24,EXACT(CLEAN(D19),D19))),"内容24文字以内",IF(NOT(OR(E19="交通費",E19="消耗品費",E19="通信費",E19="その他")),"費目を選択",IF(NOT(OR(F19="本人立替",F19="会社払い")),"支払者を選択",IF(NOT(AND(ISNUMBER(G19),G19>=0,G19<=1000000000,G19=INT(G19))),"税込支出を確認",IF(NOT(OR(H19="対象",H19="対象外")),"精算対象を選択",IF(NOT(OR(I19="確認済",I19="要確認")),"証憑状態を選択",IF(AND(F19="会社払い",H19<>"対象外"),"会社払いは対象外",IF(AND(J19<>"",NOT(AND(AND(ISNUMBER(J19),J19>=43831,J19<=73050,J19=INT(J19)),J19>=B19))),"精算日を確認",IF(AND(J19<>"",OR(F19<>"本人立替",H19<>"対象",I19<>"確認済")),"精算日の前提を確認","確認済み")))))))))))))) | L19: =IF(K19="","",IF(K19="確認済み",0,1)) | M19: =IF(K19="","",IF(L19<>0,"入力を確認",IF(精算一覧!$I$3<>0,"期間を確認",IF(OR(B19<精算一覧!$B$3,B19>精算一覧!$E$3,B19>精算一覧!$H$3),"期間外",IF(F19="会社払い","会社払い",IF(H19="対象外","対象外",IF(I19="要確認","証憑保留",IF(AND(J19<>"",J19<=精算一覧!$H$3),"精算済","未精算")))))))) | N19: =IF(K19="","",IF(L19<>0,0,IF(精算一覧!$I$3<>0,0,IF(OR(M19="期間外",M19="会社払い",M19="対象外",M19="証憑保留",M19="精算済",M19="未精算"),0,1))))
K20: =IF(COUNTA(A20:J20)=0,"",IF(NOT(AND(ISTEXT(A20),LEN(A20)=8,EXACT(LEFT(A20,4),"EXP-"),ISNUMBER(FIND(MID(A20,5,1)&"x","0x1x2x3x4x5x6x7x8x9x")),ISNUMBER(FIND(MID(A20,6,1)&"x","0x1x2x3x4x5x6x7x8x9x")),ISNUMBER(FIND(MID(A20,7,1)&"x","0x1x2x3x4x5x6x7x8x9x")),ISNUMBER(FIND(MID(A20,8,1)&"x","0x1x2x3x4x5x6x7x8x9x")))),"IDはEXP-と半角数字4桁",IF(COUNTIFS($A$8:$A$57,A20)>1,"支出IDが重複",IF(NOT(AND(ISNUMBER(B20),B20>=43831,B20<=73050,B20=INT(B20))),"支出日を確認",IF(NOT(AND(ISTEXT(C20),LEN(TRIM(C20))>0,LEN(C20)<=20,EXACT(CLEAN(C20),C20))),"支払先20文字以内",IF(NOT(AND(ISTEXT(D20),LEN(TRIM(D20))>0,LEN(D20)<=24,EXACT(CLEAN(D20),D20))),"内容24文字以内",IF(NOT(OR(E20="交通費",E20="消耗品費",E20="通信費",E20="その他")),"費目を選択",IF(NOT(OR(F20="本人立替",F20="会社払い")),"支払者を選択",IF(NOT(AND(ISNUMBER(G20),G20>=0,G20<=1000000000,G20=INT(G20))),"税込支出を確認",IF(NOT(OR(H20="対象",H20="対象外")),"精算対象を選択",IF(NOT(OR(I20="確認済",I20="要確認")),"証憑状態を選択",IF(AND(F20="会社払い",H20<>"対象外"),"会社払いは対象外",IF(AND(J20<>"",NOT(AND(AND(ISNUMBER(J20),J20>=43831,J20<=73050,J20=INT(J20)),J20>=B20))),"精算日を確認",IF(AND(J20<>"",OR(F20<>"本人立替",H20<>"対象",I20<>"確認済")),"精算日の前提を確認","確認済み")))))))))))))) | L20: =IF(K20="","",IF(K20="確認済み",0,1)) | M20: =IF(K20="","",IF(L20<>0,"入力を確認",IF(精算一覧!$I$3<>0,"期間を確認",IF(OR(B20<精算一覧!$B$3,B20>精算一覧!$E$3,B20>精算一覧!$H$3),"期間外",IF(F20="会社払い","会社払い",IF(H20="対象外","対象外",IF(I20="要確認","証憑保留",IF(AND(J20<>"",J20<=精算一覧!$H$3),"精算済","未精算")))))))) | N20: =IF(K20="","",IF(L20<>0,0,IF(精算一覧!$I$3<>0,0,IF(OR(M20="期間外",M20="会社払い",M20="対象外",M20="証憑保留",M20="精算済",M20="未精算"),0,1))))
K21: =IF(COUNTA(A21:J21)=0,"",IF(NOT(AND(ISTEXT(A21),LEN(A21)=8,EXACT(LEFT(A21,4),"EXP-"),ISNUMBER(FIND(MID(A21,5,1)&"x","0x1x2x3x4x5x6x7x8x9x")),ISNUMBER(FIND(MID(A21,6,1)&"x","0x1x2x3x4x5x6x7x8x9x")),ISNUMBER(FIND(MID(A21,7,1)&"x","0x1x2x3x4x5x6x7x8x9x")),ISNUMBER(FIND(MID(A21,8,1)&"x","0x1x2x3x4x5x6x7x8x9x")))),"IDはEXP-と半角数字4桁",IF(COUNTIFS($A$8:$A$57,A21)>1,"支出IDが重複",IF(NOT(AND(ISNUMBER(B21),B21>=43831,B21<=73050,B21=INT(B21))),"支出日を確認",IF(NOT(AND(ISTEXT(C21),LEN(TRIM(C21))>0,LEN(C21)<=20,EXACT(CLEAN(C21),C21))),"支払先20文字以内",IF(NOT(AND(ISTEXT(D21),LEN(TRIM(D21))>0,LEN(D21)<=24,EXACT(CLEAN(D21),D21))),"内容24文字以内",IF(NOT(OR(E21="交通費",E21="消耗品費",E21="通信費",E21="その他")),"費目を選択",IF(NOT(OR(F21="本人立替",F21="会社払い")),"支払者を選択",IF(NOT(AND(ISNUMBER(G21),G21>=0,G21<=1000000000,G21=INT(G21))),"税込支出を確認",IF(NOT(OR(H21="対象",H21="対象外")),"精算対象を選択",IF(NOT(OR(I21="確認済",I21="要確認")),"証憑状態を選択",IF(AND(F21="会社払い",H21<>"対象外"),"会社払いは対象外",IF(AND(J21<>"",NOT(AND(AND(ISNUMBER(J21),J21>=43831,J21<=73050,J21=INT(J21)),J21>=B21))),"精算日を確認",IF(AND(J21<>"",OR(F21<>"本人立替",H21<>"対象",I21<>"確認済")),"精算日の前提を確認","確認済み")))))))))))))) | L21: =IF(K21="","",IF(K21="確認済み",0,1)) | M21: =IF(K21="","",IF(L21<>0,"入力を確認",IF(精算一覧!$I$3<>0,"期間を確認",IF(OR(B21<精算一覧!$B$3,B21>精算一覧!$E$3,B21>精算一覧!$H$3),"期間外",IF(F21="会社払い","会社払い",IF(H21="対象外","対象外",IF(I21="要確認","証憑保留",IF(AND(J21<>"",J21<=精算一覧!$H$3),"精算済","未精算")))))))) | N21: =IF(K21="","",IF(L21<>0,0,IF(精算一覧!$I$3<>0,0,IF(OR(M21="期間外",M21="会社払い",M21="対象外",M21="証憑保留",M21="精算済",M21="未精算"),0,1))))
K22: =IF(COUNTA(A22:J22)=0,"",IF(NOT(AND(ISTEXT(A22),LEN(A22)=8,EXACT(LEFT(A22,4),"EXP-"),ISNUMBER(FIND(MID(A22,5,1)&"x","0x1x2x3x4x5x6x7x8x9x")),ISNUMBER(FIND(MID(A22,6,1)&"x","0x1x2x3x4x5x6x7x8x9x")),ISNUMBER(FIND(MID(A22,7,1)&"x","0x1x2x3x4x5x6x7x8x9x")),ISNUMBER(FIND(MID(A22,8,1)&"x","0x1x2x3x4x5x6x7x8x9x")))),"IDはEXP-と半角数字4桁",IF(COUNTIFS($A$8:$A$57,A22)>1,"支出IDが重複",IF(NOT(AND(ISNUMBER(B22),B22>=43831,B22<=73050,B22=INT(B22))),"支出日を確認",IF(NOT(AND(ISTEXT(C22),LEN(TRIM(C22))>0,LEN(C22)<=20,EXACT(CLEAN(C22),C22))),"支払先20文字以内",IF(NOT(AND(ISTEXT(D22),LEN(TRIM(D22))>0,LEN(D22)<=24,EXACT(CLEAN(D22),D22))),"内容24文字以内",IF(NOT(OR(E22="交通費",E22="消耗品費",E22="通信費",E22="その他")),"費目を選択",IF(NOT(OR(F22="本人立替",F22="会社払い")),"支払者を選択",IF(NOT(AND(ISNUMBER(G22),G22>=0,G22<=1000000000,G22=INT(G22))),"税込支出を確認",IF(NOT(OR(H22="対象",H22="対象外")),"精算対象を選択",IF(NOT(OR(I22="確認済",I22="要確認")),"証憑状態を選択",IF(AND(F22="会社払い",H22<>"対象外"),"会社払いは対象外",IF(AND(J22<>"",NOT(AND(AND(ISNUMBER(J22),J22>=43831,J22<=73050,J22=INT(J22)),J22>=B22))),"精算日を確認",IF(AND(J22<>"",OR(F22<>"本人立替",H22<>"対象",I22<>"確認済")),"精算日の前提を確認","確認済み")))))))))))))) | L22: =IF(K22="","",IF(K22="確認済み",0,1)) | M22: =IF(K22="","",IF(L22<>0,"入力を確認",IF(精算一覧!$I$3<>0,"期間を確認",IF(OR(B22<精算一覧!$B$3,B22>精算一覧!$E$3,B22>精算一覧!$H$3),"期間外",IF(F22="会社払い","会社払い",IF(H22="対象外","対象外",IF(I22="要確認","証憑保留",IF(AND(J22<>"",J22<=精算一覧!$H$3),"精算済","未精算")))))))) | N22: =IF(K22="","",IF(L22<>0,0,IF(精算一覧!$I$3<>0,0,IF(OR(M22="期間外",M22="会社払い",M22="対象外",M22="証憑保留",M22="精算済",M22="未精算"),0,1))))
K23: =IF(COUNTA(A23:J23)=0,"",IF(NOT(AND(ISTEXT(A23),LEN(A23)=8,EXACT(LEFT(A23,4),"EXP-"),ISNUMBER(FIND(MID(A23,5,1)&"x","0x1x2x3x4x5x6x7x8x9x")),ISNUMBER(FIND(MID(A23,6,1)&"x","0x1x2x3x4x5x6x7x8x9x")),ISNUMBER(FIND(MID(A23,7,1)&"x","0x1x2x3x4x5x6x7x8x9x")),ISNUMBER(FIND(MID(A23,8,1)&"x","0x1x2x3x4x5x6x7x8x9x")))),"IDはEXP-と半角数字4桁",IF(COUNTIFS($A$8:$A$57,A23)>1,"支出IDが重複",IF(NOT(AND(ISNUMBER(B23),B23>=43831,B23<=73050,B23=INT(B23))),"支出日を確認",IF(NOT(AND(ISTEXT(C23),LEN(TRIM(C23))>0,LEN(C23)<=20,EXACT(CLEAN(C23),C23))),"支払先20文字以内",IF(NOT(AND(ISTEXT(D23),LEN(TRIM(D23))>0,LEN(D23)<=24,EXACT(CLEAN(D23),D23))),"内容24文字以内",IF(NOT(OR(E23="交通費",E23="消耗品費",E23="通信費",E23="その他")),"費目を選択",IF(NOT(OR(F23="本人立替",F23="会社払い")),"支払者を選択",IF(NOT(AND(ISNUMBER(G23),G23>=0,G23<=1000000000,G23=INT(G23))),"税込支出を確認",IF(NOT(OR(H23="対象",H23="対象外")),"精算対象を選択",IF(NOT(OR(I23="確認済",I23="要確認")),"証憑状態を選択",IF(AND(F23="会社払い",H23<>"対象外"),"会社払いは対象外",IF(AND(J23<>"",NOT(AND(AND(ISNUMBER(J23),J23>=43831,J23<=73050,J23=INT(J23)),J23>=B23))),"精算日を確認",IF(AND(J23<>"",OR(F23<>"本人立替",H23<>"対象",I23<>"確認済")),"精算日の前提を確認","確認済み")))))))))))))) | L23: =IF(K23="","",IF(K23="確認済み",0,1)) | M23: =IF(K23="","",IF(L23<>0,"入力を確認",IF(精算一覧!$I$3<>0,"期間を確認",IF(OR(B23<精算一覧!$B$3,B23>精算一覧!$E$3,B23>精算一覧!$H$3),"期間外",IF(F23="会社払い","会社払い",IF(H23="対象外","対象外",IF(I23="要確認","証憑保留",IF(AND(J23<>"",J23<=精算一覧!$H$3),"精算済","未精算")))))))) | N23: =IF(K23="","",IF(L23<>0,0,IF(精算一覧!$I$3<>0,0,IF(OR(M23="期間外",M23="会社払い",M23="対象外",M23="証憑保留",M23="精算済",M23="未精算"),0,1))))
K24: =IF(COUNTA(A24:J24)=0,"",IF(NOT(AND(ISTEXT(A24),LEN(A24)=8,EXACT(LEFT(A24,4),"EXP-"),ISNUMBER(FIND(MID(A24,5,1)&"x","0x1x2x3x4x5x6x7x8x9x")),ISNUMBER(FIND(MID(A24,6,1)&"x","0x1x2x3x4x5x6x7x8x9x")),ISNUMBER(FIND(MID(A24,7,1)&"x","0x1x2x3x4x5x6x7x8x9x")),ISNUMBER(FIND(MID(A24,8,1)&"x","0x1x2x3x4x5x6x7x8x9x")))),"IDはEXP-と半角数字4桁",IF(COUNTIFS($A$8:$A$57,A24)>1,"支出IDが重複",IF(NOT(AND(ISNUMBER(B24),B24>=43831,B24<=73050,B24=INT(B24))),"支出日を確認",IF(NOT(AND(ISTEXT(C24),LEN(TRIM(C24))>0,LEN(C24)<=20,EXACT(CLEAN(C24),C24))),"支払先20文字以内",IF(NOT(AND(ISTEXT(D24),LEN(TRIM(D24))>0,LEN(D24)<=24,EXACT(CLEAN(D24),D24))),"内容24文字以内",IF(NOT(OR(E24="交通費",E24="消耗品費",E24="通信費",E24="その他")),"費目を選択",IF(NOT(OR(F24="本人立替",F24="会社払い")),"支払者を選択",IF(NOT(AND(ISNUMBER(G24),G24>=0,G24<=1000000000,G24=INT(G24))),"税込支出を確認",IF(NOT(OR(H24="対象",H24="対象外")),"精算対象を選択",IF(NOT(OR(I24="確認済",I24="要確認")),"証憑状態を選択",IF(AND(F24="会社払い",H24<>"対象外"),"会社払いは対象外",IF(AND(J24<>"",NOT(AND(AND(ISNUMBER(J24),J24>=43831,J24<=73050,J24=INT(J24)),J24>=B24))),"精算日を確認",IF(AND(J24<>"",OR(F24<>"本人立替",H24<>"対象",I24<>"確認済")),"精算日の前提を確認","確認済み")))))))))))))) | L24: =IF(K24="","",IF(K24="確認済み",0,1)) | M24: =IF(K24="","",IF(L24<>0,"入力を確認",IF(精算一覧!$I$3<>0,"期間を確認",IF(OR(B24<精算一覧!$B$3,B24>精算一覧!$E$3,B24>精算一覧!$H$3),"期間外",IF(F24="会社払い","会社払い",IF(H24="対象外","対象外",IF(I24="要確認","証憑保留",IF(AND(J24<>"",J24<=精算一覧!$H$3),"精算済","未精算")))))))) | N24: =IF(K24="","",IF(L24<>0,0,IF(精算一覧!$I$3<>0,0,IF(OR(M24="期間外",M24="会社払い",M24="対象外",M24="証憑保留",M24="精算済",M24="未精算"),0,1))))
K25: =IF(COUNTA(A25:J25)=0,"",IF(NOT(AND(ISTEXT(A25),LEN(A25)=8,EXACT(LEFT(A25,4),"EXP-"),ISNUMBER(FIND(MID(A25,5,1)&"x","0x1x2x3x4x5x6x7x8x9x")),ISNUMBER(FIND(MID(A25,6,1)&"x","0x1x2x3x4x5x6x7x8x9x")),ISNUMBER(FIND(MID(A25,7,1)&"x","0x1x2x3x4x5x6x7x8x9x")),ISNUMBER(FIND(MID(A25,8,1)&"x","0x1x2x3x4x5x6x7x8x9x")))),"IDはEXP-と半角数字4桁",IF(COUNTIFS($A$8:$A$57,A25)>1,"支出IDが重複",IF(NOT(AND(ISNUMBER(B25),B25>=43831,B25<=73050,B25=INT(B25))),"支出日を確認",IF(NOT(AND(ISTEXT(C25),LEN(TRIM(C25))>0,LEN(C25)<=20,EXACT(CLEAN(C25),C25))),"支払先20文字以内",IF(NOT(AND(ISTEXT(D25),LEN(TRIM(D25))>0,LEN(D25)<=24,EXACT(CLEAN(D25),D25))),"内容24文字以内",IF(NOT(OR(E25="交通費",E25="消耗品費",E25="通信費",E25="その他")),"費目を選択",IF(NOT(OR(F25="本人立替",F25="会社払い")),"支払者を選択",IF(NOT(AND(ISNUMBER(G25),G25>=0,G25<=1000000000,G25=INT(G25))),"税込支出を確認",IF(NOT(OR(H25="対象",H25="対象外")),"精算対象を選択",IF(NOT(OR(I25="確認済",I25="要確認")),"証憑状態を選択",IF(AND(F25="会社払い",H25<>"対象外"),"会社払いは対象外",IF(AND(J25<>"",NOT(AND(AND(ISNUMBER(J25),J25>=43831,J25<=73050,J25=INT(J25)),J25>=B25))),"精算日を確認",IF(AND(J25<>"",OR(F25<>"本人立替",H25<>"対象",I25<>"確認済")),"精算日の前提を確認","確認済み")))))))))))))) | L25: =IF(K25="","",IF(K25="確認済み",0,1)) | M25: =IF(K25="","",IF(L25<>0,"入力を確認",IF(精算一覧!$I$3<>0,"期間を確認",IF(OR(B25<精算一覧!$B$3,B25>精算一覧!$E$3,B25>精算一覧!$H$3),"期間外",IF(F25="会社払い","会社払い",IF(H25="対象外","対象外",IF(I25="要確認","証憑保留",IF(AND(J25<>"",J25<=精算一覧!$H$3),"精算済","未精算")))))))) | N25: =IF(K25="","",IF(L25<>0,0,IF(精算一覧!$I$3<>0,0,IF(OR(M25="期間外",M25="会社払い",M25="対象外",M25="証憑保留",M25="精算済",M25="未精算"),0,1))))
K26: =IF(COUNTA(A26:J26)=0,"",IF(NOT(AND(ISTEXT(A26),LEN(A26)=8,EXACT(LEFT(A26,4),"EXP-"),ISNUMBER(FIND(MID(A26,5,1)&"x","0x1x2x3x4x5x6x7x8x9x")),ISNUMBER(FIND(MID(A26,6,1)&"x","0x1x2x3x4x5x6x7x8x9x")),ISNUMBER(FIND(MID(A26,7,1)&"x","0x1x2x3x4x5x6x7x8x9x")),ISNUMBER(FIND(MID(A26,8,1)&"x","0x1x2x3x4x5x6x7x8x9x")))),"IDはEXP-と半角数字4桁",IF(COUNTIFS($A$8:$A$57,A26)>1,"支出IDが重複",IF(NOT(AND(ISNUMBER(B26),B26>=43831,B26<=73050,B26=INT(B26))),"支出日を確認",IF(NOT(AND(ISTEXT(C26),LEN(TRIM(C26))>0,LEN(C26)<=20,EXACT(CLEAN(C26),C26))),"支払先20文字以内",IF(NOT(AND(ISTEXT(D26),LEN(TRIM(D26))>0,LEN(D26)<=24,EXACT(CLEAN(D26),D26))),"内容24文字以内",IF(NOT(OR(E26="交通費",E26="消耗品費",E26="通信費",E26="その他")),"費目を選択",IF(NOT(OR(F26="本人立替",F26="会社払い")),"支払者を選択",IF(NOT(AND(ISNUMBER(G26),G26>=0,G26<=1000000000,G26=INT(G26))),"税込支出を確認",IF(NOT(OR(H26="対象",H26="対象外")),"精算対象を選択",IF(NOT(OR(I26="確認済",I26="要確認")),"証憑状態を選択",IF(AND(F26="会社払い",H26<>"対象外"),"会社払いは対象外",IF(AND(J26<>"",NOT(AND(AND(ISNUMBER(J26),J26>=43831,J26<=73050,J26=INT(J26)),J26>=B26))),"精算日を確認",IF(AND(J26<>"",OR(F26<>"本人立替",H26<>"対象",I26<>"確認済")),"精算日の前提を確認","確認済み")))))))))))))) | L26: =IF(K26="","",IF(K26="確認済み",0,1)) | M26: =IF(K26="","",IF(L26<>0,"入力を確認",IF(精算一覧!$I$3<>0,"期間を確認",IF(OR(B26<精算一覧!$B$3,B26>精算一覧!$E$3,B26>精算一覧!$H$3),"期間外",IF(F26="会社払い","会社払い",IF(H26="対象外","対象外",IF(I26="要確認","証憑保留",IF(AND(J26<>"",J26<=精算一覧!$H$3),"精算済","未精算")))))))) | N26: =IF(K26="","",IF(L26<>0,0,IF(精算一覧!$I$3<>0,0,IF(OR(M26="期間外",M26="会社払い",M26="対象外",M26="証憑保留",M26="精算済",M26="未精算"),0,1))))
... K57: =IF(COUNTA(A57:J57)=0,"",IF(NOT(AND(ISTEXT(A57),LEN(A57)=8,EXACT(LEFT(A57,4),"EXP-"),ISNUMBER(FIND(MID(A57,5,1)&"x","0x1x2x3x4x5x6x7x8x9x")),ISNUMBER(FIND(MID(A57,6,1)&"x","0x1x2x3x4x5x6x7x8x9x")),ISNUMBER(FIND(MID(A57,7,1)&"x","0x1x2x3x4x5x6x7x8x9x")),ISNUMBER(FIND(MID(A57,8,1)&"x","0x1x2x3x4x5x6x7x8x9x")))),"IDはEXP-と半角数字4桁",IF(COUNTIFS($A$8:$A$57,A57)>1,"支出IDが重複",IF(NOT(AND(ISNUMBER(B57),B57>=43831,B57<=73050,B57=INT(B57))),"支出日を確認",IF(NOT(AND(ISTEXT(C57),LEN(TRIM(C57))>0,LEN(C57)<=20,EXACT(CLEAN(C57),C57))),"支払先20文字以内",IF(NOT(AND(ISTEXT(D57),LEN(TRIM(D57))>0,LEN(D57)<=24,EXACT(CLEAN(D57),D57))),"内容24文字以内",IF(NOT(OR(E57="交通費",E57="消耗品費",E57="通信費",E57="その他")),"費目を選択",IF(NOT(OR(F57="本人立替",F57="会社払い")),"支払者を選択",IF(NOT(AND(ISNUMBER(G57),G57>=0,G57<=1000000000,G57=INT(G57))),"税込支出を確認",IF(NOT(OR(H57="対象",H57="対象外")),"精算対象を選択",IF(NOT(OR(I57="確認済",I57="要確認")),"証憑状態を選択",IF(AND(F57="会社払い",H57<>"対象外"),"会社払いは対象外",IF(AND(J57<>"",NOT(AND(AND(ISNUMBER(J57),J57>=43831,J57<=73050,J57=INT(J57)),J57>=B57))),"精算日を確認",IF(AND(J57<>"",OR(F57<>"本人立替",H57<>"対象",I57<>"確認済")),"精算日の前提を確認","確認済み")))))))))))))) | L57: =IF(K57="","",IF(K57="確認済み",0,1)) | M57: =IF(K57="","",IF(L57<>0,"入力を確認",IF(精算一覧!$I$3<>0,"期間を確認",IF(OR(B57<精算一覧!$B$3,B57>精算一覧!$E$3,B57>精算一覧!$H$3),"期間外",IF(F57="会社払い","会社払い",IF(H57="対象外","対象外",IF(I57="要確認","証憑保留",IF(AND(J57<>"",J57<=精算一覧!$H$3),"精算済","未精算")))))))) | N57: =IF(K57="","",IF(L57<>0,0,IF(精算一覧!$I$3<>0,0,IF(OR(M57="期間外",M57="会社払い",M57="対象外",M57="証憑保留",M57="精算済",M57="未精算"),0,1))))
A60: 架空サンプル。1人の立替を50支出まで照合する教材。黄色のA〜Jに入力。
A61: 支払先20文字・内容24文字、円整数0〜1000000000。空欄と0円を区別します。
A62: 会社払いは精算対象外。対象外/証憑要確認の行は精算日を空欄にします。
A63: 基準日より後の精算日は、その基準日時点の未精算です。部分精算・仮払相殺・外貨なし。
A64: 税計算・法的な費目/損金・社内承認・電子帳簿保存の要件を自動判定しません。
A65: 証憑状態は人が確認した記録だけ。原本は社内の正式な保管先へ別途保存します。
A66: 印刷は精算一覧のみ。初期A1:H16、50支出ならA1:H59へ手動で拡張。A4横・9行目繰返し。
A67: 版2 / CC0 1.0。https://creativecommons.org/publicdomain/zero/1.0/
A68: 一次情報確認2026-10-15。https://support.microsoft.com/en-us/excel/functions/sumifs-function
A69: https://support.microsoft.com/en-au/excel/get-started/apply-data-validation-to-cells
