Workbook

Sheet 在庫一覧
A2: 期首と入出庫から、帳簿在庫を確かめる | K2: 日付の前提 | L2: 入力の前提
A3: 期首日 | B3: 46296 | D3: 集計日 | E3: 46326 | G3: 記録確認基準日 | H3: 46331 | K3: =IF(AND(IF(ISNUMBER(B3),AND(B3>=43831,B3<73051,B3=INT(B3)),FALSE()),IF(ISNUMBER(E3),AND(E3>=43831,E3<73051,E3=INT(E3)),FALSE()),IF(ISNUMBER(H3),AND(H3>=43831,H3<73051,H3=INT(H3)),FALSE()),B3<=E3,E3<=H3),0,1) -> 0 | L3: =IF(AND(ISNUMBER(K3),K3=IF(AND(IF(ISNUMBER(B3),AND(B3>=43831,B3<73051,B3=INT(B3)),FALSE()),IF(ISNUMBER(E3),AND(E3>=43831,E3<73051,E3=INT(E3)),FALSE()),IF(ISNUMBER(H3),AND(H3>=43831,H3<73051,H3=INT(H3)),FALSE()),B3<=E3,E3<=H3),0,1)),K3,1)+SUM(期首と基準!M8:N57)+SUM(入出庫記録!L8:M107)+IF(COUNT(期首と基準!N8:N57)=50,0,1)+IF(COUNT(入出庫記録!M8:M107)=100,0,1) -> 0
A4: 単一保管場所・単位は個。帳簿在庫は実物在庫や出荷可能数を保証しません。 | I4: =IF(L3=0,"入力不備なし","入力を確認") -> 入力不備なし
A5: 登録品目（件） | B5: =IF($L$3<>0,NA(),COUNTIFS(期首と基準!L8:L57,"確認済み")) -> 8 | D5: 期首確認済小計（個） | E5: =IF($L$3<>0,NA(),SUMIFS(期首と基準!C8:C57,期首と基準!B8:B57,"確認済")) -> 166 | G5: 期首未確認（件） | H5: =IF($L$3<>0,NA(),COUNTIFS(期首と基準!B8:B57,"未確認")) -> 1
A6: 確定入庫（個） | B6: =IF($L$3<>0,NA(),SUM(期首と基準!F8:F57)) -> 61 | D6: 確定出庫（個） | E6: =IF($L$3<>0,NA(),SUM(期首と基準!G8:G57)) -> 95 | G6: 対象未確認記録（件） | H6: =IF($L$3<>0,NA(),SUM(期首と基準!H8:H57)) -> 1
A7: 数量算出済（件） | B7: =IF($L$3<>0,NA(),B5-H8) -> 6 | D7: 算出済在庫小計（個） | E7: =IF($L$3<>0,NA(),SUM(期首と基準!I8:I57)) -> 52 | G7: 全品目在庫合計（個） | H7: =IF($L$3<>0,NA(),IF(B5=0,"対象なし",IF(H8>0,"判定保留",E7))) -> 判定保留
A8: 基準割れ品目（件） | B8: =IF($L$3<>0,NA(),COUNTIFS(期首と基準!J8:J57,"基準割れ")) -> 1 | D8: 帳簿負数品目（件） | E8: =IF($L$3<>0,NA(),COUNTIFS(期首と基準!J8:J57,"帳簿負数")) -> 1 | G8: 在庫未確認品目（件） | H8: =IF($L$3<>0,NA(),COUNTIFS(期首と基準!J8:J57,"未確認")) -> 2
A9: 品目ID | B9: 期首（個） | C9: 入庫（個） | D9: 出庫（個） | E9: 未確認（件） | F9: 帳簿在庫（個） | G9: 基準数量（個） | H9: 基準まで不足（個） | I9: 判定
A10: =IF($L$3<>0,NA(),IF(COUNTA(期首と基準!A8:E8)=0,"",期首と基準!A8)) -> SKU-0001 | B10: =IF($L$3<>0,NA(),IF(COUNTA(期首と基準!A8:E8)=0,"",IF(COUNTA(期首と基準!C8)=0,"",期首と基準!C8))) -> 100 | C10: =IF($L$3<>0,NA(),IF(COUNTA(期首と基準!A8:E8)=0,"",期首と基準!F8)) -> 20 | D10: =IF($L$3<>0,NA(),IF(COUNTA(期首と基準!A8:E8)=0,"",期首と基準!G8)) -> 80 | E10: =IF($L$3<>0,NA(),IF(COUNTA(期首と基準!A8:E8)=0,"",期首と基準!H8)) -> 0 | F10: =IF($L$3<>0,NA(),IF(COUNTA(期首と基準!A8:E8)=0,"",期首と基準!I8)) -> 40 | G10: =IF($L$3<>0,NA(),IF(COUNTA(期首と基準!A8:E8)=0,"",期首と基準!E8)) -> 50 | H10: =IF($L$3<>0,NA(),IF(COUNTA(期首と基準!A8:E8)=0,"",期首と基準!K8)) -> 10 | I10: =IF($L$3<>0,NA(),IF(COUNTA(期首と基準!A8:E8)=0,"",期首と基準!J8)) -> 基準割れ
A11: =IF($L$3<>0,NA(),IF(COUNTA(期首と基準!A9:E9)=0,"",期首と基準!A9)) -> SKU-0002 | B11: =IF($L$3<>0,NA(),IF(COUNTA(期首と基準!A9:E9)=0,"",IF(COUNTA(期首と基準!C9)=0,"",期首と基準!C9))) -> 0 | C11: =IF($L$3<>0,NA(),IF(COUNTA(期首と基準!A9:E9)=0,"",期首と基準!F9)) -> 10 | D11: =IF($L$3<>0,NA(),IF(COUNTA(期首と基準!A9:E9)=0,"",期首と基準!G9)) -> 15 | E11: =IF($L$3<>0,NA(),IF(COUNTA(期首と基準!A9:E9)=0,"",期首と基準!H9)) -> 0 | F11: =IF($L$3<>0,NA(),IF(COUNTA(期首と基準!A9:E9)=0,"",期首と基準!I9)) -> -5 | G11: =IF($L$3<>0,NA(),IF(COUNTA(期首と基準!A9:E9)=0,"",期首と基準!E9)) -> 0 | H11: =IF($L$3<>0,NA(),IF(COUNTA(期首と基準!A9:E9)=0,"",期首と基準!K9)) | I11: =IF($L$3<>0,NA(),IF(COUNTA(期首と基準!A9:E9)=0,"",期首と基準!J9)) -> 帳簿負数
A12: =IF($L$3<>0,NA(),IF(COUNTA(期首と基準!A10:E10)=0,"",期首と基準!A10)) -> SKU-0003 | B12: =IF($L$3<>0,NA(),IF(COUNTA(期首と基準!A10:E10)=0,"",IF(COUNTA(期首と基準!C10)=0,"",期首と基準!C10))) | C12: =IF($L$3<>0,NA(),IF(COUNTA(期首と基準!A10:E10)=0,"",期首と基準!F10)) -> 30 | D12: =IF($L$3<>0,NA(),IF(COUNTA(期首と基準!A10:E10)=0,"",期首と基準!G10)) -> 0 | E12: =IF($L$3<>0,NA(),IF(COUNTA(期首と基準!A10:E10)=0,"",期首と基準!H10)) -> 0 | F12: =IF($L$3<>0,NA(),IF(COUNTA(期首と基準!A10:E10)=0,"",期首と基準!I10)) | G12: =IF($L$3<>0,NA(),IF(COUNTA(期首と基準!A10:E10)=0,"",期首と基準!E10)) -> 10 | H12: =IF($L$3<>0,NA(),IF(COUNTA(期首と基準!A10:E10)=0,"",期首と基準!K10)) | I12: =IF($L$3<>0,NA(),IF(COUNTA(期首と基準!A10:E10)=0,"",期首と基準!J10)) -> 未確認
A13: =IF($L$3<>0,NA(),IF(COUNTA(期首と基準!A11:E11)=0,"",期首と基準!A11)) -> SKU-0004 | B13: =IF($L$3<>0,NA(),IF(COUNTA(期首と基準!A11:E11)=0,"",IF(COUNTA(期首と基準!C11)=0,"",期首と基準!C11))) -> 50 | C13: =IF($L$3<>0,NA(),IF(COUNTA(期首と基準!A11:E11)=0,"",期首と基準!F11)) -> 0 | D13: =IF($L$3<>0,NA(),IF(COUNTA(期首と基準!A11:E11)=0,"",期首と基準!G11)) -> 0 | E13: =IF($L$3<>0,NA(),IF(COUNTA(期首と基準!A11:E11)=0,"",期首と基準!H11)) -> 1 | F13: =IF($L$3<>0,NA(),IF(COUNTA(期首と基準!A11:E11)=0,"",期首と基準!I11)) | G13: =IF($L$3<>0,NA(),IF(COUNTA(期首と基準!A11:E11)=0,"",期首と基準!E11)) -> 20 | H13: =IF($L$3<>0,NA(),IF(COUNTA(期首と基準!A11:E11)=0,"",期首と基準!K11)) | I13: =IF($L$3<>0,NA(),IF(COUNTA(期首と基準!A11:E11)=0,"",期首と基準!J11)) -> 未確認
A14: =IF($L$3<>0,NA(),IF(COUNTA(期首と基準!A12:E12)=0,"",期首と基準!A12)) -> SKU-0005 | B14: =IF($L$3<>0,NA(),IF(COUNTA(期首と基準!A12:E12)=0,"",IF(COUNTA(期首と基準!C12)=0,"",期首と基準!C12))) -> 0 | C14: =IF($L$3<>0,NA(),IF(COUNTA(期首と基準!A12:E12)=0,"",期首と基準!F12)) -> 0 | D14: =IF($L$3<>0,NA(),IF(COUNTA(期首と基準!A12:E12)=0,"",期首と基準!G12)) -> 0 | E14: =IF($L$3<>0,NA(),IF(COUNTA(期首と基準!A12:E12)=0,"",期首と基準!H12)) -> 0 | F14: =IF($L$3<>0,NA(),IF(COUNTA(期首と基準!A12:E12)=0,"",期首と基準!I12)) -> 0 | G14: =IF($L$3<>0,NA(),IF(COUNTA(期首と基準!A12:E12)=0,"",期首と基準!E12)) -> 0 | H14: =IF($L$3<>0,NA(),IF(COUNTA(期首と基準!A12:E12)=0,"",期首と基準!K12)) -> 0 | I14: =IF($L$3<>0,NA(),IF(COUNTA(期首と基準!A12:E12)=0,"",期首と基準!J12)) -> 基準以上
A15: =IF($L$3<>0,NA(),IF(COUNTA(期首と基準!A13:E13)=0,"",期首と基準!A13)) -> SKU-0006 | B15: =IF($L$3<>0,NA(),IF(COUNTA(期首と基準!A13:E13)=0,"",IF(COUNTA(期首と基準!C13)=0,"",期首と基準!C13))) -> 5 | C15: =IF($L$3<>0,NA(),IF(COUNTA(期首と基準!A13:E13)=0,"",期首と基準!F13)) -> 0 | D15: =IF($L$3<>0,NA(),IF(COUNTA(期首と基準!A13:E13)=0,"",期首と基準!G13)) -> 0 | E15: =IF($L$3<>0,NA(),IF(COUNTA(期首と基準!A13:E13)=0,"",期首と基準!H13)) -> 0 | F15: =IF($L$3<>0,NA(),IF(COUNTA(期首と基準!A13:E13)=0,"",期首と基準!I13)) -> 5 | G15: =IF($L$3<>0,NA(),IF(COUNTA(期首と基準!A13:E13)=0,"",期首と基準!E13)) -> 5 | H15: =IF($L$3<>0,NA(),IF(COUNTA(期首と基準!A13:E13)=0,"",期首と基準!K13)) -> 0 | I15: =IF($L$3<>0,NA(),IF(COUNTA(期首と基準!A13:E13)=0,"",期首と基準!J13)) -> 基準以上
A16: =IF($L$3<>0,NA(),IF(COUNTA(期首と基準!A14:E14)=0,"",期首と基準!A14)) -> SKU-0007 | B16: =IF($L$3<>0,NA(),IF(COUNTA(期首と基準!A14:E14)=0,"",IF(COUNTA(期首と基準!C14)=0,"",期首と基準!C14))) -> 10 | C16: =IF($L$3<>0,NA(),IF(COUNTA(期首と基準!A14:E14)=0,"",期首と基準!F14)) -> 0 | D16: =IF($L$3<>0,NA(),IF(COUNTA(期首と基準!A14:E14)=0,"",期首と基準!G14)) -> 0 | E16: =IF($L$3<>0,NA(),IF(COUNTA(期首と基準!A14:E14)=0,"",期首と基準!H14)) -> 0 | F16: =IF($L$3<>0,NA(),IF(COUNTA(期首と基準!A14:E14)=0,"",期首と基準!I14)) -> 10 | G16: =IF($L$3<>0,NA(),IF(COUNTA(期首と基準!A14:E14)=0,"",期首と基準!E14)) -> 10 | H16: =IF($L$3<>0,NA(),IF(COUNTA(期首と基準!A14:E14)=0,"",期首と基準!K14)) -> 0 | I16: =IF($L$3<>0,NA(),IF(COUNTA(期首と基準!A14:E14)=0,"",期首と基準!J14)) -> 基準以上
A17: =IF($L$3<>0,NA(),IF(COUNTA(期首と基準!A15:E15)=0,"",期首と基準!A15)) -> SKU-0008 | B17: =IF($L$3<>0,NA(),IF(COUNTA(期首と基準!A15:E15)=0,"",IF(COUNTA(期首と基準!C15)=0,"",期首と基準!C15))) -> 1 | C17: =IF($L$3<>0,NA(),IF(COUNTA(期首と基準!A15:E15)=0,"",期首と基準!F15)) -> 1 | D17: =IF($L$3<>0,NA(),IF(COUNTA(期首と基準!A15:E15)=0,"",期首と基準!G15)) -> 0 | E17: =IF($L$3<>0,NA(),IF(COUNTA(期首と基準!A15:E15)=0,"",期首と基準!H15)) -> 0 | F17: =IF($L$3<>0,NA(),IF(COUNTA(期首と基準!A15:E15)=0,"",期首と基準!I15)) -> 2 | G17: =IF($L$3<>0,NA(),IF(COUNTA(期首と基準!A15:E15)=0,"",期首と基準!E15)) -> 2 | H17: =IF($L$3<>0,NA(),IF(COUNTA(期首と基準!A15:E15)=0,"",期首と基準!K15)) -> 0 | I17: =IF($L$3<>0,NA(),IF(COUNTA(期首と基準!A15:E15)=0,"",期首と基準!J15)) -> 基準以上
A18: =IF($L$3<>0,NA(),IF(COUNTA(期首と基準!A16:E16)=0,"",期首と基準!A16)) | B18: =IF($L$3<>0,NA(),IF(COUNTA(期首と基準!A16:E16)=0,"",IF(COUNTA(期首と基準!C16)=0,"",期首と基準!C16))) | C18: =IF($L$3<>0,NA(),IF(COUNTA(期首と基準!A16:E16)=0,"",期首と基準!F16)) | D18: =IF($L$3<>0,NA(),IF(COUNTA(期首と基準!A16:E16)=0,"",期首と基準!G16)) | E18: =IF($L$3<>0,NA(),IF(COUNTA(期首と基準!A16:E16)=0,"",期首と基準!H16)) | F18: =IF($L$3<>0,NA(),IF(COUNTA(期首と基準!A16:E16)=0,"",期首と基準!I16)) | G18: =IF($L$3<>0,NA(),IF(COUNTA(期首と基準!A16:E16)=0,"",期首と基準!E16)) | H18: =IF($L$3<>0,NA(),IF(COUNTA(期首と基準!A16:E16)=0,"",期首と基準!K16)) | I18: =IF($L$3<>0,NA(),IF(COUNTA(期首と基準!A16:E16)=0,"",期首と基準!J16))
A19: =IF($L$3<>0,NA(),IF(COUNTA(期首と基準!A17:E17)=0,"",期首と基準!A17)) | B19: =IF($L$3<>0,NA(),IF(COUNTA(期首と基準!A17:E17)=0,"",IF(COUNTA(期首と基準!C17)=0,"",期首と基準!C17))) | C19: =IF($L$3<>0,NA(),IF(COUNTA(期首と基準!A17:E17)=0,"",期首と基準!F17)) | D19: =IF($L$3<>0,NA(),IF(COUNTA(期首と基準!A17:E17)=0,"",期首と基準!G17)) | E19: =IF($L$3<>0,NA(),IF(COUNTA(期首と基準!A17:E17)=0,"",期首と基準!H17)) | F19: =IF($L$3<>0,NA(),IF(COUNTA(期首と基準!A17:E17)=0,"",期首と基準!I17)) | G19: =IF($L$3<>0,NA(),IF(COUNTA(期首と基準!A17:E17)=0,"",期首と基準!E17)) | H19: =IF($L$3<>0,NA(),IF(COUNTA(期首と基準!A17:E17)=0,"",期首と基準!K17)) | I19: =IF($L$3<>0,NA(),IF(COUNTA(期首と基準!A17:E17)=0,"",期首と基準!J17))
A20: =IF($L$3<>0,NA(),IF(COUNTA(期首と基準!A18:E18)=0,"",期首と基準!A18)) | B20: =IF($L$3<>0,NA(),IF(COUNTA(期首と基準!A18:E18)=0,"",IF(COUNTA(期首と基準!C18)=0,"",期首と基準!C18))) | C20: =IF($L$3<>0,NA(),IF(COUNTA(期首と基準!A18:E18)=0,"",期首と基準!F18)) | D20: =IF($L$3<>0,NA(),IF(COUNTA(期首と基準!A18:E18)=0,"",期首と基準!G18)) | E20: =IF($L$3<>0,NA(),IF(COUNTA(期首と基準!A18:E18)=0,"",期首と基準!H18)) | F20: =IF($L$3<>0,NA(),IF(COUNTA(期首と基準!A18:E18)=0,"",期首と基準!I18)) | G20: =IF($L$3<>0,NA(),IF(COUNTA(期首と基準!A18:E18)=0,"",期首と基準!E18)) | H20: =IF($L$3<>0,NA(),IF(COUNTA(期首と基準!A18:E18)=0,"",期首と基準!K18)) | I20: =IF($L$3<>0,NA(),IF(COUNTA(期首と基準!A18:E18)=0,"",期首と基準!J18))
A21: =IF($L$3<>0,NA(),IF(COUNTA(期首と基準!A19:E19)=0,"",期首と基準!A19)) | B21: =IF($L$3<>0,NA(),IF(COUNTA(期首と基準!A19:E19)=0,"",IF(COUNTA(期首と基準!C19)=0,"",期首と基準!C19))) | C21: =IF($L$3<>0,NA(),IF(COUNTA(期首と基準!A19:E19)=0,"",期首と基準!F19)) | D21: =IF($L$3<>0,NA(),IF(COUNTA(期首と基準!A19:E19)=0,"",期首と基準!G19)) | E21: =IF($L$3<>0,NA(),IF(COUNTA(期首と基準!A19:E19)=0,"",期首と基準!H19)) | F21: =IF($L$3<>0,NA(),IF(COUNTA(期首と基準!A19:E19)=0,"",期首と基準!I19)) | G21: =IF($L$3<>0,NA(),IF(COUNTA(期首と基準!A19:E19)=0,"",期首と基準!E19)) | H21: =IF($L$3<>0,NA(),IF(COUNTA(期首と基準!A19:E19)=0,"",期首と基準!K19)) | I21: =IF($L$3<>0,NA(),IF(COUNTA(期首と基準!A19:E19)=0,"",期首と基準!J19))
... A59: =IF($L$3<>0,NA(),IF(COUNTA(期首と基準!A57:E57)=0,"",期首と基準!A57)) | B59: =IF($L$3<>0,NA(),IF(COUNTA(期首と基準!A57:E57)=0,"",IF(COUNTA(期首と基準!C57)=0,"",期首と基準!C57))) | C59: =IF($L$3<>0,NA(),IF(COUNTA(期首と基準!A57:E57)=0,"",期首と基準!F57)) | D59: =IF($L$3<>0,NA(),IF(COUNTA(期首と基準!A57:E57)=0,"",期首と基準!G57)) | E59: =IF($L$3<>0,NA(),IF(COUNTA(期首と基準!A57:E57)=0,"",期首と基準!H57)) | F59: =IF($L$3<>0,NA(),IF(COUNTA(期首と基準!A57:E57)=0,"",期首と基準!I57)) | G59: =IF($L$3<>0,NA(),IF(COUNTA(期首と基準!A57:E57)=0,"",期首と基準!E57)) | H59: =IF($L$3<>0,NA(),IF(COUNTA(期首と基準!A57:E57)=0,"",期首と基準!K57)) | I59: =IF($L$3<>0,NA(),IF(COUNTA(期首と基準!A57:E57)=0,"",期首と基準!J57))

Sheet 期首と基準
A2: 期首数量と比較する基準を残す
A3: 黄色A〜Eへ50品目。SKU-と半角数字4桁。期首日が始まる直前の数量です。同じ単位「個」へ。
A5: 不明は未確認・数量は空欄。確認済0個は数値0。基準数量は比較用で、発注点や発注量の自動提案ではありません。
A7: 品目ID | B7: 期首区分 | C7: 期首数量（個） | D7: 期首記録確認日 | E7: 基準数量（個） | F7: 確定入庫（個） | G7: 確定出庫（個） | H7: 対象未確認（件） | I7: 帳簿在庫（個） | J7: 判定 | K7: 基準まで不足（個） | L7: 入力の確認 | M7: 入力不備 | N7: 計算の前提
A8: SKU-0001 | B8: 確認済 | C8: 100 | D8: 46296 | E8: 50 | F8: =IF(L8="","",IF(M8<>0,NA(),SUMIFS(入出庫記録!$H$8:$H$107,入出庫記録!$B$8:$B$107,A8))) -> 20 | G8: =IF(L8="","",IF(M8<>0,NA(),SUMIFS(入出庫記録!$I$8:$I$107,入出庫記録!$B$8:$B$107,A8))) -> 80 | H8: =IF(L8="","",IF(M8<>0,NA(),SUMIFS(入出庫記録!$J$8:$J$107,入出庫記録!$B$8:$B$107,A8))) -> 0 | I8: =IF(L8="","",IF(M8<>0,NA(),IF(OR(B8="未確認",H8>0),"",C8+F8-G8))) -> 40 | J8: =IF(L8="","",IF(M8<>0,NA(),IF(OR(B8="未確認",H8>0),"未確認",IF(I8<0,"帳簿負数",IF(I8<E8,"基準割れ","基準以上"))))) -> 基準割れ | K8: =IF(L8="","",IF(M8<>0,NA(),IF(OR(J8="未確認",J8="帳簿負数"),"",IF(I8<E8,E8-I8,0)))) -> 10 | L8: =IF(COUNTA(A8:E8)=0,"",IF(NOT(AND(ISTEXT(A8),LEN(A8)=8,EXACT(LEFT(A8,4),"SKU-"),ISNUMBER(FIND(MID(A8,5,1)&"x","0x1x2x3x4x5x6x7x8x9x")),ISNUMBER(FIND(MID(A8,6,1)&"x","0x1x2x3x4x5x6x7x8x9x")),ISNUMBER(FIND(MID(A8,7,1)&"x","0x1x2x3x4x5x6x7x8x9x")),ISNUMBER(FIND(MID(A8,8,1)&"x","0x1x2x3x4x5x6x7x8x9x")))),"IDはSKU-と半角数字4桁",IF(COUNTIFS($A$8:$A$57,A8)>1,"品目IDが重複",IF(NOT(OR(B8="確認済",B8="未確認")),"期首区分を確認",IF(AND(B8="確認済",NOT(IF(ISNUMBER(C8),AND(C8>=0,C8<=1000000,C8=INT(C8)),FALSE()))),"確認済期首は0〜100万個の整数で必須",IF(AND(B8="未確認",COUNTA(C8)>0),"未確認の期首数量は空欄",IF(NOT(IF(ISNUMBER(D8),AND(D8>=43831,D8<73051,D8=INT(D8)),FALSE())),"期首記録確認日は時刻なしで必須",IF(OR(D8<在庫一覧!$B$3,D8>在庫一覧!$H$3),"期首日≦期首確認日≦基準日を確認",IF(NOT(IF(ISNUMBER(E8),AND(E8>=0,E8<=1000000,E8=INT(E8)),FALSE())),"基準数量は0〜100万個の整数で必須","確認済み"))))))))) -> 確認済み | M8: =IF(L8="","",IF(L8="確認済み",0,1)) -> 0 | N8: =IF(COUNTA(A8:E8)=0,IF(AND(L8="",M8="",F8="",G8="",H8="",I8="",J8="",K8=""),0,1),IF(NOT(AND(ISTEXT(L8),L8=IF(COUNTA(A8:E8)=0,"",IF(NOT(AND(ISTEXT(A8),LEN(A8)=8,EXACT(LEFT(A8,4),"SKU-"),ISNUMBER(FIND(MID(A8,5,1)&"x","0x1x2x3x4x5x6x7x8x9x")),ISNUMBER(FIND(MID(A8,6,1)&"x","0x1x2x3x4x5x6x7x8x9x")),ISNUMBER(FIND(MID(A8,7,1)&"x","0x1x2x3x4x5x6x7x8x9x")),ISNUMBER(FIND(MID(A8,8,1)&"x","0x1x2x3x4x5x6x7x8x9x")))),"IDはSKU-と半角数字4桁",IF(COUNTIFS($A$8:$A$57,A8)>1,"品目IDが重複",IF(NOT(OR(B8="確認済",B8="未確認")),"期首区分を確認",IF(AND(B8="確認済",NOT(IF(ISNUMBER(C8),AND(C8>=0,C8<=1000000,C8=INT(C8)),FALSE()))),"確認済期首は0〜100万個の整数で必須",IF(AND(B8="未確認",COUNTA(C8)>0),"未確認の期首数量は空欄",IF(NOT(IF(ISNUMBER(D8),AND(D8>=43831,D8<73051,D8=INT(D8)),FALSE())),"期首記録確認日は時刻なしで必須",IF(OR(D8<在庫一覧!$B$3,D8>在庫一覧!$H$3),"期首日≦期首確認日≦基準日を確認",IF(NOT(IF(ISNUMBER(E8),AND(E8>=0,E8<=1000000,E8=INT(E8)),FALSE())),"基準数量は0〜100万個の整数で必須","確認済み"))))))))),ISNUMBER(M8),M8=IF(L8="確認済み",0,1))),1,IF(M8<>0,0,IF(AND(ISNUMBER(F8),F8=SUMIFS(入出庫記録!$H$8:$H$107,入出庫記録!$B$8:$B$107,A8),ISNUMBER(G8),G8=SUMIFS(入出庫記録!$I$8:$I$107,入出庫記録!$B$8:$B$107,A8),ISNUMBER(H8),H8=SUMIFS(入出庫記録!$J$8:$J$107,入出庫記録!$B$8:$B$107,A8),IF(J8="未確認",ISTEXT(I8),ISNUMBER(I8)),I8=IF(OR(B8="未確認",H8>0),"",C8+F8-G8),ISTEXT(J8),J8=IF(OR(B8="未確認",H8>0),"未確認",IF(I8<0,"帳簿負数",IF(I8<E8,"基準割れ","基準以上"))),IF(OR(J8="未確認",J8="帳簿負数"),ISTEXT(K8),ISNUMBER(K8)),K8=IF(OR(J8="未確認",J8="帳簿負数"),"",IF(I8<E8,E8-I8,0))),0,1)))) -> 0
A9: SKU-0002 | B9: 確認済 | C9: 0 | D9: 46296 | E9: 0 | F9: =IF(L9="","",IF(M9<>0,NA(),SUMIFS(入出庫記録!$H$8:$H$107,入出庫記録!$B$8:$B$107,A9))) -> 10 | G9: =IF(L9="","",IF(M9<>0,NA(),SUMIFS(入出庫記録!$I$8:$I$107,入出庫記録!$B$8:$B$107,A9))) -> 15 | H9: =IF(L9="","",IF(M9<>0,NA(),SUMIFS(入出庫記録!$J$8:$J$107,入出庫記録!$B$8:$B$107,A9))) -> 0 | I9: =IF(L9="","",IF(M9<>0,NA(),IF(OR(B9="未確認",H9>0),"",C9+F9-G9))) -> -5 | J9: =IF(L9="","",IF(M9<>0,NA(),IF(OR(B9="未確認",H9>0),"未確認",IF(I9<0,"帳簿負数",IF(I9<E9,"基準割れ","基準以上"))))) -> 帳簿負数 | K9: =IF(L9="","",IF(M9<>0,NA(),IF(OR(J9="未確認",J9="帳簿負数"),"",IF(I9<E9,E9-I9,0)))) | L9: =IF(COUNTA(A9:E9)=0,"",IF(NOT(AND(ISTEXT(A9),LEN(A9)=8,EXACT(LEFT(A9,4),"SKU-"),ISNUMBER(FIND(MID(A9,5,1)&"x","0x1x2x3x4x5x6x7x8x9x")),ISNUMBER(FIND(MID(A9,6,1)&"x","0x1x2x3x4x5x6x7x8x9x")),ISNUMBER(FIND(MID(A9,7,1)&"x","0x1x2x3x4x5x6x7x8x9x")),ISNUMBER(FIND(MID(A9,8,1)&"x","0x1x2x3x4x5x6x7x8x9x")))),"IDはSKU-と半角数字4桁",IF(COUNTIFS($A$8:$A$57,A9)>1,"品目IDが重複",IF(NOT(OR(B9="確認済",B9="未確認")),"期首区分を確認",IF(AND(B9="確認済",NOT(IF(ISNUMBER(C9),AND(C9>=0,C9<=1000000,C9=INT(C9)),FALSE()))),"確認済期首は0〜100万個の整数で必須",IF(AND(B9="未確認",COUNTA(C9)>0),"未確認の期首数量は空欄",IF(NOT(IF(ISNUMBER(D9),AND(D9>=43831,D9<73051,D9=INT(D9)),FALSE())),"期首記録確認日は時刻なしで必須",IF(OR(D9<在庫一覧!$B$3,D9>在庫一覧!$H$3),"期首日≦期首確認日≦基準日を確認",IF(NOT(IF(ISNUMBER(E9),AND(E9>=0,E9<=1000000,E9=INT(E9)),FALSE())),"基準数量は0〜100万個の整数で必須","確認済み"))))))))) -> 確認済み | M9: =IF(L9="","",IF(L9="確認済み",0,1)) -> 0 | N9: =IF(COUNTA(A9:E9)=0,IF(AND(L9="",M9="",F9="",G9="",H9="",I9="",J9="",K9=""),0,1),IF(NOT(AND(ISTEXT(L9),L9=IF(COUNTA(A9:E9)=0,"",IF(NOT(AND(ISTEXT(A9),LEN(A9)=8,EXACT(LEFT(A9,4),"SKU-"),ISNUMBER(FIND(MID(A9,5,1)&"x","0x1x2x3x4x5x6x7x8x9x")),ISNUMBER(FIND(MID(A9,6,1)&"x","0x1x2x3x4x5x6x7x8x9x")),ISNUMBER(FIND(MID(A9,7,1)&"x","0x1x2x3x4x5x6x7x8x9x")),ISNUMBER(FIND(MID(A9,8,1)&"x","0x1x2x3x4x5x6x7x8x9x")))),"IDはSKU-と半角数字4桁",IF(COUNTIFS($A$8:$A$57,A9)>1,"品目IDが重複",IF(NOT(OR(B9="確認済",B9="未確認")),"期首区分を確認",IF(AND(B9="確認済",NOT(IF(ISNUMBER(C9),AND(C9>=0,C9<=1000000,C9=INT(C9)),FALSE()))),"確認済期首は0〜100万個の整数で必須",IF(AND(B9="未確認",COUNTA(C9)>0),"未確認の期首数量は空欄",IF(NOT(IF(ISNUMBER(D9),AND(D9>=43831,D9<73051,D9=INT(D9)),FALSE())),"期首記録確認日は時刻なしで必須",IF(OR(D9<在庫一覧!$B$3,D9>在庫一覧!$H$3),"期首日≦期首確認日≦基準日を確認",IF(NOT(IF(ISNUMBER(E9),AND(E9>=0,E9<=1000000,E9=INT(E9)),FALSE())),"基準数量は0〜100万個の整数で必須","確認済み"))))))))),ISNUMBER(M9),M9=IF(L9="確認済み",0,1))),1,IF(M9<>0,0,IF(AND(ISNUMBER(F9),F9=SUMIFS(入出庫記録!$H$8:$H$107,入出庫記録!$B$8:$B$107,A9),ISNUMBER(G9),G9=SUMIFS(入出庫記録!$I$8:$I$107,入出庫記録!$B$8:$B$107,A9),ISNUMBER(H9),H9=SUMIFS(入出庫記録!$J$8:$J$107,入出庫記録!$B$8:$B$107,A9),IF(J9="未確認",ISTEXT(I9),ISNUMBER(I9)),I9=IF(OR(B9="未確認",H9>0),"",C9+F9-G9),ISTEXT(J9),J9=IF(OR(B9="未確認",H9>0),"未確認",IF(I9<0,"帳簿負数",IF(I9<E9,"基準割れ","基準以上"))),IF(OR(J9="未確認",J9="帳簿負数"),ISTEXT(K9),ISNUMBER(K9)),K9=IF(OR(J9="未確認",J9="帳簿負数"),"",IF(I9<E9,E9-I9,0))),0,1)))) -> 0
A10: SKU-0003 | B10: 未確認 | D10: 46296 | E10: 10 | F10: =IF(L10="","",IF(M10<>0,NA(),SUMIFS(入出庫記録!$H$8:$H$107,入出庫記録!$B$8:$B$107,A10))) -> 30 | G10: =IF(L10="","",IF(M10<>0,NA(),SUMIFS(入出庫記録!$I$8:$I$107,入出庫記録!$B$8:$B$107,A10))) -> 0 | H10: =IF(L10="","",IF(M10<>0,NA(),SUMIFS(入出庫記録!$J$8:$J$107,入出庫記録!$B$8:$B$107,A10))) -> 0 | I10: =IF(L10="","",IF(M10<>0,NA(),IF(OR(B10="未確認",H10>0),"",C10+F10-G10))) | J10: =IF(L10="","",IF(M10<>0,NA(),IF(OR(B10="未確認",H10>0),"未確認",IF(I10<0,"帳簿負数",IF(I10<E10,"基準割れ","基準以上"))))) -> 未確認 | K10: =IF(L10="","",IF(M10<>0,NA(),IF(OR(J10="未確認",J10="帳簿負数"),"",IF(I10<E10,E10-I10,0)))) | L10: =IF(COUNTA(A10:E10)=0,"",IF(NOT(AND(ISTEXT(A10),LEN(A10)=8,EXACT(LEFT(A10,4),"SKU-"),ISNUMBER(FIND(MID(A10,5,1)&"x","0x1x2x3x4x5x6x7x8x9x")),ISNUMBER(FIND(MID(A10,6,1)&"x","0x1x2x3x4x5x6x7x8x9x")),ISNUMBER(FIND(MID(A10,7,1)&"x","0x1x2x3x4x5x6x7x8x9x")),ISNUMBER(FIND(MID(A10,8,1)&"x","0x1x2x3x4x5x6x7x8x9x")))),"IDはSKU-と半角数字4桁",IF(COUNTIFS($A$8:$A$57,A10)>1,"品目IDが重複",IF(NOT(OR(B10="確認済",B10="未確認")),"期首区分を確認",IF(AND(B10="確認済",NOT(IF(ISNUMBER(C10),AND(C10>=0,C10<=1000000,C10=INT(C10)),FALSE()))),"確認済期首は0〜100万個の整数で必須",IF(AND(B10="未確認",COUNTA(C10)>0),"未確認の期首数量は空欄",IF(NOT(IF(ISNUMBER(D10),AND(D10>=43831,D10<73051,D10=INT(D10)),FALSE())),"期首記録確認日は時刻なしで必須",IF(OR(D10<在庫一覧!$B$3,D10>在庫一覧!$H$3),"期首日≦期首確認日≦基準日を確認",IF(NOT(IF(ISNUMBER(E10),AND(E10>=0,E10<=1000000,E10=INT(E10)),FALSE())),"基準数量は0〜100万個の整数で必須","確認済み"))))))))) -> 確認済み | M10: =IF(L10="","",IF(L10="確認済み",0,1)) -> 0 | N10: =IF(COUNTA(A10:E10)=0,IF(AND(L10="",M10="",F10="",G10="",H10="",I10="",J10="",K10=""),0,1),IF(NOT(AND(ISTEXT(L10),L10=IF(COUNTA(A10:E10)=0,"",IF(NOT(AND(ISTEXT(A10),LEN(A10)=8,EXACT(LEFT(A10,4),"SKU-"),ISNUMBER(FIND(MID(A10,5,1)&"x","0x1x2x3x4x5x6x7x8x9x")),ISNUMBER(FIND(MID(A10,6,1)&"x","0x1x2x3x4x5x6x7x8x9x")),ISNUMBER(FIND(MID(A10,7,1)&"x","0x1x2x3x4x5x6x7x8x9x")),ISNUMBER(FIND(MID(A10,8,1)&"x","0x1x2x3x4x5x6x7x8x9x")))),"IDはSKU-と半角数字4桁",IF(COUNTIFS($A$8:$A$57,A10)>1,"品目IDが重複",IF(NOT(OR(B10="確認済",B10="未確認")),"期首区分を確認",IF(AND(B10="確認済",NOT(IF(ISNUMBER(C10),AND(C10>=0,C10<=1000000,C10=INT(C10)),FALSE()))),"確認済期首は0〜100万個の整数で必須",IF(AND(B10="未確認",COUNTA(C10)>0),"未確認の期首数量は空欄",IF(NOT(IF(ISNUMBER(D10),AND(D10>=43831,D10<73051,D10=INT(D10)),FALSE())),"期首記録確認日は時刻なしで必須",IF(OR(D10<在庫一覧!$B$3,D10>在庫一覧!$H$3),"期首日≦期首確認日≦基準日を確認",IF(NOT(IF(ISNUMBER(E10),AND(E10>=0,E10<=1000000,E10=INT(E10)),FALSE())),"基準数量は0〜100万個の整数で必須","確認済み"))))))))),ISNUMBER(M10),M10=IF(L10="確認済み",0,1))),1,IF(M10<>0,0,IF(AND(ISNUMBER(F10),F10=SUMIFS(入出庫記録!$H$8:$H$107,入出庫記録!$B$8:$B$107,A10),ISNUMBER(G10),G10=SUMIFS(入出庫記録!$I$8:$I$107,入出庫記録!$B$8:$B$107,A10),ISNUMBER(H10),H10=SUMIFS(入出庫記録!$J$8:$J$107,入出庫記録!$B$8:$B$107,A10),IF(J10="未確認",ISTEXT(I10),ISNUMBER(I10)),I10=IF(OR(B10="未確認",H10>0),"",C10+F10-G10),ISTEXT(J10),J10=IF(OR(B10="未確認",H10>0),"未確認",IF(I10<0,"帳簿負数",IF(I10<E10,"基準割れ","基準以上"))),IF(OR(J10="未確認",J10="帳簿負数"),ISTEXT(K10),ISNUMBER(K10)),K10=IF(OR(J10="未確認",J10="帳簿負数"),"",IF(I10<E10,E10-I10,0))),0,1)))) -> 0
A11: SKU-0004 | B11: 確認済 | C11: 50 | D11: 46296 | E11: 20 | F11: =IF(L11="","",IF(M11<>0,NA(),SUMIFS(入出庫記録!$H$8:$H$107,入出庫記録!$B$8:$B$107,A11))) -> 0 | G11: =IF(L11="","",IF(M11<>0,NA(),SUMIFS(入出庫記録!$I$8:$I$107,入出庫記録!$B$8:$B$107,A11))) -> 0 | H11: =IF(L11="","",IF(M11<>0,NA(),SUMIFS(入出庫記録!$J$8:$J$107,入出庫記録!$B$8:$B$107,A11))) -> 1 | I11: =IF(L11="","",IF(M11<>0,NA(),IF(OR(B11="未確認",H11>0),"",C11+F11-G11))) | J11: =IF(L11="","",IF(M11<>0,NA(),IF(OR(B11="未確認",H11>0),"未確認",IF(I11<0,"帳簿負数",IF(I11<E11,"基準割れ","基準以上"))))) -> 未確認 | K11: =IF(L11="","",IF(M11<>0,NA(),IF(OR(J11="未確認",J11="帳簿負数"),"",IF(I11<E11,E11-I11,0)))) | L11: =IF(COUNTA(A11:E11)=0,"",IF(NOT(AND(ISTEXT(A11),LEN(A11)=8,EXACT(LEFT(A11,4),"SKU-"),ISNUMBER(FIND(MID(A11,5,1)&"x","0x1x2x3x4x5x6x7x8x9x")),ISNUMBER(FIND(MID(A11,6,1)&"x","0x1x2x3x4x5x6x7x8x9x")),ISNUMBER(FIND(MID(A11,7,1)&"x","0x1x2x3x4x5x6x7x8x9x")),ISNUMBER(FIND(MID(A11,8,1)&"x","0x1x2x3x4x5x6x7x8x9x")))),"IDはSKU-と半角数字4桁",IF(COUNTIFS($A$8:$A$57,A11)>1,"品目IDが重複",IF(NOT(OR(B11="確認済",B11="未確認")),"期首区分を確認",IF(AND(B11="確認済",NOT(IF(ISNUMBER(C11),AND(C11>=0,C11<=1000000,C11=INT(C11)),FALSE()))),"確認済期首は0〜100万個の整数で必須",IF(AND(B11="未確認",COUNTA(C11)>0),"未確認の期首数量は空欄",IF(NOT(IF(ISNUMBER(D11),AND(D11>=43831,D11<73051,D11=INT(D11)),FALSE())),"期首記録確認日は時刻なしで必須",IF(OR(D11<在庫一覧!$B$3,D11>在庫一覧!$H$3),"期首日≦期首確認日≦基準日を確認",IF(NOT(IF(ISNUMBER(E11),AND(E11>=0,E11<=1000000,E11=INT(E11)),FALSE())),"基準数量は0〜100万個の整数で必須","確認済み"))))))))) -> 確認済み | M11: =IF(L11="","",IF(L11="確認済み",0,1)) -> 0 | N11: =IF(COUNTA(A11:E11)=0,IF(AND(L11="",M11="",F11="",G11="",H11="",I11="",J11="",K11=""),0,1),IF(NOT(AND(ISTEXT(L11),L11=IF(COUNTA(A11:E11)=0,"",IF(NOT(AND(ISTEXT(A11),LEN(A11)=8,EXACT(LEFT(A11,4),"SKU-"),ISNUMBER(FIND(MID(A11,5,1)&"x","0x1x2x3x4x5x6x7x8x9x")),ISNUMBER(FIND(MID(A11,6,1)&"x","0x1x2x3x4x5x6x7x8x9x")),ISNUMBER(FIND(MID(A11,7,1)&"x","0x1x2x3x4x5x6x7x8x9x")),ISNUMBER(FIND(MID(A11,8,1)&"x","0x1x2x3x4x5x6x7x8x9x")))),"IDはSKU-と半角数字4桁",IF(COUNTIFS($A$8:$A$57,A11)>1,"品目IDが重複",IF(NOT(OR(B11="確認済",B11="未確認")),"期首区分を確認",IF(AND(B11="確認済",NOT(IF(ISNUMBER(C11),AND(C11>=0,C11<=1000000,C11=INT(C11)),FALSE()))),"確認済期首は0〜100万個の整数で必須",IF(AND(B11="未確認",COUNTA(C11)>0),"未確認の期首数量は空欄",IF(NOT(IF(ISNUMBER(D11),AND(D11>=43831,D11<73051,D11=INT(D11)),FALSE())),"期首記録確認日は時刻なしで必須",IF(OR(D11<在庫一覧!$B$3,D11>在庫一覧!$H$3),"期首日≦期首確認日≦基準日を確認",IF(NOT(IF(ISNUMBER(E11),AND(E11>=0,E11<=1000000,E11=INT(E11)),FALSE())),"基準数量は0〜100万個の整数で必須","確認済み"))))))))),ISNUMBER(M11),M11=IF(L11="確認済み",0,1))),1,IF(M11<>0,0,IF(AND(ISNUMBER(F11),F11=SUMIFS(入出庫記録!$H$8:$H$107,入出庫記録!$B$8:$B$107,A11),ISNUMBER(G11),G11=SUMIFS(入出庫記録!$I$8:$I$107,入出庫記録!$B$8:$B$107,A11),ISNUMBER(H11),H11=SUMIFS(入出庫記録!$J$8:$J$107,入出庫記録!$B$8:$B$107,A11),IF(J11="未確認",ISTEXT(I11),ISNUMBER(I11)),I11=IF(OR(B11="未確認",H11>0),"",C11+F11-G11),ISTEXT(J11),J11=IF(OR(B11="未確認",H11>0),"未確認",IF(I11<0,"帳簿負数",IF(I11<E11,"基準割れ","基準以上"))),IF(OR(J11="未確認",J11="帳簿負数"),ISTEXT(K11),ISNUMBER(K11)),K11=IF(OR(J11="未確認",J11="帳簿負数"),"",IF(I11<E11,E11-I11,0))),0,1)))) -> 0
A12: SKU-0005 | B12: 確認済 | C12: 0 | D12: 46296 | E12: 0 | F12: =IF(L12="","",IF(M12<>0,NA(),SUMIFS(入出庫記録!$H$8:$H$107,入出庫記録!$B$8:$B$107,A12))) -> 0 | G12: =IF(L12="","",IF(M12<>0,NA(),SUMIFS(入出庫記録!$I$8:$I$107,入出庫記録!$B$8:$B$107,A12))) -> 0 | H12: =IF(L12="","",IF(M12<>0,NA(),SUMIFS(入出庫記録!$J$8:$J$107,入出庫記録!$B$8:$B$107,A12))) -> 0 | I12: =IF(L12="","",IF(M12<>0,NA(),IF(OR(B12="未確認",H12>0),"",C12+F12-G12))) -> 0 | J12: =IF(L12="","",IF(M12<>0,NA(),IF(OR(B12="未確認",H12>0),"未確認",IF(I12<0,"帳簿負数",IF(I12<E12,"基準割れ","基準以上"))))) -> 基準以上 | K12: =IF(L12="","",IF(M12<>0,NA(),IF(OR(J12="未確認",J12="帳簿負数"),"",IF(I12<E12,E12-I12,0)))) -> 0 | L12: =IF(COUNTA(A12:E12)=0,"",IF(NOT(AND(ISTEXT(A12),LEN(A12)=8,EXACT(LEFT(A12,4),"SKU-"),ISNUMBER(FIND(MID(A12,5,1)&"x","0x1x2x3x4x5x6x7x8x9x")),ISNUMBER(FIND(MID(A12,6,1)&"x","0x1x2x3x4x5x6x7x8x9x")),ISNUMBER(FIND(MID(A12,7,1)&"x","0x1x2x3x4x5x6x7x8x9x")),ISNUMBER(FIND(MID(A12,8,1)&"x","0x1x2x3x4x5x6x7x8x9x")))),"IDはSKU-と半角数字4桁",IF(COUNTIFS($A$8:$A$57,A12)>1,"品目IDが重複",IF(NOT(OR(B12="確認済",B12="未確認")),"期首区分を確認",IF(AND(B12="確認済",NOT(IF(ISNUMBER(C12),AND(C12>=0,C12<=1000000,C12=INT(C12)),FALSE()))),"確認済期首は0〜100万個の整数で必須",IF(AND(B12="未確認",COUNTA(C12)>0),"未確認の期首数量は空欄",IF(NOT(IF(ISNUMBER(D12),AND(D12>=43831,D12<73051,D12=INT(D12)),FALSE())),"期首記録確認日は時刻なしで必須",IF(OR(D12<在庫一覧!$B$3,D12>在庫一覧!$H$3),"期首日≦期首確認日≦基準日を確認",IF(NOT(IF(ISNUMBER(E12),AND(E12>=0,E12<=1000000,E12=INT(E12)),FALSE())),"基準数量は0〜100万個の整数で必須","確認済み"))))))))) -> 確認済み | M12: =IF(L12="","",IF(L12="確認済み",0,1)) -> 0 | N12: =IF(COUNTA(A12:E12)=0,IF(AND(L12="",M12="",F12="",G12="",H12="",I12="",J12="",K12=""),0,1),IF(NOT(AND(ISTEXT(L12),L12=IF(COUNTA(A12:E12)=0,"",IF(NOT(AND(ISTEXT(A12),LEN(A12)=8,EXACT(LEFT(A12,4),"SKU-"),ISNUMBER(FIND(MID(A12,5,1)&"x","0x1x2x3x4x5x6x7x8x9x")),ISNUMBER(FIND(MID(A12,6,1)&"x","0x1x2x3x4x5x6x7x8x9x")),ISNUMBER(FIND(MID(A12,7,1)&"x","0x1x2x3x4x5x6x7x8x9x")),ISNUMBER(FIND(MID(A12,8,1)&"x","0x1x2x3x4x5x6x7x8x9x")))),"IDはSKU-と半角数字4桁",IF(COUNTIFS($A$8:$A$57,A12)>1,"品目IDが重複",IF(NOT(OR(B12="確認済",B12="未確認")),"期首区分を確認",IF(AND(B12="確認済",NOT(IF(ISNUMBER(C12),AND(C12>=0,C12<=1000000,C12=INT(C12)),FALSE()))),"確認済期首は0〜100万個の整数で必須",IF(AND(B12="未確認",COUNTA(C12)>0),"未確認の期首数量は空欄",IF(NOT(IF(ISNUMBER(D12),AND(D12>=43831,D12<73051,D12=INT(D12)),FALSE())),"期首記録確認日は時刻なしで必須",IF(OR(D12<在庫一覧!$B$3,D12>在庫一覧!$H$3),"期首日≦期首確認日≦基準日を確認",IF(NOT(IF(ISNUMBER(E12),AND(E12>=0,E12<=1000000,E12=INT(E12)),FALSE())),"基準数量は0〜100万個の整数で必須","確認済み"))))))))),ISNUMBER(M12),M12=IF(L12="確認済み",0,1))),1,IF(M12<>0,0,IF(AND(ISNUMBER(F12),F12=SUMIFS(入出庫記録!$H$8:$H$107,入出庫記録!$B$8:$B$107,A12),ISNUMBER(G12),G12=SUMIFS(入出庫記録!$I$8:$I$107,入出庫記録!$B$8:$B$107,A12),ISNUMBER(H12),H12=SUMIFS(入出庫記録!$J$8:$J$107,入出庫記録!$B$8:$B$107,A12),IF(J12="未確認",ISTEXT(I12),ISNUMBER(I12)),I12=IF(OR(B12="未確認",H12>0),"",C12+F12-G12),ISTEXT(J12),J12=IF(OR(B12="未確認",H12>0),"未確認",IF(I12<0,"帳簿負数",IF(I12<E12,"基準割れ","基準以上"))),IF(OR(J12="未確認",J12="帳簿負数"),ISTEXT(K12),ISNUMBER(K12)),K12=IF(OR(J12="未確認",J12="帳簿負数"),"",IF(I12<E12,E12-I12,0))),0,1)))) -> 0
A13: SKU-0006 | B13: 確認済 | C13: 5 | D13: 46296 | E13: 5 | F13: =IF(L13="","",IF(M13<>0,NA(),SUMIFS(入出庫記録!$H$8:$H$107,入出庫記録!$B$8:$B$107,A13))) -> 0 | G13: =IF(L13="","",IF(M13<>0,NA(),SUMIFS(入出庫記録!$I$8:$I$107,入出庫記録!$B$8:$B$107,A13))) -> 0 | H13: =IF(L13="","",IF(M13<>0,NA(),SUMIFS(入出庫記録!$J$8:$J$107,入出庫記録!$B$8:$B$107,A13))) -> 0 | I13: =IF(L13="","",IF(M13<>0,NA(),IF(OR(B13="未確認",H13>0),"",C13+F13-G13))) -> 5 | J13: =IF(L13="","",IF(M13<>0,NA(),IF(OR(B13="未確認",H13>0),"未確認",IF(I13<0,"帳簿負数",IF(I13<E13,"基準割れ","基準以上"))))) -> 基準以上 | K13: =IF(L13="","",IF(M13<>0,NA(),IF(OR(J13="未確認",J13="帳簿負数"),"",IF(I13<E13,E13-I13,0)))) -> 0 | L13: =IF(COUNTA(A13:E13)=0,"",IF(NOT(AND(ISTEXT(A13),LEN(A13)=8,EXACT(LEFT(A13,4),"SKU-"),ISNUMBER(FIND(MID(A13,5,1)&"x","0x1x2x3x4x5x6x7x8x9x")),ISNUMBER(FIND(MID(A13,6,1)&"x","0x1x2x3x4x5x6x7x8x9x")),ISNUMBER(FIND(MID(A13,7,1)&"x","0x1x2x3x4x5x6x7x8x9x")),ISNUMBER(FIND(MID(A13,8,1)&"x","0x1x2x3x4x5x6x7x8x9x")))),"IDはSKU-と半角数字4桁",IF(COUNTIFS($A$8:$A$57,A13)>1,"品目IDが重複",IF(NOT(OR(B13="確認済",B13="未確認")),"期首区分を確認",IF(AND(B13="確認済",NOT(IF(ISNUMBER(C13),AND(C13>=0,C13<=1000000,C13=INT(C13)),FALSE()))),"確認済期首は0〜100万個の整数で必須",IF(AND(B13="未確認",COUNTA(C13)>0),"未確認の期首数量は空欄",IF(NOT(IF(ISNUMBER(D13),AND(D13>=43831,D13<73051,D13=INT(D13)),FALSE())),"期首記録確認日は時刻なしで必須",IF(OR(D13<在庫一覧!$B$3,D13>在庫一覧!$H$3),"期首日≦期首確認日≦基準日を確認",IF(NOT(IF(ISNUMBER(E13),AND(E13>=0,E13<=1000000,E13=INT(E13)),FALSE())),"基準数量は0〜100万個の整数で必須","確認済み"))))))))) -> 確認済み | M13: =IF(L13="","",IF(L13="確認済み",0,1)) -> 0 | N13: =IF(COUNTA(A13:E13)=0,IF(AND(L13="",M13="",F13="",G13="",H13="",I13="",J13="",K13=""),0,1),IF(NOT(AND(ISTEXT(L13),L13=IF(COUNTA(A13:E13)=0,"",IF(NOT(AND(ISTEXT(A13),LEN(A13)=8,EXACT(LEFT(A13,4),"SKU-"),ISNUMBER(FIND(MID(A13,5,1)&"x","0x1x2x3x4x5x6x7x8x9x")),ISNUMBER(FIND(MID(A13,6,1)&"x","0x1x2x3x4x5x6x7x8x9x")),ISNUMBER(FIND(MID(A13,7,1)&"x","0x1x2x3x4x5x6x7x8x9x")),ISNUMBER(FIND(MID(A13,8,1)&"x","0x1x2x3x4x5x6x7x8x9x")))),"IDはSKU-と半角数字4桁",IF(COUNTIFS($A$8:$A$57,A13)>1,"品目IDが重複",IF(NOT(OR(B13="確認済",B13="未確認")),"期首区分を確認",IF(AND(B13="確認済",NOT(IF(ISNUMBER(C13),AND(C13>=0,C13<=1000000,C13=INT(C13)),FALSE()))),"確認済期首は0〜100万個の整数で必須",IF(AND(B13="未確認",COUNTA(C13)>0),"未確認の期首数量は空欄",IF(NOT(IF(ISNUMBER(D13),AND(D13>=43831,D13<73051,D13=INT(D13)),FALSE())),"期首記録確認日は時刻なしで必須",IF(OR(D13<在庫一覧!$B$3,D13>在庫一覧!$H$3),"期首日≦期首確認日≦基準日を確認",IF(NOT(IF(ISNUMBER(E13),AND(E13>=0,E13<=1000000,E13=INT(E13)),FALSE())),"基準数量は0〜100万個の整数で必須","確認済み"))))))))),ISNUMBER(M13),M13=IF(L13="確認済み",0,1))),1,IF(M13<>0,0,IF(AND(ISNUMBER(F13),F13=SUMIFS(入出庫記録!$H$8:$H$107,入出庫記録!$B$8:$B$107,A13),ISNUMBER(G13),G13=SUMIFS(入出庫記録!$I$8:$I$107,入出庫記録!$B$8:$B$107,A13),ISNUMBER(H13),H13=SUMIFS(入出庫記録!$J$8:$J$107,入出庫記録!$B$8:$B$107,A13),IF(J13="未確認",ISTEXT(I13),ISNUMBER(I13)),I13=IF(OR(B13="未確認",H13>0),"",C13+F13-G13),ISTEXT(J13),J13=IF(OR(B13="未確認",H13>0),"未確認",IF(I13<0,"帳簿負数",IF(I13<E13,"基準割れ","基準以上"))),IF(OR(J13="未確認",J13="帳簿負数"),ISTEXT(K13),ISNUMBER(K13)),K13=IF(OR(J13="未確認",J13="帳簿負数"),"",IF(I13<E13,E13-I13,0))),0,1)))) -> 0
A14: SKU-0007 | B14: 確認済 | C14: 10 | D14: 46296 | E14: 10 | F14: =IF(L14="","",IF(M14<>0,NA(),SUMIFS(入出庫記録!$H$8:$H$107,入出庫記録!$B$8:$B$107,A14))) -> 0 | G14: =IF(L14="","",IF(M14<>0,NA(),SUMIFS(入出庫記録!$I$8:$I$107,入出庫記録!$B$8:$B$107,A14))) -> 0 | H14: =IF(L14="","",IF(M14<>0,NA(),SUMIFS(入出庫記録!$J$8:$J$107,入出庫記録!$B$8:$B$107,A14))) -> 0 | I14: =IF(L14="","",IF(M14<>0,NA(),IF(OR(B14="未確認",H14>0),"",C14+F14-G14))) -> 10 | J14: =IF(L14="","",IF(M14<>0,NA(),IF(OR(B14="未確認",H14>0),"未確認",IF(I14<0,"帳簿負数",IF(I14<E14,"基準割れ","基準以上"))))) -> 基準以上 | K14: =IF(L14="","",IF(M14<>0,NA(),IF(OR(J14="未確認",J14="帳簿負数"),"",IF(I14<E14,E14-I14,0)))) -> 0 | L14: =IF(COUNTA(A14:E14)=0,"",IF(NOT(AND(ISTEXT(A14),LEN(A14)=8,EXACT(LEFT(A14,4),"SKU-"),ISNUMBER(FIND(MID(A14,5,1)&"x","0x1x2x3x4x5x6x7x8x9x")),ISNUMBER(FIND(MID(A14,6,1)&"x","0x1x2x3x4x5x6x7x8x9x")),ISNUMBER(FIND(MID(A14,7,1)&"x","0x1x2x3x4x5x6x7x8x9x")),ISNUMBER(FIND(MID(A14,8,1)&"x","0x1x2x3x4x5x6x7x8x9x")))),"IDはSKU-と半角数字4桁",IF(COUNTIFS($A$8:$A$57,A14)>1,"品目IDが重複",IF(NOT(OR(B14="確認済",B14="未確認")),"期首区分を確認",IF(AND(B14="確認済",NOT(IF(ISNUMBER(C14),AND(C14>=0,C14<=1000000,C14=INT(C14)),FALSE()))),"確認済期首は0〜100万個の整数で必須",IF(AND(B14="未確認",COUNTA(C14)>0),"未確認の期首数量は空欄",IF(NOT(IF(ISNUMBER(D14),AND(D14>=43831,D14<73051,D14=INT(D14)),FALSE())),"期首記録確認日は時刻なしで必須",IF(OR(D14<在庫一覧!$B$3,D14>在庫一覧!$H$3),"期首日≦期首確認日≦基準日を確認",IF(NOT(IF(ISNUMBER(E14),AND(E14>=0,E14<=1000000,E14=INT(E14)),FALSE())),"基準数量は0〜100万個の整数で必須","確認済み"))))))))) -> 確認済み | M14: =IF(L14="","",IF(L14="確認済み",0,1)) -> 0 | N14: =IF(COUNTA(A14:E14)=0,IF(AND(L14="",M14="",F14="",G14="",H14="",I14="",J14="",K14=""),0,1),IF(NOT(AND(ISTEXT(L14),L14=IF(COUNTA(A14:E14)=0,"",IF(NOT(AND(ISTEXT(A14),LEN(A14)=8,EXACT(LEFT(A14,4),"SKU-"),ISNUMBER(FIND(MID(A14,5,1)&"x","0x1x2x3x4x5x6x7x8x9x")),ISNUMBER(FIND(MID(A14,6,1)&"x","0x1x2x3x4x5x6x7x8x9x")),ISNUMBER(FIND(MID(A14,7,1)&"x","0x1x2x3x4x5x6x7x8x9x")),ISNUMBER(FIND(MID(A14,8,1)&"x","0x1x2x3x4x5x6x7x8x9x")))),"IDはSKU-と半角数字4桁",IF(COUNTIFS($A$8:$A$57,A14)>1,"品目IDが重複",IF(NOT(OR(B14="確認済",B14="未確認")),"期首区分を確認",IF(AND(B14="確認済",NOT(IF(ISNUMBER(C14),AND(C14>=0,C14<=1000000,C14=INT(C14)),FALSE()))),"確認済期首は0〜100万個の整数で必須",IF(AND(B14="未確認",COUNTA(C14)>0),"未確認の期首数量は空欄",IF(NOT(IF(ISNUMBER(D14),AND(D14>=43831,D14<73051,D14=INT(D14)),FALSE())),"期首記録確認日は時刻なしで必須",IF(OR(D14<在庫一覧!$B$3,D14>在庫一覧!$H$3),"期首日≦期首確認日≦基準日を確認",IF(NOT(IF(ISNUMBER(E14),AND(E14>=0,E14<=1000000,E14=INT(E14)),FALSE())),"基準数量は0〜100万個の整数で必須","確認済み"))))))))),ISNUMBER(M14),M14=IF(L14="確認済み",0,1))),1,IF(M14<>0,0,IF(AND(ISNUMBER(F14),F14=SUMIFS(入出庫記録!$H$8:$H$107,入出庫記録!$B$8:$B$107,A14),ISNUMBER(G14),G14=SUMIFS(入出庫記録!$I$8:$I$107,入出庫記録!$B$8:$B$107,A14),ISNUMBER(H14),H14=SUMIFS(入出庫記録!$J$8:$J$107,入出庫記録!$B$8:$B$107,A14),IF(J14="未確認",ISTEXT(I14),ISNUMBER(I14)),I14=IF(OR(B14="未確認",H14>0),"",C14+F14-G14),ISTEXT(J14),J14=IF(OR(B14="未確認",H14>0),"未確認",IF(I14<0,"帳簿負数",IF(I14<E14,"基準割れ","基準以上"))),IF(OR(J14="未確認",J14="帳簿負数"),ISTEXT(K14),ISNUMBER(K14)),K14=IF(OR(J14="未確認",J14="帳簿負数"),"",IF(I14<E14,E14-I14,0))),0,1)))) -> 0
A15: SKU-0008 | B15: 確認済 | C15: 1 | D15: 46296 | E15: 2 | F15: =IF(L15="","",IF(M15<>0,NA(),SUMIFS(入出庫記録!$H$8:$H$107,入出庫記録!$B$8:$B$107,A15))) -> 1 | G15: =IF(L15="","",IF(M15<>0,NA(),SUMIFS(入出庫記録!$I$8:$I$107,入出庫記録!$B$8:$B$107,A15))) -> 0 | H15: =IF(L15="","",IF(M15<>0,NA(),SUMIFS(入出庫記録!$J$8:$J$107,入出庫記録!$B$8:$B$107,A15))) -> 0 | I15: =IF(L15="","",IF(M15<>0,NA(),IF(OR(B15="未確認",H15>0),"",C15+F15-G15))) -> 2 | J15: =IF(L15="","",IF(M15<>0,NA(),IF(OR(B15="未確認",H15>0),"未確認",IF(I15<0,"帳簿負数",IF(I15<E15,"基準割れ","基準以上"))))) -> 基準以上 | K15: =IF(L15="","",IF(M15<>0,NA(),IF(OR(J15="未確認",J15="帳簿負数"),"",IF(I15<E15,E15-I15,0)))) -> 0 | L15: =IF(COUNTA(A15:E15)=0,"",IF(NOT(AND(ISTEXT(A15),LEN(A15)=8,EXACT(LEFT(A15,4),"SKU-"),ISNUMBER(FIND(MID(A15,5,1)&"x","0x1x2x3x4x5x6x7x8x9x")),ISNUMBER(FIND(MID(A15,6,1)&"x","0x1x2x3x4x5x6x7x8x9x")),ISNUMBER(FIND(MID(A15,7,1)&"x","0x1x2x3x4x5x6x7x8x9x")),ISNUMBER(FIND(MID(A15,8,1)&"x","0x1x2x3x4x5x6x7x8x9x")))),"IDはSKU-と半角数字4桁",IF(COUNTIFS($A$8:$A$57,A15)>1,"品目IDが重複",IF(NOT(OR(B15="確認済",B15="未確認")),"期首区分を確認",IF(AND(B15="確認済",NOT(IF(ISNUMBER(C15),AND(C15>=0,C15<=1000000,C15=INT(C15)),FALSE()))),"確認済期首は0〜100万個の整数で必須",IF(AND(B15="未確認",COUNTA(C15)>0),"未確認の期首数量は空欄",IF(NOT(IF(ISNUMBER(D15),AND(D15>=43831,D15<73051,D15=INT(D15)),FALSE())),"期首記録確認日は時刻なしで必須",IF(OR(D15<在庫一覧!$B$3,D15>在庫一覧!$H$3),"期首日≦期首確認日≦基準日を確認",IF(NOT(IF(ISNUMBER(E15),AND(E15>=0,E15<=1000000,E15=INT(E15)),FALSE())),"基準数量は0〜100万個の整数で必須","確認済み"))))))))) -> 確認済み | M15: =IF(L15="","",IF(L15="確認済み",0,1)) -> 0 | N15: =IF(COUNTA(A15:E15)=0,IF(AND(L15="",M15="",F15="",G15="",H15="",I15="",J15="",K15=""),0,1),IF(NOT(AND(ISTEXT(L15),L15=IF(COUNTA(A15:E15)=0,"",IF(NOT(AND(ISTEXT(A15),LEN(A15)=8,EXACT(LEFT(A15,4),"SKU-"),ISNUMBER(FIND(MID(A15,5,1)&"x","0x1x2x3x4x5x6x7x8x9x")),ISNUMBER(FIND(MID(A15,6,1)&"x","0x1x2x3x4x5x6x7x8x9x")),ISNUMBER(FIND(MID(A15,7,1)&"x","0x1x2x3x4x5x6x7x8x9x")),ISNUMBER(FIND(MID(A15,8,1)&"x","0x1x2x3x4x5x6x7x8x9x")))),"IDはSKU-と半角数字4桁",IF(COUNTIFS($A$8:$A$57,A15)>1,"品目IDが重複",IF(NOT(OR(B15="確認済",B15="未確認")),"期首区分を確認",IF(AND(B15="確認済",NOT(IF(ISNUMBER(C15),AND(C15>=0,C15<=1000000,C15=INT(C15)),FALSE()))),"確認済期首は0〜100万個の整数で必須",IF(AND(B15="未確認",COUNTA(C15)>0),"未確認の期首数量は空欄",IF(NOT(IF(ISNUMBER(D15),AND(D15>=43831,D15<73051,D15=INT(D15)),FALSE())),"期首記録確認日は時刻なしで必須",IF(OR(D15<在庫一覧!$B$3,D15>在庫一覧!$H$3),"期首日≦期首確認日≦基準日を確認",IF(NOT(IF(ISNUMBER(E15),AND(E15>=0,E15<=1000000,E15=INT(E15)),FALSE())),"基準数量は0〜100万個の整数で必須","確認済み"))))))))),ISNUMBER(M15),M15=IF(L15="確認済み",0,1))),1,IF(M15<>0,0,IF(AND(ISNUMBER(F15),F15=SUMIFS(入出庫記録!$H$8:$H$107,入出庫記録!$B$8:$B$107,A15),ISNUMBER(G15),G15=SUMIFS(入出庫記録!$I$8:$I$107,入出庫記録!$B$8:$B$107,A15),ISNUMBER(H15),H15=SUMIFS(入出庫記録!$J$8:$J$107,入出庫記録!$B$8:$B$107,A15),IF(J15="未確認",ISTEXT(I15),ISNUMBER(I15)),I15=IF(OR(B15="未確認",H15>0),"",C15+F15-G15),ISTEXT(J15),J15=IF(OR(B15="未確認",H15>0),"未確認",IF(I15<0,"帳簿負数",IF(I15<E15,"基準割れ","基準以上"))),IF(OR(J15="未確認",J15="帳簿負数"),ISTEXT(K15),ISNUMBER(K15)),K15=IF(OR(J15="未確認",J15="帳簿負数"),"",IF(I15<E15,E15-I15,0))),0,1)))) -> 0
F16: =IF(L16="","",IF(M16<>0,NA(),SUMIFS(入出庫記録!$H$8:$H$107,入出庫記録!$B$8:$B$107,A16))) | G16: =IF(L16="","",IF(M16<>0,NA(),SUMIFS(入出庫記録!$I$8:$I$107,入出庫記録!$B$8:$B$107,A16))) | H16: =IF(L16="","",IF(M16<>0,NA(),SUMIFS(入出庫記録!$J$8:$J$107,入出庫記録!$B$8:$B$107,A16))) | I16: =IF(L16="","",IF(M16<>0,NA(),IF(OR(B16="未確認",H16>0),"",C16+F16-G16))) | J16: =IF(L16="","",IF(M16<>0,NA(),IF(OR(B16="未確認",H16>0),"未確認",IF(I16<0,"帳簿負数",IF(I16<E16,"基準割れ","基準以上"))))) | K16: =IF(L16="","",IF(M16<>0,NA(),IF(OR(J16="未確認",J16="帳簿負数"),"",IF(I16<E16,E16-I16,0)))) | L16: =IF(COUNTA(A16:E16)=0,"",IF(NOT(AND(ISTEXT(A16),LEN(A16)=8,EXACT(LEFT(A16,4),"SKU-"),ISNUMBER(FIND(MID(A16,5,1)&"x","0x1x2x3x4x5x6x7x8x9x")),ISNUMBER(FIND(MID(A16,6,1)&"x","0x1x2x3x4x5x6x7x8x9x")),ISNUMBER(FIND(MID(A16,7,1)&"x","0x1x2x3x4x5x6x7x8x9x")),ISNUMBER(FIND(MID(A16,8,1)&"x","0x1x2x3x4x5x6x7x8x9x")))),"IDはSKU-と半角数字4桁",IF(COUNTIFS($A$8:$A$57,A16)>1,"品目IDが重複",IF(NOT(OR(B16="確認済",B16="未確認")),"期首区分を確認",IF(AND(B16="確認済",NOT(IF(ISNUMBER(C16),AND(C16>=0,C16<=1000000,C16=INT(C16)),FALSE()))),"確認済期首は0〜100万個の整数で必須",IF(AND(B16="未確認",COUNTA(C16)>0),"未確認の期首数量は空欄",IF(NOT(IF(ISNUMBER(D16),AND(D16>=43831,D16<73051,D16=INT(D16)),FALSE())),"期首記録確認日は時刻なしで必須",IF(OR(D16<在庫一覧!$B$3,D16>在庫一覧!$H$3),"期首日≦期首確認日≦基準日を確認",IF(NOT(IF(ISNUMBER(E16),AND(E16>=0,E16<=1000000,E16=INT(E16)),FALSE())),"基準数量は0〜100万個の整数で必須","確認済み"))))))))) | M16: =IF(L16="","",IF(L16="確認済み",0,1)) | N16: =IF(COUNTA(A16:E16)=0,IF(AND(L16="",M16="",F16="",G16="",H16="",I16="",J16="",K16=""),0,1),IF(NOT(AND(ISTEXT(L16),L16=IF(COUNTA(A16:E16)=0,"",IF(NOT(AND(ISTEXT(A16),LEN(A16)=8,EXACT(LEFT(A16,4),"SKU-"),ISNUMBER(FIND(MID(A16,5,1)&"x","0x1x2x3x4x5x6x7x8x9x")),ISNUMBER(FIND(MID(A16,6,1)&"x","0x1x2x3x4x5x6x7x8x9x")),ISNUMBER(FIND(MID(A16,7,1)&"x","0x1x2x3x4x5x6x7x8x9x")),ISNUMBER(FIND(MID(A16,8,1)&"x","0x1x2x3x4x5x6x7x8x9x")))),"IDはSKU-と半角数字4桁",IF(COUNTIFS($A$8:$A$57,A16)>1,"品目IDが重複",IF(NOT(OR(B16="確認済",B16="未確認")),"期首区分を確認",IF(AND(B16="確認済",NOT(IF(ISNUMBER(C16),AND(C16>=0,C16<=1000000,C16=INT(C16)),FALSE()))),"確認済期首は0〜100万個の整数で必須",IF(AND(B16="未確認",COUNTA(C16)>0),"未確認の期首数量は空欄",IF(NOT(IF(ISNUMBER(D16),AND(D16>=43831,D16<73051,D16=INT(D16)),FALSE())),"期首記録確認日は時刻なしで必須",IF(OR(D16<在庫一覧!$B$3,D16>在庫一覧!$H$3),"期首日≦期首確認日≦基準日を確認",IF(NOT(IF(ISNUMBER(E16),AND(E16>=0,E16<=1000000,E16=INT(E16)),FALSE())),"基準数量は0〜100万個の整数で必須","確認済み"))))))))),ISNUMBER(M16),M16=IF(L16="確認済み",0,1))),1,IF(M16<>0,0,IF(AND(ISNUMBER(F16),F16=SUMIFS(入出庫記録!$H$8:$H$107,入出庫記録!$B$8:$B$107,A16),ISNUMBER(G16),G16=SUMIFS(入出庫記録!$I$8:$I$107,入出庫記録!$B$8:$B$107,A16),ISNUMBER(H16),H16=SUMIFS(入出庫記録!$J$8:$J$107,入出庫記録!$B$8:$B$107,A16),IF(J16="未確認",ISTEXT(I16),ISNUMBER(I16)),I16=IF(OR(B16="未確認",H16>0),"",C16+F16-G16),ISTEXT(J16),J16=IF(OR(B16="未確認",H16>0),"未確認",IF(I16<0,"帳簿負数",IF(I16<E16,"基準割れ","基準以上"))),IF(OR(J16="未確認",J16="帳簿負数"),ISTEXT(K16),ISNUMBER(K16)),K16=IF(OR(J16="未確認",J16="帳簿負数"),"",IF(I16<E16,E16-I16,0))),0,1)))) -> 0
F17: =IF(L17="","",IF(M17<>0,NA(),SUMIFS(入出庫記録!$H$8:$H$107,入出庫記録!$B$8:$B$107,A17))) | G17: =IF(L17="","",IF(M17<>0,NA(),SUMIFS(入出庫記録!$I$8:$I$107,入出庫記録!$B$8:$B$107,A17))) | H17: =IF(L17="","",IF(M17<>0,NA(),SUMIFS(入出庫記録!$J$8:$J$107,入出庫記録!$B$8:$B$107,A17))) | I17: =IF(L17="","",IF(M17<>0,NA(),IF(OR(B17="未確認",H17>0),"",C17+F17-G17))) | J17: =IF(L17="","",IF(M17<>0,NA(),IF(OR(B17="未確認",H17>0),"未確認",IF(I17<0,"帳簿負数",IF(I17<E17,"基準割れ","基準以上"))))) | K17: =IF(L17="","",IF(M17<>0,NA(),IF(OR(J17="未確認",J17="帳簿負数"),"",IF(I17<E17,E17-I17,0)))) | L17: =IF(COUNTA(A17:E17)=0,"",IF(NOT(AND(ISTEXT(A17),LEN(A17)=8,EXACT(LEFT(A17,4),"SKU-"),ISNUMBER(FIND(MID(A17,5,1)&"x","0x1x2x3x4x5x6x7x8x9x")),ISNUMBER(FIND(MID(A17,6,1)&"x","0x1x2x3x4x5x6x7x8x9x")),ISNUMBER(FIND(MID(A17,7,1)&"x","0x1x2x3x4x5x6x7x8x9x")),ISNUMBER(FIND(MID(A17,8,1)&"x","0x1x2x3x4x5x6x7x8x9x")))),"IDはSKU-と半角数字4桁",IF(COUNTIFS($A$8:$A$57,A17)>1,"品目IDが重複",IF(NOT(OR(B17="確認済",B17="未確認")),"期首区分を確認",IF(AND(B17="確認済",NOT(IF(ISNUMBER(C17),AND(C17>=0,C17<=1000000,C17=INT(C17)),FALSE()))),"確認済期首は0〜100万個の整数で必須",IF(AND(B17="未確認",COUNTA(C17)>0),"未確認の期首数量は空欄",IF(NOT(IF(ISNUMBER(D17),AND(D17>=43831,D17<73051,D17=INT(D17)),FALSE())),"期首記録確認日は時刻なしで必須",IF(OR(D17<在庫一覧!$B$3,D17>在庫一覧!$H$3),"期首日≦期首確認日≦基準日を確認",IF(NOT(IF(ISNUMBER(E17),AND(E17>=0,E17<=1000000,E17=INT(E17)),FALSE())),"基準数量は0〜100万個の整数で必須","確認済み"))))))))) | M17: =IF(L17="","",IF(L17="確認済み",0,1)) | N17: =IF(COUNTA(A17:E17)=0,IF(AND(L17="",M17="",F17="",G17="",H17="",I17="",J17="",K17=""),0,1),IF(NOT(AND(ISTEXT(L17),L17=IF(COUNTA(A17:E17)=0,"",IF(NOT(AND(ISTEXT(A17),LEN(A17)=8,EXACT(LEFT(A17,4),"SKU-"),ISNUMBER(FIND(MID(A17,5,1)&"x","0x1x2x3x4x5x6x7x8x9x")),ISNUMBER(FIND(MID(A17,6,1)&"x","0x1x2x3x4x5x6x7x8x9x")),ISNUMBER(FIND(MID(A17,7,1)&"x","0x1x2x3x4x5x6x7x8x9x")),ISNUMBER(FIND(MID(A17,8,1)&"x","0x1x2x3x4x5x6x7x8x9x")))),"IDはSKU-と半角数字4桁",IF(COUNTIFS($A$8:$A$57,A17)>1,"品目IDが重複",IF(NOT(OR(B17="確認済",B17="未確認")),"期首区分を確認",IF(AND(B17="確認済",NOT(IF(ISNUMBER(C17),AND(C17>=0,C17<=1000000,C17=INT(C17)),FALSE()))),"確認済期首は0〜100万個の整数で必須",IF(AND(B17="未確認",COUNTA(C17)>0),"未確認の期首数量は空欄",IF(NOT(IF(ISNUMBER(D17),AND(D17>=43831,D17<73051,D17=INT(D17)),FALSE())),"期首記録確認日は時刻なしで必須",IF(OR(D17<在庫一覧!$B$3,D17>在庫一覧!$H$3),"期首日≦期首確認日≦基準日を確認",IF(NOT(IF(ISNUMBER(E17),AND(E17>=0,E17<=1000000,E17=INT(E17)),FALSE())),"基準数量は0〜100万個の整数で必須","確認済み"))))))))),ISNUMBER(M17),M17=IF(L17="確認済み",0,1))),1,IF(M17<>0,0,IF(AND(ISNUMBER(F17),F17=SUMIFS(入出庫記録!$H$8:$H$107,入出庫記録!$B$8:$B$107,A17),ISNUMBER(G17),G17=SUMIFS(入出庫記録!$I$8:$I$107,入出庫記録!$B$8:$B$107,A17),ISNUMBER(H17),H17=SUMIFS(入出庫記録!$J$8:$J$107,入出庫記録!$B$8:$B$107,A17),IF(J17="未確認",ISTEXT(I17),ISNUMBER(I17)),I17=IF(OR(B17="未確認",H17>0),"",C17+F17-G17),ISTEXT(J17),J17=IF(OR(B17="未確認",H17>0),"未確認",IF(I17<0,"帳簿負数",IF(I17<E17,"基準割れ","基準以上"))),IF(OR(J17="未確認",J17="帳簿負数"),ISTEXT(K17),ISNUMBER(K17)),K17=IF(OR(J17="未確認",J17="帳簿負数"),"",IF(I17<E17,E17-I17,0))),0,1)))) -> 0
F18: =IF(L18="","",IF(M18<>0,NA(),SUMIFS(入出庫記録!$H$8:$H$107,入出庫記録!$B$8:$B$107,A18))) | G18: =IF(L18="","",IF(M18<>0,NA(),SUMIFS(入出庫記録!$I$8:$I$107,入出庫記録!$B$8:$B$107,A18))) | H18: =IF(L18="","",IF(M18<>0,NA(),SUMIFS(入出庫記録!$J$8:$J$107,入出庫記録!$B$8:$B$107,A18))) | I18: =IF(L18="","",IF(M18<>0,NA(),IF(OR(B18="未確認",H18>0),"",C18+F18-G18))) | J18: =IF(L18="","",IF(M18<>0,NA(),IF(OR(B18="未確認",H18>0),"未確認",IF(I18<0,"帳簿負数",IF(I18<E18,"基準割れ","基準以上"))))) | K18: =IF(L18="","",IF(M18<>0,NA(),IF(OR(J18="未確認",J18="帳簿負数"),"",IF(I18<E18,E18-I18,0)))) | L18: =IF(COUNTA(A18:E18)=0,"",IF(NOT(AND(ISTEXT(A18),LEN(A18)=8,EXACT(LEFT(A18,4),"SKU-"),ISNUMBER(FIND(MID(A18,5,1)&"x","0x1x2x3x4x5x6x7x8x9x")),ISNUMBER(FIND(MID(A18,6,1)&"x","0x1x2x3x4x5x6x7x8x9x")),ISNUMBER(FIND(MID(A18,7,1)&"x","0x1x2x3x4x5x6x7x8x9x")),ISNUMBER(FIND(MID(A18,8,1)&"x","0x1x2x3x4x5x6x7x8x9x")))),"IDはSKU-と半角数字4桁",IF(COUNTIFS($A$8:$A$57,A18)>1,"品目IDが重複",IF(NOT(OR(B18="確認済",B18="未確認")),"期首区分を確認",IF(AND(B18="確認済",NOT(IF(ISNUMBER(C18),AND(C18>=0,C18<=1000000,C18=INT(C18)),FALSE()))),"確認済期首は0〜100万個の整数で必須",IF(AND(B18="未確認",COUNTA(C18)>0),"未確認の期首数量は空欄",IF(NOT(IF(ISNUMBER(D18),AND(D18>=43831,D18<73051,D18=INT(D18)),FALSE())),"期首記録確認日は時刻なしで必須",IF(OR(D18<在庫一覧!$B$3,D18>在庫一覧!$H$3),"期首日≦期首確認日≦基準日を確認",IF(NOT(IF(ISNUMBER(E18),AND(E18>=0,E18<=1000000,E18=INT(E18)),FALSE())),"基準数量は0〜100万個の整数で必須","確認済み"))))))))) | M18: =IF(L18="","",IF(L18="確認済み",0,1)) | N18: =IF(COUNTA(A18:E18)=0,IF(AND(L18="",M18="",F18="",G18="",H18="",I18="",J18="",K18=""),0,1),IF(NOT(AND(ISTEXT(L18),L18=IF(COUNTA(A18:E18)=0,"",IF(NOT(AND(ISTEXT(A18),LEN(A18)=8,EXACT(LEFT(A18,4),"SKU-"),ISNUMBER(FIND(MID(A18,5,1)&"x","0x1x2x3x4x5x6x7x8x9x")),ISNUMBER(FIND(MID(A18,6,1)&"x","0x1x2x3x4x5x6x7x8x9x")),ISNUMBER(FIND(MID(A18,7,1)&"x","0x1x2x3x4x5x6x7x8x9x")),ISNUMBER(FIND(MID(A18,8,1)&"x","0x1x2x3x4x5x6x7x8x9x")))),"IDはSKU-と半角数字4桁",IF(COUNTIFS($A$8:$A$57,A18)>1,"品目IDが重複",IF(NOT(OR(B18="確認済",B18="未確認")),"期首区分を確認",IF(AND(B18="確認済",NOT(IF(ISNUMBER(C18),AND(C18>=0,C18<=1000000,C18=INT(C18)),FALSE()))),"確認済期首は0〜100万個の整数で必須",IF(AND(B18="未確認",COUNTA(C18)>0),"未確認の期首数量は空欄",IF(NOT(IF(ISNUMBER(D18),AND(D18>=43831,D18<73051,D18=INT(D18)),FALSE())),"期首記録確認日は時刻なしで必須",IF(OR(D18<在庫一覧!$B$3,D18>在庫一覧!$H$3),"期首日≦期首確認日≦基準日を確認",IF(NOT(IF(ISNUMBER(E18),AND(E18>=0,E18<=1000000,E18=INT(E18)),FALSE())),"基準数量は0〜100万個の整数で必須","確認済み"))))))))),ISNUMBER(M18),M18=IF(L18="確認済み",0,1))),1,IF(M18<>0,0,IF(AND(ISNUMBER(F18),F18=SUMIFS(入出庫記録!$H$8:$H$107,入出庫記録!$B$8:$B$107,A18),ISNUMBER(G18),G18=SUMIFS(入出庫記録!$I$8:$I$107,入出庫記録!$B$8:$B$107,A18),ISNUMBER(H18),H18=SUMIFS(入出庫記録!$J$8:$J$107,入出庫記録!$B$8:$B$107,A18),IF(J18="未確認",ISTEXT(I18),ISNUMBER(I18)),I18=IF(OR(B18="未確認",H18>0),"",C18+F18-G18),ISTEXT(J18),J18=IF(OR(B18="未確認",H18>0),"未確認",IF(I18<0,"帳簿負数",IF(I18<E18,"基準割れ","基準以上"))),IF(OR(J18="未確認",J18="帳簿負数"),ISTEXT(K18),ISNUMBER(K18)),K18=IF(OR(J18="未確認",J18="帳簿負数"),"",IF(I18<E18,E18-I18,0))),0,1)))) -> 0
F19: =IF(L19="","",IF(M19<>0,NA(),SUMIFS(入出庫記録!$H$8:$H$107,入出庫記録!$B$8:$B$107,A19))) | G19: =IF(L19="","",IF(M19<>0,NA(),SUMIFS(入出庫記録!$I$8:$I$107,入出庫記録!$B$8:$B$107,A19))) | H19: =IF(L19="","",IF(M19<>0,NA(),SUMIFS(入出庫記録!$J$8:$J$107,入出庫記録!$B$8:$B$107,A19))) | I19: =IF(L19="","",IF(M19<>0,NA(),IF(OR(B19="未確認",H19>0),"",C19+F19-G19))) | J19: =IF(L19="","",IF(M19<>0,NA(),IF(OR(B19="未確認",H19>0),"未確認",IF(I19<0,"帳簿負数",IF(I19<E19,"基準割れ","基準以上"))))) | K19: =IF(L19="","",IF(M19<>0,NA(),IF(OR(J19="未確認",J19="帳簿負数"),"",IF(I19<E19,E19-I19,0)))) | L19: =IF(COUNTA(A19:E19)=0,"",IF(NOT(AND(ISTEXT(A19),LEN(A19)=8,EXACT(LEFT(A19,4),"SKU-"),ISNUMBER(FIND(MID(A19,5,1)&"x","0x1x2x3x4x5x6x7x8x9x")),ISNUMBER(FIND(MID(A19,6,1)&"x","0x1x2x3x4x5x6x7x8x9x")),ISNUMBER(FIND(MID(A19,7,1)&"x","0x1x2x3x4x5x6x7x8x9x")),ISNUMBER(FIND(MID(A19,8,1)&"x","0x1x2x3x4x5x6x7x8x9x")))),"IDはSKU-と半角数字4桁",IF(COUNTIFS($A$8:$A$57,A19)>1,"品目IDが重複",IF(NOT(OR(B19="確認済",B19="未確認")),"期首区分を確認",IF(AND(B19="確認済",NOT(IF(ISNUMBER(C19),AND(C19>=0,C19<=1000000,C19=INT(C19)),FALSE()))),"確認済期首は0〜100万個の整数で必須",IF(AND(B19="未確認",COUNTA(C19)>0),"未確認の期首数量は空欄",IF(NOT(IF(ISNUMBER(D19),AND(D19>=43831,D19<73051,D19=INT(D19)),FALSE())),"期首記録確認日は時刻なしで必須",IF(OR(D19<在庫一覧!$B$3,D19>在庫一覧!$H$3),"期首日≦期首確認日≦基準日を確認",IF(NOT(IF(ISNUMBER(E19),AND(E19>=0,E19<=1000000,E19=INT(E19)),FALSE())),"基準数量は0〜100万個の整数で必須","確認済み"))))))))) | M19: =IF(L19="","",IF(L19="確認済み",0,1)) | N19: =IF(COUNTA(A19:E19)=0,IF(AND(L19="",M19="",F19="",G19="",H19="",I19="",J19="",K19=""),0,1),IF(NOT(AND(ISTEXT(L19),L19=IF(COUNTA(A19:E19)=0,"",IF(NOT(AND(ISTEXT(A19),LEN(A19)=8,EXACT(LEFT(A19,4),"SKU-"),ISNUMBER(FIND(MID(A19,5,1)&"x","0x1x2x3x4x5x6x7x8x9x")),ISNUMBER(FIND(MID(A19,6,1)&"x","0x1x2x3x4x5x6x7x8x9x")),ISNUMBER(FIND(MID(A19,7,1)&"x","0x1x2x3x4x5x6x7x8x9x")),ISNUMBER(FIND(MID(A19,8,1)&"x","0x1x2x3x4x5x6x7x8x9x")))),"IDはSKU-と半角数字4桁",IF(COUNTIFS($A$8:$A$57,A19)>1,"品目IDが重複",IF(NOT(OR(B19="確認済",B19="未確認")),"期首区分を確認",IF(AND(B19="確認済",NOT(IF(ISNUMBER(C19),AND(C19>=0,C19<=1000000,C19=INT(C19)),FALSE()))),"確認済期首は0〜100万個の整数で必須",IF(AND(B19="未確認",COUNTA(C19)>0),"未確認の期首数量は空欄",IF(NOT(IF(ISNUMBER(D19),AND(D19>=43831,D19<73051,D19=INT(D19)),FALSE())),"期首記録確認日は時刻なしで必須",IF(OR(D19<在庫一覧!$B$3,D19>在庫一覧!$H$3),"期首日≦期首確認日≦基準日を確認",IF(NOT(IF(ISNUMBER(E19),AND(E19>=0,E19<=1000000,E19=INT(E19)),FALSE())),"基準数量は0〜100万個の整数で必須","確認済み"))))))))),ISNUMBER(M19),M19=IF(L19="確認済み",0,1))),1,IF(M19<>0,0,IF(AND(ISNUMBER(F19),F19=SUMIFS(入出庫記録!$H$8:$H$107,入出庫記録!$B$8:$B$107,A19),ISNUMBER(G19),G19=SUMIFS(入出庫記録!$I$8:$I$107,入出庫記録!$B$8:$B$107,A19),ISNUMBER(H19),H19=SUMIFS(入出庫記録!$J$8:$J$107,入出庫記録!$B$8:$B$107,A19),IF(J19="未確認",ISTEXT(I19),ISNUMBER(I19)),I19=IF(OR(B19="未確認",H19>0),"",C19+F19-G19),ISTEXT(J19),J19=IF(OR(B19="未確認",H19>0),"未確認",IF(I19<0,"帳簿負数",IF(I19<E19,"基準割れ","基準以上"))),IF(OR(J19="未確認",J19="帳簿負数"),ISTEXT(K19),ISNUMBER(K19)),K19=IF(OR(J19="未確認",J19="帳簿負数"),"",IF(I19<E19,E19-I19,0))),0,1)))) -> 0
F20: =IF(L20="","",IF(M20<>0,NA(),SUMIFS(入出庫記録!$H$8:$H$107,入出庫記録!$B$8:$B$107,A20))) | G20: =IF(L20="","",IF(M20<>0,NA(),SUMIFS(入出庫記録!$I$8:$I$107,入出庫記録!$B$8:$B$107,A20))) | H20: =IF(L20="","",IF(M20<>0,NA(),SUMIFS(入出庫記録!$J$8:$J$107,入出庫記録!$B$8:$B$107,A20))) | I20: =IF(L20="","",IF(M20<>0,NA(),IF(OR(B20="未確認",H20>0),"",C20+F20-G20))) | J20: =IF(L20="","",IF(M20<>0,NA(),IF(OR(B20="未確認",H20>0),"未確認",IF(I20<0,"帳簿負数",IF(I20<E20,"基準割れ","基準以上"))))) | K20: =IF(L20="","",IF(M20<>0,NA(),IF(OR(J20="未確認",J20="帳簿負数"),"",IF(I20<E20,E20-I20,0)))) | L20: =IF(COUNTA(A20:E20)=0,"",IF(NOT(AND(ISTEXT(A20),LEN(A20)=8,EXACT(LEFT(A20,4),"SKU-"),ISNUMBER(FIND(MID(A20,5,1)&"x","0x1x2x3x4x5x6x7x8x9x")),ISNUMBER(FIND(MID(A20,6,1)&"x","0x1x2x3x4x5x6x7x8x9x")),ISNUMBER(FIND(MID(A20,7,1)&"x","0x1x2x3x4x5x6x7x8x9x")),ISNUMBER(FIND(MID(A20,8,1)&"x","0x1x2x3x4x5x6x7x8x9x")))),"IDはSKU-と半角数字4桁",IF(COUNTIFS($A$8:$A$57,A20)>1,"品目IDが重複",IF(NOT(OR(B20="確認済",B20="未確認")),"期首区分を確認",IF(AND(B20="確認済",NOT(IF(ISNUMBER(C20),AND(C20>=0,C20<=1000000,C20=INT(C20)),FALSE()))),"確認済期首は0〜100万個の整数で必須",IF(AND(B20="未確認",COUNTA(C20)>0),"未確認の期首数量は空欄",IF(NOT(IF(ISNUMBER(D20),AND(D20>=43831,D20<73051,D20=INT(D20)),FALSE())),"期首記録確認日は時刻なしで必須",IF(OR(D20<在庫一覧!$B$3,D20>在庫一覧!$H$3),"期首日≦期首確認日≦基準日を確認",IF(NOT(IF(ISNUMBER(E20),AND(E20>=0,E20<=1000000,E20=INT(E20)),FALSE())),"基準数量は0〜100万個の整数で必須","確認済み"))))))))) | M20: =IF(L20="","",IF(L20="確認済み",0,1)) | N20: =IF(COUNTA(A20:E20)=0,IF(AND(L20="",M20="",F20="",G20="",H20="",I20="",J20="",K20=""),0,1),IF(NOT(AND(ISTEXT(L20),L20=IF(COUNTA(A20:E20)=0,"",IF(NOT(AND(ISTEXT(A20),LEN(A20)=8,EXACT(LEFT(A20,4),"SKU-"),ISNUMBER(FIND(MID(A20,5,1)&"x","0x1x2x3x4x5x6x7x8x9x")),ISNUMBER(FIND(MID(A20,6,1)&"x","0x1x2x3x4x5x6x7x8x9x")),ISNUMBER(FIND(MID(A20,7,1)&"x","0x1x2x3x4x5x6x7x8x9x")),ISNUMBER(FIND(MID(A20,8,1)&"x","0x1x2x3x4x5x6x7x8x9x")))),"IDはSKU-と半角数字4桁",IF(COUNTIFS($A$8:$A$57,A20)>1,"品目IDが重複",IF(NOT(OR(B20="確認済",B20="未確認")),"期首区分を確認",IF(AND(B20="確認済",NOT(IF(ISNUMBER(C20),AND(C20>=0,C20<=1000000,C20=INT(C20)),FALSE()))),"確認済期首は0〜100万個の整数で必須",IF(AND(B20="未確認",COUNTA(C20)>0),"未確認の期首数量は空欄",IF(NOT(IF(ISNUMBER(D20),AND(D20>=43831,D20<73051,D20=INT(D20)),FALSE())),"期首記録確認日は時刻なしで必須",IF(OR(D20<在庫一覧!$B$3,D20>在庫一覧!$H$3),"期首日≦期首確認日≦基準日を確認",IF(NOT(IF(ISNUMBER(E20),AND(E20>=0,E20<=1000000,E20=INT(E20)),FALSE())),"基準数量は0〜100万個の整数で必須","確認済み"))))))))),ISNUMBER(M20),M20=IF(L20="確認済み",0,1))),1,IF(M20<>0,0,IF(AND(ISNUMBER(F20),F20=SUMIFS(入出庫記録!$H$8:$H$107,入出庫記録!$B$8:$B$107,A20),ISNUMBER(G20),G20=SUMIFS(入出庫記録!$I$8:$I$107,入出庫記録!$B$8:$B$107,A20),ISNUMBER(H20),H20=SUMIFS(入出庫記録!$J$8:$J$107,入出庫記録!$B$8:$B$107,A20),IF(J20="未確認",ISTEXT(I20),ISNUMBER(I20)),I20=IF(OR(B20="未確認",H20>0),"",C20+F20-G20),ISTEXT(J20),J20=IF(OR(B20="未確認",H20>0),"未確認",IF(I20<0,"帳簿負数",IF(I20<E20,"基準割れ","基準以上"))),IF(OR(J20="未確認",J20="帳簿負数"),ISTEXT(K20),ISNUMBER(K20)),K20=IF(OR(J20="未確認",J20="帳簿負数"),"",IF(I20<E20,E20-I20,0))),0,1)))) -> 0
F21: =IF(L21="","",IF(M21<>0,NA(),SUMIFS(入出庫記録!$H$8:$H$107,入出庫記録!$B$8:$B$107,A21))) | G21: =IF(L21="","",IF(M21<>0,NA(),SUMIFS(入出庫記録!$I$8:$I$107,入出庫記録!$B$8:$B$107,A21))) | H21: =IF(L21="","",IF(M21<>0,NA(),SUMIFS(入出庫記録!$J$8:$J$107,入出庫記録!$B$8:$B$107,A21))) | I21: =IF(L21="","",IF(M21<>0,NA(),IF(OR(B21="未確認",H21>0),"",C21+F21-G21))) | J21: =IF(L21="","",IF(M21<>0,NA(),IF(OR(B21="未確認",H21>0),"未確認",IF(I21<0,"帳簿負数",IF(I21<E21,"基準割れ","基準以上"))))) | K21: =IF(L21="","",IF(M21<>0,NA(),IF(OR(J21="未確認",J21="帳簿負数"),"",IF(I21<E21,E21-I21,0)))) | L21: =IF(COUNTA(A21:E21)=0,"",IF(NOT(AND(ISTEXT(A21),LEN(A21)=8,EXACT(LEFT(A21,4),"SKU-"),ISNUMBER(FIND(MID(A21,5,1)&"x","0x1x2x3x4x5x6x7x8x9x")),ISNUMBER(FIND(MID(A21,6,1)&"x","0x1x2x3x4x5x6x7x8x9x")),ISNUMBER(FIND(MID(A21,7,1)&"x","0x1x2x3x4x5x6x7x8x9x")),ISNUMBER(FIND(MID(A21,8,1)&"x","0x1x2x3x4x5x6x7x8x9x")))),"IDはSKU-と半角数字4桁",IF(COUNTIFS($A$8:$A$57,A21)>1,"品目IDが重複",IF(NOT(OR(B21="確認済",B21="未確認")),"期首区分を確認",IF(AND(B21="確認済",NOT(IF(ISNUMBER(C21),AND(C21>=0,C21<=1000000,C21=INT(C21)),FALSE()))),"確認済期首は0〜100万個の整数で必須",IF(AND(B21="未確認",COUNTA(C21)>0),"未確認の期首数量は空欄",IF(NOT(IF(ISNUMBER(D21),AND(D21>=43831,D21<73051,D21=INT(D21)),FALSE())),"期首記録確認日は時刻なしで必須",IF(OR(D21<在庫一覧!$B$3,D21>在庫一覧!$H$3),"期首日≦期首確認日≦基準日を確認",IF(NOT(IF(ISNUMBER(E21),AND(E21>=0,E21<=1000000,E21=INT(E21)),FALSE())),"基準数量は0〜100万個の整数で必須","確認済み"))))))))) | M21: =IF(L21="","",IF(L21="確認済み",0,1)) | N21: =IF(COUNTA(A21:E21)=0,IF(AND(L21="",M21="",F21="",G21="",H21="",I21="",J21="",K21=""),0,1),IF(NOT(AND(ISTEXT(L21),L21=IF(COUNTA(A21:E21)=0,"",IF(NOT(AND(ISTEXT(A21),LEN(A21)=8,EXACT(LEFT(A21,4),"SKU-"),ISNUMBER(FIND(MID(A21,5,1)&"x","0x1x2x3x4x5x6x7x8x9x")),ISNUMBER(FIND(MID(A21,6,1)&"x","0x1x2x3x4x5x6x7x8x9x")),ISNUMBER(FIND(MID(A21,7,1)&"x","0x1x2x3x4x5x6x7x8x9x")),ISNUMBER(FIND(MID(A21,8,1)&"x","0x1x2x3x4x5x6x7x8x9x")))),"IDはSKU-と半角数字4桁",IF(COUNTIFS($A$8:$A$57,A21)>1,"品目IDが重複",IF(NOT(OR(B21="確認済",B21="未確認")),"期首区分を確認",IF(AND(B21="確認済",NOT(IF(ISNUMBER(C21),AND(C21>=0,C21<=1000000,C21=INT(C21)),FALSE()))),"確認済期首は0〜100万個の整数で必須",IF(AND(B21="未確認",COUNTA(C21)>0),"未確認の期首数量は空欄",IF(NOT(IF(ISNUMBER(D21),AND(D21>=43831,D21<73051,D21=INT(D21)),FALSE())),"期首記録確認日は時刻なしで必須",IF(OR(D21<在庫一覧!$B$3,D21>在庫一覧!$H$3),"期首日≦期首確認日≦基準日を確認",IF(NOT(IF(ISNUMBER(E21),AND(E21>=0,E21<=1000000,E21=INT(E21)),FALSE())),"基準数量は0〜100万個の整数で必須","確認済み"))))))))),ISNUMBER(M21),M21=IF(L21="確認済み",0,1))),1,IF(M21<>0,0,IF(AND(ISNUMBER(F21),F21=SUMIFS(入出庫記録!$H$8:$H$107,入出庫記録!$B$8:$B$107,A21),ISNUMBER(G21),G21=SUMIFS(入出庫記録!$I$8:$I$107,入出庫記録!$B$8:$B$107,A21),ISNUMBER(H21),H21=SUMIFS(入出庫記録!$J$8:$J$107,入出庫記録!$B$8:$B$107,A21),IF(J21="未確認",ISTEXT(I21),ISNUMBER(I21)),I21=IF(OR(B21="未確認",H21>0),"",C21+F21-G21),ISTEXT(J21),J21=IF(OR(B21="未確認",H21>0),"未確認",IF(I21<0,"帳簿負数",IF(I21<E21,"基準割れ","基準以上"))),IF(OR(J21="未確認",J21="帳簿負数"),ISTEXT(K21),ISNUMBER(K21)),K21=IF(OR(J21="未確認",J21="帳簿負数"),"",IF(I21<E21,E21-I21,0))),0,1)))) -> 0
F22: =IF(L22="","",IF(M22<>0,NA(),SUMIFS(入出庫記録!$H$8:$H$107,入出庫記録!$B$8:$B$107,A22))) | G22: =IF(L22="","",IF(M22<>0,NA(),SUMIFS(入出庫記録!$I$8:$I$107,入出庫記録!$B$8:$B$107,A22))) | H22: =IF(L22="","",IF(M22<>0,NA(),SUMIFS(入出庫記録!$J$8:$J$107,入出庫記録!$B$8:$B$107,A22))) | I22: =IF(L22="","",IF(M22<>0,NA(),IF(OR(B22="未確認",H22>0),"",C22+F22-G22))) | J22: =IF(L22="","",IF(M22<>0,NA(),IF(OR(B22="未確認",H22>0),"未確認",IF(I22<0,"帳簿負数",IF(I22<E22,"基準割れ","基準以上"))))) | K22: =IF(L22="","",IF(M22<>0,NA(),IF(OR(J22="未確認",J22="帳簿負数"),"",IF(I22<E22,E22-I22,0)))) | L22: =IF(COUNTA(A22:E22)=0,"",IF(NOT(AND(ISTEXT(A22),LEN(A22)=8,EXACT(LEFT(A22,4),"SKU-"),ISNUMBER(FIND(MID(A22,5,1)&"x","0x1x2x3x4x5x6x7x8x9x")),ISNUMBER(FIND(MID(A22,6,1)&"x","0x1x2x3x4x5x6x7x8x9x")),ISNUMBER(FIND(MID(A22,7,1)&"x","0x1x2x3x4x5x6x7x8x9x")),ISNUMBER(FIND(MID(A22,8,1)&"x","0x1x2x3x4x5x6x7x8x9x")))),"IDはSKU-と半角数字4桁",IF(COUNTIFS($A$8:$A$57,A22)>1,"品目IDが重複",IF(NOT(OR(B22="確認済",B22="未確認")),"期首区分を確認",IF(AND(B22="確認済",NOT(IF(ISNUMBER(C22),AND(C22>=0,C22<=1000000,C22=INT(C22)),FALSE()))),"確認済期首は0〜100万個の整数で必須",IF(AND(B22="未確認",COUNTA(C22)>0),"未確認の期首数量は空欄",IF(NOT(IF(ISNUMBER(D22),AND(D22>=43831,D22<73051,D22=INT(D22)),FALSE())),"期首記録確認日は時刻なしで必須",IF(OR(D22<在庫一覧!$B$3,D22>在庫一覧!$H$3),"期首日≦期首確認日≦基準日を確認",IF(NOT(IF(ISNUMBER(E22),AND(E22>=0,E22<=1000000,E22=INT(E22)),FALSE())),"基準数量は0〜100万個の整数で必須","確認済み"))))))))) | M22: =IF(L22="","",IF(L22="確認済み",0,1)) | N22: =IF(COUNTA(A22:E22)=0,IF(AND(L22="",M22="",F22="",G22="",H22="",I22="",J22="",K22=""),0,1),IF(NOT(AND(ISTEXT(L22),L22=IF(COUNTA(A22:E22)=0,"",IF(NOT(AND(ISTEXT(A22),LEN(A22)=8,EXACT(LEFT(A22,4),"SKU-"),ISNUMBER(FIND(MID(A22,5,1)&"x","0x1x2x3x4x5x6x7x8x9x")),ISNUMBER(FIND(MID(A22,6,1)&"x","0x1x2x3x4x5x6x7x8x9x")),ISNUMBER(FIND(MID(A22,7,1)&"x","0x1x2x3x4x5x6x7x8x9x")),ISNUMBER(FIND(MID(A22,8,1)&"x","0x1x2x3x4x5x6x7x8x9x")))),"IDはSKU-と半角数字4桁",IF(COUNTIFS($A$8:$A$57,A22)>1,"品目IDが重複",IF(NOT(OR(B22="確認済",B22="未確認")),"期首区分を確認",IF(AND(B22="確認済",NOT(IF(ISNUMBER(C22),AND(C22>=0,C22<=1000000,C22=INT(C22)),FALSE()))),"確認済期首は0〜100万個の整数で必須",IF(AND(B22="未確認",COUNTA(C22)>0),"未確認の期首数量は空欄",IF(NOT(IF(ISNUMBER(D22),AND(D22>=43831,D22<73051,D22=INT(D22)),FALSE())),"期首記録確認日は時刻なしで必須",IF(OR(D22<在庫一覧!$B$3,D22>在庫一覧!$H$3),"期首日≦期首確認日≦基準日を確認",IF(NOT(IF(ISNUMBER(E22),AND(E22>=0,E22<=1000000,E22=INT(E22)),FALSE())),"基準数量は0〜100万個の整数で必須","確認済み"))))))))),ISNUMBER(M22),M22=IF(L22="確認済み",0,1))),1,IF(M22<>0,0,IF(AND(ISNUMBER(F22),F22=SUMIFS(入出庫記録!$H$8:$H$107,入出庫記録!$B$8:$B$107,A22),ISNUMBER(G22),G22=SUMIFS(入出庫記録!$I$8:$I$107,入出庫記録!$B$8:$B$107,A22),ISNUMBER(H22),H22=SUMIFS(入出庫記録!$J$8:$J$107,入出庫記録!$B$8:$B$107,A22),IF(J22="未確認",ISTEXT(I22),ISNUMBER(I22)),I22=IF(OR(B22="未確認",H22>0),"",C22+F22-G22),ISTEXT(J22),J22=IF(OR(B22="未確認",H22>0),"未確認",IF(I22<0,"帳簿負数",IF(I22<E22,"基準割れ","基準以上"))),IF(OR(J22="未確認",J22="帳簿負数"),ISTEXT(K22),ISNUMBER(K22)),K22=IF(OR(J22="未確認",J22="帳簿負数"),"",IF(I22<E22,E22-I22,0))),0,1)))) -> 0
F23: =IF(L23="","",IF(M23<>0,NA(),SUMIFS(入出庫記録!$H$8:$H$107,入出庫記録!$B$8:$B$107,A23))) | G23: =IF(L23="","",IF(M23<>0,NA(),SUMIFS(入出庫記録!$I$8:$I$107,入出庫記録!$B$8:$B$107,A23))) | H23: =IF(L23="","",IF(M23<>0,NA(),SUMIFS(入出庫記録!$J$8:$J$107,入出庫記録!$B$8:$B$107,A23))) | I23: =IF(L23="","",IF(M23<>0,NA(),IF(OR(B23="未確認",H23>0),"",C23+F23-G23))) | J23: =IF(L23="","",IF(M23<>0,NA(),IF(OR(B23="未確認",H23>0),"未確認",IF(I23<0,"帳簿負数",IF(I23<E23,"基準割れ","基準以上"))))) | K23: =IF(L23="","",IF(M23<>0,NA(),IF(OR(J23="未確認",J23="帳簿負数"),"",IF(I23<E23,E23-I23,0)))) | L23: =IF(COUNTA(A23:E23)=0,"",IF(NOT(AND(ISTEXT(A23),LEN(A23)=8,EXACT(LEFT(A23,4),"SKU-"),ISNUMBER(FIND(MID(A23,5,1)&"x","0x1x2x3x4x5x6x7x8x9x")),ISNUMBER(FIND(MID(A23,6,1)&"x","0x1x2x3x4x5x6x7x8x9x")),ISNUMBER(FIND(MID(A23,7,1)&"x","0x1x2x3x4x5x6x7x8x9x")),ISNUMBER(FIND(MID(A23,8,1)&"x","0x1x2x3x4x5x6x7x8x9x")))),"IDはSKU-と半角数字4桁",IF(COUNTIFS($A$8:$A$57,A23)>1,"品目IDが重複",IF(NOT(OR(B23="確認済",B23="未確認")),"期首区分を確認",IF(AND(B23="確認済",NOT(IF(ISNUMBER(C23),AND(C23>=0,C23<=1000000,C23=INT(C23)),FALSE()))),"確認済期首は0〜100万個の整数で必須",IF(AND(B23="未確認",COUNTA(C23)>0),"未確認の期首数量は空欄",IF(NOT(IF(ISNUMBER(D23),AND(D23>=43831,D23<73051,D23=INT(D23)),FALSE())),"期首記録確認日は時刻なしで必須",IF(OR(D23<在庫一覧!$B$3,D23>在庫一覧!$H$3),"期首日≦期首確認日≦基準日を確認",IF(NOT(IF(ISNUMBER(E23),AND(E23>=0,E23<=1000000,E23=INT(E23)),FALSE())),"基準数量は0〜100万個の整数で必須","確認済み"))))))))) | M23: =IF(L23="","",IF(L23="確認済み",0,1)) | N23: =IF(COUNTA(A23:E23)=0,IF(AND(L23="",M23="",F23="",G23="",H23="",I23="",J23="",K23=""),0,1),IF(NOT(AND(ISTEXT(L23),L23=IF(COUNTA(A23:E23)=0,"",IF(NOT(AND(ISTEXT(A23),LEN(A23)=8,EXACT(LEFT(A23,4),"SKU-"),ISNUMBER(FIND(MID(A23,5,1)&"x","0x1x2x3x4x5x6x7x8x9x")),ISNUMBER(FIND(MID(A23,6,1)&"x","0x1x2x3x4x5x6x7x8x9x")),ISNUMBER(FIND(MID(A23,7,1)&"x","0x1x2x3x4x5x6x7x8x9x")),ISNUMBER(FIND(MID(A23,8,1)&"x","0x1x2x3x4x5x6x7x8x9x")))),"IDはSKU-と半角数字4桁",IF(COUNTIFS($A$8:$A$57,A23)>1,"品目IDが重複",IF(NOT(OR(B23="確認済",B23="未確認")),"期首区分を確認",IF(AND(B23="確認済",NOT(IF(ISNUMBER(C23),AND(C23>=0,C23<=1000000,C23=INT(C23)),FALSE()))),"確認済期首は0〜100万個の整数で必須",IF(AND(B23="未確認",COUNTA(C23)>0),"未確認の期首数量は空欄",IF(NOT(IF(ISNUMBER(D23),AND(D23>=43831,D23<73051,D23=INT(D23)),FALSE())),"期首記録確認日は時刻なしで必須",IF(OR(D23<在庫一覧!$B$3,D23>在庫一覧!$H$3),"期首日≦期首確認日≦基準日を確認",IF(NOT(IF(ISNUMBER(E23),AND(E23>=0,E23<=1000000,E23=INT(E23)),FALSE())),"基準数量は0〜100万個の整数で必須","確認済み"))))))))),ISNUMBER(M23),M23=IF(L23="確認済み",0,1))),1,IF(M23<>0,0,IF(AND(ISNUMBER(F23),F23=SUMIFS(入出庫記録!$H$8:$H$107,入出庫記録!$B$8:$B$107,A23),ISNUMBER(G23),G23=SUMIFS(入出庫記録!$I$8:$I$107,入出庫記録!$B$8:$B$107,A23),ISNUMBER(H23),H23=SUMIFS(入出庫記録!$J$8:$J$107,入出庫記録!$B$8:$B$107,A23),IF(J23="未確認",ISTEXT(I23),ISNUMBER(I23)),I23=IF(OR(B23="未確認",H23>0),"",C23+F23-G23),ISTEXT(J23),J23=IF(OR(B23="未確認",H23>0),"未確認",IF(I23<0,"帳簿負数",IF(I23<E23,"基準割れ","基準以上"))),IF(OR(J23="未確認",J23="帳簿負数"),ISTEXT(K23),ISNUMBER(K23)),K23=IF(OR(J23="未確認",J23="帳簿負数"),"",IF(I23<E23,E23-I23,0))),0,1)))) -> 0
