Workbook

Sheet 在庫一覧
A2: 期首と入出庫から、帳簿在庫を確かめる | K2: 日付の前提 | L2: 入力の前提
A3: 期首日 | B3: 46296 | D3: 集計日 | E3: 46326 | G3: 記録確認基準日 | H3: 46331 | K3: =IF(AND(IF(ISNUMBER(B3),AND(B3>=43831,B3<73051,B3=INT(B3)),FALSE()),IF(ISNUMBER(E3),AND(E3>=43831,E3<73051,E3=INT(E3)),FALSE()),IF(ISNUMBER(H3),AND(H3>=43831,H3<73051,H3=INT(H3)),FALSE()),B3<=E3,E3<=H3),0,1) -> 0 | L3: =IF(AND(ISNUMBER(K3),K3=IF(AND(IF(ISNUMBER(B3),AND(B3>=43831,B3<73051,B3=INT(B3)),FALSE()),IF(ISNUMBER(E3),AND(E3>=43831,E3<73051,E3=INT(E3)),FALSE()),IF(ISNUMBER(H3),AND(H3>=43831,H3<73051,H3=INT(H3)),FALSE()),B3<=E3,E3<=H3),0,1)),K3,1)+SUM(期首と基準!M8:N57)+SUM(入出庫記録!L8:M107)+IF(COUNT(期首と基準!N8:N57)=50,0,1)+IF(COUNT(入出庫記録!M8:M107)=100,0,1) -> 0
A4: 単一保管場所・単位は個。帳簿在庫は実物在庫や出荷可能数を保証しません。 | I4: =IF(L3=0,"入力不備なし","入力を確認") -> 入力不備なし
A5: 登録品目（件） | B5: =IF($L$3<>0,NA(),COUNTIFS(期首と基準!L8:L57,"確認済み")) -> 8 | D5: 期首確認済小計（個） | E5: =IF($L$3<>0,NA(),SUMIFS(期首と基準!C8:C57,期首と基準!B8:B57,"確認済")) -> 166 | G5: 期首未確認（件） | H5: =IF($L$3<>0,NA(),COUNTIFS(期首と基準!B8:B57,"未確認")) -> 1
A6: 確定入庫（個） | B6: =IF($L$3<>0,NA(),SUM(期首と基準!F8:F57)) -> 61 | D6: 確定出庫（個） | E6: =IF($L$3<>0,NA(),SUM(期首と基準!G8:G57)) -> 95 | G6: 対象未確認記録（件） | H6: =IF($L$3<>0,NA(),SUM(期首と基準!H8:H57)) -> 1
A7: 数量算出済（件） | B7: =IF($L$3<>0,NA(),B5-H8) -> 6 | D7: 算出済在庫小計（個） | E7: =IF($L$3<>0,NA(),SUM(期首と基準!I8:I57)) -> 52 | G7: 全品目在庫合計（個） | H7: =IF($L$3<>0,NA(),IF(B5=0,"対象なし",IF(H8>0,"判定保留",E7))) -> 判定保留
A8: 基準割れ品目（件） | B8: =IF($L$3<>0,NA(),COUNTIFS(期首と基準!J8:J57,"基準割れ")) -> 1 | D8: 帳簿負数品目（件） | E8: =IF($L$3<>0,NA(),COUNTIFS(期首と基準!J8:J57,"帳簿負数")) -> 1 | G8: 在庫未確認品目（件） | H8: =IF($L$3<>0,NA(),COUNTIFS(期首と基準!J8:J57,"未確認")) -> 2
A9: 品目ID | B9: 期首（個） | C9: 入庫（個） | D9: 出庫（個） | E9: 未確認（件） | F9: 帳簿在庫（個） | G9: 基準数量（個） | H9: 基準まで不足（個） | I9: 判定
A10: =IF($L$3<>0,NA(),IF(COUNTA(期首と基準!A8:E8)=0,"",期首と基準!A8)) -> SKU-0001 | B10: =IF($L$3<>0,NA(),IF(COUNTA(期首と基準!A8:E8)=0,"",IF(COUNTA(期首と基準!C8)=0,"",期首と基準!C8))) -> 100 | C10: =IF($L$3<>0,NA(),IF(COUNTA(期首と基準!A8:E8)=0,"",期首と基準!F8)) -> 20 | D10: =IF($L$3<>0,NA(),IF(COUNTA(期首と基準!A8:E8)=0,"",期首と基準!G8)) -> 80 | E10: =IF($L$3<>0,NA(),IF(COUNTA(期首と基準!A8:E8)=0,"",期首と基準!H8)) -> 0 | F10: =IF($L$3<>0,NA(),IF(COUNTA(期首と基準!A8:E8)=0,"",期首と基準!I8)) -> 40 | G10: =IF($L$3<>0,NA(),IF(COUNTA(期首と基準!A8:E8)=0,"",期首と基準!E8)) -> 50 | H10: =IF($L$3<>0,NA(),IF(COUNTA(期首と基準!A8:E8)=0,"",期首と基準!K8)) -> 10 | I10: =IF($L$3<>0,NA(),IF(COUNTA(期首と基準!A8:E8)=0,"",期首と基準!J8)) -> 基準割れ
A11: =IF($L$3<>0,NA(),IF(COUNTA(期首と基準!A9:E9)=0,"",期首と基準!A9)) -> SKU-0002 | B11: =IF($L$3<>0,NA(),IF(COUNTA(期首と基準!A9:E9)=0,"",IF(COUNTA(期首と基準!C9)=0,"",期首と基準!C9))) -> 0 | C11: =IF($L$3<>0,NA(),IF(COUNTA(期首と基準!A9:E9)=0,"",期首と基準!F9)) -> 10 | D11: =IF($L$3<>0,NA(),IF(COUNTA(期首と基準!A9:E9)=0,"",期首と基準!G9)) -> 15 | E11: =IF($L$3<>0,NA(),IF(COUNTA(期首と基準!A9:E9)=0,"",期首と基準!H9)) -> 0 | F11: =IF($L$3<>0,NA(),IF(COUNTA(期首と基準!A9:E9)=0,"",期首と基準!I9)) -> -5 | G11: =IF($L$3<>0,NA(),IF(COUNTA(期首と基準!A9:E9)=0,"",期首と基準!E9)) -> 0 | H11: =IF($L$3<>0,NA(),IF(COUNTA(期首と基準!A9:E9)=0,"",期首と基準!K9)) | I11: =IF($L$3<>0,NA(),IF(COUNTA(期首と基準!A9:E9)=0,"",期首と基準!J9)) -> 帳簿負数
A12: =IF($L$3<>0,NA(),IF(COUNTA(期首と基準!A10:E10)=0,"",期首と基準!A10)) -> SKU-0003 | B12: =IF($L$3<>0,NA(),IF(COUNTA(期首と基準!A10:E10)=0,"",IF(COUNTA(期首と基準!C10)=0,"",期首と基準!C10))) | C12: =IF($L$3<>0,NA(),IF(COUNTA(期首と基準!A10:E10)=0,"",期首と基準!F10)) -> 30 | D12: =IF($L$3<>0,NA(),IF(COUNTA(期首と基準!A10:E10)=0,"",期首と基準!G10)) -> 0 | E12: =IF($L$3<>0,NA(),IF(COUNTA(期首と基準!A10:E10)=0,"",期首と基準!H10)) -> 0 | F12: =IF($L$3<>0,NA(),IF(COUNTA(期首と基準!A10:E10)=0,"",期首と基準!I10)) | G12: =IF($L$3<>0,NA(),IF(COUNTA(期首と基準!A10:E10)=0,"",期首と基準!E10)) -> 10 | H12: =IF($L$3<>0,NA(),IF(COUNTA(期首と基準!A10:E10)=0,"",期首と基準!K10)) | I12: =IF($L$3<>0,NA(),IF(COUNTA(期首と基準!A10:E10)=0,"",期首と基準!J10)) -> 未確認
A13: =IF($L$3<>0,NA(),IF(COUNTA(期首と基準!A11:E11)=0,"",期首と基準!A11)) -> SKU-0004 | B13: =IF($L$3<>0,NA(),IF(COUNTA(期首と基準!A11:E11)=0,"",IF(COUNTA(期首と基準!C11)=0,"",期首と基準!C11))) -> 50 | C13: =IF($L$3<>0,NA(),IF(COUNTA(期首と基準!A11:E11)=0,"",期首と基準!F11)) -> 0 | D13: =IF($L$3<>0,NA(),IF(COUNTA(期首と基準!A11:E11)=0,"",期首と基準!G11)) -> 0 | E13: =IF($L$3<>0,NA(),IF(COUNTA(期首と基準!A11:E11)=0,"",期首と基準!H11)) -> 1 | F13: =IF($L$3<>0,NA(),IF(COUNTA(期首と基準!A11:E11)=0,"",期首と基準!I11)) | G13: =IF($L$3<>0,NA(),IF(COUNTA(期首と基準!A11:E11)=0,"",期首と基準!E11)) -> 20 | H13: =IF($L$3<>0,NA(),IF(COUNTA(期首と基準!A11:E11)=0,"",期首と基準!K11)) | I13: =IF($L$3<>0,NA(),IF(COUNTA(期首と基準!A11:E11)=0,"",期首と基準!J11)) -> 未確認
A14: =IF($L$3<>0,NA(),IF(COUNTA(期首と基準!A12:E12)=0,"",期首と基準!A12)) -> SKU-0005 | B14: =IF($L$3<>0,NA(),IF(COUNTA(期首と基準!A12:E12)=0,"",IF(COUNTA(期首と基準!C12)=0,"",期首と基準!C12))) -> 0 | C14: =IF($L$3<>0,NA(),IF(COUNTA(期首と基準!A12:E12)=0,"",期首と基準!F12)) -> 0 | D14: =IF($L$3<>0,NA(),IF(COUNTA(期首と基準!A12:E12)=0,"",期首と基準!G12)) -> 0 | E14: =IF($L$3<>0,NA(),IF(COUNTA(期首と基準!A12:E12)=0,"",期首と基準!H12)) -> 0 | F14: =IF($L$3<>0,NA(),IF(COUNTA(期首と基準!A12:E12)=0,"",期首と基準!I12)) -> 0 | G14: =IF($L$3<>0,NA(),IF(COUNTA(期首と基準!A12:E12)=0,"",期首と基準!E12)) -> 0 | H14: =IF($L$3<>0,NA(),IF(COUNTA(期首と基準!A12:E12)=0,"",期首と基準!K12)) -> 0 | I14: =IF($L$3<>0,NA(),IF(COUNTA(期首と基準!A12:E12)=0,"",期首と基準!J12)) -> 基準以上
A15: =IF($L$3<>0,NA(),IF(COUNTA(期首と基準!A13:E13)=0,"",期首と基準!A13)) -> SKU-0006 | B15: =IF($L$3<>0,NA(),IF(COUNTA(期首と基準!A13:E13)=0,"",IF(COUNTA(期首と基準!C13)=0,"",期首と基準!C13))) -> 5 | C15: =IF($L$3<>0,NA(),IF(COUNTA(期首と基準!A13:E13)=0,"",期首と基準!F13)) -> 0 | D15: =IF($L$3<>0,NA(),IF(COUNTA(期首と基準!A13:E13)=0,"",期首と基準!G13)) -> 0 | E15: =IF($L$3<>0,NA(),IF(COUNTA(期首と基準!A13:E13)=0,"",期首と基準!H13)) -> 0 | F15: =IF($L$3<>0,NA(),IF(COUNTA(期首と基準!A13:E13)=0,"",期首と基準!I13)) -> 5 | G15: =IF($L$3<>0,NA(),IF(COUNTA(期首と基準!A13:E13)=0,"",期首と基準!E13)) -> 5 | H15: =IF($L$3<>0,NA(),IF(COUNTA(期首と基準!A13:E13)=0,"",期首と基準!K13)) -> 0 | I15: =IF($L$3<>0,NA(),IF(COUNTA(期首と基準!A13:E13)=0,"",期首と基準!J13)) -> 基準以上
A16: =IF($L$3<>0,NA(),IF(COUNTA(期首と基準!A14:E14)=0,"",期首と基準!A14)) -> SKU-0007 | B16: =IF($L$3<>0,NA(),IF(COUNTA(期首と基準!A14:E14)=0,"",IF(COUNTA(期首と基準!C14)=0,"",期首と基準!C14))) -> 10 | C16: =IF($L$3<>0,NA(),IF(COUNTA(期首と基準!A14:E14)=0,"",期首と基準!F14)) -> 0 | D16: =IF($L$3<>0,NA(),IF(COUNTA(期首と基準!A14:E14)=0,"",期首と基準!G14)) -> 0 | E16: =IF($L$3<>0,NA(),IF(COUNTA(期首と基準!A14:E14)=0,"",期首と基準!H14)) -> 0 | F16: =IF($L$3<>0,NA(),IF(COUNTA(期首と基準!A14:E14)=0,"",期首と基準!I14)) -> 10 | G16: =IF($L$3<>0,NA(),IF(COUNTA(期首と基準!A14:E14)=0,"",期首と基準!E14)) -> 10 | H16: =IF($L$3<>0,NA(),IF(COUNTA(期首と基準!A14:E14)=0,"",期首と基準!K14)) -> 0 | I16: =IF($L$3<>0,NA(),IF(COUNTA(期首と基準!A14:E14)=0,"",期首と基準!J14)) -> 基準以上
A17: =IF($L$3<>0,NA(),IF(COUNTA(期首と基準!A15:E15)=0,"",期首と基準!A15)) -> SKU-0008 | B17: =IF($L$3<>0,NA(),IF(COUNTA(期首と基準!A15:E15)=0,"",IF(COUNTA(期首と基準!C15)=0,"",期首と基準!C15))) -> 1 | C17: =IF($L$3<>0,NA(),IF(COUNTA(期首と基準!A15:E15)=0,"",期首と基準!F15)) -> 1 | D17: =IF($L$3<>0,NA(),IF(COUNTA(期首と基準!A15:E15)=0,"",期首と基準!G15)) -> 0 | E17: =IF($L$3<>0,NA(),IF(COUNTA(期首と基準!A15:E15)=0,"",期首と基準!H15)) -> 0 | F17: =IF($L$3<>0,NA(),IF(COUNTA(期首と基準!A15:E15)=0,"",期首と基準!I15)) -> 2 | G17: =IF($L$3<>0,NA(),IF(COUNTA(期首と基準!A15:E15)=0,"",期首と基準!E15)) -> 2 | H17: =IF($L$3<>0,NA(),IF(COUNTA(期首と基準!A15:E15)=0,"",期首と基準!K15)) -> 0 | I17: =IF($L$3<>0,NA(),IF(COUNTA(期首と基準!A15:E15)=0,"",期首と基準!J15)) -> 基準以上
A18: =IF($L$3<>0,NA(),IF(COUNTA(期首と基準!A16:E16)=0,"",期首と基準!A16)) | B18: =IF($L$3<>0,NA(),IF(COUNTA(期首と基準!A16:E16)=0,"",IF(COUNTA(期首と基準!C16)=0,"",期首と基準!C16))) | C18: =IF($L$3<>0,NA(),IF(COUNTA(期首と基準!A16:E16)=0,"",期首と基準!F16)) | D18: =IF($L$3<>0,NA(),IF(COUNTA(期首と基準!A16:E16)=0,"",期首と基準!G16)) | E18: =IF($L$3<>0,NA(),IF(COUNTA(期首と基準!A16:E16)=0,"",期首と基準!H16)) | F18: =IF($L$3<>0,NA(),IF(COUNTA(期首と基準!A16:E16)=0,"",期首と基準!I16)) | G18: =IF($L$3<>0,NA(),IF(COUNTA(期首と基準!A16:E16)=0,"",期首と基準!E16)) | H18: =IF($L$3<>0,NA(),IF(COUNTA(期首と基準!A16:E16)=0,"",期首と基準!K16)) | I18: =IF($L$3<>0,NA(),IF(COUNTA(期首と基準!A16:E16)=0,"",期首と基準!J16))
A19: =IF($L$3<>0,NA(),IF(COUNTA(期首と基準!A17:E17)=0,"",期首と基準!A17)) | B19: =IF($L$3<>0,NA(),IF(COUNTA(期首と基準!A17:E17)=0,"",IF(COUNTA(期首と基準!C17)=0,"",期首と基準!C17))) | C19: =IF($L$3<>0,NA(),IF(COUNTA(期首と基準!A17:E17)=0,"",期首と基準!F17)) | D19: =IF($L$3<>0,NA(),IF(COUNTA(期首と基準!A17:E17)=0,"",期首と基準!G17)) | E19: =IF($L$3<>0,NA(),IF(COUNTA(期首と基準!A17:E17)=0,"",期首と基準!H17)) | F19: =IF($L$3<>0,NA(),IF(COUNTA(期首と基準!A17:E17)=0,"",期首と基準!I17)) | G19: =IF($L$3<>0,NA(),IF(COUNTA(期首と基準!A17:E17)=0,"",期首と基準!E17)) | H19: =IF($L$3<>0,NA(),IF(COUNTA(期首と基準!A17:E17)=0,"",期首と基準!K17)) | I19: =IF($L$3<>0,NA(),IF(COUNTA(期首と基準!A17:E17)=0,"",期首と基準!J17))
A20: =IF($L$3<>0,NA(),IF(COUNTA(期首と基準!A18:E18)=0,"",期首と基準!A18)) | B20: =IF($L$3<>0,NA(),IF(COUNTA(期首と基準!A18:E18)=0,"",IF(COUNTA(期首と基準!C18)=0,"",期首と基準!C18))) | C20: =IF($L$3<>0,NA(),IF(COUNTA(期首と基準!A18:E18)=0,"",期首と基準!F18)) | D20: =IF($L$3<>0,NA(),IF(COUNTA(期首と基準!A18:E18)=0,"",期首と基準!G18)) | E20: =IF($L$3<>0,NA(),IF(COUNTA(期首と基準!A18:E18)=0,"",期首と基準!H18)) | F20: =IF($L$3<>0,NA(),IF(COUNTA(期首と基準!A18:E18)=0,"",期首と基準!I18)) | G20: =IF($L$3<>0,NA(),IF(COUNTA(期首と基準!A18:E18)=0,"",期首と基準!E18)) | H20: =IF($L$3<>0,NA(),IF(COUNTA(期首と基準!A18:E18)=0,"",期首と基準!K18)) | I20: =IF($L$3<>0,NA(),IF(COUNTA(期首と基準!A18:E18)=0,"",期首と基準!J18))
A21: =IF($L$3<>0,NA(),IF(COUNTA(期首と基準!A19:E19)=0,"",期首と基準!A19)) | B21: =IF($L$3<>0,NA(),IF(COUNTA(期首と基準!A19:E19)=0,"",IF(COUNTA(期首と基準!C19)=0,"",期首と基準!C19))) | C21: =IF($L$3<>0,NA(),IF(COUNTA(期首と基準!A19:E19)=0,"",期首と基準!F19)) | D21: =IF($L$3<>0,NA(),IF(COUNTA(期首と基準!A19:E19)=0,"",期首と基準!G19)) | E21: =IF($L$3<>0,NA(),IF(COUNTA(期首と基準!A19:E19)=0,"",期首と基準!H19)) | F21: =IF($L$3<>0,NA(),IF(COUNTA(期首と基準!A19:E19)=0,"",期首と基準!I19)) | G21: =IF($L$3<>0,NA(),IF(COUNTA(期首と基準!A19:E19)=0,"",期首と基準!E19)) | H21: =IF($L$3<>0,NA(),IF(COUNTA(期首と基準!A19:E19)=0,"",期首と基準!K19)) | I21: =IF($L$3<>0,NA(),IF(COUNTA(期首と基準!A19:E19)=0,"",期首と基準!J19))
... A59: =IF($L$3<>0,NA(),IF(COUNTA(期首と基準!A57:E57)=0,"",期首と基準!A57)) | B59: =IF($L$3<>0,NA(),IF(COUNTA(期首と基準!A57:E57)=0,"",IF(COUNTA(期首と基準!C57)=0,"",期首と基準!C57))) | C59: =IF($L$3<>0,NA(),IF(COUNTA(期首と基準!A57:E57)=0,"",期首と基準!F57)) | D59: =IF($L$3<>0,NA(),IF(COUNTA(期首と基準!A57:E57)=0,"",期首と基準!G57)) | E59: =IF($L$3<>0,NA(),IF(COUNTA(期首と基準!A57:E57)=0,"",期首と基準!H57)) | F59: =IF($L$3<>0,NA(),IF(COUNTA(期首と基準!A57:E57)=0,"",期首と基準!I57)) | G59: =IF($L$3<>0,NA(),IF(COUNTA(期首と基準!A57:E57)=0,"",期首と基準!E57)) | H59: =IF($L$3<>0,NA(),IF(COUNTA(期首と基準!A57:E57)=0,"",期首と基準!K57)) | I59: =IF($L$3<>0,NA(),IF(COUNTA(期首と基準!A57:E57)=0,"",期首と基準!J57))

Sheet 期首と基準
A2: 期首数量と比較する基準を残す
A3: 黄色A〜Eへ50品目。SKU-と半角数字4桁。期首日が始まる直前の数量です。同じ単位「個」へ。
A5: 不明は未確認・数量は空欄。確認済0個は数値0。基準数量は比較用で、発注点や発注量の自動提案ではありません。
A7: 品目ID | B7: 期首区分 | C7: 期首数量（個） | D7: 期首記録確認日 | E7: 基準数量（個） | F7: 確定入庫（個） | G7: 確定出庫（個） | H7: 対象未確認（件） | I7: 帳簿在庫（個） | J7: 判定 | K7: 基準まで不足（個） | L7: 入力の確認 | M7: 入力不備 | N7: 計算の前提
A8: SKU-0001 | B8: 確認済 | C8: 100 | D8: 46296 | E8: 50 | F8: =IF(L8="","",IF(M8<>0,NA(),SUMIFS(入出庫記録!$H$8:$H$107,入出庫記録!$B$8:$B$107,A8))) -> 20 | G8: =IF(L8="","",IF(M8<>0,NA(),SUMIFS(入出庫記録!$I$8:$I$107,入出庫記録!$B$8:$B$107,A8))) -> 80 | H8: =IF(L8="","",IF(M8<>0,NA(),SUMIFS(入出庫記録!$J$8:$J$107,入出庫記録!$B$8:$B$107,A8))) -> 0 | I8: =IF(L8="","",IF(M8<>0,NA(),IF(OR(B8="未確認",H8>0),"",C8+F8-G8))) -> 40 | J8: =IF(L8="","",IF(M8<>0,NA(),IF(OR(B8="未確認",H8>0),"未確認",IF(I8<0,"帳簿負数",IF(I8<E8,"基準割れ","基準以上"))))) -> 基準割れ | K8: =IF(L8="","",IF(M8<>0,NA(),IF(OR(J8="未確認",J8="帳簿負数"),"",IF(I8<E8,E8-I8,0)))) -> 10 | L8: =IF(COUNTA(A8:E8)=0,"",IF(NOT(AND(ISTEXT(A8),LEN(A8)=8,EXACT(LEFT(A8,4),"SKU-"),ISNUMBER(FIND(MID(A8,5,1)&"x","0x1x2x3x4x5x6x7x8x9x")),ISNUMBER(FIND(MID(A8,6,1)&"x","0x1x2x3x4x5x6x7x8x9x")),ISNUMBER(FIND(MID(A8,7,1)&"x","0x1x2x3x4x5x6x7x8x9x")),ISNUMBER(FIND(MID(A8,8,1)&"x","0x1x2x3x4x5x6x7x8x9x")))),"IDはSKU-と半角数字4桁",IF(COUNTIFS($A$8:$A$57,A8)>1,"品目IDが重複",IF(NOT(OR(B8="確認済",B8="未確認")),"期首区分を確認",IF(AND(B8="確認済",NOT(IF(ISNUMBER(C8),AND(C8>=0,C8<=1000000,C8=INT(C8)),FALSE()))),"確認済期首は0〜100万個の整数で必須",IF(AND(B8="未確認",COUNTA(C8)>0),"未確認の期首数量は空欄",IF(NOT(IF(ISNUMBER(D8),AND(D8>=43831,D8<73051,D8=INT(D8)),FALSE())),"期首記録確認日は時刻なしで必須",IF(OR(D8<在庫一覧!$B$3,D8>在庫一覧!$H$3),"期首日≦期首確認日≦基準日を確認",IF(NOT(IF(ISNUMBER(E8),AND(E8>=0,E8<=1000000,E8=INT(E8)),FALSE())),"基準数量は0〜100万個の整数で必須","確認済み"))))))))) -> 確認済み | M8: =IF(L8="","",IF(L8="確認済み",0,1)) -> 0 | N8: =IF(COUNTA(A8:E8)=0,IF(AND(L8="",M8="",F8="",G8="",H8="",I8="",J8="",K8=""),0,1),IF(NOT(AND(ISTEXT(L8),L8=IF(COUNTA(A8:E8)=0,"",IF(NOT(AND(ISTEXT(A8),LEN(A8)=8,EXACT(LEFT(A8,4),"SKU-"),ISNUMBER(FIND(MID(A8,5,1)&"x","0x1x2x3x4x5x6x7x8x9x")),ISNUMBER(FIND(MID(A8,6,1)&"x","0x1x2x3x4x5x6x7x8x9x")),ISNUMBER(FIND(MID(A8,7,1)&"x","0x1x2x3x4x5x6x7x8x9x")),ISNUMBER(FIND(MID(A8,8,1)&"x","0x1x2x3x4x5x6x7x8x9x")))),"IDはSKU-と半角数字4桁",IF(COUNTIFS($A$8:$A$57,A8)>1,"品目IDが重複",IF(NOT(OR(B8="確認済",B8="未確認")),"期首区分を確認",IF(AND(B8="確認済",NOT(IF(ISNUMBER(C8),AND(C8>=0,C8<=1000000,C8=INT(C8)),FALSE()))),"確認済期首は0〜100万個の整数で必須",IF(AND(B8="未確認",COUNTA(C8)>0),"未確認の期首数量は空欄",IF(NOT(IF(ISNUMBER(D8),AND(D8>=43831,D8<73051,D8=INT(D8)),FALSE())),"期首記録確認日は時刻なしで必須",IF(OR(D8<在庫一覧!$B$3,D8>在庫一覧!$H$3),"期首日≦期首確認日≦基準日を確認",IF(NOT(IF(ISNUMBER(E8),AND(E8>=0,E8<=1000000,E8=INT(E8)),FALSE())),"基準数量は0〜100万個の整数で必須","確認済み"))))))))),ISNUMBER(M8),M8=IF(L8="確認済み",0,1))),1,IF(M8<>0,0,IF(AND(ISNUMBER(F8),F8=SUMIFS(入出庫記録!$H$8:$H$107,入出庫記録!$B$8:$B$107,A8),ISNUMBER(G8),G8=SUMIFS(入出庫記録!$I$8:$I$107,入出庫記録!$B$8:$B$107,A8),ISNUMBER(H8),H8=SUMIFS(入出庫記録!$J$8:$J$107,入出庫記録!$B$8:$B$107,A8),IF(J8="未確認",ISTEXT(I8),ISNUMBER(I8)),I8=IF(OR(B8="未確認",H8>0),"",C8+F8-G8),ISTEXT(J8),J8=IF(OR(B8="未確認",H8>0),"未確認",IF(I8<0,"帳簿負数",IF(I8<E8,"基準割れ","基準以上"))),IF(OR(J8="未確認",J8="帳簿負数"),ISTEXT(K8),ISNUMBER(K8)),K8=IF(OR(J8="未確認",J8="帳簿負数"),"",IF(I8<E8,E8-I8,0))),0,1)))) -> 0
A9: SKU-0002 | B9: 確認済 | C9: 0 | D9: 46296 | E9: 0 | F9: =IF(L9="","",IF(M9<>0,NA(),SUMIFS(入出庫記録!$H$8:$H$107,入出庫記録!$B$8:$B$107,A9))) -> 10 | G9: =IF(L9="","",IF(M9<>0,NA(),SUMIFS(入出庫記録!$I$8:$I$107,入出庫記録!$B$8:$B$107,A9))) -> 15 | H9: =IF(L9="","",IF(M9<>0,NA(),SUMIFS(入出庫記録!$J$8:$J$107,入出庫記録!$B$8:$B$107,A9))) -> 0 | I9: =IF(L9="","",IF(M9<>0,NA(),IF(OR(B9="未確認",H9>0),"",C9+F9-G9))) -> -5 | J9: =IF(L9="","",IF(M9<>0,NA(),IF(OR(B9="未確認",H9>0),"未確認",IF(I9<0,"帳簿負数",IF(I9<E9,"基準割れ","基準以上"))))) -> 帳簿負数 | K9: =IF(L9="","",IF(M9<>0,NA(),IF(OR(J9="未確認",J9="帳簿負数"),"",IF(I9<E9,E9-I9,0)))) | L9: =IF(COUNTA(A9:E9)=0,"",IF(NOT(AND(ISTEXT(A9),LEN(A9)=8,EXACT(LEFT(A9,4),"SKU-"),ISNUMBER(FIND(MID(A9,5,1)&"x","0x1x2x3x4x5x6x7x8x9x")),ISNUMBER(FIND(MID(A9,6,1)&"x","0x1x2x3x4x5x6x7x8x9x")),ISNUMBER(FIND(MID(A9,7,1)&"x","0x1x2x3x4x5x6x7x8x9x")),ISNUMBER(FIND(MID(A9,8,1)&"x","0x1x2x3x4x5x6x7x8x9x")))),"IDはSKU-と半角数字4桁",IF(COUNTIFS($A$8:$A$57,A9)>1,"品目IDが重複",IF(NOT(OR(B9="確認済",B9="未確認")),"期首区分を確認",IF(AND(B9="確認済",NOT(IF(ISNUMBER(C9),AND(C9>=0,C9<=1000000,C9=INT(C9)),FALSE()))),"確認済期首は0〜100万個の整数で必須",IF(AND(B9="未確認",COUNTA(C9)>0),"未確認の期首数量は空欄",IF(NOT(IF(ISNUMBER(D9),AND(D9>=43831,D9<73051,D9=INT(D9)),FALSE())),"期首記録確認日は時刻なしで必須",IF(OR(D9<在庫一覧!$B$3,D9>在庫一覧!$H$3),"期首日≦期首確認日≦基準日を確認",IF(NOT(IF(ISNUMBER(E9),AND(E9>=0,E9<=1000000,E9=INT(E9)),FALSE())),"基準数量は0〜100万個の整数で必須","確認済み"))))))))) -> 確認済み | M9: =IF(L9="","",IF(L9="確認済み",0,1)) -> 0 | N9: =IF(COUNTA(A9:E9)=0,IF(AND(L9="",M9="",F9="",G9="",H9="",I9="",J9="",K9=""),0,1),IF(NOT(AND(ISTEXT(L9),L9=IF(COUNTA(A9:E9)=0,"",IF(NOT(AND(ISTEXT(A9),LEN(A9)=8,EXACT(LEFT(A9,4),"SKU-"),ISNUMBER(FIND(MID(A9,5,1)&"x","0x1x2x3x4x5x6x7x8x9x")),ISNUMBER(FIND(MID(A9,6,1)&"x","0x1x2x3x4x5x6x7x8x9x")),ISNUMBER(FIND(MID(A9,7,1)&"x","0x1x2x3x4x5x6x7x8x9x")),ISNUMBER(FIND(MID(A9,8,1)&"x","0x1x2x3x4x5x6x7x8x9x")))),"IDはSKU-と半角数字4桁",IF(COUNTIFS($A$8:$A$57,A9)>1,"品目IDが重複",IF(NOT(OR(B9="確認済",B9="未確認")),"期首区分を確認",IF(AND(B9="確認済",NOT(IF(ISNUMBER(C9),AND(C9>=0,C9<=1000000,C9=INT(C9)),FALSE()))),"確認済期首は0〜100万個の整数で必須",IF(AND(B9="未確認",COUNTA(C9)>0),"未確認の期首数量は空欄",IF(NOT(IF(ISNUMBER(D9),AND(D9>=43831,D9<73051,D9=INT(D9)),FALSE())),"期首記録確認日は時刻なしで必須",IF(OR(D9<在庫一覧!$B$3,D9>在庫一覧!$H$3),"期首日≦期首確認日≦基準日を確認",IF(NOT(IF(ISNUMBER(E9),AND(E9>=0,E9<=1000000,E9=INT(E9)),FALSE())),"基準数量は0〜100万個の整数で必須","確認済み"))))))))),ISNUMBER(M9),M9=IF(L9="確認済み",0,1))),1,IF(M9<>0,0,IF(AND(ISNUMBER(F9),F9=SUMIFS(入出庫記録!$H$8:$H$107,入出庫記録!$B$8:$B$107,A9),ISNUMBER(G9),G9=SUMIFS(入出庫記録!$I$8:$I$107,入出庫記録!$B$8:$B$107,A9),ISNUMBER(H9),H9=SUMIFS(入出庫記録!$J$8:$J$107,入出庫記録!$B$8:$B$107,A9),IF(J9="未確認",ISTEXT(I9),ISNUMBER(I9)),I9=IF(OR(B9="未確認",H9>0),"",C9+F9-G9),ISTEXT(J9),J9=IF(OR(B9="未確認",H9>0),"未確認",IF(I9<0,"帳簿負数",IF(I9<E9,"基準割れ","基準以上"))),IF(OR(J9="未確認",J9="帳簿負数"),ISTEXT(K9),ISNUMBER(K9)),K9=IF(OR(J9="未確認",J9="帳簿負数"),"",IF(I9<E9,E9-I9,0))),0,1)))) -> 0
A10: SKU-0003 | B10: 未確認 | D10: 46296 | E10: 10 | F10: =IF(L10="","",IF(M10<>0,NA(),SUMIFS(入出庫記録!$H$8:$H$107,入出庫記録!$B$8:$B$107,A10))) -> 30 | G10: =IF(L10="","",IF(M10<>0,NA(),SUMIFS(入出庫記録!$I$8:$I$107,入出庫記録!$B$8:$B$107,A10))) -> 0 | H10: =IF(L10="","",IF(M10<>0,NA(),SUMIFS(入出庫記録!$J$8:$J$107,入出庫記録!$B$8:$B$107,A10))) -> 0 | I10: =IF(L10="","",IF(M10<>0,NA(),IF(OR(B10="未確認",H10>0),"",C10+F10-G10))) | J10: =IF(L10="","",IF(M10<>0,NA(),IF(OR(B10="未確認",H10>0),"未確認",IF(I10<0,"帳簿負数",IF(I10<E10,"基準割れ","基準以上"))))) -> 未確認 | K10: =IF(L10="","",IF(M10<>0,NA(),IF(OR(J10="未確認",J10="帳簿負数"),"",IF(I10<E10,E10-I10,0)))) | L10: =IF(COUNTA(A10:E10)=0,"",IF(NOT(AND(ISTEXT(A10),LEN(A10)=8,EXACT(LEFT(A10,4),"SKU-"),ISNUMBER(FIND(MID(A10,5,1)&"x","0x1x2x3x4x5x6x7x8x9x")),ISNUMBER(FIND(MID(A10,6,1)&"x","0x1x2x3x4x5x6x7x8x9x")),ISNUMBER(FIND(MID(A10,7,1)&"x","0x1x2x3x4x5x6x7x8x9x")),ISNUMBER(FIND(MID(A10,8,1)&"x","0x1x2x3x4x5x6x7x8x9x")))),"IDはSKU-と半角数字4桁",IF(COUNTIFS($A$8:$A$57,A10)>1,"品目IDが重複",IF(NOT(OR(B10="確認済",B10="未確認")),"期首区分を確認",IF(AND(B10="確認済",NOT(IF(ISNUMBER(C10),AND(C10>=0,C10<=1000000,C10=INT(C10)),FALSE()))),"確認済期首は0〜100万個の整数で必須",IF(AND(B10="未確認",COUNTA(C10)>0),"未確認の期首数量は空欄",IF(NOT(IF(ISNUMBER(D10),AND(D10>=43831,D10<73051,D10=INT(D10)),FALSE())),"期首記録確認日は時刻なしで必須",IF(OR(D10<在庫一覧!$B$3,D10>在庫一覧!$H$3),"期首日≦期首確認日≦基準日を確認",IF(NOT(IF(ISNUMBER(E10),AND(E10>=0,E10<=1000000,E10=INT(E10)),FALSE())),"基準数量は0〜100万個の整数で必須","確認済み"))))))))) -> 確認済み | M10: =IF(L10="","",IF(L10="確認済み",0,1)) -> 0 | N10: =IF(COUNTA(A10:E10)=0,IF(AND(L10="",M10="",F10="",G10="",H10="",I10="",J10="",K10=""),0,1),IF(NOT(AND(ISTEXT(L10),L10=IF(COUNTA(A10:E10)=0,"",IF(NOT(AND(ISTEXT(A10),LEN(A10)=8,EXACT(LEFT(A10,4),"SKU-"),ISNUMBER(FIND(MID(A10,5,1)&"x","0x1x2x3x4x5x6x7x8x9x")),ISNUMBER(FIND(MID(A10,6,1)&"x","0x1x2x3x4x5x6x7x8x9x")),ISNUMBER(FIND(MID(A10,7,1)&"x","0x1x2x3x4x5x6x7x8x9x")),ISNUMBER(FIND(MID(A10,8,1)&"x","0x1x2x3x4x5x6x7x8x9x")))),"IDはSKU-と半角数字4桁",IF(COUNTIFS($A$8:$A$57,A10)>1,"品目IDが重複",IF(NOT(OR(B10="確認済",B10="未確認")),"期首区分を確認",IF(AND(B10="確認済",NOT(IF(ISNUMBER(C10),AND(C10>=0,C10<=1000000,C10=INT(C10)),FALSE()))),"確認済期首は0〜100万個の整数で必須",IF(AND(B10="未確認",COUNTA(C10)>0),"未確認の期首数量は空欄",IF(NOT(IF(ISNUMBER(D10),AND(D10>=43831,D10<73051,D10=INT(D10)),FALSE())),"期首記録確認日は時刻なしで必須",IF(OR(D10<在庫一覧!$B$3,D10>在庫一覧!$H$3),"期首日≦期首確認日≦基準日を確認",IF(NOT(IF(ISNUMBER(E10),AND(E10>=0,E10<=1000000,E10=INT(E10)),FALSE())),"基準数量は0〜100万個の整数で必須","確認済み"))))))))),ISNUMBER(M10),M10=IF(L10="確認済み",0,1))),1,IF(M10<>0,0,IF(AND(ISNUMBER(F10),F10=SUMIFS(入出庫記録!$H$8:$H$107,入出庫記録!$B$8:$B$107,A10),ISNUMBER(G10),G10=SUMIFS(入出庫記録!$I$8:$I$107,入出庫記録!$B$8:$B$107,A10),ISNUMBER(H10),H10=SUMIFS(入出庫記録!$J$8:$J$107,入出庫記録!$B$8:$B$107,A10),IF(J10="未確認",ISTEXT(I10),ISNUMBER(I10)),I10=IF(OR(B10="未確認",H10>0),"",C10+F10-G10),ISTEXT(J10),J10=IF(OR(B10="未確認",H10>0),"未確認",IF(I10<0,"帳簿負数",IF(I10<E10,"基準割れ","基準以上"))),IF(OR(J10="未確認",J10="帳簿負数"),ISTEXT(K10),ISNUMBER(K10)),K10=IF(OR(J10="未確認",J10="帳簿負数"),"",IF(I10<E10,E10-I10,0))),0,1)))) -> 0
A11: SKU-0004 | B11: 確認済 | C11: 50 | D11: 46296 | E11: 20 | F11: =IF(L11="","",IF(M11<>0,NA(),SUMIFS(入出庫記録!$H$8:$H$107,入出庫記録!$B$8:$B$107,A11))) -> 0 | G11: =IF(L11="","",IF(M11<>0,NA(),SUMIFS(入出庫記録!$I$8:$I$107,入出庫記録!$B$8:$B$107,A11))) -> 0 | H11: =IF(L11="","",IF(M11<>0,NA(),SUMIFS(入出庫記録!$J$8:$J$107,入出庫記録!$B$8:$B$107,A11))) -> 1 | I11: =IF(L11="","",IF(M11<>0,NA(),IF(OR(B11="未確認",H11>0),"",C11+F11-G11))) | J11: =IF(L11="","",IF(M11<>0,NA(),IF(OR(B11="未確認",H11>0),"未確認",IF(I11<0,"帳簿負数",IF(I11<E11,"基準割れ","基準以上"))))) -> 未確認 | K11: =IF(L11="","",IF(M11<>0,NA(),IF(OR(J11="未確認",J11="帳簿負数"),"",IF(I11<E11,E11-I11,0)))) | L11: =IF(COUNTA(A11:E11)=0,"",IF(NOT(AND(ISTEXT(A11),LEN(A11)=8,EXACT(LEFT(A11,4),"SKU-"),ISNUMBER(FIND(MID(A11,5,1)&"x","0x1x2x3x4x5x6x7x8x9x")),ISNUMBER(FIND(MID(A11,6,1)&"x","0x1x2x3x4x5x6x7x8x9x")),ISNUMBER(FIND(MID(A11,7,1)&"x","0x1x2x3x4x5x6x7x8x9x")),ISNUMBER(FIND(MID(A11,8,1)&"x","0x1x2x3x4x5x6x7x8x9x")))),"IDはSKU-と半角数字4桁",IF(COUNTIFS($A$8:$A$57,A11)>1,"品目IDが重複",IF(NOT(OR(B11="確認済",B11="未確認")),"期首区分を確認",IF(AND(B11="確認済",NOT(IF(ISNUMBER(C11),AND(C11>=0,C11<=1000000,C11=INT(C11)),FALSE()))),"確認済期首は0〜100万個の整数で必須",IF(AND(B11="未確認",COUNTA(C11)>0),"未確認の期首数量は空欄",IF(NOT(IF(ISNUMBER(D11),AND(D11>=43831,D11<73051,D11=INT(D11)),FALSE())),"期首記録確認日は時刻なしで必須",IF(OR(D11<在庫一覧!$B$3,D11>在庫一覧!$H$3),"期首日≦期首確認日≦基準日を確認",IF(NOT(IF(ISNUMBER(E11),AND(E11>=0,E11<=1000000,E11=INT(E11)),FALSE())),"基準数量は0〜100万個の整数で必須","確認済み"))))))))) -> 確認済み | M11: =IF(L11="","",IF(L11="確認済み",0,1)) -> 0 | N11: =IF(COUNTA(A11:E11)=0,IF(AND(L11="",M11="",F11="",G11="",H11="",I11="",J11="",K11=""),0,1),IF(NOT(AND(ISTEXT(L11),L11=IF(COUNTA(A11:E11)=0,"",IF(NOT(AND(ISTEXT(A11),LEN(A11)=8,EXACT(LEFT(A11,4),"SKU-"),ISNUMBER(FIND(MID(A11,5,1)&"x","0x1x2x3x4x5x6x7x8x9x")),ISNUMBER(FIND(MID(A11,6,1)&"x","0x1x2x3x4x5x6x7x8x9x")),ISNUMBER(FIND(MID(A11,7,1)&"x","0x1x2x3x4x5x6x7x8x9x")),ISNUMBER(FIND(MID(A11,8,1)&"x","0x1x2x3x4x5x6x7x8x9x")))),"IDはSKU-と半角数字4桁",IF(COUNTIFS($A$8:$A$57,A11)>1,"品目IDが重複",IF(NOT(OR(B11="確認済",B11="未確認")),"期首区分を確認",IF(AND(B11="確認済",NOT(IF(ISNUMBER(C11),AND(C11>=0,C11<=1000000,C11=INT(C11)),FALSE()))),"確認済期首は0〜100万個の整数で必須",IF(AND(B11="未確認",COUNTA(C11)>0),"未確認の期首数量は空欄",IF(NOT(IF(ISNUMBER(D11),AND(D11>=43831,D11<73051,D11=INT(D11)),FALSE())),"期首記録確認日は時刻なしで必須",IF(OR(D11<在庫一覧!$B$3,D11>在庫一覧!$H$3),"期首日≦期首確認日≦基準日を確認",IF(NOT(IF(ISNUMBER(E11),AND(E11>=0,E11<=1000000,E11=INT(E11)),FALSE())),"基準数量は0〜100万個の整数で必須","確認済み"))))))))),ISNUMBER(M11),M11=IF(L11="確認済み",0,1))),1,IF(M11<>0,0,IF(AND(ISNUMBER(F11),F11=SUMIFS(入出庫記録!$H$8:$H$107,入出庫記録!$B$8:$B$107,A11),ISNUMBER(G11),G11=SUMIFS(入出庫記録!$I$8:$I$107,入出庫記録!$B$8:$B$107,A11),ISNUMBER(H11),H11=SUMIFS(入出庫記録!$J$8:$J$107,入出庫記録!$B$8:$B$107,A11),IF(J11="未確認",ISTEXT(I11),ISNUMBER(I11)),I11=IF(OR(B11="未確認",H11>0),"",C11+F11-G11),ISTEXT(J11),J11=IF(OR(B11="未確認",H11>0),"未確認",IF(I11<0,"帳簿負数",IF(I11<E11,"基準割れ","基準以上"))),IF(OR(J11="未確認",J11="帳簿負数"),ISTEXT(K11),ISNUMBER(K11)),K11=IF(OR(J11="未確認",J11="帳簿負数"),"",IF(I11<E11,E11-I11,0))),0,1)))) -> 0
A12: SKU-0005 | B12: 確認済 | C12: 0 | D12: 46296 | E12: 0 | F12: =IF(L12="","",IF(M12<>0,NA(),SUMIFS(入出庫記録!$H$8:$H$107,入出庫記録!$B$8:$B$107,A12))) -> 0 | G12: =IF(L12="","",IF(M12<>0,NA(),SUMIFS(入出庫記録!$I$8:$I$107,入出庫記録!$B$8:$B$107,A12))) -> 0 | H12: =IF(L12="","",IF(M12<>0,NA(),SUMIFS(入出庫記録!$J$8:$J$107,入出庫記録!$B$8:$B$107,A12))) -> 0 | I12: =IF(L12="","",IF(M12<>0,NA(),IF(OR(B12="未確認",H12>0),"",C12+F12-G12))) -> 0 | J12: =IF(L12="","",IF(M12<>0,NA(),IF(OR(B12="未確認",H12>0),"未確認",IF(I12<0,"帳簿負数",IF(I12<E12,"基準割れ","基準以上"))))) -> 基準以上 | K12: =IF(L12="","",IF(M12<>0,NA(),IF(OR(J12="未確認",J12="帳簿負数"),"",IF(I12<E12,E12-I12,0)))) -> 0 | L12: =IF(COUNTA(A12:E12)=0,"",IF(NOT(AND(ISTEXT(A12),LEN(A12)=8,EXACT(LEFT(A12,4),"SKU-"),ISNUMBER(FIND(MID(A12,5,1)&"x","0x1x2x3x4x5x6x7x8x9x")),ISNUMBER(FIND(MID(A12,6,1)&"x","0x1x2x3x4x5x6x7x8x9x")),ISNUMBER(FIND(MID(A12,7,1)&"x","0x1x2x3x4x5x6x7x8x9x")),ISNUMBER(FIND(MID(A12,8,1)&"x","0x1x2x3x4x5x6x7x8x9x")))),"IDはSKU-と半角数字4桁",IF(COUNTIFS($A$8:$A$57,A12)>1,"品目IDが重複",IF(NOT(OR(B12="確認済",B12="未確認")),"期首区分を確認",IF(AND(B12="確認済",NOT(IF(ISNUMBER(C12),AND(C12>=0,C12<=1000000,C12=INT(C12)),FALSE()))),"確認済期首は0〜100万個の整数で必須",IF(AND(B12="未確認",COUNTA(C12)>0),"未確認の期首数量は空欄",IF(NOT(IF(ISNUMBER(D12),AND(D12>=43831,D12<73051,D12=INT(D12)),FALSE())),"期首記録確認日は時刻なしで必須",IF(OR(D12<在庫一覧!$B$3,D12>在庫一覧!$H$3),"期首日≦期首確認日≦基準日を確認",IF(NOT(IF(ISNUMBER(E12),AND(E12>=0,E12<=1000000,E12=INT(E12)),FALSE())),"基準数量は0〜100万個の整数で必須","確認済み"))))))))) -> 確認済み | M12: =IF(L12="","",IF(L12="確認済み",0,1)) -> 0 | N12: =IF(COUNTA(A12:E12)=0,IF(AND(L12="",M12="",F12="",G12="",H12="",I12="",J12="",K12=""),0,1),IF(NOT(AND(ISTEXT(L12),L12=IF(COUNTA(A12:E12)=0,"",IF(NOT(AND(ISTEXT(A12),LEN(A12)=8,EXACT(LEFT(A12,4),"SKU-"),ISNUMBER(FIND(MID(A12,5,1)&"x","0x1x2x3x4x5x6x7x8x9x")),ISNUMBER(FIND(MID(A12,6,1)&"x","0x1x2x3x4x5x6x7x8x9x")),ISNUMBER(FIND(MID(A12,7,1)&"x","0x1x2x3x4x5x6x7x8x9x")),ISNUMBER(FIND(MID(A12,8,1)&"x","0x1x2x3x4x5x6x7x8x9x")))),"IDはSKU-と半角数字4桁",IF(COUNTIFS($A$8:$A$57,A12)>1,"品目IDが重複",IF(NOT(OR(B12="確認済",B12="未確認")),"期首区分を確認",IF(AND(B12="確認済",NOT(IF(ISNUMBER(C12),AND(C12>=0,C12<=1000000,C12=INT(C12)),FALSE()))),"確認済期首は0〜100万個の整数で必須",IF(AND(B12="未確認",COUNTA(C12)>0),"未確認の期首数量は空欄",IF(NOT(IF(ISNUMBER(D12),AND(D12>=43831,D12<73051,D12=INT(D12)),FALSE())),"期首記録確認日は時刻なしで必須",IF(OR(D12<在庫一覧!$B$3,D12>在庫一覧!$H$3),"期首日≦期首確認日≦基準日を確認",IF(NOT(IF(ISNUMBER(E12),AND(E12>=0,E12<=1000000,E12=INT(E12)),FALSE())),"基準数量は0〜100万個の整数で必須","確認済み"))))))))),ISNUMBER(M12),M12=IF(L12="確認済み",0,1))),1,IF(M12<>0,0,IF(AND(ISNUMBER(F12),F12=SUMIFS(入出庫記録!$H$8:$H$107,入出庫記録!$B$8:$B$107,A12),ISNUMBER(G12),G12=SUMIFS(入出庫記録!$I$8:$I$107,入出庫記録!$B$8:$B$107,A12),ISNUMBER(H12),H12=SUMIFS(入出庫記録!$J$8:$J$107,入出庫記録!$B$8:$B$107,A12),IF(J12="未確認",ISTEXT(I12),ISNUMBER(I12)),I12=IF(OR(B12="未確認",H12>0),"",C12+F12-G12),ISTEXT(J12),J12=IF(OR(B12="未確認",H12>0),"未確認",IF(I12<0,"帳簿負数",IF(I12<E12,"基準割れ","基準以上"))),IF(OR(J12="未確認",J12="帳簿負数"),ISTEXT(K12),ISNUMBER(K12)),K12=IF(OR(J12="未確認",J12="帳簿負数"),"",IF(I12<E12,E12-I12,0))),0,1)))) -> 0
A13: SKU-0006 | B13: 確認済 | C13: 5 | D13: 46296 | E13: 5 | F13: =IF(L13="","",IF(M13<>0,NA(),SUMIFS(入出庫記録!$H$8:$H$107,入出庫記録!$B$8:$B$107,A13))) -> 0 | G13: =IF(L13="","",IF(M13<>0,NA(),SUMIFS(入出庫記録!$I$8:$I$107,入出庫記録!$B$8:$B$107,A13))) -> 0 | H13: =IF(L13="","",IF(M13<>0,NA(),SUMIFS(入出庫記録!$J$8:$J$107,入出庫記録!$B$8:$B$107,A13))) -> 0 | I13: =IF(L13="","",IF(M13<>0,NA(),IF(OR(B13="未確認",H13>0),"",C13+F13-G13))) -> 5 | J13: =IF(L13="","",IF(M13<>0,NA(),IF(OR(B13="未確認",H13>0),"未確認",IF(I13<0,"帳簿負数",IF(I13<E13,"基準割れ","基準以上"))))) -> 基準以上 | K13: =IF(L13="","",IF(M13<>0,NA(),IF(OR(J13="未確認",J13="帳簿負数"),"",IF(I13<E13,E13-I13,0)))) -> 0 | L13: =IF(COUNTA(A13:E13)=0,"",IF(NOT(AND(ISTEXT(A13),LEN(A13)=8,EXACT(LEFT(A13,4),"SKU-"),ISNUMBER(FIND(MID(A13,5,1)&"x","0x1x2x3x4x5x6x7x8x9x")),ISNUMBER(FIND(MID(A13,6,1)&"x","0x1x2x3x4x5x6x7x8x9x")),ISNUMBER(FIND(MID(A13,7,1)&"x","0x1x2x3x4x5x6x7x8x9x")),ISNUMBER(FIND(MID(A13,8,1)&"x","0x1x2x3x4x5x6x7x8x9x")))),"IDはSKU-と半角数字4桁",IF(COUNTIFS($A$8:$A$57,A13)>1,"品目IDが重複",IF(NOT(OR(B13="確認済",B13="未確認")),"期首区分を確認",IF(AND(B13="確認済",NOT(IF(ISNUMBER(C13),AND(C13>=0,C13<=1000000,C13=INT(C13)),FALSE()))),"確認済期首は0〜100万個の整数で必須",IF(AND(B13="未確認",COUNTA(C13)>0),"未確認の期首数量は空欄",IF(NOT(IF(ISNUMBER(D13),AND(D13>=43831,D13<73051,D13=INT(D13)),FALSE())),"期首記録確認日は時刻なしで必須",IF(OR(D13<在庫一覧!$B$3,D13>在庫一覧!$H$3),"期首日≦期首確認日≦基準日を確認",IF(NOT(IF(ISNUMBER(E13),AND(E13>=0,E13<=1000000,E13=INT(E13)),FALSE())),"基準数量は0〜100万個の整数で必須","確認済み"))))))))) -> 確認済み | M13: =IF(L13="","",IF(L13="確認済み",0,1)) -> 0 | N13: =IF(COUNTA(A13:E13)=0,IF(AND(L13="",M13="",F13="",G13="",H13="",I13="",J13="",K13=""),0,1),IF(NOT(AND(ISTEXT(L13),L13=IF(COUNTA(A13:E13)=0,"",IF(NOT(AND(ISTEXT(A13),LEN(A13)=8,EXACT(LEFT(A13,4),"SKU-"),ISNUMBER(FIND(MID(A13,5,1)&"x","0x1x2x3x4x5x6x7x8x9x")),ISNUMBER(FIND(MID(A13,6,1)&"x","0x1x2x3x4x5x6x7x8x9x")),ISNUMBER(FIND(MID(A13,7,1)&"x","0x1x2x3x4x5x6x7x8x9x")),ISNUMBER(FIND(MID(A13,8,1)&"x","0x1x2x3x4x5x6x7x8x9x")))),"IDはSKU-と半角数字4桁",IF(COUNTIFS($A$8:$A$57,A13)>1,"品目IDが重複",IF(NOT(OR(B13="確認済",B13="未確認")),"期首区分を確認",IF(AND(B13="確認済",NOT(IF(ISNUMBER(C13),AND(C13>=0,C13<=1000000,C13=INT(C13)),FALSE()))),"確認済期首は0〜100万個の整数で必須",IF(AND(B13="未確認",COUNTA(C13)>0),"未確認の期首数量は空欄",IF(NOT(IF(ISNUMBER(D13),AND(D13>=43831,D13<73051,D13=INT(D13)),FALSE())),"期首記録確認日は時刻なしで必須",IF(OR(D13<在庫一覧!$B$3,D13>在庫一覧!$H$3),"期首日≦期首確認日≦基準日を確認",IF(NOT(IF(ISNUMBER(E13),AND(E13>=0,E13<=1000000,E13=INT(E13)),FALSE())),"基準数量は0〜100万個の整数で必須","確認済み"))))))))),ISNUMBER(M13),M13=IF(L13="確認済み",0,1))),1,IF(M13<>0,0,IF(AND(ISNUMBER(F13),F13=SUMIFS(入出庫記録!$H$8:$H$107,入出庫記録!$B$8:$B$107,A13),ISNUMBER(G13),G13=SUMIFS(入出庫記録!$I$8:$I$107,入出庫記録!$B$8:$B$107,A13),ISNUMBER(H13),H13=SUMIFS(入出庫記録!$J$8:$J$107,入出庫記録!$B$8:$B$107,A13),IF(J13="未確認",ISTEXT(I13),ISNUMBER(I13)),I13=IF(OR(B13="未確認",H13>0),"",C13+F13-G13),ISTEXT(J13),J13=IF(OR(B13="未確認",H13>0),"未確認",IF(I13<0,"帳簿負数",IF(I13<E13,"基準割れ","基準以上"))),IF(OR(J13="未確認",J13="帳簿負数"),ISTEXT(K13),ISNUMBER(K13)),K13=IF(OR(J13="未確認",J13="帳簿負数"),"",IF(I13<E13,E13-I13,0))),0,1)))) -> 0
A14: SKU-0007 | B14: 確認済 | C14: 10 | D14: 46296 | E14: 10 | F14: =IF(L14="","",IF(M14<>0,NA(),SUMIFS(入出庫記録!$H$8:$H$107,入出庫記録!$B$8:$B$107,A14))) -> 0 | G14: =IF(L14="","",IF(M14<>0,NA(),SUMIFS(入出庫記録!$I$8:$I$107,入出庫記録!$B$8:$B$107,A14))) -> 0 | H14: =IF(L14="","",IF(M14<>0,NA(),SUMIFS(入出庫記録!$J$8:$J$107,入出庫記録!$B$8:$B$107,A14))) -> 0 | I14: =IF(L14="","",IF(M14<>0,NA(),IF(OR(B14="未確認",H14>0),"",C14+F14-G14))) -> 10 | J14: =IF(L14="","",IF(M14<>0,NA(),IF(OR(B14="未確認",H14>0),"未確認",IF(I14<0,"帳簿負数",IF(I14<E14,"基準割れ","基準以上"))))) -> 基準以上 | K14: =IF(L14="","",IF(M14<>0,NA(),IF(OR(J14="未確認",J14="帳簿負数"),"",IF(I14<E14,E14-I14,0)))) -> 0 | L14: =IF(COUNTA(A14:E14)=0,"",IF(NOT(AND(ISTEXT(A14),LEN(A14)=8,EXACT(LEFT(A14,4),"SKU-"),ISNUMBER(FIND(MID(A14,5,1)&"x","0x1x2x3x4x5x6x7x8x9x")),ISNUMBER(FIND(MID(A14,6,1)&"x","0x1x2x3x4x5x6x7x8x9x")),ISNUMBER(FIND(MID(A14,7,1)&"x","0x1x2x3x4x5x6x7x8x9x")),ISNUMBER(FIND(MID(A14,8,1)&"x","0x1x2x3x4x5x6x7x8x9x")))),"IDはSKU-と半角数字4桁",IF(COUNTIFS($A$8:$A$57,A14)>1,"品目IDが重複",IF(NOT(OR(B14="確認済",B14="未確認")),"期首区分を確認",IF(AND(B14="確認済",NOT(IF(ISNUMBER(C14),AND(C14>=0,C14<=1000000,C14=INT(C14)),FALSE()))),"確認済期首は0〜100万個の整数で必須",IF(AND(B14="未確認",COUNTA(C14)>0),"未確認の期首数量は空欄",IF(NOT(IF(ISNUMBER(D14),AND(D14>=43831,D14<73051,D14=INT(D14)),FALSE())),"期首記録確認日は時刻なしで必須",IF(OR(D14<在庫一覧!$B$3,D14>在庫一覧!$H$3),"期首日≦期首確認日≦基準日を確認",IF(NOT(IF(ISNUMBER(E14),AND(E14>=0,E14<=1000000,E14=INT(E14)),FALSE())),"基準数量は0〜100万個の整数で必須","確認済み"))))))))) -> 確認済み | M14: =IF(L14="","",IF(L14="確認済み",0,1)) -> 0 | N14: =IF(COUNTA(A14:E14)=0,IF(AND(L14="",M14="",F14="",G14="",H14="",I14="",J14="",K14=""),0,1),IF(NOT(AND(ISTEXT(L14),L14=IF(COUNTA(A14:E14)=0,"",IF(NOT(AND(ISTEXT(A14),LEN(A14)=8,EXACT(LEFT(A14,4),"SKU-"),ISNUMBER(FIND(MID(A14,5,1)&"x","0x1x2x3x4x5x6x7x8x9x")),ISNUMBER(FIND(MID(A14,6,1)&"x","0x1x2x3x4x5x6x7x8x9x")),ISNUMBER(FIND(MID(A14,7,1)&"x","0x1x2x3x4x5x6x7x8x9x")),ISNUMBER(FIND(MID(A14,8,1)&"x","0x1x2x3x4x5x6x7x8x9x")))),"IDはSKU-と半角数字4桁",IF(COUNTIFS($A$8:$A$57,A14)>1,"品目IDが重複",IF(NOT(OR(B14="確認済",B14="未確認")),"期首区分を確認",IF(AND(B14="確認済",NOT(IF(ISNUMBER(C14),AND(C14>=0,C14<=1000000,C14=INT(C14)),FALSE()))),"確認済期首は0〜100万個の整数で必須",IF(AND(B14="未確認",COUNTA(C14)>0),"未確認の期首数量は空欄",IF(NOT(IF(ISNUMBER(D14),AND(D14>=43831,D14<73051,D14=INT(D14)),FALSE())),"期首記録確認日は時刻なしで必須",IF(OR(D14<在庫一覧!$B$3,D14>在庫一覧!$H$3),"期首日≦期首確認日≦基準日を確認",IF(NOT(IF(ISNUMBER(E14),AND(E14>=0,E14<=1000000,E14=INT(E14)),FALSE())),"基準数量は0〜100万個の整数で必須","確認済み"))))))))),ISNUMBER(M14),M14=IF(L14="確認済み",0,1))),1,IF(M14<>0,0,IF(AND(ISNUMBER(F14),F14=SUMIFS(入出庫記録!$H$8:$H$107,入出庫記録!$B$8:$B$107,A14),ISNUMBER(G14),G14=SUMIFS(入出庫記録!$I$8:$I$107,入出庫記録!$B$8:$B$107,A14),ISNUMBER(H14),H14=SUMIFS(入出庫記録!$J$8:$J$107,入出庫記録!$B$8:$B$107,A14),IF(J14="未確認",ISTEXT(I14),ISNUMBER(I14)),I14=IF(OR(B14="未確認",H14>0),"",C14+F14-G14),ISTEXT(J14),J14=IF(OR(B14="未確認",H14>0),"未確認",IF(I14<0,"帳簿負数",IF(I14<E14,"基準割れ","基準以上"))),IF(OR(J14="未確認",J14="帳簿負数"),ISTEXT(K14),ISNUMBER(K14)),K14=IF(OR(J14="未確認",J14="帳簿負数"),"",IF(I14<E14,E14-I14,0))),0,1)))) -> 0
A15: SKU-0008 | B15: 確認済 | C15: 1 | D15: 46296 | E15: 2 | F15: =IF(L15="","",IF(M15<>0,NA(),SUMIFS(入出庫記録!$H$8:$H$107,入出庫記録!$B$8:$B$107,A15))) -> 1 | G15: =IF(L15="","",IF(M15<>0,NA(),SUMIFS(入出庫記録!$I$8:$I$107,入出庫記録!$B$8:$B$107,A15))) -> 0 | H15: =IF(L15="","",IF(M15<>0,NA(),SUMIFS(入出庫記録!$J$8:$J$107,入出庫記録!$B$8:$B$107,A15))) -> 0 | I15: =IF(L15="","",IF(M15<>0,NA(),IF(OR(B15="未確認",H15>0),"",C15+F15-G15))) -> 2 | J15: =IF(L15="","",IF(M15<>0,NA(),IF(OR(B15="未確認",H15>0),"未確認",IF(I15<0,"帳簿負数",IF(I15<E15,"基準割れ","基準以上"))))) -> 基準以上 | K15: =IF(L15="","",IF(M15<>0,NA(),IF(OR(J15="未確認",J15="帳簿負数"),"",IF(I15<E15,E15-I15,0)))) -> 0 | L15: =IF(COUNTA(A15:E15)=0,"",IF(NOT(AND(ISTEXT(A15),LEN(A15)=8,EXACT(LEFT(A15,4),"SKU-"),ISNUMBER(FIND(MID(A15,5,1)&"x","0x1x2x3x4x5x6x7x8x9x")),ISNUMBER(FIND(MID(A15,6,1)&"x","0x1x2x3x4x5x6x7x8x9x")),ISNUMBER(FIND(MID(A15,7,1)&"x","0x1x2x3x4x5x6x7x8x9x")),ISNUMBER(FIND(MID(A15,8,1)&"x","0x1x2x3x4x5x6x7x8x9x")))),"IDはSKU-と半角数字4桁",IF(COUNTIFS($A$8:$A$57,A15)>1,"品目IDが重複",IF(NOT(OR(B15="確認済",B15="未確認")),"期首区分を確認",IF(AND(B15="確認済",NOT(IF(ISNUMBER(C15),AND(C15>=0,C15<=1000000,C15=INT(C15)),FALSE()))),"確認済期首は0〜100万個の整数で必須",IF(AND(B15="未確認",COUNTA(C15)>0),"未確認の期首数量は空欄",IF(NOT(IF(ISNUMBER(D15),AND(D15>=43831,D15<73051,D15=INT(D15)),FALSE())),"期首記録確認日は時刻なしで必須",IF(OR(D15<在庫一覧!$B$3,D15>在庫一覧!$H$3),"期首日≦期首確認日≦基準日を確認",IF(NOT(IF(ISNUMBER(E15),AND(E15>=0,E15<=1000000,E15=INT(E15)),FALSE())),"基準数量は0〜100万個の整数で必須","確認済み"))))))))) -> 確認済み | M15: =IF(L15="","",IF(L15="確認済み",0,1)) -> 0 | N15: =IF(COUNTA(A15:E15)=0,IF(AND(L15="",M15="",F15="",G15="",H15="",I15="",J15="",K15=""),0,1),IF(NOT(AND(ISTEXT(L15),L15=IF(COUNTA(A15:E15)=0,"",IF(NOT(AND(ISTEXT(A15),LEN(A15)=8,EXACT(LEFT(A15,4),"SKU-"),ISNUMBER(FIND(MID(A15,5,1)&"x","0x1x2x3x4x5x6x7x8x9x")),ISNUMBER(FIND(MID(A15,6,1)&"x","0x1x2x3x4x5x6x7x8x9x")),ISNUMBER(FIND(MID(A15,7,1)&"x","0x1x2x3x4x5x6x7x8x9x")),ISNUMBER(FIND(MID(A15,8,1)&"x","0x1x2x3x4x5x6x7x8x9x")))),"IDはSKU-と半角数字4桁",IF(COUNTIFS($A$8:$A$57,A15)>1,"品目IDが重複",IF(NOT(OR(B15="確認済",B15="未確認")),"期首区分を確認",IF(AND(B15="確認済",NOT(IF(ISNUMBER(C15),AND(C15>=0,C15<=1000000,C15=INT(C15)),FALSE()))),"確認済期首は0〜100万個の整数で必須",IF(AND(B15="未確認",COUNTA(C15)>0),"未確認の期首数量は空欄",IF(NOT(IF(ISNUMBER(D15),AND(D15>=43831,D15<73051,D15=INT(D15)),FALSE())),"期首記録確認日は時刻なしで必須",IF(OR(D15<在庫一覧!$B$3,D15>在庫一覧!$H$3),"期首日≦期首確認日≦基準日を確認",IF(NOT(IF(ISNUMBER(E15),AND(E15>=0,E15<=1000000,E15=INT(E15)),FALSE())),"基準数量は0〜100万個の整数で必須","確認済み"))))))))),ISNUMBER(M15),M15=IF(L15="確認済み",0,1))),1,IF(M15<>0,0,IF(AND(ISNUMBER(F15),F15=SUMIFS(入出庫記録!$H$8:$H$107,入出庫記録!$B$8:$B$107,A15),ISNUMBER(G15),G15=SUMIFS(入出庫記録!$I$8:$I$107,入出庫記録!$B$8:$B$107,A15),ISNUMBER(H15),H15=SUMIFS(入出庫記録!$J$8:$J$107,入出庫記録!$B$8:$B$107,A15),IF(J15="未確認",ISTEXT(I15),ISNUMBER(I15)),I15=IF(OR(B15="未確認",H15>0),"",C15+F15-G15),ISTEXT(J15),J15=IF(OR(B15="未確認",H15>0),"未確認",IF(I15<0,"帳簿負数",IF(I15<E15,"基準割れ","基準以上"))),IF(OR(J15="未確認",J15="帳簿負数"),ISTEXT(K15),ISNUMBER(K15)),K15=IF(OR(J15="未確認",J15="帳簿負数"),"",IF(I15<E15,E15-I15,0))),0,1)))) -> 0
F16: =IF(L16="","",IF(M16<>0,NA(),SUMIFS(入出庫記録!$H$8:$H$107,入出庫記録!$B$8:$B$107,A16))) | G16: =IF(L16="","",IF(M16<>0,NA(),SUMIFS(入出庫記録!$I$8:$I$107,入出庫記録!$B$8:$B$107,A16))) | H16: =IF(L16="","",IF(M16<>0,NA(),SUMIFS(入出庫記録!$J$8:$J$107,入出庫記録!$B$8:$B$107,A16))) | I16: =IF(L16="","",IF(M16<>0,NA(),IF(OR(B16="未確認",H16>0),"",C16+F16-G16))) | J16: =IF(L16="","",IF(M16<>0,NA(),IF(OR(B16="未確認",H16>0),"未確認",IF(I16<0,"帳簿負数",IF(I16<E16,"基準割れ","基準以上"))))) | K16: =IF(L16="","",IF(M16<>0,NA(),IF(OR(J16="未確認",J16="帳簿負数"),"",IF(I16<E16,E16-I16,0)))) | L16: =IF(COUNTA(A16:E16)=0,"",IF(NOT(AND(ISTEXT(A16),LEN(A16)=8,EXACT(LEFT(A16,4),"SKU-"),ISNUMBER(FIND(MID(A16,5,1)&"x","0x1x2x3x4x5x6x7x8x9x")),ISNUMBER(FIND(MID(A16,6,1)&"x","0x1x2x3x4x5x6x7x8x9x")),ISNUMBER(FIND(MID(A16,7,1)&"x","0x1x2x3x4x5x6x7x8x9x")),ISNUMBER(FIND(MID(A16,8,1)&"x","0x1x2x3x4x5x6x7x8x9x")))),"IDはSKU-と半角数字4桁",IF(COUNTIFS($A$8:$A$57,A16)>1,"品目IDが重複",IF(NOT(OR(B16="確認済",B16="未確認")),"期首区分を確認",IF(AND(B16="確認済",NOT(IF(ISNUMBER(C16),AND(C16>=0,C16<=1000000,C16=INT(C16)),FALSE()))),"確認済期首は0〜100万個の整数で必須",IF(AND(B16="未確認",COUNTA(C16)>0),"未確認の期首数量は空欄",IF(NOT(IF(ISNUMBER(D16),AND(D16>=43831,D16<73051,D16=INT(D16)),FALSE())),"期首記録確認日は時刻なしで必須",IF(OR(D16<在庫一覧!$B$3,D16>在庫一覧!$H$3),"期首日≦期首確認日≦基準日を確認",IF(NOT(IF(ISNUMBER(E16),AND(E16>=0,E16<=1000000,E16=INT(E16)),FALSE())),"基準数量は0〜100万個の整数で必須","確認済み"))))))))) | M16: =IF(L16="","",IF(L16="確認済み",0,1)) | N16: =IF(COUNTA(A16:E16)=0,IF(AND(L16="",M16="",F16="",G16="",H16="",I16="",J16="",K16=""),0,1),IF(NOT(AND(ISTEXT(L16),L16=IF(COUNTA(A16:E16)=0,"",IF(NOT(AND(ISTEXT(A16),LEN(A16)=8,EXACT(LEFT(A16,4),"SKU-"),ISNUMBER(FIND(MID(A16,5,1)&"x","0x1x2x3x4x5x6x7x8x9x")),ISNUMBER(FIND(MID(A16,6,1)&"x","0x1x2x3x4x5x6x7x8x9x")),ISNUMBER(FIND(MID(A16,7,1)&"x","0x1x2x3x4x5x6x7x8x9x")),ISNUMBER(FIND(MID(A16,8,1)&"x","0x1x2x3x4x5x6x7x8x9x")))),"IDはSKU-と半角数字4桁",IF(COUNTIFS($A$8:$A$57,A16)>1,"品目IDが重複",IF(NOT(OR(B16="確認済",B16="未確認")),"期首区分を確認",IF(AND(B16="確認済",NOT(IF(ISNUMBER(C16),AND(C16>=0,C16<=1000000,C16=INT(C16)),FALSE()))),"確認済期首は0〜100万個の整数で必須",IF(AND(B16="未確認",COUNTA(C16)>0),"未確認の期首数量は空欄",IF(NOT(IF(ISNUMBER(D16),AND(D16>=43831,D16<73051,D16=INT(D16)),FALSE())),"期首記録確認日は時刻なしで必須",IF(OR(D16<在庫一覧!$B$3,D16>在庫一覧!$H$3),"期首日≦期首確認日≦基準日を確認",IF(NOT(IF(ISNUMBER(E16),AND(E16>=0,E16<=1000000,E16=INT(E16)),FALSE())),"基準数量は0〜100万個の整数で必須","確認済み"))))))))),ISNUMBER(M16),M16=IF(L16="確認済み",0,1))),1,IF(M16<>0,0,IF(AND(ISNUMBER(F16),F16=SUMIFS(入出庫記録!$H$8:$H$107,入出庫記録!$B$8:$B$107,A16),ISNUMBER(G16),G16=SUMIFS(入出庫記録!$I$8:$I$107,入出庫記録!$B$8:$B$107,A16),ISNUMBER(H16),H16=SUMIFS(入出庫記録!$J$8:$J$107,入出庫記録!$B$8:$B$107,A16),IF(J16="未確認",ISTEXT(I16),ISNUMBER(I16)),I16=IF(OR(B16="未確認",H16>0),"",C16+F16-G16),ISTEXT(J16),J16=IF(OR(B16="未確認",H16>0),"未確認",IF(I16<0,"帳簿負数",IF(I16<E16,"基準割れ","基準以上"))),IF(OR(J16="未確認",J16="帳簿負数"),ISTEXT(K16),ISNUMBER(K16)),K16=IF(OR(J16="未確認",J16="帳簿負数"),"",IF(I16<E16,E16-I16,0))),0,1)))) -> 0
F17: =IF(L17="","",IF(M17<>0,NA(),SUMIFS(入出庫記録!$H$8:$H$107,入出庫記録!$B$8:$B$107,A17))) | G17: =IF(L17="","",IF(M17<>0,NA(),SUMIFS(入出庫記録!$I$8:$I$107,入出庫記録!$B$8:$B$107,A17))) | H17: =IF(L17="","",IF(M17<>0,NA(),SUMIFS(入出庫記録!$J$8:$J$107,入出庫記録!$B$8:$B$107,A17))) | I17: =IF(L17="","",IF(M17<>0,NA(),IF(OR(B17="未確認",H17>0),"",C17+F17-G17))) | J17: =IF(L17="","",IF(M17<>0,NA(),IF(OR(B17="未確認",H17>0),"未確認",IF(I17<0,"帳簿負数",IF(I17<E17,"基準割れ","基準以上"))))) | K17: =IF(L17="","",IF(M17<>0,NA(),IF(OR(J17="未確認",J17="帳簿負数"),"",IF(I17<E17,E17-I17,0)))) | L17: =IF(COUNTA(A17:E17)=0,"",IF(NOT(AND(ISTEXT(A17),LEN(A17)=8,EXACT(LEFT(A17,4),"SKU-"),ISNUMBER(FIND(MID(A17,5,1)&"x","0x1x2x3x4x5x6x7x8x9x")),ISNUMBER(FIND(MID(A17,6,1)&"x","0x1x2x3x4x5x6x7x8x9x")),ISNUMBER(FIND(MID(A17,7,1)&"x","0x1x2x3x4x5x6x7x8x9x")),ISNUMBER(FIND(MID(A17,8,1)&"x","0x1x2x3x4x5x6x7x8x9x")))),"IDはSKU-と半角数字4桁",IF(COUNTIFS($A$8:$A$57,A17)>1,"品目IDが重複",IF(NOT(OR(B17="確認済",B17="未確認")),"期首区分を確認",IF(AND(B17="確認済",NOT(IF(ISNUMBER(C17),AND(C17>=0,C17<=1000000,C17=INT(C17)),FALSE()))),"確認済期首は0〜100万個の整数で必須",IF(AND(B17="未確認",COUNTA(C17)>0),"未確認の期首数量は空欄",IF(NOT(IF(ISNUMBER(D17),AND(D17>=43831,D17<73051,D17=INT(D17)),FALSE())),"期首記録確認日は時刻なしで必須",IF(OR(D17<在庫一覧!$B$3,D17>在庫一覧!$H$3),"期首日≦期首確認日≦基準日を確認",IF(NOT(IF(ISNUMBER(E17),AND(E17>=0,E17<=1000000,E17=INT(E17)),FALSE())),"基準数量は0〜100万個の整数で必須","確認済み"))))))))) | M17: =IF(L17="","",IF(L17="確認済み",0,1)) | N17: =IF(COUNTA(A17:E17)=0,IF(AND(L17="",M17="",F17="",G17="",H17="",I17="",J17="",K17=""),0,1),IF(NOT(AND(ISTEXT(L17),L17=IF(COUNTA(A17:E17)=0,"",IF(NOT(AND(ISTEXT(A17),LEN(A17)=8,EXACT(LEFT(A17,4),"SKU-"),ISNUMBER(FIND(MID(A17,5,1)&"x","0x1x2x3x4x5x6x7x8x9x")),ISNUMBER(FIND(MID(A17,6,1)&"x","0x1x2x3x4x5x6x7x8x9x")),ISNUMBER(FIND(MID(A17,7,1)&"x","0x1x2x3x4x5x6x7x8x9x")),ISNUMBER(FIND(MID(A17,8,1)&"x","0x1x2x3x4x5x6x7x8x9x")))),"IDはSKU-と半角数字4桁",IF(COUNTIFS($A$8:$A$57,A17)>1,"品目IDが重複",IF(NOT(OR(B17="確認済",B17="未確認")),"期首区分を確認",IF(AND(B17="確認済",NOT(IF(ISNUMBER(C17),AND(C17>=0,C17<=1000000,C17=INT(C17)),FALSE()))),"確認済期首は0〜100万個の整数で必須",IF(AND(B17="未確認",COUNTA(C17)>0),"未確認の期首数量は空欄",IF(NOT(IF(ISNUMBER(D17),AND(D17>=43831,D17<73051,D17=INT(D17)),FALSE())),"期首記録確認日は時刻なしで必須",IF(OR(D17<在庫一覧!$B$3,D17>在庫一覧!$H$3),"期首日≦期首確認日≦基準日を確認",IF(NOT(IF(ISNUMBER(E17),AND(E17>=0,E17<=1000000,E17=INT(E17)),FALSE())),"基準数量は0〜100万個の整数で必須","確認済み"))))))))),ISNUMBER(M17),M17=IF(L17="確認済み",0,1))),1,IF(M17<>0,0,IF(AND(ISNUMBER(F17),F17=SUMIFS(入出庫記録!$H$8:$H$107,入出庫記録!$B$8:$B$107,A17),ISNUMBER(G17),G17=SUMIFS(入出庫記録!$I$8:$I$107,入出庫記録!$B$8:$B$107,A17),ISNUMBER(H17),H17=SUMIFS(入出庫記録!$J$8:$J$107,入出庫記録!$B$8:$B$107,A17),IF(J17="未確認",ISTEXT(I17),ISNUMBER(I17)),I17=IF(OR(B17="未確認",H17>0),"",C17+F17-G17),ISTEXT(J17),J17=IF(OR(B17="未確認",H17>0),"未確認",IF(I17<0,"帳簿負数",IF(I17<E17,"基準割れ","基準以上"))),IF(OR(J17="未確認",J17="帳簿負数"),ISTEXT(K17),ISNUMBER(K17)),K17=IF(OR(J17="未確認",J17="帳簿負数"),"",IF(I17<E17,E17-I17,0))),0,1)))) -> 0
F18: =IF(L18="","",IF(M18<>0,NA(),SUMIFS(入出庫記録!$H$8:$H$107,入出庫記録!$B$8:$B$107,A18))) | G18: =IF(L18="","",IF(M18<>0,NA(),SUMIFS(入出庫記録!$I$8:$I$107,入出庫記録!$B$8:$B$107,A18))) | H18: =IF(L18="","",IF(M18<>0,NA(),SUMIFS(入出庫記録!$J$8:$J$107,入出庫記録!$B$8:$B$107,A18))) | I18: =IF(L18="","",IF(M18<>0,NA(),IF(OR(B18="未確認",H18>0),"",C18+F18-G18))) | J18: =IF(L18="","",IF(M18<>0,NA(),IF(OR(B18="未確認",H18>0),"未確認",IF(I18<0,"帳簿負数",IF(I18<E18,"基準割れ","基準以上"))))) | K18: =IF(L18="","",IF(M18<>0,NA(),IF(OR(J18="未確認",J18="帳簿負数"),"",IF(I18<E18,E18-I18,0)))) | L18: =IF(COUNTA(A18:E18)=0,"",IF(NOT(AND(ISTEXT(A18),LEN(A18)=8,EXACT(LEFT(A18,4),"SKU-"),ISNUMBER(FIND(MID(A18,5,1)&"x","0x1x2x3x4x5x6x7x8x9x")),ISNUMBER(FIND(MID(A18,6,1)&"x","0x1x2x3x4x5x6x7x8x9x")),ISNUMBER(FIND(MID(A18,7,1)&"x","0x1x2x3x4x5x6x7x8x9x")),ISNUMBER(FIND(MID(A18,8,1)&"x","0x1x2x3x4x5x6x7x8x9x")))),"IDはSKU-と半角数字4桁",IF(COUNTIFS($A$8:$A$57,A18)>1,"品目IDが重複",IF(NOT(OR(B18="確認済",B18="未確認")),"期首区分を確認",IF(AND(B18="確認済",NOT(IF(ISNUMBER(C18),AND(C18>=0,C18<=1000000,C18=INT(C18)),FALSE()))),"確認済期首は0〜100万個の整数で必須",IF(AND(B18="未確認",COUNTA(C18)>0),"未確認の期首数量は空欄",IF(NOT(IF(ISNUMBER(D18),AND(D18>=43831,D18<73051,D18=INT(D18)),FALSE())),"期首記録確認日は時刻なしで必須",IF(OR(D18<在庫一覧!$B$3,D18>在庫一覧!$H$3),"期首日≦期首確認日≦基準日を確認",IF(NOT(IF(ISNUMBER(E18),AND(E18>=0,E18<=1000000,E18=INT(E18)),FALSE())),"基準数量は0〜100万個の整数で必須","確認済み"))))))))) | M18: =IF(L18="","",IF(L18="確認済み",0,1)) | N18: =IF(COUNTA(A18:E18)=0,IF(AND(L18="",M18="",F18="",G18="",H18="",I18="",J18="",K18=""),0,1),IF(NOT(AND(ISTEXT(L18),L18=IF(COUNTA(A18:E18)=0,"",IF(NOT(AND(ISTEXT(A18),LEN(A18)=8,EXACT(LEFT(A18,4),"SKU-"),ISNUMBER(FIND(MID(A18,5,1)&"x","0x1x2x3x4x5x6x7x8x9x")),ISNUMBER(FIND(MID(A18,6,1)&"x","0x1x2x3x4x5x6x7x8x9x")),ISNUMBER(FIND(MID(A18,7,1)&"x","0x1x2x3x4x5x6x7x8x9x")),ISNUMBER(FIND(MID(A18,8,1)&"x","0x1x2x3x4x5x6x7x8x9x")))),"IDはSKU-と半角数字4桁",IF(COUNTIFS($A$8:$A$57,A18)>1,"品目IDが重複",IF(NOT(OR(B18="確認済",B18="未確認")),"期首区分を確認",IF(AND(B18="確認済",NOT(IF(ISNUMBER(C18),AND(C18>=0,C18<=1000000,C18=INT(C18)),FALSE()))),"確認済期首は0〜100万個の整数で必須",IF(AND(B18="未確認",COUNTA(C18)>0),"未確認の期首数量は空欄",IF(NOT(IF(ISNUMBER(D18),AND(D18>=43831,D18<73051,D18=INT(D18)),FALSE())),"期首記録確認日は時刻なしで必須",IF(OR(D18<在庫一覧!$B$3,D18>在庫一覧!$H$3),"期首日≦期首確認日≦基準日を確認",IF(NOT(IF(ISNUMBER(E18),AND(E18>=0,E18<=1000000,E18=INT(E18)),FALSE())),"基準数量は0〜100万個の整数で必須","確認済み"))))))))),ISNUMBER(M18),M18=IF(L18="確認済み",0,1))),1,IF(M18<>0,0,IF(AND(ISNUMBER(F18),F18=SUMIFS(入出庫記録!$H$8:$H$107,入出庫記録!$B$8:$B$107,A18),ISNUMBER(G18),G18=SUMIFS(入出庫記録!$I$8:$I$107,入出庫記録!$B$8:$B$107,A18),ISNUMBER(H18),H18=SUMIFS(入出庫記録!$J$8:$J$107,入出庫記録!$B$8:$B$107,A18),IF(J18="未確認",ISTEXT(I18),ISNUMBER(I18)),I18=IF(OR(B18="未確認",H18>0),"",C18+F18-G18),ISTEXT(J18),J18=IF(OR(B18="未確認",H18>0),"未確認",IF(I18<0,"帳簿負数",IF(I18<E18,"基準割れ","基準以上"))),IF(OR(J18="未確認",J18="帳簿負数"),ISTEXT(K18),ISNUMBER(K18)),K18=IF(OR(J18="未確認",J18="帳簿負数"),"",IF(I18<E18,E18-I18,0))),0,1)))) -> 0
F19: =IF(L19="","",IF(M19<>0,NA(),SUMIFS(入出庫記録!$H$8:$H$107,入出庫記録!$B$8:$B$107,A19))) | G19: =IF(L19="","",IF(M19<>0,NA(),SUMIFS(入出庫記録!$I$8:$I$107,入出庫記録!$B$8:$B$107,A19))) | H19: =IF(L19="","",IF(M19<>0,NA(),SUMIFS(入出庫記録!$J$8:$J$107,入出庫記録!$B$8:$B$107,A19))) | I19: =IF(L19="","",IF(M19<>0,NA(),IF(OR(B19="未確認",H19>0),"",C19+F19-G19))) | J19: =IF(L19="","",IF(M19<>0,NA(),IF(OR(B19="未確認",H19>0),"未確認",IF(I19<0,"帳簿負数",IF(I19<E19,"基準割れ","基準以上"))))) | K19: =IF(L19="","",IF(M19<>0,NA(),IF(OR(J19="未確認",J19="帳簿負数"),"",IF(I19<E19,E19-I19,0)))) | L19: =IF(COUNTA(A19:E19)=0,"",IF(NOT(AND(ISTEXT(A19),LEN(A19)=8,EXACT(LEFT(A19,4),"SKU-"),ISNUMBER(FIND(MID(A19,5,1)&"x","0x1x2x3x4x5x6x7x8x9x")),ISNUMBER(FIND(MID(A19,6,1)&"x","0x1x2x3x4x5x6x7x8x9x")),ISNUMBER(FIND(MID(A19,7,1)&"x","0x1x2x3x4x5x6x7x8x9x")),ISNUMBER(FIND(MID(A19,8,1)&"x","0x1x2x3x4x5x6x7x8x9x")))),"IDはSKU-と半角数字4桁",IF(COUNTIFS($A$8:$A$57,A19)>1,"品目IDが重複",IF(NOT(OR(B19="確認済",B19="未確認")),"期首区分を確認",IF(AND(B19="確認済",NOT(IF(ISNUMBER(C19),AND(C19>=0,C19<=1000000,C19=INT(C19)),FALSE()))),"確認済期首は0〜100万個の整数で必須",IF(AND(B19="未確認",COUNTA(C19)>0),"未確認の期首数量は空欄",IF(NOT(IF(ISNUMBER(D19),AND(D19>=43831,D19<73051,D19=INT(D19)),FALSE())),"期首記録確認日は時刻なしで必須",IF(OR(D19<在庫一覧!$B$3,D19>在庫一覧!$H$3),"期首日≦期首確認日≦基準日を確認",IF(NOT(IF(ISNUMBER(E19),AND(E19>=0,E19<=1000000,E19=INT(E19)),FALSE())),"基準数量は0〜100万個の整数で必須","確認済み"))))))))) | M19: =IF(L19="","",IF(L19="確認済み",0,1)) | N19: =IF(COUNTA(A19:E19)=0,IF(AND(L19="",M19="",F19="",G19="",H19="",I19="",J19="",K19=""),0,1),IF(NOT(AND(ISTEXT(L19),L19=IF(COUNTA(A19:E19)=0,"",IF(NOT(AND(ISTEXT(A19),LEN(A19)=8,EXACT(LEFT(A19,4),"SKU-"),ISNUMBER(FIND(MID(A19,5,1)&"x","0x1x2x3x4x5x6x7x8x9x")),ISNUMBER(FIND(MID(A19,6,1)&"x","0x1x2x3x4x5x6x7x8x9x")),ISNUMBER(FIND(MID(A19,7,1)&"x","0x1x2x3x4x5x6x7x8x9x")),ISNUMBER(FIND(MID(A19,8,1)&"x","0x1x2x3x4x5x6x7x8x9x")))),"IDはSKU-と半角数字4桁",IF(COUNTIFS($A$8:$A$57,A19)>1,"品目IDが重複",IF(NOT(OR(B19="確認済",B19="未確認")),"期首区分を確認",IF(AND(B19="確認済",NOT(IF(ISNUMBER(C19),AND(C19>=0,C19<=1000000,C19=INT(C19)),FALSE()))),"確認済期首は0〜100万個の整数で必須",IF(AND(B19="未確認",COUNTA(C19)>0),"未確認の期首数量は空欄",IF(NOT(IF(ISNUMBER(D19),AND(D19>=43831,D19<73051,D19=INT(D19)),FALSE())),"期首記録確認日は時刻なしで必須",IF(OR(D19<在庫一覧!$B$3,D19>在庫一覧!$H$3),"期首日≦期首確認日≦基準日を確認",IF(NOT(IF(ISNUMBER(E19),AND(E19>=0,E19<=1000000,E19=INT(E19)),FALSE())),"基準数量は0〜100万個の整数で必須","確認済み"))))))))),ISNUMBER(M19),M19=IF(L19="確認済み",0,1))),1,IF(M19<>0,0,IF(AND(ISNUMBER(F19),F19=SUMIFS(入出庫記録!$H$8:$H$107,入出庫記録!$B$8:$B$107,A19),ISNUMBER(G19),G19=SUMIFS(入出庫記録!$I$8:$I$107,入出庫記録!$B$8:$B$107,A19),ISNUMBER(H19),H19=SUMIFS(入出庫記録!$J$8:$J$107,入出庫記録!$B$8:$B$107,A19),IF(J19="未確認",ISTEXT(I19),ISNUMBER(I19)),I19=IF(OR(B19="未確認",H19>0),"",C19+F19-G19),ISTEXT(J19),J19=IF(OR(B19="未確認",H19>0),"未確認",IF(I19<0,"帳簿負数",IF(I19<E19,"基準割れ","基準以上"))),IF(OR(J19="未確認",J19="帳簿負数"),ISTEXT(K19),ISNUMBER(K19)),K19=IF(OR(J19="未確認",J19="帳簿負数"),"",IF(I19<E19,E19-I19,0))),0,1)))) -> 0
F20: =IF(L20="","",IF(M20<>0,NA(),SUMIFS(入出庫記録!$H$8:$H$107,入出庫記録!$B$8:$B$107,A20))) | G20: =IF(L20="","",IF(M20<>0,NA(),SUMIFS(入出庫記録!$I$8:$I$107,入出庫記録!$B$8:$B$107,A20))) | H20: =IF(L20="","",IF(M20<>0,NA(),SUMIFS(入出庫記録!$J$8:$J$107,入出庫記録!$B$8:$B$107,A20))) | I20: =IF(L20="","",IF(M20<>0,NA(),IF(OR(B20="未確認",H20>0),"",C20+F20-G20))) | J20: =IF(L20="","",IF(M20<>0,NA(),IF(OR(B20="未確認",H20>0),"未確認",IF(I20<0,"帳簿負数",IF(I20<E20,"基準割れ","基準以上"))))) | K20: =IF(L20="","",IF(M20<>0,NA(),IF(OR(J20="未確認",J20="帳簿負数"),"",IF(I20<E20,E20-I20,0)))) | L20: =IF(COUNTA(A20:E20)=0,"",IF(NOT(AND(ISTEXT(A20),LEN(A20)=8,EXACT(LEFT(A20,4),"SKU-"),ISNUMBER(FIND(MID(A20,5,1)&"x","0x1x2x3x4x5x6x7x8x9x")),ISNUMBER(FIND(MID(A20,6,1)&"x","0x1x2x3x4x5x6x7x8x9x")),ISNUMBER(FIND(MID(A20,7,1)&"x","0x1x2x3x4x5x6x7x8x9x")),ISNUMBER(FIND(MID(A20,8,1)&"x","0x1x2x3x4x5x6x7x8x9x")))),"IDはSKU-と半角数字4桁",IF(COUNTIFS($A$8:$A$57,A20)>1,"品目IDが重複",IF(NOT(OR(B20="確認済",B20="未確認")),"期首区分を確認",IF(AND(B20="確認済",NOT(IF(ISNUMBER(C20),AND(C20>=0,C20<=1000000,C20=INT(C20)),FALSE()))),"確認済期首は0〜100万個の整数で必須",IF(AND(B20="未確認",COUNTA(C20)>0),"未確認の期首数量は空欄",IF(NOT(IF(ISNUMBER(D20),AND(D20>=43831,D20<73051,D20=INT(D20)),FALSE())),"期首記録確認日は時刻なしで必須",IF(OR(D20<在庫一覧!$B$3,D20>在庫一覧!$H$3),"期首日≦期首確認日≦基準日を確認",IF(NOT(IF(ISNUMBER(E20),AND(E20>=0,E20<=1000000,E20=INT(E20)),FALSE())),"基準数量は0〜100万個の整数で必須","確認済み"))))))))) | M20: =IF(L20="","",IF(L20="確認済み",0,1)) | N20: =IF(COUNTA(A20:E20)=0,IF(AND(L20="",M20="",F20="",G20="",H20="",I20="",J20="",K20=""),0,1),IF(NOT(AND(ISTEXT(L20),L20=IF(COUNTA(A20:E20)=0,"",IF(NOT(AND(ISTEXT(A20),LEN(A20)=8,EXACT(LEFT(A20,4),"SKU-"),ISNUMBER(FIND(MID(A20,5,1)&"x","0x1x2x3x4x5x6x7x8x9x")),ISNUMBER(FIND(MID(A20,6,1)&"x","0x1x2x3x4x5x6x7x8x9x")),ISNUMBER(FIND(MID(A20,7,1)&"x","0x1x2x3x4x5x6x7x8x9x")),ISNUMBER(FIND(MID(A20,8,1)&"x","0x1x2x3x4x5x6x7x8x9x")))),"IDはSKU-と半角数字4桁",IF(COUNTIFS($A$8:$A$57,A20)>1,"品目IDが重複",IF(NOT(OR(B20="確認済",B20="未確認")),"期首区分を確認",IF(AND(B20="確認済",NOT(IF(ISNUMBER(C20),AND(C20>=0,C20<=1000000,C20=INT(C20)),FALSE()))),"確認済期首は0〜100万個の整数で必須",IF(AND(B20="未確認",COUNTA(C20)>0),"未確認の期首数量は空欄",IF(NOT(IF(ISNUMBER(D20),AND(D20>=43831,D20<73051,D20=INT(D20)),FALSE())),"期首記録確認日は時刻なしで必須",IF(OR(D20<在庫一覧!$B$3,D20>在庫一覧!$H$3),"期首日≦期首確認日≦基準日を確認",IF(NOT(IF(ISNUMBER(E20),AND(E20>=0,E20<=1000000,E20=INT(E20)),FALSE())),"基準数量は0〜100万個の整数で必須","確認済み"))))))))),ISNUMBER(M20),M20=IF(L20="確認済み",0,1))),1,IF(M20<>0,0,IF(AND(ISNUMBER(F20),F20=SUMIFS(入出庫記録!$H$8:$H$107,入出庫記録!$B$8:$B$107,A20),ISNUMBER(G20),G20=SUMIFS(入出庫記録!$I$8:$I$107,入出庫記録!$B$8:$B$107,A20),ISNUMBER(H20),H20=SUMIFS(入出庫記録!$J$8:$J$107,入出庫記録!$B$8:$B$107,A20),IF(J20="未確認",ISTEXT(I20),ISNUMBER(I20)),I20=IF(OR(B20="未確認",H20>0),"",C20+F20-G20),ISTEXT(J20),J20=IF(OR(B20="未確認",H20>0),"未確認",IF(I20<0,"帳簿負数",IF(I20<E20,"基準割れ","基準以上"))),IF(OR(J20="未確認",J20="帳簿負数"),ISTEXT(K20),ISNUMBER(K20)),K20=IF(OR(J20="未確認",J20="帳簿負数"),"",IF(I20<E20,E20-I20,0))),0,1)))) -> 0
F21: =IF(L21="","",IF(M21<>0,NA(),SUMIFS(入出庫記録!$H$8:$H$107,入出庫記録!$B$8:$B$107,A21))) | G21: =IF(L21="","",IF(M21<>0,NA(),SUMIFS(入出庫記録!$I$8:$I$107,入出庫記録!$B$8:$B$107,A21))) | H21: =IF(L21="","",IF(M21<>0,NA(),SUMIFS(入出庫記録!$J$8:$J$107,入出庫記録!$B$8:$B$107,A21))) | I21: =IF(L21="","",IF(M21<>0,NA(),IF(OR(B21="未確認",H21>0),"",C21+F21-G21))) | J21: =IF(L21="","",IF(M21<>0,NA(),IF(OR(B21="未確認",H21>0),"未確認",IF(I21<0,"帳簿負数",IF(I21<E21,"基準割れ","基準以上"))))) | K21: =IF(L21="","",IF(M21<>0,NA(),IF(OR(J21="未確認",J21="帳簿負数"),"",IF(I21<E21,E21-I21,0)))) | L21: =IF(COUNTA(A21:E21)=0,"",IF(NOT(AND(ISTEXT(A21),LEN(A21)=8,EXACT(LEFT(A21,4),"SKU-"),ISNUMBER(FIND(MID(A21,5,1)&"x","0x1x2x3x4x5x6x7x8x9x")),ISNUMBER(FIND(MID(A21,6,1)&"x","0x1x2x3x4x5x6x7x8x9x")),ISNUMBER(FIND(MID(A21,7,1)&"x","0x1x2x3x4x5x6x7x8x9x")),ISNUMBER(FIND(MID(A21,8,1)&"x","0x1x2x3x4x5x6x7x8x9x")))),"IDはSKU-と半角数字4桁",IF(COUNTIFS($A$8:$A$57,A21)>1,"品目IDが重複",IF(NOT(OR(B21="確認済",B21="未確認")),"期首区分を確認",IF(AND(B21="確認済",NOT(IF(ISNUMBER(C21),AND(C21>=0,C21<=1000000,C21=INT(C21)),FALSE()))),"確認済期首は0〜100万個の整数で必須",IF(AND(B21="未確認",COUNTA(C21)>0),"未確認の期首数量は空欄",IF(NOT(IF(ISNUMBER(D21),AND(D21>=43831,D21<73051,D21=INT(D21)),FALSE())),"期首記録確認日は時刻なしで必須",IF(OR(D21<在庫一覧!$B$3,D21>在庫一覧!$H$3),"期首日≦期首確認日≦基準日を確認",IF(NOT(IF(ISNUMBER(E21),AND(E21>=0,E21<=1000000,E21=INT(E21)),FALSE())),"基準数量は0〜100万個の整数で必須","確認済み"))))))))) | M21: =IF(L21="","",IF(L21="確認済み",0,1)) | N21: =IF(COUNTA(A21:E21)=0,IF(AND(L21="",M21="",F21="",G21="",H21="",I21="",J21="",K21=""),0,1),IF(NOT(AND(ISTEXT(L21),L21=IF(COUNTA(A21:E21)=0,"",IF(NOT(AND(ISTEXT(A21),LEN(A21)=8,EXACT(LEFT(A21,4),"SKU-"),ISNUMBER(FIND(MID(A21,5,1)&"x","0x1x2x3x4x5x6x7x8x9x")),ISNUMBER(FIND(MID(A21,6,1)&"x","0x1x2x3x4x5x6x7x8x9x")),ISNUMBER(FIND(MID(A21,7,1)&"x","0x1x2x3x4x5x6x7x8x9x")),ISNUMBER(FIND(MID(A21,8,1)&"x","0x1x2x3x4x5x6x7x8x9x")))),"IDはSKU-と半角数字4桁",IF(COUNTIFS($A$8:$A$57,A21)>1,"品目IDが重複",IF(NOT(OR(B21="確認済",B21="未確認")),"期首区分を確認",IF(AND(B21="確認済",NOT(IF(ISNUMBER(C21),AND(C21>=0,C21<=1000000,C21=INT(C21)),FALSE()))),"確認済期首は0〜100万個の整数で必須",IF(AND(B21="未確認",COUNTA(C21)>0),"未確認の期首数量は空欄",IF(NOT(IF(ISNUMBER(D21),AND(D21>=43831,D21<73051,D21=INT(D21)),FALSE())),"期首記録確認日は時刻なしで必須",IF(OR(D21<在庫一覧!$B$3,D21>在庫一覧!$H$3),"期首日≦期首確認日≦基準日を確認",IF(NOT(IF(ISNUMBER(E21),AND(E21>=0,E21<=1000000,E21=INT(E21)),FALSE())),"基準数量は0〜100万個の整数で必須","確認済み"))))))))),ISNUMBER(M21),M21=IF(L21="確認済み",0,1))),1,IF(M21<>0,0,IF(AND(ISNUMBER(F21),F21=SUMIFS(入出庫記録!$H$8:$H$107,入出庫記録!$B$8:$B$107,A21),ISNUMBER(G21),G21=SUMIFS(入出庫記録!$I$8:$I$107,入出庫記録!$B$8:$B$107,A21),ISNUMBER(H21),H21=SUMIFS(入出庫記録!$J$8:$J$107,入出庫記録!$B$8:$B$107,A21),IF(J21="未確認",ISTEXT(I21),ISNUMBER(I21)),I21=IF(OR(B21="未確認",H21>0),"",C21+F21-G21),ISTEXT(J21),J21=IF(OR(B21="未確認",H21>0),"未確認",IF(I21<0,"帳簿負数",IF(I21<E21,"基準割れ","基準以上"))),IF(OR(J21="未確認",J21="帳簿負数"),ISTEXT(K21),ISNUMBER(K21)),K21=IF(OR(J21="未確認",J21="帳簿負数"),"",IF(I21<E21,E21-I21,0))),0,1)))) -> 0
F22: =IF(L22="","",IF(M22<>0,NA(),SUMIFS(入出庫記録!$H$8:$H$107,入出庫記録!$B$8:$B$107,A22))) | G22: =IF(L22="","",IF(M22<>0,NA(),SUMIFS(入出庫記録!$I$8:$I$107,入出庫記録!$B$8:$B$107,A22))) | H22: =IF(L22="","",IF(M22<>0,NA(),SUMIFS(入出庫記録!$J$8:$J$107,入出庫記録!$B$8:$B$107,A22))) | I22: =IF(L22="","",IF(M22<>0,NA(),IF(OR(B22="未確認",H22>0),"",C22+F22-G22))) | J22: =IF(L22="","",IF(M22<>0,NA(),IF(OR(B22="未確認",H22>0),"未確認",IF(I22<0,"帳簿負数",IF(I22<E22,"基準割れ","基準以上"))))) | K22: =IF(L22="","",IF(M22<>0,NA(),IF(OR(J22="未確認",J22="帳簿負数"),"",IF(I22<E22,E22-I22,0)))) | L22: =IF(COUNTA(A22:E22)=0,"",IF(NOT(AND(ISTEXT(A22),LEN(A22)=8,EXACT(LEFT(A22,4),"SKU-"),ISNUMBER(FIND(MID(A22,5,1)&"x","0x1x2x3x4x5x6x7x8x9x")),ISNUMBER(FIND(MID(A22,6,1)&"x","0x1x2x3x4x5x6x7x8x9x")),ISNUMBER(FIND(MID(A22,7,1)&"x","0x1x2x3x4x5x6x7x8x9x")),ISNUMBER(FIND(MID(A22,8,1)&"x","0x1x2x3x4x5x6x7x8x9x")))),"IDはSKU-と半角数字4桁",IF(COUNTIFS($A$8:$A$57,A22)>1,"品目IDが重複",IF(NOT(OR(B22="確認済",B22="未確認")),"期首区分を確認",IF(AND(B22="確認済",NOT(IF(ISNUMBER(C22),AND(C22>=0,C22<=1000000,C22=INT(C22)),FALSE()))),"確認済期首は0〜100万個の整数で必須",IF(AND(B22="未確認",COUNTA(C22)>0),"未確認の期首数量は空欄",IF(NOT(IF(ISNUMBER(D22),AND(D22>=43831,D22<73051,D22=INT(D22)),FALSE())),"期首記録確認日は時刻なしで必須",IF(OR(D22<在庫一覧!$B$3,D22>在庫一覧!$H$3),"期首日≦期首確認日≦基準日を確認",IF(NOT(IF(ISNUMBER(E22),AND(E22>=0,E22<=1000000,E22=INT(E22)),FALSE())),"基準数量は0〜100万個の整数で必須","確認済み"))))))))) | M22: =IF(L22="","",IF(L22="確認済み",0,1)) | N22: =IF(COUNTA(A22:E22)=0,IF(AND(L22="",M22="",F22="",G22="",H22="",I22="",J22="",K22=""),0,1),IF(NOT(AND(ISTEXT(L22),L22=IF(COUNTA(A22:E22)=0,"",IF(NOT(AND(ISTEXT(A22),LEN(A22)=8,EXACT(LEFT(A22,4),"SKU-"),ISNUMBER(FIND(MID(A22,5,1)&"x","0x1x2x3x4x5x6x7x8x9x")),ISNUMBER(FIND(MID(A22,6,1)&"x","0x1x2x3x4x5x6x7x8x9x")),ISNUMBER(FIND(MID(A22,7,1)&"x","0x1x2x3x4x5x6x7x8x9x")),ISNUMBER(FIND(MID(A22,8,1)&"x","0x1x2x3x4x5x6x7x8x9x")))),"IDはSKU-と半角数字4桁",IF(COUNTIFS($A$8:$A$57,A22)>1,"品目IDが重複",IF(NOT(OR(B22="確認済",B22="未確認")),"期首区分を確認",IF(AND(B22="確認済",NOT(IF(ISNUMBER(C22),AND(C22>=0,C22<=1000000,C22=INT(C22)),FALSE()))),"確認済期首は0〜100万個の整数で必須",IF(AND(B22="未確認",COUNTA(C22)>0),"未確認の期首数量は空欄",IF(NOT(IF(ISNUMBER(D22),AND(D22>=43831,D22<73051,D22=INT(D22)),FALSE())),"期首記録確認日は時刻なしで必須",IF(OR(D22<在庫一覧!$B$3,D22>在庫一覧!$H$3),"期首日≦期首確認日≦基準日を確認",IF(NOT(IF(ISNUMBER(E22),AND(E22>=0,E22<=1000000,E22=INT(E22)),FALSE())),"基準数量は0〜100万個の整数で必須","確認済み"))))))))),ISNUMBER(M22),M22=IF(L22="確認済み",0,1))),1,IF(M22<>0,0,IF(AND(ISNUMBER(F22),F22=SUMIFS(入出庫記録!$H$8:$H$107,入出庫記録!$B$8:$B$107,A22),ISNUMBER(G22),G22=SUMIFS(入出庫記録!$I$8:$I$107,入出庫記録!$B$8:$B$107,A22),ISNUMBER(H22),H22=SUMIFS(入出庫記録!$J$8:$J$107,入出庫記録!$B$8:$B$107,A22),IF(J22="未確認",ISTEXT(I22),ISNUMBER(I22)),I22=IF(OR(B22="未確認",H22>0),"",C22+F22-G22),ISTEXT(J22),J22=IF(OR(B22="未確認",H22>0),"未確認",IF(I22<0,"帳簿負数",IF(I22<E22,"基準割れ","基準以上"))),IF(OR(J22="未確認",J22="帳簿負数"),ISTEXT(K22),ISNUMBER(K22)),K22=IF(OR(J22="未確認",J22="帳簿負数"),"",IF(I22<E22,E22-I22,0))),0,1)))) -> 0
F23: =IF(L23="","",IF(M23<>0,NA(),SUMIFS(入出庫記録!$H$8:$H$107,入出庫記録!$B$8:$B$107,A23))) | G23: =IF(L23="","",IF(M23<>0,NA(),SUMIFS(入出庫記録!$I$8:$I$107,入出庫記録!$B$8:$B$107,A23))) | H23: =IF(L23="","",IF(M23<>0,NA(),SUMIFS(入出庫記録!$J$8:$J$107,入出庫記録!$B$8:$B$107,A23))) | I23: =IF(L23="","",IF(M23<>0,NA(),IF(OR(B23="未確認",H23>0),"",C23+F23-G23))) | J23: =IF(L23="","",IF(M23<>0,NA(),IF(OR(B23="未確認",H23>0),"未確認",IF(I23<0,"帳簿負数",IF(I23<E23,"基準割れ","基準以上"))))) | K23: =IF(L23="","",IF(M23<>0,NA(),IF(OR(J23="未確認",J23="帳簿負数"),"",IF(I23<E23,E23-I23,0)))) | L23: =IF(COUNTA(A23:E23)=0,"",IF(NOT(AND(ISTEXT(A23),LEN(A23)=8,EXACT(LEFT(A23,4),"SKU-"),ISNUMBER(FIND(MID(A23,5,1)&"x","0x1x2x3x4x5x6x7x8x9x")),ISNUMBER(FIND(MID(A23,6,1)&"x","0x1x2x3x4x5x6x7x8x9x")),ISNUMBER(FIND(MID(A23,7,1)&"x","0x1x2x3x4x5x6x7x8x9x")),ISNUMBER(FIND(MID(A23,8,1)&"x","0x1x2x3x4x5x6x7x8x9x")))),"IDはSKU-と半角数字4桁",IF(COUNTIFS($A$8:$A$57,A23)>1,"品目IDが重複",IF(NOT(OR(B23="確認済",B23="未確認")),"期首区分を確認",IF(AND(B23="確認済",NOT(IF(ISNUMBER(C23),AND(C23>=0,C23<=1000000,C23=INT(C23)),FALSE()))),"確認済期首は0〜100万個の整数で必須",IF(AND(B23="未確認",COUNTA(C23)>0),"未確認の期首数量は空欄",IF(NOT(IF(ISNUMBER(D23),AND(D23>=43831,D23<73051,D23=INT(D23)),FALSE())),"期首記録確認日は時刻なしで必須",IF(OR(D23<在庫一覧!$B$3,D23>在庫一覧!$H$3),"期首日≦期首確認日≦基準日を確認",IF(NOT(IF(ISNUMBER(E23),AND(E23>=0,E23<=1000000,E23=INT(E23)),FALSE())),"基準数量は0〜100万個の整数で必須","確認済み"))))))))) | M23: =IF(L23="","",IF(L23="確認済み",0,1)) | N23: =IF(COUNTA(A23:E23)=0,IF(AND(L23="",M23="",F23="",G23="",H23="",I23="",J23="",K23=""),0,1),IF(NOT(AND(ISTEXT(L23),L23=IF(COUNTA(A23:E23)=0,"",IF(NOT(AND(ISTEXT(A23),LEN(A23)=8,EXACT(LEFT(A23,4),"SKU-"),ISNUMBER(FIND(MID(A23,5,1)&"x","0x1x2x3x4x5x6x7x8x9x")),ISNUMBER(FIND(MID(A23,6,1)&"x","0x1x2x3x4x5x6x7x8x9x")),ISNUMBER(FIND(MID(A23,7,1)&"x","0x1x2x3x4x5x6x7x8x9x")),ISNUMBER(FIND(MID(A23,8,1)&"x","0x1x2x3x4x5x6x7x8x9x")))),"IDはSKU-と半角数字4桁",IF(COUNTIFS($A$8:$A$57,A23)>1,"品目IDが重複",IF(NOT(OR(B23="確認済",B23="未確認")),"期首区分を確認",IF(AND(B23="確認済",NOT(IF(ISNUMBER(C23),AND(C23>=0,C23<=1000000,C23=INT(C23)),FALSE()))),"確認済期首は0〜100万個の整数で必須",IF(AND(B23="未確認",COUNTA(C23)>0),"未確認の期首数量は空欄",IF(NOT(IF(ISNUMBER(D23),AND(D23>=43831,D23<73051,D23=INT(D23)),FALSE())),"期首記録確認日は時刻なしで必須",IF(OR(D23<在庫一覧!$B$3,D23>在庫一覧!$H$3),"期首日≦期首確認日≦基準日を確認",IF(NOT(IF(ISNUMBER(E23),AND(E23>=0,E23<=1000000,E23=INT(E23)),FALSE())),"基準数量は0〜100万個の整数で必須","確認済み"))))))))),ISNUMBER(M23),M23=IF(L23="確認済み",0,1))),1,IF(M23<>0,0,IF(AND(ISNUMBER(F23),F23=SUMIFS(入出庫記録!$H$8:$H$107,入出庫記録!$B$8:$B$107,A23),ISNUMBER(G23),G23=SUMIFS(入出庫記録!$I$8:$I$107,入出庫記録!$B$8:$B$107,A23),ISNUMBER(H23),H23=SUMIFS(入出庫記録!$J$8:$J$107,入出庫記録!$B$8:$B$107,A23),IF(J23="未確認",ISTEXT(I23),ISNUMBER(I23)),I23=IF(OR(B23="未確認",H23>0),"",C23+F23-G23),ISTEXT(J23),J23=IF(OR(B23="未確認",H23>0),"未確認",IF(I23<0,"帳簿負数",IF(I23<E23,"基準割れ","基準以上"))),IF(OR(J23="未確認",J23="帳簿負数"),ISTEXT(K23),ISNUMBER(K23)),K23=IF(OR(J23="未確認",J23="帳簿負数"),"",IF(I23<E23,E23-I23,0))),0,1)))) -> 0
F24: =IF(L24="","",IF(M24<>0,NA(),SUMIFS(入出庫記録!$H$8:$H$107,入出庫記録!$B$8:$B$107,A24))) | G24: =IF(L24="","",IF(M24<>0,NA(),SUMIFS(入出庫記録!$I$8:$I$107,入出庫記録!$B$8:$B$107,A24))) | H24: =IF(L24="","",IF(M24<>0,NA(),SUMIFS(入出庫記録!$J$8:$J$107,入出庫記録!$B$8:$B$107,A24))) | I24: =IF(L24="","",IF(M24<>0,NA(),IF(OR(B24="未確認",H24>0),"",C24+F24-G24))) | J24: =IF(L24="","",IF(M24<>0,NA(),IF(OR(B24="未確認",H24>0),"未確認",IF(I24<0,"帳簿負数",IF(I24<E24,"基準割れ","基準以上"))))) | K24: =IF(L24="","",IF(M24<>0,NA(),IF(OR(J24="未確認",J24="帳簿負数"),"",IF(I24<E24,E24-I24,0)))) | L24: =IF(COUNTA(A24:E24)=0,"",IF(NOT(AND(ISTEXT(A24),LEN(A24)=8,EXACT(LEFT(A24,4),"SKU-"),ISNUMBER(FIND(MID(A24,5,1)&"x","0x1x2x3x4x5x6x7x8x9x")),ISNUMBER(FIND(MID(A24,6,1)&"x","0x1x2x3x4x5x6x7x8x9x")),ISNUMBER(FIND(MID(A24,7,1)&"x","0x1x2x3x4x5x6x7x8x9x")),ISNUMBER(FIND(MID(A24,8,1)&"x","0x1x2x3x4x5x6x7x8x9x")))),"IDはSKU-と半角数字4桁",IF(COUNTIFS($A$8:$A$57,A24)>1,"品目IDが重複",IF(NOT(OR(B24="確認済",B24="未確認")),"期首区分を確認",IF(AND(B24="確認済",NOT(IF(ISNUMBER(C24),AND(C24>=0,C24<=1000000,C24=INT(C24)),FALSE()))),"確認済期首は0〜100万個の整数で必須",IF(AND(B24="未確認",COUNTA(C24)>0),"未確認の期首数量は空欄",IF(NOT(IF(ISNUMBER(D24),AND(D24>=43831,D24<73051,D24=INT(D24)),FALSE())),"期首記録確認日は時刻なしで必須",IF(OR(D24<在庫一覧!$B$3,D24>在庫一覧!$H$3),"期首日≦期首確認日≦基準日を確認",IF(NOT(IF(ISNUMBER(E24),AND(E24>=0,E24<=1000000,E24=INT(E24)),FALSE())),"基準数量は0〜100万個の整数で必須","確認済み"))))))))) | M24: =IF(L24="","",IF(L24="確認済み",0,1)) | N24: =IF(COUNTA(A24:E24)=0,IF(AND(L24="",M24="",F24="",G24="",H24="",I24="",J24="",K24=""),0,1),IF(NOT(AND(ISTEXT(L24),L24=IF(COUNTA(A24:E24)=0,"",IF(NOT(AND(ISTEXT(A24),LEN(A24)=8,EXACT(LEFT(A24,4),"SKU-"),ISNUMBER(FIND(MID(A24,5,1)&"x","0x1x2x3x4x5x6x7x8x9x")),ISNUMBER(FIND(MID(A24,6,1)&"x","0x1x2x3x4x5x6x7x8x9x")),ISNUMBER(FIND(MID(A24,7,1)&"x","0x1x2x3x4x5x6x7x8x9x")),ISNUMBER(FIND(MID(A24,8,1)&"x","0x1x2x3x4x5x6x7x8x9x")))),"IDはSKU-と半角数字4桁",IF(COUNTIFS($A$8:$A$57,A24)>1,"品目IDが重複",IF(NOT(OR(B24="確認済",B24="未確認")),"期首区分を確認",IF(AND(B24="確認済",NOT(IF(ISNUMBER(C24),AND(C24>=0,C24<=1000000,C24=INT(C24)),FALSE()))),"確認済期首は0〜100万個の整数で必須",IF(AND(B24="未確認",COUNTA(C24)>0),"未確認の期首数量は空欄",IF(NOT(IF(ISNUMBER(D24),AND(D24>=43831,D24<73051,D24=INT(D24)),FALSE())),"期首記録確認日は時刻なしで必須",IF(OR(D24<在庫一覧!$B$3,D24>在庫一覧!$H$3),"期首日≦期首確認日≦基準日を確認",IF(NOT(IF(ISNUMBER(E24),AND(E24>=0,E24<=1000000,E24=INT(E24)),FALSE())),"基準数量は0〜100万個の整数で必須","確認済み"))))))))),ISNUMBER(M24),M24=IF(L24="確認済み",0,1))),1,IF(M24<>0,0,IF(AND(ISNUMBER(F24),F24=SUMIFS(入出庫記録!$H$8:$H$107,入出庫記録!$B$8:$B$107,A24),ISNUMBER(G24),G24=SUMIFS(入出庫記録!$I$8:$I$107,入出庫記録!$B$8:$B$107,A24),ISNUMBER(H24),H24=SUMIFS(入出庫記録!$J$8:$J$107,入出庫記録!$B$8:$B$107,A24),IF(J24="未確認",ISTEXT(I24),ISNUMBER(I24)),I24=IF(OR(B24="未確認",H24>0),"",C24+F24-G24),ISTEXT(J24),J24=IF(OR(B24="未確認",H24>0),"未確認",IF(I24<0,"帳簿負数",IF(I24<E24,"基準割れ","基準以上"))),IF(OR(J24="未確認",J24="帳簿負数"),ISTEXT(K24),ISNUMBER(K24)),K24=IF(OR(J24="未確認",J24="帳簿負数"),"",IF(I24<E24,E24-I24,0))),0,1)))) -> 0
F25: =IF(L25="","",IF(M25<>0,NA(),SUMIFS(入出庫記録!$H$8:$H$107,入出庫記録!$B$8:$B$107,A25))) | G25: =IF(L25="","",IF(M25<>0,NA(),SUMIFS(入出庫記録!$I$8:$I$107,入出庫記録!$B$8:$B$107,A25))) | H25: =IF(L25="","",IF(M25<>0,NA(),SUMIFS(入出庫記録!$J$8:$J$107,入出庫記録!$B$8:$B$107,A25))) | I25: =IF(L25="","",IF(M25<>0,NA(),IF(OR(B25="未確認",H25>0),"",C25+F25-G25))) | J25: =IF(L25="","",IF(M25<>0,NA(),IF(OR(B25="未確認",H25>0),"未確認",IF(I25<0,"帳簿負数",IF(I25<E25,"基準割れ","基準以上"))))) | K25: =IF(L25="","",IF(M25<>0,NA(),IF(OR(J25="未確認",J25="帳簿負数"),"",IF(I25<E25,E25-I25,0)))) | L25: =IF(COUNTA(A25:E25)=0,"",IF(NOT(AND(ISTEXT(A25),LEN(A25)=8,EXACT(LEFT(A25,4),"SKU-"),ISNUMBER(FIND(MID(A25,5,1)&"x","0x1x2x3x4x5x6x7x8x9x")),ISNUMBER(FIND(MID(A25,6,1)&"x","0x1x2x3x4x5x6x7x8x9x")),ISNUMBER(FIND(MID(A25,7,1)&"x","0x1x2x3x4x5x6x7x8x9x")),ISNUMBER(FIND(MID(A25,8,1)&"x","0x1x2x3x4x5x6x7x8x9x")))),"IDはSKU-と半角数字4桁",IF(COUNTIFS($A$8:$A$57,A25)>1,"品目IDが重複",IF(NOT(OR(B25="確認済",B25="未確認")),"期首区分を確認",IF(AND(B25="確認済",NOT(IF(ISNUMBER(C25),AND(C25>=0,C25<=1000000,C25=INT(C25)),FALSE()))),"確認済期首は0〜100万個の整数で必須",IF(AND(B25="未確認",COUNTA(C25)>0),"未確認の期首数量は空欄",IF(NOT(IF(ISNUMBER(D25),AND(D25>=43831,D25<73051,D25=INT(D25)),FALSE())),"期首記録確認日は時刻なしで必須",IF(OR(D25<在庫一覧!$B$3,D25>在庫一覧!$H$3),"期首日≦期首確認日≦基準日を確認",IF(NOT(IF(ISNUMBER(E25),AND(E25>=0,E25<=1000000,E25=INT(E25)),FALSE())),"基準数量は0〜100万個の整数で必須","確認済み"))))))))) | M25: =IF(L25="","",IF(L25="確認済み",0,1)) | N25: =IF(COUNTA(A25:E25)=0,IF(AND(L25="",M25="",F25="",G25="",H25="",I25="",J25="",K25=""),0,1),IF(NOT(AND(ISTEXT(L25),L25=IF(COUNTA(A25:E25)=0,"",IF(NOT(AND(ISTEXT(A25),LEN(A25)=8,EXACT(LEFT(A25,4),"SKU-"),ISNUMBER(FIND(MID(A25,5,1)&"x","0x1x2x3x4x5x6x7x8x9x")),ISNUMBER(FIND(MID(A25,6,1)&"x","0x1x2x3x4x5x6x7x8x9x")),ISNUMBER(FIND(MID(A25,7,1)&"x","0x1x2x3x4x5x6x7x8x9x")),ISNUMBER(FIND(MID(A25,8,1)&"x","0x1x2x3x4x5x6x7x8x9x")))),"IDはSKU-と半角数字4桁",IF(COUNTIFS($A$8:$A$57,A25)>1,"品目IDが重複",IF(NOT(OR(B25="確認済",B25="未確認")),"期首区分を確認",IF(AND(B25="確認済",NOT(IF(ISNUMBER(C25),AND(C25>=0,C25<=1000000,C25=INT(C25)),FALSE()))),"確認済期首は0〜100万個の整数で必須",IF(AND(B25="未確認",COUNTA(C25)>0),"未確認の期首数量は空欄",IF(NOT(IF(ISNUMBER(D25),AND(D25>=43831,D25<73051,D25=INT(D25)),FALSE())),"期首記録確認日は時刻なしで必須",IF(OR(D25<在庫一覧!$B$3,D25>在庫一覧!$H$3),"期首日≦期首確認日≦基準日を確認",IF(NOT(IF(ISNUMBER(E25),AND(E25>=0,E25<=1000000,E25=INT(E25)),FALSE())),"基準数量は0〜100万個の整数で必須","確認済み"))))))))),ISNUMBER(M25),M25=IF(L25="確認済み",0,1))),1,IF(M25<>0,0,IF(AND(ISNUMBER(F25),F25=SUMIFS(入出庫記録!$H$8:$H$107,入出庫記録!$B$8:$B$107,A25),ISNUMBER(G25),G25=SUMIFS(入出庫記録!$I$8:$I$107,入出庫記録!$B$8:$B$107,A25),ISNUMBER(H25),H25=SUMIFS(入出庫記録!$J$8:$J$107,入出庫記録!$B$8:$B$107,A25),IF(J25="未確認",ISTEXT(I25),ISNUMBER(I25)),I25=IF(OR(B25="未確認",H25>0),"",C25+F25-G25),ISTEXT(J25),J25=IF(OR(B25="未確認",H25>0),"未確認",IF(I25<0,"帳簿負数",IF(I25<E25,"基準割れ","基準以上"))),IF(OR(J25="未確認",J25="帳簿負数"),ISTEXT(K25),ISNUMBER(K25)),K25=IF(OR(J25="未確認",J25="帳簿負数"),"",IF(I25<E25,E25-I25,0))),0,1)))) -> 0
F26: =IF(L26="","",IF(M26<>0,NA(),SUMIFS(入出庫記録!$H$8:$H$107,入出庫記録!$B$8:$B$107,A26))) | G26: =IF(L26="","",IF(M26<>0,NA(),SUMIFS(入出庫記録!$I$8:$I$107,入出庫記録!$B$8:$B$107,A26))) | H26: =IF(L26="","",IF(M26<>0,NA(),SUMIFS(入出庫記録!$J$8:$J$107,入出庫記録!$B$8:$B$107,A26))) | I26: =IF(L26="","",IF(M26<>0,NA(),IF(OR(B26="未確認",H26>0),"",C26+F26-G26))) | J26: =IF(L26="","",IF(M26<>0,NA(),IF(OR(B26="未確認",H26>0),"未確認",IF(I26<0,"帳簿負数",IF(I26<E26,"基準割れ","基準以上"))))) | K26: =IF(L26="","",IF(M26<>0,NA(),IF(OR(J26="未確認",J26="帳簿負数"),"",IF(I26<E26,E26-I26,0)))) | L26: =IF(COUNTA(A26:E26)=0,"",IF(NOT(AND(ISTEXT(A26),LEN(A26)=8,EXACT(LEFT(A26,4),"SKU-"),ISNUMBER(FIND(MID(A26,5,1)&"x","0x1x2x3x4x5x6x7x8x9x")),ISNUMBER(FIND(MID(A26,6,1)&"x","0x1x2x3x4x5x6x7x8x9x")),ISNUMBER(FIND(MID(A26,7,1)&"x","0x1x2x3x4x5x6x7x8x9x")),ISNUMBER(FIND(MID(A26,8,1)&"x","0x1x2x3x4x5x6x7x8x9x")))),"IDはSKU-と半角数字4桁",IF(COUNTIFS($A$8:$A$57,A26)>1,"品目IDが重複",IF(NOT(OR(B26="確認済",B26="未確認")),"期首区分を確認",IF(AND(B26="確認済",NOT(IF(ISNUMBER(C26),AND(C26>=0,C26<=1000000,C26=INT(C26)),FALSE()))),"確認済期首は0〜100万個の整数で必須",IF(AND(B26="未確認",COUNTA(C26)>0),"未確認の期首数量は空欄",IF(NOT(IF(ISNUMBER(D26),AND(D26>=43831,D26<73051,D26=INT(D26)),FALSE())),"期首記録確認日は時刻なしで必須",IF(OR(D26<在庫一覧!$B$3,D26>在庫一覧!$H$3),"期首日≦期首確認日≦基準日を確認",IF(NOT(IF(ISNUMBER(E26),AND(E26>=0,E26<=1000000,E26=INT(E26)),FALSE())),"基準数量は0〜100万個の整数で必須","確認済み"))))))))) | M26: =IF(L26="","",IF(L26="確認済み",0,1)) | N26: =IF(COUNTA(A26:E26)=0,IF(AND(L26="",M26="",F26="",G26="",H26="",I26="",J26="",K26=""),0,1),IF(NOT(AND(ISTEXT(L26),L26=IF(COUNTA(A26:E26)=0,"",IF(NOT(AND(ISTEXT(A26),LEN(A26)=8,EXACT(LEFT(A26,4),"SKU-"),ISNUMBER(FIND(MID(A26,5,1)&"x","0x1x2x3x4x5x6x7x8x9x")),ISNUMBER(FIND(MID(A26,6,1)&"x","0x1x2x3x4x5x6x7x8x9x")),ISNUMBER(FIND(MID(A26,7,1)&"x","0x1x2x3x4x5x6x7x8x9x")),ISNUMBER(FIND(MID(A26,8,1)&"x","0x1x2x3x4x5x6x7x8x9x")))),"IDはSKU-と半角数字4桁",IF(COUNTIFS($A$8:$A$57,A26)>1,"品目IDが重複",IF(NOT(OR(B26="確認済",B26="未確認")),"期首区分を確認",IF(AND(B26="確認済",NOT(IF(ISNUMBER(C26),AND(C26>=0,C26<=1000000,C26=INT(C26)),FALSE()))),"確認済期首は0〜100万個の整数で必須",IF(AND(B26="未確認",COUNTA(C26)>0),"未確認の期首数量は空欄",IF(NOT(IF(ISNUMBER(D26),AND(D26>=43831,D26<73051,D26=INT(D26)),FALSE())),"期首記録確認日は時刻なしで必須",IF(OR(D26<在庫一覧!$B$3,D26>在庫一覧!$H$3),"期首日≦期首確認日≦基準日を確認",IF(NOT(IF(ISNUMBER(E26),AND(E26>=0,E26<=1000000,E26=INT(E26)),FALSE())),"基準数量は0〜100万個の整数で必須","確認済み"))))))))),ISNUMBER(M26),M26=IF(L26="確認済み",0,1))),1,IF(M26<>0,0,IF(AND(ISNUMBER(F26),F26=SUMIFS(入出庫記録!$H$8:$H$107,入出庫記録!$B$8:$B$107,A26),ISNUMBER(G26),G26=SUMIFS(入出庫記録!$I$8:$I$107,入出庫記録!$B$8:$B$107,A26),ISNUMBER(H26),H26=SUMIFS(入出庫記録!$J$8:$J$107,入出庫記録!$B$8:$B$107,A26),IF(J26="未確認",ISTEXT(I26),ISNUMBER(I26)),I26=IF(OR(B26="未確認",H26>0),"",C26+F26-G26),ISTEXT(J26),J26=IF(OR(B26="未確認",H26>0),"未確認",IF(I26<0,"帳簿負数",IF(I26<E26,"基準割れ","基準以上"))),IF(OR(J26="未確認",J26="帳簿負数"),ISTEXT(K26),ISNUMBER(K26)),K26=IF(OR(J26="未確認",J26="帳簿負数"),"",IF(I26<E26,E26-I26,0))),0,1)))) -> 0
F27: =IF(L27="","",IF(M27<>0,NA(),SUMIFS(入出庫記録!$H$8:$H$107,入出庫記録!$B$8:$B$107,A27))) | G27: =IF(L27="","",IF(M27<>0,NA(),SUMIFS(入出庫記録!$I$8:$I$107,入出庫記録!$B$8:$B$107,A27))) | H27: =IF(L27="","",IF(M27<>0,NA(),SUMIFS(入出庫記録!$J$8:$J$107,入出庫記録!$B$8:$B$107,A27))) | I27: =IF(L27="","",IF(M27<>0,NA(),IF(OR(B27="未確認",H27>0),"",C27+F27-G27))) | J27: =IF(L27="","",IF(M27<>0,NA(),IF(OR(B27="未確認",H27>0),"未確認",IF(I27<0,"帳簿負数",IF(I27<E27,"基準割れ","基準以上"))))) | K27: =IF(L27="","",IF(M27<>0,NA(),IF(OR(J27="未確認",J27="帳簿負数"),"",IF(I27<E27,E27-I27,0)))) | L27: =IF(COUNTA(A27:E27)=0,"",IF(NOT(AND(ISTEXT(A27),LEN(A27)=8,EXACT(LEFT(A27,4),"SKU-"),ISNUMBER(FIND(MID(A27,5,1)&"x","0x1x2x3x4x5x6x7x8x9x")),ISNUMBER(FIND(MID(A27,6,1)&"x","0x1x2x3x4x5x6x7x8x9x")),ISNUMBER(FIND(MID(A27,7,1)&"x","0x1x2x3x4x5x6x7x8x9x")),ISNUMBER(FIND(MID(A27,8,1)&"x","0x1x2x3x4x5x6x7x8x9x")))),"IDはSKU-と半角数字4桁",IF(COUNTIFS($A$8:$A$57,A27)>1,"品目IDが重複",IF(NOT(OR(B27="確認済",B27="未確認")),"期首区分を確認",IF(AND(B27="確認済",NOT(IF(ISNUMBER(C27),AND(C27>=0,C27<=1000000,C27=INT(C27)),FALSE()))),"確認済期首は0〜100万個の整数で必須",IF(AND(B27="未確認",COUNTA(C27)>0),"未確認の期首数量は空欄",IF(NOT(IF(ISNUMBER(D27),AND(D27>=43831,D27<73051,D27=INT(D27)),FALSE())),"期首記録確認日は時刻なしで必須",IF(OR(D27<在庫一覧!$B$3,D27>在庫一覧!$H$3),"期首日≦期首確認日≦基準日を確認",IF(NOT(IF(ISNUMBER(E27),AND(E27>=0,E27<=1000000,E27=INT(E27)),FALSE())),"基準数量は0〜100万個の整数で必須","確認済み"))))))))) | M27: =IF(L27="","",IF(L27="確認済み",0,1)) | N27: =IF(COUNTA(A27:E27)=0,IF(AND(L27="",M27="",F27="",G27="",H27="",I27="",J27="",K27=""),0,1),IF(NOT(AND(ISTEXT(L27),L27=IF(COUNTA(A27:E27)=0,"",IF(NOT(AND(ISTEXT(A27),LEN(A27)=8,EXACT(LEFT(A27,4),"SKU-"),ISNUMBER(FIND(MID(A27,5,1)&"x","0x1x2x3x4x5x6x7x8x9x")),ISNUMBER(FIND(MID(A27,6,1)&"x","0x1x2x3x4x5x6x7x8x9x")),ISNUMBER(FIND(MID(A27,7,1)&"x","0x1x2x3x4x5x6x7x8x9x")),ISNUMBER(FIND(MID(A27,8,1)&"x","0x1x2x3x4x5x6x7x8x9x")))),"IDはSKU-と半角数字4桁",IF(COUNTIFS($A$8:$A$57,A27)>1,"品目IDが重複",IF(NOT(OR(B27="確認済",B27="未確認")),"期首区分を確認",IF(AND(B27="確認済",NOT(IF(ISNUMBER(C27),AND(C27>=0,C27<=1000000,C27=INT(C27)),FALSE()))),"確認済期首は0〜100万個の整数で必須",IF(AND(B27="未確認",COUNTA(C27)>0),"未確認の期首数量は空欄",IF(NOT(IF(ISNUMBER(D27),AND(D27>=43831,D27<73051,D27=INT(D27)),FALSE())),"期首記録確認日は時刻なしで必須",IF(OR(D27<在庫一覧!$B$3,D27>在庫一覧!$H$3),"期首日≦期首確認日≦基準日を確認",IF(NOT(IF(ISNUMBER(E27),AND(E27>=0,E27<=1000000,E27=INT(E27)),FALSE())),"基準数量は0〜100万個の整数で必須","確認済み"))))))))),ISNUMBER(M27),M27=IF(L27="確認済み",0,1))),1,IF(M27<>0,0,IF(AND(ISNUMBER(F27),F27=SUMIFS(入出庫記録!$H$8:$H$107,入出庫記録!$B$8:$B$107,A27),ISNUMBER(G27),G27=SUMIFS(入出庫記録!$I$8:$I$107,入出庫記録!$B$8:$B$107,A27),ISNUMBER(H27),H27=SUMIFS(入出庫記録!$J$8:$J$107,入出庫記録!$B$8:$B$107,A27),IF(J27="未確認",ISTEXT(I27),ISNUMBER(I27)),I27=IF(OR(B27="未確認",H27>0),"",C27+F27-G27),ISTEXT(J27),J27=IF(OR(B27="未確認",H27>0),"未確認",IF(I27<0,"帳簿負数",IF(I27<E27,"基準割れ","基準以上"))),IF(OR(J27="未確認",J27="帳簿負数"),ISTEXT(K27),ISNUMBER(K27)),K27=IF(OR(J27="未確認",J27="帳簿負数"),"",IF(I27<E27,E27-I27,0))),0,1)))) -> 0
... F57: =IF(L57="","",IF(M57<>0,NA(),SUMIFS(入出庫記録!$H$8:$H$107,入出庫記録!$B$8:$B$107,A57))) | G57: =IF(L57="","",IF(M57<>0,NA(),SUMIFS(入出庫記録!$I$8:$I$107,入出庫記録!$B$8:$B$107,A57))) | H57: =IF(L57="","",IF(M57<>0,NA(),SUMIFS(入出庫記録!$J$8:$J$107,入出庫記録!$B$8:$B$107,A57))) | I57: =IF(L57="","",IF(M57<>0,NA(),IF(OR(B57="未確認",H57>0),"",C57+F57-G57))) | J57: =IF(L57="","",IF(M57<>0,NA(),IF(OR(B57="未確認",H57>0),"未確認",IF(I57<0,"帳簿負数",IF(I57<E57,"基準割れ","基準以上"))))) | K57: =IF(L57="","",IF(M57<>0,NA(),IF(OR(J57="未確認",J57="帳簿負数"),"",IF(I57<E57,E57-I57,0)))) | L57: =IF(COUNTA(A57:E57)=0,"",IF(NOT(AND(ISTEXT(A57),LEN(A57)=8,EXACT(LEFT(A57,4),"SKU-"),ISNUMBER(FIND(MID(A57,5,1)&"x","0x1x2x3x4x5x6x7x8x9x")),ISNUMBER(FIND(MID(A57,6,1)&"x","0x1x2x3x4x5x6x7x8x9x")),ISNUMBER(FIND(MID(A57,7,1)&"x","0x1x2x3x4x5x6x7x8x9x")),ISNUMBER(FIND(MID(A57,8,1)&"x","0x1x2x3x4x5x6x7x8x9x")))),"IDはSKU-と半角数字4桁",IF(COUNTIFS($A$8:$A$57,A57)>1,"品目IDが重複",IF(NOT(OR(B57="確認済",B57="未確認")),"期首区分を確認",IF(AND(B57="確認済",NOT(IF(ISNUMBER(C57),AND(C57>=0,C57<=1000000,C57=INT(C57)),FALSE()))),"確認済期首は0〜100万個の整数で必須",IF(AND(B57="未確認",COUNTA(C57)>0),"未確認の期首数量は空欄",IF(NOT(IF(ISNUMBER(D57),AND(D57>=43831,D57<73051,D57=INT(D57)),FALSE())),"期首記録確認日は時刻なしで必須",IF(OR(D57<在庫一覧!$B$3,D57>在庫一覧!$H$3),"期首日≦期首確認日≦基準日を確認",IF(NOT(IF(ISNUMBER(E57),AND(E57>=0,E57<=1000000,E57=INT(E57)),FALSE())),"基準数量は0〜100万個の整数で必須","確認済み"))))))))) | M57: =IF(L57="","",IF(L57="確認済み",0,1)) | N57: =IF(COUNTA(A57:E57)=0,IF(AND(L57="",M57="",F57="",G57="",H57="",I57="",J57="",K57=""),0,1),IF(NOT(AND(ISTEXT(L57),L57=IF(COUNTA(A57:E57)=0,"",IF(NOT(AND(ISTEXT(A57),LEN(A57)=8,EXACT(LEFT(A57,4),"SKU-"),ISNUMBER(FIND(MID(A57,5,1)&"x","0x1x2x3x4x5x6x7x8x9x")),ISNUMBER(FIND(MID(A57,6,1)&"x","0x1x2x3x4x5x6x7x8x9x")),ISNUMBER(FIND(MID(A57,7,1)&"x","0x1x2x3x4x5x6x7x8x9x")),ISNUMBER(FIND(MID(A57,8,1)&"x","0x1x2x3x4x5x6x7x8x9x")))),"IDはSKU-と半角数字4桁",IF(COUNTIFS($A$8:$A$57,A57)>1,"品目IDが重複",IF(NOT(OR(B57="確認済",B57="未確認")),"期首区分を確認",IF(AND(B57="確認済",NOT(IF(ISNUMBER(C57),AND(C57>=0,C57<=1000000,C57=INT(C57)),FALSE()))),"確認済期首は0〜100万個の整数で必須",IF(AND(B57="未確認",COUNTA(C57)>0),"未確認の期首数量は空欄",IF(NOT(IF(ISNUMBER(D57),AND(D57>=43831,D57<73051,D57=INT(D57)),FALSE())),"期首記録確認日は時刻なしで必須",IF(OR(D57<在庫一覧!$B$3,D57>在庫一覧!$H$3),"期首日≦期首確認日≦基準日を確認",IF(NOT(IF(ISNUMBER(E57),AND(E57>=0,E57<=1000000,E57=INT(E57)),FALSE())),"基準数量は0〜100万個の整数で必須","確認済み"))))))))),ISNUMBER(M57),M57=IF(L57="確認済み",0,1))),1,IF(M57<>0,0,IF(AND(ISNUMBER(F57),F57=SUMIFS(入出庫記録!$H$8:$H$107,入出庫記録!$B$8:$B$107,A57),ISNUMBER(G57),G57=SUMIFS(入出庫記録!$I$8:$I$107,入出庫記録!$B$8:$B$107,A57),ISNUMBER(H57),H57=SUMIFS(入出庫記録!$J$8:$J$107,入出庫記録!$B$8:$B$107,A57),IF(J57="未確認",ISTEXT(I57),ISNUMBER(I57)),I57=IF(OR(B57="未確認",H57>0),"",C57+F57-G57),ISTEXT(J57),J57=IF(OR(B57="未確認",H57>0),"未確認",IF(I57<0,"帳簿負数",IF(I57<E57,"基準割れ","基準以上"))),IF(OR(J57="未確認",J57="帳簿負数"),ISTEXT(K57),ISNUMBER(K57)),K57=IF(OR(J57="未確認",J57="帳簿負数"),"",IF(I57<E57,E57-I57,0))),0,1)))) -> 0
A61: 架空教材。50品目/100記録、単一保管場所・単位は個のみ。品目/単位/元資料の対応は別管理。
A62: 期首日は開始直前の数量。期首日当日の入出庫を期首へ重複して含めません。
A63: 期首区分は確認済/未確認。確認済0個は数値0、未確認の数量は空欄です。
A64: 入出庫は記録ID一意、同じ品目の複数記録は可。確定/取消の元数量は正の整数。
A65: 未確認は数量空欄、集計日までに存在すればその品目の在庫を保留。0個へ埋めません。
A66: 帳簿在庫＝期首＋確定入庫−確定出庫。取消は集計せず記録を保持。未確認は残高を保留。
A67: 取消は誤記録の無効化。実物が戻った返品/逆移動は別の正しい入出庫として記録し、二重計上を避けます。
A68: 期首日≦集計日≦確認基準日。全日付2020〜2099年/時刻なし。確認日は発生日以上・基準日以下。
A69: 集計日の当日を含み、集計日より後の記録は集計対象外。基準日より後は入力不備。
A70: 基準割れは0以上の算出済在庫だけ。帳簿負数は0に丸めず別件数、不足欄は空欄です。
A71: 算出済小計は未確認品目を除きます。全品目合計は未確認があれば保留、登録なしは対象なし。
A72: 実物/引当/出荷可能・日中の途中不足・複数倉庫/単位換算/原価・発注/履歴復元は扱いません。
... A75: https://support.microsoft.com/en-us/excel/functions/countifs-function 原本と訂正前コピー/根拠は別に保管。

Sheet 入出庫記録
A2: 元の入出庫記録を残す
A3: 黄色A〜Gへ100記録。MOV-と半角数字4桁。1行1記録。期首日〜確認基準日を記録し、集計日までを計算。
A5: 確定/取消は元の正の数量、未確認は数量空欄。取消は記録の無効化で、実物の返品や逆移動とは別です。
A7: 記録ID | B7: 品目ID | C7: 発生日 | D7: 入出区分 | E7: 数量（個） | F7: 状態 | G7: 記録確認日 | H7: 対象確定入庫 | I7: 対象確定出庫 | J7: 対象未確認 | K7: 入力の確認 | L7: 入力不備 | M7: 計算の前提
A8: MOV-0001 | B8: SKU-0001 | C8: 46296 | D8: 入庫 | E8: 20 | F8: 確定 | G8: 46296 | H8: =IF(K8="","",IF(L8<>0,NA(),IF(AND(F8="確定",D8="入庫",C8<=在庫一覧!$E$3),E8,0))) -> 20 | I8: =IF(K8="","",IF(L8<>0,NA(),IF(AND(F8="確定",D8="出庫",C8<=在庫一覧!$E$3),E8,0))) -> 0 | J8: =IF(K8="","",IF(L8<>0,NA(),IF(AND(F8="未確認",C8<=在庫一覧!$E$3),1,0))) -> 0 | K8: =IF(COUNTA(A8:G8)=0,"",IF(NOT(AND(ISTEXT(A8),LEN(A8)=8,EXACT(LEFT(A8,4),"MOV-"),ISNUMBER(FIND(MID(A8,5,1)&"x","0x1x2x3x4x5x6x7x8x9x")),ISNUMBER(FIND(MID(A8,6,1)&"x","0x1x2x3x4x5x6x7x8x9x")),ISNUMBER(FIND(MID(A8,7,1)&"x","0x1x2x3x4x5x6x7x8x9x")),ISNUMBER(FIND(MID(A8,8,1)&"x","0x1x2x3x4x5x6x7x8x9x")))),"IDはMOV-と半角数字4桁",IF(COUNTIFS($A$8:$A$107,A8)>1,"記録IDが重複",IF(NOT(AND(ISTEXT(B8),LEN(B8)=8,EXACT(LEFT(B8,4),"SKU-"),ISNUMBER(FIND(MID(B8,5,1)&"x","0x1x2x3x4x5x6x7x8x9x")),ISNUMBER(FIND(MID(B8,6,1)&"x","0x1x2x3x4x5x6x7x8x9x")),ISNUMBER(FIND(MID(B8,7,1)&"x","0x1x2x3x4x5x6x7x8x9x")),ISNUMBER(FIND(MID(B8,8,1)&"x","0x1x2x3x4x5x6x7x8x9x")))),"品目IDはSKU-と半角数字4桁",IF(COUNTIFS(期首と基準!$A$8:$A$57,B8)<>1,"期首品目が一意に登録されていません",IF(NOT(IF(ISNUMBER(C8),AND(C8>=43831,C8<73051,C8=INT(C8)),FALSE())),"発生日は時刻なしで必須",IF(NOT(OR(D8="入庫",D8="出庫")),"入出区分を確認",IF(NOT(OR(F8="確定",F8="取消",F8="未確認")),"状態を確認",IF(AND(F8<>"未確認",NOT(IF(ISNUMBER(E8),AND(E8>=1,E8<=1000000,E8=INT(E8)),FALSE()))),"確定/取消の元数量は1〜100万個の整数で必須",IF(AND(F8="未確認",COUNTA(E8)>0),"未確認の数量は空欄",IF(NOT(IF(ISNUMBER(G8),AND(G8>=43831,G8<73051,G8=INT(G8)),FALSE())),"記録確認日は時刻なしで必須",IF(OR(C8<在庫一覧!$B$3,C8>G8,G8>在庫一覧!$H$3),"期首日≦発生日≦確認日≦基準日を確認","確認済み")))))))))))) -> 確認済み | L8: =IF(K8="","",IF(K8="確認済み",0,1)) -> 0 | M8: =IF(COUNTA(A8:G8)=0,IF(AND(K8="",L8="",H8="",I8="",J8=""),0,1),IF(NOT(AND(ISTEXT(K8),K8=IF(COUNTA(A8:G8)=0,"",IF(NOT(AND(ISTEXT(A8),LEN(A8)=8,EXACT(LEFT(A8,4),"MOV-"),ISNUMBER(FIND(MID(A8,5,1)&"x","0x1x2x3x4x5x6x7x8x9x")),ISNUMBER(FIND(MID(A8,6,1)&"x","0x1x2x3x4x5x6x7x8x9x")),ISNUMBER(FIND(MID(A8,7,1)&"x","0x1x2x3x4x5x6x7x8x9x")),ISNUMBER(FIND(MID(A8,8,1)&"x","0x1x2x3x4x5x6x7x8x9x")))),"IDはMOV-と半角数字4桁",IF(COUNTIFS($A$8:$A$107,A8)>1,"記録IDが重複",IF(NOT(AND(ISTEXT(B8),LEN(B8)=8,EXACT(LEFT(B8,4),"SKU-"),ISNUMBER(FIND(MID(B8,5,1)&"x","0x1x2x3x4x5x6x7x8x9x")),ISNUMBER(FIND(MID(B8,6,1)&"x","0x1x2x3x4x5x6x7x8x9x")),ISNUMBER(FIND(MID(B8,7,1)&"x","0x1x2x3x4x5x6x7x8x9x")),ISNUMBER(FIND(MID(B8,8,1)&"x","0x1x2x3x4x5x6x7x8x9x")))),"品目IDはSKU-と半角数字4桁",IF(COUNTIFS(期首と基準!$A$8:$A$57,B8)<>1,"期首品目が一意に登録されていません",IF(NOT(IF(ISNUMBER(C8),AND(C8>=43831,C8<73051,C8=INT(C8)),FALSE())),"発生日は時刻なしで必須",IF(NOT(OR(D8="入庫",D8="出庫")),"入出区分を確認",IF(NOT(OR(F8="確定",F8="取消",F8="未確認")),"状態を確認",IF(AND(F8<>"未確認",NOT(IF(ISNUMBER(E8),AND(E8>=1,E8<=1000000,E8=INT(E8)),FALSE()))),"確定/取消の元数量は1〜100万個の整数で必須",IF(AND(F8="未確認",COUNTA(E8)>0),"未確認の数量は空欄",IF(NOT(IF(ISNUMBER(G8),AND(G8>=43831,G8<73051,G8=INT(G8)),FALSE())),"記録確認日は時刻なしで必須",IF(OR(C8<在庫一覧!$B$3,C8>G8,G8>在庫一覧!$H$3),"期首日≦発生日≦確認日≦基準日を確認","確認済み")))))))))))),ISNUMBER(L8),L8=IF(K8="確認済み",0,1))),1,IF(L8<>0,0,IF(AND(ISNUMBER(H8),H8=IF(AND(F8="確定",D8="入庫",C8<=在庫一覧!$E$3),E8,0),ISNUMBER(I8),I8=IF(AND(F8="確定",D8="出庫",C8<=在庫一覧!$E$3),E8,0),ISNUMBER(J8),J8=IF(AND(F8="未確認",C8<=在庫一覧!$E$3),1,0)),0,1)))) -> 0
A9: MOV-0002 | B9: SKU-0001 | C9: 46310 | D9: 出庫 | E9: 80 | F9: 確定 | G9: 46311 | H9: =IF(K9="","",IF(L9<>0,NA(),IF(AND(F9="確定",D9="入庫",C9<=在庫一覧!$E$3),E9,0))) -> 0 | I9: =IF(K9="","",IF(L9<>0,NA(),IF(AND(F9="確定",D9="出庫",C9<=在庫一覧!$E$3),E9,0))) -> 80 | J9: =IF(K9="","",IF(L9<>0,NA(),IF(AND(F9="未確認",C9<=在庫一覧!$E$3),1,0))) -> 0 | K9: =IF(COUNTA(A9:G9)=0,"",IF(NOT(AND(ISTEXT(A9),LEN(A9)=8,EXACT(LEFT(A9,4),"MOV-"),ISNUMBER(FIND(MID(A9,5,1)&"x","0x1x2x3x4x5x6x7x8x9x")),ISNUMBER(FIND(MID(A9,6,1)&"x","0x1x2x3x4x5x6x7x8x9x")),ISNUMBER(FIND(MID(A9,7,1)&"x","0x1x2x3x4x5x6x7x8x9x")),ISNUMBER(FIND(MID(A9,8,1)&"x","0x1x2x3x4x5x6x7x8x9x")))),"IDはMOV-と半角数字4桁",IF(COUNTIFS($A$8:$A$107,A9)>1,"記録IDが重複",IF(NOT(AND(ISTEXT(B9),LEN(B9)=8,EXACT(LEFT(B9,4),"SKU-"),ISNUMBER(FIND(MID(B9,5,1)&"x","0x1x2x3x4x5x6x7x8x9x")),ISNUMBER(FIND(MID(B9,6,1)&"x","0x1x2x3x4x5x6x7x8x9x")),ISNUMBER(FIND(MID(B9,7,1)&"x","0x1x2x3x4x5x6x7x8x9x")),ISNUMBER(FIND(MID(B9,8,1)&"x","0x1x2x3x4x5x6x7x8x9x")))),"品目IDはSKU-と半角数字4桁",IF(COUNTIFS(期首と基準!$A$8:$A$57,B9)<>1,"期首品目が一意に登録されていません",IF(NOT(IF(ISNUMBER(C9),AND(C9>=43831,C9<73051,C9=INT(C9)),FALSE())),"発生日は時刻なしで必須",IF(NOT(OR(D9="入庫",D9="出庫")),"入出区分を確認",IF(NOT(OR(F9="確定",F9="取消",F9="未確認")),"状態を確認",IF(AND(F9<>"未確認",NOT(IF(ISNUMBER(E9),AND(E9>=1,E9<=1000000,E9=INT(E9)),FALSE()))),"確定/取消の元数量は1〜100万個の整数で必須",IF(AND(F9="未確認",COUNTA(E9)>0),"未確認の数量は空欄",IF(NOT(IF(ISNUMBER(G9),AND(G9>=43831,G9<73051,G9=INT(G9)),FALSE())),"記録確認日は時刻なしで必須",IF(OR(C9<在庫一覧!$B$3,C9>G9,G9>在庫一覧!$H$3),"期首日≦発生日≦確認日≦基準日を確認","確認済み")))))))))))) -> 確認済み | L9: =IF(K9="","",IF(K9="確認済み",0,1)) -> 0 | M9: =IF(COUNTA(A9:G9)=0,IF(AND(K9="",L9="",H9="",I9="",J9=""),0,1),IF(NOT(AND(ISTEXT(K9),K9=IF(COUNTA(A9:G9)=0,"",IF(NOT(AND(ISTEXT(A9),LEN(A9)=8,EXACT(LEFT(A9,4),"MOV-"),ISNUMBER(FIND(MID(A9,5,1)&"x","0x1x2x3x4x5x6x7x8x9x")),ISNUMBER(FIND(MID(A9,6,1)&"x","0x1x2x3x4x5x6x7x8x9x")),ISNUMBER(FIND(MID(A9,7,1)&"x","0x1x2x3x4x5x6x7x8x9x")),ISNUMBER(FIND(MID(A9,8,1)&"x","0x1x2x3x4x5x6x7x8x9x")))),"IDはMOV-と半角数字4桁",IF(COUNTIFS($A$8:$A$107,A9)>1,"記録IDが重複",IF(NOT(AND(ISTEXT(B9),LEN(B9)=8,EXACT(LEFT(B9,4),"SKU-"),ISNUMBER(FIND(MID(B9,5,1)&"x","0x1x2x3x4x5x6x7x8x9x")),ISNUMBER(FIND(MID(B9,6,1)&"x","0x1x2x3x4x5x6x7x8x9x")),ISNUMBER(FIND(MID(B9,7,1)&"x","0x1x2x3x4x5x6x7x8x9x")),ISNUMBER(FIND(MID(B9,8,1)&"x","0x1x2x3x4x5x6x7x8x9x")))),"品目IDはSKU-と半角数字4桁",IF(COUNTIFS(期首と基準!$A$8:$A$57,B9)<>1,"期首品目が一意に登録されていません",IF(NOT(IF(ISNUMBER(C9),AND(C9>=43831,C9<73051,C9=INT(C9)),FALSE())),"発生日は時刻なしで必須",IF(NOT(OR(D9="入庫",D9="出庫")),"入出区分を確認",IF(NOT(OR(F9="確定",F9="取消",F9="未確認")),"状態を確認",IF(AND(F9<>"未確認",NOT(IF(ISNUMBER(E9),AND(E9>=1,E9<=1000000,E9=INT(E9)),FALSE()))),"確定/取消の元数量は1〜100万個の整数で必須",IF(AND(F9="未確認",COUNTA(E9)>0),"未確認の数量は空欄",IF(NOT(IF(ISNUMBER(G9),AND(G9>=43831,G9<73051,G9=INT(G9)),FALSE())),"記録確認日は時刻なしで必須",IF(OR(C9<在庫一覧!$B$3,C9>G9,G9>在庫一覧!$H$3),"期首日≦発生日≦確認日≦基準日を確認","確認済み")))))))))))),ISNUMBER(L9),L9=IF(K9="確認済み",0,1))),1,IF(L9<>0,0,IF(AND(ISNUMBER(H9),H9=IF(AND(F9="確定",D9="入庫",C9<=在庫一覧!$E$3),E9,0),ISNUMBER(I9),I9=IF(AND(F9="確定",D9="出庫",C9<=在庫一覧!$E$3),E9,0),ISNUMBER(J9),J9=IF(AND(F9="未確認",C9<=在庫一覧!$E$3),1,0)),0,1)))) -> 0
A10: MOV-0003 | B10: SKU-0001 | C10: 46311 | D10: 入庫 | E10: 100 | F10: 取消 | G10: 46312 | H10: =IF(K10="","",IF(L10<>0,NA(),IF(AND(F10="確定",D10="入庫",C10<=在庫一覧!$E$3),E10,0))) -> 0 | I10: =IF(K10="","",IF(L10<>0,NA(),IF(AND(F10="確定",D10="出庫",C10<=在庫一覧!$E$3),E10,0))) -> 0 | J10: =IF(K10="","",IF(L10<>0,NA(),IF(AND(F10="未確認",C10<=在庫一覧!$E$3),1,0))) -> 0 | K10: =IF(COUNTA(A10:G10)=0,"",IF(NOT(AND(ISTEXT(A10),LEN(A10)=8,EXACT(LEFT(A10,4),"MOV-"),ISNUMBER(FIND(MID(A10,5,1)&"x","0x1x2x3x4x5x6x7x8x9x")),ISNUMBER(FIND(MID(A10,6,1)&"x","0x1x2x3x4x5x6x7x8x9x")),ISNUMBER(FIND(MID(A10,7,1)&"x","0x1x2x3x4x5x6x7x8x9x")),ISNUMBER(FIND(MID(A10,8,1)&"x","0x1x2x3x4x5x6x7x8x9x")))),"IDはMOV-と半角数字4桁",IF(COUNTIFS($A$8:$A$107,A10)>1,"記録IDが重複",IF(NOT(AND(ISTEXT(B10),LEN(B10)=8,EXACT(LEFT(B10,4),"SKU-"),ISNUMBER(FIND(MID(B10,5,1)&"x","0x1x2x3x4x5x6x7x8x9x")),ISNUMBER(FIND(MID(B10,6,1)&"x","0x1x2x3x4x5x6x7x8x9x")),ISNUMBER(FIND(MID(B10,7,1)&"x","0x1x2x3x4x5x6x7x8x9x")),ISNUMBER(FIND(MID(B10,8,1)&"x","0x1x2x3x4x5x6x7x8x9x")))),"品目IDはSKU-と半角数字4桁",IF(COUNTIFS(期首と基準!$A$8:$A$57,B10)<>1,"期首品目が一意に登録されていません",IF(NOT(IF(ISNUMBER(C10),AND(C10>=43831,C10<73051,C10=INT(C10)),FALSE())),"発生日は時刻なしで必須",IF(NOT(OR(D10="入庫",D10="出庫")),"入出区分を確認",IF(NOT(OR(F10="確定",F10="取消",F10="未確認")),"状態を確認",IF(AND(F10<>"未確認",NOT(IF(ISNUMBER(E10),AND(E10>=1,E10<=1000000,E10=INT(E10)),FALSE()))),"確定/取消の元数量は1〜100万個の整数で必須",IF(AND(F10="未確認",COUNTA(E10)>0),"未確認の数量は空欄",IF(NOT(IF(ISNUMBER(G10),AND(G10>=43831,G10<73051,G10=INT(G10)),FALSE())),"記録確認日は時刻なしで必須",IF(OR(C10<在庫一覧!$B$3,C10>G10,G10>在庫一覧!$H$3),"期首日≦発生日≦確認日≦基準日を確認","確認済み")))))))))))) -> 確認済み | L10: =IF(K10="","",IF(K10="確認済み",0,1)) -> 0 | M10: =IF(COUNTA(A10:G10)=0,IF(AND(K10="",L10="",H10="",I10="",J10=""),0,1),IF(NOT(AND(ISTEXT(K10),K10=IF(COUNTA(A10:G10)=0,"",IF(NOT(AND(ISTEXT(A10),LEN(A10)=8,EXACT(LEFT(A10,4),"MOV-"),ISNUMBER(FIND(MID(A10,5,1)&"x","0x1x2x3x4x5x6x7x8x9x")),ISNUMBER(FIND(MID(A10,6,1)&"x","0x1x2x3x4x5x6x7x8x9x")),ISNUMBER(FIND(MID(A10,7,1)&"x","0x1x2x3x4x5x6x7x8x9x")),ISNUMBER(FIND(MID(A10,8,1)&"x","0x1x2x3x4x5x6x7x8x9x")))),"IDはMOV-と半角数字4桁",IF(COUNTIFS($A$8:$A$107,A10)>1,"記録IDが重複",IF(NOT(AND(ISTEXT(B10),LEN(B10)=8,EXACT(LEFT(B10,4),"SKU-"),ISNUMBER(FIND(MID(B10,5,1)&"x","0x1x2x3x4x5x6x7x8x9x")),ISNUMBER(FIND(MID(B10,6,1)&"x","0x1x2x3x4x5x6x7x8x9x")),ISNUMBER(FIND(MID(B10,7,1)&"x","0x1x2x3x4x5x6x7x8x9x")),ISNUMBER(FIND(MID(B10,8,1)&"x","0x1x2x3x4x5x6x7x8x9x")))),"品目IDはSKU-と半角数字4桁",IF(COUNTIFS(期首と基準!$A$8:$A$57,B10)<>1,"期首品目が一意に登録されていません",IF(NOT(IF(ISNUMBER(C10),AND(C10>=43831,C10<73051,C10=INT(C10)),FALSE())),"発生日は時刻なしで必須",IF(NOT(OR(D10="入庫",D10="出庫")),"入出区分を確認",IF(NOT(OR(F10="確定",F10="取消",F10="未確認")),"状態を確認",IF(AND(F10<>"未確認",NOT(IF(ISNUMBER(E10),AND(E10>=1,E10<=1000000,E10=INT(E10)),FALSE()))),"確定/取消の元数量は1〜100万個の整数で必須",IF(AND(F10="未確認",COUNTA(E10)>0),"未確認の数量は空欄",IF(NOT(IF(ISNUMBER(G10),AND(G10>=43831,G10<73051,G10=INT(G10)),FALSE())),"記録確認日は時刻なしで必須",IF(OR(C10<在庫一覧!$B$3,C10>G10,G10>在庫一覧!$H$3),"期首日≦発生日≦確認日≦基準日を確認","確認済み")))))))))))),ISNUMBER(L10),L10=IF(K10="確認済み",0,1))),1,IF(L10<>0,0,IF(AND(ISNUMBER(H10),H10=IF(AND(F10="確定",D10="入庫",C10<=在庫一覧!$E$3),E10,0),ISNUMBER(I10),I10=IF(AND(F10="確定",D10="出庫",C10<=在庫一覧!$E$3),E10,0),ISNUMBER(J10),J10=IF(AND(F10="未確認",C10<=在庫一覧!$E$3),1,0)),0,1)))) -> 0
A11: MOV-0004 | B11: SKU-0002 | C11: 46297 | D11: 入庫 | E11: 10 | F11: 確定 | G11: 46297 | H11: =IF(K11="","",IF(L11<>0,NA(),IF(AND(F11="確定",D11="入庫",C11<=在庫一覧!$E$3),E11,0))) -> 10 | I11: =IF(K11="","",IF(L11<>0,NA(),IF(AND(F11="確定",D11="出庫",C11<=在庫一覧!$E$3),E11,0))) -> 0 | J11: =IF(K11="","",IF(L11<>0,NA(),IF(AND(F11="未確認",C11<=在庫一覧!$E$3),1,0))) -> 0 | K11: =IF(COUNTA(A11:G11)=0,"",IF(NOT(AND(ISTEXT(A11),LEN(A11)=8,EXACT(LEFT(A11,4),"MOV-"),ISNUMBER(FIND(MID(A11,5,1)&"x","0x1x2x3x4x5x6x7x8x9x")),ISNUMBER(FIND(MID(A11,6,1)&"x","0x1x2x3x4x5x6x7x8x9x")),ISNUMBER(FIND(MID(A11,7,1)&"x","0x1x2x3x4x5x6x7x8x9x")),ISNUMBER(FIND(MID(A11,8,1)&"x","0x1x2x3x4x5x6x7x8x9x")))),"IDはMOV-と半角数字4桁",IF(COUNTIFS($A$8:$A$107,A11)>1,"記録IDが重複",IF(NOT(AND(ISTEXT(B11),LEN(B11)=8,EXACT(LEFT(B11,4),"SKU-"),ISNUMBER(FIND(MID(B11,5,1)&"x","0x1x2x3x4x5x6x7x8x9x")),ISNUMBER(FIND(MID(B11,6,1)&"x","0x1x2x3x4x5x6x7x8x9x")),ISNUMBER(FIND(MID(B11,7,1)&"x","0x1x2x3x4x5x6x7x8x9x")),ISNUMBER(FIND(MID(B11,8,1)&"x","0x1x2x3x4x5x6x7x8x9x")))),"品目IDはSKU-と半角数字4桁",IF(COUNTIFS(期首と基準!$A$8:$A$57,B11)<>1,"期首品目が一意に登録されていません",IF(NOT(IF(ISNUMBER(C11),AND(C11>=43831,C11<73051,C11=INT(C11)),FALSE())),"発生日は時刻なしで必須",IF(NOT(OR(D11="入庫",D11="出庫")),"入出区分を確認",IF(NOT(OR(F11="確定",F11="取消",F11="未確認")),"状態を確認",IF(AND(F11<>"未確認",NOT(IF(ISNUMBER(E11),AND(E11>=1,E11<=1000000,E11=INT(E11)),FALSE()))),"確定/取消の元数量は1〜100万個の整数で必須",IF(AND(F11="未確認",COUNTA(E11)>0),"未確認の数量は空欄",IF(NOT(IF(ISNUMBER(G11),AND(G11>=43831,G11<73051,G11=INT(G11)),FALSE())),"記録確認日は時刻なしで必須",IF(OR(C11<在庫一覧!$B$3,C11>G11,G11>在庫一覧!$H$3),"期首日≦発生日≦確認日≦基準日を確認","確認済み")))))))))))) -> 確認済み | L11: =IF(K11="","",IF(K11="確認済み",0,1)) -> 0 | M11: =IF(COUNTA(A11:G11)=0,IF(AND(K11="",L11="",H11="",I11="",J11=""),0,1),IF(NOT(AND(ISTEXT(K11),K11=IF(COUNTA(A11:G11)=0,"",IF(NOT(AND(ISTEXT(A11),LEN(A11)=8,EXACT(LEFT(A11,4),"MOV-"),ISNUMBER(FIND(MID(A11,5,1)&"x","0x1x2x3x4x5x6x7x8x9x")),ISNUMBER(FIND(MID(A11,6,1)&"x","0x1x2x3x4x5x6x7x8x9x")),ISNUMBER(FIND(MID(A11,7,1)&"x","0x1x2x3x4x5x6x7x8x9x")),ISNUMBER(FIND(MID(A11,8,1)&"x","0x1x2x3x4x5x6x7x8x9x")))),"IDはMOV-と半角数字4桁",IF(COUNTIFS($A$8:$A$107,A11)>1,"記録IDが重複",IF(NOT(AND(ISTEXT(B11),LEN(B11)=8,EXACT(LEFT(B11,4),"SKU-"),ISNUMBER(FIND(MID(B11,5,1)&"x","0x1x2x3x4x5x6x7x8x9x")),ISNUMBER(FIND(MID(B11,6,1)&"x","0x1x2x3x4x5x6x7x8x9x")),ISNUMBER(FIND(MID(B11,7,1)&"x","0x1x2x3x4x5x6x7x8x9x")),ISNUMBER(FIND(MID(B11,8,1)&"x","0x1x2x3x4x5x6x7x8x9x")))),"品目IDはSKU-と半角数字4桁",IF(COUNTIFS(期首と基準!$A$8:$A$57,B11)<>1,"期首品目が一意に登録されていません",IF(NOT(IF(ISNUMBER(C11),AND(C11>=43831,C11<73051,C11=INT(C11)),FALSE())),"発生日は時刻なしで必須",IF(NOT(OR(D11="入庫",D11="出庫")),"入出区分を確認",IF(NOT(OR(F11="確定",F11="取消",F11="未確認")),"状態を確認",IF(AND(F11<>"未確認",NOT(IF(ISNUMBER(E11),AND(E11>=1,E11<=1000000,E11=INT(E11)),FALSE()))),"確定/取消の元数量は1〜100万個の整数で必須",IF(AND(F11="未確認",COUNTA(E11)>0),"未確認の数量は空欄",IF(NOT(IF(ISNUMBER(G11),AND(G11>=43831,G11<73051,G11=INT(G11)),FALSE())),"記録確認日は時刻なしで必須",IF(OR(C11<在庫一覧!$B$3,C11>G11,G11>在庫一覧!$H$3),"期首日≦発生日≦確認日≦基準日を確認","確認済み")))))))))))),ISNUMBER(L11),L11=IF(K11="確認済み",0,1))),1,IF(L11<>0,0,IF(AND(ISNUMBER(H11),H11=IF(AND(F11="確定",D11="入庫",C11<=在庫一覧!$E$3),E11,0),ISNUMBER(I11),I11=IF(AND(F11="確定",D11="出庫",C11<=在庫一覧!$E$3),E11,0),ISNUMBER(J11),J11=IF(AND(F11="未確認",C11<=在庫一覧!$E$3),1,0)),0,1)))) -> 0
A12: MOV-0005 | B12: SKU-0002 | C12: 46298 | D12: 出庫 | E12: 15 | F12: 確定 | G12: 46298 | H12: =IF(K12="","",IF(L12<>0,NA(),IF(AND(F12="確定",D12="入庫",C12<=在庫一覧!$E$3),E12,0))) -> 0 | I12: =IF(K12="","",IF(L12<>0,NA(),IF(AND(F12="確定",D12="出庫",C12<=在庫一覧!$E$3),E12,0))) -> 15 | J12: =IF(K12="","",IF(L12<>0,NA(),IF(AND(F12="未確認",C12<=在庫一覧!$E$3),1,0))) -> 0 | K12: =IF(COUNTA(A12:G12)=0,"",IF(NOT(AND(ISTEXT(A12),LEN(A12)=8,EXACT(LEFT(A12,4),"MOV-"),ISNUMBER(FIND(MID(A12,5,1)&"x","0x1x2x3x4x5x6x7x8x9x")),ISNUMBER(FIND(MID(A12,6,1)&"x","0x1x2x3x4x5x6x7x8x9x")),ISNUMBER(FIND(MID(A12,7,1)&"x","0x1x2x3x4x5x6x7x8x9x")),ISNUMBER(FIND(MID(A12,8,1)&"x","0x1x2x3x4x5x6x7x8x9x")))),"IDはMOV-と半角数字4桁",IF(COUNTIFS($A$8:$A$107,A12)>1,"記録IDが重複",IF(NOT(AND(ISTEXT(B12),LEN(B12)=8,EXACT(LEFT(B12,4),"SKU-"),ISNUMBER(FIND(MID(B12,5,1)&"x","0x1x2x3x4x5x6x7x8x9x")),ISNUMBER(FIND(MID(B12,6,1)&"x","0x1x2x3x4x5x6x7x8x9x")),ISNUMBER(FIND(MID(B12,7,1)&"x","0x1x2x3x4x5x6x7x8x9x")),ISNUMBER(FIND(MID(B12,8,1)&"x","0x1x2x3x4x5x6x7x8x9x")))),"品目IDはSKU-と半角数字4桁",IF(COUNTIFS(期首と基準!$A$8:$A$57,B12)<>1,"期首品目が一意に登録されていません",IF(NOT(IF(ISNUMBER(C12),AND(C12>=43831,C12<73051,C12=INT(C12)),FALSE())),"発生日は時刻なしで必須",IF(NOT(OR(D12="入庫",D12="出庫")),"入出区分を確認",IF(NOT(OR(F12="確定",F12="取消",F12="未確認")),"状態を確認",IF(AND(F12<>"未確認",NOT(IF(ISNUMBER(E12),AND(E12>=1,E12<=1000000,E12=INT(E12)),FALSE()))),"確定/取消の元数量は1〜100万個の整数で必須",IF(AND(F12="未確認",COUNTA(E12)>0),"未確認の数量は空欄",IF(NOT(IF(ISNUMBER(G12),AND(G12>=43831,G12<73051,G12=INT(G12)),FALSE())),"記録確認日は時刻なしで必須",IF(OR(C12<在庫一覧!$B$3,C12>G12,G12>在庫一覧!$H$3),"期首日≦発生日≦確認日≦基準日を確認","確認済み")))))))))))) -> 確認済み | L12: =IF(K12="","",IF(K12="確認済み",0,1)) -> 0 | M12: =IF(COUNTA(A12:G12)=0,IF(AND(K12="",L12="",H12="",I12="",J12=""),0,1),IF(NOT(AND(ISTEXT(K12),K12=IF(COUNTA(A12:G12)=0,"",IF(NOT(AND(ISTEXT(A12),LEN(A12)=8,EXACT(LEFT(A12,4),"MOV-"),ISNUMBER(FIND(MID(A12,5,1)&"x","0x1x2x3x4x5x6x7x8x9x")),ISNUMBER(FIND(MID(A12,6,1)&"x","0x1x2x3x4x5x6x7x8x9x")),ISNUMBER(FIND(MID(A12,7,1)&"x","0x1x2x3x4x5x6x7x8x9x")),ISNUMBER(FIND(MID(A12,8,1)&"x","0x1x2x3x4x5x6x7x8x9x")))),"IDはMOV-と半角数字4桁",IF(COUNTIFS($A$8:$A$107,A12)>1,"記録IDが重複",IF(NOT(AND(ISTEXT(B12),LEN(B12)=8,EXACT(LEFT(B12,4),"SKU-"),ISNUMBER(FIND(MID(B12,5,1)&"x","0x1x2x3x4x5x6x7x8x9x")),ISNUMBER(FIND(MID(B12,6,1)&"x","0x1x2x3x4x5x6x7x8x9x")),ISNUMBER(FIND(MID(B12,7,1)&"x","0x1x2x3x4x5x6x7x8x9x")),ISNUMBER(FIND(MID(B12,8,1)&"x","0x1x2x3x4x5x6x7x8x9x")))),"品目IDはSKU-と半角数字4桁",IF(COUNTIFS(期首と基準!$A$8:$A$57,B12)<>1,"期首品目が一意に登録されていません",IF(NOT(IF(ISNUMBER(C12),AND(C12>=43831,C12<73051,C12=INT(C12)),FALSE())),"発生日は時刻なしで必須",IF(NOT(OR(D12="入庫",D12="出庫")),"入出区分を確認",IF(NOT(OR(F12="確定",F12="取消",F12="未確認")),"状態を確認",IF(AND(F12<>"未確認",NOT(IF(ISNUMBER(E12),AND(E12>=1,E12<=1000000,E12=INT(E12)),FALSE()))),"確定/取消の元数量は1〜100万個の整数で必須",IF(AND(F12="未確認",COUNTA(E12)>0),"未確認の数量は空欄",IF(NOT(IF(ISNUMBER(G12),AND(G12>=43831,G12<73051,G12=INT(G12)),FALSE())),"記録確認日は時刻なしで必須",IF(OR(C12<在庫一覧!$B$3,C12>G12,G12>在庫一覧!$H$3),"期首日≦発生日≦確認日≦基準日を確認","確認済み")))))))))))),ISNUMBER(L12),L12=IF(K12="確認済み",0,1))),1,IF(L12<>0,0,IF(AND(ISNUMBER(H12),H12=IF(AND(F12="確定",D12="入庫",C12<=在庫一覧!$E$3),E12,0),ISNUMBER(I12),I12=IF(AND(F12="確定",D12="出庫",C12<=在庫一覧!$E$3),E12,0),ISNUMBER(J12),J12=IF(AND(F12="未確認",C12<=在庫一覧!$E$3),1,0)),0,1)))) -> 0
A13: MOV-0006 | B13: SKU-0003 | C13: 46305 | D13: 入庫 | E13: 30 | F13: 確定 | G13: 46305 | H13: =IF(K13="","",IF(L13<>0,NA(),IF(AND(F13="確定",D13="入庫",C13<=在庫一覧!$E$3),E13,0))) -> 30 | I13: =IF(K13="","",IF(L13<>0,NA(),IF(AND(F13="確定",D13="出庫",C13<=在庫一覧!$E$3),E13,0))) -> 0 | J13: =IF(K13="","",IF(L13<>0,NA(),IF(AND(F13="未確認",C13<=在庫一覧!$E$3),1,0))) -> 0 | K13: =IF(COUNTA(A13:G13)=0,"",IF(NOT(AND(ISTEXT(A13),LEN(A13)=8,EXACT(LEFT(A13,4),"MOV-"),ISNUMBER(FIND(MID(A13,5,1)&"x","0x1x2x3x4x5x6x7x8x9x")),ISNUMBER(FIND(MID(A13,6,1)&"x","0x1x2x3x4x5x6x7x8x9x")),ISNUMBER(FIND(MID(A13,7,1)&"x","0x1x2x3x4x5x6x7x8x9x")),ISNUMBER(FIND(MID(A13,8,1)&"x","0x1x2x3x4x5x6x7x8x9x")))),"IDはMOV-と半角数字4桁",IF(COUNTIFS($A$8:$A$107,A13)>1,"記録IDが重複",IF(NOT(AND(ISTEXT(B13),LEN(B13)=8,EXACT(LEFT(B13,4),"SKU-"),ISNUMBER(FIND(MID(B13,5,1)&"x","0x1x2x3x4x5x6x7x8x9x")),ISNUMBER(FIND(MID(B13,6,1)&"x","0x1x2x3x4x5x6x7x8x9x")),ISNUMBER(FIND(MID(B13,7,1)&"x","0x1x2x3x4x5x6x7x8x9x")),ISNUMBER(FIND(MID(B13,8,1)&"x","0x1x2x3x4x5x6x7x8x9x")))),"品目IDはSKU-と半角数字4桁",IF(COUNTIFS(期首と基準!$A$8:$A$57,B13)<>1,"期首品目が一意に登録されていません",IF(NOT(IF(ISNUMBER(C13),AND(C13>=43831,C13<73051,C13=INT(C13)),FALSE())),"発生日は時刻なしで必須",IF(NOT(OR(D13="入庫",D13="出庫")),"入出区分を確認",IF(NOT(OR(F13="確定",F13="取消",F13="未確認")),"状態を確認",IF(AND(F13<>"未確認",NOT(IF(ISNUMBER(E13),AND(E13>=1,E13<=1000000,E13=INT(E13)),FALSE()))),"確定/取消の元数量は1〜100万個の整数で必須",IF(AND(F13="未確認",COUNTA(E13)>0),"未確認の数量は空欄",IF(NOT(IF(ISNUMBER(G13),AND(G13>=43831,G13<73051,G13=INT(G13)),FALSE())),"記録確認日は時刻なしで必須",IF(OR(C13<在庫一覧!$B$3,C13>G13,G13>在庫一覧!$H$3),"期首日≦発生日≦確認日≦基準日を確認","確認済み")))))))))))) -> 確認済み | L13: =IF(K13="","",IF(K13="確認済み",0,1)) -> 0 | M13: =IF(COUNTA(A13:G13)=0,IF(AND(K13="",L13="",H13="",I13="",J13=""),0,1),IF(NOT(AND(ISTEXT(K13),K13=IF(COUNTA(A13:G13)=0,"",IF(NOT(AND(ISTEXT(A13),LEN(A13)=8,EXACT(LEFT(A13,4),"MOV-"),ISNUMBER(FIND(MID(A13,5,1)&"x","0x1x2x3x4x5x6x7x8x9x")),ISNUMBER(FIND(MID(A13,6,1)&"x","0x1x2x3x4x5x6x7x8x9x")),ISNUMBER(FIND(MID(A13,7,1)&"x","0x1x2x3x4x5x6x7x8x9x")),ISNUMBER(FIND(MID(A13,8,1)&"x","0x1x2x3x4x5x6x7x8x9x")))),"IDはMOV-と半角数字4桁",IF(COUNTIFS($A$8:$A$107,A13)>1,"記録IDが重複",IF(NOT(AND(ISTEXT(B13),LEN(B13)=8,EXACT(LEFT(B13,4),"SKU-"),ISNUMBER(FIND(MID(B13,5,1)&"x","0x1x2x3x4x5x6x7x8x9x")),ISNUMBER(FIND(MID(B13,6,1)&"x","0x1x2x3x4x5x6x7x8x9x")),ISNUMBER(FIND(MID(B13,7,1)&"x","0x1x2x3x4x5x6x7x8x9x")),ISNUMBER(FIND(MID(B13,8,1)&"x","0x1x2x3x4x5x6x7x8x9x")))),"品目IDはSKU-と半角数字4桁",IF(COUNTIFS(期首と基準!$A$8:$A$57,B13)<>1,"期首品目が一意に登録されていません",IF(NOT(IF(ISNUMBER(C13),AND(C13>=43831,C13<73051,C13=INT(C13)),FALSE())),"発生日は時刻なしで必須",IF(NOT(OR(D13="入庫",D13="出庫")),"入出区分を確認",IF(NOT(OR(F13="確定",F13="取消",F13="未確認")),"状態を確認",IF(AND(F13<>"未確認",NOT(IF(ISNUMBER(E13),AND(E13>=1,E13<=1000000,E13=INT(E13)),FALSE()))),"確定/取消の元数量は1〜100万個の整数で必須",IF(AND(F13="未確認",COUNTA(E13)>0),"未確認の数量は空欄",IF(NOT(IF(ISNUMBER(G13),AND(G13>=43831,G13<73051,G13=INT(G13)),FALSE())),"記録確認日は時刻なしで必須",IF(OR(C13<在庫一覧!$B$3,C13>G13,G13>在庫一覧!$H$3),"期首日≦発生日≦確認日≦基準日を確認","確認済み")))))))))))),ISNUMBER(L13),L13=IF(K13="確認済み",0,1))),1,IF(L13<>0,0,IF(AND(ISNUMBER(H13),H13=IF(AND(F13="確定",D13="入庫",C13<=在庫一覧!$E$3),E13,0),ISNUMBER(I13),I13=IF(AND(F13="確定",D13="出庫",C13<=在庫一覧!$E$3),E13,0),ISNUMBER(J13),J13=IF(AND(F13="未確認",C13<=在庫一覧!$E$3),1,0)),0,1)))) -> 0
A14: MOV-0007 | B14: SKU-0004 | C14: 46315 | D14: 出庫 | F14: 未確認 | G14: 46316 | H14: =IF(K14="","",IF(L14<>0,NA(),IF(AND(F14="確定",D14="入庫",C14<=在庫一覧!$E$3),E14,0))) -> 0 | I14: =IF(K14="","",IF(L14<>0,NA(),IF(AND(F14="確定",D14="出庫",C14<=在庫一覧!$E$3),E14,0))) -> 0 | J14: =IF(K14="","",IF(L14<>0,NA(),IF(AND(F14="未確認",C14<=在庫一覧!$E$3),1,0))) -> 1 | K14: =IF(COUNTA(A14:G14)=0,"",IF(NOT(AND(ISTEXT(A14),LEN(A14)=8,EXACT(LEFT(A14,4),"MOV-"),ISNUMBER(FIND(MID(A14,5,1)&"x","0x1x2x3x4x5x6x7x8x9x")),ISNUMBER(FIND(MID(A14,6,1)&"x","0x1x2x3x4x5x6x7x8x9x")),ISNUMBER(FIND(MID(A14,7,1)&"x","0x1x2x3x4x5x6x7x8x9x")),ISNUMBER(FIND(MID(A14,8,1)&"x","0x1x2x3x4x5x6x7x8x9x")))),"IDはMOV-と半角数字4桁",IF(COUNTIFS($A$8:$A$107,A14)>1,"記録IDが重複",IF(NOT(AND(ISTEXT(B14),LEN(B14)=8,EXACT(LEFT(B14,4),"SKU-"),ISNUMBER(FIND(MID(B14,5,1)&"x","0x1x2x3x4x5x6x7x8x9x")),ISNUMBER(FIND(MID(B14,6,1)&"x","0x1x2x3x4x5x6x7x8x9x")),ISNUMBER(FIND(MID(B14,7,1)&"x","0x1x2x3x4x5x6x7x8x9x")),ISNUMBER(FIND(MID(B14,8,1)&"x","0x1x2x3x4x5x6x7x8x9x")))),"品目IDはSKU-と半角数字4桁",IF(COUNTIFS(期首と基準!$A$8:$A$57,B14)<>1,"期首品目が一意に登録されていません",IF(NOT(IF(ISNUMBER(C14),AND(C14>=43831,C14<73051,C14=INT(C14)),FALSE())),"発生日は時刻なしで必須",IF(NOT(OR(D14="入庫",D14="出庫")),"入出区分を確認",IF(NOT(OR(F14="確定",F14="取消",F14="未確認")),"状態を確認",IF(AND(F14<>"未確認",NOT(IF(ISNUMBER(E14),AND(E14>=1,E14<=1000000,E14=INT(E14)),FALSE()))),"確定/取消の元数量は1〜100万個の整数で必須",IF(AND(F14="未確認",COUNTA(E14)>0),"未確認の数量は空欄",IF(NOT(IF(ISNUMBER(G14),AND(G14>=43831,G14<73051,G14=INT(G14)),FALSE())),"記録確認日は時刻なしで必須",IF(OR(C14<在庫一覧!$B$3,C14>G14,G14>在庫一覧!$H$3),"期首日≦発生日≦確認日≦基準日を確認","確認済み")))))))))))) -> 確認済み | L14: =IF(K14="","",IF(K14="確認済み",0,1)) -> 0 | M14: =IF(COUNTA(A14:G14)=0,IF(AND(K14="",L14="",H14="",I14="",J14=""),0,1),IF(NOT(AND(ISTEXT(K14),K14=IF(COUNTA(A14:G14)=0,"",IF(NOT(AND(ISTEXT(A14),LEN(A14)=8,EXACT(LEFT(A14,4),"MOV-"),ISNUMBER(FIND(MID(A14,5,1)&"x","0x1x2x3x4x5x6x7x8x9x")),ISNUMBER(FIND(MID(A14,6,1)&"x","0x1x2x3x4x5x6x7x8x9x")),ISNUMBER(FIND(MID(A14,7,1)&"x","0x1x2x3x4x5x6x7x8x9x")),ISNUMBER(FIND(MID(A14,8,1)&"x","0x1x2x3x4x5x6x7x8x9x")))),"IDはMOV-と半角数字4桁",IF(COUNTIFS($A$8:$A$107,A14)>1,"記録IDが重複",IF(NOT(AND(ISTEXT(B14),LEN(B14)=8,EXACT(LEFT(B14,4),"SKU-"),ISNUMBER(FIND(MID(B14,5,1)&"x","0x1x2x3x4x5x6x7x8x9x")),ISNUMBER(FIND(MID(B14,6,1)&"x","0x1x2x3x4x5x6x7x8x9x")),ISNUMBER(FIND(MID(B14,7,1)&"x","0x1x2x3x4x5x6x7x8x9x")),ISNUMBER(FIND(MID(B14,8,1)&"x","0x1x2x3x4x5x6x7x8x9x")))),"品目IDはSKU-と半角数字4桁",IF(COUNTIFS(期首と基準!$A$8:$A$57,B14)<>1,"期首品目が一意に登録されていません",IF(NOT(IF(ISNUMBER(C14),AND(C14>=43831,C14<73051,C14=INT(C14)),FALSE())),"発生日は時刻なしで必須",IF(NOT(OR(D14="入庫",D14="出庫")),"入出区分を確認",IF(NOT(OR(F14="確定",F14="取消",F14="未確認")),"状態を確認",IF(AND(F14<>"未確認",NOT(IF(ISNUMBER(E14),AND(E14>=1,E14<=1000000,E14=INT(E14)),FALSE()))),"確定/取消の元数量は1〜100万個の整数で必須",IF(AND(F14="未確認",COUNTA(E14)>0),"未確認の数量は空欄",IF(NOT(IF(ISNUMBER(G14),AND(G14>=43831,G14<73051,G14=INT(G14)),FALSE())),"記録確認日は時刻なしで必須",IF(OR(C14<在庫一覧!$B$3,C14>G14,G14>在庫一覧!$H$3),"期首日≦発生日≦確認日≦基準日を確認","確認済み")))))))))))),ISNUMBER(L14),L14=IF(K14="確認済み",0,1))),1,IF(L14<>0,0,IF(AND(ISNUMBER(H14),H14=IF(AND(F14="確定",D14="入庫",C14<=在庫一覧!$E$3),E14,0),ISNUMBER(I14),I14=IF(AND(F14="確定",D14="出庫",C14<=在庫一覧!$E$3),E14,0),ISNUMBER(J14),J14=IF(AND(F14="未確認",C14<=在庫一覧!$E$3),1,0)),0,1)))) -> 0
A15: MOV-0008 | B15: SKU-0006 | C15: 46328 | D15: 入庫 | E15: 10 | F15: 確定 | G15: 46328 | H15: =IF(K15="","",IF(L15<>0,NA(),IF(AND(F15="確定",D15="入庫",C15<=在庫一覧!$E$3),E15,0))) -> 0 | I15: =IF(K15="","",IF(L15<>0,NA(),IF(AND(F15="確定",D15="出庫",C15<=在庫一覧!$E$3),E15,0))) -> 0 | J15: =IF(K15="","",IF(L15<>0,NA(),IF(AND(F15="未確認",C15<=在庫一覧!$E$3),1,0))) -> 0 | K15: =IF(COUNTA(A15:G15)=0,"",IF(NOT(AND(ISTEXT(A15),LEN(A15)=8,EXACT(LEFT(A15,4),"MOV-"),ISNUMBER(FIND(MID(A15,5,1)&"x","0x1x2x3x4x5x6x7x8x9x")),ISNUMBER(FIND(MID(A15,6,1)&"x","0x1x2x3x4x5x6x7x8x9x")),ISNUMBER(FIND(MID(A15,7,1)&"x","0x1x2x3x4x5x6x7x8x9x")),ISNUMBER(FIND(MID(A15,8,1)&"x","0x1x2x3x4x5x6x7x8x9x")))),"IDはMOV-と半角数字4桁",IF(COUNTIFS($A$8:$A$107,A15)>1,"記録IDが重複",IF(NOT(AND(ISTEXT(B15),LEN(B15)=8,EXACT(LEFT(B15,4),"SKU-"),ISNUMBER(FIND(MID(B15,5,1)&"x","0x1x2x3x4x5x6x7x8x9x")),ISNUMBER(FIND(MID(B15,6,1)&"x","0x1x2x3x4x5x6x7x8x9x")),ISNUMBER(FIND(MID(B15,7,1)&"x","0x1x2x3x4x5x6x7x8x9x")),ISNUMBER(FIND(MID(B15,8,1)&"x","0x1x2x3x4x5x6x7x8x9x")))),"品目IDはSKU-と半角数字4桁",IF(COUNTIFS(期首と基準!$A$8:$A$57,B15)<>1,"期首品目が一意に登録されていません",IF(NOT(IF(ISNUMBER(C15),AND(C15>=43831,C15<73051,C15=INT(C15)),FALSE())),"発生日は時刻なしで必須",IF(NOT(OR(D15="入庫",D15="出庫")),"入出区分を確認",IF(NOT(OR(F15="確定",F15="取消",F15="未確認")),"状態を確認",IF(AND(F15<>"未確認",NOT(IF(ISNUMBER(E15),AND(E15>=1,E15<=1000000,E15=INT(E15)),FALSE()))),"確定/取消の元数量は1〜100万個の整数で必須",IF(AND(F15="未確認",COUNTA(E15)>0),"未確認の数量は空欄",IF(NOT(IF(ISNUMBER(G15),AND(G15>=43831,G15<73051,G15=INT(G15)),FALSE())),"記録確認日は時刻なしで必須",IF(OR(C15<在庫一覧!$B$3,C15>G15,G15>在庫一覧!$H$3),"期首日≦発生日≦確認日≦基準日を確認","確認済み")))))))))))) -> 確認済み | L15: =IF(K15="","",IF(K15="確認済み",0,1)) -> 0 | M15: =IF(COUNTA(A15:G15)=0,IF(AND(K15="",L15="",H15="",I15="",J15=""),0,1),IF(NOT(AND(ISTEXT(K15),K15=IF(COUNTA(A15:G15)=0,"",IF(NOT(AND(ISTEXT(A15),LEN(A15)=8,EXACT(LEFT(A15,4),"MOV-"),ISNUMBER(FIND(MID(A15,5,1)&"x","0x1x2x3x4x5x6x7x8x9x")),ISNUMBER(FIND(MID(A15,6,1)&"x","0x1x2x3x4x5x6x7x8x9x")),ISNUMBER(FIND(MID(A15,7,1)&"x","0x1x2x3x4x5x6x7x8x9x")),ISNUMBER(FIND(MID(A15,8,1)&"x","0x1x2x3x4x5x6x7x8x9x")))),"IDはMOV-と半角数字4桁",IF(COUNTIFS($A$8:$A$107,A15)>1,"記録IDが重複",IF(NOT(AND(ISTEXT(B15),LEN(B15)=8,EXACT(LEFT(B15,4),"SKU-"),ISNUMBER(FIND(MID(B15,5,1)&"x","0x1x2x3x4x5x6x7x8x9x")),ISNUMBER(FIND(MID(B15,6,1)&"x","0x1x2x3x4x5x6x7x8x9x")),ISNUMBER(FIND(MID(B15,7,1)&"x","0x1x2x3x4x5x6x7x8x9x")),ISNUMBER(FIND(MID(B15,8,1)&"x","0x1x2x3x4x5x6x7x8x9x")))),"品目IDはSKU-と半角数字4桁",IF(COUNTIFS(期首と基準!$A$8:$A$57,B15)<>1,"期首品目が一意に登録されていません",IF(NOT(IF(ISNUMBER(C15),AND(C15>=43831,C15<73051,C15=INT(C15)),FALSE())),"発生日は時刻なしで必須",IF(NOT(OR(D15="入庫",D15="出庫")),"入出区分を確認",IF(NOT(OR(F15="確定",F15="取消",F15="未確認")),"状態を確認",IF(AND(F15<>"未確認",NOT(IF(ISNUMBER(E15),AND(E15>=1,E15<=1000000,E15=INT(E15)),FALSE()))),"確定/取消の元数量は1〜100万個の整数で必須",IF(AND(F15="未確認",COUNTA(E15)>0),"未確認の数量は空欄",IF(NOT(IF(ISNUMBER(G15),AND(G15>=43831,G15<73051,G15=INT(G15)),FALSE())),"記録確認日は時刻なしで必須",IF(OR(C15<在庫一覧!$B$3,C15>G15,G15>在庫一覧!$H$3),"期首日≦発生日≦確認日≦基準日を確認","確認済み")))))))))))),ISNUMBER(L15),L15=IF(K15="確認済み",0,1))),1,IF(L15<>0,0,IF(AND(ISNUMBER(H15),H15=IF(AND(F15="確定",D15="入庫",C15<=在庫一覧!$E$3),E15,0),ISNUMBER(I15),I15=IF(AND(F15="確定",D15="出庫",C15<=在庫一覧!$E$3),E15,0),ISNUMBER(J15),J15=IF(AND(F15="未確認",C15<=在庫一覧!$E$3),1,0)),0,1)))) -> 0
A16: MOV-0009 | B16: SKU-0007 | C16: 46315 | D16: 出庫 | E16: 5 | F16: 取消 | G16: 46316 | H16: =IF(K16="","",IF(L16<>0,NA(),IF(AND(F16="確定",D16="入庫",C16<=在庫一覧!$E$3),E16,0))) -> 0 | I16: =IF(K16="","",IF(L16<>0,NA(),IF(AND(F16="確定",D16="出庫",C16<=在庫一覧!$E$3),E16,0))) -> 0 | J16: =IF(K16="","",IF(L16<>0,NA(),IF(AND(F16="未確認",C16<=在庫一覧!$E$3),1,0))) -> 0 | K16: =IF(COUNTA(A16:G16)=0,"",IF(NOT(AND(ISTEXT(A16),LEN(A16)=8,EXACT(LEFT(A16,4),"MOV-"),ISNUMBER(FIND(MID(A16,5,1)&"x","0x1x2x3x4x5x6x7x8x9x")),ISNUMBER(FIND(MID(A16,6,1)&"x","0x1x2x3x4x5x6x7x8x9x")),ISNUMBER(FIND(MID(A16,7,1)&"x","0x1x2x3x4x5x6x7x8x9x")),ISNUMBER(FIND(MID(A16,8,1)&"x","0x1x2x3x4x5x6x7x8x9x")))),"IDはMOV-と半角数字4桁",IF(COUNTIFS($A$8:$A$107,A16)>1,"記録IDが重複",IF(NOT(AND(ISTEXT(B16),LEN(B16)=8,EXACT(LEFT(B16,4),"SKU-"),ISNUMBER(FIND(MID(B16,5,1)&"x","0x1x2x3x4x5x6x7x8x9x")),ISNUMBER(FIND(MID(B16,6,1)&"x","0x1x2x3x4x5x6x7x8x9x")),ISNUMBER(FIND(MID(B16,7,1)&"x","0x1x2x3x4x5x6x7x8x9x")),ISNUMBER(FIND(MID(B16,8,1)&"x","0x1x2x3x4x5x6x7x8x9x")))),"品目IDはSKU-と半角数字4桁",IF(COUNTIFS(期首と基準!$A$8:$A$57,B16)<>1,"期首品目が一意に登録されていません",IF(NOT(IF(ISNUMBER(C16),AND(C16>=43831,C16<73051,C16=INT(C16)),FALSE())),"発生日は時刻なしで必須",IF(NOT(OR(D16="入庫",D16="出庫")),"入出区分を確認",IF(NOT(OR(F16="確定",F16="取消",F16="未確認")),"状態を確認",IF(AND(F16<>"未確認",NOT(IF(ISNUMBER(E16),AND(E16>=1,E16<=1000000,E16=INT(E16)),FALSE()))),"確定/取消の元数量は1〜100万個の整数で必須",IF(AND(F16="未確認",COUNTA(E16)>0),"未確認の数量は空欄",IF(NOT(IF(ISNUMBER(G16),AND(G16>=43831,G16<73051,G16=INT(G16)),FALSE())),"記録確認日は時刻なしで必須",IF(OR(C16<在庫一覧!$B$3,C16>G16,G16>在庫一覧!$H$3),"期首日≦発生日≦確認日≦基準日を確認","確認済み")))))))))))) -> 確認済み | L16: =IF(K16="","",IF(K16="確認済み",0,1)) -> 0 | M16: =IF(COUNTA(A16:G16)=0,IF(AND(K16="",L16="",H16="",I16="",J16=""),0,1),IF(NOT(AND(ISTEXT(K16),K16=IF(COUNTA(A16:G16)=0,"",IF(NOT(AND(ISTEXT(A16),LEN(A16)=8,EXACT(LEFT(A16,4),"MOV-"),ISNUMBER(FIND(MID(A16,5,1)&"x","0x1x2x3x4x5x6x7x8x9x")),ISNUMBER(FIND(MID(A16,6,1)&"x","0x1x2x3x4x5x6x7x8x9x")),ISNUMBER(FIND(MID(A16,7,1)&"x","0x1x2x3x4x5x6x7x8x9x")),ISNUMBER(FIND(MID(A16,8,1)&"x","0x1x2x3x4x5x6x7x8x9x")))),"IDはMOV-と半角数字4桁",IF(COUNTIFS($A$8:$A$107,A16)>1,"記録IDが重複",IF(NOT(AND(ISTEXT(B16),LEN(B16)=8,EXACT(LEFT(B16,4),"SKU-"),ISNUMBER(FIND(MID(B16,5,1)&"x","0x1x2x3x4x5x6x7x8x9x")),ISNUMBER(FIND(MID(B16,6,1)&"x","0x1x2x3x4x5x6x7x8x9x")),ISNUMBER(FIND(MID(B16,7,1)&"x","0x1x2x3x4x5x6x7x8x9x")),ISNUMBER(FIND(MID(B16,8,1)&"x","0x1x2x3x4x5x6x7x8x9x")))),"品目IDはSKU-と半角数字4桁",IF(COUNTIFS(期首と基準!$A$8:$A$57,B16)<>1,"期首品目が一意に登録されていません",IF(NOT(IF(ISNUMBER(C16),AND(C16>=43831,C16<73051,C16=INT(C16)),FALSE())),"発生日は時刻なしで必須",IF(NOT(OR(D16="入庫",D16="出庫")),"入出区分を確認",IF(NOT(OR(F16="確定",F16="取消",F16="未確認")),"状態を確認",IF(AND(F16<>"未確認",NOT(IF(ISNUMBER(E16),AND(E16>=1,E16<=1000000,E16=INT(E16)),FALSE()))),"確定/取消の元数量は1〜100万個の整数で必須",IF(AND(F16="未確認",COUNTA(E16)>0),"未確認の数量は空欄",IF(NOT(IF(ISNUMBER(G16),AND(G16>=43831,G16<73051,G16=INT(G16)),FALSE())),"記録確認日は時刻なしで必須",IF(OR(C16<在庫一覧!$B$3,C16>G16,G16>在庫一覧!$H$3),"期首日≦発生日≦確認日≦基準日を確認","確認済み")))))))))))),ISNUMBER(L16),L16=IF(K16="確認済み",0,1))),1,IF(L16<>0,0,IF(AND(ISNUMBER(H16),H16=IF(AND(F16="確定",D16="入庫",C16<=在庫一覧!$E$3),E16,0),ISNUMBER(I16),I16=IF(AND(F16="確定",D16="出庫",C16<=在庫一覧!$E$3),E16,0),ISNUMBER(J16),J16=IF(AND(F16="未確認",C16<=在庫一覧!$E$3),1,0)),0,1)))) -> 0
A17: MOV-0010 | B17: SKU-0008 | C17: 46326 | D17: 入庫 | E17: 1 | F17: 確定 | G17: 46327 | H17: =IF(K17="","",IF(L17<>0,NA(),IF(AND(F17="確定",D17="入庫",C17<=在庫一覧!$E$3),E17,0))) -> 1 | I17: =IF(K17="","",IF(L17<>0,NA(),IF(AND(F17="確定",D17="出庫",C17<=在庫一覧!$E$3),E17,0))) -> 0 | J17: =IF(K17="","",IF(L17<>0,NA(),IF(AND(F17="未確認",C17<=在庫一覧!$E$3),1,0))) -> 0 | K17: =IF(COUNTA(A17:G17)=0,"",IF(NOT(AND(ISTEXT(A17),LEN(A17)=8,EXACT(LEFT(A17,4),"MOV-"),ISNUMBER(FIND(MID(A17,5,1)&"x","0x1x2x3x4x5x6x7x8x9x")),ISNUMBER(FIND(MID(A17,6,1)&"x","0x1x2x3x4x5x6x7x8x9x")),ISNUMBER(FIND(MID(A17,7,1)&"x","0x1x2x3x4x5x6x7x8x9x")),ISNUMBER(FIND(MID(A17,8,1)&"x","0x1x2x3x4x5x6x7x8x9x")))),"IDはMOV-と半角数字4桁",IF(COUNTIFS($A$8:$A$107,A17)>1,"記録IDが重複",IF(NOT(AND(ISTEXT(B17),LEN(B17)=8,EXACT(LEFT(B17,4),"SKU-"),ISNUMBER(FIND(MID(B17,5,1)&"x","0x1x2x3x4x5x6x7x8x9x")),ISNUMBER(FIND(MID(B17,6,1)&"x","0x1x2x3x4x5x6x7x8x9x")),ISNUMBER(FIND(MID(B17,7,1)&"x","0x1x2x3x4x5x6x7x8x9x")),ISNUMBER(FIND(MID(B17,8,1)&"x","0x1x2x3x4x5x6x7x8x9x")))),"品目IDはSKU-と半角数字4桁",IF(COUNTIFS(期首と基準!$A$8:$A$57,B17)<>1,"期首品目が一意に登録されていません",IF(NOT(IF(ISNUMBER(C17),AND(C17>=43831,C17<73051,C17=INT(C17)),FALSE())),"発生日は時刻なしで必須",IF(NOT(OR(D17="入庫",D17="出庫")),"入出区分を確認",IF(NOT(OR(F17="確定",F17="取消",F17="未確認")),"状態を確認",IF(AND(F17<>"未確認",NOT(IF(ISNUMBER(E17),AND(E17>=1,E17<=1000000,E17=INT(E17)),FALSE()))),"確定/取消の元数量は1〜100万個の整数で必須",IF(AND(F17="未確認",COUNTA(E17)>0),"未確認の数量は空欄",IF(NOT(IF(ISNUMBER(G17),AND(G17>=43831,G17<73051,G17=INT(G17)),FALSE())),"記録確認日は時刻なしで必須",IF(OR(C17<在庫一覧!$B$3,C17>G17,G17>在庫一覧!$H$3),"期首日≦発生日≦確認日≦基準日を確認","確認済み")))))))))))) -> 確認済み | L17: =IF(K17="","",IF(K17="確認済み",0,1)) -> 0 | M17: =IF(COUNTA(A17:G17)=0,IF(AND(K17="",L17="",H17="",I17="",J17=""),0,1),IF(NOT(AND(ISTEXT(K17),K17=IF(COUNTA(A17:G17)=0,"",IF(NOT(AND(ISTEXT(A17),LEN(A17)=8,EXACT(LEFT(A17,4),"MOV-"),ISNUMBER(FIND(MID(A17,5,1)&"x","0x1x2x3x4x5x6x7x8x9x")),ISNUMBER(FIND(MID(A17,6,1)&"x","0x1x2x3x4x5x6x7x8x9x")),ISNUMBER(FIND(MID(A17,7,1)&"x","0x1x2x3x4x5x6x7x8x9x")),ISNUMBER(FIND(MID(A17,8,1)&"x","0x1x2x3x4x5x6x7x8x9x")))),"IDはMOV-と半角数字4桁",IF(COUNTIFS($A$8:$A$107,A17)>1,"記録IDが重複",IF(NOT(AND(ISTEXT(B17),LEN(B17)=8,EXACT(LEFT(B17,4),"SKU-"),ISNUMBER(FIND(MID(B17,5,1)&"x","0x1x2x3x4x5x6x7x8x9x")),ISNUMBER(FIND(MID(B17,6,1)&"x","0x1x2x3x4x5x6x7x8x9x")),ISNUMBER(FIND(MID(B17,7,1)&"x","0x1x2x3x4x5x6x7x8x9x")),ISNUMBER(FIND(MID(B17,8,1)&"x","0x1x2x3x4x5x6x7x8x9x")))),"品目IDはSKU-と半角数字4桁",IF(COUNTIFS(期首と基準!$A$8:$A$57,B17)<>1,"期首品目が一意に登録されていません",IF(NOT(IF(ISNUMBER(C17),AND(C17>=43831,C17<73051,C17=INT(C17)),FALSE())),"発生日は時刻なしで必須",IF(NOT(OR(D17="入庫",D17="出庫")),"入出区分を確認",IF(NOT(OR(F17="確定",F17="取消",F17="未確認")),"状態を確認",IF(AND(F17<>"未確認",NOT(IF(ISNUMBER(E17),AND(E17>=1,E17<=1000000,E17=INT(E17)),FALSE()))),"確定/取消の元数量は1〜100万個の整数で必須",IF(AND(F17="未確認",COUNTA(E17)>0),"未確認の数量は空欄",IF(NOT(IF(ISNUMBER(G17),AND(G17>=43831,G17<73051,G17=INT(G17)),FALSE())),"記録確認日は時刻なしで必須",IF(OR(C17<在庫一覧!$B$3,C17>G17,G17>在庫一覧!$H$3),"期首日≦発生日≦確認日≦基準日を確認","確認済み")))))))))))),ISNUMBER(L17),L17=IF(K17="確認済み",0,1))),1,IF(L17<>0,0,IF(AND(ISNUMBER(H17),H17=IF(AND(F17="確定",D17="入庫",C17<=在庫一覧!$E$3),E17,0),ISNUMBER(I17),I17=IF(AND(F17="確定",D17="出庫",C17<=在庫一覧!$E$3),E17,0),ISNUMBER(J17),J17=IF(AND(F17="未確認",C17<=在庫一覧!$E$3),1,0)),0,1)))) -> 0
H18: =IF(K18="","",IF(L18<>0,NA(),IF(AND(F18="確定",D18="入庫",C18<=在庫一覧!$E$3),E18,0))) | I18: =IF(K18="","",IF(L18<>0,NA(),IF(AND(F18="確定",D18="出庫",C18<=在庫一覧!$E$3),E18,0))) | J18: =IF(K18="","",IF(L18<>0,NA(),IF(AND(F18="未確認",C18<=在庫一覧!$E$3),1,0))) | K18: =IF(COUNTA(A18:G18)=0,"",IF(NOT(AND(ISTEXT(A18),LEN(A18)=8,EXACT(LEFT(A18,4),"MOV-"),ISNUMBER(FIND(MID(A18,5,1)&"x","0x1x2x3x4x5x6x7x8x9x")),ISNUMBER(FIND(MID(A18,6,1)&"x","0x1x2x3x4x5x6x7x8x9x")),ISNUMBER(FIND(MID(A18,7,1)&"x","0x1x2x3x4x5x6x7x8x9x")),ISNUMBER(FIND(MID(A18,8,1)&"x","0x1x2x3x4x5x6x7x8x9x")))),"IDはMOV-と半角数字4桁",IF(COUNTIFS($A$8:$A$107,A18)>1,"記録IDが重複",IF(NOT(AND(ISTEXT(B18),LEN(B18)=8,EXACT(LEFT(B18,4),"SKU-"),ISNUMBER(FIND(MID(B18,5,1)&"x","0x1x2x3x4x5x6x7x8x9x")),ISNUMBER(FIND(MID(B18,6,1)&"x","0x1x2x3x4x5x6x7x8x9x")),ISNUMBER(FIND(MID(B18,7,1)&"x","0x1x2x3x4x5x6x7x8x9x")),ISNUMBER(FIND(MID(B18,8,1)&"x","0x1x2x3x4x5x6x7x8x9x")))),"品目IDはSKU-と半角数字4桁",IF(COUNTIFS(期首と基準!$A$8:$A$57,B18)<>1,"期首品目が一意に登録されていません",IF(NOT(IF(ISNUMBER(C18),AND(C18>=43831,C18<73051,C18=INT(C18)),FALSE())),"発生日は時刻なしで必須",IF(NOT(OR(D18="入庫",D18="出庫")),"入出区分を確認",IF(NOT(OR(F18="確定",F18="取消",F18="未確認")),"状態を確認",IF(AND(F18<>"未確認",NOT(IF(ISNUMBER(E18),AND(E18>=1,E18<=1000000,E18=INT(E18)),FALSE()))),"確定/取消の元数量は1〜100万個の整数で必須",IF(AND(F18="未確認",COUNTA(E18)>0),"未確認の数量は空欄",IF(NOT(IF(ISNUMBER(G18),AND(G18>=43831,G18<73051,G18=INT(G18)),FALSE())),"記録確認日は時刻なしで必須",IF(OR(C18<在庫一覧!$B$3,C18>G18,G18>在庫一覧!$H$3),"期首日≦発生日≦確認日≦基準日を確認","確認済み")))))))))))) | L18: =IF(K18="","",IF(K18="確認済み",0,1)) | M18: =IF(COUNTA(A18:G18)=0,IF(AND(K18="",L18="",H18="",I18="",J18=""),0,1),IF(NOT(AND(ISTEXT(K18),K18=IF(COUNTA(A18:G18)=0,"",IF(NOT(AND(ISTEXT(A18),LEN(A18)=8,EXACT(LEFT(A18,4),"MOV-"),ISNUMBER(FIND(MID(A18,5,1)&"x","0x1x2x3x4x5x6x7x8x9x")),ISNUMBER(FIND(MID(A18,6,1)&"x","0x1x2x3x4x5x6x7x8x9x")),ISNUMBER(FIND(MID(A18,7,1)&"x","0x1x2x3x4x5x6x7x8x9x")),ISNUMBER(FIND(MID(A18,8,1)&"x","0x1x2x3x4x5x6x7x8x9x")))),"IDはMOV-と半角数字4桁",IF(COUNTIFS($A$8:$A$107,A18)>1,"記録IDが重複",IF(NOT(AND(ISTEXT(B18),LEN(B18)=8,EXACT(LEFT(B18,4),"SKU-"),ISNUMBER(FIND(MID(B18,5,1)&"x","0x1x2x3x4x5x6x7x8x9x")),ISNUMBER(FIND(MID(B18,6,1)&"x","0x1x2x3x4x5x6x7x8x9x")),ISNUMBER(FIND(MID(B18,7,1)&"x","0x1x2x3x4x5x6x7x8x9x")),ISNUMBER(FIND(MID(B18,8,1)&"x","0x1x2x3x4x5x6x7x8x9x")))),"品目IDはSKU-と半角数字4桁",IF(COUNTIFS(期首と基準!$A$8:$A$57,B18)<>1,"期首品目が一意に登録されていません",IF(NOT(IF(ISNUMBER(C18),AND(C18>=43831,C18<73051,C18=INT(C18)),FALSE())),"発生日は時刻なしで必須",IF(NOT(OR(D18="入庫",D18="出庫")),"入出区分を確認",IF(NOT(OR(F18="確定",F18="取消",F18="未確認")),"状態を確認",IF(AND(F18<>"未確認",NOT(IF(ISNUMBER(E18),AND(E18>=1,E18<=1000000,E18=INT(E18)),FALSE()))),"確定/取消の元数量は1〜100万個の整数で必須",IF(AND(F18="未確認",COUNTA(E18)>0),"未確認の数量は空欄",IF(NOT(IF(ISNUMBER(G18),AND(G18>=43831,G18<73051,G18=INT(G18)),FALSE())),"記録確認日は時刻なしで必須",IF(OR(C18<在庫一覧!$B$3,C18>G18,G18>在庫一覧!$H$3),"期首日≦発生日≦確認日≦基準日を確認","確認済み")))))))))))),ISNUMBER(L18),L18=IF(K18="確認済み",0,1))),1,IF(L18<>0,0,IF(AND(ISNUMBER(H18),H18=IF(AND(F18="確定",D18="入庫",C18<=在庫一覧!$E$3),E18,0),ISNUMBER(I18),I18=IF(AND(F18="確定",D18="出庫",C18<=在庫一覧!$E$3),E18,0),ISNUMBER(J18),J18=IF(AND(F18="未確認",C18<=在庫一覧!$E$3),1,0)),0,1)))) -> 0
H19: =IF(K19="","",IF(L19<>0,NA(),IF(AND(F19="確定",D19="入庫",C19<=在庫一覧!$E$3),E19,0))) | I19: =IF(K19="","",IF(L19<>0,NA(),IF(AND(F19="確定",D19="出庫",C19<=在庫一覧!$E$3),E19,0))) | J19: =IF(K19="","",IF(L19<>0,NA(),IF(AND(F19="未確認",C19<=在庫一覧!$E$3),1,0))) | K19: =IF(COUNTA(A19:G19)=0,"",IF(NOT(AND(ISTEXT(A19),LEN(A19)=8,EXACT(LEFT(A19,4),"MOV-"),ISNUMBER(FIND(MID(A19,5,1)&"x","0x1x2x3x4x5x6x7x8x9x")),ISNUMBER(FIND(MID(A19,6,1)&"x","0x1x2x3x4x5x6x7x8x9x")),ISNUMBER(FIND(MID(A19,7,1)&"x","0x1x2x3x4x5x6x7x8x9x")),ISNUMBER(FIND(MID(A19,8,1)&"x","0x1x2x3x4x5x6x7x8x9x")))),"IDはMOV-と半角数字4桁",IF(COUNTIFS($A$8:$A$107,A19)>1,"記録IDが重複",IF(NOT(AND(ISTEXT(B19),LEN(B19)=8,EXACT(LEFT(B19,4),"SKU-"),ISNUMBER(FIND(MID(B19,5,1)&"x","0x1x2x3x4x5x6x7x8x9x")),ISNUMBER(FIND(MID(B19,6,1)&"x","0x1x2x3x4x5x6x7x8x9x")),ISNUMBER(FIND(MID(B19,7,1)&"x","0x1x2x3x4x5x6x7x8x9x")),ISNUMBER(FIND(MID(B19,8,1)&"x","0x1x2x3x4x5x6x7x8x9x")))),"品目IDはSKU-と半角数字4桁",IF(COUNTIFS(期首と基準!$A$8:$A$57,B19)<>1,"期首品目が一意に登録されていません",IF(NOT(IF(ISNUMBER(C19),AND(C19>=43831,C19<73051,C19=INT(C19)),FALSE())),"発生日は時刻なしで必須",IF(NOT(OR(D19="入庫",D19="出庫")),"入出区分を確認",IF(NOT(OR(F19="確定",F19="取消",F19="未確認")),"状態を確認",IF(AND(F19<>"未確認",NOT(IF(ISNUMBER(E19),AND(E19>=1,E19<=1000000,E19=INT(E19)),FALSE()))),"確定/取消の元数量は1〜100万個の整数で必須",IF(AND(F19="未確認",COUNTA(E19)>0),"未確認の数量は空欄",IF(NOT(IF(ISNUMBER(G19),AND(G19>=43831,G19<73051,G19=INT(G19)),FALSE())),"記録確認日は時刻なしで必須",IF(OR(C19<在庫一覧!$B$3,C19>G19,G19>在庫一覧!$H$3),"期首日≦発生日≦確認日≦基準日を確認","確認済み")))))))))))) | L19: =IF(K19="","",IF(K19="確認済み",0,1)) | M19: =IF(COUNTA(A19:G19)=0,IF(AND(K19="",L19="",H19="",I19="",J19=""),0,1),IF(NOT(AND(ISTEXT(K19),K19=IF(COUNTA(A19:G19)=0,"",IF(NOT(AND(ISTEXT(A19),LEN(A19)=8,EXACT(LEFT(A19,4),"MOV-"),ISNUMBER(FIND(MID(A19,5,1)&"x","0x1x2x3x4x5x6x7x8x9x")),ISNUMBER(FIND(MID(A19,6,1)&"x","0x1x2x3x4x5x6x7x8x9x")),ISNUMBER(FIND(MID(A19,7,1)&"x","0x1x2x3x4x5x6x7x8x9x")),ISNUMBER(FIND(MID(A19,8,1)&"x","0x1x2x3x4x5x6x7x8x9x")))),"IDはMOV-と半角数字4桁",IF(COUNTIFS($A$8:$A$107,A19)>1,"記録IDが重複",IF(NOT(AND(ISTEXT(B19),LEN(B19)=8,EXACT(LEFT(B19,4),"SKU-"),ISNUMBER(FIND(MID(B19,5,1)&"x","0x1x2x3x4x5x6x7x8x9x")),ISNUMBER(FIND(MID(B19,6,1)&"x","0x1x2x3x4x5x6x7x8x9x")),ISNUMBER(FIND(MID(B19,7,1)&"x","0x1x2x3x4x5x6x7x8x9x")),ISNUMBER(FIND(MID(B19,8,1)&"x","0x1x2x3x4x5x6x7x8x9x")))),"品目IDはSKU-と半角数字4桁",IF(COUNTIFS(期首と基準!$A$8:$A$57,B19)<>1,"期首品目が一意に登録されていません",IF(NOT(IF(ISNUMBER(C19),AND(C19>=43831,C19<73051,C19=INT(C19)),FALSE())),"発生日は時刻なしで必須",IF(NOT(OR(D19="入庫",D19="出庫")),"入出区分を確認",IF(NOT(OR(F19="確定",F19="取消",F19="未確認")),"状態を確認",IF(AND(F19<>"未確認",NOT(IF(ISNUMBER(E19),AND(E19>=1,E19<=1000000,E19=INT(E19)),FALSE()))),"確定/取消の元数量は1〜100万個の整数で必須",IF(AND(F19="未確認",COUNTA(E19)>0),"未確認の数量は空欄",IF(NOT(IF(ISNUMBER(G19),AND(G19>=43831,G19<73051,G19=INT(G19)),FALSE())),"記録確認日は時刻なしで必須",IF(OR(C19<在庫一覧!$B$3,C19>G19,G19>在庫一覧!$H$3),"期首日≦発生日≦確認日≦基準日を確認","確認済み")))))))))))),ISNUMBER(L19),L19=IF(K19="確認済み",0,1))),1,IF(L19<>0,0,IF(AND(ISNUMBER(H19),H19=IF(AND(F19="確定",D19="入庫",C19<=在庫一覧!$E$3),E19,0),ISNUMBER(I19),I19=IF(AND(F19="確定",D19="出庫",C19<=在庫一覧!$E$3),E19,0),ISNUMBER(J19),J19=IF(AND(F19="未確認",C19<=在庫一覧!$E$3),1,0)),0,1)))) -> 0
H20: =IF(K20="","",IF(L20<>0,NA(),IF(AND(F20="確定",D20="入庫",C20<=在庫一覧!$E$3),E20,0))) | I20: =IF(K20="","",IF(L20<>0,NA(),IF(AND(F20="確定",D20="出庫",C20<=在庫一覧!$E$3),E20,0))) | J20: =IF(K20="","",IF(L20<>0,NA(),IF(AND(F20="未確認",C20<=在庫一覧!$E$3),1,0))) | K20: =IF(COUNTA(A20:G20)=0,"",IF(NOT(AND(ISTEXT(A20),LEN(A20)=8,EXACT(LEFT(A20,4),"MOV-"),ISNUMBER(FIND(MID(A20,5,1)&"x","0x1x2x3x4x5x6x7x8x9x")),ISNUMBER(FIND(MID(A20,6,1)&"x","0x1x2x3x4x5x6x7x8x9x")),ISNUMBER(FIND(MID(A20,7,1)&"x","0x1x2x3x4x5x6x7x8x9x")),ISNUMBER(FIND(MID(A20,8,1)&"x","0x1x2x3x4x5x6x7x8x9x")))),"IDはMOV-と半角数字4桁",IF(COUNTIFS($A$8:$A$107,A20)>1,"記録IDが重複",IF(NOT(AND(ISTEXT(B20),LEN(B20)=8,EXACT(LEFT(B20,4),"SKU-"),ISNUMBER(FIND(MID(B20,5,1)&"x","0x1x2x3x4x5x6x7x8x9x")),ISNUMBER(FIND(MID(B20,6,1)&"x","0x1x2x3x4x5x6x7x8x9x")),ISNUMBER(FIND(MID(B20,7,1)&"x","0x1x2x3x4x5x6x7x8x9x")),ISNUMBER(FIND(MID(B20,8,1)&"x","0x1x2x3x4x5x6x7x8x9x")))),"品目IDはSKU-と半角数字4桁",IF(COUNTIFS(期首と基準!$A$8:$A$57,B20)<>1,"期首品目が一意に登録されていません",IF(NOT(IF(ISNUMBER(C20),AND(C20>=43831,C20<73051,C20=INT(C20)),FALSE())),"発生日は時刻なしで必須",IF(NOT(OR(D20="入庫",D20="出庫")),"入出区分を確認",IF(NOT(OR(F20="確定",F20="取消",F20="未確認")),"状態を確認",IF(AND(F20<>"未確認",NOT(IF(ISNUMBER(E20),AND(E20>=1,E20<=1000000,E20=INT(E20)),FALSE()))),"確定/取消の元数量は1〜100万個の整数で必須",IF(AND(F20="未確認",COUNTA(E20)>0),"未確認の数量は空欄",IF(NOT(IF(ISNUMBER(G20),AND(G20>=43831,G20<73051,G20=INT(G20)),FALSE())),"記録確認日は時刻なしで必須",IF(OR(C20<在庫一覧!$B$3,C20>G20,G20>在庫一覧!$H$3),"期首日≦発生日≦確認日≦基準日を確認","確認済み")))))))))))) | L20: =IF(K20="","",IF(K20="確認済み",0,1)) | M20: =IF(COUNTA(A20:G20)=0,IF(AND(K20="",L20="",H20="",I20="",J20=""),0,1),IF(NOT(AND(ISTEXT(K20),K20=IF(COUNTA(A20:G20)=0,"",IF(NOT(AND(ISTEXT(A20),LEN(A20)=8,EXACT(LEFT(A20,4),"MOV-"),ISNUMBER(FIND(MID(A20,5,1)&"x","0x1x2x3x4x5x6x7x8x9x")),ISNUMBER(FIND(MID(A20,6,1)&"x","0x1x2x3x4x5x6x7x8x9x")),ISNUMBER(FIND(MID(A20,7,1)&"x","0x1x2x3x4x5x6x7x8x9x")),ISNUMBER(FIND(MID(A20,8,1)&"x","0x1x2x3x4x5x6x7x8x9x")))),"IDはMOV-と半角数字4桁",IF(COUNTIFS($A$8:$A$107,A20)>1,"記録IDが重複",IF(NOT(AND(ISTEXT(B20),LEN(B20)=8,EXACT(LEFT(B20,4),"SKU-"),ISNUMBER(FIND(MID(B20,5,1)&"x","0x1x2x3x4x5x6x7x8x9x")),ISNUMBER(FIND(MID(B20,6,1)&"x","0x1x2x3x4x5x6x7x8x9x")),ISNUMBER(FIND(MID(B20,7,1)&"x","0x1x2x3x4x5x6x7x8x9x")),ISNUMBER(FIND(MID(B20,8,1)&"x","0x1x2x3x4x5x6x7x8x9x")))),"品目IDはSKU-と半角数字4桁",IF(COUNTIFS(期首と基準!$A$8:$A$57,B20)<>1,"期首品目が一意に登録されていません",IF(NOT(IF(ISNUMBER(C20),AND(C20>=43831,C20<73051,C20=INT(C20)),FALSE())),"発生日は時刻なしで必須",IF(NOT(OR(D20="入庫",D20="出庫")),"入出区分を確認",IF(NOT(OR(F20="確定",F20="取消",F20="未確認")),"状態を確認",IF(AND(F20<>"未確認",NOT(IF(ISNUMBER(E20),AND(E20>=1,E20<=1000000,E20=INT(E20)),FALSE()))),"確定/取消の元数量は1〜100万個の整数で必須",IF(AND(F20="未確認",COUNTA(E20)>0),"未確認の数量は空欄",IF(NOT(IF(ISNUMBER(G20),AND(G20>=43831,G20<73051,G20=INT(G20)),FALSE())),"記録確認日は時刻なしで必須",IF(OR(C20<在庫一覧!$B$3,C20>G20,G20>在庫一覧!$H$3),"期首日≦発生日≦確認日≦基準日を確認","確認済み")))))))))))),ISNUMBER(L20),L20=IF(K20="確認済み",0,1))),1,IF(L20<>0,0,IF(AND(ISNUMBER(H20),H20=IF(AND(F20="確定",D20="入庫",C20<=在庫一覧!$E$3),E20,0),ISNUMBER(I20),I20=IF(AND(F20="確定",D20="出庫",C20<=在庫一覧!$E$3),E20,0),ISNUMBER(J20),J20=IF(AND(F20="未確認",C20<=在庫一覧!$E$3),1,0)),0,1)))) -> 0
H21: =IF(K21="","",IF(L21<>0,NA(),IF(AND(F21="確定",D21="入庫",C21<=在庫一覧!$E$3),E21,0))) | I21: =IF(K21="","",IF(L21<>0,NA(),IF(AND(F21="確定",D21="出庫",C21<=在庫一覧!$E$3),E21,0))) | J21: =IF(K21="","",IF(L21<>0,NA(),IF(AND(F21="未確認",C21<=在庫一覧!$E$3),1,0))) | K21: =IF(COUNTA(A21:G21)=0,"",IF(NOT(AND(ISTEXT(A21),LEN(A21)=8,EXACT(LEFT(A21,4),"MOV-"),ISNUMBER(FIND(MID(A21,5,1)&"x","0x1x2x3x4x5x6x7x8x9x")),ISNUMBER(FIND(MID(A21,6,1)&"x","0x1x2x3x4x5x6x7x8x9x")),ISNUMBER(FIND(MID(A21,7,1)&"x","0x1x2x3x4x5x6x7x8x9x")),ISNUMBER(FIND(MID(A21,8,1)&"x","0x1x2x3x4x5x6x7x8x9x")))),"IDはMOV-と半角数字4桁",IF(COUNTIFS($A$8:$A$107,A21)>1,"記録IDが重複",IF(NOT(AND(ISTEXT(B21),LEN(B21)=8,EXACT(LEFT(B21,4),"SKU-"),ISNUMBER(FIND(MID(B21,5,1)&"x","0x1x2x3x4x5x6x7x8x9x")),ISNUMBER(FIND(MID(B21,6,1)&"x","0x1x2x3x4x5x6x7x8x9x")),ISNUMBER(FIND(MID(B21,7,1)&"x","0x1x2x3x4x5x6x7x8x9x")),ISNUMBER(FIND(MID(B21,8,1)&"x","0x1x2x3x4x5x6x7x8x9x")))),"品目IDはSKU-と半角数字4桁",IF(COUNTIFS(期首と基準!$A$8:$A$57,B21)<>1,"期首品目が一意に登録されていません",IF(NOT(IF(ISNUMBER(C21),AND(C21>=43831,C21<73051,C21=INT(C21)),FALSE())),"発生日は時刻なしで必須",IF(NOT(OR(D21="入庫",D21="出庫")),"入出区分を確認",IF(NOT(OR(F21="確定",F21="取消",F21="未確認")),"状態を確認",IF(AND(F21<>"未確認",NOT(IF(ISNUMBER(E21),AND(E21>=1,E21<=1000000,E21=INT(E21)),FALSE()))),"確定/取消の元数量は1〜100万個の整数で必須",IF(AND(F21="未確認",COUNTA(E21)>0),"未確認の数量は空欄",IF(NOT(IF(ISNUMBER(G21),AND(G21>=43831,G21<73051,G21=INT(G21)),FALSE())),"記録確認日は時刻なしで必須",IF(OR(C21<在庫一覧!$B$3,C21>G21,G21>在庫一覧!$H$3),"期首日≦発生日≦確認日≦基準日を確認","確認済み")))))))))))) | L21: =IF(K21="","",IF(K21="確認済み",0,1)) | M21: =IF(COUNTA(A21:G21)=0,IF(AND(K21="",L21="",H21="",I21="",J21=""),0,1),IF(NOT(AND(ISTEXT(K21),K21=IF(COUNTA(A21:G21)=0,"",IF(NOT(AND(ISTEXT(A21),LEN(A21)=8,EXACT(LEFT(A21,4),"MOV-"),ISNUMBER(FIND(MID(A21,5,1)&"x","0x1x2x3x4x5x6x7x8x9x")),ISNUMBER(FIND(MID(A21,6,1)&"x","0x1x2x3x4x5x6x7x8x9x")),ISNUMBER(FIND(MID(A21,7,1)&"x","0x1x2x3x4x5x6x7x8x9x")),ISNUMBER(FIND(MID(A21,8,1)&"x","0x1x2x3x4x5x6x7x8x9x")))),"IDはMOV-と半角数字4桁",IF(COUNTIFS($A$8:$A$107,A21)>1,"記録IDが重複",IF(NOT(AND(ISTEXT(B21),LEN(B21)=8,EXACT(LEFT(B21,4),"SKU-"),ISNUMBER(FIND(MID(B21,5,1)&"x","0x1x2x3x4x5x6x7x8x9x")),ISNUMBER(FIND(MID(B21,6,1)&"x","0x1x2x3x4x5x6x7x8x9x")),ISNUMBER(FIND(MID(B21,7,1)&"x","0x1x2x3x4x5x6x7x8x9x")),ISNUMBER(FIND(MID(B21,8,1)&"x","0x1x2x3x4x5x6x7x8x9x")))),"品目IDはSKU-と半角数字4桁",IF(COUNTIFS(期首と基準!$A$8:$A$57,B21)<>1,"期首品目が一意に登録されていません",IF(NOT(IF(ISNUMBER(C21),AND(C21>=43831,C21<73051,C21=INT(C21)),FALSE())),"発生日は時刻なしで必須",IF(NOT(OR(D21="入庫",D21="出庫")),"入出区分を確認",IF(NOT(OR(F21="確定",F21="取消",F21="未確認")),"状態を確認",IF(AND(F21<>"未確認",NOT(IF(ISNUMBER(E21),AND(E21>=1,E21<=1000000,E21=INT(E21)),FALSE()))),"確定/取消の元数量は1〜100万個の整数で必須",IF(AND(F21="未確認",COUNTA(E21)>0),"未確認の数量は空欄",IF(NOT(IF(ISNUMBER(G21),AND(G21>=43831,G21<73051,G21=INT(G21)),FALSE())),"記録確認日は時刻なしで必須",IF(OR(C21<在庫一覧!$B$3,C21>G21,G21>在庫一覧!$H$3),"期首日≦発生日≦確認日≦基準日を確認","確認済み")))))))))))),ISNUMBER(L21),L21=IF(K21="確認済み",0,1))),1,IF(L21<>0,0,IF(AND(ISNUMBER(H21),H21=IF(AND(F21="確定",D21="入庫",C21<=在庫一覧!$E$3),E21,0),ISNUMBER(I21),I21=IF(AND(F21="確定",D21="出庫",C21<=在庫一覧!$E$3),E21,0),ISNUMBER(J21),J21=IF(AND(F21="未確認",C21<=在庫一覧!$E$3),1,0)),0,1)))) -> 0
H22: =IF(K22="","",IF(L22<>0,NA(),IF(AND(F22="確定",D22="入庫",C22<=在庫一覧!$E$3),E22,0))) | I22: =IF(K22="","",IF(L22<>0,NA(),IF(AND(F22="確定",D22="出庫",C22<=在庫一覧!$E$3),E22,0))) | J22: =IF(K22="","",IF(L22<>0,NA(),IF(AND(F22="未確認",C22<=在庫一覧!$E$3),1,0))) | K22: =IF(COUNTA(A22:G22)=0,"",IF(NOT(AND(ISTEXT(A22),LEN(A22)=8,EXACT(LEFT(A22,4),"MOV-"),ISNUMBER(FIND(MID(A22,5,1)&"x","0x1x2x3x4x5x6x7x8x9x")),ISNUMBER(FIND(MID(A22,6,1)&"x","0x1x2x3x4x5x6x7x8x9x")),ISNUMBER(FIND(MID(A22,7,1)&"x","0x1x2x3x4x5x6x7x8x9x")),ISNUMBER(FIND(MID(A22,8,1)&"x","0x1x2x3x4x5x6x7x8x9x")))),"IDはMOV-と半角数字4桁",IF(COUNTIFS($A$8:$A$107,A22)>1,"記録IDが重複",IF(NOT(AND(ISTEXT(B22),LEN(B22)=8,EXACT(LEFT(B22,4),"SKU-"),ISNUMBER(FIND(MID(B22,5,1)&"x","0x1x2x3x4x5x6x7x8x9x")),ISNUMBER(FIND(MID(B22,6,1)&"x","0x1x2x3x4x5x6x7x8x9x")),ISNUMBER(FIND(MID(B22,7,1)&"x","0x1x2x3x4x5x6x7x8x9x")),ISNUMBER(FIND(MID(B22,8,1)&"x","0x1x2x3x4x5x6x7x8x9x")))),"品目IDはSKU-と半角数字4桁",IF(COUNTIFS(期首と基準!$A$8:$A$57,B22)<>1,"期首品目が一意に登録されていません",IF(NOT(IF(ISNUMBER(C22),AND(C22>=43831,C22<73051,C22=INT(C22)),FALSE())),"発生日は時刻なしで必須",IF(NOT(OR(D22="入庫",D22="出庫")),"入出区分を確認",IF(NOT(OR(F22="確定",F22="取消",F22="未確認")),"状態を確認",IF(AND(F22<>"未確認",NOT(IF(ISNUMBER(E22),AND(E22>=1,E22<=1000000,E22=INT(E22)),FALSE()))),"確定/取消の元数量は1〜100万個の整数で必須",IF(AND(F22="未確認",COUNTA(E22)>0),"未確認の数量は空欄",IF(NOT(IF(ISNUMBER(G22),AND(G22>=43831,G22<73051,G22=INT(G22)),FALSE())),"記録確認日は時刻なしで必須",IF(OR(C22<在庫一覧!$B$3,C22>G22,G22>在庫一覧!$H$3),"期首日≦発生日≦確認日≦基準日を確認","確認済み")))))))))))) | L22: =IF(K22="","",IF(K22="確認済み",0,1)) | M22: =IF(COUNTA(A22:G22)=0,IF(AND(K22="",L22="",H22="",I22="",J22=""),0,1),IF(NOT(AND(ISTEXT(K22),K22=IF(COUNTA(A22:G22)=0,"",IF(NOT(AND(ISTEXT(A22),LEN(A22)=8,EXACT(LEFT(A22,4),"MOV-"),ISNUMBER(FIND(MID(A22,5,1)&"x","0x1x2x3x4x5x6x7x8x9x")),ISNUMBER(FIND(MID(A22,6,1)&"x","0x1x2x3x4x5x6x7x8x9x")),ISNUMBER(FIND(MID(A22,7,1)&"x","0x1x2x3x4x5x6x7x8x9x")),ISNUMBER(FIND(MID(A22,8,1)&"x","0x1x2x3x4x5x6x7x8x9x")))),"IDはMOV-と半角数字4桁",IF(COUNTIFS($A$8:$A$107,A22)>1,"記録IDが重複",IF(NOT(AND(ISTEXT(B22),LEN(B22)=8,EXACT(LEFT(B22,4),"SKU-"),ISNUMBER(FIND(MID(B22,5,1)&"x","0x1x2x3x4x5x6x7x8x9x")),ISNUMBER(FIND(MID(B22,6,1)&"x","0x1x2x3x4x5x6x7x8x9x")),ISNUMBER(FIND(MID(B22,7,1)&"x","0x1x2x3x4x5x6x7x8x9x")),ISNUMBER(FIND(MID(B22,8,1)&"x","0x1x2x3x4x5x6x7x8x9x")))),"品目IDはSKU-と半角数字4桁",IF(COUNTIFS(期首と基準!$A$8:$A$57,B22)<>1,"期首品目が一意に登録されていません",IF(NOT(IF(ISNUMBER(C22),AND(C22>=43831,C22<73051,C22=INT(C22)),FALSE())),"発生日は時刻なしで必須",IF(NOT(OR(D22="入庫",D22="出庫")),"入出区分を確認",IF(NOT(OR(F22="確定",F22="取消",F22="未確認")),"状態を確認",IF(AND(F22<>"未確認",NOT(IF(ISNUMBER(E22),AND(E22>=1,E22<=1000000,E22=INT(E22)),FALSE()))),"確定/取消の元数量は1〜100万個の整数で必須",IF(AND(F22="未確認",COUNTA(E22)>0),"未確認の数量は空欄",IF(NOT(IF(ISNUMBER(G22),AND(G22>=43831,G22<73051,G22=INT(G22)),FALSE())),"記録確認日は時刻なしで必須",IF(OR(C22<在庫一覧!$B$3,C22>G22,G22>在庫一覧!$H$3),"期首日≦発生日≦確認日≦基準日を確認","確認済み")))))))))))),ISNUMBER(L22),L22=IF(K22="確認済み",0,1))),1,IF(L22<>0,0,IF(AND(ISNUMBER(H22),H22=IF(AND(F22="確定",D22="入庫",C22<=在庫一覧!$E$3),E22,0),ISNUMBER(I22),I22=IF(AND(F22="確定",D22="出庫",C22<=在庫一覧!$E$3),E22,0),ISNUMBER(J22),J22=IF(AND(F22="未確認",C22<=在庫一覧!$E$3),1,0)),0,1)))) -> 0
H23: =IF(K23="","",IF(L23<>0,NA(),IF(AND(F23="確定",D23="入庫",C23<=在庫一覧!$E$3),E23,0))) | I23: =IF(K23="","",IF(L23<>0,NA(),IF(AND(F23="確定",D23="出庫",C23<=在庫一覧!$E$3),E23,0))) | J23: =IF(K23="","",IF(L23<>0,NA(),IF(AND(F23="未確認",C23<=在庫一覧!$E$3),1,0))) | K23: =IF(COUNTA(A23:G23)=0,"",IF(NOT(AND(ISTEXT(A23),LEN(A23)=8,EXACT(LEFT(A23,4),"MOV-"),ISNUMBER(FIND(MID(A23,5,1)&"x","0x1x2x3x4x5x6x7x8x9x")),ISNUMBER(FIND(MID(A23,6,1)&"x","0x1x2x3x4x5x6x7x8x9x")),ISNUMBER(FIND(MID(A23,7,1)&"x","0x1x2x3x4x5x6x7x8x9x")),ISNUMBER(FIND(MID(A23,8,1)&"x","0x1x2x3x4x5x6x7x8x9x")))),"IDはMOV-と半角数字4桁",IF(COUNTIFS($A$8:$A$107,A23)>1,"記録IDが重複",IF(NOT(AND(ISTEXT(B23),LEN(B23)=8,EXACT(LEFT(B23,4),"SKU-"),ISNUMBER(FIND(MID(B23,5,1)&"x","0x1x2x3x4x5x6x7x8x9x")),ISNUMBER(FIND(MID(B23,6,1)&"x","0x1x2x3x4x5x6x7x8x9x")),ISNUMBER(FIND(MID(B23,7,1)&"x","0x1x2x3x4x5x6x7x8x9x")),ISNUMBER(FIND(MID(B23,8,1)&"x","0x1x2x3x4x5x6x7x8x9x")))),"品目IDはSKU-と半角数字4桁",IF(COUNTIFS(期首と基準!$A$8:$A$57,B23)<>1,"期首品目が一意に登録されていません",IF(NOT(IF(ISNUMBER(C23),AND(C23>=43831,C23<73051,C23=INT(C23)),FALSE())),"発生日は時刻なしで必須",IF(NOT(OR(D23="入庫",D23="出庫")),"入出区分を確認",IF(NOT(OR(F23="確定",F23="取消",F23="未確認")),"状態を確認",IF(AND(F23<>"未確認",NOT(IF(ISNUMBER(E23),AND(E23>=1,E23<=1000000,E23=INT(E23)),FALSE()))),"確定/取消の元数量は1〜100万個の整数で必須",IF(AND(F23="未確認",COUNTA(E23)>0),"未確認の数量は空欄",IF(NOT(IF(ISNUMBER(G23),AND(G23>=43831,G23<73051,G23=INT(G23)),FALSE())),"記録確認日は時刻なしで必須",IF(OR(C23<在庫一覧!$B$3,C23>G23,G23>在庫一覧!$H$3),"期首日≦発生日≦確認日≦基準日を確認","確認済み")))))))))))) | L23: =IF(K23="","",IF(K23="確認済み",0,1)) | M23: =IF(COUNTA(A23:G23)=0,IF(AND(K23="",L23="",H23="",I23="",J23=""),0,1),IF(NOT(AND(ISTEXT(K23),K23=IF(COUNTA(A23:G23)=0,"",IF(NOT(AND(ISTEXT(A23),LEN(A23)=8,EXACT(LEFT(A23,4),"MOV-"),ISNUMBER(FIND(MID(A23,5,1)&"x","0x1x2x3x4x5x6x7x8x9x")),ISNUMBER(FIND(MID(A23,6,1)&"x","0x1x2x3x4x5x6x7x8x9x")),ISNUMBER(FIND(MID(A23,7,1)&"x","0x1x2x3x4x5x6x7x8x9x")),ISNUMBER(FIND(MID(A23,8,1)&"x","0x1x2x3x4x5x6x7x8x9x")))),"IDはMOV-と半角数字4桁",IF(COUNTIFS($A$8:$A$107,A23)>1,"記録IDが重複",IF(NOT(AND(ISTEXT(B23),LEN(B23)=8,EXACT(LEFT(B23,4),"SKU-"),ISNUMBER(FIND(MID(B23,5,1)&"x","0x1x2x3x4x5x6x7x8x9x")),ISNUMBER(FIND(MID(B23,6,1)&"x","0x1x2x3x4x5x6x7x8x9x")),ISNUMBER(FIND(MID(B23,7,1)&"x","0x1x2x3x4x5x6x7x8x9x")),ISNUMBER(FIND(MID(B23,8,1)&"x","0x1x2x3x4x5x6x7x8x9x")))),"品目IDはSKU-と半角数字4桁",IF(COUNTIFS(期首と基準!$A$8:$A$57,B23)<>1,"期首品目が一意に登録されていません",IF(NOT(IF(ISNUMBER(C23),AND(C23>=43831,C23<73051,C23=INT(C23)),FALSE())),"発生日は時刻なしで必須",IF(NOT(OR(D23="入庫",D23="出庫")),"入出区分を確認",IF(NOT(OR(F23="確定",F23="取消",F23="未確認")),"状態を確認",IF(AND(F23<>"未確認",NOT(IF(ISNUMBER(E23),AND(E23>=1,E23<=1000000,E23=INT(E23)),FALSE()))),"確定/取消の元数量は1〜100万個の整数で必須",IF(AND(F23="未確認",COUNTA(E23)>0),"未確認の数量は空欄",IF(NOT(IF(ISNUMBER(G23),AND(G23>=43831,G23<73051,G23=INT(G23)),FALSE())),"記録確認日は時刻なしで必須",IF(OR(C23<在庫一覧!$B$3,C23>G23,G23>在庫一覧!$H$3),"期首日≦発生日≦確認日≦基準日を確認","確認済み")))))))))))),ISNUMBER(L23),L23=IF(K23="確認済み",0,1))),1,IF(L23<>0,0,IF(AND(ISNUMBER(H23),H23=IF(AND(F23="確定",D23="入庫",C23<=在庫一覧!$E$3),E23,0),ISNUMBER(I23),I23=IF(AND(F23="確定",D23="出庫",C23<=在庫一覧!$E$3),E23,0),ISNUMBER(J23),J23=IF(AND(F23="未確認",C23<=在庫一覧!$E$3),1,0)),0,1)))) -> 0
H24: =IF(K24="","",IF(L24<>0,NA(),IF(AND(F24="確定",D24="入庫",C24<=在庫一覧!$E$3),E24,0))) | I24: =IF(K24="","",IF(L24<>0,NA(),IF(AND(F24="確定",D24="出庫",C24<=在庫一覧!$E$3),E24,0))) | J24: =IF(K24="","",IF(L24<>0,NA(),IF(AND(F24="未確認",C24<=在庫一覧!$E$3),1,0))) | K24: =IF(COUNTA(A24:G24)=0,"",IF(NOT(AND(ISTEXT(A24),LEN(A24)=8,EXACT(LEFT(A24,4),"MOV-"),ISNUMBER(FIND(MID(A24,5,1)&"x","0x1x2x3x4x5x6x7x8x9x")),ISNUMBER(FIND(MID(A24,6,1)&"x","0x1x2x3x4x5x6x7x8x9x")),ISNUMBER(FIND(MID(A24,7,1)&"x","0x1x2x3x4x5x6x7x8x9x")),ISNUMBER(FIND(MID(A24,8,1)&"x","0x1x2x3x4x5x6x7x8x9x")))),"IDはMOV-と半角数字4桁",IF(COUNTIFS($A$8:$A$107,A24)>1,"記録IDが重複",IF(NOT(AND(ISTEXT(B24),LEN(B24)=8,EXACT(LEFT(B24,4),"SKU-"),ISNUMBER(FIND(MID(B24,5,1)&"x","0x1x2x3x4x5x6x7x8x9x")),ISNUMBER(FIND(MID(B24,6,1)&"x","0x1x2x3x4x5x6x7x8x9x")),ISNUMBER(FIND(MID(B24,7,1)&"x","0x1x2x3x4x5x6x7x8x9x")),ISNUMBER(FIND(MID(B24,8,1)&"x","0x1x2x3x4x5x6x7x8x9x")))),"品目IDはSKU-と半角数字4桁",IF(COUNTIFS(期首と基準!$A$8:$A$57,B24)<>1,"期首品目が一意に登録されていません",IF(NOT(IF(ISNUMBER(C24),AND(C24>=43831,C24<73051,C24=INT(C24)),FALSE())),"発生日は時刻なしで必須",IF(NOT(OR(D24="入庫",D24="出庫")),"入出区分を確認",IF(NOT(OR(F24="確定",F24="取消",F24="未確認")),"状態を確認",IF(AND(F24<>"未確認",NOT(IF(ISNUMBER(E24),AND(E24>=1,E24<=1000000,E24=INT(E24)),FALSE()))),"確定/取消の元数量は1〜100万個の整数で必須",IF(AND(F24="未確認",COUNTA(E24)>0),"未確認の数量は空欄",IF(NOT(IF(ISNUMBER(G24),AND(G24>=43831,G24<73051,G24=INT(G24)),FALSE())),"記録確認日は時刻なしで必須",IF(OR(C24<在庫一覧!$B$3,C24>G24,G24>在庫一覧!$H$3),"期首日≦発生日≦確認日≦基準日を確認","確認済み")))))))))))) | L24: =IF(K24="","",IF(K24="確認済み",0,1)) | M24: =IF(COUNTA(A24:G24)=0,IF(AND(K24="",L24="",H24="",I24="",J24=""),0,1),IF(NOT(AND(ISTEXT(K24),K24=IF(COUNTA(A24:G24)=0,"",IF(NOT(AND(ISTEXT(A24),LEN(A24)=8,EXACT(LEFT(A24,4),"MOV-"),ISNUMBER(FIND(MID(A24,5,1)&"x","0x1x2x3x4x5x6x7x8x9x")),ISNUMBER(FIND(MID(A24,6,1)&"x","0x1x2x3x4x5x6x7x8x9x")),ISNUMBER(FIND(MID(A24,7,1)&"x","0x1x2x3x4x5x6x7x8x9x")),ISNUMBER(FIND(MID(A24,8,1)&"x","0x1x2x3x4x5x6x7x8x9x")))),"IDはMOV-と半角数字4桁",IF(COUNTIFS($A$8:$A$107,A24)>1,"記録IDが重複",IF(NOT(AND(ISTEXT(B24),LEN(B24)=8,EXACT(LEFT(B24,4),"SKU-"),ISNUMBER(FIND(MID(B24,5,1)&"x","0x1x2x3x4x5x6x7x8x9x")),ISNUMBER(FIND(MID(B24,6,1)&"x","0x1x2x3x4x5x6x7x8x9x")),ISNUMBER(FIND(MID(B24,7,1)&"x","0x1x2x3x4x5x6x7x8x9x")),ISNUMBER(FIND(MID(B24,8,1)&"x","0x1x2x3x4x5x6x7x8x9x")))),"品目IDはSKU-と半角数字4桁",IF(COUNTIFS(期首と基準!$A$8:$A$57,B24)<>1,"期首品目が一意に登録されていません",IF(NOT(IF(ISNUMBER(C24),AND(C24>=43831,C24<73051,C24=INT(C24)),FALSE())),"発生日は時刻なしで必須",IF(NOT(OR(D24="入庫",D24="出庫")),"入出区分を確認",IF(NOT(OR(F24="確定",F24="取消",F24="未確認")),"状態を確認",IF(AND(F24<>"未確認",NOT(IF(ISNUMBER(E24),AND(E24>=1,E24<=1000000,E24=INT(E24)),FALSE()))),"確定/取消の元数量は1〜100万個の整数で必須",IF(AND(F24="未確認",COUNTA(E24)>0),"未確認の数量は空欄",IF(NOT(IF(ISNUMBER(G24),AND(G24>=43831,G24<73051,G24=INT(G24)),FALSE())),"記録確認日は時刻なしで必須",IF(OR(C24<在庫一覧!$B$3,C24>G24,G24>在庫一覧!$H$3),"期首日≦発生日≦確認日≦基準日を確認","確認済み")))))))))))),ISNUMBER(L24),L24=IF(K24="確認済み",0,1))),1,IF(L24<>0,0,IF(AND(ISNUMBER(H24),H24=IF(AND(F24="確定",D24="入庫",C24<=在庫一覧!$E$3),E24,0),ISNUMBER(I24),I24=IF(AND(F24="確定",D24="出庫",C24<=在庫一覧!$E$3),E24,0),ISNUMBER(J24),J24=IF(AND(F24="未確認",C24<=在庫一覧!$E$3),1,0)),0,1)))) -> 0
H25: =IF(K25="","",IF(L25<>0,NA(),IF(AND(F25="確定",D25="入庫",C25<=在庫一覧!$E$3),E25,0))) | I25: =IF(K25="","",IF(L25<>0,NA(),IF(AND(F25="確定",D25="出庫",C25<=在庫一覧!$E$3),E25,0))) | J25: =IF(K25="","",IF(L25<>0,NA(),IF(AND(F25="未確認",C25<=在庫一覧!$E$3),1,0))) | K25: =IF(COUNTA(A25:G25)=0,"",IF(NOT(AND(ISTEXT(A25),LEN(A25)=8,EXACT(LEFT(A25,4),"MOV-"),ISNUMBER(FIND(MID(A25,5,1)&"x","0x1x2x3x4x5x6x7x8x9x")),ISNUMBER(FIND(MID(A25,6,1)&"x","0x1x2x3x4x5x6x7x8x9x")),ISNUMBER(FIND(MID(A25,7,1)&"x","0x1x2x3x4x5x6x7x8x9x")),ISNUMBER(FIND(MID(A25,8,1)&"x","0x1x2x3x4x5x6x7x8x9x")))),"IDはMOV-と半角数字4桁",IF(COUNTIFS($A$8:$A$107,A25)>1,"記録IDが重複",IF(NOT(AND(ISTEXT(B25),LEN(B25)=8,EXACT(LEFT(B25,4),"SKU-"),ISNUMBER(FIND(MID(B25,5,1)&"x","0x1x2x3x4x5x6x7x8x9x")),ISNUMBER(FIND(MID(B25,6,1)&"x","0x1x2x3x4x5x6x7x8x9x")),ISNUMBER(FIND(MID(B25,7,1)&"x","0x1x2x3x4x5x6x7x8x9x")),ISNUMBER(FIND(MID(B25,8,1)&"x","0x1x2x3x4x5x6x7x8x9x")))),"品目IDはSKU-と半角数字4桁",IF(COUNTIFS(期首と基準!$A$8:$A$57,B25)<>1,"期首品目が一意に登録されていません",IF(NOT(IF(ISNUMBER(C25),AND(C25>=43831,C25<73051,C25=INT(C25)),FALSE())),"発生日は時刻なしで必須",IF(NOT(OR(D25="入庫",D25="出庫")),"入出区分を確認",IF(NOT(OR(F25="確定",F25="取消",F25="未確認")),"状態を確認",IF(AND(F25<>"未確認",NOT(IF(ISNUMBER(E25),AND(E25>=1,E25<=1000000,E25=INT(E25)),FALSE()))),"確定/取消の元数量は1〜100万個の整数で必須",IF(AND(F25="未確認",COUNTA(E25)>0),"未確認の数量は空欄",IF(NOT(IF(ISNUMBER(G25),AND(G25>=43831,G25<73051,G25=INT(G25)),FALSE())),"記録確認日は時刻なしで必須",IF(OR(C25<在庫一覧!$B$3,C25>G25,G25>在庫一覧!$H$3),"期首日≦発生日≦確認日≦基準日を確認","確認済み")))))))))))) | L25: =IF(K25="","",IF(K25="確認済み",0,1)) | M25: =IF(COUNTA(A25:G25)=0,IF(AND(K25="",L25="",H25="",I25="",J25=""),0,1),IF(NOT(AND(ISTEXT(K25),K25=IF(COUNTA(A25:G25)=0,"",IF(NOT(AND(ISTEXT(A25),LEN(A25)=8,EXACT(LEFT(A25,4),"MOV-"),ISNUMBER(FIND(MID(A25,5,1)&"x","0x1x2x3x4x5x6x7x8x9x")),ISNUMBER(FIND(MID(A25,6,1)&"x","0x1x2x3x4x5x6x7x8x9x")),ISNUMBER(FIND(MID(A25,7,1)&"x","0x1x2x3x4x5x6x7x8x9x")),ISNUMBER(FIND(MID(A25,8,1)&"x","0x1x2x3x4x5x6x7x8x9x")))),"IDはMOV-と半角数字4桁",IF(COUNTIFS($A$8:$A$107,A25)>1,"記録IDが重複",IF(NOT(AND(ISTEXT(B25),LEN(B25)=8,EXACT(LEFT(B25,4),"SKU-"),ISNUMBER(FIND(MID(B25,5,1)&"x","0x1x2x3x4x5x6x7x8x9x")),ISNUMBER(FIND(MID(B25,6,1)&"x","0x1x2x3x4x5x6x7x8x9x")),ISNUMBER(FIND(MID(B25,7,1)&"x","0x1x2x3x4x5x6x7x8x9x")),ISNUMBER(FIND(MID(B25,8,1)&"x","0x1x2x3x4x5x6x7x8x9x")))),"品目IDはSKU-と半角数字4桁",IF(COUNTIFS(期首と基準!$A$8:$A$57,B25)<>1,"期首品目が一意に登録されていません",IF(NOT(IF(ISNUMBER(C25),AND(C25>=43831,C25<73051,C25=INT(C25)),FALSE())),"発生日は時刻なしで必須",IF(NOT(OR(D25="入庫",D25="出庫")),"入出区分を確認",IF(NOT(OR(F25="確定",F25="取消",F25="未確認")),"状態を確認",IF(AND(F25<>"未確認",NOT(IF(ISNUMBER(E25),AND(E25>=1,E25<=1000000,E25=INT(E25)),FALSE()))),"確定/取消の元数量は1〜100万個の整数で必須",IF(AND(F25="未確認",COUNTA(E25)>0),"未確認の数量は空欄",IF(NOT(IF(ISNUMBER(G25),AND(G25>=43831,G25<73051,G25=INT(G25)),FALSE())),"記録確認日は時刻なしで必須",IF(OR(C25<在庫一覧!$B$3,C25>G25,G25>在庫一覧!$H$3),"期首日≦発生日≦確認日≦基準日を確認","確認済み")))))))))))),ISNUMBER(L25),L25=IF(K25="確認済み",0,1))),1,IF(L25<>0,0,IF(AND(ISNUMBER(H25),H25=IF(AND(F25="確定",D25="入庫",C25<=在庫一覧!$E$3),E25,0),ISNUMBER(I25),I25=IF(AND(F25="確定",D25="出庫",C25<=在庫一覧!$E$3),E25,0),ISNUMBER(J25),J25=IF(AND(F25="未確認",C25<=在庫一覧!$E$3),1,0)),0,1)))) -> 0
H26: =IF(K26="","",IF(L26<>0,NA(),IF(AND(F26="確定",D26="入庫",C26<=在庫一覧!$E$3),E26,0))) | I26: =IF(K26="","",IF(L26<>0,NA(),IF(AND(F26="確定",D26="出庫",C26<=在庫一覧!$E$3),E26,0))) | J26: =IF(K26="","",IF(L26<>0,NA(),IF(AND(F26="未確認",C26<=在庫一覧!$E$3),1,0))) | K26: =IF(COUNTA(A26:G26)=0,"",IF(NOT(AND(ISTEXT(A26),LEN(A26)=8,EXACT(LEFT(A26,4),"MOV-"),ISNUMBER(FIND(MID(A26,5,1)&"x","0x1x2x3x4x5x6x7x8x9x")),ISNUMBER(FIND(MID(A26,6,1)&"x","0x1x2x3x4x5x6x7x8x9x")),ISNUMBER(FIND(MID(A26,7,1)&"x","0x1x2x3x4x5x6x7x8x9x")),ISNUMBER(FIND(MID(A26,8,1)&"x","0x1x2x3x4x5x6x7x8x9x")))),"IDはMOV-と半角数字4桁",IF(COUNTIFS($A$8:$A$107,A26)>1,"記録IDが重複",IF(NOT(AND(ISTEXT(B26),LEN(B26)=8,EXACT(LEFT(B26,4),"SKU-"),ISNUMBER(FIND(MID(B26,5,1)&"x","0x1x2x3x4x5x6x7x8x9x")),ISNUMBER(FIND(MID(B26,6,1)&"x","0x1x2x3x4x5x6x7x8x9x")),ISNUMBER(FIND(MID(B26,7,1)&"x","0x1x2x3x4x5x6x7x8x9x")),ISNUMBER(FIND(MID(B26,8,1)&"x","0x1x2x3x4x5x6x7x8x9x")))),"品目IDはSKU-と半角数字4桁",IF(COUNTIFS(期首と基準!$A$8:$A$57,B26)<>1,"期首品目が一意に登録されていません",IF(NOT(IF(ISNUMBER(C26),AND(C26>=43831,C26<73051,C26=INT(C26)),FALSE())),"発生日は時刻なしで必須",IF(NOT(OR(D26="入庫",D26="出庫")),"入出区分を確認",IF(NOT(OR(F26="確定",F26="取消",F26="未確認")),"状態を確認",IF(AND(F26<>"未確認",NOT(IF(ISNUMBER(E26),AND(E26>=1,E26<=1000000,E26=INT(E26)),FALSE()))),"確定/取消の元数量は1〜100万個の整数で必須",IF(AND(F26="未確認",COUNTA(E26)>0),"未確認の数量は空欄",IF(NOT(IF(ISNUMBER(G26),AND(G26>=43831,G26<73051,G26=INT(G26)),FALSE())),"記録確認日は時刻なしで必須",IF(OR(C26<在庫一覧!$B$3,C26>G26,G26>在庫一覧!$H$3),"期首日≦発生日≦確認日≦基準日を確認","確認済み")))))))))))) | L26: =IF(K26="","",IF(K26="確認済み",0,1)) | M26: =IF(COUNTA(A26:G26)=0,IF(AND(K26="",L26="",H26="",I26="",J26=""),0,1),IF(NOT(AND(ISTEXT(K26),K26=IF(COUNTA(A26:G26)=0,"",IF(NOT(AND(ISTEXT(A26),LEN(A26)=8,EXACT(LEFT(A26,4),"MOV-"),ISNUMBER(FIND(MID(A26,5,1)&"x","0x1x2x3x4x5x6x7x8x9x")),ISNUMBER(FIND(MID(A26,6,1)&"x","0x1x2x3x4x5x6x7x8x9x")),ISNUMBER(FIND(MID(A26,7,1)&"x","0x1x2x3x4x5x6x7x8x9x")),ISNUMBER(FIND(MID(A26,8,1)&"x","0x1x2x3x4x5x6x7x8x9x")))),"IDはMOV-と半角数字4桁",IF(COUNTIFS($A$8:$A$107,A26)>1,"記録IDが重複",IF(NOT(AND(ISTEXT(B26),LEN(B26)=8,EXACT(LEFT(B26,4),"SKU-"),ISNUMBER(FIND(MID(B26,5,1)&"x","0x1x2x3x4x5x6x7x8x9x")),ISNUMBER(FIND(MID(B26,6,1)&"x","0x1x2x3x4x5x6x7x8x9x")),ISNUMBER(FIND(MID(B26,7,1)&"x","0x1x2x3x4x5x6x7x8x9x")),ISNUMBER(FIND(MID(B26,8,1)&"x","0x1x2x3x4x5x6x7x8x9x")))),"品目IDはSKU-と半角数字4桁",IF(COUNTIFS(期首と基準!$A$8:$A$57,B26)<>1,"期首品目が一意に登録されていません",IF(NOT(IF(ISNUMBER(C26),AND(C26>=43831,C26<73051,C26=INT(C26)),FALSE())),"発生日は時刻なしで必須",IF(NOT(OR(D26="入庫",D26="出庫")),"入出区分を確認",IF(NOT(OR(F26="確定",F26="取消",F26="未確認")),"状態を確認",IF(AND(F26<>"未確認",NOT(IF(ISNUMBER(E26),AND(E26>=1,E26<=1000000,E26=INT(E26)),FALSE()))),"確定/取消の元数量は1〜100万個の整数で必須",IF(AND(F26="未確認",COUNTA(E26)>0),"未確認の数量は空欄",IF(NOT(IF(ISNUMBER(G26),AND(G26>=43831,G26<73051,G26=INT(G26)),FALSE())),"記録確認日は時刻なしで必須",IF(OR(C26<在庫一覧!$B$3,C26>G26,G26>在庫一覧!$H$3),"期首日≦発生日≦確認日≦基準日を確認","確認済み")))))))))))),ISNUMBER(L26),L26=IF(K26="確認済み",0,1))),1,IF(L26<>0,0,IF(AND(ISNUMBER(H26),H26=IF(AND(F26="確定",D26="入庫",C26<=在庫一覧!$E$3),E26,0),ISNUMBER(I26),I26=IF(AND(F26="確定",D26="出庫",C26<=在庫一覧!$E$3),E26,0),ISNUMBER(J26),J26=IF(AND(F26="未確認",C26<=在庫一覧!$E$3),1,0)),0,1)))) -> 0
H27: =IF(K27="","",IF(L27<>0,NA(),IF(AND(F27="確定",D27="入庫",C27<=在庫一覧!$E$3),E27,0))) | I27: =IF(K27="","",IF(L27<>0,NA(),IF(AND(F27="確定",D27="出庫",C27<=在庫一覧!$E$3),E27,0))) | J27: =IF(K27="","",IF(L27<>0,NA(),IF(AND(F27="未確認",C27<=在庫一覧!$E$3),1,0))) | K27: =IF(COUNTA(A27:G27)=0,"",IF(NOT(AND(ISTEXT(A27),LEN(A27)=8,EXACT(LEFT(A27,4),"MOV-"),ISNUMBER(FIND(MID(A27,5,1)&"x","0x1x2x3x4x5x6x7x8x9x")),ISNUMBER(FIND(MID(A27,6,1)&"x","0x1x2x3x4x5x6x7x8x9x")),ISNUMBER(FIND(MID(A27,7,1)&"x","0x1x2x3x4x5x6x7x8x9x")),ISNUMBER(FIND(MID(A27,8,1)&"x","0x1x2x3x4x5x6x7x8x9x")))),"IDはMOV-と半角数字4桁",IF(COUNTIFS($A$8:$A$107,A27)>1,"記録IDが重複",IF(NOT(AND(ISTEXT(B27),LEN(B27)=8,EXACT(LEFT(B27,4),"SKU-"),ISNUMBER(FIND(MID(B27,5,1)&"x","0x1x2x3x4x5x6x7x8x9x")),ISNUMBER(FIND(MID(B27,6,1)&"x","0x1x2x3x4x5x6x7x8x9x")),ISNUMBER(FIND(MID(B27,7,1)&"x","0x1x2x3x4x5x6x7x8x9x")),ISNUMBER(FIND(MID(B27,8,1)&"x","0x1x2x3x4x5x6x7x8x9x")))),"品目IDはSKU-と半角数字4桁",IF(COUNTIFS(期首と基準!$A$8:$A$57,B27)<>1,"期首品目が一意に登録されていません",IF(NOT(IF(ISNUMBER(C27),AND(C27>=43831,C27<73051,C27=INT(C27)),FALSE())),"発生日は時刻なしで必須",IF(NOT(OR(D27="入庫",D27="出庫")),"入出区分を確認",IF(NOT(OR(F27="確定",F27="取消",F27="未確認")),"状態を確認",IF(AND(F27<>"未確認",NOT(IF(ISNUMBER(E27),AND(E27>=1,E27<=1000000,E27=INT(E27)),FALSE()))),"確定/取消の元数量は1〜100万個の整数で必須",IF(AND(F27="未確認",COUNTA(E27)>0),"未確認の数量は空欄",IF(NOT(IF(ISNUMBER(G27),AND(G27>=43831,G27<73051,G27=INT(G27)),FALSE())),"記録確認日は時刻なしで必須",IF(OR(C27<在庫一覧!$B$3,C27>G27,G27>在庫一覧!$H$3),"期首日≦発生日≦確認日≦基準日を確認","確認済み")))))))))))) | L27: =IF(K27="","",IF(K27="確認済み",0,1)) | M27: =IF(COUNTA(A27:G27)=0,IF(AND(K27="",L27="",H27="",I27="",J27=""),0,1),IF(NOT(AND(ISTEXT(K27),K27=IF(COUNTA(A27:G27)=0,"",IF(NOT(AND(ISTEXT(A27),LEN(A27)=8,EXACT(LEFT(A27,4),"MOV-"),ISNUMBER(FIND(MID(A27,5,1)&"x","0x1x2x3x4x5x6x7x8x9x")),ISNUMBER(FIND(MID(A27,6,1)&"x","0x1x2x3x4x5x6x7x8x9x")),ISNUMBER(FIND(MID(A27,7,1)&"x","0x1x2x3x4x5x6x7x8x9x")),ISNUMBER(FIND(MID(A27,8,1)&"x","0x1x2x3x4x5x6x7x8x9x")))),"IDはMOV-と半角数字4桁",IF(COUNTIFS($A$8:$A$107,A27)>1,"記録IDが重複",IF(NOT(AND(ISTEXT(B27),LEN(B27)=8,EXACT(LEFT(B27,4),"SKU-"),ISNUMBER(FIND(MID(B27,5,1)&"x","0x1x2x3x4x5x6x7x8x9x")),ISNUMBER(FIND(MID(B27,6,1)&"x","0x1x2x3x4x5x6x7x8x9x")),ISNUMBER(FIND(MID(B27,7,1)&"x","0x1x2x3x4x5x6x7x8x9x")),ISNUMBER(FIND(MID(B27,8,1)&"x","0x1x2x3x4x5x6x7x8x9x")))),"品目IDはSKU-と半角数字4桁",IF(COUNTIFS(期首と基準!$A$8:$A$57,B27)<>1,"期首品目が一意に登録されていません",IF(NOT(IF(ISNUMBER(C27),AND(C27>=43831,C27<73051,C27=INT(C27)),FALSE())),"発生日は時刻なしで必須",IF(NOT(OR(D27="入庫",D27="出庫")),"入出区分を確認",IF(NOT(OR(F27="確定",F27="取消",F27="未確認")),"状態を確認",IF(AND(F27<>"未確認",NOT(IF(ISNUMBER(E27),AND(E27>=1,E27<=1000000,E27=INT(E27)),FALSE()))),"確定/取消の元数量は1〜100万個の整数で必須",IF(AND(F27="未確認",COUNTA(E27)>0),"未確認の数量は空欄",IF(NOT(IF(ISNUMBER(G27),AND(G27>=43831,G27<73051,G27=INT(G27)),FALSE())),"記録確認日は時刻なしで必須",IF(OR(C27<在庫一覧!$B$3,C27>G27,G27>在庫一覧!$H$3),"期首日≦発生日≦確認日≦基準日を確認","確認済み")))))))))))),ISNUMBER(L27),L27=IF(K27="確認済み",0,1))),1,IF(L27<>0,0,IF(AND(ISNUMBER(H27),H27=IF(AND(F27="確定",D27="入庫",C27<=在庫一覧!$E$3),E27,0),ISNUMBER(I27),I27=IF(AND(F27="確定",D27="出庫",C27<=在庫一覧!$E$3),E27,0),ISNUMBER(J27),J27=IF(AND(F27="未確認",C27<=在庫一覧!$E$3),1,0)),0,1)))) -> 0
H28: =IF(K28="","",IF(L28<>0,NA(),IF(AND(F28="確定",D28="入庫",C28<=在庫一覧!$E$3),E28,0))) | I28: =IF(K28="","",IF(L28<>0,NA(),IF(AND(F28="確定",D28="出庫",C28<=在庫一覧!$E$3),E28,0))) | J28: =IF(K28="","",IF(L28<>0,NA(),IF(AND(F28="未確認",C28<=在庫一覧!$E$3),1,0))) | K28: =IF(COUNTA(A28:G28)=0,"",IF(NOT(AND(ISTEXT(A28),LEN(A28)=8,EXACT(LEFT(A28,4),"MOV-"),ISNUMBER(FIND(MID(A28,5,1)&"x","0x1x2x3x4x5x6x7x8x9x")),ISNUMBER(FIND(MID(A28,6,1)&"x","0x1x2x3x4x5x6x7x8x9x")),ISNUMBER(FIND(MID(A28,7,1)&"x","0x1x2x3x4x5x6x7x8x9x")),ISNUMBER(FIND(MID(A28,8,1)&"x","0x1x2x3x4x5x6x7x8x9x")))),"IDはMOV-と半角数字4桁",IF(COUNTIFS($A$8:$A$107,A28)>1,"記録IDが重複",IF(NOT(AND(ISTEXT(B28),LEN(B28)=8,EXACT(LEFT(B28,4),"SKU-"),ISNUMBER(FIND(MID(B28,5,1)&"x","0x1x2x3x4x5x6x7x8x9x")),ISNUMBER(FIND(MID(B28,6,1)&"x","0x1x2x3x4x5x6x7x8x9x")),ISNUMBER(FIND(MID(B28,7,1)&"x","0x1x2x3x4x5x6x7x8x9x")),ISNUMBER(FIND(MID(B28,8,1)&"x","0x1x2x3x4x5x6x7x8x9x")))),"品目IDはSKU-と半角数字4桁",IF(COUNTIFS(期首と基準!$A$8:$A$57,B28)<>1,"期首品目が一意に登録されていません",IF(NOT(IF(ISNUMBER(C28),AND(C28>=43831,C28<73051,C28=INT(C28)),FALSE())),"発生日は時刻なしで必須",IF(NOT(OR(D28="入庫",D28="出庫")),"入出区分を確認",IF(NOT(OR(F28="確定",F28="取消",F28="未確認")),"状態を確認",IF(AND(F28<>"未確認",NOT(IF(ISNUMBER(E28),AND(E28>=1,E28<=1000000,E28=INT(E28)),FALSE()))),"確定/取消の元数量は1〜100万個の整数で必須",IF(AND(F28="未確認",COUNTA(E28)>0),"未確認の数量は空欄",IF(NOT(IF(ISNUMBER(G28),AND(G28>=43831,G28<73051,G28=INT(G28)),FALSE())),"記録確認日は時刻なしで必須",IF(OR(C28<在庫一覧!$B$3,C28>G28,G28>在庫一覧!$H$3),"期首日≦発生日≦確認日≦基準日を確認","確認済み")))))))))))) | L28: =IF(K28="","",IF(K28="確認済み",0,1)) | M28: =IF(COUNTA(A28:G28)=0,IF(AND(K28="",L28="",H28="",I28="",J28=""),0,1),IF(NOT(AND(ISTEXT(K28),K28=IF(COUNTA(A28:G28)=0,"",IF(NOT(AND(ISTEXT(A28),LEN(A28)=8,EXACT(LEFT(A28,4),"MOV-"),ISNUMBER(FIND(MID(A28,5,1)&"x","0x1x2x3x4x5x6x7x8x9x")),ISNUMBER(FIND(MID(A28,6,1)&"x","0x1x2x3x4x5x6x7x8x9x")),ISNUMBER(FIND(MID(A28,7,1)&"x","0x1x2x3x4x5x6x7x8x9x")),ISNUMBER(FIND(MID(A28,8,1)&"x","0x1x2x3x4x5x6x7x8x9x")))),"IDはMOV-と半角数字4桁",IF(COUNTIFS($A$8:$A$107,A28)>1,"記録IDが重複",IF(NOT(AND(ISTEXT(B28),LEN(B28)=8,EXACT(LEFT(B28,4),"SKU-"),ISNUMBER(FIND(MID(B28,5,1)&"x","0x1x2x3x4x5x6x7x8x9x")),ISNUMBER(FIND(MID(B28,6,1)&"x","0x1x2x3x4x5x6x7x8x9x")),ISNUMBER(FIND(MID(B28,7,1)&"x","0x1x2x3x4x5x6x7x8x9x")),ISNUMBER(FIND(MID(B28,8,1)&"x","0x1x2x3x4x5x6x7x8x9x")))),"品目IDはSKU-と半角数字4桁",IF(COUNTIFS(期首と基準!$A$8:$A$57,B28)<>1,"期首品目が一意に登録されていません",IF(NOT(IF(ISNUMBER(C28),AND(C28>=43831,C28<73051,C28=INT(C28)),FALSE())),"発生日は時刻なしで必須",IF(NOT(OR(D28="入庫",D28="出庫")),"入出区分を確認",IF(NOT(OR(F28="確定",F28="取消",F28="未確認")),"状態を確認",IF(AND(F28<>"未確認",NOT(IF(ISNUMBER(E28),AND(E28>=1,E28<=1000000,E28=INT(E28)),FALSE()))),"確定/取消の元数量は1〜100万個の整数で必須",IF(AND(F28="未確認",COUNTA(E28)>0),"未確認の数量は空欄",IF(NOT(IF(ISNUMBER(G28),AND(G28>=43831,G28<73051,G28=INT(G28)),FALSE())),"記録確認日は時刻なしで必須",IF(OR(C28<在庫一覧!$B$3,C28>G28,G28>在庫一覧!$H$3),"期首日≦発生日≦確認日≦基準日を確認","確認済み")))))))))))),ISNUMBER(L28),L28=IF(K28="確認済み",0,1))),1,IF(L28<>0,0,IF(AND(ISNUMBER(H28),H28=IF(AND(F28="確定",D28="入庫",C28<=在庫一覧!$E$3),E28,0),ISNUMBER(I28),I28=IF(AND(F28="確定",D28="出庫",C28<=在庫一覧!$E$3),E28,0),ISNUMBER(J28),J28=IF(AND(F28="未確認",C28<=在庫一覧!$E$3),1,0)),0,1)))) -> 0
H29: =IF(K29="","",IF(L29<>0,NA(),IF(AND(F29="確定",D29="入庫",C29<=在庫一覧!$E$3),E29,0))) | I29: =IF(K29="","",IF(L29<>0,NA(),IF(AND(F29="確定",D29="出庫",C29<=在庫一覧!$E$3),E29,0))) | J29: =IF(K29="","",IF(L29<>0,NA(),IF(AND(F29="未確認",C29<=在庫一覧!$E$3),1,0))) | K29: =IF(COUNTA(A29:G29)=0,"",IF(NOT(AND(ISTEXT(A29),LEN(A29)=8,EXACT(LEFT(A29,4),"MOV-"),ISNUMBER(FIND(MID(A29,5,1)&"x","0x1x2x3x4x5x6x7x8x9x")),ISNUMBER(FIND(MID(A29,6,1)&"x","0x1x2x3x4x5x6x7x8x9x")),ISNUMBER(FIND(MID(A29,7,1)&"x","0x1x2x3x4x5x6x7x8x9x")),ISNUMBER(FIND(MID(A29,8,1)&"x","0x1x2x3x4x5x6x7x8x9x")))),"IDはMOV-と半角数字4桁",IF(COUNTIFS($A$8:$A$107,A29)>1,"記録IDが重複",IF(NOT(AND(ISTEXT(B29),LEN(B29)=8,EXACT(LEFT(B29,4),"SKU-"),ISNUMBER(FIND(MID(B29,5,1)&"x","0x1x2x3x4x5x6x7x8x9x")),ISNUMBER(FIND(MID(B29,6,1)&"x","0x1x2x3x4x5x6x7x8x9x")),ISNUMBER(FIND(MID(B29,7,1)&"x","0x1x2x3x4x5x6x7x8x9x")),ISNUMBER(FIND(MID(B29,8,1)&"x","0x1x2x3x4x5x6x7x8x9x")))),"品目IDはSKU-と半角数字4桁",IF(COUNTIFS(期首と基準!$A$8:$A$57,B29)<>1,"期首品目が一意に登録されていません",IF(NOT(IF(ISNUMBER(C29),AND(C29>=43831,C29<73051,C29=INT(C29)),FALSE())),"発生日は時刻なしで必須",IF(NOT(OR(D29="入庫",D29="出庫")),"入出区分を確認",IF(NOT(OR(F29="確定",F29="取消",F29="未確認")),"状態を確認",IF(AND(F29<>"未確認",NOT(IF(ISNUMBER(E29),AND(E29>=1,E29<=1000000,E29=INT(E29)),FALSE()))),"確定/取消の元数量は1〜100万個の整数で必須",IF(AND(F29="未確認",COUNTA(E29)>0),"未確認の数量は空欄",IF(NOT(IF(ISNUMBER(G29),AND(G29>=43831,G29<73051,G29=INT(G29)),FALSE())),"記録確認日は時刻なしで必須",IF(OR(C29<在庫一覧!$B$3,C29>G29,G29>在庫一覧!$H$3),"期首日≦発生日≦確認日≦基準日を確認","確認済み")))))))))))) | L29: =IF(K29="","",IF(K29="確認済み",0,1)) | M29: =IF(COUNTA(A29:G29)=0,IF(AND(K29="",L29="",H29="",I29="",J29=""),0,1),IF(NOT(AND(ISTEXT(K29),K29=IF(COUNTA(A29:G29)=0,"",IF(NOT(AND(ISTEXT(A29),LEN(A29)=8,EXACT(LEFT(A29,4),"MOV-"),ISNUMBER(FIND(MID(A29,5,1)&"x","0x1x2x3x4x5x6x7x8x9x")),ISNUMBER(FIND(MID(A29,6,1)&"x","0x1x2x3x4x5x6x7x8x9x")),ISNUMBER(FIND(MID(A29,7,1)&"x","0x1x2x3x4x5x6x7x8x9x")),ISNUMBER(FIND(MID(A29,8,1)&"x","0x1x2x3x4x5x6x7x8x9x")))),"IDはMOV-と半角数字4桁",IF(COUNTIFS($A$8:$A$107,A29)>1,"記録IDが重複",IF(NOT(AND(ISTEXT(B29),LEN(B29)=8,EXACT(LEFT(B29,4),"SKU-"),ISNUMBER(FIND(MID(B29,5,1)&"x","0x1x2x3x4x5x6x7x8x9x")),ISNUMBER(FIND(MID(B29,6,1)&"x","0x1x2x3x4x5x6x7x8x9x")),ISNUMBER(FIND(MID(B29,7,1)&"x","0x1x2x3x4x5x6x7x8x9x")),ISNUMBER(FIND(MID(B29,8,1)&"x","0x1x2x3x4x5x6x7x8x9x")))),"品目IDはSKU-と半角数字4桁",IF(COUNTIFS(期首と基準!$A$8:$A$57,B29)<>1,"期首品目が一意に登録されていません",IF(NOT(IF(ISNUMBER(C29),AND(C29>=43831,C29<73051,C29=INT(C29)),FALSE())),"発生日は時刻なしで必須",IF(NOT(OR(D29="入庫",D29="出庫")),"入出区分を確認",IF(NOT(OR(F29="確定",F29="取消",F29="未確認")),"状態を確認",IF(AND(F29<>"未確認",NOT(IF(ISNUMBER(E29),AND(E29>=1,E29<=1000000,E29=INT(E29)),FALSE()))),"確定/取消の元数量は1〜100万個の整数で必須",IF(AND(F29="未確認",COUNTA(E29)>0),"未確認の数量は空欄",IF(NOT(IF(ISNUMBER(G29),AND(G29>=43831,G29<73051,G29=INT(G29)),FALSE())),"記録確認日は時刻なしで必須",IF(OR(C29<在庫一覧!$B$3,C29>G29,G29>在庫一覧!$H$3),"期首日≦発生日≦確認日≦基準日を確認","確認済み")))))))))))),ISNUMBER(L29),L29=IF(K29="確認済み",0,1))),1,IF(L29<>0,0,IF(AND(ISNUMBER(H29),H29=IF(AND(F29="確定",D29="入庫",C29<=在庫一覧!$E$3),E29,0),ISNUMBER(I29),I29=IF(AND(F29="確定",D29="出庫",C29<=在庫一覧!$E$3),E29,0),ISNUMBER(J29),J29=IF(AND(F29="未確認",C29<=在庫一覧!$E$3),1,0)),0,1)))) -> 0
... H107: =IF(K107="","",IF(L107<>0,NA(),IF(AND(F107="確定",D107="入庫",C107<=在庫一覧!$E$3),E107,0))) | I107: =IF(K107="","",IF(L107<>0,NA(),IF(AND(F107="確定",D107="出庫",C107<=在庫一覧!$E$3),E107,0))) | J107: =IF(K107="","",IF(L107<>0,NA(),IF(AND(F107="未確認",C107<=在庫一覧!$E$3),1,0))) | K107: =IF(COUNTA(A107:G107)=0,"",IF(NOT(AND(ISTEXT(A107),LEN(A107)=8,EXACT(LEFT(A107,4),"MOV-"),ISNUMBER(FIND(MID(A107,5,1)&"x","0x1x2x3x4x5x6x7x8x9x")),ISNUMBER(FIND(MID(A107,6,1)&"x","0x1x2x3x4x5x6x7x8x9x")),ISNUMBER(FIND(MID(A107,7,1)&"x","0x1x2x3x4x5x6x7x8x9x")),ISNUMBER(FIND(MID(A107,8,1)&"x","0x1x2x3x4x5x6x7x8x9x")))),"IDはMOV-と半角数字4桁",IF(COUNTIFS($A$8:$A$107,A107)>1,"記録IDが重複",IF(NOT(AND(ISTEXT(B107),LEN(B107)=8,EXACT(LEFT(B107,4),"SKU-"),ISNUMBER(FIND(MID(B107,5,1)&"x","0x1x2x3x4x5x6x7x8x9x")),ISNUMBER(FIND(MID(B107,6,1)&"x","0x1x2x3x4x5x6x7x8x9x")),ISNUMBER(FIND(MID(B107,7,1)&"x","0x1x2x3x4x5x6x7x8x9x")),ISNUMBER(FIND(MID(B107,8,1)&"x","0x1x2x3x4x5x6x7x8x9x")))),"品目IDはSKU-と半角数字4桁",IF(COUNTIFS(期首と基準!$A$8:$A$57,B107)<>1,"期首品目が一意に登録されていません",IF(NOT(IF(ISNUMBER(C107),AND(C107>=43831,C107<73051,C107=INT(C107)),FALSE())),"発生日は時刻なしで必須",IF(NOT(OR(D107="入庫",D107="出庫")),"入出区分を確認",IF(NOT(OR(F107="確定",F107="取消",F107="未確認")),"状態を確認",IF(AND(F107<>"未確認",NOT(IF(ISNUMBER(E107),AND(E107>=1,E107<=1000000,E107=INT(E107)),FALSE()))),"確定/取消の元数量は1〜100万個の整数で必須",IF(AND(F107="未確認",COUNTA(E107)>0),"未確認の数量は空欄",IF(NOT(IF(ISNUMBER(G107),AND(G107>=43831,G107<73051,G107=INT(G107)),FALSE())),"記録確認日は時刻なしで必須",IF(OR(C107<在庫一覧!$B$3,C107>G107,G107>在庫一覧!$H$3),"期首日≦発生日≦確認日≦基準日を確認","確認済み")))))))))))) | L107: =IF(K107="","",IF(K107="確認済み",0,1)) | M107: =IF(COUNTA(A107:G107)=0,IF(AND(K107="",L107="",H107="",I107="",J107=""),0,1),IF(NOT(AND(ISTEXT(K107),K107=IF(COUNTA(A107:G107)=0,"",IF(NOT(AND(ISTEXT(A107),LEN(A107)=8,EXACT(LEFT(A107,4),"MOV-"),ISNUMBER(FIND(MID(A107,5,1)&"x","0x1x2x3x4x5x6x7x8x9x")),ISNUMBER(FIND(MID(A107,6,1)&"x","0x1x2x3x4x5x6x7x8x9x")),ISNUMBER(FIND(MID(A107,7,1)&"x","0x1x2x3x4x5x6x7x8x9x")),ISNUMBER(FIND(MID(A107,8,1)&"x","0x1x2x3x4x5x6x7x8x9x")))),"IDはMOV-と半角数字4桁",IF(COUNTIFS($A$8:$A$107,A107)>1,"記録IDが重複",IF(NOT(AND(ISTEXT(B107),LEN(B107)=8,EXACT(LEFT(B107,4),"SKU-"),ISNUMBER(FIND(MID(B107,5,1)&"x","0x1x2x3x4x5x6x7x8x9x")),ISNUMBER(FIND(MID(B107,6,1)&"x","0x1x2x3x4x5x6x7x8x9x")),ISNUMBER(FIND(MID(B107,7,1)&"x","0x1x2x3x4x5x6x7x8x9x")),ISNUMBER(FIND(MID(B107,8,1)&"x","0x1x2x3x4x5x6x7x8x9x")))),"品目IDはSKU-と半角数字4桁",IF(COUNTIFS(期首と基準!$A$8:$A$57,B107)<>1,"期首品目が一意に登録されていません",IF(NOT(IF(ISNUMBER(C107),AND(C107>=43831,C107<73051,C107=INT(C107)),FALSE())),"発生日は時刻なしで必須",IF(NOT(OR(D107="入庫",D107="出庫")),"入出区分を確認",IF(NOT(OR(F107="確定",F107="取消",F107="未確認")),"状態を確認",IF(AND(F107<>"未確認",NOT(IF(ISNUMBER(E107),AND(E107>=1,E107<=1000000,E107=INT(E107)),FALSE()))),"確定/取消の元数量は1〜100万個の整数で必須",IF(AND(F107="未確認",COUNTA(E107)>0),"未確認の数量は空欄",IF(NOT(IF(ISNUMBER(G107),AND(G107>=43831,G107<73051,G107=INT(G107)),FALSE())),"記録確認日は時刻なしで必須",IF(OR(C107<在庫一覧!$B$3,C107>G107,G107>在庫一覧!$H$3),"期首日≦発生日≦確認日≦基準日を確認","確認済み")))))))))))),ISNUMBER(L107),L107=IF(K107="確認済み",0,1))),1,IF(L107<>0,0,IF(AND(ISNUMBER(H107),H107=IF(AND(F107="確定",D107="入庫",C107<=在庫一覧!$E$3),E107,0),ISNUMBER(I107),I107=IF(AND(F107="確定",D107="出庫",C107<=在庫一覧!$E$3),E107,0),ISNUMBER(J107),J107=IF(AND(F107="未確認",C107<=在庫一覧!$E$3),1,0)),0,1)))) -> 0
