Workbook

Sheet 確認一覧
A2: 請求書の送付と回収
A3: 基準日 | B3: 46309 | D3: =IF(AND(ISNUMBER(B3),B3>=43831,B3<=73050,B3=INT(B3)),"確認済み","基準日を確認") -> 確認済み | F3: 入力要確認（件） | H3: =SUM(請求書台帳!M8:M57) -> 0
A4: 対象請求額（円） | B4: =IF(AND($D$3="確認済み",$H$3=0),SUM(C8:C57),NA()) -> 350000 | D4: 入金累計（円） | E4: =IF(AND($D$3="確認済み",$H$3=0),SUMIFS(請求書台帳!G8:G57,請求書台帳!B8:B57,"<="&$B$3,請求書台帳!L8:L57,"確認済み"),NA()) -> 160000 | G4: 未回収（円） | H4: =IF(AND($D$3="確認済み",$H$3=0),SUMIFS(D8:D57,D8:D57,">0"),NA()) -> 190000
A5: 未送付（件） | B5: =IF(AND($D$3="確認済み",$H$3=0),COUNTIFS(F8:F57,"未送付"),NA()) -> 1 | D5: 期限超過（円） | E5: =IF(AND($D$3="確認済み",$H$3=0),SUMIFS(D8:D57,H8:H57,">0",D8:D57,">0"),NA()) -> 60000 | G5: 過入金（円） | H5: =IF(AND($D$3="確認済み",$H$3=0),-SUMIFS(D8:D57,D8:D57,"<0"),NA()) -> 0
A6: 7日以内期日（件） | B6: =IF(AND($D$3="確認済み",$H$3=0),COUNTIFS(E8:E57,">="&$B$3,E8:E57,"<="&($B$3+7),D8:D57,">0"),NA()) -> 2 | D6: 対象請求（件） | E6: =IF(AND($D$3="確認済み",$H$3=0),COUNTIFS(請求書台帳!B8:B57,"<="&$B$3,請求書台帳!L8:L57,"確認済み"),NA()) -> 5 | G6: 合計差額（円） | H6: =IF(AND($D$3="確認済み",$H$3=0),B4-E4-H4+H5,NA()) -> 0
A7: 請求ID | B7: 取引先 | C7: 請求額（円） | D7: 未回収（円） | E7: 入金期日 | F7: 送付状況 | G7: 回収状況 | H7: 超過日数
A8: =IF(請求書台帳!L8="","",請求書台帳!A8) -> INV-0001 | B8: =IF(請求書台帳!L8="","",請求書台帳!C8) -> 架空商店A | C8: =IF(請求書台帳!L8="","",IF(NOT(AND($D$3="確認済み",$H$3=0)),NA(),IF(請求書台帳!B8>$B$3,"",請求書台帳!E8))) -> 100000 | D8: =IF(請求書台帳!L8="","",請求書台帳!I8) -> 0 | E8: =IF(請求書台帳!L8="","",請求書台帳!D8) -> 46305 | F8: =IF(請求書台帳!L8="","",IF(NOT(AND($D$3="確認済み",$H$3=0)),"入力を確認",IF(請求書台帳!B8>$B$3,"基準日より後",IF(OR(請求書台帳!F8="",請求書台帳!F8>$B$3),"未送付","送付済")))) -> 送付済 | G8: =IF(請求書台帳!L8="","",請求書台帳!K8) -> 入金済 | H8: =IF(請求書台帳!L8="","",請求書台帳!J8) -> 0
A9: =IF(請求書台帳!L9="","",請求書台帳!A9) -> INV-0002 | B9: =IF(請求書台帳!L9="","",請求書台帳!C9) -> 架空商店B | C9: =IF(請求書台帳!L9="","",IF(NOT(AND($D$3="確認済み",$H$3=0)),NA(),IF(請求書台帳!B9>$B$3,"",請求書台帳!E9))) -> 120000 | D9: =IF(請求書台帳!L9="","",請求書台帳!I9) -> 60000 | E9: =IF(請求書台帳!L9="","",請求書台帳!D9) -> 46305 | F9: =IF(請求書台帳!L9="","",IF(NOT(AND($D$3="確認済み",$H$3=0)),"入力を確認",IF(請求書台帳!B9>$B$3,"基準日より後",IF(OR(請求書台帳!F9="",請求書台帳!F9>$B$3),"未送付","送付済")))) -> 送付済 | G9: =IF(請求書台帳!L9="","",請求書台帳!K9) -> 期限超過・一部入金 | H9: =IF(請求書台帳!L9="","",請求書台帳!J9) -> 4
A10: =IF(請求書台帳!L10="","",請求書台帳!A10) -> INV-0003 | B10: =IF(請求書台帳!L10="","",請求書台帳!C10) -> 架空商店C | C10: =IF(請求書台帳!L10="","",IF(NOT(AND($D$3="確認済み",$H$3=0)),NA(),IF(請求書台帳!B10>$B$3,"",請求書台帳!E10))) -> 80000 | D10: =IF(請求書台帳!L10="","",請求書台帳!I10) -> 80000 | E10: =IF(請求書台帳!L10="","",請求書台帳!D10) -> 46309 | F10: =IF(請求書台帳!L10="","",IF(NOT(AND($D$3="確認済み",$H$3=0)),"入力を確認",IF(請求書台帳!B10>$B$3,"基準日より後",IF(OR(請求書台帳!F10="",請求書台帳!F10>$B$3),"未送付","送付済")))) -> 未送付 | G10: =IF(請求書台帳!L10="","",請求書台帳!K10) -> 未入金 | H10: =IF(請求書台帳!L10="","",請求書台帳!J10) -> 0
A11: =IF(請求書台帳!L11="","",請求書台帳!A11) -> INV-0004 | B11: =IF(請求書台帳!L11="","",請求書台帳!C11) -> 架空商店D | C11: =IF(請求書台帳!L11="","",IF(NOT(AND($D$3="確認済み",$H$3=0)),NA(),IF(請求書台帳!B11>$B$3,"",請求書台帳!E11))) -> 50000 | D11: =IF(請求書台帳!L11="","",請求書台帳!I11) -> 50000 | E11: =IF(請求書台帳!L11="","",請求書台帳!D11) -> 46315 | F11: =IF(請求書台帳!L11="","",IF(NOT(AND($D$3="確認済み",$H$3=0)),"入力を確認",IF(請求書台帳!B11>$B$3,"基準日より後",IF(OR(請求書台帳!F11="",請求書台帳!F11>$B$3),"未送付","送付済")))) -> 送付済 | G11: =IF(請求書台帳!L11="","",請求書台帳!K11) -> 未入金 | H11: =IF(請求書台帳!L11="","",請求書台帳!J11) -> 0
A12: =IF(請求書台帳!L12="","",請求書台帳!A12) -> INV-0005 | B12: =IF(請求書台帳!L12="","",請求書台帳!C12) -> 架空商店E | C12: =IF(請求書台帳!L12="","",IF(NOT(AND($D$3="確認済み",$H$3=0)),NA(),IF(請求書台帳!B12>$B$3,"",請求書台帳!E12))) -> 0 | D12: =IF(請求書台帳!L12="","",請求書台帳!I12) -> 0 | E12: =IF(請求書台帳!L12="","",請求書台帳!D12) -> 46307 | F12: =IF(請求書台帳!L12="","",IF(NOT(AND($D$3="確認済み",$H$3=0)),"入力を確認",IF(請求書台帳!B12>$B$3,"基準日より後",IF(OR(請求書台帳!F12="",請求書台帳!F12>$B$3),"未送付","送付済")))) -> 送付済 | G12: =IF(請求書台帳!L12="","",請求書台帳!K12) -> 入金不要 | H12: =IF(請求書台帳!L12="","",請求書台帳!J12) -> 0
A13: =IF(請求書台帳!L13="","",請求書台帳!A13) -> INV-0006 | B13: =IF(請求書台帳!L13="","",請求書台帳!C13) -> 架空商店F | C13: =IF(請求書台帳!L13="","",IF(NOT(AND($D$3="確認済み",$H$3=0)),NA(),IF(請求書台帳!B13>$B$3,"",請求書台帳!E13))) | D13: =IF(請求書台帳!L13="","",請求書台帳!I13) | E13: =IF(請求書台帳!L13="","",請求書台帳!D13) -> 46325 | F13: =IF(請求書台帳!L13="","",IF(NOT(AND($D$3="確認済み",$H$3=0)),"入力を確認",IF(請求書台帳!B13>$B$3,"基準日より後",IF(OR(請求書台帳!F13="",請求書台帳!F13>$B$3),"未送付","送付済")))) -> 基準日より後 | G13: =IF(請求書台帳!L13="","",請求書台帳!K13) -> 基準日より後 | H13: =IF(請求書台帳!L13="","",請求書台帳!J13)
A14: =IF(請求書台帳!L14="","",請求書台帳!A14) | B14: =IF(請求書台帳!L14="","",請求書台帳!C14) | C14: =IF(請求書台帳!L14="","",IF(NOT(AND($D$3="確認済み",$H$3=0)),NA(),IF(請求書台帳!B14>$B$3,"",請求書台帳!E14))) | D14: =IF(請求書台帳!L14="","",請求書台帳!I14) | E14: =IF(請求書台帳!L14="","",請求書台帳!D14) | F14: =IF(請求書台帳!L14="","",IF(NOT(AND($D$3="確認済み",$H$3=0)),"入力を確認",IF(請求書台帳!B14>$B$3,"基準日より後",IF(OR(請求書台帳!F14="",請求書台帳!F14>$B$3),"未送付","送付済")))) | G14: =IF(請求書台帳!L14="","",請求書台帳!K14) | H14: =IF(請求書台帳!L14="","",請求書台帳!J14)
A15: =IF(請求書台帳!L15="","",請求書台帳!A15) | B15: =IF(請求書台帳!L15="","",請求書台帳!C15) | C15: =IF(請求書台帳!L15="","",IF(NOT(AND($D$3="確認済み",$H$3=0)),NA(),IF(請求書台帳!B15>$B$3,"",請求書台帳!E15))) | D15: =IF(請求書台帳!L15="","",請求書台帳!I15) | E15: =IF(請求書台帳!L15="","",請求書台帳!D15) | F15: =IF(請求書台帳!L15="","",IF(NOT(AND($D$3="確認済み",$H$3=0)),"入力を確認",IF(請求書台帳!B15>$B$3,"基準日より後",IF(OR(請求書台帳!F15="",請求書台帳!F15>$B$3),"未送付","送付済")))) | G15: =IF(請求書台帳!L15="","",請求書台帳!K15) | H15: =IF(請求書台帳!L15="","",請求書台帳!J15)
A16: =IF(請求書台帳!L16="","",請求書台帳!A16) | B16: =IF(請求書台帳!L16="","",請求書台帳!C16) | C16: =IF(請求書台帳!L16="","",IF(NOT(AND($D$3="確認済み",$H$3=0)),NA(),IF(請求書台帳!B16>$B$3,"",請求書台帳!E16))) | D16: =IF(請求書台帳!L16="","",請求書台帳!I16) | E16: =IF(請求書台帳!L16="","",請求書台帳!D16) | F16: =IF(請求書台帳!L16="","",IF(NOT(AND($D$3="確認済み",$H$3=0)),"入力を確認",IF(請求書台帳!B16>$B$3,"基準日より後",IF(OR(請求書台帳!F16="",請求書台帳!F16>$B$3),"未送付","送付済")))) | G16: =IF(請求書台帳!L16="","",請求書台帳!K16) | H16: =IF(請求書台帳!L16="","",請求書台帳!J16)
A17: =IF(請求書台帳!L17="","",請求書台帳!A17) | B17: =IF(請求書台帳!L17="","",請求書台帳!C17) | C17: =IF(請求書台帳!L17="","",IF(NOT(AND($D$3="確認済み",$H$3=0)),NA(),IF(請求書台帳!B17>$B$3,"",請求書台帳!E17))) | D17: =IF(請求書台帳!L17="","",請求書台帳!I17) | E17: =IF(請求書台帳!L17="","",請求書台帳!D17) | F17: =IF(請求書台帳!L17="","",IF(NOT(AND($D$3="確認済み",$H$3=0)),"入力を確認",IF(請求書台帳!B17>$B$3,"基準日より後",IF(OR(請求書台帳!F17="",請求書台帳!F17>$B$3),"未送付","送付済")))) | G17: =IF(請求書台帳!L17="","",請求書台帳!K17) | H17: =IF(請求書台帳!L17="","",請求書台帳!J17)
A18: =IF(請求書台帳!L18="","",請求書台帳!A18) | B18: =IF(請求書台帳!L18="","",請求書台帳!C18) | C18: =IF(請求書台帳!L18="","",IF(NOT(AND($D$3="確認済み",$H$3=0)),NA(),IF(請求書台帳!B18>$B$3,"",請求書台帳!E18))) | D18: =IF(請求書台帳!L18="","",請求書台帳!I18) | E18: =IF(請求書台帳!L18="","",請求書台帳!D18) | F18: =IF(請求書台帳!L18="","",IF(NOT(AND($D$3="確認済み",$H$3=0)),"入力を確認",IF(請求書台帳!B18>$B$3,"基準日より後",IF(OR(請求書台帳!F18="",請求書台帳!F18>$B$3),"未送付","送付済")))) | G18: =IF(請求書台帳!L18="","",請求書台帳!K18) | H18: =IF(請求書台帳!L18="","",請求書台帳!J18)
A19: =IF(請求書台帳!L19="","",請求書台帳!A19) | B19: =IF(請求書台帳!L19="","",請求書台帳!C19) | C19: =IF(請求書台帳!L19="","",IF(NOT(AND($D$3="確認済み",$H$3=0)),NA(),IF(請求書台帳!B19>$B$3,"",請求書台帳!E19))) | D19: =IF(請求書台帳!L19="","",請求書台帳!I19) | E19: =IF(請求書台帳!L19="","",請求書台帳!D19) | F19: =IF(請求書台帳!L19="","",IF(NOT(AND($D$3="確認済み",$H$3=0)),"入力を確認",IF(請求書台帳!B19>$B$3,"基準日より後",IF(OR(請求書台帳!F19="",請求書台帳!F19>$B$3),"未送付","送付済")))) | G19: =IF(請求書台帳!L19="","",請求書台帳!K19) | H19: =IF(請求書台帳!L19="","",請求書台帳!J19)
... A57: =IF(請求書台帳!L57="","",請求書台帳!A57) | B57: =IF(請求書台帳!L57="","",請求書台帳!C57) | C57: =IF(請求書台帳!L57="","",IF(NOT(AND($D$3="確認済み",$H$3=0)),NA(),IF(請求書台帳!B57>$B$3,"",請求書台帳!E57))) | D57: =IF(請求書台帳!L57="","",請求書台帳!I57) | E57: =IF(請求書台帳!L57="","",請求書台帳!D57) | F57: =IF(請求書台帳!L57="","",IF(NOT(AND($D$3="確認済み",$H$3=0)),"入力を確認",IF(請求書台帳!B57>$B$3,"基準日より後",IF(OR(請求書台帳!F57="",請求書台帳!F57>$B$3),"未送付","送付済")))) | G57: =IF(請求書台帳!L57="","",請求書台帳!K57) | H57: =IF(請求書台帳!L57="","",請求書台帳!J57)

Sheet 請求書台帳
A2: 請求書台帳
A3: 黄色のA〜H列へ1請求1行。基準日までの入金累計と最終入金日を確認します。最大50件。
A5: 請求IDはINV-と半角数字4桁。未送付日は空欄、入金なしは0円・最終入金日を空欄にします。
A7: 請求ID | B7: 発行日 | C7: 取引先 | D7: 入金期日 | E7: 請求額（円） | F7: 送付日 | G7: 入金累計（円） | H7: 最終入金日 | I7: 残額（円） | J7: 超過日数 | K7: 回収状況 | L7: 入力の確認 | M7: 要確認
A8: INV-0001 | B8: 46296 | C8: 架空商店A | D8: 46305 | E8: 100000 | F8: 46297 | G8: 100000 | H8: 46305 | I8: =IF(L8="","",IF(NOT(AND(L8="確認済み",確認一覧!$D$3="確認済み")),NA(),IF(B8>確認一覧!$B$3,"",E8-G8))) -> 0 | J8: =IF(L8="","",IF(NOT(AND(L8="確認済み",確認一覧!$D$3="確認済み")),NA(),IF(B8>確認一覧!$B$3,"",IF(I8>0,MAX(0,確認一覧!$B$3-D8),0)))) -> 0 | K8: =IF(L8="","",IF(NOT(AND(L8="確認済み",確認一覧!$D$3="確認済み")),"入力を確認",IF(B8>確認一覧!$B$3,"基準日より後",IF(I8<0,"過入金",IF(I8=0,IF(E8=0,"入金不要","入金済"),IF(J8>0,IF(G8>0,"期限超過・一部入金","期限超過"),IF(G8>0,"一部入金","未入金"))))))) -> 入金済 | L8: =IF(COUNTA(A8:H8)=0,"",IF(NOT(AND(ISTEXT(A8),LEN(A8)=8,EXACT(LEFT(A8,4),"INV-"),ISNUMBER(FIND(MID(A8,5,1)&"x","0x1x2x3x4x5x6x7x8x9x")),ISNUMBER(FIND(MID(A8,6,1)&"x","0x1x2x3x4x5x6x7x8x9x")),ISNUMBER(FIND(MID(A8,7,1)&"x","0x1x2x3x4x5x6x7x8x9x")),ISNUMBER(FIND(MID(A8,8,1)&"x","0x1x2x3x4x5x6x7x8x9x")))),"請求IDの形式を確認",IF(COUNTIFS($A$8:$A$57,A8)<>1,"請求ID重複",IF(NOT(AND(ISNUMBER(B8),B8>=43831,B8<=73050,B8=INT(B8))),"発行日を確認",IF(OR(NOT(ISTEXT(C8)),C8="",LEN(C8)>30),"取引先を確認",IF(NOT(AND(ISNUMBER(D8),D8>=43831,D8<=73050,D8=INT(D8))),"期日を確認",IF(D8<B8,"期日が発行日より前",IF(NOT(AND(ISNUMBER(E8),E8>=0,E8<=1000000000,E8=INT(E8))),"請求額を確認",IF(AND(F8<>"",NOT(AND(ISNUMBER(F8),F8>=43831,F8<=73050,F8=INT(F8)))),"送付日を確認",IF(AND(F8<>"",F8<B8),"送付日が発行日より前",IF(NOT(AND(ISNUMBER(G8),G8>=0,G8<=1000000000,G8=INT(G8))),"入金累計を確認",IF(AND(G8=0,H8<>""),"入金0の最終日は空欄",IF(AND(G8>0,NOT(AND(ISNUMBER(H8),H8>=43831,H8<=73050,H8=INT(H8)))),"最終入金日を確認",IF(AND(G8>0,OR(H8<B8,H8>確認一覧!$B$3)),"入金日と基準日を確認","確認済み")))))))))))))) -> 確認済み | M8: =IF(L8="","",IF(L8="確認済み",0,1)) -> 0
A9: INV-0002 | B9: 46297 | C9: 架空商店B | D9: 46305 | E9: 120000 | F9: 46298 | G9: 60000 | H9: 46304 | I9: =IF(L9="","",IF(NOT(AND(L9="確認済み",確認一覧!$D$3="確認済み")),NA(),IF(B9>確認一覧!$B$3,"",E9-G9))) -> 60000 | J9: =IF(L9="","",IF(NOT(AND(L9="確認済み",確認一覧!$D$3="確認済み")),NA(),IF(B9>確認一覧!$B$3,"",IF(I9>0,MAX(0,確認一覧!$B$3-D9),0)))) -> 4 | K9: =IF(L9="","",IF(NOT(AND(L9="確認済み",確認一覧!$D$3="確認済み")),"入力を確認",IF(B9>確認一覧!$B$3,"基準日より後",IF(I9<0,"過入金",IF(I9=0,IF(E9=0,"入金不要","入金済"),IF(J9>0,IF(G9>0,"期限超過・一部入金","期限超過"),IF(G9>0,"一部入金","未入金"))))))) -> 期限超過・一部入金 | L9: =IF(COUNTA(A9:H9)=0,"",IF(NOT(AND(ISTEXT(A9),LEN(A9)=8,EXACT(LEFT(A9,4),"INV-"),ISNUMBER(FIND(MID(A9,5,1)&"x","0x1x2x3x4x5x6x7x8x9x")),ISNUMBER(FIND(MID(A9,6,1)&"x","0x1x2x3x4x5x6x7x8x9x")),ISNUMBER(FIND(MID(A9,7,1)&"x","0x1x2x3x4x5x6x7x8x9x")),ISNUMBER(FIND(MID(A9,8,1)&"x","0x1x2x3x4x5x6x7x8x9x")))),"請求IDの形式を確認",IF(COUNTIFS($A$8:$A$57,A9)<>1,"請求ID重複",IF(NOT(AND(ISNUMBER(B9),B9>=43831,B9<=73050,B9=INT(B9))),"発行日を確認",IF(OR(NOT(ISTEXT(C9)),C9="",LEN(C9)>30),"取引先を確認",IF(NOT(AND(ISNUMBER(D9),D9>=43831,D9<=73050,D9=INT(D9))),"期日を確認",IF(D9<B9,"期日が発行日より前",IF(NOT(AND(ISNUMBER(E9),E9>=0,E9<=1000000000,E9=INT(E9))),"請求額を確認",IF(AND(F9<>"",NOT(AND(ISNUMBER(F9),F9>=43831,F9<=73050,F9=INT(F9)))),"送付日を確認",IF(AND(F9<>"",F9<B9),"送付日が発行日より前",IF(NOT(AND(ISNUMBER(G9),G9>=0,G9<=1000000000,G9=INT(G9))),"入金累計を確認",IF(AND(G9=0,H9<>""),"入金0の最終日は空欄",IF(AND(G9>0,NOT(AND(ISNUMBER(H9),H9>=43831,H9<=73050,H9=INT(H9)))),"最終入金日を確認",IF(AND(G9>0,OR(H9<B9,H9>確認一覧!$B$3)),"入金日と基準日を確認","確認済み")))))))))))))) -> 確認済み | M9: =IF(L9="","",IF(L9="確認済み",0,1)) -> 0
A10: INV-0003 | B10: 46300 | C10: 架空商店C | D10: 46309 | E10: 80000 | G10: 0 | I10: =IF(L10="","",IF(NOT(AND(L10="確認済み",確認一覧!$D$3="確認済み")),NA(),IF(B10>確認一覧!$B$3,"",E10-G10))) -> 80000 | J10: =IF(L10="","",IF(NOT(AND(L10="確認済み",確認一覧!$D$3="確認済み")),NA(),IF(B10>確認一覧!$B$3,"",IF(I10>0,MAX(0,確認一覧!$B$3-D10),0)))) -> 0 | K10: =IF(L10="","",IF(NOT(AND(L10="確認済み",確認一覧!$D$3="確認済み")),"入力を確認",IF(B10>確認一覧!$B$3,"基準日より後",IF(I10<0,"過入金",IF(I10=0,IF(E10=0,"入金不要","入金済"),IF(J10>0,IF(G10>0,"期限超過・一部入金","期限超過"),IF(G10>0,"一部入金","未入金"))))))) -> 未入金 | L10: =IF(COUNTA(A10:H10)=0,"",IF(NOT(AND(ISTEXT(A10),LEN(A10)=8,EXACT(LEFT(A10,4),"INV-"),ISNUMBER(FIND(MID(A10,5,1)&"x","0x1x2x3x4x5x6x7x8x9x")),ISNUMBER(FIND(MID(A10,6,1)&"x","0x1x2x3x4x5x6x7x8x9x")),ISNUMBER(FIND(MID(A10,7,1)&"x","0x1x2x3x4x5x6x7x8x9x")),ISNUMBER(FIND(MID(A10,8,1)&"x","0x1x2x3x4x5x6x7x8x9x")))),"請求IDの形式を確認",IF(COUNTIFS($A$8:$A$57,A10)<>1,"請求ID重複",IF(NOT(AND(ISNUMBER(B10),B10>=43831,B10<=73050,B10=INT(B10))),"発行日を確認",IF(OR(NOT(ISTEXT(C10)),C10="",LEN(C10)>30),"取引先を確認",IF(NOT(AND(ISNUMBER(D10),D10>=43831,D10<=73050,D10=INT(D10))),"期日を確認",IF(D10<B10,"期日が発行日より前",IF(NOT(AND(ISNUMBER(E10),E10>=0,E10<=1000000000,E10=INT(E10))),"請求額を確認",IF(AND(F10<>"",NOT(AND(ISNUMBER(F10),F10>=43831,F10<=73050,F10=INT(F10)))),"送付日を確認",IF(AND(F10<>"",F10<B10),"送付日が発行日より前",IF(NOT(AND(ISNUMBER(G10),G10>=0,G10<=1000000000,G10=INT(G10))),"入金累計を確認",IF(AND(G10=0,H10<>""),"入金0の最終日は空欄",IF(AND(G10>0,NOT(AND(ISNUMBER(H10),H10>=43831,H10<=73050,H10=INT(H10)))),"最終入金日を確認",IF(AND(G10>0,OR(H10<B10,H10>確認一覧!$B$3)),"入金日と基準日を確認","確認済み")))))))))))))) -> 確認済み | M10: =IF(L10="","",IF(L10="確認済み",0,1)) -> 0
A11: INV-0004 | B11: 46301 | C11: 架空商店D | D11: 46315 | E11: 50000 | F11: 46302 | G11: 0 | I11: =IF(L11="","",IF(NOT(AND(L11="確認済み",確認一覧!$D$3="確認済み")),NA(),IF(B11>確認一覧!$B$3,"",E11-G11))) -> 50000 | J11: =IF(L11="","",IF(NOT(AND(L11="確認済み",確認一覧!$D$3="確認済み")),NA(),IF(B11>確認一覧!$B$3,"",IF(I11>0,MAX(0,確認一覧!$B$3-D11),0)))) -> 0 | K11: =IF(L11="","",IF(NOT(AND(L11="確認済み",確認一覧!$D$3="確認済み")),"入力を確認",IF(B11>確認一覧!$B$3,"基準日より後",IF(I11<0,"過入金",IF(I11=0,IF(E11=0,"入金不要","入金済"),IF(J11>0,IF(G11>0,"期限超過・一部入金","期限超過"),IF(G11>0,"一部入金","未入金"))))))) -> 未入金 | L11: =IF(COUNTA(A11:H11)=0,"",IF(NOT(AND(ISTEXT(A11),LEN(A11)=8,EXACT(LEFT(A11,4),"INV-"),ISNUMBER(FIND(MID(A11,5,1)&"x","0x1x2x3x4x5x6x7x8x9x")),ISNUMBER(FIND(MID(A11,6,1)&"x","0x1x2x3x4x5x6x7x8x9x")),ISNUMBER(FIND(MID(A11,7,1)&"x","0x1x2x3x4x5x6x7x8x9x")),ISNUMBER(FIND(MID(A11,8,1)&"x","0x1x2x3x4x5x6x7x8x9x")))),"請求IDの形式を確認",IF(COUNTIFS($A$8:$A$57,A11)<>1,"請求ID重複",IF(NOT(AND(ISNUMBER(B11),B11>=43831,B11<=73050,B11=INT(B11))),"発行日を確認",IF(OR(NOT(ISTEXT(C11)),C11="",LEN(C11)>30),"取引先を確認",IF(NOT(AND(ISNUMBER(D11),D11>=43831,D11<=73050,D11=INT(D11))),"期日を確認",IF(D11<B11,"期日が発行日より前",IF(NOT(AND(ISNUMBER(E11),E11>=0,E11<=1000000000,E11=INT(E11))),"請求額を確認",IF(AND(F11<>"",NOT(AND(ISNUMBER(F11),F11>=43831,F11<=73050,F11=INT(F11)))),"送付日を確認",IF(AND(F11<>"",F11<B11),"送付日が発行日より前",IF(NOT(AND(ISNUMBER(G11),G11>=0,G11<=1000000000,G11=INT(G11))),"入金累計を確認",IF(AND(G11=0,H11<>""),"入金0の最終日は空欄",IF(AND(G11>0,NOT(AND(ISNUMBER(H11),H11>=43831,H11<=73050,H11=INT(H11)))),"最終入金日を確認",IF(AND(G11>0,OR(H11<B11,H11>確認一覧!$B$3)),"入金日と基準日を確認","確認済み")))))))))))))) -> 確認済み | M11: =IF(L11="","",IF(L11="確認済み",0,1)) -> 0
A12: INV-0005 | B12: 46303 | C12: 架空商店E | D12: 46307 | E12: 0 | F12: 46304 | G12: 0 | I12: =IF(L12="","",IF(NOT(AND(L12="確認済み",確認一覧!$D$3="確認済み")),NA(),IF(B12>確認一覧!$B$3,"",E12-G12))) -> 0 | J12: =IF(L12="","",IF(NOT(AND(L12="確認済み",確認一覧!$D$3="確認済み")),NA(),IF(B12>確認一覧!$B$3,"",IF(I12>0,MAX(0,確認一覧!$B$3-D12),0)))) -> 0 | K12: =IF(L12="","",IF(NOT(AND(L12="確認済み",確認一覧!$D$3="確認済み")),"入力を確認",IF(B12>確認一覧!$B$3,"基準日より後",IF(I12<0,"過入金",IF(I12=0,IF(E12=0,"入金不要","入金済"),IF(J12>0,IF(G12>0,"期限超過・一部入金","期限超過"),IF(G12>0,"一部入金","未入金"))))))) -> 入金不要 | L12: =IF(COUNTA(A12:H12)=0,"",IF(NOT(AND(ISTEXT(A12),LEN(A12)=8,EXACT(LEFT(A12,4),"INV-"),ISNUMBER(FIND(MID(A12,5,1)&"x","0x1x2x3x4x5x6x7x8x9x")),ISNUMBER(FIND(MID(A12,6,1)&"x","0x1x2x3x4x5x6x7x8x9x")),ISNUMBER(FIND(MID(A12,7,1)&"x","0x1x2x3x4x5x6x7x8x9x")),ISNUMBER(FIND(MID(A12,8,1)&"x","0x1x2x3x4x5x6x7x8x9x")))),"請求IDの形式を確認",IF(COUNTIFS($A$8:$A$57,A12)<>1,"請求ID重複",IF(NOT(AND(ISNUMBER(B12),B12>=43831,B12<=73050,B12=INT(B12))),"発行日を確認",IF(OR(NOT(ISTEXT(C12)),C12="",LEN(C12)>30),"取引先を確認",IF(NOT(AND(ISNUMBER(D12),D12>=43831,D12<=73050,D12=INT(D12))),"期日を確認",IF(D12<B12,"期日が発行日より前",IF(NOT(AND(ISNUMBER(E12),E12>=0,E12<=1000000000,E12=INT(E12))),"請求額を確認",IF(AND(F12<>"",NOT(AND(ISNUMBER(F12),F12>=43831,F12<=73050,F12=INT(F12)))),"送付日を確認",IF(AND(F12<>"",F12<B12),"送付日が発行日より前",IF(NOT(AND(ISNUMBER(G12),G12>=0,G12<=1000000000,G12=INT(G12))),"入金累計を確認",IF(AND(G12=0,H12<>""),"入金0の最終日は空欄",IF(AND(G12>0,NOT(AND(ISNUMBER(H12),H12>=43831,H12<=73050,H12=INT(H12)))),"最終入金日を確認",IF(AND(G12>0,OR(H12<B12,H12>確認一覧!$B$3)),"入金日と基準日を確認","確認済み")))))))))))))) -> 確認済み | M12: =IF(L12="","",IF(L12="確認済み",0,1)) -> 0
A13: INV-0006 | B13: 46311 | C13: 架空商店F | D13: 46325 | E13: 30000 | G13: 0 | I13: =IF(L13="","",IF(NOT(AND(L13="確認済み",確認一覧!$D$3="確認済み")),NA(),IF(B13>確認一覧!$B$3,"",E13-G13))) | J13: =IF(L13="","",IF(NOT(AND(L13="確認済み",確認一覧!$D$3="確認済み")),NA(),IF(B13>確認一覧!$B$3,"",IF(I13>0,MAX(0,確認一覧!$B$3-D13),0)))) | K13: =IF(L13="","",IF(NOT(AND(L13="確認済み",確認一覧!$D$3="確認済み")),"入力を確認",IF(B13>確認一覧!$B$3,"基準日より後",IF(I13<0,"過入金",IF(I13=0,IF(E13=0,"入金不要","入金済"),IF(J13>0,IF(G13>0,"期限超過・一部入金","期限超過"),IF(G13>0,"一部入金","未入金"))))))) -> 基準日より後 | L13: =IF(COUNTA(A13:H13)=0,"",IF(NOT(AND(ISTEXT(A13),LEN(A13)=8,EXACT(LEFT(A13,4),"INV-"),ISNUMBER(FIND(MID(A13,5,1)&"x","0x1x2x3x4x5x6x7x8x9x")),ISNUMBER(FIND(MID(A13,6,1)&"x","0x1x2x3x4x5x6x7x8x9x")),ISNUMBER(FIND(MID(A13,7,1)&"x","0x1x2x3x4x5x6x7x8x9x")),ISNUMBER(FIND(MID(A13,8,1)&"x","0x1x2x3x4x5x6x7x8x9x")))),"請求IDの形式を確認",IF(COUNTIFS($A$8:$A$57,A13)<>1,"請求ID重複",IF(NOT(AND(ISNUMBER(B13),B13>=43831,B13<=73050,B13=INT(B13))),"発行日を確認",IF(OR(NOT(ISTEXT(C13)),C13="",LEN(C13)>30),"取引先を確認",IF(NOT(AND(ISNUMBER(D13),D13>=43831,D13<=73050,D13=INT(D13))),"期日を確認",IF(D13<B13,"期日が発行日より前",IF(NOT(AND(ISNUMBER(E13),E13>=0,E13<=1000000000,E13=INT(E13))),"請求額を確認",IF(AND(F13<>"",NOT(AND(ISNUMBER(F13),F13>=43831,F13<=73050,F13=INT(F13)))),"送付日を確認",IF(AND(F13<>"",F13<B13),"送付日が発行日より前",IF(NOT(AND(ISNUMBER(G13),G13>=0,G13<=1000000000,G13=INT(G13))),"入金累計を確認",IF(AND(G13=0,H13<>""),"入金0の最終日は空欄",IF(AND(G13>0,NOT(AND(ISNUMBER(H13),H13>=43831,H13<=73050,H13=INT(H13)))),"最終入金日を確認",IF(AND(G13>0,OR(H13<B13,H13>確認一覧!$B$3)),"入金日と基準日を確認","確認済み")))))))))))))) -> 確認済み | M13: =IF(L13="","",IF(L13="確認済み",0,1)) -> 0
I14: =IF(L14="","",IF(NOT(AND(L14="確認済み",確認一覧!$D$3="確認済み")),NA(),IF(B14>確認一覧!$B$3,"",E14-G14))) | J14: =IF(L14="","",IF(NOT(AND(L14="確認済み",確認一覧!$D$3="確認済み")),NA(),IF(B14>確認一覧!$B$3,"",IF(I14>0,MAX(0,確認一覧!$B$3-D14),0)))) | K14: =IF(L14="","",IF(NOT(AND(L14="確認済み",確認一覧!$D$3="確認済み")),"入力を確認",IF(B14>確認一覧!$B$3,"基準日より後",IF(I14<0,"過入金",IF(I14=0,IF(E14=0,"入金不要","入金済"),IF(J14>0,IF(G14>0,"期限超過・一部入金","期限超過"),IF(G14>0,"一部入金","未入金"))))))) | L14: =IF(COUNTA(A14:H14)=0,"",IF(NOT(AND(ISTEXT(A14),LEN(A14)=8,EXACT(LEFT(A14,4),"INV-"),ISNUMBER(FIND(MID(A14,5,1)&"x","0x1x2x3x4x5x6x7x8x9x")),ISNUMBER(FIND(MID(A14,6,1)&"x","0x1x2x3x4x5x6x7x8x9x")),ISNUMBER(FIND(MID(A14,7,1)&"x","0x1x2x3x4x5x6x7x8x9x")),ISNUMBER(FIND(MID(A14,8,1)&"x","0x1x2x3x4x5x6x7x8x9x")))),"請求IDの形式を確認",IF(COUNTIFS($A$8:$A$57,A14)<>1,"請求ID重複",IF(NOT(AND(ISNUMBER(B14),B14>=43831,B14<=73050,B14=INT(B14))),"発行日を確認",IF(OR(NOT(ISTEXT(C14)),C14="",LEN(C14)>30),"取引先を確認",IF(NOT(AND(ISNUMBER(D14),D14>=43831,D14<=73050,D14=INT(D14))),"期日を確認",IF(D14<B14,"期日が発行日より前",IF(NOT(AND(ISNUMBER(E14),E14>=0,E14<=1000000000,E14=INT(E14))),"請求額を確認",IF(AND(F14<>"",NOT(AND(ISNUMBER(F14),F14>=43831,F14<=73050,F14=INT(F14)))),"送付日を確認",IF(AND(F14<>"",F14<B14),"送付日が発行日より前",IF(NOT(AND(ISNUMBER(G14),G14>=0,G14<=1000000000,G14=INT(G14))),"入金累計を確認",IF(AND(G14=0,H14<>""),"入金0の最終日は空欄",IF(AND(G14>0,NOT(AND(ISNUMBER(H14),H14>=43831,H14<=73050,H14=INT(H14)))),"最終入金日を確認",IF(AND(G14>0,OR(H14<B14,H14>確認一覧!$B$3)),"入金日と基準日を確認","確認済み")))))))))))))) | M14: =IF(L14="","",IF(L14="確認済み",0,1))
I15: =IF(L15="","",IF(NOT(AND(L15="確認済み",確認一覧!$D$3="確認済み")),NA(),IF(B15>確認一覧!$B$3,"",E15-G15))) | J15: =IF(L15="","",IF(NOT(AND(L15="確認済み",確認一覧!$D$3="確認済み")),NA(),IF(B15>確認一覧!$B$3,"",IF(I15>0,MAX(0,確認一覧!$B$3-D15),0)))) | K15: =IF(L15="","",IF(NOT(AND(L15="確認済み",確認一覧!$D$3="確認済み")),"入力を確認",IF(B15>確認一覧!$B$3,"基準日より後",IF(I15<0,"過入金",IF(I15=0,IF(E15=0,"入金不要","入金済"),IF(J15>0,IF(G15>0,"期限超過・一部入金","期限超過"),IF(G15>0,"一部入金","未入金"))))))) | L15: =IF(COUNTA(A15:H15)=0,"",IF(NOT(AND(ISTEXT(A15),LEN(A15)=8,EXACT(LEFT(A15,4),"INV-"),ISNUMBER(FIND(MID(A15,5,1)&"x","0x1x2x3x4x5x6x7x8x9x")),ISNUMBER(FIND(MID(A15,6,1)&"x","0x1x2x3x4x5x6x7x8x9x")),ISNUMBER(FIND(MID(A15,7,1)&"x","0x1x2x3x4x5x6x7x8x9x")),ISNUMBER(FIND(MID(A15,8,1)&"x","0x1x2x3x4x5x6x7x8x9x")))),"請求IDの形式を確認",IF(COUNTIFS($A$8:$A$57,A15)<>1,"請求ID重複",IF(NOT(AND(ISNUMBER(B15),B15>=43831,B15<=73050,B15=INT(B15))),"発行日を確認",IF(OR(NOT(ISTEXT(C15)),C15="",LEN(C15)>30),"取引先を確認",IF(NOT(AND(ISNUMBER(D15),D15>=43831,D15<=73050,D15=INT(D15))),"期日を確認",IF(D15<B15,"期日が発行日より前",IF(NOT(AND(ISNUMBER(E15),E15>=0,E15<=1000000000,E15=INT(E15))),"請求額を確認",IF(AND(F15<>"",NOT(AND(ISNUMBER(F15),F15>=43831,F15<=73050,F15=INT(F15)))),"送付日を確認",IF(AND(F15<>"",F15<B15),"送付日が発行日より前",IF(NOT(AND(ISNUMBER(G15),G15>=0,G15<=1000000000,G15=INT(G15))),"入金累計を確認",IF(AND(G15=0,H15<>""),"入金0の最終日は空欄",IF(AND(G15>0,NOT(AND(ISNUMBER(H15),H15>=43831,H15<=73050,H15=INT(H15)))),"最終入金日を確認",IF(AND(G15>0,OR(H15<B15,H15>確認一覧!$B$3)),"入金日と基準日を確認","確認済み")))))))))))))) | M15: =IF(L15="","",IF(L15="確認済み",0,1))
I16: =IF(L16="","",IF(NOT(AND(L16="確認済み",確認一覧!$D$3="確認済み")),NA(),IF(B16>確認一覧!$B$3,"",E16-G16))) | J16: =IF(L16="","",IF(NOT(AND(L16="確認済み",確認一覧!$D$3="確認済み")),NA(),IF(B16>確認一覧!$B$3,"",IF(I16>0,MAX(0,確認一覧!$B$3-D16),0)))) | K16: =IF(L16="","",IF(NOT(AND(L16="確認済み",確認一覧!$D$3="確認済み")),"入力を確認",IF(B16>確認一覧!$B$3,"基準日より後",IF(I16<0,"過入金",IF(I16=0,IF(E16=0,"入金不要","入金済"),IF(J16>0,IF(G16>0,"期限超過・一部入金","期限超過"),IF(G16>0,"一部入金","未入金"))))))) | L16: =IF(COUNTA(A16:H16)=0,"",IF(NOT(AND(ISTEXT(A16),LEN(A16)=8,EXACT(LEFT(A16,4),"INV-"),ISNUMBER(FIND(MID(A16,5,1)&"x","0x1x2x3x4x5x6x7x8x9x")),ISNUMBER(FIND(MID(A16,6,1)&"x","0x1x2x3x4x5x6x7x8x9x")),ISNUMBER(FIND(MID(A16,7,1)&"x","0x1x2x3x4x5x6x7x8x9x")),ISNUMBER(FIND(MID(A16,8,1)&"x","0x1x2x3x4x5x6x7x8x9x")))),"請求IDの形式を確認",IF(COUNTIFS($A$8:$A$57,A16)<>1,"請求ID重複",IF(NOT(AND(ISNUMBER(B16),B16>=43831,B16<=73050,B16=INT(B16))),"発行日を確認",IF(OR(NOT(ISTEXT(C16)),C16="",LEN(C16)>30),"取引先を確認",IF(NOT(AND(ISNUMBER(D16),D16>=43831,D16<=73050,D16=INT(D16))),"期日を確認",IF(D16<B16,"期日が発行日より前",IF(NOT(AND(ISNUMBER(E16),E16>=0,E16<=1000000000,E16=INT(E16))),"請求額を確認",IF(AND(F16<>"",NOT(AND(ISNUMBER(F16),F16>=43831,F16<=73050,F16=INT(F16)))),"送付日を確認",IF(AND(F16<>"",F16<B16),"送付日が発行日より前",IF(NOT(AND(ISNUMBER(G16),G16>=0,G16<=1000000000,G16=INT(G16))),"入金累計を確認",IF(AND(G16=0,H16<>""),"入金0の最終日は空欄",IF(AND(G16>0,NOT(AND(ISNUMBER(H16),H16>=43831,H16<=73050,H16=INT(H16)))),"最終入金日を確認",IF(AND(G16>0,OR(H16<B16,H16>確認一覧!$B$3)),"入金日と基準日を確認","確認済み")))))))))))))) | M16: =IF(L16="","",IF(L16="確認済み",0,1))
I17: =IF(L17="","",IF(NOT(AND(L17="確認済み",確認一覧!$D$3="確認済み")),NA(),IF(B17>確認一覧!$B$3,"",E17-G17))) | J17: =IF(L17="","",IF(NOT(AND(L17="確認済み",確認一覧!$D$3="確認済み")),NA(),IF(B17>確認一覧!$B$3,"",IF(I17>0,MAX(0,確認一覧!$B$3-D17),0)))) | K17: =IF(L17="","",IF(NOT(AND(L17="確認済み",確認一覧!$D$3="確認済み")),"入力を確認",IF(B17>確認一覧!$B$3,"基準日より後",IF(I17<0,"過入金",IF(I17=0,IF(E17=0,"入金不要","入金済"),IF(J17>0,IF(G17>0,"期限超過・一部入金","期限超過"),IF(G17>0,"一部入金","未入金"))))))) | L17: =IF(COUNTA(A17:H17)=0,"",IF(NOT(AND(ISTEXT(A17),LEN(A17)=8,EXACT(LEFT(A17,4),"INV-"),ISNUMBER(FIND(MID(A17,5,1)&"x","0x1x2x3x4x5x6x7x8x9x")),ISNUMBER(FIND(MID(A17,6,1)&"x","0x1x2x3x4x5x6x7x8x9x")),ISNUMBER(FIND(MID(A17,7,1)&"x","0x1x2x3x4x5x6x7x8x9x")),ISNUMBER(FIND(MID(A17,8,1)&"x","0x1x2x3x4x5x6x7x8x9x")))),"請求IDの形式を確認",IF(COUNTIFS($A$8:$A$57,A17)<>1,"請求ID重複",IF(NOT(AND(ISNUMBER(B17),B17>=43831,B17<=73050,B17=INT(B17))),"発行日を確認",IF(OR(NOT(ISTEXT(C17)),C17="",LEN(C17)>30),"取引先を確認",IF(NOT(AND(ISNUMBER(D17),D17>=43831,D17<=73050,D17=INT(D17))),"期日を確認",IF(D17<B17,"期日が発行日より前",IF(NOT(AND(ISNUMBER(E17),E17>=0,E17<=1000000000,E17=INT(E17))),"請求額を確認",IF(AND(F17<>"",NOT(AND(ISNUMBER(F17),F17>=43831,F17<=73050,F17=INT(F17)))),"送付日を確認",IF(AND(F17<>"",F17<B17),"送付日が発行日より前",IF(NOT(AND(ISNUMBER(G17),G17>=0,G17<=1000000000,G17=INT(G17))),"入金累計を確認",IF(AND(G17=0,H17<>""),"入金0の最終日は空欄",IF(AND(G17>0,NOT(AND(ISNUMBER(H17),H17>=43831,H17<=73050,H17=INT(H17)))),"最終入金日を確認",IF(AND(G17>0,OR(H17<B17,H17>確認一覧!$B$3)),"入金日と基準日を確認","確認済み")))))))))))))) | M17: =IF(L17="","",IF(L17="確認済み",0,1))
I18: =IF(L18="","",IF(NOT(AND(L18="確認済み",確認一覧!$D$3="確認済み")),NA(),IF(B18>確認一覧!$B$3,"",E18-G18))) | J18: =IF(L18="","",IF(NOT(AND(L18="確認済み",確認一覧!$D$3="確認済み")),NA(),IF(B18>確認一覧!$B$3,"",IF(I18>0,MAX(0,確認一覧!$B$3-D18),0)))) | K18: =IF(L18="","",IF(NOT(AND(L18="確認済み",確認一覧!$D$3="確認済み")),"入力を確認",IF(B18>確認一覧!$B$3,"基準日より後",IF(I18<0,"過入金",IF(I18=0,IF(E18=0,"入金不要","入金済"),IF(J18>0,IF(G18>0,"期限超過・一部入金","期限超過"),IF(G18>0,"一部入金","未入金"))))))) | L18: =IF(COUNTA(A18:H18)=0,"",IF(NOT(AND(ISTEXT(A18),LEN(A18)=8,EXACT(LEFT(A18,4),"INV-"),ISNUMBER(FIND(MID(A18,5,1)&"x","0x1x2x3x4x5x6x7x8x9x")),ISNUMBER(FIND(MID(A18,6,1)&"x","0x1x2x3x4x5x6x7x8x9x")),ISNUMBER(FIND(MID(A18,7,1)&"x","0x1x2x3x4x5x6x7x8x9x")),ISNUMBER(FIND(MID(A18,8,1)&"x","0x1x2x3x4x5x6x7x8x9x")))),"請求IDの形式を確認",IF(COUNTIFS($A$8:$A$57,A18)<>1,"請求ID重複",IF(NOT(AND(ISNUMBER(B18),B18>=43831,B18<=73050,B18=INT(B18))),"発行日を確認",IF(OR(NOT(ISTEXT(C18)),C18="",LEN(C18)>30),"取引先を確認",IF(NOT(AND(ISNUMBER(D18),D18>=43831,D18<=73050,D18=INT(D18))),"期日を確認",IF(D18<B18,"期日が発行日より前",IF(NOT(AND(ISNUMBER(E18),E18>=0,E18<=1000000000,E18=INT(E18))),"請求額を確認",IF(AND(F18<>"",NOT(AND(ISNUMBER(F18),F18>=43831,F18<=73050,F18=INT(F18)))),"送付日を確認",IF(AND(F18<>"",F18<B18),"送付日が発行日より前",IF(NOT(AND(ISNUMBER(G18),G18>=0,G18<=1000000000,G18=INT(G18))),"入金累計を確認",IF(AND(G18=0,H18<>""),"入金0の最終日は空欄",IF(AND(G18>0,NOT(AND(ISNUMBER(H18),H18>=43831,H18<=73050,H18=INT(H18)))),"最終入金日を確認",IF(AND(G18>0,OR(H18<B18,H18>確認一覧!$B$3)),"入金日と基準日を確認","確認済み")))))))))))))) | M18: =IF(L18="","",IF(L18="確認済み",0,1))
I19: =IF(L19="","",IF(NOT(AND(L19="確認済み",確認一覧!$D$3="確認済み")),NA(),IF(B19>確認一覧!$B$3,"",E19-G19))) | J19: =IF(L19="","",IF(NOT(AND(L19="確認済み",確認一覧!$D$3="確認済み")),NA(),IF(B19>確認一覧!$B$3,"",IF(I19>0,MAX(0,確認一覧!$B$3-D19),0)))) | K19: =IF(L19="","",IF(NOT(AND(L19="確認済み",確認一覧!$D$3="確認済み")),"入力を確認",IF(B19>確認一覧!$B$3,"基準日より後",IF(I19<0,"過入金",IF(I19=0,IF(E19=0,"入金不要","入金済"),IF(J19>0,IF(G19>0,"期限超過・一部入金","期限超過"),IF(G19>0,"一部入金","未入金"))))))) | L19: =IF(COUNTA(A19:H19)=0,"",IF(NOT(AND(ISTEXT(A19),LEN(A19)=8,EXACT(LEFT(A19,4),"INV-"),ISNUMBER(FIND(MID(A19,5,1)&"x","0x1x2x3x4x5x6x7x8x9x")),ISNUMBER(FIND(MID(A19,6,1)&"x","0x1x2x3x4x5x6x7x8x9x")),ISNUMBER(FIND(MID(A19,7,1)&"x","0x1x2x3x4x5x6x7x8x9x")),ISNUMBER(FIND(MID(A19,8,1)&"x","0x1x2x3x4x5x6x7x8x9x")))),"請求IDの形式を確認",IF(COUNTIFS($A$8:$A$57,A19)<>1,"請求ID重複",IF(NOT(AND(ISNUMBER(B19),B19>=43831,B19<=73050,B19=INT(B19))),"発行日を確認",IF(OR(NOT(ISTEXT(C19)),C19="",LEN(C19)>30),"取引先を確認",IF(NOT(AND(ISNUMBER(D19),D19>=43831,D19<=73050,D19=INT(D19))),"期日を確認",IF(D19<B19,"期日が発行日より前",IF(NOT(AND(ISNUMBER(E19),E19>=0,E19<=1000000000,E19=INT(E19))),"請求額を確認",IF(AND(F19<>"",NOT(AND(ISNUMBER(F19),F19>=43831,F19<=73050,F19=INT(F19)))),"送付日を確認",IF(AND(F19<>"",F19<B19),"送付日が発行日より前",IF(NOT(AND(ISNUMBER(G19),G19>=0,G19<=1000000000,G19=INT(G19))),"入金累計を確認",IF(AND(G19=0,H19<>""),"入金0の最終日は空欄",IF(AND(G19>0,NOT(AND(ISNUMBER(H19),H19>=43831,H19<=73050,H19=INT(H19)))),"最終入金日を確認",IF(AND(G19>0,OR(H19<B19,H19>確認一覧!$B$3)),"入金日と基準日を確認","確認済み")))))))))))))) | M19: =IF(L19="","",IF(L19="確認済み",0,1))
I20: =IF(L20="","",IF(NOT(AND(L20="確認済み",確認一覧!$D$3="確認済み")),NA(),IF(B20>確認一覧!$B$3,"",E20-G20))) | J20: =IF(L20="","",IF(NOT(AND(L20="確認済み",確認一覧!$D$3="確認済み")),NA(),IF(B20>確認一覧!$B$3,"",IF(I20>0,MAX(0,確認一覧!$B$3-D20),0)))) | K20: =IF(L20="","",IF(NOT(AND(L20="確認済み",確認一覧!$D$3="確認済み")),"入力を確認",IF(B20>確認一覧!$B$3,"基準日より後",IF(I20<0,"過入金",IF(I20=0,IF(E20=0,"入金不要","入金済"),IF(J20>0,IF(G20>0,"期限超過・一部入金","期限超過"),IF(G20>0,"一部入金","未入金"))))))) | L20: =IF(COUNTA(A20:H20)=0,"",IF(NOT(AND(ISTEXT(A20),LEN(A20)=8,EXACT(LEFT(A20,4),"INV-"),ISNUMBER(FIND(MID(A20,5,1)&"x","0x1x2x3x4x5x6x7x8x9x")),ISNUMBER(FIND(MID(A20,6,1)&"x","0x1x2x3x4x5x6x7x8x9x")),ISNUMBER(FIND(MID(A20,7,1)&"x","0x1x2x3x4x5x6x7x8x9x")),ISNUMBER(FIND(MID(A20,8,1)&"x","0x1x2x3x4x5x6x7x8x9x")))),"請求IDの形式を確認",IF(COUNTIFS($A$8:$A$57,A20)<>1,"請求ID重複",IF(NOT(AND(ISNUMBER(B20),B20>=43831,B20<=73050,B20=INT(B20))),"発行日を確認",IF(OR(NOT(ISTEXT(C20)),C20="",LEN(C20)>30),"取引先を確認",IF(NOT(AND(ISNUMBER(D20),D20>=43831,D20<=73050,D20=INT(D20))),"期日を確認",IF(D20<B20,"期日が発行日より前",IF(NOT(AND(ISNUMBER(E20),E20>=0,E20<=1000000000,E20=INT(E20))),"請求額を確認",IF(AND(F20<>"",NOT(AND(ISNUMBER(F20),F20>=43831,F20<=73050,F20=INT(F20)))),"送付日を確認",IF(AND(F20<>"",F20<B20),"送付日が発行日より前",IF(NOT(AND(ISNUMBER(G20),G20>=0,G20<=1000000000,G20=INT(G20))),"入金累計を確認",IF(AND(G20=0,H20<>""),"入金0の最終日は空欄",IF(AND(G20>0,NOT(AND(ISNUMBER(H20),H20>=43831,H20<=73050,H20=INT(H20)))),"最終入金日を確認",IF(AND(G20>0,OR(H20<B20,H20>確認一覧!$B$3)),"入金日と基準日を確認","確認済み")))))))))))))) | M20: =IF(L20="","",IF(L20="確認済み",0,1))
I21: =IF(L21="","",IF(NOT(AND(L21="確認済み",確認一覧!$D$3="確認済み")),NA(),IF(B21>確認一覧!$B$3,"",E21-G21))) | J21: =IF(L21="","",IF(NOT(AND(L21="確認済み",確認一覧!$D$3="確認済み")),NA(),IF(B21>確認一覧!$B$3,"",IF(I21>0,MAX(0,確認一覧!$B$3-D21),0)))) | K21: =IF(L21="","",IF(NOT(AND(L21="確認済み",確認一覧!$D$3="確認済み")),"入力を確認",IF(B21>確認一覧!$B$3,"基準日より後",IF(I21<0,"過入金",IF(I21=0,IF(E21=0,"入金不要","入金済"),IF(J21>0,IF(G21>0,"期限超過・一部入金","期限超過"),IF(G21>0,"一部入金","未入金"))))))) | L21: =IF(COUNTA(A21:H21)=0,"",IF(NOT(AND(ISTEXT(A21),LEN(A21)=8,EXACT(LEFT(A21,4),"INV-"),ISNUMBER(FIND(MID(A21,5,1)&"x","0x1x2x3x4x5x6x7x8x9x")),ISNUMBER(FIND(MID(A21,6,1)&"x","0x1x2x3x4x5x6x7x8x9x")),ISNUMBER(FIND(MID(A21,7,1)&"x","0x1x2x3x4x5x6x7x8x9x")),ISNUMBER(FIND(MID(A21,8,1)&"x","0x1x2x3x4x5x6x7x8x9x")))),"請求IDの形式を確認",IF(COUNTIFS($A$8:$A$57,A21)<>1,"請求ID重複",IF(NOT(AND(ISNUMBER(B21),B21>=43831,B21<=73050,B21=INT(B21))),"発行日を確認",IF(OR(NOT(ISTEXT(C21)),C21="",LEN(C21)>30),"取引先を確認",IF(NOT(AND(ISNUMBER(D21),D21>=43831,D21<=73050,D21=INT(D21))),"期日を確認",IF(D21<B21,"期日が発行日より前",IF(NOT(AND(ISNUMBER(E21),E21>=0,E21<=1000000000,E21=INT(E21))),"請求額を確認",IF(AND(F21<>"",NOT(AND(ISNUMBER(F21),F21>=43831,F21<=73050,F21=INT(F21)))),"送付日を確認",IF(AND(F21<>"",F21<B21),"送付日が発行日より前",IF(NOT(AND(ISNUMBER(G21),G21>=0,G21<=1000000000,G21=INT(G21))),"入金累計を確認",IF(AND(G21=0,H21<>""),"入金0の最終日は空欄",IF(AND(G21>0,NOT(AND(ISNUMBER(H21),H21>=43831,H21<=73050,H21=INT(H21)))),"最終入金日を確認",IF(AND(G21>0,OR(H21<B21,H21>確認一覧!$B$3)),"入金日と基準日を確認","確認済み")))))))))))))) | M21: =IF(L21="","",IF(L21="確認済み",0,1))
I22: =IF(L22="","",IF(NOT(AND(L22="確認済み",確認一覧!$D$3="確認済み")),NA(),IF(B22>確認一覧!$B$3,"",E22-G22))) | J22: =IF(L22="","",IF(NOT(AND(L22="確認済み",確認一覧!$D$3="確認済み")),NA(),IF(B22>確認一覧!$B$3,"",IF(I22>0,MAX(0,確認一覧!$B$3-D22),0)))) | K22: =IF(L22="","",IF(NOT(AND(L22="確認済み",確認一覧!$D$3="確認済み")),"入力を確認",IF(B22>確認一覧!$B$3,"基準日より後",IF(I22<0,"過入金",IF(I22=0,IF(E22=0,"入金不要","入金済"),IF(J22>0,IF(G22>0,"期限超過・一部入金","期限超過"),IF(G22>0,"一部入金","未入金"))))))) | L22: =IF(COUNTA(A22:H22)=0,"",IF(NOT(AND(ISTEXT(A22),LEN(A22)=8,EXACT(LEFT(A22,4),"INV-"),ISNUMBER(FIND(MID(A22,5,1)&"x","0x1x2x3x4x5x6x7x8x9x")),ISNUMBER(FIND(MID(A22,6,1)&"x","0x1x2x3x4x5x6x7x8x9x")),ISNUMBER(FIND(MID(A22,7,1)&"x","0x1x2x3x4x5x6x7x8x9x")),ISNUMBER(FIND(MID(A22,8,1)&"x","0x1x2x3x4x5x6x7x8x9x")))),"請求IDの形式を確認",IF(COUNTIFS($A$8:$A$57,A22)<>1,"請求ID重複",IF(NOT(AND(ISNUMBER(B22),B22>=43831,B22<=73050,B22=INT(B22))),"発行日を確認",IF(OR(NOT(ISTEXT(C22)),C22="",LEN(C22)>30),"取引先を確認",IF(NOT(AND(ISNUMBER(D22),D22>=43831,D22<=73050,D22=INT(D22))),"期日を確認",IF(D22<B22,"期日が発行日より前",IF(NOT(AND(ISNUMBER(E22),E22>=0,E22<=1000000000,E22=INT(E22))),"請求額を確認",IF(AND(F22<>"",NOT(AND(ISNUMBER(F22),F22>=43831,F22<=73050,F22=INT(F22)))),"送付日を確認",IF(AND(F22<>"",F22<B22),"送付日が発行日より前",IF(NOT(AND(ISNUMBER(G22),G22>=0,G22<=1000000000,G22=INT(G22))),"入金累計を確認",IF(AND(G22=0,H22<>""),"入金0の最終日は空欄",IF(AND(G22>0,NOT(AND(ISNUMBER(H22),H22>=43831,H22<=73050,H22=INT(H22)))),"最終入金日を確認",IF(AND(G22>0,OR(H22<B22,H22>確認一覧!$B$3)),"入金日と基準日を確認","確認済み")))))))))))))) | M22: =IF(L22="","",IF(L22="確認済み",0,1))
I23: =IF(L23="","",IF(NOT(AND(L23="確認済み",確認一覧!$D$3="確認済み")),NA(),IF(B23>確認一覧!$B$3,"",E23-G23))) | J23: =IF(L23="","",IF(NOT(AND(L23="確認済み",確認一覧!$D$3="確認済み")),NA(),IF(B23>確認一覧!$B$3,"",IF(I23>0,MAX(0,確認一覧!$B$3-D23),0)))) | K23: =IF(L23="","",IF(NOT(AND(L23="確認済み",確認一覧!$D$3="確認済み")),"入力を確認",IF(B23>確認一覧!$B$3,"基準日より後",IF(I23<0,"過入金",IF(I23=0,IF(E23=0,"入金不要","入金済"),IF(J23>0,IF(G23>0,"期限超過・一部入金","期限超過"),IF(G23>0,"一部入金","未入金"))))))) | L23: =IF(COUNTA(A23:H23)=0,"",IF(NOT(AND(ISTEXT(A23),LEN(A23)=8,EXACT(LEFT(A23,4),"INV-"),ISNUMBER(FIND(MID(A23,5,1)&"x","0x1x2x3x4x5x6x7x8x9x")),ISNUMBER(FIND(MID(A23,6,1)&"x","0x1x2x3x4x5x6x7x8x9x")),ISNUMBER(FIND(MID(A23,7,1)&"x","0x1x2x3x4x5x6x7x8x9x")),ISNUMBER(FIND(MID(A23,8,1)&"x","0x1x2x3x4x5x6x7x8x9x")))),"請求IDの形式を確認",IF(COUNTIFS($A$8:$A$57,A23)<>1,"請求ID重複",IF(NOT(AND(ISNUMBER(B23),B23>=43831,B23<=73050,B23=INT(B23))),"発行日を確認",IF(OR(NOT(ISTEXT(C23)),C23="",LEN(C23)>30),"取引先を確認",IF(NOT(AND(ISNUMBER(D23),D23>=43831,D23<=73050,D23=INT(D23))),"期日を確認",IF(D23<B23,"期日が発行日より前",IF(NOT(AND(ISNUMBER(E23),E23>=0,E23<=1000000000,E23=INT(E23))),"請求額を確認",IF(AND(F23<>"",NOT(AND(ISNUMBER(F23),F23>=43831,F23<=73050,F23=INT(F23)))),"送付日を確認",IF(AND(F23<>"",F23<B23),"送付日が発行日より前",IF(NOT(AND(ISNUMBER(G23),G23>=0,G23<=1000000000,G23=INT(G23))),"入金累計を確認",IF(AND(G23=0,H23<>""),"入金0の最終日は空欄",IF(AND(G23>0,NOT(AND(ISNUMBER(H23),H23>=43831,H23<=73050,H23=INT(H23)))),"最終入金日を確認",IF(AND(G23>0,OR(H23<B23,H23>確認一覧!$B$3)),"入金日と基準日を確認","確認済み")))))))))))))) | M23: =IF(L23="","",IF(L23="確認済み",0,1))
I24: =IF(L24="","",IF(NOT(AND(L24="確認済み",確認一覧!$D$3="確認済み")),NA(),IF(B24>確認一覧!$B$3,"",E24-G24))) | J24: =IF(L24="","",IF(NOT(AND(L24="確認済み",確認一覧!$D$3="確認済み")),NA(),IF(B24>確認一覧!$B$3,"",IF(I24>0,MAX(0,確認一覧!$B$3-D24),0)))) | K24: =IF(L24="","",IF(NOT(AND(L24="確認済み",確認一覧!$D$3="確認済み")),"入力を確認",IF(B24>確認一覧!$B$3,"基準日より後",IF(I24<0,"過入金",IF(I24=0,IF(E24=0,"入金不要","入金済"),IF(J24>0,IF(G24>0,"期限超過・一部入金","期限超過"),IF(G24>0,"一部入金","未入金"))))))) | L24: =IF(COUNTA(A24:H24)=0,"",IF(NOT(AND(ISTEXT(A24),LEN(A24)=8,EXACT(LEFT(A24,4),"INV-"),ISNUMBER(FIND(MID(A24,5,1)&"x","0x1x2x3x4x5x6x7x8x9x")),ISNUMBER(FIND(MID(A24,6,1)&"x","0x1x2x3x4x5x6x7x8x9x")),ISNUMBER(FIND(MID(A24,7,1)&"x","0x1x2x3x4x5x6x7x8x9x")),ISNUMBER(FIND(MID(A24,8,1)&"x","0x1x2x3x4x5x6x7x8x9x")))),"請求IDの形式を確認",IF(COUNTIFS($A$8:$A$57,A24)<>1,"請求ID重複",IF(NOT(AND(ISNUMBER(B24),B24>=43831,B24<=73050,B24=INT(B24))),"発行日を確認",IF(OR(NOT(ISTEXT(C24)),C24="",LEN(C24)>30),"取引先を確認",IF(NOT(AND(ISNUMBER(D24),D24>=43831,D24<=73050,D24=INT(D24))),"期日を確認",IF(D24<B24,"期日が発行日より前",IF(NOT(AND(ISNUMBER(E24),E24>=0,E24<=1000000000,E24=INT(E24))),"請求額を確認",IF(AND(F24<>"",NOT(AND(ISNUMBER(F24),F24>=43831,F24<=73050,F24=INT(F24)))),"送付日を確認",IF(AND(F24<>"",F24<B24),"送付日が発行日より前",IF(NOT(AND(ISNUMBER(G24),G24>=0,G24<=1000000000,G24=INT(G24))),"入金累計を確認",IF(AND(G24=0,H24<>""),"入金0の最終日は空欄",IF(AND(G24>0,NOT(AND(ISNUMBER(H24),H24>=43831,H24<=73050,H24=INT(H24)))),"最終入金日を確認",IF(AND(G24>0,OR(H24<B24,H24>確認一覧!$B$3)),"入金日と基準日を確認","確認済み")))))))))))))) | M24: =IF(L24="","",IF(L24="確認済み",0,1))
I25: =IF(L25="","",IF(NOT(AND(L25="確認済み",確認一覧!$D$3="確認済み")),NA(),IF(B25>確認一覧!$B$3,"",E25-G25))) | J25: =IF(L25="","",IF(NOT(AND(L25="確認済み",確認一覧!$D$3="確認済み")),NA(),IF(B25>確認一覧!$B$3,"",IF(I25>0,MAX(0,確認一覧!$B$3-D25),0)))) | K25: =IF(L25="","",IF(NOT(AND(L25="確認済み",確認一覧!$D$3="確認済み")),"入力を確認",IF(B25>確認一覧!$B$3,"基準日より後",IF(I25<0,"過入金",IF(I25=0,IF(E25=0,"入金不要","入金済"),IF(J25>0,IF(G25>0,"期限超過・一部入金","期限超過"),IF(G25>0,"一部入金","未入金"))))))) | L25: =IF(COUNTA(A25:H25)=0,"",IF(NOT(AND(ISTEXT(A25),LEN(A25)=8,EXACT(LEFT(A25,4),"INV-"),ISNUMBER(FIND(MID(A25,5,1)&"x","0x1x2x3x4x5x6x7x8x9x")),ISNUMBER(FIND(MID(A25,6,1)&"x","0x1x2x3x4x5x6x7x8x9x")),ISNUMBER(FIND(MID(A25,7,1)&"x","0x1x2x3x4x5x6x7x8x9x")),ISNUMBER(FIND(MID(A25,8,1)&"x","0x1x2x3x4x5x6x7x8x9x")))),"請求IDの形式を確認",IF(COUNTIFS($A$8:$A$57,A25)<>1,"請求ID重複",IF(NOT(AND(ISNUMBER(B25),B25>=43831,B25<=73050,B25=INT(B25))),"発行日を確認",IF(OR(NOT(ISTEXT(C25)),C25="",LEN(C25)>30),"取引先を確認",IF(NOT(AND(ISNUMBER(D25),D25>=43831,D25<=73050,D25=INT(D25))),"期日を確認",IF(D25<B25,"期日が発行日より前",IF(NOT(AND(ISNUMBER(E25),E25>=0,E25<=1000000000,E25=INT(E25))),"請求額を確認",IF(AND(F25<>"",NOT(AND(ISNUMBER(F25),F25>=43831,F25<=73050,F25=INT(F25)))),"送付日を確認",IF(AND(F25<>"",F25<B25),"送付日が発行日より前",IF(NOT(AND(ISNUMBER(G25),G25>=0,G25<=1000000000,G25=INT(G25))),"入金累計を確認",IF(AND(G25=0,H25<>""),"入金0の最終日は空欄",IF(AND(G25>0,NOT(AND(ISNUMBER(H25),H25>=43831,H25<=73050,H25=INT(H25)))),"最終入金日を確認",IF(AND(G25>0,OR(H25<B25,H25>確認一覧!$B$3)),"入金日と基準日を確認","確認済み")))))))))))))) | M25: =IF(L25="","",IF(L25="確認済み",0,1))
... I57: =IF(L57="","",IF(NOT(AND(L57="確認済み",確認一覧!$D$3="確認済み")),NA(),IF(B57>確認一覧!$B$3,"",E57-G57))) | J57: =IF(L57="","",IF(NOT(AND(L57="確認済み",確認一覧!$D$3="確認済み")),NA(),IF(B57>確認一覧!$B$3,"",IF(I57>0,MAX(0,確認一覧!$B$3-D57),0)))) | K57: =IF(L57="","",IF(NOT(AND(L57="確認済み",確認一覧!$D$3="確認済み")),"入力を確認",IF(B57>確認一覧!$B$3,"基準日より後",IF(I57<0,"過入金",IF(I57=0,IF(E57=0,"入金不要","入金済"),IF(J57>0,IF(G57>0,"期限超過・一部入金","期限超過"),IF(G57>0,"一部入金","未入金"))))))) | L57: =IF(COUNTA(A57:H57)=0,"",IF(NOT(AND(ISTEXT(A57),LEN(A57)=8,EXACT(LEFT(A57,4),"INV-"),ISNUMBER(FIND(MID(A57,5,1)&"x","0x1x2x3x4x5x6x7x8x9x")),ISNUMBER(FIND(MID(A57,6,1)&"x","0x1x2x3x4x5x6x7x8x9x")),ISNUMBER(FIND(MID(A57,7,1)&"x","0x1x2x3x4x5x6x7x8x9x")),ISNUMBER(FIND(MID(A57,8,1)&"x","0x1x2x3x4x5x6x7x8x9x")))),"請求IDの形式を確認",IF(COUNTIFS($A$8:$A$57,A57)<>1,"請求ID重複",IF(NOT(AND(ISNUMBER(B57),B57>=43831,B57<=73050,B57=INT(B57))),"発行日を確認",IF(OR(NOT(ISTEXT(C57)),C57="",LEN(C57)>30),"取引先を確認",IF(NOT(AND(ISNUMBER(D57),D57>=43831,D57<=73050,D57=INT(D57))),"期日を確認",IF(D57<B57,"期日が発行日より前",IF(NOT(AND(ISNUMBER(E57),E57>=0,E57<=1000000000,E57=INT(E57))),"請求額を確認",IF(AND(F57<>"",NOT(AND(ISNUMBER(F57),F57>=43831,F57<=73050,F57=INT(F57)))),"送付日を確認",IF(AND(F57<>"",F57<B57),"送付日が発行日より前",IF(NOT(AND(ISNUMBER(G57),G57>=0,G57<=1000000000,G57=INT(G57))),"入金累計を確認",IF(AND(G57=0,H57<>""),"入金0の最終日は空欄",IF(AND(G57>0,NOT(AND(ISNUMBER(H57),H57>=43831,H57<=73050,H57=INT(H57)))),"最終入金日を確認",IF(AND(G57>0,OR(H57<B57,H57>確認一覧!$B$3)),"入金日と基準日を確認","確認済み")))))))))))))) | M57: =IF(L57="","",IF(L57="確認済み",0,1))
A60: 架空サンプル。請求書の送付と回収の台帳です。請求書発行・税計算・法定帳簿は扱いません。
A61: 入金累計は基準日までの確定額を入力。基準日を戻す場合は別コピーで元資料から入金累計も見直します。
A62: 最終入金日だけでは過去の累計を復元できません。入金明細ごとの照合には売上・入金管理を使います。
A63: 未送付は基準日までに送付していない対象請求です。0円や入金済みでも送付状況は独立に確認します。
A64: 50件以内の予約行へ入力。行挿入・自動拡張なし。原本と元資料を保ち、数式列I〜Mは変更しません。
A65: 印刷は確認一覧のみ。A4横・7行目繰返し。請求の追加後は印刷範囲を手動で広げてください。
A67: 版1。オリジナル配布物はCC0 1.0。https://creativecommons.org/publicdomain/zero/1.0/
A69: 一次情報の確認日2026-10-14。SUMIFSの条件/範囲と入力規則を参照。
A70: https://support.microsoft.com/en-us/excel/functions/sumifs-function
