Workbook

Sheet 案件一覧
A2: 見込と確認済みの受注を分ける | K2: 基準日の前提 | L2: 入力の前提
A3: 照合基準日 | B3: 46311 | I3: =IF(L3=0,"入力不備なし","入力を確認") -> 入力不備なし | K3: =IF(AND(ISNUMBER(B3),B3>=43831,B3<73051,B3=INT(B3)),0,1) -> 0 | L3: =K3+SUM(案件入力!O8:O57)+SUM(案件入力!P8:P57)+SUM(登録ID!C8:C57)+SUM(登録ID!G8:G27) -> 0
A4: 進行（件） | B4: =IF($L$3=0,COUNTIFS(案件入力!D8:D57,"進行"),NA()) -> 4 | D4: 進行見込（円） | E4: =IF($L$3=0,SUMIFS(案件入力!E8:E57,案件入力!D8:D57,"進行"),NA()) -> 300002 | G4: 加重見込（円） | H4: =IF($L$3<>0,NA(),IF(H5>0,"判定保留",SUM(案件入力!K8:K57))) -> 判定保留
A5: 保留（件） | B5: =IF($L$3=0,COUNTIFS(案件入力!D8:D57,"保留"),NA()) -> 1 | D5: 保留見込（円） | E5: =IF($L$3=0,SUMIFS(案件入力!E8:E57,案件入力!D8:D57,"保留"),NA()) -> 80000 | G5: 未確認（件） | H5: =IF($L$3=0,COUNTIFS(案件入力!D8:D57,"未確認"),NA()) -> 1
A6: 受注（件） | B6: =IF($L$3=0,COUNTIFS(案件入力!D8:D57,"受注"),NA()) -> 1 | D6: 確認済受注（円） | E6: =IF($L$3=0,SUMIFS(案件入力!H8:H57,案件入力!D8:D57,"受注"),NA()) -> 110000 | G6: 失注（件） | H6: =IF($L$3=0,COUNTIFS(案件入力!D8:D57,"失注"),NA()) -> 1
A7: 担当未設定（件） | B7: =IF($L$3=0,COUNTIFS(案件入力!M8:M57,1),NA()) -> 2 | D7: 予定超過（件） | E7: =IF($L$3=0,COUNTIFS(案件入力!L8:L57,1),NA()) -> 1 | G7: 照合差額（件） | H7: =B8-B4-B5-H5-B6-H6 -> 0
A8: 全登録（件） | B8: =IF($L$3=0,COUNTIFS(案件入力!N8:N57,"確認済み"),NA()) -> 8 | D8: 金額は円。加重見込と受注額を合算しません。
A9: 案件ID | B9: 顧客ID | C9: 担当ID | D9: 状況 | E9: 見込額 | F9: 確度 | G9: 加重見込 | H9: 受注額 | I9: 予定/決着日
A10: =IF(COUNTA(案件入力!A8:J8)=0,"",IF(COUNTA(案件入力!A8)=0,"",案件入力!A8)) -> OPP-0001 | B10: =IF(COUNTA(案件入力!A8:J8)=0,"",IF(COUNTA(案件入力!B8)=0,"",案件入力!B8)) -> CUS-0001 | C10: =IF(COUNTA(案件入力!A8:J8)=0,"",IF(COUNTA(案件入力!C8)=0,"",案件入力!C8)) -> STF-0001 | D10: =IF(COUNTA(案件入力!A8:J8)=0,"",IF(COUNTA(案件入力!D8)=0,"",案件入力!D8)) -> 進行 | E10: =IF(COUNTA(案件入力!A8:J8)=0,"",IF(COUNTA(案件入力!E8)=0,"",案件入力!E8)) -> 100000 | F10: =IF(COUNTA(案件入力!A8:J8)=0,"",IF(COUNTA(案件入力!F8)=0,"",案件入力!F8)) -> 50 | G10: =IF(COUNTA(案件入力!A8:J8)=0,"",IF(COUNTA(案件入力!K8)=0,"",案件入力!K8)) -> 50000 | H10: =IF(COUNTA(案件入力!A8:J8)=0,"",IF(COUNTA(案件入力!H8)=0,"",案件入力!H8)) | I10: =IF(COUNTA(案件入力!A8:J8)=0,"",IF(OR(案件入力!D8="受注",案件入力!D8="失注"),案件入力!I8,IF(案件入力!G8="","",案件入力!G8))) -> 46310
A11: =IF(COUNTA(案件入力!A9:J9)=0,"",IF(COUNTA(案件入力!A9)=0,"",案件入力!A9)) -> OPP-0002 | B11: =IF(COUNTA(案件入力!A9:J9)=0,"",IF(COUNTA(案件入力!B9)=0,"",案件入力!B9)) -> CUS-0002 | C11: =IF(COUNTA(案件入力!A9:J9)=0,"",IF(COUNTA(案件入力!C9)=0,"",案件入力!C9)) -> STF-0002 | D11: =IF(COUNTA(案件入力!A9:J9)=0,"",IF(COUNTA(案件入力!D9)=0,"",案件入力!D9)) -> 進行 | E11: =IF(COUNTA(案件入力!A9:J9)=0,"",IF(COUNTA(案件入力!E9)=0,"",案件入力!E9)) -> 200001 | F11: =IF(COUNTA(案件入力!A9:J9)=0,"",IF(COUNTA(案件入力!F9)=0,"",案件入力!F9)) -> 25 | G11: =IF(COUNTA(案件入力!A9:J9)=0,"",IF(COUNTA(案件入力!K9)=0,"",案件入力!K9)) -> 50000 | H11: =IF(COUNTA(案件入力!A9:J9)=0,"",IF(COUNTA(案件入力!H9)=0,"",案件入力!H9)) | I11: =IF(COUNTA(案件入力!A9:J9)=0,"",IF(OR(案件入力!D9="受注",案件入力!D9="失注"),案件入力!I9,IF(案件入力!G9="","",案件入力!G9))) -> 46315
A12: =IF(COUNTA(案件入力!A10:J10)=0,"",IF(COUNTA(案件入力!A10)=0,"",案件入力!A10)) -> OPP-0003 | B12: =IF(COUNTA(案件入力!A10:J10)=0,"",IF(COUNTA(案件入力!B10)=0,"",案件入力!B10)) -> CUS-0003 | C12: =IF(COUNTA(案件入力!A10:J10)=0,"",IF(COUNTA(案件入力!C10)=0,"",案件入力!C10)) | D12: =IF(COUNTA(案件入力!A10:J10)=0,"",IF(COUNTA(案件入力!D10)=0,"",案件入力!D10)) -> 進行 | E12: =IF(COUNTA(案件入力!A10:J10)=0,"",IF(COUNTA(案件入力!E10)=0,"",案件入力!E10)) -> 0 | F12: =IF(COUNTA(案件入力!A10:J10)=0,"",IF(COUNTA(案件入力!F10)=0,"",案件入力!F10)) -> 0 | G12: =IF(COUNTA(案件入力!A10:J10)=0,"",IF(COUNTA(案件入力!K10)=0,"",案件入力!K10)) -> 0 | H12: =IF(COUNTA(案件入力!A10:J10)=0,"",IF(COUNTA(案件入力!H10)=0,"",案件入力!H10)) | I12: =IF(COUNTA(案件入力!A10:J10)=0,"",IF(OR(案件入力!D10="受注",案件入力!D10="失注"),案件入力!I10,IF(案件入力!G10="","",案件入力!G10))) -> 46311
A13: =IF(COUNTA(案件入力!A11:J11)=0,"",IF(COUNTA(案件入力!A11)=0,"",案件入力!A11)) -> OPP-0004 | B13: =IF(COUNTA(案件入力!A11:J11)=0,"",IF(COUNTA(案件入力!B11)=0,"",案件入力!B11)) -> CUS-0001 | C13: =IF(COUNTA(案件入力!A11:J11)=0,"",IF(COUNTA(案件入力!C11)=0,"",案件入力!C11)) -> STF-0003 | D13: =IF(COUNTA(案件入力!A11:J11)=0,"",IF(COUNTA(案件入力!D11)=0,"",案件入力!D11)) -> 保留 | E13: =IF(COUNTA(案件入力!A11:J11)=0,"",IF(COUNTA(案件入力!E11)=0,"",案件入力!E11)) -> 80000 | F13: =IF(COUNTA(案件入力!A11:J11)=0,"",IF(COUNTA(案件入力!F11)=0,"",案件入力!F11)) -> 75 | G13: =IF(COUNTA(案件入力!A11:J11)=0,"",IF(COUNTA(案件入力!K11)=0,"",案件入力!K11)) | H13: =IF(COUNTA(案件入力!A11:J11)=0,"",IF(COUNTA(案件入力!H11)=0,"",案件入力!H11)) | I13: =IF(COUNTA(案件入力!A11:J11)=0,"",IF(OR(案件入力!D11="受注",案件入力!D11="失注"),案件入力!I11,IF(案件入力!G11="","",案件入力!G11))) -> 46309
A14: =IF(COUNTA(案件入力!A12:J12)=0,"",IF(COUNTA(案件入力!A12)=0,"",案件入力!A12)) -> OPP-0005 | B14: =IF(COUNTA(案件入力!A12:J12)=0,"",IF(COUNTA(案件入力!B12)=0,"",案件入力!B12)) -> CUS-0002 | C14: =IF(COUNTA(案件入力!A12:J12)=0,"",IF(COUNTA(案件入力!C12)=0,"",案件入力!C12)) -> STF-0002 | D14: =IF(COUNTA(案件入力!A12:J12)=0,"",IF(COUNTA(案件入力!D12)=0,"",案件入力!D12)) -> 受注 | E14: =IF(COUNTA(案件入力!A12:J12)=0,"",IF(COUNTA(案件入力!E12)=0,"",案件入力!E12)) -> 120000 | F14: =IF(COUNTA(案件入力!A12:J12)=0,"",IF(COUNTA(案件入力!F12)=0,"",案件入力!F12)) -> 100 | G14: =IF(COUNTA(案件入力!A12:J12)=0,"",IF(COUNTA(案件入力!K12)=0,"",案件入力!K12)) | H14: =IF(COUNTA(案件入力!A12:J12)=0,"",IF(COUNTA(案件入力!H12)=0,"",案件入力!H12)) -> 110000 | I14: =IF(COUNTA(案件入力!A12:J12)=0,"",IF(OR(案件入力!D12="受注",案件入力!D12="失注"),案件入力!I12,IF(案件入力!G12="","",案件入力!G12))) -> 46305
A15: =IF(COUNTA(案件入力!A13:J13)=0,"",IF(COUNTA(案件入力!A13)=0,"",案件入力!A13)) -> OPP-0006 | B15: =IF(COUNTA(案件入力!A13:J13)=0,"",IF(COUNTA(案件入力!B13)=0,"",案件入力!B13)) -> CUS-0003 | C15: =IF(COUNTA(案件入力!A13:J13)=0,"",IF(COUNTA(案件入力!C13)=0,"",案件入力!C13)) -> STF-0003 | D15: =IF(COUNTA(案件入力!A13:J13)=0,"",IF(COUNTA(案件入力!D13)=0,"",案件入力!D13)) -> 失注 | E15: =IF(COUNTA(案件入力!A13:J13)=0,"",IF(COUNTA(案件入力!E13)=0,"",案件入力!E13)) -> 60000 | F15: =IF(COUNTA(案件入力!A13:J13)=0,"",IF(COUNTA(案件入力!F13)=0,"",案件入力!F13)) -> 40 | G15: =IF(COUNTA(案件入力!A13:J13)=0,"",IF(COUNTA(案件入力!K13)=0,"",案件入力!K13)) | H15: =IF(COUNTA(案件入力!A13:J13)=0,"",IF(COUNTA(案件入力!H13)=0,"",案件入力!H13)) | I15: =IF(COUNTA(案件入力!A13:J13)=0,"",IF(OR(案件入力!D13="受注",案件入力!D13="失注"),案件入力!I13,IF(案件入力!G13="","",案件入力!G13))) -> 46306
A16: =IF(COUNTA(案件入力!A14:J14)=0,"",IF(COUNTA(案件入力!A14)=0,"",案件入力!A14)) -> OPP-0007 | B16: =IF(COUNTA(案件入力!A14:J14)=0,"",IF(COUNTA(案件入力!B14)=0,"",案件入力!B14)) -> CUS-0004 | C16: =IF(COUNTA(案件入力!A14:J14)=0,"",IF(COUNTA(案件入力!C14)=0,"",案件入力!C14)) | D16: =IF(COUNTA(案件入力!A14:J14)=0,"",IF(COUNTA(案件入力!D14)=0,"",案件入力!D14)) -> 未確認 | E16: =IF(COUNTA(案件入力!A14:J14)=0,"",IF(COUNTA(案件入力!E14)=0,"",案件入力!E14)) | F16: =IF(COUNTA(案件入力!A14:J14)=0,"",IF(COUNTA(案件入力!F14)=0,"",案件入力!F14)) | G16: =IF(COUNTA(案件入力!A14:J14)=0,"",IF(COUNTA(案件入力!K14)=0,"",案件入力!K14)) | H16: =IF(COUNTA(案件入力!A14:J14)=0,"",IF(COUNTA(案件入力!H14)=0,"",案件入力!H14)) | I16: =IF(COUNTA(案件入力!A14:J14)=0,"",IF(OR(案件入力!D14="受注",案件入力!D14="失注"),案件入力!I14,IF(案件入力!G14="","",案件入力!G14)))
A17: =IF(COUNTA(案件入力!A15:J15)=0,"",IF(COUNTA(案件入力!A15)=0,"",案件入力!A15)) -> OPP-0008 | B17: =IF(COUNTA(案件入力!A15:J15)=0,"",IF(COUNTA(案件入力!B15)=0,"",案件入力!B15)) -> CUS-0004 | C17: =IF(COUNTA(案件入力!A15:J15)=0,"",IF(COUNTA(案件入力!C15)=0,"",案件入力!C15)) -> STF-0004 | D17: =IF(COUNTA(案件入力!A15:J15)=0,"",IF(COUNTA(案件入力!D15)=0,"",案件入力!D15)) -> 進行 | E17: =IF(COUNTA(案件入力!A15:J15)=0,"",IF(COUNTA(案件入力!E15)=0,"",案件入力!E15)) -> 1 | F17: =IF(COUNTA(案件入力!A15:J15)=0,"",IF(COUNTA(案件入力!F15)=0,"",案件入力!F15)) -> 50 | G17: =IF(COUNTA(案件入力!A15:J15)=0,"",IF(COUNTA(案件入力!K15)=0,"",案件入力!K15)) -> 1 | H17: =IF(COUNTA(案件入力!A15:J15)=0,"",IF(COUNTA(案件入力!H15)=0,"",案件入力!H15)) | I17: =IF(COUNTA(案件入力!A15:J15)=0,"",IF(OR(案件入力!D15="受注",案件入力!D15="失注"),案件入力!I15,IF(案件入力!G15="","",案件入力!G15))) -> 46316
A18: =IF(COUNTA(案件入力!A16:J16)=0,"",IF(COUNTA(案件入力!A16)=0,"",案件入力!A16)) | B18: =IF(COUNTA(案件入力!A16:J16)=0,"",IF(COUNTA(案件入力!B16)=0,"",案件入力!B16)) | C18: =IF(COUNTA(案件入力!A16:J16)=0,"",IF(COUNTA(案件入力!C16)=0,"",案件入力!C16)) | D18: =IF(COUNTA(案件入力!A16:J16)=0,"",IF(COUNTA(案件入力!D16)=0,"",案件入力!D16)) | E18: =IF(COUNTA(案件入力!A16:J16)=0,"",IF(COUNTA(案件入力!E16)=0,"",案件入力!E16)) | F18: =IF(COUNTA(案件入力!A16:J16)=0,"",IF(COUNTA(案件入力!F16)=0,"",案件入力!F16)) | G18: =IF(COUNTA(案件入力!A16:J16)=0,"",IF(COUNTA(案件入力!K16)=0,"",案件入力!K16)) | H18: =IF(COUNTA(案件入力!A16:J16)=0,"",IF(COUNTA(案件入力!H16)=0,"",案件入力!H16)) | I18: =IF(COUNTA(案件入力!A16:J16)=0,"",IF(OR(案件入力!D16="受注",案件入力!D16="失注"),案件入力!I16,IF(案件入力!G16="","",案件入力!G16)))
A19: =IF(COUNTA(案件入力!A17:J17)=0,"",IF(COUNTA(案件入力!A17)=0,"",案件入力!A17)) | B19: =IF(COUNTA(案件入力!A17:J17)=0,"",IF(COUNTA(案件入力!B17)=0,"",案件入力!B17)) | C19: =IF(COUNTA(案件入力!A17:J17)=0,"",IF(COUNTA(案件入力!C17)=0,"",案件入力!C17)) | D19: =IF(COUNTA(案件入力!A17:J17)=0,"",IF(COUNTA(案件入力!D17)=0,"",案件入力!D17)) | E19: =IF(COUNTA(案件入力!A17:J17)=0,"",IF(COUNTA(案件入力!E17)=0,"",案件入力!E17)) | F19: =IF(COUNTA(案件入力!A17:J17)=0,"",IF(COUNTA(案件入力!F17)=0,"",案件入力!F17)) | G19: =IF(COUNTA(案件入力!A17:J17)=0,"",IF(COUNTA(案件入力!K17)=0,"",案件入力!K17)) | H19: =IF(COUNTA(案件入力!A17:J17)=0,"",IF(COUNTA(案件入力!H17)=0,"",案件入力!H17)) | I19: =IF(COUNTA(案件入力!A17:J17)=0,"",IF(OR(案件入力!D17="受注",案件入力!D17="失注"),案件入力!I17,IF(案件入力!G17="","",案件入力!G17)))
A20: =IF(COUNTA(案件入力!A18:J18)=0,"",IF(COUNTA(案件入力!A18)=0,"",案件入力!A18)) | B20: =IF(COUNTA(案件入力!A18:J18)=0,"",IF(COUNTA(案件入力!B18)=0,"",案件入力!B18)) | C20: =IF(COUNTA(案件入力!A18:J18)=0,"",IF(COUNTA(案件入力!C18)=0,"",案件入力!C18)) | D20: =IF(COUNTA(案件入力!A18:J18)=0,"",IF(COUNTA(案件入力!D18)=0,"",案件入力!D18)) | E20: =IF(COUNTA(案件入力!A18:J18)=0,"",IF(COUNTA(案件入力!E18)=0,"",案件入力!E18)) | F20: =IF(COUNTA(案件入力!A18:J18)=0,"",IF(COUNTA(案件入力!F18)=0,"",案件入力!F18)) | G20: =IF(COUNTA(案件入力!A18:J18)=0,"",IF(COUNTA(案件入力!K18)=0,"",案件入力!K18)) | H20: =IF(COUNTA(案件入力!A18:J18)=0,"",IF(COUNTA(案件入力!H18)=0,"",案件入力!H18)) | I20: =IF(COUNTA(案件入力!A18:J18)=0,"",IF(OR(案件入力!D18="受注",案件入力!D18="失注"),案件入力!I18,IF(案件入力!G18="","",案件入力!G18)))
A21: =IF(COUNTA(案件入力!A19:J19)=0,"",IF(COUNTA(案件入力!A19)=0,"",案件入力!A19)) | B21: =IF(COUNTA(案件入力!A19:J19)=0,"",IF(COUNTA(案件入力!B19)=0,"",案件入力!B19)) | C21: =IF(COUNTA(案件入力!A19:J19)=0,"",IF(COUNTA(案件入力!C19)=0,"",案件入力!C19)) | D21: =IF(COUNTA(案件入力!A19:J19)=0,"",IF(COUNTA(案件入力!D19)=0,"",案件入力!D19)) | E21: =IF(COUNTA(案件入力!A19:J19)=0,"",IF(COUNTA(案件入力!E19)=0,"",案件入力!E19)) | F21: =IF(COUNTA(案件入力!A19:J19)=0,"",IF(COUNTA(案件入力!F19)=0,"",案件入力!F19)) | G21: =IF(COUNTA(案件入力!A19:J19)=0,"",IF(COUNTA(案件入力!K19)=0,"",案件入力!K19)) | H21: =IF(COUNTA(案件入力!A19:J19)=0,"",IF(COUNTA(案件入力!H19)=0,"",案件入力!H19)) | I21: =IF(COUNTA(案件入力!A19:J19)=0,"",IF(OR(案件入力!D19="受注",案件入力!D19="失注"),案件入力!I19,IF(案件入力!G19="","",案件入力!G19)))
... A59: =IF(COUNTA(案件入力!A57:J57)=0,"",IF(COUNTA(案件入力!A57)=0,"",案件入力!A57)) | B59: =IF(COUNTA(案件入力!A57:J57)=0,"",IF(COUNTA(案件入力!B57)=0,"",案件入力!B57)) | C59: =IF(COUNTA(案件入力!A57:J57)=0,"",IF(COUNTA(案件入力!C57)=0,"",案件入力!C57)) | D59: =IF(COUNTA(案件入力!A57:J57)=0,"",IF(COUNTA(案件入力!D57)=0,"",案件入力!D57)) | E59: =IF(COUNTA(案件入力!A57:J57)=0,"",IF(COUNTA(案件入力!E57)=0,"",案件入力!E57)) | F59: =IF(COUNTA(案件入力!A57:J57)=0,"",IF(COUNTA(案件入力!F57)=0,"",案件入力!F57)) | G59: =IF(COUNTA(案件入力!A57:J57)=0,"",IF(COUNTA(案件入力!K57)=0,"",案件入力!K57)) | H59: =IF(COUNTA(案件入力!A57:J57)=0,"",IF(COUNTA(案件入力!H57)=0,"",案件入力!H57)) | I59: =IF(COUNTA(案件入力!A57:J57)=0,"",IF(OR(案件入力!D57="受注",案件入力!D57="失注"),案件入力!I57,IF(案件入力!G57="","",案件入力!G57)))

Sheet 案件入力
A2: 案件の状況・見込・受注の入力
A3: 黄色A〜Jへ。50案件/50顧客ID/20担当ID。顧客名・案件名とIDの対応や根拠は別の元台帳で管理。
A5: 確度は0〜100の整数（50%は50を入力）。確度100でも自動受注にせず、未確認は0%へ埋めません。
A7: 案件ID | B7: 顧客ID | C7: 担当ID | D7: 状況 | E7: 見込額（円） | F7: 確度（0〜100） | G7: 受注予定日 | H7: 受注額（円） | I7: 決着日 | J7: 記録確認日 | K7: 進行加重見込 | L7: 進行予定超過 | M7: 担当未設定 | N7: 入力の確認 | O7: 入力不備 | P7: 計算の前提
A8: OPP-0001 | B8: CUS-0001 | C8: STF-0001 | D8: 進行 | E8: 100000 | F8: 50 | G8: 46310 | J8: 46311 | K8: =IF(N8="","",IF(O8<>0,NA(),IF(D8="進行",ROUND(E8*F8/100,0),""))) -> 50000 | L8: =IF(N8="","",IF(O8<>0,NA(),IF(AND(D8="進行",G8<案件一覧!$B$3),1,0))) -> 1 | M8: =IF(N8="","",IF(O8<>0,NA(),IF(AND(NOT(OR(D8="受注",D8="失注")),C8=""),1,0))) -> 0 | N8: =IF(COUNTA(A8:J8)=0,"",IF(NOT(AND(ISTEXT(A8),LEN(A8)=8,EXACT(LEFT(A8,4),"OPP-"),ISNUMBER(FIND(MID(A8,5,1)&"x","0x1x2x3x4x5x6x7x8x9x")),ISNUMBER(FIND(MID(A8,6,1)&"x","0x1x2x3x4x5x6x7x8x9x")),ISNUMBER(FIND(MID(A8,7,1)&"x","0x1x2x3x4x5x6x7x8x9x")),ISNUMBER(FIND(MID(A8,8,1)&"x","0x1x2x3x4x5x6x7x8x9x")))),"案件IDはOPP-と半角数字4桁",IF(COUNTIFS($A$8:$A$57,A8)>1,"案件IDが重複",IF(NOT(AND(ISTEXT(B8),LEN(B8)=8,EXACT(LEFT(B8,4),"CUS-"),ISNUMBER(FIND(MID(B8,5,1)&"x","0x1x2x3x4x5x6x7x8x9x")),ISNUMBER(FIND(MID(B8,6,1)&"x","0x1x2x3x4x5x6x7x8x9x")),ISNUMBER(FIND(MID(B8,7,1)&"x","0x1x2x3x4x5x6x7x8x9x")),ISNUMBER(FIND(MID(B8,8,1)&"x","0x1x2x3x4x5x6x7x8x9x")))),"顧客IDの形式を確認",IF(COUNTIFS(登録ID!$A$8:$A$57,B8)<>1,"顧客が未登録/重複",IF(AND(COUNTA(C8)>0,NOT(AND(ISTEXT(C8),LEN(C8)=8,EXACT(LEFT(C8,4),"STF-"),ISNUMBER(FIND(MID(C8,5,1)&"x","0x1x2x3x4x5x6x7x8x9x")),ISNUMBER(FIND(MID(C8,6,1)&"x","0x1x2x3x4x5x6x7x8x9x")),ISNUMBER(FIND(MID(C8,7,1)&"x","0x1x2x3x4x5x6x7x8x9x")),ISNUMBER(FIND(MID(C8,8,1)&"x","0x1x2x3x4x5x6x7x8x9x"))))),"担当IDの形式を確認",IF(AND(COUNTA(C8)>0,COUNTIFS(登録ID!$E$8:$E$27,C8)<>1),"担当が未登録/重複",IF(NOT(OR(D8="進行",D8="保留",D8="受注",D8="失注",D8="未確認")),"状況を確認",IF(AND(OR(D8="進行",D8="保留"),NOT(AND(AND(ISNUMBER(E8),E8>=0,E8<=1000000000,E8=INT(E8)),AND(ISNUMBER(F8),F8>=0,F8<=100,F8=INT(F8)),AND(ISNUMBER(G8),G8>=43831,G8<73051,G8=INT(G8))))),"進行/保留は見込額・確度・予定日が必須",IF(AND(COUNTA(E8)>0,NOT(AND(ISNUMBER(E8),E8>=0,E8<=1000000000,E8=INT(E8)))),"見込額は0〜10億円の整数",IF(AND(COUNTA(F8)>0,NOT(AND(ISNUMBER(F8),F8>=0,F8<=100,F8=INT(F8)))),"確度は0〜100の整数",IF(AND(COUNTA(G8)>0,NOT(AND(ISNUMBER(G8),G8>=43831,G8<73051,G8=INT(G8)))),"予定日は時刻なしの日付",IF(AND(D8="受注",NOT(AND(ISNUMBER(H8),H8>=0,H8<=1000000000,H8=INT(H8)))),"受注額は0〜10億円の整数で必須",IF(AND(D8<>"受注",COUNTA(H8)>0),"受注以外は受注額を空欄",IF(AND(OR(D8="受注",D8="失注"),NOT(AND(ISNUMBER(I8),I8>=43831,I8<73051,I8=INT(I8)))),"受注/失注は決着日が必須",IF(AND(NOT(OR(D8="受注",D8="失注")),COUNTA(I8)>0),"未決着の決着日は空欄",IF(NOT(AND(ISNUMBER(J8),J8>=43831,J8<73051,J8=INT(J8))),"記録確認日は時刻なしの日付で必須",IF(J8>案件一覧!$B$3,"確認日が基準日より後",IF(AND(OR(D8="受注",D8="失注"),I8>J8),"決着日が記録確認日より後","確認済み"))))))))))))))))))) -> 確認済み | O8: =IF(N8="","",IF(N8="確認済み",0,1)) -> 0 | P8: =IF(N8="","",IF(NOT(AND(ISNUMBER(O8),O8=IF(N8="確認済み",0,1))),1,IF(O8<>0,0,IF(AND(IF(D8="進行",ISNUMBER(K8),ISTEXT(K8)),K8=IF(D8="進行",ROUND(E8*F8/100,0),""),ISNUMBER(L8),L8=IF(AND(D8="進行",G8<案件一覧!$B$3),1,0),ISNUMBER(M8),M8=IF(AND(NOT(OR(D8="受注",D8="失注")),C8=""),1,0)),0,1)))) -> 0
A9: OPP-0002 | B9: CUS-0002 | C9: STF-0002 | D9: 進行 | E9: 200001 | F9: 25 | G9: 46315 | J9: 46311 | K9: =IF(N9="","",IF(O9<>0,NA(),IF(D9="進行",ROUND(E9*F9/100,0),""))) -> 50000 | L9: =IF(N9="","",IF(O9<>0,NA(),IF(AND(D9="進行",G9<案件一覧!$B$3),1,0))) -> 0 | M9: =IF(N9="","",IF(O9<>0,NA(),IF(AND(NOT(OR(D9="受注",D9="失注")),C9=""),1,0))) -> 0 | N9: =IF(COUNTA(A9:J9)=0,"",IF(NOT(AND(ISTEXT(A9),LEN(A9)=8,EXACT(LEFT(A9,4),"OPP-"),ISNUMBER(FIND(MID(A9,5,1)&"x","0x1x2x3x4x5x6x7x8x9x")),ISNUMBER(FIND(MID(A9,6,1)&"x","0x1x2x3x4x5x6x7x8x9x")),ISNUMBER(FIND(MID(A9,7,1)&"x","0x1x2x3x4x5x6x7x8x9x")),ISNUMBER(FIND(MID(A9,8,1)&"x","0x1x2x3x4x5x6x7x8x9x")))),"案件IDはOPP-と半角数字4桁",IF(COUNTIFS($A$8:$A$57,A9)>1,"案件IDが重複",IF(NOT(AND(ISTEXT(B9),LEN(B9)=8,EXACT(LEFT(B9,4),"CUS-"),ISNUMBER(FIND(MID(B9,5,1)&"x","0x1x2x3x4x5x6x7x8x9x")),ISNUMBER(FIND(MID(B9,6,1)&"x","0x1x2x3x4x5x6x7x8x9x")),ISNUMBER(FIND(MID(B9,7,1)&"x","0x1x2x3x4x5x6x7x8x9x")),ISNUMBER(FIND(MID(B9,8,1)&"x","0x1x2x3x4x5x6x7x8x9x")))),"顧客IDの形式を確認",IF(COUNTIFS(登録ID!$A$8:$A$57,B9)<>1,"顧客が未登録/重複",IF(AND(COUNTA(C9)>0,NOT(AND(ISTEXT(C9),LEN(C9)=8,EXACT(LEFT(C9,4),"STF-"),ISNUMBER(FIND(MID(C9,5,1)&"x","0x1x2x3x4x5x6x7x8x9x")),ISNUMBER(FIND(MID(C9,6,1)&"x","0x1x2x3x4x5x6x7x8x9x")),ISNUMBER(FIND(MID(C9,7,1)&"x","0x1x2x3x4x5x6x7x8x9x")),ISNUMBER(FIND(MID(C9,8,1)&"x","0x1x2x3x4x5x6x7x8x9x"))))),"担当IDの形式を確認",IF(AND(COUNTA(C9)>0,COUNTIFS(登録ID!$E$8:$E$27,C9)<>1),"担当が未登録/重複",IF(NOT(OR(D9="進行",D9="保留",D9="受注",D9="失注",D9="未確認")),"状況を確認",IF(AND(OR(D9="進行",D9="保留"),NOT(AND(AND(ISNUMBER(E9),E9>=0,E9<=1000000000,E9=INT(E9)),AND(ISNUMBER(F9),F9>=0,F9<=100,F9=INT(F9)),AND(ISNUMBER(G9),G9>=43831,G9<73051,G9=INT(G9))))),"進行/保留は見込額・確度・予定日が必須",IF(AND(COUNTA(E9)>0,NOT(AND(ISNUMBER(E9),E9>=0,E9<=1000000000,E9=INT(E9)))),"見込額は0〜10億円の整数",IF(AND(COUNTA(F9)>0,NOT(AND(ISNUMBER(F9),F9>=0,F9<=100,F9=INT(F9)))),"確度は0〜100の整数",IF(AND(COUNTA(G9)>0,NOT(AND(ISNUMBER(G9),G9>=43831,G9<73051,G9=INT(G9)))),"予定日は時刻なしの日付",IF(AND(D9="受注",NOT(AND(ISNUMBER(H9),H9>=0,H9<=1000000000,H9=INT(H9)))),"受注額は0〜10億円の整数で必須",IF(AND(D9<>"受注",COUNTA(H9)>0),"受注以外は受注額を空欄",IF(AND(OR(D9="受注",D9="失注"),NOT(AND(ISNUMBER(I9),I9>=43831,I9<73051,I9=INT(I9)))),"受注/失注は決着日が必須",IF(AND(NOT(OR(D9="受注",D9="失注")),COUNTA(I9)>0),"未決着の決着日は空欄",IF(NOT(AND(ISNUMBER(J9),J9>=43831,J9<73051,J9=INT(J9))),"記録確認日は時刻なしの日付で必須",IF(J9>案件一覧!$B$3,"確認日が基準日より後",IF(AND(OR(D9="受注",D9="失注"),I9>J9),"決着日が記録確認日より後","確認済み"))))))))))))))))))) -> 確認済み | O9: =IF(N9="","",IF(N9="確認済み",0,1)) -> 0 | P9: =IF(N9="","",IF(NOT(AND(ISNUMBER(O9),O9=IF(N9="確認済み",0,1))),1,IF(O9<>0,0,IF(AND(IF(D9="進行",ISNUMBER(K9),ISTEXT(K9)),K9=IF(D9="進行",ROUND(E9*F9/100,0),""),ISNUMBER(L9),L9=IF(AND(D9="進行",G9<案件一覧!$B$3),1,0),ISNUMBER(M9),M9=IF(AND(NOT(OR(D9="受注",D9="失注")),C9=""),1,0)),0,1)))) -> 0
A10: OPP-0003 | B10: CUS-0003 | D10: 進行 | E10: 0 | F10: 0 | G10: 46311 | J10: 46311 | K10: =IF(N10="","",IF(O10<>0,NA(),IF(D10="進行",ROUND(E10*F10/100,0),""))) -> 0 | L10: =IF(N10="","",IF(O10<>0,NA(),IF(AND(D10="進行",G10<案件一覧!$B$3),1,0))) -> 0 | M10: =IF(N10="","",IF(O10<>0,NA(),IF(AND(NOT(OR(D10="受注",D10="失注")),C10=""),1,0))) -> 1 | N10: =IF(COUNTA(A10:J10)=0,"",IF(NOT(AND(ISTEXT(A10),LEN(A10)=8,EXACT(LEFT(A10,4),"OPP-"),ISNUMBER(FIND(MID(A10,5,1)&"x","0x1x2x3x4x5x6x7x8x9x")),ISNUMBER(FIND(MID(A10,6,1)&"x","0x1x2x3x4x5x6x7x8x9x")),ISNUMBER(FIND(MID(A10,7,1)&"x","0x1x2x3x4x5x6x7x8x9x")),ISNUMBER(FIND(MID(A10,8,1)&"x","0x1x2x3x4x5x6x7x8x9x")))),"案件IDはOPP-と半角数字4桁",IF(COUNTIFS($A$8:$A$57,A10)>1,"案件IDが重複",IF(NOT(AND(ISTEXT(B10),LEN(B10)=8,EXACT(LEFT(B10,4),"CUS-"),ISNUMBER(FIND(MID(B10,5,1)&"x","0x1x2x3x4x5x6x7x8x9x")),ISNUMBER(FIND(MID(B10,6,1)&"x","0x1x2x3x4x5x6x7x8x9x")),ISNUMBER(FIND(MID(B10,7,1)&"x","0x1x2x3x4x5x6x7x8x9x")),ISNUMBER(FIND(MID(B10,8,1)&"x","0x1x2x3x4x5x6x7x8x9x")))),"顧客IDの形式を確認",IF(COUNTIFS(登録ID!$A$8:$A$57,B10)<>1,"顧客が未登録/重複",IF(AND(COUNTA(C10)>0,NOT(AND(ISTEXT(C10),LEN(C10)=8,EXACT(LEFT(C10,4),"STF-"),ISNUMBER(FIND(MID(C10,5,1)&"x","0x1x2x3x4x5x6x7x8x9x")),ISNUMBER(FIND(MID(C10,6,1)&"x","0x1x2x3x4x5x6x7x8x9x")),ISNUMBER(FIND(MID(C10,7,1)&"x","0x1x2x3x4x5x6x7x8x9x")),ISNUMBER(FIND(MID(C10,8,1)&"x","0x1x2x3x4x5x6x7x8x9x"))))),"担当IDの形式を確認",IF(AND(COUNTA(C10)>0,COUNTIFS(登録ID!$E$8:$E$27,C10)<>1),"担当が未登録/重複",IF(NOT(OR(D10="進行",D10="保留",D10="受注",D10="失注",D10="未確認")),"状況を確認",IF(AND(OR(D10="進行",D10="保留"),NOT(AND(AND(ISNUMBER(E10),E10>=0,E10<=1000000000,E10=INT(E10)),AND(ISNUMBER(F10),F10>=0,F10<=100,F10=INT(F10)),AND(ISNUMBER(G10),G10>=43831,G10<73051,G10=INT(G10))))),"進行/保留は見込額・確度・予定日が必須",IF(AND(COUNTA(E10)>0,NOT(AND(ISNUMBER(E10),E10>=0,E10<=1000000000,E10=INT(E10)))),"見込額は0〜10億円の整数",IF(AND(COUNTA(F10)>0,NOT(AND(ISNUMBER(F10),F10>=0,F10<=100,F10=INT(F10)))),"確度は0〜100の整数",IF(AND(COUNTA(G10)>0,NOT(AND(ISNUMBER(G10),G10>=43831,G10<73051,G10=INT(G10)))),"予定日は時刻なしの日付",IF(AND(D10="受注",NOT(AND(ISNUMBER(H10),H10>=0,H10<=1000000000,H10=INT(H10)))),"受注額は0〜10億円の整数で必須",IF(AND(D10<>"受注",COUNTA(H10)>0),"受注以外は受注額を空欄",IF(AND(OR(D10="受注",D10="失注"),NOT(AND(ISNUMBER(I10),I10>=43831,I10<73051,I10=INT(I10)))),"受注/失注は決着日が必須",IF(AND(NOT(OR(D10="受注",D10="失注")),COUNTA(I10)>0),"未決着の決着日は空欄",IF(NOT(AND(ISNUMBER(J10),J10>=43831,J10<73051,J10=INT(J10))),"記録確認日は時刻なしの日付で必須",IF(J10>案件一覧!$B$3,"確認日が基準日より後",IF(AND(OR(D10="受注",D10="失注"),I10>J10),"決着日が記録確認日より後","確認済み"))))))))))))))))))) -> 確認済み | O10: =IF(N10="","",IF(N10="確認済み",0,1)) -> 0 | P10: =IF(N10="","",IF(NOT(AND(ISNUMBER(O10),O10=IF(N10="確認済み",0,1))),1,IF(O10<>0,0,IF(AND(IF(D10="進行",ISNUMBER(K10),ISTEXT(K10)),K10=IF(D10="進行",ROUND(E10*F10/100,0),""),ISNUMBER(L10),L10=IF(AND(D10="進行",G10<案件一覧!$B$3),1,0),ISNUMBER(M10),M10=IF(AND(NOT(OR(D10="受注",D10="失注")),C10=""),1,0)),0,1)))) -> 0
A11: OPP-0004 | B11: CUS-0001 | C11: STF-0003 | D11: 保留 | E11: 80000 | F11: 75 | G11: 46309 | J11: 46311 | K11: =IF(N11="","",IF(O11<>0,NA(),IF(D11="進行",ROUND(E11*F11/100,0),""))) | L11: =IF(N11="","",IF(O11<>0,NA(),IF(AND(D11="進行",G11<案件一覧!$B$3),1,0))) -> 0 | M11: =IF(N11="","",IF(O11<>0,NA(),IF(AND(NOT(OR(D11="受注",D11="失注")),C11=""),1,0))) -> 0 | N11: =IF(COUNTA(A11:J11)=0,"",IF(NOT(AND(ISTEXT(A11),LEN(A11)=8,EXACT(LEFT(A11,4),"OPP-"),ISNUMBER(FIND(MID(A11,5,1)&"x","0x1x2x3x4x5x6x7x8x9x")),ISNUMBER(FIND(MID(A11,6,1)&"x","0x1x2x3x4x5x6x7x8x9x")),ISNUMBER(FIND(MID(A11,7,1)&"x","0x1x2x3x4x5x6x7x8x9x")),ISNUMBER(FIND(MID(A11,8,1)&"x","0x1x2x3x4x5x6x7x8x9x")))),"案件IDはOPP-と半角数字4桁",IF(COUNTIFS($A$8:$A$57,A11)>1,"案件IDが重複",IF(NOT(AND(ISTEXT(B11),LEN(B11)=8,EXACT(LEFT(B11,4),"CUS-"),ISNUMBER(FIND(MID(B11,5,1)&"x","0x1x2x3x4x5x6x7x8x9x")),ISNUMBER(FIND(MID(B11,6,1)&"x","0x1x2x3x4x5x6x7x8x9x")),ISNUMBER(FIND(MID(B11,7,1)&"x","0x1x2x3x4x5x6x7x8x9x")),ISNUMBER(FIND(MID(B11,8,1)&"x","0x1x2x3x4x5x6x7x8x9x")))),"顧客IDの形式を確認",IF(COUNTIFS(登録ID!$A$8:$A$57,B11)<>1,"顧客が未登録/重複",IF(AND(COUNTA(C11)>0,NOT(AND(ISTEXT(C11),LEN(C11)=8,EXACT(LEFT(C11,4),"STF-"),ISNUMBER(FIND(MID(C11,5,1)&"x","0x1x2x3x4x5x6x7x8x9x")),ISNUMBER(FIND(MID(C11,6,1)&"x","0x1x2x3x4x5x6x7x8x9x")),ISNUMBER(FIND(MID(C11,7,1)&"x","0x1x2x3x4x5x6x7x8x9x")),ISNUMBER(FIND(MID(C11,8,1)&"x","0x1x2x3x4x5x6x7x8x9x"))))),"担当IDの形式を確認",IF(AND(COUNTA(C11)>0,COUNTIFS(登録ID!$E$8:$E$27,C11)<>1),"担当が未登録/重複",IF(NOT(OR(D11="進行",D11="保留",D11="受注",D11="失注",D11="未確認")),"状況を確認",IF(AND(OR(D11="進行",D11="保留"),NOT(AND(AND(ISNUMBER(E11),E11>=0,E11<=1000000000,E11=INT(E11)),AND(ISNUMBER(F11),F11>=0,F11<=100,F11=INT(F11)),AND(ISNUMBER(G11),G11>=43831,G11<73051,G11=INT(G11))))),"進行/保留は見込額・確度・予定日が必須",IF(AND(COUNTA(E11)>0,NOT(AND(ISNUMBER(E11),E11>=0,E11<=1000000000,E11=INT(E11)))),"見込額は0〜10億円の整数",IF(AND(COUNTA(F11)>0,NOT(AND(ISNUMBER(F11),F11>=0,F11<=100,F11=INT(F11)))),"確度は0〜100の整数",IF(AND(COUNTA(G11)>0,NOT(AND(ISNUMBER(G11),G11>=43831,G11<73051,G11=INT(G11)))),"予定日は時刻なしの日付",IF(AND(D11="受注",NOT(AND(ISNUMBER(H11),H11>=0,H11<=1000000000,H11=INT(H11)))),"受注額は0〜10億円の整数で必須",IF(AND(D11<>"受注",COUNTA(H11)>0),"受注以外は受注額を空欄",IF(AND(OR(D11="受注",D11="失注"),NOT(AND(ISNUMBER(I11),I11>=43831,I11<73051,I11=INT(I11)))),"受注/失注は決着日が必須",IF(AND(NOT(OR(D11="受注",D11="失注")),COUNTA(I11)>0),"未決着の決着日は空欄",IF(NOT(AND(ISNUMBER(J11),J11>=43831,J11<73051,J11=INT(J11))),"記録確認日は時刻なしの日付で必須",IF(J11>案件一覧!$B$3,"確認日が基準日より後",IF(AND(OR(D11="受注",D11="失注"),I11>J11),"決着日が記録確認日より後","確認済み"))))))))))))))))))) -> 確認済み | O11: =IF(N11="","",IF(N11="確認済み",0,1)) -> 0 | P11: =IF(N11="","",IF(NOT(AND(ISNUMBER(O11),O11=IF(N11="確認済み",0,1))),1,IF(O11<>0,0,IF(AND(IF(D11="進行",ISNUMBER(K11),ISTEXT(K11)),K11=IF(D11="進行",ROUND(E11*F11/100,0),""),ISNUMBER(L11),L11=IF(AND(D11="進行",G11<案件一覧!$B$3),1,0),ISNUMBER(M11),M11=IF(AND(NOT(OR(D11="受注",D11="失注")),C11=""),1,0)),0,1)))) -> 0
A12: OPP-0005 | B12: CUS-0002 | C12: STF-0002 | D12: 受注 | E12: 120000 | F12: 100 | G12: 46307 | H12: 110000 | I12: 46305 | J12: 46311 | K12: =IF(N12="","",IF(O12<>0,NA(),IF(D12="進行",ROUND(E12*F12/100,0),""))) | L12: =IF(N12="","",IF(O12<>0,NA(),IF(AND(D12="進行",G12<案件一覧!$B$3),1,0))) -> 0 | M12: =IF(N12="","",IF(O12<>0,NA(),IF(AND(NOT(OR(D12="受注",D12="失注")),C12=""),1,0))) -> 0 | N12: =IF(COUNTA(A12:J12)=0,"",IF(NOT(AND(ISTEXT(A12),LEN(A12)=8,EXACT(LEFT(A12,4),"OPP-"),ISNUMBER(FIND(MID(A12,5,1)&"x","0x1x2x3x4x5x6x7x8x9x")),ISNUMBER(FIND(MID(A12,6,1)&"x","0x1x2x3x4x5x6x7x8x9x")),ISNUMBER(FIND(MID(A12,7,1)&"x","0x1x2x3x4x5x6x7x8x9x")),ISNUMBER(FIND(MID(A12,8,1)&"x","0x1x2x3x4x5x6x7x8x9x")))),"案件IDはOPP-と半角数字4桁",IF(COUNTIFS($A$8:$A$57,A12)>1,"案件IDが重複",IF(NOT(AND(ISTEXT(B12),LEN(B12)=8,EXACT(LEFT(B12,4),"CUS-"),ISNUMBER(FIND(MID(B12,5,1)&"x","0x1x2x3x4x5x6x7x8x9x")),ISNUMBER(FIND(MID(B12,6,1)&"x","0x1x2x3x4x5x6x7x8x9x")),ISNUMBER(FIND(MID(B12,7,1)&"x","0x1x2x3x4x5x6x7x8x9x")),ISNUMBER(FIND(MID(B12,8,1)&"x","0x1x2x3x4x5x6x7x8x9x")))),"顧客IDの形式を確認",IF(COUNTIFS(登録ID!$A$8:$A$57,B12)<>1,"顧客が未登録/重複",IF(AND(COUNTA(C12)>0,NOT(AND(ISTEXT(C12),LEN(C12)=8,EXACT(LEFT(C12,4),"STF-"),ISNUMBER(FIND(MID(C12,5,1)&"x","0x1x2x3x4x5x6x7x8x9x")),ISNUMBER(FIND(MID(C12,6,1)&"x","0x1x2x3x4x5x6x7x8x9x")),ISNUMBER(FIND(MID(C12,7,1)&"x","0x1x2x3x4x5x6x7x8x9x")),ISNUMBER(FIND(MID(C12,8,1)&"x","0x1x2x3x4x5x6x7x8x9x"))))),"担当IDの形式を確認",IF(AND(COUNTA(C12)>0,COUNTIFS(登録ID!$E$8:$E$27,C12)<>1),"担当が未登録/重複",IF(NOT(OR(D12="進行",D12="保留",D12="受注",D12="失注",D12="未確認")),"状況を確認",IF(AND(OR(D12="進行",D12="保留"),NOT(AND(AND(ISNUMBER(E12),E12>=0,E12<=1000000000,E12=INT(E12)),AND(ISNUMBER(F12),F12>=0,F12<=100,F12=INT(F12)),AND(ISNUMBER(G12),G12>=43831,G12<73051,G12=INT(G12))))),"進行/保留は見込額・確度・予定日が必須",IF(AND(COUNTA(E12)>0,NOT(AND(ISNUMBER(E12),E12>=0,E12<=1000000000,E12=INT(E12)))),"見込額は0〜10億円の整数",IF(AND(COUNTA(F12)>0,NOT(AND(ISNUMBER(F12),F12>=0,F12<=100,F12=INT(F12)))),"確度は0〜100の整数",IF(AND(COUNTA(G12)>0,NOT(AND(ISNUMBER(G12),G12>=43831,G12<73051,G12=INT(G12)))),"予定日は時刻なしの日付",IF(AND(D12="受注",NOT(AND(ISNUMBER(H12),H12>=0,H12<=1000000000,H12=INT(H12)))),"受注額は0〜10億円の整数で必須",IF(AND(D12<>"受注",COUNTA(H12)>0),"受注以外は受注額を空欄",IF(AND(OR(D12="受注",D12="失注"),NOT(AND(ISNUMBER(I12),I12>=43831,I12<73051,I12=INT(I12)))),"受注/失注は決着日が必須",IF(AND(NOT(OR(D12="受注",D12="失注")),COUNTA(I12)>0),"未決着の決着日は空欄",IF(NOT(AND(ISNUMBER(J12),J12>=43831,J12<73051,J12=INT(J12))),"記録確認日は時刻なしの日付で必須",IF(J12>案件一覧!$B$3,"確認日が基準日より後",IF(AND(OR(D12="受注",D12="失注"),I12>J12),"決着日が記録確認日より後","確認済み"))))))))))))))))))) -> 確認済み | O12: =IF(N12="","",IF(N12="確認済み",0,1)) -> 0 | P12: =IF(N12="","",IF(NOT(AND(ISNUMBER(O12),O12=IF(N12="確認済み",0,1))),1,IF(O12<>0,0,IF(AND(IF(D12="進行",ISNUMBER(K12),ISTEXT(K12)),K12=IF(D12="進行",ROUND(E12*F12/100,0),""),ISNUMBER(L12),L12=IF(AND(D12="進行",G12<案件一覧!$B$3),1,0),ISNUMBER(M12),M12=IF(AND(NOT(OR(D12="受注",D12="失注")),C12=""),1,0)),0,1)))) -> 0
A13: OPP-0006 | B13: CUS-0003 | C13: STF-0003 | D13: 失注 | E13: 60000 | F13: 40 | G13: 46308 | I13: 46306 | J13: 46311 | K13: =IF(N13="","",IF(O13<>0,NA(),IF(D13="進行",ROUND(E13*F13/100,0),""))) | L13: =IF(N13="","",IF(O13<>0,NA(),IF(AND(D13="進行",G13<案件一覧!$B$3),1,0))) -> 0 | M13: =IF(N13="","",IF(O13<>0,NA(),IF(AND(NOT(OR(D13="受注",D13="失注")),C13=""),1,0))) -> 0 | N13: =IF(COUNTA(A13:J13)=0,"",IF(NOT(AND(ISTEXT(A13),LEN(A13)=8,EXACT(LEFT(A13,4),"OPP-"),ISNUMBER(FIND(MID(A13,5,1)&"x","0x1x2x3x4x5x6x7x8x9x")),ISNUMBER(FIND(MID(A13,6,1)&"x","0x1x2x3x4x5x6x7x8x9x")),ISNUMBER(FIND(MID(A13,7,1)&"x","0x1x2x3x4x5x6x7x8x9x")),ISNUMBER(FIND(MID(A13,8,1)&"x","0x1x2x3x4x5x6x7x8x9x")))),"案件IDはOPP-と半角数字4桁",IF(COUNTIFS($A$8:$A$57,A13)>1,"案件IDが重複",IF(NOT(AND(ISTEXT(B13),LEN(B13)=8,EXACT(LEFT(B13,4),"CUS-"),ISNUMBER(FIND(MID(B13,5,1)&"x","0x1x2x3x4x5x6x7x8x9x")),ISNUMBER(FIND(MID(B13,6,1)&"x","0x1x2x3x4x5x6x7x8x9x")),ISNUMBER(FIND(MID(B13,7,1)&"x","0x1x2x3x4x5x6x7x8x9x")),ISNUMBER(FIND(MID(B13,8,1)&"x","0x1x2x3x4x5x6x7x8x9x")))),"顧客IDの形式を確認",IF(COUNTIFS(登録ID!$A$8:$A$57,B13)<>1,"顧客が未登録/重複",IF(AND(COUNTA(C13)>0,NOT(AND(ISTEXT(C13),LEN(C13)=8,EXACT(LEFT(C13,4),"STF-"),ISNUMBER(FIND(MID(C13,5,1)&"x","0x1x2x3x4x5x6x7x8x9x")),ISNUMBER(FIND(MID(C13,6,1)&"x","0x1x2x3x4x5x6x7x8x9x")),ISNUMBER(FIND(MID(C13,7,1)&"x","0x1x2x3x4x5x6x7x8x9x")),ISNUMBER(FIND(MID(C13,8,1)&"x","0x1x2x3x4x5x6x7x8x9x"))))),"担当IDの形式を確認",IF(AND(COUNTA(C13)>0,COUNTIFS(登録ID!$E$8:$E$27,C13)<>1),"担当が未登録/重複",IF(NOT(OR(D13="進行",D13="保留",D13="受注",D13="失注",D13="未確認")),"状況を確認",IF(AND(OR(D13="進行",D13="保留"),NOT(AND(AND(ISNUMBER(E13),E13>=0,E13<=1000000000,E13=INT(E13)),AND(ISNUMBER(F13),F13>=0,F13<=100,F13=INT(F13)),AND(ISNUMBER(G13),G13>=43831,G13<73051,G13=INT(G13))))),"進行/保留は見込額・確度・予定日が必須",IF(AND(COUNTA(E13)>0,NOT(AND(ISNUMBER(E13),E13>=0,E13<=1000000000,E13=INT(E13)))),"見込額は0〜10億円の整数",IF(AND(COUNTA(F13)>0,NOT(AND(ISNUMBER(F13),F13>=0,F13<=100,F13=INT(F13)))),"確度は0〜100の整数",IF(AND(COUNTA(G13)>0,NOT(AND(ISNUMBER(G13),G13>=43831,G13<73051,G13=INT(G13)))),"予定日は時刻なしの日付",IF(AND(D13="受注",NOT(AND(ISNUMBER(H13),H13>=0,H13<=1000000000,H13=INT(H13)))),"受注額は0〜10億円の整数で必須",IF(AND(D13<>"受注",COUNTA(H13)>0),"受注以外は受注額を空欄",IF(AND(OR(D13="受注",D13="失注"),NOT(AND(ISNUMBER(I13),I13>=43831,I13<73051,I13=INT(I13)))),"受注/失注は決着日が必須",IF(AND(NOT(OR(D13="受注",D13="失注")),COUNTA(I13)>0),"未決着の決着日は空欄",IF(NOT(AND(ISNUMBER(J13),J13>=43831,J13<73051,J13=INT(J13))),"記録確認日は時刻なしの日付で必須",IF(J13>案件一覧!$B$3,"確認日が基準日より後",IF(AND(OR(D13="受注",D13="失注"),I13>J13),"決着日が記録確認日より後","確認済み"))))))))))))))))))) -> 確認済み | O13: =IF(N13="","",IF(N13="確認済み",0,1)) -> 0 | P13: =IF(N13="","",IF(NOT(AND(ISNUMBER(O13),O13=IF(N13="確認済み",0,1))),1,IF(O13<>0,0,IF(AND(IF(D13="進行",ISNUMBER(K13),ISTEXT(K13)),K13=IF(D13="進行",ROUND(E13*F13/100,0),""),ISNUMBER(L13),L13=IF(AND(D13="進行",G13<案件一覧!$B$3),1,0),ISNUMBER(M13),M13=IF(AND(NOT(OR(D13="受注",D13="失注")),C13=""),1,0)),0,1)))) -> 0
A14: OPP-0007 | B14: CUS-0004 | D14: 未確認 | J14: 46311 | K14: =IF(N14="","",IF(O14<>0,NA(),IF(D14="進行",ROUND(E14*F14/100,0),""))) | L14: =IF(N14="","",IF(O14<>0,NA(),IF(AND(D14="進行",G14<案件一覧!$B$3),1,0))) -> 0 | M14: =IF(N14="","",IF(O14<>0,NA(),IF(AND(NOT(OR(D14="受注",D14="失注")),C14=""),1,0))) -> 1 | N14: =IF(COUNTA(A14:J14)=0,"",IF(NOT(AND(ISTEXT(A14),LEN(A14)=8,EXACT(LEFT(A14,4),"OPP-"),ISNUMBER(FIND(MID(A14,5,1)&"x","0x1x2x3x4x5x6x7x8x9x")),ISNUMBER(FIND(MID(A14,6,1)&"x","0x1x2x3x4x5x6x7x8x9x")),ISNUMBER(FIND(MID(A14,7,1)&"x","0x1x2x3x4x5x6x7x8x9x")),ISNUMBER(FIND(MID(A14,8,1)&"x","0x1x2x3x4x5x6x7x8x9x")))),"案件IDはOPP-と半角数字4桁",IF(COUNTIFS($A$8:$A$57,A14)>1,"案件IDが重複",IF(NOT(AND(ISTEXT(B14),LEN(B14)=8,EXACT(LEFT(B14,4),"CUS-"),ISNUMBER(FIND(MID(B14,5,1)&"x","0x1x2x3x4x5x6x7x8x9x")),ISNUMBER(FIND(MID(B14,6,1)&"x","0x1x2x3x4x5x6x7x8x9x")),ISNUMBER(FIND(MID(B14,7,1)&"x","0x1x2x3x4x5x6x7x8x9x")),ISNUMBER(FIND(MID(B14,8,1)&"x","0x1x2x3x4x5x6x7x8x9x")))),"顧客IDの形式を確認",IF(COUNTIFS(登録ID!$A$8:$A$57,B14)<>1,"顧客が未登録/重複",IF(AND(COUNTA(C14)>0,NOT(AND(ISTEXT(C14),LEN(C14)=8,EXACT(LEFT(C14,4),"STF-"),ISNUMBER(FIND(MID(C14,5,1)&"x","0x1x2x3x4x5x6x7x8x9x")),ISNUMBER(FIND(MID(C14,6,1)&"x","0x1x2x3x4x5x6x7x8x9x")),ISNUMBER(FIND(MID(C14,7,1)&"x","0x1x2x3x4x5x6x7x8x9x")),ISNUMBER(FIND(MID(C14,8,1)&"x","0x1x2x3x4x5x6x7x8x9x"))))),"担当IDの形式を確認",IF(AND(COUNTA(C14)>0,COUNTIFS(登録ID!$E$8:$E$27,C14)<>1),"担当が未登録/重複",IF(NOT(OR(D14="進行",D14="保留",D14="受注",D14="失注",D14="未確認")),"状況を確認",IF(AND(OR(D14="進行",D14="保留"),NOT(AND(AND(ISNUMBER(E14),E14>=0,E14<=1000000000,E14=INT(E14)),AND(ISNUMBER(F14),F14>=0,F14<=100,F14=INT(F14)),AND(ISNUMBER(G14),G14>=43831,G14<73051,G14=INT(G14))))),"進行/保留は見込額・確度・予定日が必須",IF(AND(COUNTA(E14)>0,NOT(AND(ISNUMBER(E14),E14>=0,E14<=1000000000,E14=INT(E14)))),"見込額は0〜10億円の整数",IF(AND(COUNTA(F14)>0,NOT(AND(ISNUMBER(F14),F14>=0,F14<=100,F14=INT(F14)))),"確度は0〜100の整数",IF(AND(COUNTA(G14)>0,NOT(AND(ISNUMBER(G14),G14>=43831,G14<73051,G14=INT(G14)))),"予定日は時刻なしの日付",IF(AND(D14="受注",NOT(AND(ISNUMBER(H14),H14>=0,H14<=1000000000,H14=INT(H14)))),"受注額は0〜10億円の整数で必須",IF(AND(D14<>"受注",COUNTA(H14)>0),"受注以外は受注額を空欄",IF(AND(OR(D14="受注",D14="失注"),NOT(AND(ISNUMBER(I14),I14>=43831,I14<73051,I14=INT(I14)))),"受注/失注は決着日が必須",IF(AND(NOT(OR(D14="受注",D14="失注")),COUNTA(I14)>0),"未決着の決着日は空欄",IF(NOT(AND(ISNUMBER(J14),J14>=43831,J14<73051,J14=INT(J14))),"記録確認日は時刻なしの日付で必須",IF(J14>案件一覧!$B$3,"確認日が基準日より後",IF(AND(OR(D14="受注",D14="失注"),I14>J14),"決着日が記録確認日より後","確認済み"))))))))))))))))))) -> 確認済み | O14: =IF(N14="","",IF(N14="確認済み",0,1)) -> 0 | P14: =IF(N14="","",IF(NOT(AND(ISNUMBER(O14),O14=IF(N14="確認済み",0,1))),1,IF(O14<>0,0,IF(AND(IF(D14="進行",ISNUMBER(K14),ISTEXT(K14)),K14=IF(D14="進行",ROUND(E14*F14/100,0),""),ISNUMBER(L14),L14=IF(AND(D14="進行",G14<案件一覧!$B$3),1,0),ISNUMBER(M14),M14=IF(AND(NOT(OR(D14="受注",D14="失注")),C14=""),1,0)),0,1)))) -> 0
A15: OPP-0008 | B15: CUS-0004 | C15: STF-0004 | D15: 進行 | E15: 1 | F15: 50 | G15: 46316 | J15: 46311 | K15: =IF(N15="","",IF(O15<>0,NA(),IF(D15="進行",ROUND(E15*F15/100,0),""))) -> 1 | L15: =IF(N15="","",IF(O15<>0,NA(),IF(AND(D15="進行",G15<案件一覧!$B$3),1,0))) -> 0 | M15: =IF(N15="","",IF(O15<>0,NA(),IF(AND(NOT(OR(D15="受注",D15="失注")),C15=""),1,0))) -> 0 | N15: =IF(COUNTA(A15:J15)=0,"",IF(NOT(AND(ISTEXT(A15),LEN(A15)=8,EXACT(LEFT(A15,4),"OPP-"),ISNUMBER(FIND(MID(A15,5,1)&"x","0x1x2x3x4x5x6x7x8x9x")),ISNUMBER(FIND(MID(A15,6,1)&"x","0x1x2x3x4x5x6x7x8x9x")),ISNUMBER(FIND(MID(A15,7,1)&"x","0x1x2x3x4x5x6x7x8x9x")),ISNUMBER(FIND(MID(A15,8,1)&"x","0x1x2x3x4x5x6x7x8x9x")))),"案件IDはOPP-と半角数字4桁",IF(COUNTIFS($A$8:$A$57,A15)>1,"案件IDが重複",IF(NOT(AND(ISTEXT(B15),LEN(B15)=8,EXACT(LEFT(B15,4),"CUS-"),ISNUMBER(FIND(MID(B15,5,1)&"x","0x1x2x3x4x5x6x7x8x9x")),ISNUMBER(FIND(MID(B15,6,1)&"x","0x1x2x3x4x5x6x7x8x9x")),ISNUMBER(FIND(MID(B15,7,1)&"x","0x1x2x3x4x5x6x7x8x9x")),ISNUMBER(FIND(MID(B15,8,1)&"x","0x1x2x3x4x5x6x7x8x9x")))),"顧客IDの形式を確認",IF(COUNTIFS(登録ID!$A$8:$A$57,B15)<>1,"顧客が未登録/重複",IF(AND(COUNTA(C15)>0,NOT(AND(ISTEXT(C15),LEN(C15)=8,EXACT(LEFT(C15,4),"STF-"),ISNUMBER(FIND(MID(C15,5,1)&"x","0x1x2x3x4x5x6x7x8x9x")),ISNUMBER(FIND(MID(C15,6,1)&"x","0x1x2x3x4x5x6x7x8x9x")),ISNUMBER(FIND(MID(C15,7,1)&"x","0x1x2x3x4x5x6x7x8x9x")),ISNUMBER(FIND(MID(C15,8,1)&"x","0x1x2x3x4x5x6x7x8x9x"))))),"担当IDの形式を確認",IF(AND(COUNTA(C15)>0,COUNTIFS(登録ID!$E$8:$E$27,C15)<>1),"担当が未登録/重複",IF(NOT(OR(D15="進行",D15="保留",D15="受注",D15="失注",D15="未確認")),"状況を確認",IF(AND(OR(D15="進行",D15="保留"),NOT(AND(AND(ISNUMBER(E15),E15>=0,E15<=1000000000,E15=INT(E15)),AND(ISNUMBER(F15),F15>=0,F15<=100,F15=INT(F15)),AND(ISNUMBER(G15),G15>=43831,G15<73051,G15=INT(G15))))),"進行/保留は見込額・確度・予定日が必須",IF(AND(COUNTA(E15)>0,NOT(AND(ISNUMBER(E15),E15>=0,E15<=1000000000,E15=INT(E15)))),"見込額は0〜10億円の整数",IF(AND(COUNTA(F15)>0,NOT(AND(ISNUMBER(F15),F15>=0,F15<=100,F15=INT(F15)))),"確度は0〜100の整数",IF(AND(COUNTA(G15)>0,NOT(AND(ISNUMBER(G15),G15>=43831,G15<73051,G15=INT(G15)))),"予定日は時刻なしの日付",IF(AND(D15="受注",NOT(AND(ISNUMBER(H15),H15>=0,H15<=1000000000,H15=INT(H15)))),"受注額は0〜10億円の整数で必須",IF(AND(D15<>"受注",COUNTA(H15)>0),"受注以外は受注額を空欄",IF(AND(OR(D15="受注",D15="失注"),NOT(AND(ISNUMBER(I15),I15>=43831,I15<73051,I15=INT(I15)))),"受注/失注は決着日が必須",IF(AND(NOT(OR(D15="受注",D15="失注")),COUNTA(I15)>0),"未決着の決着日は空欄",IF(NOT(AND(ISNUMBER(J15),J15>=43831,J15<73051,J15=INT(J15))),"記録確認日は時刻なしの日付で必須",IF(J15>案件一覧!$B$3,"確認日が基準日より後",IF(AND(OR(D15="受注",D15="失注"),I15>J15),"決着日が記録確認日より後","確認済み"))))))))))))))))))) -> 確認済み | O15: =IF(N15="","",IF(N15="確認済み",0,1)) -> 0 | P15: =IF(N15="","",IF(NOT(AND(ISNUMBER(O15),O15=IF(N15="確認済み",0,1))),1,IF(O15<>0,0,IF(AND(IF(D15="進行",ISNUMBER(K15),ISTEXT(K15)),K15=IF(D15="進行",ROUND(E15*F15/100,0),""),ISNUMBER(L15),L15=IF(AND(D15="進行",G15<案件一覧!$B$3),1,0),ISNUMBER(M15),M15=IF(AND(NOT(OR(D15="受注",D15="失注")),C15=""),1,0)),0,1)))) -> 0
K16: =IF(N16="","",IF(O16<>0,NA(),IF(D16="進行",ROUND(E16*F16/100,0),""))) | L16: =IF(N16="","",IF(O16<>0,NA(),IF(AND(D16="進行",G16<案件一覧!$B$3),1,0))) | M16: =IF(N16="","",IF(O16<>0,NA(),IF(AND(NOT(OR(D16="受注",D16="失注")),C16=""),1,0))) | N16: =IF(COUNTA(A16:J16)=0,"",IF(NOT(AND(ISTEXT(A16),LEN(A16)=8,EXACT(LEFT(A16,4),"OPP-"),ISNUMBER(FIND(MID(A16,5,1)&"x","0x1x2x3x4x5x6x7x8x9x")),ISNUMBER(FIND(MID(A16,6,1)&"x","0x1x2x3x4x5x6x7x8x9x")),ISNUMBER(FIND(MID(A16,7,1)&"x","0x1x2x3x4x5x6x7x8x9x")),ISNUMBER(FIND(MID(A16,8,1)&"x","0x1x2x3x4x5x6x7x8x9x")))),"案件IDはOPP-と半角数字4桁",IF(COUNTIFS($A$8:$A$57,A16)>1,"案件IDが重複",IF(NOT(AND(ISTEXT(B16),LEN(B16)=8,EXACT(LEFT(B16,4),"CUS-"),ISNUMBER(FIND(MID(B16,5,1)&"x","0x1x2x3x4x5x6x7x8x9x")),ISNUMBER(FIND(MID(B16,6,1)&"x","0x1x2x3x4x5x6x7x8x9x")),ISNUMBER(FIND(MID(B16,7,1)&"x","0x1x2x3x4x5x6x7x8x9x")),ISNUMBER(FIND(MID(B16,8,1)&"x","0x1x2x3x4x5x6x7x8x9x")))),"顧客IDの形式を確認",IF(COUNTIFS(登録ID!$A$8:$A$57,B16)<>1,"顧客が未登録/重複",IF(AND(COUNTA(C16)>0,NOT(AND(ISTEXT(C16),LEN(C16)=8,EXACT(LEFT(C16,4),"STF-"),ISNUMBER(FIND(MID(C16,5,1)&"x","0x1x2x3x4x5x6x7x8x9x")),ISNUMBER(FIND(MID(C16,6,1)&"x","0x1x2x3x4x5x6x7x8x9x")),ISNUMBER(FIND(MID(C16,7,1)&"x","0x1x2x3x4x5x6x7x8x9x")),ISNUMBER(FIND(MID(C16,8,1)&"x","0x1x2x3x4x5x6x7x8x9x"))))),"担当IDの形式を確認",IF(AND(COUNTA(C16)>0,COUNTIFS(登録ID!$E$8:$E$27,C16)<>1),"担当が未登録/重複",IF(NOT(OR(D16="進行",D16="保留",D16="受注",D16="失注",D16="未確認")),"状況を確認",IF(AND(OR(D16="進行",D16="保留"),NOT(AND(AND(ISNUMBER(E16),E16>=0,E16<=1000000000,E16=INT(E16)),AND(ISNUMBER(F16),F16>=0,F16<=100,F16=INT(F16)),AND(ISNUMBER(G16),G16>=43831,G16<73051,G16=INT(G16))))),"進行/保留は見込額・確度・予定日が必須",IF(AND(COUNTA(E16)>0,NOT(AND(ISNUMBER(E16),E16>=0,E16<=1000000000,E16=INT(E16)))),"見込額は0〜10億円の整数",IF(AND(COUNTA(F16)>0,NOT(AND(ISNUMBER(F16),F16>=0,F16<=100,F16=INT(F16)))),"確度は0〜100の整数",IF(AND(COUNTA(G16)>0,NOT(AND(ISNUMBER(G16),G16>=43831,G16<73051,G16=INT(G16)))),"予定日は時刻なしの日付",IF(AND(D16="受注",NOT(AND(ISNUMBER(H16),H16>=0,H16<=1000000000,H16=INT(H16)))),"受注額は0〜10億円の整数で必須",IF(AND(D16<>"受注",COUNTA(H16)>0),"受注以外は受注額を空欄",IF(AND(OR(D16="受注",D16="失注"),NOT(AND(ISNUMBER(I16),I16>=43831,I16<73051,I16=INT(I16)))),"受注/失注は決着日が必須",IF(AND(NOT(OR(D16="受注",D16="失注")),COUNTA(I16)>0),"未決着の決着日は空欄",IF(NOT(AND(ISNUMBER(J16),J16>=43831,J16<73051,J16=INT(J16))),"記録確認日は時刻なしの日付で必須",IF(J16>案件一覧!$B$3,"確認日が基準日より後",IF(AND(OR(D16="受注",D16="失注"),I16>J16),"決着日が記録確認日より後","確認済み"))))))))))))))))))) | O16: =IF(N16="","",IF(N16="確認済み",0,1)) | P16: =IF(N16="","",IF(NOT(AND(ISNUMBER(O16),O16=IF(N16="確認済み",0,1))),1,IF(O16<>0,0,IF(AND(IF(D16="進行",ISNUMBER(K16),ISTEXT(K16)),K16=IF(D16="進行",ROUND(E16*F16/100,0),""),ISNUMBER(L16),L16=IF(AND(D16="進行",G16<案件一覧!$B$3),1,0),ISNUMBER(M16),M16=IF(AND(NOT(OR(D16="受注",D16="失注")),C16=""),1,0)),0,1))))
K17: =IF(N17="","",IF(O17<>0,NA(),IF(D17="進行",ROUND(E17*F17/100,0),""))) | L17: =IF(N17="","",IF(O17<>0,NA(),IF(AND(D17="進行",G17<案件一覧!$B$3),1,0))) | M17: =IF(N17="","",IF(O17<>0,NA(),IF(AND(NOT(OR(D17="受注",D17="失注")),C17=""),1,0))) | N17: =IF(COUNTA(A17:J17)=0,"",IF(NOT(AND(ISTEXT(A17),LEN(A17)=8,EXACT(LEFT(A17,4),"OPP-"),ISNUMBER(FIND(MID(A17,5,1)&"x","0x1x2x3x4x5x6x7x8x9x")),ISNUMBER(FIND(MID(A17,6,1)&"x","0x1x2x3x4x5x6x7x8x9x")),ISNUMBER(FIND(MID(A17,7,1)&"x","0x1x2x3x4x5x6x7x8x9x")),ISNUMBER(FIND(MID(A17,8,1)&"x","0x1x2x3x4x5x6x7x8x9x")))),"案件IDはOPP-と半角数字4桁",IF(COUNTIFS($A$8:$A$57,A17)>1,"案件IDが重複",IF(NOT(AND(ISTEXT(B17),LEN(B17)=8,EXACT(LEFT(B17,4),"CUS-"),ISNUMBER(FIND(MID(B17,5,1)&"x","0x1x2x3x4x5x6x7x8x9x")),ISNUMBER(FIND(MID(B17,6,1)&"x","0x1x2x3x4x5x6x7x8x9x")),ISNUMBER(FIND(MID(B17,7,1)&"x","0x1x2x3x4x5x6x7x8x9x")),ISNUMBER(FIND(MID(B17,8,1)&"x","0x1x2x3x4x5x6x7x8x9x")))),"顧客IDの形式を確認",IF(COUNTIFS(登録ID!$A$8:$A$57,B17)<>1,"顧客が未登録/重複",IF(AND(COUNTA(C17)>0,NOT(AND(ISTEXT(C17),LEN(C17)=8,EXACT(LEFT(C17,4),"STF-"),ISNUMBER(FIND(MID(C17,5,1)&"x","0x1x2x3x4x5x6x7x8x9x")),ISNUMBER(FIND(MID(C17,6,1)&"x","0x1x2x3x4x5x6x7x8x9x")),ISNUMBER(FIND(MID(C17,7,1)&"x","0x1x2x3x4x5x6x7x8x9x")),ISNUMBER(FIND(MID(C17,8,1)&"x","0x1x2x3x4x5x6x7x8x9x"))))),"担当IDの形式を確認",IF(AND(COUNTA(C17)>0,COUNTIFS(登録ID!$E$8:$E$27,C17)<>1),"担当が未登録/重複",IF(NOT(OR(D17="進行",D17="保留",D17="受注",D17="失注",D17="未確認")),"状況を確認",IF(AND(OR(D17="進行",D17="保留"),NOT(AND(AND(ISNUMBER(E17),E17>=0,E17<=1000000000,E17=INT(E17)),AND(ISNUMBER(F17),F17>=0,F17<=100,F17=INT(F17)),AND(ISNUMBER(G17),G17>=43831,G17<73051,G17=INT(G17))))),"進行/保留は見込額・確度・予定日が必須",IF(AND(COUNTA(E17)>0,NOT(AND(ISNUMBER(E17),E17>=0,E17<=1000000000,E17=INT(E17)))),"見込額は0〜10億円の整数",IF(AND(COUNTA(F17)>0,NOT(AND(ISNUMBER(F17),F17>=0,F17<=100,F17=INT(F17)))),"確度は0〜100の整数",IF(AND(COUNTA(G17)>0,NOT(AND(ISNUMBER(G17),G17>=43831,G17<73051,G17=INT(G17)))),"予定日は時刻なしの日付",IF(AND(D17="受注",NOT(AND(ISNUMBER(H17),H17>=0,H17<=1000000000,H17=INT(H17)))),"受注額は0〜10億円の整数で必須",IF(AND(D17<>"受注",COUNTA(H17)>0),"受注以外は受注額を空欄",IF(AND(OR(D17="受注",D17="失注"),NOT(AND(ISNUMBER(I17),I17>=43831,I17<73051,I17=INT(I17)))),"受注/失注は決着日が必須",IF(AND(NOT(OR(D17="受注",D17="失注")),COUNTA(I17)>0),"未決着の決着日は空欄",IF(NOT(AND(ISNUMBER(J17),J17>=43831,J17<73051,J17=INT(J17))),"記録確認日は時刻なしの日付で必須",IF(J17>案件一覧!$B$3,"確認日が基準日より後",IF(AND(OR(D17="受注",D17="失注"),I17>J17),"決着日が記録確認日より後","確認済み"))))))))))))))))))) | O17: =IF(N17="","",IF(N17="確認済み",0,1)) | P17: =IF(N17="","",IF(NOT(AND(ISNUMBER(O17),O17=IF(N17="確認済み",0,1))),1,IF(O17<>0,0,IF(AND(IF(D17="進行",ISNUMBER(K17),ISTEXT(K17)),K17=IF(D17="進行",ROUND(E17*F17/100,0),""),ISNUMBER(L17),L17=IF(AND(D17="進行",G17<案件一覧!$B$3),1,0),ISNUMBER(M17),M17=IF(AND(NOT(OR(D17="受注",D17="失注")),C17=""),1,0)),0,1))))
K18: =IF(N18="","",IF(O18<>0,NA(),IF(D18="進行",ROUND(E18*F18/100,0),""))) | L18: =IF(N18="","",IF(O18<>0,NA(),IF(AND(D18="進行",G18<案件一覧!$B$3),1,0))) | M18: =IF(N18="","",IF(O18<>0,NA(),IF(AND(NOT(OR(D18="受注",D18="失注")),C18=""),1,0))) | N18: =IF(COUNTA(A18:J18)=0,"",IF(NOT(AND(ISTEXT(A18),LEN(A18)=8,EXACT(LEFT(A18,4),"OPP-"),ISNUMBER(FIND(MID(A18,5,1)&"x","0x1x2x3x4x5x6x7x8x9x")),ISNUMBER(FIND(MID(A18,6,1)&"x","0x1x2x3x4x5x6x7x8x9x")),ISNUMBER(FIND(MID(A18,7,1)&"x","0x1x2x3x4x5x6x7x8x9x")),ISNUMBER(FIND(MID(A18,8,1)&"x","0x1x2x3x4x5x6x7x8x9x")))),"案件IDはOPP-と半角数字4桁",IF(COUNTIFS($A$8:$A$57,A18)>1,"案件IDが重複",IF(NOT(AND(ISTEXT(B18),LEN(B18)=8,EXACT(LEFT(B18,4),"CUS-"),ISNUMBER(FIND(MID(B18,5,1)&"x","0x1x2x3x4x5x6x7x8x9x")),ISNUMBER(FIND(MID(B18,6,1)&"x","0x1x2x3x4x5x6x7x8x9x")),ISNUMBER(FIND(MID(B18,7,1)&"x","0x1x2x3x4x5x6x7x8x9x")),ISNUMBER(FIND(MID(B18,8,1)&"x","0x1x2x3x4x5x6x7x8x9x")))),"顧客IDの形式を確認",IF(COUNTIFS(登録ID!$A$8:$A$57,B18)<>1,"顧客が未登録/重複",IF(AND(COUNTA(C18)>0,NOT(AND(ISTEXT(C18),LEN(C18)=8,EXACT(LEFT(C18,4),"STF-"),ISNUMBER(FIND(MID(C18,5,1)&"x","0x1x2x3x4x5x6x7x8x9x")),ISNUMBER(FIND(MID(C18,6,1)&"x","0x1x2x3x4x5x6x7x8x9x")),ISNUMBER(FIND(MID(C18,7,1)&"x","0x1x2x3x4x5x6x7x8x9x")),ISNUMBER(FIND(MID(C18,8,1)&"x","0x1x2x3x4x5x6x7x8x9x"))))),"担当IDの形式を確認",IF(AND(COUNTA(C18)>0,COUNTIFS(登録ID!$E$8:$E$27,C18)<>1),"担当が未登録/重複",IF(NOT(OR(D18="進行",D18="保留",D18="受注",D18="失注",D18="未確認")),"状況を確認",IF(AND(OR(D18="進行",D18="保留"),NOT(AND(AND(ISNUMBER(E18),E18>=0,E18<=1000000000,E18=INT(E18)),AND(ISNUMBER(F18),F18>=0,F18<=100,F18=INT(F18)),AND(ISNUMBER(G18),G18>=43831,G18<73051,G18=INT(G18))))),"進行/保留は見込額・確度・予定日が必須",IF(AND(COUNTA(E18)>0,NOT(AND(ISNUMBER(E18),E18>=0,E18<=1000000000,E18=INT(E18)))),"見込額は0〜10億円の整数",IF(AND(COUNTA(F18)>0,NOT(AND(ISNUMBER(F18),F18>=0,F18<=100,F18=INT(F18)))),"確度は0〜100の整数",IF(AND(COUNTA(G18)>0,NOT(AND(ISNUMBER(G18),G18>=43831,G18<73051,G18=INT(G18)))),"予定日は時刻なしの日付",IF(AND(D18="受注",NOT(AND(ISNUMBER(H18),H18>=0,H18<=1000000000,H18=INT(H18)))),"受注額は0〜10億円の整数で必須",IF(AND(D18<>"受注",COUNTA(H18)>0),"受注以外は受注額を空欄",IF(AND(OR(D18="受注",D18="失注"),NOT(AND(ISNUMBER(I18),I18>=43831,I18<73051,I18=INT(I18)))),"受注/失注は決着日が必須",IF(AND(NOT(OR(D18="受注",D18="失注")),COUNTA(I18)>0),"未決着の決着日は空欄",IF(NOT(AND(ISNUMBER(J18),J18>=43831,J18<73051,J18=INT(J18))),"記録確認日は時刻なしの日付で必須",IF(J18>案件一覧!$B$3,"確認日が基準日より後",IF(AND(OR(D18="受注",D18="失注"),I18>J18),"決着日が記録確認日より後","確認済み"))))))))))))))))))) | O18: =IF(N18="","",IF(N18="確認済み",0,1)) | P18: =IF(N18="","",IF(NOT(AND(ISNUMBER(O18),O18=IF(N18="確認済み",0,1))),1,IF(O18<>0,0,IF(AND(IF(D18="進行",ISNUMBER(K18),ISTEXT(K18)),K18=IF(D18="進行",ROUND(E18*F18/100,0),""),ISNUMBER(L18),L18=IF(AND(D18="進行",G18<案件一覧!$B$3),1,0),ISNUMBER(M18),M18=IF(AND(NOT(OR(D18="受注",D18="失注")),C18=""),1,0)),0,1))))
K19: =IF(N19="","",IF(O19<>0,NA(),IF(D19="進行",ROUND(E19*F19/100,0),""))) | L19: =IF(N19="","",IF(O19<>0,NA(),IF(AND(D19="進行",G19<案件一覧!$B$3),1,0))) | M19: =IF(N19="","",IF(O19<>0,NA(),IF(AND(NOT(OR(D19="受注",D19="失注")),C19=""),1,0))) | N19: =IF(COUNTA(A19:J19)=0,"",IF(NOT(AND(ISTEXT(A19),LEN(A19)=8,EXACT(LEFT(A19,4),"OPP-"),ISNUMBER(FIND(MID(A19,5,1)&"x","0x1x2x3x4x5x6x7x8x9x")),ISNUMBER(FIND(MID(A19,6,1)&"x","0x1x2x3x4x5x6x7x8x9x")),ISNUMBER(FIND(MID(A19,7,1)&"x","0x1x2x3x4x5x6x7x8x9x")),ISNUMBER(FIND(MID(A19,8,1)&"x","0x1x2x3x4x5x6x7x8x9x")))),"案件IDはOPP-と半角数字4桁",IF(COUNTIFS($A$8:$A$57,A19)>1,"案件IDが重複",IF(NOT(AND(ISTEXT(B19),LEN(B19)=8,EXACT(LEFT(B19,4),"CUS-"),ISNUMBER(FIND(MID(B19,5,1)&"x","0x1x2x3x4x5x6x7x8x9x")),ISNUMBER(FIND(MID(B19,6,1)&"x","0x1x2x3x4x5x6x7x8x9x")),ISNUMBER(FIND(MID(B19,7,1)&"x","0x1x2x3x4x5x6x7x8x9x")),ISNUMBER(FIND(MID(B19,8,1)&"x","0x1x2x3x4x5x6x7x8x9x")))),"顧客IDの形式を確認",IF(COUNTIFS(登録ID!$A$8:$A$57,B19)<>1,"顧客が未登録/重複",IF(AND(COUNTA(C19)>0,NOT(AND(ISTEXT(C19),LEN(C19)=8,EXACT(LEFT(C19,4),"STF-"),ISNUMBER(FIND(MID(C19,5,1)&"x","0x1x2x3x4x5x6x7x8x9x")),ISNUMBER(FIND(MID(C19,6,1)&"x","0x1x2x3x4x5x6x7x8x9x")),ISNUMBER(FIND(MID(C19,7,1)&"x","0x1x2x3x4x5x6x7x8x9x")),ISNUMBER(FIND(MID(C19,8,1)&"x","0x1x2x3x4x5x6x7x8x9x"))))),"担当IDの形式を確認",IF(AND(COUNTA(C19)>0,COUNTIFS(登録ID!$E$8:$E$27,C19)<>1),"担当が未登録/重複",IF(NOT(OR(D19="進行",D19="保留",D19="受注",D19="失注",D19="未確認")),"状況を確認",IF(AND(OR(D19="進行",D19="保留"),NOT(AND(AND(ISNUMBER(E19),E19>=0,E19<=1000000000,E19=INT(E19)),AND(ISNUMBER(F19),F19>=0,F19<=100,F19=INT(F19)),AND(ISNUMBER(G19),G19>=43831,G19<73051,G19=INT(G19))))),"進行/保留は見込額・確度・予定日が必須",IF(AND(COUNTA(E19)>0,NOT(AND(ISNUMBER(E19),E19>=0,E19<=1000000000,E19=INT(E19)))),"見込額は0〜10億円の整数",IF(AND(COUNTA(F19)>0,NOT(AND(ISNUMBER(F19),F19>=0,F19<=100,F19=INT(F19)))),"確度は0〜100の整数",IF(AND(COUNTA(G19)>0,NOT(AND(ISNUMBER(G19),G19>=43831,G19<73051,G19=INT(G19)))),"予定日は時刻なしの日付",IF(AND(D19="受注",NOT(AND(ISNUMBER(H19),H19>=0,H19<=1000000000,H19=INT(H19)))),"受注額は0〜10億円の整数で必須",IF(AND(D19<>"受注",COUNTA(H19)>0),"受注以外は受注額を空欄",IF(AND(OR(D19="受注",D19="失注"),NOT(AND(ISNUMBER(I19),I19>=43831,I19<73051,I19=INT(I19)))),"受注/失注は決着日が必須",IF(AND(NOT(OR(D19="受注",D19="失注")),COUNTA(I19)>0),"未決着の決着日は空欄",IF(NOT(AND(ISNUMBER(J19),J19>=43831,J19<73051,J19=INT(J19))),"記録確認日は時刻なしの日付で必須",IF(J19>案件一覧!$B$3,"確認日が基準日より後",IF(AND(OR(D19="受注",D19="失注"),I19>J19),"決着日が記録確認日より後","確認済み"))))))))))))))))))) | O19: =IF(N19="","",IF(N19="確認済み",0,1)) | P19: =IF(N19="","",IF(NOT(AND(ISNUMBER(O19),O19=IF(N19="確認済み",0,1))),1,IF(O19<>0,0,IF(AND(IF(D19="進行",ISNUMBER(K19),ISTEXT(K19)),K19=IF(D19="進行",ROUND(E19*F19/100,0),""),ISNUMBER(L19),L19=IF(AND(D19="進行",G19<案件一覧!$B$3),1,0),ISNUMBER(M19),M19=IF(AND(NOT(OR(D19="受注",D19="失注")),C19=""),1,0)),0,1))))
K20: =IF(N20="","",IF(O20<>0,NA(),IF(D20="進行",ROUND(E20*F20/100,0),""))) | L20: =IF(N20="","",IF(O20<>0,NA(),IF(AND(D20="進行",G20<案件一覧!$B$3),1,0))) | M20: =IF(N20="","",IF(O20<>0,NA(),IF(AND(NOT(OR(D20="受注",D20="失注")),C20=""),1,0))) | N20: =IF(COUNTA(A20:J20)=0,"",IF(NOT(AND(ISTEXT(A20),LEN(A20)=8,EXACT(LEFT(A20,4),"OPP-"),ISNUMBER(FIND(MID(A20,5,1)&"x","0x1x2x3x4x5x6x7x8x9x")),ISNUMBER(FIND(MID(A20,6,1)&"x","0x1x2x3x4x5x6x7x8x9x")),ISNUMBER(FIND(MID(A20,7,1)&"x","0x1x2x3x4x5x6x7x8x9x")),ISNUMBER(FIND(MID(A20,8,1)&"x","0x1x2x3x4x5x6x7x8x9x")))),"案件IDはOPP-と半角数字4桁",IF(COUNTIFS($A$8:$A$57,A20)>1,"案件IDが重複",IF(NOT(AND(ISTEXT(B20),LEN(B20)=8,EXACT(LEFT(B20,4),"CUS-"),ISNUMBER(FIND(MID(B20,5,1)&"x","0x1x2x3x4x5x6x7x8x9x")),ISNUMBER(FIND(MID(B20,6,1)&"x","0x1x2x3x4x5x6x7x8x9x")),ISNUMBER(FIND(MID(B20,7,1)&"x","0x1x2x3x4x5x6x7x8x9x")),ISNUMBER(FIND(MID(B20,8,1)&"x","0x1x2x3x4x5x6x7x8x9x")))),"顧客IDの形式を確認",IF(COUNTIFS(登録ID!$A$8:$A$57,B20)<>1,"顧客が未登録/重複",IF(AND(COUNTA(C20)>0,NOT(AND(ISTEXT(C20),LEN(C20)=8,EXACT(LEFT(C20,4),"STF-"),ISNUMBER(FIND(MID(C20,5,1)&"x","0x1x2x3x4x5x6x7x8x9x")),ISNUMBER(FIND(MID(C20,6,1)&"x","0x1x2x3x4x5x6x7x8x9x")),ISNUMBER(FIND(MID(C20,7,1)&"x","0x1x2x3x4x5x6x7x8x9x")),ISNUMBER(FIND(MID(C20,8,1)&"x","0x1x2x3x4x5x6x7x8x9x"))))),"担当IDの形式を確認",IF(AND(COUNTA(C20)>0,COUNTIFS(登録ID!$E$8:$E$27,C20)<>1),"担当が未登録/重複",IF(NOT(OR(D20="進行",D20="保留",D20="受注",D20="失注",D20="未確認")),"状況を確認",IF(AND(OR(D20="進行",D20="保留"),NOT(AND(AND(ISNUMBER(E20),E20>=0,E20<=1000000000,E20=INT(E20)),AND(ISNUMBER(F20),F20>=0,F20<=100,F20=INT(F20)),AND(ISNUMBER(G20),G20>=43831,G20<73051,G20=INT(G20))))),"進行/保留は見込額・確度・予定日が必須",IF(AND(COUNTA(E20)>0,NOT(AND(ISNUMBER(E20),E20>=0,E20<=1000000000,E20=INT(E20)))),"見込額は0〜10億円の整数",IF(AND(COUNTA(F20)>0,NOT(AND(ISNUMBER(F20),F20>=0,F20<=100,F20=INT(F20)))),"確度は0〜100の整数",IF(AND(COUNTA(G20)>0,NOT(AND(ISNUMBER(G20),G20>=43831,G20<73051,G20=INT(G20)))),"予定日は時刻なしの日付",IF(AND(D20="受注",NOT(AND(ISNUMBER(H20),H20>=0,H20<=1000000000,H20=INT(H20)))),"受注額は0〜10億円の整数で必須",IF(AND(D20<>"受注",COUNTA(H20)>0),"受注以外は受注額を空欄",IF(AND(OR(D20="受注",D20="失注"),NOT(AND(ISNUMBER(I20),I20>=43831,I20<73051,I20=INT(I20)))),"受注/失注は決着日が必須",IF(AND(NOT(OR(D20="受注",D20="失注")),COUNTA(I20)>0),"未決着の決着日は空欄",IF(NOT(AND(ISNUMBER(J20),J20>=43831,J20<73051,J20=INT(J20))),"記録確認日は時刻なしの日付で必須",IF(J20>案件一覧!$B$3,"確認日が基準日より後",IF(AND(OR(D20="受注",D20="失注"),I20>J20),"決着日が記録確認日より後","確認済み"))))))))))))))))))) | O20: =IF(N20="","",IF(N20="確認済み",0,1)) | P20: =IF(N20="","",IF(NOT(AND(ISNUMBER(O20),O20=IF(N20="確認済み",0,1))),1,IF(O20<>0,0,IF(AND(IF(D20="進行",ISNUMBER(K20),ISTEXT(K20)),K20=IF(D20="進行",ROUND(E20*F20/100,0),""),ISNUMBER(L20),L20=IF(AND(D20="進行",G20<案件一覧!$B$3),1,0),ISNUMBER(M20),M20=IF(AND(NOT(OR(D20="受注",D20="失注")),C20=""),1,0)),0,1))))
K21: =IF(N21="","",IF(O21<>0,NA(),IF(D21="進行",ROUND(E21*F21/100,0),""))) | L21: =IF(N21="","",IF(O21<>0,NA(),IF(AND(D21="進行",G21<案件一覧!$B$3),1,0))) | M21: =IF(N21="","",IF(O21<>0,NA(),IF(AND(NOT(OR(D21="受注",D21="失注")),C21=""),1,0))) | N21: =IF(COUNTA(A21:J21)=0,"",IF(NOT(AND(ISTEXT(A21),LEN(A21)=8,EXACT(LEFT(A21,4),"OPP-"),ISNUMBER(FIND(MID(A21,5,1)&"x","0x1x2x3x4x5x6x7x8x9x")),ISNUMBER(FIND(MID(A21,6,1)&"x","0x1x2x3x4x5x6x7x8x9x")),ISNUMBER(FIND(MID(A21,7,1)&"x","0x1x2x3x4x5x6x7x8x9x")),ISNUMBER(FIND(MID(A21,8,1)&"x","0x1x2x3x4x5x6x7x8x9x")))),"案件IDはOPP-と半角数字4桁",IF(COUNTIFS($A$8:$A$57,A21)>1,"案件IDが重複",IF(NOT(AND(ISTEXT(B21),LEN(B21)=8,EXACT(LEFT(B21,4),"CUS-"),ISNUMBER(FIND(MID(B21,5,1)&"x","0x1x2x3x4x5x6x7x8x9x")),ISNUMBER(FIND(MID(B21,6,1)&"x","0x1x2x3x4x5x6x7x8x9x")),ISNUMBER(FIND(MID(B21,7,1)&"x","0x1x2x3x4x5x6x7x8x9x")),ISNUMBER(FIND(MID(B21,8,1)&"x","0x1x2x3x4x5x6x7x8x9x")))),"顧客IDの形式を確認",IF(COUNTIFS(登録ID!$A$8:$A$57,B21)<>1,"顧客が未登録/重複",IF(AND(COUNTA(C21)>0,NOT(AND(ISTEXT(C21),LEN(C21)=8,EXACT(LEFT(C21,4),"STF-"),ISNUMBER(FIND(MID(C21,5,1)&"x","0x1x2x3x4x5x6x7x8x9x")),ISNUMBER(FIND(MID(C21,6,1)&"x","0x1x2x3x4x5x6x7x8x9x")),ISNUMBER(FIND(MID(C21,7,1)&"x","0x1x2x3x4x5x6x7x8x9x")),ISNUMBER(FIND(MID(C21,8,1)&"x","0x1x2x3x4x5x6x7x8x9x"))))),"担当IDの形式を確認",IF(AND(COUNTA(C21)>0,COUNTIFS(登録ID!$E$8:$E$27,C21)<>1),"担当が未登録/重複",IF(NOT(OR(D21="進行",D21="保留",D21="受注",D21="失注",D21="未確認")),"状況を確認",IF(AND(OR(D21="進行",D21="保留"),NOT(AND(AND(ISNUMBER(E21),E21>=0,E21<=1000000000,E21=INT(E21)),AND(ISNUMBER(F21),F21>=0,F21<=100,F21=INT(F21)),AND(ISNUMBER(G21),G21>=43831,G21<73051,G21=INT(G21))))),"進行/保留は見込額・確度・予定日が必須",IF(AND(COUNTA(E21)>0,NOT(AND(ISNUMBER(E21),E21>=0,E21<=1000000000,E21=INT(E21)))),"見込額は0〜10億円の整数",IF(AND(COUNTA(F21)>0,NOT(AND(ISNUMBER(F21),F21>=0,F21<=100,F21=INT(F21)))),"確度は0〜100の整数",IF(AND(COUNTA(G21)>0,NOT(AND(ISNUMBER(G21),G21>=43831,G21<73051,G21=INT(G21)))),"予定日は時刻なしの日付",IF(AND(D21="受注",NOT(AND(ISNUMBER(H21),H21>=0,H21<=1000000000,H21=INT(H21)))),"受注額は0〜10億円の整数で必須",IF(AND(D21<>"受注",COUNTA(H21)>0),"受注以外は受注額を空欄",IF(AND(OR(D21="受注",D21="失注"),NOT(AND(ISNUMBER(I21),I21>=43831,I21<73051,I21=INT(I21)))),"受注/失注は決着日が必須",IF(AND(NOT(OR(D21="受注",D21="失注")),COUNTA(I21)>0),"未決着の決着日は空欄",IF(NOT(AND(ISNUMBER(J21),J21>=43831,J21<73051,J21=INT(J21))),"記録確認日は時刻なしの日付で必須",IF(J21>案件一覧!$B$3,"確認日が基準日より後",IF(AND(OR(D21="受注",D21="失注"),I21>J21),"決着日が記録確認日より後","確認済み"))))))))))))))))))) | O21: =IF(N21="","",IF(N21="確認済み",0,1)) | P21: =IF(N21="","",IF(NOT(AND(ISNUMBER(O21),O21=IF(N21="確認済み",0,1))),1,IF(O21<>0,0,IF(AND(IF(D21="進行",ISNUMBER(K21),ISTEXT(K21)),K21=IF(D21="進行",ROUND(E21*F21/100,0),""),ISNUMBER(L21),L21=IF(AND(D21="進行",G21<案件一覧!$B$3),1,0),ISNUMBER(M21),M21=IF(AND(NOT(OR(D21="受注",D21="失注")),C21=""),1,0)),0,1))))
K22: =IF(N22="","",IF(O22<>0,NA(),IF(D22="進行",ROUND(E22*F22/100,0),""))) | L22: =IF(N22="","",IF(O22<>0,NA(),IF(AND(D22="進行",G22<案件一覧!$B$3),1,0))) | M22: =IF(N22="","",IF(O22<>0,NA(),IF(AND(NOT(OR(D22="受注",D22="失注")),C22=""),1,0))) | N22: =IF(COUNTA(A22:J22)=0,"",IF(NOT(AND(ISTEXT(A22),LEN(A22)=8,EXACT(LEFT(A22,4),"OPP-"),ISNUMBER(FIND(MID(A22,5,1)&"x","0x1x2x3x4x5x6x7x8x9x")),ISNUMBER(FIND(MID(A22,6,1)&"x","0x1x2x3x4x5x6x7x8x9x")),ISNUMBER(FIND(MID(A22,7,1)&"x","0x1x2x3x4x5x6x7x8x9x")),ISNUMBER(FIND(MID(A22,8,1)&"x","0x1x2x3x4x5x6x7x8x9x")))),"案件IDはOPP-と半角数字4桁",IF(COUNTIFS($A$8:$A$57,A22)>1,"案件IDが重複",IF(NOT(AND(ISTEXT(B22),LEN(B22)=8,EXACT(LEFT(B22,4),"CUS-"),ISNUMBER(FIND(MID(B22,5,1)&"x","0x1x2x3x4x5x6x7x8x9x")),ISNUMBER(FIND(MID(B22,6,1)&"x","0x1x2x3x4x5x6x7x8x9x")),ISNUMBER(FIND(MID(B22,7,1)&"x","0x1x2x3x4x5x6x7x8x9x")),ISNUMBER(FIND(MID(B22,8,1)&"x","0x1x2x3x4x5x6x7x8x9x")))),"顧客IDの形式を確認",IF(COUNTIFS(登録ID!$A$8:$A$57,B22)<>1,"顧客が未登録/重複",IF(AND(COUNTA(C22)>0,NOT(AND(ISTEXT(C22),LEN(C22)=8,EXACT(LEFT(C22,4),"STF-"),ISNUMBER(FIND(MID(C22,5,1)&"x","0x1x2x3x4x5x6x7x8x9x")),ISNUMBER(FIND(MID(C22,6,1)&"x","0x1x2x3x4x5x6x7x8x9x")),ISNUMBER(FIND(MID(C22,7,1)&"x","0x1x2x3x4x5x6x7x8x9x")),ISNUMBER(FIND(MID(C22,8,1)&"x","0x1x2x3x4x5x6x7x8x9x"))))),"担当IDの形式を確認",IF(AND(COUNTA(C22)>0,COUNTIFS(登録ID!$E$8:$E$27,C22)<>1),"担当が未登録/重複",IF(NOT(OR(D22="進行",D22="保留",D22="受注",D22="失注",D22="未確認")),"状況を確認",IF(AND(OR(D22="進行",D22="保留"),NOT(AND(AND(ISNUMBER(E22),E22>=0,E22<=1000000000,E22=INT(E22)),AND(ISNUMBER(F22),F22>=0,F22<=100,F22=INT(F22)),AND(ISNUMBER(G22),G22>=43831,G22<73051,G22=INT(G22))))),"進行/保留は見込額・確度・予定日が必須",IF(AND(COUNTA(E22)>0,NOT(AND(ISNUMBER(E22),E22>=0,E22<=1000000000,E22=INT(E22)))),"見込額は0〜10億円の整数",IF(AND(COUNTA(F22)>0,NOT(AND(ISNUMBER(F22),F22>=0,F22<=100,F22=INT(F22)))),"確度は0〜100の整数",IF(AND(COUNTA(G22)>0,NOT(AND(ISNUMBER(G22),G22>=43831,G22<73051,G22=INT(G22)))),"予定日は時刻なしの日付",IF(AND(D22="受注",NOT(AND(ISNUMBER(H22),H22>=0,H22<=1000000000,H22=INT(H22)))),"受注額は0〜10億円の整数で必須",IF(AND(D22<>"受注",COUNTA(H22)>0),"受注以外は受注額を空欄",IF(AND(OR(D22="受注",D22="失注"),NOT(AND(ISNUMBER(I22),I22>=43831,I22<73051,I22=INT(I22)))),"受注/失注は決着日が必須",IF(AND(NOT(OR(D22="受注",D22="失注")),COUNTA(I22)>0),"未決着の決着日は空欄",IF(NOT(AND(ISNUMBER(J22),J22>=43831,J22<73051,J22=INT(J22))),"記録確認日は時刻なしの日付で必須",IF(J22>案件一覧!$B$3,"確認日が基準日より後",IF(AND(OR(D22="受注",D22="失注"),I22>J22),"決着日が記録確認日より後","確認済み"))))))))))))))))))) | O22: =IF(N22="","",IF(N22="確認済み",0,1)) | P22: =IF(N22="","",IF(NOT(AND(ISNUMBER(O22),O22=IF(N22="確認済み",0,1))),1,IF(O22<>0,0,IF(AND(IF(D22="進行",ISNUMBER(K22),ISTEXT(K22)),K22=IF(D22="進行",ROUND(E22*F22/100,0),""),ISNUMBER(L22),L22=IF(AND(D22="進行",G22<案件一覧!$B$3),1,0),ISNUMBER(M22),M22=IF(AND(NOT(OR(D22="受注",D22="失注")),C22=""),1,0)),0,1))))
K23: =IF(N23="","",IF(O23<>0,NA(),IF(D23="進行",ROUND(E23*F23/100,0),""))) | L23: =IF(N23="","",IF(O23<>0,NA(),IF(AND(D23="進行",G23<案件一覧!$B$3),1,0))) | M23: =IF(N23="","",IF(O23<>0,NA(),IF(AND(NOT(OR(D23="受注",D23="失注")),C23=""),1,0))) | N23: =IF(COUNTA(A23:J23)=0,"",IF(NOT(AND(ISTEXT(A23),LEN(A23)=8,EXACT(LEFT(A23,4),"OPP-"),ISNUMBER(FIND(MID(A23,5,1)&"x","0x1x2x3x4x5x6x7x8x9x")),ISNUMBER(FIND(MID(A23,6,1)&"x","0x1x2x3x4x5x6x7x8x9x")),ISNUMBER(FIND(MID(A23,7,1)&"x","0x1x2x3x4x5x6x7x8x9x")),ISNUMBER(FIND(MID(A23,8,1)&"x","0x1x2x3x4x5x6x7x8x9x")))),"案件IDはOPP-と半角数字4桁",IF(COUNTIFS($A$8:$A$57,A23)>1,"案件IDが重複",IF(NOT(AND(ISTEXT(B23),LEN(B23)=8,EXACT(LEFT(B23,4),"CUS-"),ISNUMBER(FIND(MID(B23,5,1)&"x","0x1x2x3x4x5x6x7x8x9x")),ISNUMBER(FIND(MID(B23,6,1)&"x","0x1x2x3x4x5x6x7x8x9x")),ISNUMBER(FIND(MID(B23,7,1)&"x","0x1x2x3x4x5x6x7x8x9x")),ISNUMBER(FIND(MID(B23,8,1)&"x","0x1x2x3x4x5x6x7x8x9x")))),"顧客IDの形式を確認",IF(COUNTIFS(登録ID!$A$8:$A$57,B23)<>1,"顧客が未登録/重複",IF(AND(COUNTA(C23)>0,NOT(AND(ISTEXT(C23),LEN(C23)=8,EXACT(LEFT(C23,4),"STF-"),ISNUMBER(FIND(MID(C23,5,1)&"x","0x1x2x3x4x5x6x7x8x9x")),ISNUMBER(FIND(MID(C23,6,1)&"x","0x1x2x3x4x5x6x7x8x9x")),ISNUMBER(FIND(MID(C23,7,1)&"x","0x1x2x3x4x5x6x7x8x9x")),ISNUMBER(FIND(MID(C23,8,1)&"x","0x1x2x3x4x5x6x7x8x9x"))))),"担当IDの形式を確認",IF(AND(COUNTA(C23)>0,COUNTIFS(登録ID!$E$8:$E$27,C23)<>1),"担当が未登録/重複",IF(NOT(OR(D23="進行",D23="保留",D23="受注",D23="失注",D23="未確認")),"状況を確認",IF(AND(OR(D23="進行",D23="保留"),NOT(AND(AND(ISNUMBER(E23),E23>=0,E23<=1000000000,E23=INT(E23)),AND(ISNUMBER(F23),F23>=0,F23<=100,F23=INT(F23)),AND(ISNUMBER(G23),G23>=43831,G23<73051,G23=INT(G23))))),"進行/保留は見込額・確度・予定日が必須",IF(AND(COUNTA(E23)>0,NOT(AND(ISNUMBER(E23),E23>=0,E23<=1000000000,E23=INT(E23)))),"見込額は0〜10億円の整数",IF(AND(COUNTA(F23)>0,NOT(AND(ISNUMBER(F23),F23>=0,F23<=100,F23=INT(F23)))),"確度は0〜100の整数",IF(AND(COUNTA(G23)>0,NOT(AND(ISNUMBER(G23),G23>=43831,G23<73051,G23=INT(G23)))),"予定日は時刻なしの日付",IF(AND(D23="受注",NOT(AND(ISNUMBER(H23),H23>=0,H23<=1000000000,H23=INT(H23)))),"受注額は0〜10億円の整数で必須",IF(AND(D23<>"受注",COUNTA(H23)>0),"受注以外は受注額を空欄",IF(AND(OR(D23="受注",D23="失注"),NOT(AND(ISNUMBER(I23),I23>=43831,I23<73051,I23=INT(I23)))),"受注/失注は決着日が必須",IF(AND(NOT(OR(D23="受注",D23="失注")),COUNTA(I23)>0),"未決着の決着日は空欄",IF(NOT(AND(ISNUMBER(J23),J23>=43831,J23<73051,J23=INT(J23))),"記録確認日は時刻なしの日付で必須",IF(J23>案件一覧!$B$3,"確認日が基準日より後",IF(AND(OR(D23="受注",D23="失注"),I23>J23),"決着日が記録確認日より後","確認済み"))))))))))))))))))) | O23: =IF(N23="","",IF(N23="確認済み",0,1)) | P23: =IF(N23="","",IF(NOT(AND(ISNUMBER(O23),O23=IF(N23="確認済み",0,1))),1,IF(O23<>0,0,IF(AND(IF(D23="進行",ISNUMBER(K23),ISTEXT(K23)),K23=IF(D23="進行",ROUND(E23*F23/100,0),""),ISNUMBER(L23),L23=IF(AND(D23="進行",G23<案件一覧!$B$3),1,0),ISNUMBER(M23),M23=IF(AND(NOT(OR(D23="受注",D23="失注")),C23=""),1,0)),0,1))))
K24: =IF(N24="","",IF(O24<>0,NA(),IF(D24="進行",ROUND(E24*F24/100,0),""))) | L24: =IF(N24="","",IF(O24<>0,NA(),IF(AND(D24="進行",G24<案件一覧!$B$3),1,0))) | M24: =IF(N24="","",IF(O24<>0,NA(),IF(AND(NOT(OR(D24="受注",D24="失注")),C24=""),1,0))) | N24: =IF(COUNTA(A24:J24)=0,"",IF(NOT(AND(ISTEXT(A24),LEN(A24)=8,EXACT(LEFT(A24,4),"OPP-"),ISNUMBER(FIND(MID(A24,5,1)&"x","0x1x2x3x4x5x6x7x8x9x")),ISNUMBER(FIND(MID(A24,6,1)&"x","0x1x2x3x4x5x6x7x8x9x")),ISNUMBER(FIND(MID(A24,7,1)&"x","0x1x2x3x4x5x6x7x8x9x")),ISNUMBER(FIND(MID(A24,8,1)&"x","0x1x2x3x4x5x6x7x8x9x")))),"案件IDはOPP-と半角数字4桁",IF(COUNTIFS($A$8:$A$57,A24)>1,"案件IDが重複",IF(NOT(AND(ISTEXT(B24),LEN(B24)=8,EXACT(LEFT(B24,4),"CUS-"),ISNUMBER(FIND(MID(B24,5,1)&"x","0x1x2x3x4x5x6x7x8x9x")),ISNUMBER(FIND(MID(B24,6,1)&"x","0x1x2x3x4x5x6x7x8x9x")),ISNUMBER(FIND(MID(B24,7,1)&"x","0x1x2x3x4x5x6x7x8x9x")),ISNUMBER(FIND(MID(B24,8,1)&"x","0x1x2x3x4x5x6x7x8x9x")))),"顧客IDの形式を確認",IF(COUNTIFS(登録ID!$A$8:$A$57,B24)<>1,"顧客が未登録/重複",IF(AND(COUNTA(C24)>0,NOT(AND(ISTEXT(C24),LEN(C24)=8,EXACT(LEFT(C24,4),"STF-"),ISNUMBER(FIND(MID(C24,5,1)&"x","0x1x2x3x4x5x6x7x8x9x")),ISNUMBER(FIND(MID(C24,6,1)&"x","0x1x2x3x4x5x6x7x8x9x")),ISNUMBER(FIND(MID(C24,7,1)&"x","0x1x2x3x4x5x6x7x8x9x")),ISNUMBER(FIND(MID(C24,8,1)&"x","0x1x2x3x4x5x6x7x8x9x"))))),"担当IDの形式を確認",IF(AND(COUNTA(C24)>0,COUNTIFS(登録ID!$E$8:$E$27,C24)<>1),"担当が未登録/重複",IF(NOT(OR(D24="進行",D24="保留",D24="受注",D24="失注",D24="未確認")),"状況を確認",IF(AND(OR(D24="進行",D24="保留"),NOT(AND(AND(ISNUMBER(E24),E24>=0,E24<=1000000000,E24=INT(E24)),AND(ISNUMBER(F24),F24>=0,F24<=100,F24=INT(F24)),AND(ISNUMBER(G24),G24>=43831,G24<73051,G24=INT(G24))))),"進行/保留は見込額・確度・予定日が必須",IF(AND(COUNTA(E24)>0,NOT(AND(ISNUMBER(E24),E24>=0,E24<=1000000000,E24=INT(E24)))),"見込額は0〜10億円の整数",IF(AND(COUNTA(F24)>0,NOT(AND(ISNUMBER(F24),F24>=0,F24<=100,F24=INT(F24)))),"確度は0〜100の整数",IF(AND(COUNTA(G24)>0,NOT(AND(ISNUMBER(G24),G24>=43831,G24<73051,G24=INT(G24)))),"予定日は時刻なしの日付",IF(AND(D24="受注",NOT(AND(ISNUMBER(H24),H24>=0,H24<=1000000000,H24=INT(H24)))),"受注額は0〜10億円の整数で必須",IF(AND(D24<>"受注",COUNTA(H24)>0),"受注以外は受注額を空欄",IF(AND(OR(D24="受注",D24="失注"),NOT(AND(ISNUMBER(I24),I24>=43831,I24<73051,I24=INT(I24)))),"受注/失注は決着日が必須",IF(AND(NOT(OR(D24="受注",D24="失注")),COUNTA(I24)>0),"未決着の決着日は空欄",IF(NOT(AND(ISNUMBER(J24),J24>=43831,J24<73051,J24=INT(J24))),"記録確認日は時刻なしの日付で必須",IF(J24>案件一覧!$B$3,"確認日が基準日より後",IF(AND(OR(D24="受注",D24="失注"),I24>J24),"決着日が記録確認日より後","確認済み"))))))))))))))))))) | O24: =IF(N24="","",IF(N24="確認済み",0,1)) | P24: =IF(N24="","",IF(NOT(AND(ISNUMBER(O24),O24=IF(N24="確認済み",0,1))),1,IF(O24<>0,0,IF(AND(IF(D24="進行",ISNUMBER(K24),ISTEXT(K24)),K24=IF(D24="進行",ROUND(E24*F24/100,0),""),ISNUMBER(L24),L24=IF(AND(D24="進行",G24<案件一覧!$B$3),1,0),ISNUMBER(M24),M24=IF(AND(NOT(OR(D24="受注",D24="失注")),C24=""),1,0)),0,1))))
K25: =IF(N25="","",IF(O25<>0,NA(),IF(D25="進行",ROUND(E25*F25/100,0),""))) | L25: =IF(N25="","",IF(O25<>0,NA(),IF(AND(D25="進行",G25<案件一覧!$B$3),1,0))) | M25: =IF(N25="","",IF(O25<>0,NA(),IF(AND(NOT(OR(D25="受注",D25="失注")),C25=""),1,0))) | N25: =IF(COUNTA(A25:J25)=0,"",IF(NOT(AND(ISTEXT(A25),LEN(A25)=8,EXACT(LEFT(A25,4),"OPP-"),ISNUMBER(FIND(MID(A25,5,1)&"x","0x1x2x3x4x5x6x7x8x9x")),ISNUMBER(FIND(MID(A25,6,1)&"x","0x1x2x3x4x5x6x7x8x9x")),ISNUMBER(FIND(MID(A25,7,1)&"x","0x1x2x3x4x5x6x7x8x9x")),ISNUMBER(FIND(MID(A25,8,1)&"x","0x1x2x3x4x5x6x7x8x9x")))),"案件IDはOPP-と半角数字4桁",IF(COUNTIFS($A$8:$A$57,A25)>1,"案件IDが重複",IF(NOT(AND(ISTEXT(B25),LEN(B25)=8,EXACT(LEFT(B25,4),"CUS-"),ISNUMBER(FIND(MID(B25,5,1)&"x","0x1x2x3x4x5x6x7x8x9x")),ISNUMBER(FIND(MID(B25,6,1)&"x","0x1x2x3x4x5x6x7x8x9x")),ISNUMBER(FIND(MID(B25,7,1)&"x","0x1x2x3x4x5x6x7x8x9x")),ISNUMBER(FIND(MID(B25,8,1)&"x","0x1x2x3x4x5x6x7x8x9x")))),"顧客IDの形式を確認",IF(COUNTIFS(登録ID!$A$8:$A$57,B25)<>1,"顧客が未登録/重複",IF(AND(COUNTA(C25)>0,NOT(AND(ISTEXT(C25),LEN(C25)=8,EXACT(LEFT(C25,4),"STF-"),ISNUMBER(FIND(MID(C25,5,1)&"x","0x1x2x3x4x5x6x7x8x9x")),ISNUMBER(FIND(MID(C25,6,1)&"x","0x1x2x3x4x5x6x7x8x9x")),ISNUMBER(FIND(MID(C25,7,1)&"x","0x1x2x3x4x5x6x7x8x9x")),ISNUMBER(FIND(MID(C25,8,1)&"x","0x1x2x3x4x5x6x7x8x9x"))))),"担当IDの形式を確認",IF(AND(COUNTA(C25)>0,COUNTIFS(登録ID!$E$8:$E$27,C25)<>1),"担当が未登録/重複",IF(NOT(OR(D25="進行",D25="保留",D25="受注",D25="失注",D25="未確認")),"状況を確認",IF(AND(OR(D25="進行",D25="保留"),NOT(AND(AND(ISNUMBER(E25),E25>=0,E25<=1000000000,E25=INT(E25)),AND(ISNUMBER(F25),F25>=0,F25<=100,F25=INT(F25)),AND(ISNUMBER(G25),G25>=43831,G25<73051,G25=INT(G25))))),"進行/保留は見込額・確度・予定日が必須",IF(AND(COUNTA(E25)>0,NOT(AND(ISNUMBER(E25),E25>=0,E25<=1000000000,E25=INT(E25)))),"見込額は0〜10億円の整数",IF(AND(COUNTA(F25)>0,NOT(AND(ISNUMBER(F25),F25>=0,F25<=100,F25=INT(F25)))),"確度は0〜100の整数",IF(AND(COUNTA(G25)>0,NOT(AND(ISNUMBER(G25),G25>=43831,G25<73051,G25=INT(G25)))),"予定日は時刻なしの日付",IF(AND(D25="受注",NOT(AND(ISNUMBER(H25),H25>=0,H25<=1000000000,H25=INT(H25)))),"受注額は0〜10億円の整数で必須",IF(AND(D25<>"受注",COUNTA(H25)>0),"受注以外は受注額を空欄",IF(AND(OR(D25="受注",D25="失注"),NOT(AND(ISNUMBER(I25),I25>=43831,I25<73051,I25=INT(I25)))),"受注/失注は決着日が必須",IF(AND(NOT(OR(D25="受注",D25="失注")),COUNTA(I25)>0),"未決着の決着日は空欄",IF(NOT(AND(ISNUMBER(J25),J25>=43831,J25<73051,J25=INT(J25))),"記録確認日は時刻なしの日付で必須",IF(J25>案件一覧!$B$3,"確認日が基準日より後",IF(AND(OR(D25="受注",D25="失注"),I25>J25),"決着日が記録確認日より後","確認済み"))))))))))))))))))) | O25: =IF(N25="","",IF(N25="確認済み",0,1)) | P25: =IF(N25="","",IF(NOT(AND(ISNUMBER(O25),O25=IF(N25="確認済み",0,1))),1,IF(O25<>0,0,IF(AND(IF(D25="進行",ISNUMBER(K25),ISTEXT(K25)),K25=IF(D25="進行",ROUND(E25*F25/100,0),""),ISNUMBER(L25),L25=IF(AND(D25="進行",G25<案件一覧!$B$3),1,0),ISNUMBER(M25),M25=IF(AND(NOT(OR(D25="受注",D25="失注")),C25=""),1,0)),0,1))))
K26: =IF(N26="","",IF(O26<>0,NA(),IF(D26="進行",ROUND(E26*F26/100,0),""))) | L26: =IF(N26="","",IF(O26<>0,NA(),IF(AND(D26="進行",G26<案件一覧!$B$3),1,0))) | M26: =IF(N26="","",IF(O26<>0,NA(),IF(AND(NOT(OR(D26="受注",D26="失注")),C26=""),1,0))) | N26: =IF(COUNTA(A26:J26)=0,"",IF(NOT(AND(ISTEXT(A26),LEN(A26)=8,EXACT(LEFT(A26,4),"OPP-"),ISNUMBER(FIND(MID(A26,5,1)&"x","0x1x2x3x4x5x6x7x8x9x")),ISNUMBER(FIND(MID(A26,6,1)&"x","0x1x2x3x4x5x6x7x8x9x")),ISNUMBER(FIND(MID(A26,7,1)&"x","0x1x2x3x4x5x6x7x8x9x")),ISNUMBER(FIND(MID(A26,8,1)&"x","0x1x2x3x4x5x6x7x8x9x")))),"案件IDはOPP-と半角数字4桁",IF(COUNTIFS($A$8:$A$57,A26)>1,"案件IDが重複",IF(NOT(AND(ISTEXT(B26),LEN(B26)=8,EXACT(LEFT(B26,4),"CUS-"),ISNUMBER(FIND(MID(B26,5,1)&"x","0x1x2x3x4x5x6x7x8x9x")),ISNUMBER(FIND(MID(B26,6,1)&"x","0x1x2x3x4x5x6x7x8x9x")),ISNUMBER(FIND(MID(B26,7,1)&"x","0x1x2x3x4x5x6x7x8x9x")),ISNUMBER(FIND(MID(B26,8,1)&"x","0x1x2x3x4x5x6x7x8x9x")))),"顧客IDの形式を確認",IF(COUNTIFS(登録ID!$A$8:$A$57,B26)<>1,"顧客が未登録/重複",IF(AND(COUNTA(C26)>0,NOT(AND(ISTEXT(C26),LEN(C26)=8,EXACT(LEFT(C26,4),"STF-"),ISNUMBER(FIND(MID(C26,5,1)&"x","0x1x2x3x4x5x6x7x8x9x")),ISNUMBER(FIND(MID(C26,6,1)&"x","0x1x2x3x4x5x6x7x8x9x")),ISNUMBER(FIND(MID(C26,7,1)&"x","0x1x2x3x4x5x6x7x8x9x")),ISNUMBER(FIND(MID(C26,8,1)&"x","0x1x2x3x4x5x6x7x8x9x"))))),"担当IDの形式を確認",IF(AND(COUNTA(C26)>0,COUNTIFS(登録ID!$E$8:$E$27,C26)<>1),"担当が未登録/重複",IF(NOT(OR(D26="進行",D26="保留",D26="受注",D26="失注",D26="未確認")),"状況を確認",IF(AND(OR(D26="進行",D26="保留"),NOT(AND(AND(ISNUMBER(E26),E26>=0,E26<=1000000000,E26=INT(E26)),AND(ISNUMBER(F26),F26>=0,F26<=100,F26=INT(F26)),AND(ISNUMBER(G26),G26>=43831,G26<73051,G26=INT(G26))))),"進行/保留は見込額・確度・予定日が必須",IF(AND(COUNTA(E26)>0,NOT(AND(ISNUMBER(E26),E26>=0,E26<=1000000000,E26=INT(E26)))),"見込額は0〜10億円の整数",IF(AND(COUNTA(F26)>0,NOT(AND(ISNUMBER(F26),F26>=0,F26<=100,F26=INT(F26)))),"確度は0〜100の整数",IF(AND(COUNTA(G26)>0,NOT(AND(ISNUMBER(G26),G26>=43831,G26<73051,G26=INT(G26)))),"予定日は時刻なしの日付",IF(AND(D26="受注",NOT(AND(ISNUMBER(H26),H26>=0,H26<=1000000000,H26=INT(H26)))),"受注額は0〜10億円の整数で必須",IF(AND(D26<>"受注",COUNTA(H26)>0),"受注以外は受注額を空欄",IF(AND(OR(D26="受注",D26="失注"),NOT(AND(ISNUMBER(I26),I26>=43831,I26<73051,I26=INT(I26)))),"受注/失注は決着日が必須",IF(AND(NOT(OR(D26="受注",D26="失注")),COUNTA(I26)>0),"未決着の決着日は空欄",IF(NOT(AND(ISNUMBER(J26),J26>=43831,J26<73051,J26=INT(J26))),"記録確認日は時刻なしの日付で必須",IF(J26>案件一覧!$B$3,"確認日が基準日より後",IF(AND(OR(D26="受注",D26="失注"),I26>J26),"決着日が記録確認日より後","確認済み"))))))))))))))))))) | O26: =IF(N26="","",IF(N26="確認済み",0,1)) | P26: =IF(N26="","",IF(NOT(AND(ISNUMBER(O26),O26=IF(N26="確認済み",0,1))),1,IF(O26<>0,0,IF(AND(IF(D26="進行",ISNUMBER(K26),ISTEXT(K26)),K26=IF(D26="進行",ROUND(E26*F26/100,0),""),ISNUMBER(L26),L26=IF(AND(D26="進行",G26<案件一覧!$B$3),1,0),ISNUMBER(M26),M26=IF(AND(NOT(OR(D26="受注",D26="失注")),C26=""),1,0)),0,1))))
K27: =IF(N27="","",IF(O27<>0,NA(),IF(D27="進行",ROUND(E27*F27/100,0),""))) | L27: =IF(N27="","",IF(O27<>0,NA(),IF(AND(D27="進行",G27<案件一覧!$B$3),1,0))) | M27: =IF(N27="","",IF(O27<>0,NA(),IF(AND(NOT(OR(D27="受注",D27="失注")),C27=""),1,0))) | N27: =IF(COUNTA(A27:J27)=0,"",IF(NOT(AND(ISTEXT(A27),LEN(A27)=8,EXACT(LEFT(A27,4),"OPP-"),ISNUMBER(FIND(MID(A27,5,1)&"x","0x1x2x3x4x5x6x7x8x9x")),ISNUMBER(FIND(MID(A27,6,1)&"x","0x1x2x3x4x5x6x7x8x9x")),ISNUMBER(FIND(MID(A27,7,1)&"x","0x1x2x3x4x5x6x7x8x9x")),ISNUMBER(FIND(MID(A27,8,1)&"x","0x1x2x3x4x5x6x7x8x9x")))),"案件IDはOPP-と半角数字4桁",IF(COUNTIFS($A$8:$A$57,A27)>1,"案件IDが重複",IF(NOT(AND(ISTEXT(B27),LEN(B27)=8,EXACT(LEFT(B27,4),"CUS-"),ISNUMBER(FIND(MID(B27,5,1)&"x","0x1x2x3x4x5x6x7x8x9x")),ISNUMBER(FIND(MID(B27,6,1)&"x","0x1x2x3x4x5x6x7x8x9x")),ISNUMBER(FIND(MID(B27,7,1)&"x","0x1x2x3x4x5x6x7x8x9x")),ISNUMBER(FIND(MID(B27,8,1)&"x","0x1x2x3x4x5x6x7x8x9x")))),"顧客IDの形式を確認",IF(COUNTIFS(登録ID!$A$8:$A$57,B27)<>1,"顧客が未登録/重複",IF(AND(COUNTA(C27)>0,NOT(AND(ISTEXT(C27),LEN(C27)=8,EXACT(LEFT(C27,4),"STF-"),ISNUMBER(FIND(MID(C27,5,1)&"x","0x1x2x3x4x5x6x7x8x9x")),ISNUMBER(FIND(MID(C27,6,1)&"x","0x1x2x3x4x5x6x7x8x9x")),ISNUMBER(FIND(MID(C27,7,1)&"x","0x1x2x3x4x5x6x7x8x9x")),ISNUMBER(FIND(MID(C27,8,1)&"x","0x1x2x3x4x5x6x7x8x9x"))))),"担当IDの形式を確認",IF(AND(COUNTA(C27)>0,COUNTIFS(登録ID!$E$8:$E$27,C27)<>1),"担当が未登録/重複",IF(NOT(OR(D27="進行",D27="保留",D27="受注",D27="失注",D27="未確認")),"状況を確認",IF(AND(OR(D27="進行",D27="保留"),NOT(AND(AND(ISNUMBER(E27),E27>=0,E27<=1000000000,E27=INT(E27)),AND(ISNUMBER(F27),F27>=0,F27<=100,F27=INT(F27)),AND(ISNUMBER(G27),G27>=43831,G27<73051,G27=INT(G27))))),"進行/保留は見込額・確度・予定日が必須",IF(AND(COUNTA(E27)>0,NOT(AND(ISNUMBER(E27),E27>=0,E27<=1000000000,E27=INT(E27)))),"見込額は0〜10億円の整数",IF(AND(COUNTA(F27)>0,NOT(AND(ISNUMBER(F27),F27>=0,F27<=100,F27=INT(F27)))),"確度は0〜100の整数",IF(AND(COUNTA(G27)>0,NOT(AND(ISNUMBER(G27),G27>=43831,G27<73051,G27=INT(G27)))),"予定日は時刻なしの日付",IF(AND(D27="受注",NOT(AND(ISNUMBER(H27),H27>=0,H27<=1000000000,H27=INT(H27)))),"受注額は0〜10億円の整数で必須",IF(AND(D27<>"受注",COUNTA(H27)>0),"受注以外は受注額を空欄",IF(AND(OR(D27="受注",D27="失注"),NOT(AND(ISNUMBER(I27),I27>=43831,I27<73051,I27=INT(I27)))),"受注/失注は決着日が必須",IF(AND(NOT(OR(D27="受注",D27="失注")),COUNTA(I27)>0),"未決着の決着日は空欄",IF(NOT(AND(ISNUMBER(J27),J27>=43831,J27<73051,J27=INT(J27))),"記録確認日は時刻なしの日付で必須",IF(J27>案件一覧!$B$3,"確認日が基準日より後",IF(AND(OR(D27="受注",D27="失注"),I27>J27),"決着日が記録確認日より後","確認済み"))))))))))))))))))) | O27: =IF(N27="","",IF(N27="確認済み",0,1)) | P27: =IF(N27="","",IF(NOT(AND(ISNUMBER(O27),O27=IF(N27="確認済み",0,1))),1,IF(O27<>0,0,IF(AND(IF(D27="進行",ISNUMBER(K27),ISTEXT(K27)),K27=IF(D27="進行",ROUND(E27*F27/100,0),""),ISNUMBER(L27),L27=IF(AND(D27="進行",G27<案件一覧!$B$3),1,0),ISNUMBER(M27),M27=IF(AND(NOT(OR(D27="受注",D27="失注")),C27=""),1,0)),0,1))))
... K57: =IF(N57="","",IF(O57<>0,NA(),IF(D57="進行",ROUND(E57*F57/100,0),""))) | L57: =IF(N57="","",IF(O57<>0,NA(),IF(AND(D57="進行",G57<案件一覧!$B$3),1,0))) | M57: =IF(N57="","",IF(O57<>0,NA(),IF(AND(NOT(OR(D57="受注",D57="失注")),C57=""),1,0))) | N57: =IF(COUNTA(A57:J57)=0,"",IF(NOT(AND(ISTEXT(A57),LEN(A57)=8,EXACT(LEFT(A57,4),"OPP-"),ISNUMBER(FIND(MID(A57,5,1)&"x","0x1x2x3x4x5x6x7x8x9x")),ISNUMBER(FIND(MID(A57,6,1)&"x","0x1x2x3x4x5x6x7x8x9x")),ISNUMBER(FIND(MID(A57,7,1)&"x","0x1x2x3x4x5x6x7x8x9x")),ISNUMBER(FIND(MID(A57,8,1)&"x","0x1x2x3x4x5x6x7x8x9x")))),"案件IDはOPP-と半角数字4桁",IF(COUNTIFS($A$8:$A$57,A57)>1,"案件IDが重複",IF(NOT(AND(ISTEXT(B57),LEN(B57)=8,EXACT(LEFT(B57,4),"CUS-"),ISNUMBER(FIND(MID(B57,5,1)&"x","0x1x2x3x4x5x6x7x8x9x")),ISNUMBER(FIND(MID(B57,6,1)&"x","0x1x2x3x4x5x6x7x8x9x")),ISNUMBER(FIND(MID(B57,7,1)&"x","0x1x2x3x4x5x6x7x8x9x")),ISNUMBER(FIND(MID(B57,8,1)&"x","0x1x2x3x4x5x6x7x8x9x")))),"顧客IDの形式を確認",IF(COUNTIFS(登録ID!$A$8:$A$57,B57)<>1,"顧客が未登録/重複",IF(AND(COUNTA(C57)>0,NOT(AND(ISTEXT(C57),LEN(C57)=8,EXACT(LEFT(C57,4),"STF-"),ISNUMBER(FIND(MID(C57,5,1)&"x","0x1x2x3x4x5x6x7x8x9x")),ISNUMBER(FIND(MID(C57,6,1)&"x","0x1x2x3x4x5x6x7x8x9x")),ISNUMBER(FIND(MID(C57,7,1)&"x","0x1x2x3x4x5x6x7x8x9x")),ISNUMBER(FIND(MID(C57,8,1)&"x","0x1x2x3x4x5x6x7x8x9x"))))),"担当IDの形式を確認",IF(AND(COUNTA(C57)>0,COUNTIFS(登録ID!$E$8:$E$27,C57)<>1),"担当が未登録/重複",IF(NOT(OR(D57="進行",D57="保留",D57="受注",D57="失注",D57="未確認")),"状況を確認",IF(AND(OR(D57="進行",D57="保留"),NOT(AND(AND(ISNUMBER(E57),E57>=0,E57<=1000000000,E57=INT(E57)),AND(ISNUMBER(F57),F57>=0,F57<=100,F57=INT(F57)),AND(ISNUMBER(G57),G57>=43831,G57<73051,G57=INT(G57))))),"進行/保留は見込額・確度・予定日が必須",IF(AND(COUNTA(E57)>0,NOT(AND(ISNUMBER(E57),E57>=0,E57<=1000000000,E57=INT(E57)))),"見込額は0〜10億円の整数",IF(AND(COUNTA(F57)>0,NOT(AND(ISNUMBER(F57),F57>=0,F57<=100,F57=INT(F57)))),"確度は0〜100の整数",IF(AND(COUNTA(G57)>0,NOT(AND(ISNUMBER(G57),G57>=43831,G57<73051,G57=INT(G57)))),"予定日は時刻なしの日付",IF(AND(D57="受注",NOT(AND(ISNUMBER(H57),H57>=0,H57<=1000000000,H57=INT(H57)))),"受注額は0〜10億円の整数で必須",IF(AND(D57<>"受注",COUNTA(H57)>0),"受注以外は受注額を空欄",IF(AND(OR(D57="受注",D57="失注"),NOT(AND(ISNUMBER(I57),I57>=43831,I57<73051,I57=INT(I57)))),"受注/失注は決着日が必須",IF(AND(NOT(OR(D57="受注",D57="失注")),COUNTA(I57)>0),"未決着の決着日は空欄",IF(NOT(AND(ISNUMBER(J57),J57>=43831,J57<73051,J57=INT(J57))),"記録確認日は時刻なしの日付で必須",IF(J57>案件一覧!$B$3,"確認日が基準日より後",IF(AND(OR(D57="受注",D57="失注"),I57>J57),"決着日が記録確認日より後","確認済み"))))))))))))))))))) | O57: =IF(N57="","",IF(N57="確認済み",0,1)) | P57: =IF(N57="","",IF(NOT(AND(ISNUMBER(O57),O57=IF(N57="確認済み",0,1))),1,IF(O57<>0,0,IF(AND(IF(D57="進行",ISNUMBER(K57),ISTEXT(K57)),K57=IF(D57="進行",ROUND(E57*F57/100,0),""),ISNUMBER(L57),L57=IF(AND(D57="進行",G57<案件一覧!$B$3),1,0),ISNUMBER(M57),M57=IF(AND(NOT(OR(D57="受注",D57="失注")),C57=""),1,0)),0,1))))
A61: 架空教材。50案件/50顧客ID/20担当ID。見込・受注を円で区別し、元台帳と対応/根拠を管理。
A62: 進行/保留は見込額・確度・予定日が必須。受注は受注額/決着日、失注は決着日が必須。
A63: 確度は0〜100の整数。100でも受注にせず、0と未確認/空欄は別。確度の根拠を自動推定しません。
A64: 加重見込は進行だけ見込額×確度÷100を案件ごとに四捨五入して合計。未確認ありは合計を判定保留。
A65: 進行/保留の金額・確認済受注は区分別の小計。未確認を含む全体の金額を保証しません。
A66: 決着日≦記録確認日≦基準日、全日付2020〜2099年/時刻なし。予定超過は進行の予定日の翌日から。
A67: 現在の元台帳の状況を照合。基準日変更だけで過去の状況/確度の変更履歴を復元しません。
A68: 受注額は売上計上/請求/入金ではありません。税計算・会計・CRM同期/自動連絡/権限を判定しません。
A69: 印刷は案件一覧のみ。初期A1:I17、50件A1:I59。版1/CC0 https://creativecommons.org/publicdomain/zero/1.0/
A70: 一次情報確認2026-10-16 https://support.microsoft.com/en-us/excel/functions/sumifs-function
A71: https://support.microsoft.com/en-us/excel/functions/countifs-function https://support.microsoft.com/en-us/excel/functions/round-function

Sheet 登録ID
A2: 顧客ID・担当者IDを登録
A3: 顧客50ID・担当20IDまで。顧客・案件名・本人との対応と利用権限は元台帳で管理。
A5: 同じ顧客/人物/案件の別ID、登録漏れや金額/確度の根拠は自動検証しません。
A7: 顧客ID | B7: IDの確認 | C7: 入力不備 | E7: 担当者ID | F7: IDの確認 | G7: 入力不備
A8: CUS-0001 | B8: =IF(COUNTA(A8)=0,"",IF(NOT(AND(ISTEXT(A8),LEN(A8)=8,EXACT(LEFT(A8,4),"CUS-"),ISNUMBER(FIND(MID(A8,5,1)&"x","0x1x2x3x4x5x6x7x8x9x")),ISNUMBER(FIND(MID(A8,6,1)&"x","0x1x2x3x4x5x6x7x8x9x")),ISNUMBER(FIND(MID(A8,7,1)&"x","0x1x2x3x4x5x6x7x8x9x")),ISNUMBER(FIND(MID(A8,8,1)&"x","0x1x2x3x4x5x6x7x8x9x")))),"IDの形式を確認",IF(COUNTIFS($A$8:$A$57,A8)>1,"IDが重複","確認済み"))) -> 確認済み | C8: =IF(B8="","",IF(B8="確認済み",0,1)) -> 0 | E8: STF-0001 | F8: =IF(COUNTA(E8)=0,"",IF(NOT(AND(ISTEXT(E8),LEN(E8)=8,EXACT(LEFT(E8,4),"STF-"),ISNUMBER(FIND(MID(E8,5,1)&"x","0x1x2x3x4x5x6x7x8x9x")),ISNUMBER(FIND(MID(E8,6,1)&"x","0x1x2x3x4x5x6x7x8x9x")),ISNUMBER(FIND(MID(E8,7,1)&"x","0x1x2x3x4x5x6x7x8x9x")),ISNUMBER(FIND(MID(E8,8,1)&"x","0x1x2x3x4x5x6x7x8x9x")))),"IDの形式を確認",IF(COUNTIFS($E$8:$E$27,E8)>1,"IDが重複","確認済み"))) -> 確認済み | G8: =IF(F8="","",IF(F8="確認済み",0,1)) -> 0
A9: CUS-0002 | B9: =IF(COUNTA(A9)=0,"",IF(NOT(AND(ISTEXT(A9),LEN(A9)=8,EXACT(LEFT(A9,4),"CUS-"),ISNUMBER(FIND(MID(A9,5,1)&"x","0x1x2x3x4x5x6x7x8x9x")),ISNUMBER(FIND(MID(A9,6,1)&"x","0x1x2x3x4x5x6x7x8x9x")),ISNUMBER(FIND(MID(A9,7,1)&"x","0x1x2x3x4x5x6x7x8x9x")),ISNUMBER(FIND(MID(A9,8,1)&"x","0x1x2x3x4x5x6x7x8x9x")))),"IDの形式を確認",IF(COUNTIFS($A$8:$A$57,A9)>1,"IDが重複","確認済み"))) -> 確認済み | C9: =IF(B9="","",IF(B9="確認済み",0,1)) -> 0 | E9: STF-0002 | F9: =IF(COUNTA(E9)=0,"",IF(NOT(AND(ISTEXT(E9),LEN(E9)=8,EXACT(LEFT(E9,4),"STF-"),ISNUMBER(FIND(MID(E9,5,1)&"x","0x1x2x3x4x5x6x7x8x9x")),ISNUMBER(FIND(MID(E9,6,1)&"x","0x1x2x3x4x5x6x7x8x9x")),ISNUMBER(FIND(MID(E9,7,1)&"x","0x1x2x3x4x5x6x7x8x9x")),ISNUMBER(FIND(MID(E9,8,1)&"x","0x1x2x3x4x5x6x7x8x9x")))),"IDの形式を確認",IF(COUNTIFS($E$8:$E$27,E9)>1,"IDが重複","確認済み"))) -> 確認済み | G9: =IF(F9="","",IF(F9="確認済み",0,1)) -> 0
A10: CUS-0003 | B10: =IF(COUNTA(A10)=0,"",IF(NOT(AND(ISTEXT(A10),LEN(A10)=8,EXACT(LEFT(A10,4),"CUS-"),ISNUMBER(FIND(MID(A10,5,1)&"x","0x1x2x3x4x5x6x7x8x9x")),ISNUMBER(FIND(MID(A10,6,1)&"x","0x1x2x3x4x5x6x7x8x9x")),ISNUMBER(FIND(MID(A10,7,1)&"x","0x1x2x3x4x5x6x7x8x9x")),ISNUMBER(FIND(MID(A10,8,1)&"x","0x1x2x3x4x5x6x7x8x9x")))),"IDの形式を確認",IF(COUNTIFS($A$8:$A$57,A10)>1,"IDが重複","確認済み"))) -> 確認済み | C10: =IF(B10="","",IF(B10="確認済み",0,1)) -> 0 | E10: STF-0003 | F10: =IF(COUNTA(E10)=0,"",IF(NOT(AND(ISTEXT(E10),LEN(E10)=8,EXACT(LEFT(E10,4),"STF-"),ISNUMBER(FIND(MID(E10,5,1)&"x","0x1x2x3x4x5x6x7x8x9x")),ISNUMBER(FIND(MID(E10,6,1)&"x","0x1x2x3x4x5x6x7x8x9x")),ISNUMBER(FIND(MID(E10,7,1)&"x","0x1x2x3x4x5x6x7x8x9x")),ISNUMBER(FIND(MID(E10,8,1)&"x","0x1x2x3x4x5x6x7x8x9x")))),"IDの形式を確認",IF(COUNTIFS($E$8:$E$27,E10)>1,"IDが重複","確認済み"))) -> 確認済み | G10: =IF(F10="","",IF(F10="確認済み",0,1)) -> 0
A11: CUS-0004 | B11: =IF(COUNTA(A11)=0,"",IF(NOT(AND(ISTEXT(A11),LEN(A11)=8,EXACT(LEFT(A11,4),"CUS-"),ISNUMBER(FIND(MID(A11,5,1)&"x","0x1x2x3x4x5x6x7x8x9x")),ISNUMBER(FIND(MID(A11,6,1)&"x","0x1x2x3x4x5x6x7x8x9x")),ISNUMBER(FIND(MID(A11,7,1)&"x","0x1x2x3x4x5x6x7x8x9x")),ISNUMBER(FIND(MID(A11,8,1)&"x","0x1x2x3x4x5x6x7x8x9x")))),"IDの形式を確認",IF(COUNTIFS($A$8:$A$57,A11)>1,"IDが重複","確認済み"))) -> 確認済み | C11: =IF(B11="","",IF(B11="確認済み",0,1)) -> 0 | E11: STF-0004 | F11: =IF(COUNTA(E11)=0,"",IF(NOT(AND(ISTEXT(E11),LEN(E11)=8,EXACT(LEFT(E11,4),"STF-"),ISNUMBER(FIND(MID(E11,5,1)&"x","0x1x2x3x4x5x6x7x8x9x")),ISNUMBER(FIND(MID(E11,6,1)&"x","0x1x2x3x4x5x6x7x8x9x")),ISNUMBER(FIND(MID(E11,7,1)&"x","0x1x2x3x4x5x6x7x8x9x")),ISNUMBER(FIND(MID(E11,8,1)&"x","0x1x2x3x4x5x6x7x8x9x")))),"IDの形式を確認",IF(COUNTIFS($E$8:$E$27,E11)>1,"IDが重複","確認済み"))) -> 確認済み | G11: =IF(F11="","",IF(F11="確認済み",0,1)) -> 0
B12: =IF(COUNTA(A12)=0,"",IF(NOT(AND(ISTEXT(A12),LEN(A12)=8,EXACT(LEFT(A12,4),"CUS-"),ISNUMBER(FIND(MID(A12,5,1)&"x","0x1x2x3x4x5x6x7x8x9x")),ISNUMBER(FIND(MID(A12,6,1)&"x","0x1x2x3x4x5x6x7x8x9x")),ISNUMBER(FIND(MID(A12,7,1)&"x","0x1x2x3x4x5x6x7x8x9x")),ISNUMBER(FIND(MID(A12,8,1)&"x","0x1x2x3x4x5x6x7x8x9x")))),"IDの形式を確認",IF(COUNTIFS($A$8:$A$57,A12)>1,"IDが重複","確認済み"))) | C12: =IF(B12="","",IF(B12="確認済み",0,1)) | F12: =IF(COUNTA(E12)=0,"",IF(NOT(AND(ISTEXT(E12),LEN(E12)=8,EXACT(LEFT(E12,4),"STF-"),ISNUMBER(FIND(MID(E12,5,1)&"x","0x1x2x3x4x5x6x7x8x9x")),ISNUMBER(FIND(MID(E12,6,1)&"x","0x1x2x3x4x5x6x7x8x9x")),ISNUMBER(FIND(MID(E12,7,1)&"x","0x1x2x3x4x5x6x7x8x9x")),ISNUMBER(FIND(MID(E12,8,1)&"x","0x1x2x3x4x5x6x7x8x9x")))),"IDの形式を確認",IF(COUNTIFS($E$8:$E$27,E12)>1,"IDが重複","確認済み"))) | G12: =IF(F12="","",IF(F12="確認済み",0,1))
B13: =IF(COUNTA(A13)=0,"",IF(NOT(AND(ISTEXT(A13),LEN(A13)=8,EXACT(LEFT(A13,4),"CUS-"),ISNUMBER(FIND(MID(A13,5,1)&"x","0x1x2x3x4x5x6x7x8x9x")),ISNUMBER(FIND(MID(A13,6,1)&"x","0x1x2x3x4x5x6x7x8x9x")),ISNUMBER(FIND(MID(A13,7,1)&"x","0x1x2x3x4x5x6x7x8x9x")),ISNUMBER(FIND(MID(A13,8,1)&"x","0x1x2x3x4x5x6x7x8x9x")))),"IDの形式を確認",IF(COUNTIFS($A$8:$A$57,A13)>1,"IDが重複","確認済み"))) | C13: =IF(B13="","",IF(B13="確認済み",0,1)) | F13: =IF(COUNTA(E13)=0,"",IF(NOT(AND(ISTEXT(E13),LEN(E13)=8,EXACT(LEFT(E13,4),"STF-"),ISNUMBER(FIND(MID(E13,5,1)&"x","0x1x2x3x4x5x6x7x8x9x")),ISNUMBER(FIND(MID(E13,6,1)&"x","0x1x2x3x4x5x6x7x8x9x")),ISNUMBER(FIND(MID(E13,7,1)&"x","0x1x2x3x4x5x6x7x8x9x")),ISNUMBER(FIND(MID(E13,8,1)&"x","0x1x2x3x4x5x6x7x8x9x")))),"IDの形式を確認",IF(COUNTIFS($E$8:$E$27,E13)>1,"IDが重複","確認済み"))) | G13: =IF(F13="","",IF(F13="確認済み",0,1))
B14: =IF(COUNTA(A14)=0,"",IF(NOT(AND(ISTEXT(A14),LEN(A14)=8,EXACT(LEFT(A14,4),"CUS-"),ISNUMBER(FIND(MID(A14,5,1)&"x","0x1x2x3x4x5x6x7x8x9x")),ISNUMBER(FIND(MID(A14,6,1)&"x","0x1x2x3x4x5x6x7x8x9x")),ISNUMBER(FIND(MID(A14,7,1)&"x","0x1x2x3x4x5x6x7x8x9x")),ISNUMBER(FIND(MID(A14,8,1)&"x","0x1x2x3x4x5x6x7x8x9x")))),"IDの形式を確認",IF(COUNTIFS($A$8:$A$57,A14)>1,"IDが重複","確認済み"))) | C14: =IF(B14="","",IF(B14="確認済み",0,1)) | F14: =IF(COUNTA(E14)=0,"",IF(NOT(AND(ISTEXT(E14),LEN(E14)=8,EXACT(LEFT(E14,4),"STF-"),ISNUMBER(FIND(MID(E14,5,1)&"x","0x1x2x3x4x5x6x7x8x9x")),ISNUMBER(FIND(MID(E14,6,1)&"x","0x1x2x3x4x5x6x7x8x9x")),ISNUMBER(FIND(MID(E14,7,1)&"x","0x1x2x3x4x5x6x7x8x9x")),ISNUMBER(FIND(MID(E14,8,1)&"x","0x1x2x3x4x5x6x7x8x9x")))),"IDの形式を確認",IF(COUNTIFS($E$8:$E$27,E14)>1,"IDが重複","確認済み"))) | G14: =IF(F14="","",IF(F14="確認済み",0,1))
B15: =IF(COUNTA(A15)=0,"",IF(NOT(AND(ISTEXT(A15),LEN(A15)=8,EXACT(LEFT(A15,4),"CUS-"),ISNUMBER(FIND(MID(A15,5,1)&"x","0x1x2x3x4x5x6x7x8x9x")),ISNUMBER(FIND(MID(A15,6,1)&"x","0x1x2x3x4x5x6x7x8x9x")),ISNUMBER(FIND(MID(A15,7,1)&"x","0x1x2x3x4x5x6x7x8x9x")),ISNUMBER(FIND(MID(A15,8,1)&"x","0x1x2x3x4x5x6x7x8x9x")))),"IDの形式を確認",IF(COUNTIFS($A$8:$A$57,A15)>1,"IDが重複","確認済み"))) | C15: =IF(B15="","",IF(B15="確認済み",0,1)) | F15: =IF(COUNTA(E15)=0,"",IF(NOT(AND(ISTEXT(E15),LEN(E15)=8,EXACT(LEFT(E15,4),"STF-"),ISNUMBER(FIND(MID(E15,5,1)&"x","0x1x2x3x4x5x6x7x8x9x")),ISNUMBER(FIND(MID(E15,6,1)&"x","0x1x2x3x4x5x6x7x8x9x")),ISNUMBER(FIND(MID(E15,7,1)&"x","0x1x2x3x4x5x6x7x8x9x")),ISNUMBER(FIND(MID(E15,8,1)&"x","0x1x2x3x4x5x6x7x8x9x")))),"IDの形式を確認",IF(COUNTIFS($E$8:$E$27,E15)>1,"IDが重複","確認済み"))) | G15: =IF(F15="","",IF(F15="確認済み",0,1))
B16: =IF(COUNTA(A16)=0,"",IF(NOT(AND(ISTEXT(A16),LEN(A16)=8,EXACT(LEFT(A16,4),"CUS-"),ISNUMBER(FIND(MID(A16,5,1)&"x","0x1x2x3x4x5x6x7x8x9x")),ISNUMBER(FIND(MID(A16,6,1)&"x","0x1x2x3x4x5x6x7x8x9x")),ISNUMBER(FIND(MID(A16,7,1)&"x","0x1x2x3x4x5x6x7x8x9x")),ISNUMBER(FIND(MID(A16,8,1)&"x","0x1x2x3x4x5x6x7x8x9x")))),"IDの形式を確認",IF(COUNTIFS($A$8:$A$57,A16)>1,"IDが重複","確認済み"))) | C16: =IF(B16="","",IF(B16="確認済み",0,1)) | F16: =IF(COUNTA(E16)=0,"",IF(NOT(AND(ISTEXT(E16),LEN(E16)=8,EXACT(LEFT(E16,4),"STF-"),ISNUMBER(FIND(MID(E16,5,1)&"x","0x1x2x3x4x5x6x7x8x9x")),ISNUMBER(FIND(MID(E16,6,1)&"x","0x1x2x3x4x5x6x7x8x9x")),ISNUMBER(FIND(MID(E16,7,1)&"x","0x1x2x3x4x5x6x7x8x9x")),ISNUMBER(FIND(MID(E16,8,1)&"x","0x1x2x3x4x5x6x7x8x9x")))),"IDの形式を確認",IF(COUNTIFS($E$8:$E$27,E16)>1,"IDが重複","確認済み"))) | G16: =IF(F16="","",IF(F16="確認済み",0,1))
B17: =IF(COUNTA(A17)=0,"",IF(NOT(AND(ISTEXT(A17),LEN(A17)=8,EXACT(LEFT(A17,4),"CUS-"),ISNUMBER(FIND(MID(A17,5,1)&"x","0x1x2x3x4x5x6x7x8x9x")),ISNUMBER(FIND(MID(A17,6,1)&"x","0x1x2x3x4x5x6x7x8x9x")),ISNUMBER(FIND(MID(A17,7,1)&"x","0x1x2x3x4x5x6x7x8x9x")),ISNUMBER(FIND(MID(A17,8,1)&"x","0x1x2x3x4x5x6x7x8x9x")))),"IDの形式を確認",IF(COUNTIFS($A$8:$A$57,A17)>1,"IDが重複","確認済み"))) | C17: =IF(B17="","",IF(B17="確認済み",0,1)) | F17: =IF(COUNTA(E17)=0,"",IF(NOT(AND(ISTEXT(E17),LEN(E17)=8,EXACT(LEFT(E17,4),"STF-"),ISNUMBER(FIND(MID(E17,5,1)&"x","0x1x2x3x4x5x6x7x8x9x")),ISNUMBER(FIND(MID(E17,6,1)&"x","0x1x2x3x4x5x6x7x8x9x")),ISNUMBER(FIND(MID(E17,7,1)&"x","0x1x2x3x4x5x6x7x8x9x")),ISNUMBER(FIND(MID(E17,8,1)&"x","0x1x2x3x4x5x6x7x8x9x")))),"IDの形式を確認",IF(COUNTIFS($E$8:$E$27,E17)>1,"IDが重複","確認済み"))) | G17: =IF(F17="","",IF(F17="確認済み",0,1))
B18: =IF(COUNTA(A18)=0,"",IF(NOT(AND(ISTEXT(A18),LEN(A18)=8,EXACT(LEFT(A18,4),"CUS-"),ISNUMBER(FIND(MID(A18,5,1)&"x","0x1x2x3x4x5x6x7x8x9x")),ISNUMBER(FIND(MID(A18,6,1)&"x","0x1x2x3x4x5x6x7x8x9x")),ISNUMBER(FIND(MID(A18,7,1)&"x","0x1x2x3x4x5x6x7x8x9x")),ISNUMBER(FIND(MID(A18,8,1)&"x","0x1x2x3x4x5x6x7x8x9x")))),"IDの形式を確認",IF(COUNTIFS($A$8:$A$57,A18)>1,"IDが重複","確認済み"))) | C18: =IF(B18="","",IF(B18="確認済み",0,1)) | F18: =IF(COUNTA(E18)=0,"",IF(NOT(AND(ISTEXT(E18),LEN(E18)=8,EXACT(LEFT(E18,4),"STF-"),ISNUMBER(FIND(MID(E18,5,1)&"x","0x1x2x3x4x5x6x7x8x9x")),ISNUMBER(FIND(MID(E18,6,1)&"x","0x1x2x3x4x5x6x7x8x9x")),ISNUMBER(FIND(MID(E18,7,1)&"x","0x1x2x3x4x5x6x7x8x9x")),ISNUMBER(FIND(MID(E18,8,1)&"x","0x1x2x3x4x5x6x7x8x9x")))),"IDの形式を確認",IF(COUNTIFS($E$8:$E$27,E18)>1,"IDが重複","確認済み"))) | G18: =IF(F18="","",IF(F18="確認済み",0,1))
B19: =IF(COUNTA(A19)=0,"",IF(NOT(AND(ISTEXT(A19),LEN(A19)=8,EXACT(LEFT(A19,4),"CUS-"),ISNUMBER(FIND(MID(A19,5,1)&"x","0x1x2x3x4x5x6x7x8x9x")),ISNUMBER(FIND(MID(A19,6,1)&"x","0x1x2x3x4x5x6x7x8x9x")),ISNUMBER(FIND(MID(A19,7,1)&"x","0x1x2x3x4x5x6x7x8x9x")),ISNUMBER(FIND(MID(A19,8,1)&"x","0x1x2x3x4x5x6x7x8x9x")))),"IDの形式を確認",IF(COUNTIFS($A$8:$A$57,A19)>1,"IDが重複","確認済み"))) | C19: =IF(B19="","",IF(B19="確認済み",0,1)) | F19: =IF(COUNTA(E19)=0,"",IF(NOT(AND(ISTEXT(E19),LEN(E19)=8,EXACT(LEFT(E19,4),"STF-"),ISNUMBER(FIND(MID(E19,5,1)&"x","0x1x2x3x4x5x6x7x8x9x")),ISNUMBER(FIND(MID(E19,6,1)&"x","0x1x2x3x4x5x6x7x8x9x")),ISNUMBER(FIND(MID(E19,7,1)&"x","0x1x2x3x4x5x6x7x8x9x")),ISNUMBER(FIND(MID(E19,8,1)&"x","0x1x2x3x4x5x6x7x8x9x")))),"IDの形式を確認",IF(COUNTIFS($E$8:$E$27,E19)>1,"IDが重複","確認済み"))) | G19: =IF(F19="","",IF(F19="確認済み",0,1))
B20: =IF(COUNTA(A20)=0,"",IF(NOT(AND(ISTEXT(A20),LEN(A20)=8,EXACT(LEFT(A20,4),"CUS-"),ISNUMBER(FIND(MID(A20,5,1)&"x","0x1x2x3x4x5x6x7x8x9x")),ISNUMBER(FIND(MID(A20,6,1)&"x","0x1x2x3x4x5x6x7x8x9x")),ISNUMBER(FIND(MID(A20,7,1)&"x","0x1x2x3x4x5x6x7x8x9x")),ISNUMBER(FIND(MID(A20,8,1)&"x","0x1x2x3x4x5x6x7x8x9x")))),"IDの形式を確認",IF(COUNTIFS($A$8:$A$57,A20)>1,"IDが重複","確認済み"))) | C20: =IF(B20="","",IF(B20="確認済み",0,1)) | F20: =IF(COUNTA(E20)=0,"",IF(NOT(AND(ISTEXT(E20),LEN(E20)=8,EXACT(LEFT(E20,4),"STF-"),ISNUMBER(FIND(MID(E20,5,1)&"x","0x1x2x3x4x5x6x7x8x9x")),ISNUMBER(FIND(MID(E20,6,1)&"x","0x1x2x3x4x5x6x7x8x9x")),ISNUMBER(FIND(MID(E20,7,1)&"x","0x1x2x3x4x5x6x7x8x9x")),ISNUMBER(FIND(MID(E20,8,1)&"x","0x1x2x3x4x5x6x7x8x9x")))),"IDの形式を確認",IF(COUNTIFS($E$8:$E$27,E20)>1,"IDが重複","確認済み"))) | G20: =IF(F20="","",IF(F20="確認済み",0,1))
B21: =IF(COUNTA(A21)=0,"",IF(NOT(AND(ISTEXT(A21),LEN(A21)=8,EXACT(LEFT(A21,4),"CUS-"),ISNUMBER(FIND(MID(A21,5,1)&"x","0x1x2x3x4x5x6x7x8x9x")),ISNUMBER(FIND(MID(A21,6,1)&"x","0x1x2x3x4x5x6x7x8x9x")),ISNUMBER(FIND(MID(A21,7,1)&"x","0x1x2x3x4x5x6x7x8x9x")),ISNUMBER(FIND(MID(A21,8,1)&"x","0x1x2x3x4x5x6x7x8x9x")))),"IDの形式を確認",IF(COUNTIFS($A$8:$A$57,A21)>1,"IDが重複","確認済み"))) | C21: =IF(B21="","",IF(B21="確認済み",0,1)) | F21: =IF(COUNTA(E21)=0,"",IF(NOT(AND(ISTEXT(E21),LEN(E21)=8,EXACT(LEFT(E21,4),"STF-"),ISNUMBER(FIND(MID(E21,5,1)&"x","0x1x2x3x4x5x6x7x8x9x")),ISNUMBER(FIND(MID(E21,6,1)&"x","0x1x2x3x4x5x6x7x8x9x")),ISNUMBER(FIND(MID(E21,7,1)&"x","0x1x2x3x4x5x6x7x8x9x")),ISNUMBER(FIND(MID(E21,8,1)&"x","0x1x2x3x4x5x6x7x8x9x")))),"IDの形式を確認",IF(COUNTIFS($E$8:$E$27,E21)>1,"IDが重複","確認済み"))) | G21: =IF(F21="","",IF(F21="確認済み",0,1))
B22: =IF(COUNTA(A22)=0,"",IF(NOT(AND(ISTEXT(A22),LEN(A22)=8,EXACT(LEFT(A22,4),"CUS-"),ISNUMBER(FIND(MID(A22,5,1)&"x","0x1x2x3x4x5x6x7x8x9x")),ISNUMBER(FIND(MID(A22,6,1)&"x","0x1x2x3x4x5x6x7x8x9x")),ISNUMBER(FIND(MID(A22,7,1)&"x","0x1x2x3x4x5x6x7x8x9x")),ISNUMBER(FIND(MID(A22,8,1)&"x","0x1x2x3x4x5x6x7x8x9x")))),"IDの形式を確認",IF(COUNTIFS($A$8:$A$57,A22)>1,"IDが重複","確認済み"))) | C22: =IF(B22="","",IF(B22="確認済み",0,1)) | F22: =IF(COUNTA(E22)=0,"",IF(NOT(AND(ISTEXT(E22),LEN(E22)=8,EXACT(LEFT(E22,4),"STF-"),ISNUMBER(FIND(MID(E22,5,1)&"x","0x1x2x3x4x5x6x7x8x9x")),ISNUMBER(FIND(MID(E22,6,1)&"x","0x1x2x3x4x5x6x7x8x9x")),ISNUMBER(FIND(MID(E22,7,1)&"x","0x1x2x3x4x5x6x7x8x9x")),ISNUMBER(FIND(MID(E22,8,1)&"x","0x1x2x3x4x5x6x7x8x9x")))),"IDの形式を確認",IF(COUNTIFS($E$8:$E$27,E22)>1,"IDが重複","確認済み"))) | G22: =IF(F22="","",IF(F22="確認済み",0,1))
B23: =IF(COUNTA(A23)=0,"",IF(NOT(AND(ISTEXT(A23),LEN(A23)=8,EXACT(LEFT(A23,4),"CUS-"),ISNUMBER(FIND(MID(A23,5,1)&"x","0x1x2x3x4x5x6x7x8x9x")),ISNUMBER(FIND(MID(A23,6,1)&"x","0x1x2x3x4x5x6x7x8x9x")),ISNUMBER(FIND(MID(A23,7,1)&"x","0x1x2x3x4x5x6x7x8x9x")),ISNUMBER(FIND(MID(A23,8,1)&"x","0x1x2x3x4x5x6x7x8x9x")))),"IDの形式を確認",IF(COUNTIFS($A$8:$A$57,A23)>1,"IDが重複","確認済み"))) | C23: =IF(B23="","",IF(B23="確認済み",0,1)) | F23: =IF(COUNTA(E23)=0,"",IF(NOT(AND(ISTEXT(E23),LEN(E23)=8,EXACT(LEFT(E23,4),"STF-"),ISNUMBER(FIND(MID(E23,5,1)&"x","0x1x2x3x4x5x6x7x8x9x")),ISNUMBER(FIND(MID(E23,6,1)&"x","0x1x2x3x4x5x6x7x8x9x")),ISNUMBER(FIND(MID(E23,7,1)&"x","0x1x2x3x4x5x6x7x8x9x")),ISNUMBER(FIND(MID(E23,8,1)&"x","0x1x2x3x4x5x6x7x8x9x")))),"IDの形式を確認",IF(COUNTIFS($E$8:$E$27,E23)>1,"IDが重複","確認済み"))) | G23: =IF(F23="","",IF(F23="確認済み",0,1))
... B27: =IF(COUNTA(A27)=0,"",IF(NOT(AND(ISTEXT(A27),LEN(A27)=8,EXACT(LEFT(A27,4),"CUS-"),ISNUMBER(FIND(MID(A27,5,1)&"x","0x1x2x3x4x5x6x7x8x9x")),ISNUMBER(FIND(MID(A27,6,1)&"x","0x1x2x3x4x5x6x7x8x9x")),ISNUMBER(FIND(MID(A27,7,1)&"x","0x1x2x3x4x5x6x7x8x9x")),ISNUMBER(FIND(MID(A27,8,1)&"x","0x1x2x3x4x5x6x7x8x9x")))),"IDの形式を確認",IF(COUNTIFS($A$8:$A$57,A27)>1,"IDが重複","確認済み"))) | C27: =IF(B27="","",IF(B27="確認済み",0,1)) | F27: =IF(COUNTA(E27)=0,"",IF(NOT(AND(ISTEXT(E27),LEN(E27)=8,EXACT(LEFT(E27,4),"STF-"),ISNUMBER(FIND(MID(E27,5,1)&"x","0x1x2x3x4x5x6x7x8x9x")),ISNUMBER(FIND(MID(E27,6,1)&"x","0x1x2x3x4x5x6x7x8x9x")),ISNUMBER(FIND(MID(E27,7,1)&"x","0x1x2x3x4x5x6x7x8x9x")),ISNUMBER(FIND(MID(E27,8,1)&"x","0x1x2x3x4x5x6x7x8x9x")))),"IDの形式を確認",IF(COUNTIFS($E$8:$E$27,E27)>1,"IDが重複","確認済み"))) | G27: =IF(F27="","",IF(F27="確認済み",0,1))
B28: =IF(COUNTA(A28)=0,"",IF(NOT(AND(ISTEXT(A28),LEN(A28)=8,EXACT(LEFT(A28,4),"CUS-"),ISNUMBER(FIND(MID(A28,5,1)&"x","0x1x2x3x4x5x6x7x8x9x")),ISNUMBER(FIND(MID(A28,6,1)&"x","0x1x2x3x4x5x6x7x8x9x")),ISNUMBER(FIND(MID(A28,7,1)&"x","0x1x2x3x4x5x6x7x8x9x")),ISNUMBER(FIND(MID(A28,8,1)&"x","0x1x2x3x4x5x6x7x8x9x")))),"IDの形式を確認",IF(COUNTIFS($A$8:$A$57,A28)>1,"IDが重複","確認済み"))) | C28: =IF(B28="","",IF(B28="確認済み",0,1))
B29: =IF(COUNTA(A29)=0,"",IF(NOT(AND(ISTEXT(A29),LEN(A29)=8,EXACT(LEFT(A29,4),"CUS-"),ISNUMBER(FIND(MID(A29,5,1)&"x","0x1x2x3x4x5x6x7x8x9x")),ISNUMBER(FIND(MID(A29,6,1)&"x","0x1x2x3x4x5x6x7x8x9x")),ISNUMBER(FIND(MID(A29,7,1)&"x","0x1x2x3x4x5x6x7x8x9x")),ISNUMBER(FIND(MID(A29,8,1)&"x","0x1x2x3x4x5x6x7x8x9x")))),"IDの形式を確認",IF(COUNTIFS($A$8:$A$57,A29)>1,"IDが重複","確認済み"))) | C29: =IF(B29="","",IF(B29="確認済み",0,1))
B30: =IF(COUNTA(A30)=0,"",IF(NOT(AND(ISTEXT(A30),LEN(A30)=8,EXACT(LEFT(A30,4),"CUS-"),ISNUMBER(FIND(MID(A30,5,1)&"x","0x1x2x3x4x5x6x7x8x9x")),ISNUMBER(FIND(MID(A30,6,1)&"x","0x1x2x3x4x5x6x7x8x9x")),ISNUMBER(FIND(MID(A30,7,1)&"x","0x1x2x3x4x5x6x7x8x9x")),ISNUMBER(FIND(MID(A30,8,1)&"x","0x1x2x3x4x5x6x7x8x9x")))),"IDの形式を確認",IF(COUNTIFS($A$8:$A$57,A30)>1,"IDが重複","確認済み"))) | C30: =IF(B30="","",IF(B30="確認済み",0,1))
B31: =IF(COUNTA(A31)=0,"",IF(NOT(AND(ISTEXT(A31),LEN(A31)=8,EXACT(LEFT(A31,4),"CUS-"),ISNUMBER(FIND(MID(A31,5,1)&"x","0x1x2x3x4x5x6x7x8x9x")),ISNUMBER(FIND(MID(A31,6,1)&"x","0x1x2x3x4x5x6x7x8x9x")),ISNUMBER(FIND(MID(A31,7,1)&"x","0x1x2x3x4x5x6x7x8x9x")),ISNUMBER(FIND(MID(A31,8,1)&"x","0x1x2x3x4x5x6x7x8x9x")))),"IDの形式を確認",IF(COUNTIFS($A$8:$A$57,A31)>1,"IDが重複","確認済み"))) | C31: =IF(B31="","",IF(B31="確認済み",0,1))
B32: =IF(COUNTA(A32)=0,"",IF(NOT(AND(ISTEXT(A32),LEN(A32)=8,EXACT(LEFT(A32,4),"CUS-"),ISNUMBER(FIND(MID(A32,5,1)&"x","0x1x2x3x4x5x6x7x8x9x")),ISNUMBER(FIND(MID(A32,6,1)&"x","0x1x2x3x4x5x6x7x8x9x")),ISNUMBER(FIND(MID(A32,7,1)&"x","0x1x2x3x4x5x6x7x8x9x")),ISNUMBER(FIND(MID(A32,8,1)&"x","0x1x2x3x4x5x6x7x8x9x")))),"IDの形式を確認",IF(COUNTIFS($A$8:$A$57,A32)>1,"IDが重複","確認済み"))) | C32: =IF(B32="","",IF(B32="確認済み",0,1))
B33: =IF(COUNTA(A33)=0,"",IF(NOT(AND(ISTEXT(A33),LEN(A33)=8,EXACT(LEFT(A33,4),"CUS-"),ISNUMBER(FIND(MID(A33,5,1)&"x","0x1x2x3x4x5x6x7x8x9x")),ISNUMBER(FIND(MID(A33,6,1)&"x","0x1x2x3x4x5x6x7x8x9x")),ISNUMBER(FIND(MID(A33,7,1)&"x","0x1x2x3x4x5x6x7x8x9x")),ISNUMBER(FIND(MID(A33,8,1)&"x","0x1x2x3x4x5x6x7x8x9x")))),"IDの形式を確認",IF(COUNTIFS($A$8:$A$57,A33)>1,"IDが重複","確認済み"))) | C33: =IF(B33="","",IF(B33="確認済み",0,1))
B34: =IF(COUNTA(A34)=0,"",IF(NOT(AND(ISTEXT(A34),LEN(A34)=8,EXACT(LEFT(A34,4),"CUS-"),ISNUMBER(FIND(MID(A34,5,1)&"x","0x1x2x3x4x5x6x7x8x9x")),ISNUMBER(FIND(MID(A34,6,1)&"x","0x1x2x3x4x5x6x7x8x9x")),ISNUMBER(FIND(MID(A34,7,1)&"x","0x1x2x3x4x5x6x7x8x9x")),ISNUMBER(FIND(MID(A34,8,1)&"x","0x1x2x3x4x5x6x7x8x9x")))),"IDの形式を確認",IF(COUNTIFS($A$8:$A$57,A34)>1,"IDが重複","確認済み"))) | C34: =IF(B34="","",IF(B34="確認済み",0,1))
B35: =IF(COUNTA(A35)=0,"",IF(NOT(AND(ISTEXT(A35),LEN(A35)=8,EXACT(LEFT(A35,4),"CUS-"),ISNUMBER(FIND(MID(A35,5,1)&"x","0x1x2x3x4x5x6x7x8x9x")),ISNUMBER(FIND(MID(A35,6,1)&"x","0x1x2x3x4x5x6x7x8x9x")),ISNUMBER(FIND(MID(A35,7,1)&"x","0x1x2x3x4x5x6x7x8x9x")),ISNUMBER(FIND(MID(A35,8,1)&"x","0x1x2x3x4x5x6x7x8x9x")))),"IDの形式を確認",IF(COUNTIFS($A$8:$A$57,A35)>1,"IDが重複","確認済み"))) | C35: =IF(B35="","",IF(B35="確認済み",0,1))
B36: =IF(COUNTA(A36)=0,"",IF(NOT(AND(ISTEXT(A36),LEN(A36)=8,EXACT(LEFT(A36,4),"CUS-"),ISNUMBER(FIND(MID(A36,5,1)&"x","0x1x2x3x4x5x6x7x8x9x")),ISNUMBER(FIND(MID(A36,6,1)&"x","0x1x2x3x4x5x6x7x8x9x")),ISNUMBER(FIND(MID(A36,7,1)&"x","0x1x2x3x4x5x6x7x8x9x")),ISNUMBER(FIND(MID(A36,8,1)&"x","0x1x2x3x4x5x6x7x8x9x")))),"IDの形式を確認",IF(COUNTIFS($A$8:$A$57,A36)>1,"IDが重複","確認済み"))) | C36: =IF(B36="","",IF(B36="確認済み",0,1))
B37: =IF(COUNTA(A37)=0,"",IF(NOT(AND(ISTEXT(A37),LEN(A37)=8,EXACT(LEFT(A37,4),"CUS-"),ISNUMBER(FIND(MID(A37,5,1)&"x","0x1x2x3x4x5x6x7x8x9x")),ISNUMBER(FIND(MID(A37,6,1)&"x","0x1x2x3x4x5x6x7x8x9x")),ISNUMBER(FIND(MID(A37,7,1)&"x","0x1x2x3x4x5x6x7x8x9x")),ISNUMBER(FIND(MID(A37,8,1)&"x","0x1x2x3x4x5x6x7x8x9x")))),"IDの形式を確認",IF(COUNTIFS($A$8:$A$57,A37)>1,"IDが重複","確認済み"))) | C37: =IF(B37="","",IF(B37="確認済み",0,1))
B38: =IF(COUNTA(A38)=0,"",IF(NOT(AND(ISTEXT(A38),LEN(A38)=8,EXACT(LEFT(A38,4),"CUS-"),ISNUMBER(FIND(MID(A38,5,1)&"x","0x1x2x3x4x5x6x7x8x9x")),ISNUMBER(FIND(MID(A38,6,1)&"x","0x1x2x3x4x5x6x7x8x9x")),ISNUMBER(FIND(MID(A38,7,1)&"x","0x1x2x3x4x5x6x7x8x9x")),ISNUMBER(FIND(MID(A38,8,1)&"x","0x1x2x3x4x5x6x7x8x9x")))),"IDの形式を確認",IF(COUNTIFS($A$8:$A$57,A38)>1,"IDが重複","確認済み"))) | C38: =IF(B38="","",IF(B38="確認済み",0,1))
B39: =IF(COUNTA(A39)=0,"",IF(NOT(AND(ISTEXT(A39),LEN(A39)=8,EXACT(LEFT(A39,4),"CUS-"),ISNUMBER(FIND(MID(A39,5,1)&"x","0x1x2x3x4x5x6x7x8x9x")),ISNUMBER(FIND(MID(A39,6,1)&"x","0x1x2x3x4x5x6x7x8x9x")),ISNUMBER(FIND(MID(A39,7,1)&"x","0x1x2x3x4x5x6x7x8x9x")),ISNUMBER(FIND(MID(A39,8,1)&"x","0x1x2x3x4x5x6x7x8x9x")))),"IDの形式を確認",IF(COUNTIFS($A$8:$A$57,A39)>1,"IDが重複","確認済み"))) | C39: =IF(B39="","",IF(B39="確認済み",0,1))
... B57: =IF(COUNTA(A57)=0,"",IF(NOT(AND(ISTEXT(A57),LEN(A57)=8,EXACT(LEFT(A57,4),"CUS-"),ISNUMBER(FIND(MID(A57,5,1)&"x","0x1x2x3x4x5x6x7x8x9x")),ISNUMBER(FIND(MID(A57,6,1)&"x","0x1x2x3x4x5x6x7x8x9x")),ISNUMBER(FIND(MID(A57,7,1)&"x","0x1x2x3x4x5x6x7x8x9x")),ISNUMBER(FIND(MID(A57,8,1)&"x","0x1x2x3x4x5x6x7x8x9x")))),"IDの形式を確認",IF(COUNTIFS($A$8:$A$57,A57)>1,"IDが重複","確認済み"))) | C57: =IF(B57="","",IF(B57="確認済み",0,1))
