Workbook

Sheet 受注一覧
A2: 当初受注を残して、変更後の受注を確認する | K2: 期間の前提 | L2: 入力の前提
A3: 受注開始日 | B3: 46296 | D3: 受注終了日 | E3: 46326 | G3: 確認基準日 | H3: 46331 | K3: =IF(AND(IF(ISNUMBER(B3),AND(B3>=43831,B3<73051,B3=INT(B3)),FALSE()),IF(ISNUMBER(E3),AND(E3>=43831,E3<73051,E3=INT(E3)),FALSE()),IF(ISNUMBER(H3),AND(H3>=43831,H3<73051,H3=INT(H3)),FALSE()),B3<=E3,E3<=H3),0,1) -> 0 | L3: =IF(AND(ISNUMBER(K3),K3=IF(AND(IF(ISNUMBER(B3),AND(B3>=43831,B3<73051,B3=INT(B3)),FALSE()),IF(ISNUMBER(E3),AND(E3>=43831,E3<73051,E3=INT(E3)),FALSE()),IF(ISNUMBER(H3),AND(H3>=43831,H3<73051,H3=INT(H3)),FALSE()),B3<=E3,E3<=H3),0,1)),K3,1)+SUM(当初受注!K8:L57)+SUM(変更記録!K8:L107)+IF(COUNT(当初受注!L8:L57)=50,0,1)+IF(COUNT(変更記録!L8:L107)=100,0,1) -> 0
A4: 受注日で選んだ注文の、確認基準日までの変更を反映。売上・請求・入金とは別です。 | I4: =IF(L3=0,"入力不備なし","入力を確認") -> 入力不備なし
A5: 対象受注（件） | B5: =IF($L$3<>0,NA(),COUNTIFS(当初受注!E8:E57,1)) -> 7 | D5: 当初受注額（円） | E5: =IF($L$3<>0,NA(),SUMIFS(当初受注!C8:C57,当初受注!E8:E57,1)) -> 440002 | G5: 現在額合計（円） | H5: =IF($L$3<>0,NA(),IF(B5=0,"対象なし",IF(H6>0,"判定保留",E7))) -> 判定保留
A6: 有効受注（件） | B6: =IF($L$3<>0,NA(),COUNTIFS(当初受注!E8:E57,1,当初受注!G8:G57,"未変更")+COUNTIFS(当初受注!E8:E57,1,当初受注!G8:G57,"変更")) -> 5 | D6: 取消（件） | E6: =IF($L$3<>0,NA(),COUNTIFS(当初受注!E8:E57,1,当初受注!G8:G57,"取消")) -> 1 | G6: 変更未確認（件） | H6: =IF($L$3<>0,NA(),COUNTIFS(当初受注!E8:E57,1,当初受注!G8:G57,"未確認")) -> 1
A7: 変更記録（件） | B7: =IF($L$3<>0,NA(),SUMIFS(当初受注!F8:F57,当初受注!E8:E57,1)) -> 6 | D7: 確認済小計（円） | E7: =IF($L$3<>0,NA(),SUMIFS(当初受注!H8:H57,当初受注!E8:E57,1)) -> 160001 | G7: 現在−当初（円） | H7: =IF($L$3<>0,NA(),IF(B5=0,"対象なし",IF(H6>0,"判定保留",H5-E5))) -> 判定保留
A8: 受注期間外（件） | B8: =IF($L$3<>0,NA(),COUNTIFS(当初受注!E8:E57,0,当初受注!J8:J57,"確認済み")) -> 1 | D8: 全登録（件） | E8: =IF($L$3<>0,NA(),COUNTIFS(当初受注!J8:J57,"確認済み")) -> 8 | G8: 件数照合差（件） | H8: =IF($L$3<>0,NA(),E8-B5-B8) -> 0
A9: 受注ID | B9: 当初受注日 | C9: 当初額（円） | D9: 変更数 | E9: 現在区分 | F9: 現在額（円） | G9: 増減（円） | H9: 最終変更日 | I9: 最終確認日
A10: =IF($L$3<>0,NA(),IF(COUNTA(当初受注!A8:D8)=0,"",当初受注!A8)) -> ORD-0001 | B10: =IF($L$3<>0,NA(),IF(COUNTA(当初受注!A8:D8)=0,"",当初受注!B8)) -> 46296 | C10: =IF($L$3<>0,NA(),IF(COUNTA(当初受注!A8:D8)=0,"",当初受注!C8)) -> 100000 | D10: =IF($L$3<>0,NA(),IF(COUNTA(当初受注!A8:D8)=0,"",当初受注!F8)) -> 2 | E10: =IF($L$3<>0,NA(),IF(COUNTA(当初受注!A8:D8)=0,"",当初受注!G8)) -> 変更 | F10: =IF($L$3<>0,NA(),IF(COUNTA(当初受注!A8:D8)=0,"",当初受注!H8)) -> 90000 | G10: =IF($L$3<>0,NA(),IF(COUNTA(当初受注!A8:D8)=0,"",当初受注!I8)) -> -10000 | H10: =IF($L$3<>0,NA(),IF(COUNTA(当初受注!A8:D8)=0,"",当初受注!M8)) -> 46310 | I10: =IF($L$3<>0,NA(),IF(COUNTA(当初受注!A8:D8)=0,"",当初受注!N8)) -> 46311
A11: =IF($L$3<>0,NA(),IF(COUNTA(当初受注!A9:D9)=0,"",当初受注!A9)) -> ORD-0002 | B11: =IF($L$3<>0,NA(),IF(COUNTA(当初受注!A9:D9)=0,"",当初受注!B9)) -> 46326 | C11: =IF($L$3<>0,NA(),IF(COUNTA(当初受注!A9:D9)=0,"",当初受注!C9)) -> 200000 | D11: =IF($L$3<>0,NA(),IF(COUNTA(当初受注!A9:D9)=0,"",当初受注!F9)) -> 1 | E11: =IF($L$3<>0,NA(),IF(COUNTA(当初受注!A9:D9)=0,"",当初受注!G9)) -> 取消 | F11: =IF($L$3<>0,NA(),IF(COUNTA(当初受注!A9:D9)=0,"",当初受注!H9)) -> 0 | G11: =IF($L$3<>0,NA(),IF(COUNTA(当初受注!A9:D9)=0,"",当初受注!I9)) -> -200000 | H11: =IF($L$3<>0,NA(),IF(COUNTA(当初受注!A9:D9)=0,"",当初受注!M9)) -> 46328 | I11: =IF($L$3<>0,NA(),IF(COUNTA(当初受注!A9:D9)=0,"",当初受注!N9)) -> 46329
A12: =IF($L$3<>0,NA(),IF(COUNTA(当初受注!A10:D10)=0,"",当初受注!A10)) -> ORD-0003 | B12: =IF($L$3<>0,NA(),IF(COUNTA(当初受注!A10:D10)=0,"",当初受注!B10)) -> 46311 | C12: =IF($L$3<>0,NA(),IF(COUNTA(当初受注!A10:D10)=0,"",当初受注!C10)) -> 0 | D12: =IF($L$3<>0,NA(),IF(COUNTA(当初受注!A10:D10)=0,"",当初受注!F10)) -> 0 | E12: =IF($L$3<>0,NA(),IF(COUNTA(当初受注!A10:D10)=0,"",当初受注!G10)) -> 未変更 | F12: =IF($L$3<>0,NA(),IF(COUNTA(当初受注!A10:D10)=0,"",当初受注!H10)) -> 0 | G12: =IF($L$3<>0,NA(),IF(COUNTA(当初受注!A10:D10)=0,"",当初受注!I10)) -> 0 | H12: =IF($L$3<>0,NA(),IF(COUNTA(当初受注!A10:D10)=0,"",当初受注!M10)) | I12: =IF($L$3<>0,NA(),IF(COUNTA(当初受注!A10:D10)=0,"",当初受注!N10)) -> 46311
A13: =IF($L$3<>0,NA(),IF(COUNTA(当初受注!A11:D11)=0,"",当初受注!A11)) -> ORD-0004 | B13: =IF($L$3<>0,NA(),IF(COUNTA(当初受注!A11:D11)=0,"",当初受注!B11)) -> 46315 | C13: =IF($L$3<>0,NA(),IF(COUNTA(当初受注!A11:D11)=0,"",当初受注!C11)) -> 80000 | D13: =IF($L$3<>0,NA(),IF(COUNTA(当初受注!A11:D11)=0,"",当初受注!F11)) -> 1 | E13: =IF($L$3<>0,NA(),IF(COUNTA(当初受注!A11:D11)=0,"",当初受注!G11)) -> 未確認 | F13: =IF($L$3<>0,NA(),IF(COUNTA(当初受注!A11:D11)=0,"",当初受注!H11)) | G13: =IF($L$3<>0,NA(),IF(COUNTA(当初受注!A11:D11)=0,"",当初受注!I11)) | H13: =IF($L$3<>0,NA(),IF(COUNTA(当初受注!A11:D11)=0,"",当初受注!M11)) -> 46325 | I13: =IF($L$3<>0,NA(),IF(COUNTA(当初受注!A11:D11)=0,"",当初受注!N11)) -> 46331
A14: =IF($L$3<>0,NA(),IF(COUNTA(当初受注!A12:D12)=0,"",当初受注!A12)) -> ORD-0005 | B14: =IF($L$3<>0,NA(),IF(COUNTA(当初受注!A12:D12)=0,"",当初受注!B12)) -> 46295 | C14: =IF($L$3<>0,NA(),IF(COUNTA(当初受注!A12:D12)=0,"",当初受注!C12)) -> 120000 | D14: =IF($L$3<>0,NA(),IF(COUNTA(当初受注!A12:D12)=0,"",当初受注!F12)) -> 1 | E14: =IF($L$3<>0,NA(),IF(COUNTA(当初受注!A12:D12)=0,"",当初受注!G12)) -> 変更 | F14: =IF($L$3<>0,NA(),IF(COUNTA(当初受注!A12:D12)=0,"",当初受注!H12)) -> 150000 | G14: =IF($L$3<>0,NA(),IF(COUNTA(当初受注!A12:D12)=0,"",当初受注!I12)) -> 30000 | H14: =IF($L$3<>0,NA(),IF(COUNTA(当初受注!A12:D12)=0,"",当初受注!M12)) -> 46305 | I14: =IF($L$3<>0,NA(),IF(COUNTA(当初受注!A12:D12)=0,"",当初受注!N12)) -> 46306
A15: =IF($L$3<>0,NA(),IF(COUNTA(当初受注!A13:D13)=0,"",当初受注!A13)) -> ORD-0006 | B15: =IF($L$3<>0,NA(),IF(COUNTA(当初受注!A13:D13)=0,"",当初受注!B13)) -> 46326 | C15: =IF($L$3<>0,NA(),IF(COUNTA(当初受注!A13:D13)=0,"",当初受注!C13)) -> 60000 | D15: =IF($L$3<>0,NA(),IF(COUNTA(当初受注!A13:D13)=0,"",当初受注!F13)) -> 1 | E15: =IF($L$3<>0,NA(),IF(COUNTA(当初受注!A13:D13)=0,"",当初受注!G13)) -> 変更 | F15: =IF($L$3<>0,NA(),IF(COUNTA(当初受注!A13:D13)=0,"",当初受注!H13)) -> 70000 | G15: =IF($L$3<>0,NA(),IF(COUNTA(当初受注!A13:D13)=0,"",当初受注!I13)) -> 10000 | H15: =IF($L$3<>0,NA(),IF(COUNTA(当初受注!A13:D13)=0,"",当初受注!M13)) -> 46328 | I15: =IF($L$3<>0,NA(),IF(COUNTA(当初受注!A13:D13)=0,"",当初受注!N13)) -> 46329
A16: =IF($L$3<>0,NA(),IF(COUNTA(当初受注!A14:D14)=0,"",当初受注!A14)) -> ORD-0007 | B16: =IF($L$3<>0,NA(),IF(COUNTA(当初受注!A14:D14)=0,"",当初受注!B14)) -> 46320 | C16: =IF($L$3<>0,NA(),IF(COUNTA(当初受注!A14:D14)=0,"",当初受注!C14)) -> 1 | D16: =IF($L$3<>0,NA(),IF(COUNTA(当初受注!A14:D14)=0,"",当初受注!F14)) -> 1 | E16: =IF($L$3<>0,NA(),IF(COUNTA(当初受注!A14:D14)=0,"",当初受注!G14)) -> 変更 | F16: =IF($L$3<>0,NA(),IF(COUNTA(当初受注!A14:D14)=0,"",当初受注!H14)) -> 0 | G16: =IF($L$3<>0,NA(),IF(COUNTA(当初受注!A14:D14)=0,"",当初受注!I14)) -> -1 | H16: =IF($L$3<>0,NA(),IF(COUNTA(当初受注!A14:D14)=0,"",当初受注!M14)) -> 46323 | I16: =IF($L$3<>0,NA(),IF(COUNTA(当初受注!A14:D14)=0,"",当初受注!N14)) -> 46324
A17: =IF($L$3<>0,NA(),IF(COUNTA(当初受注!A15:D15)=0,"",当初受注!A15)) -> ORD-0008 | B17: =IF($L$3<>0,NA(),IF(COUNTA(当初受注!A15:D15)=0,"",当初受注!B15)) -> 46321 | C17: =IF($L$3<>0,NA(),IF(COUNTA(当初受注!A15:D15)=0,"",当初受注!C15)) -> 1 | D17: =IF($L$3<>0,NA(),IF(COUNTA(当初受注!A15:D15)=0,"",当初受注!F15)) -> 0 | E17: =IF($L$3<>0,NA(),IF(COUNTA(当初受注!A15:D15)=0,"",当初受注!G15)) -> 未変更 | F17: =IF($L$3<>0,NA(),IF(COUNTA(当初受注!A15:D15)=0,"",当初受注!H15)) -> 1 | G17: =IF($L$3<>0,NA(),IF(COUNTA(当初受注!A15:D15)=0,"",当初受注!I15)) -> 0 | H17: =IF($L$3<>0,NA(),IF(COUNTA(当初受注!A15:D15)=0,"",当初受注!M15)) | I17: =IF($L$3<>0,NA(),IF(COUNTA(当初受注!A15:D15)=0,"",当初受注!N15)) -> 46321
A18: =IF($L$3<>0,NA(),IF(COUNTA(当初受注!A16:D16)=0,"",当初受注!A16)) | B18: =IF($L$3<>0,NA(),IF(COUNTA(当初受注!A16:D16)=0,"",当初受注!B16)) | C18: =IF($L$3<>0,NA(),IF(COUNTA(当初受注!A16:D16)=0,"",当初受注!C16)) | D18: =IF($L$3<>0,NA(),IF(COUNTA(当初受注!A16:D16)=0,"",当初受注!F16)) | E18: =IF($L$3<>0,NA(),IF(COUNTA(当初受注!A16:D16)=0,"",当初受注!G16)) | F18: =IF($L$3<>0,NA(),IF(COUNTA(当初受注!A16:D16)=0,"",当初受注!H16)) | G18: =IF($L$3<>0,NA(),IF(COUNTA(当初受注!A16:D16)=0,"",当初受注!I16)) | H18: =IF($L$3<>0,NA(),IF(COUNTA(当初受注!A16:D16)=0,"",当初受注!M16)) | I18: =IF($L$3<>0,NA(),IF(COUNTA(当初受注!A16:D16)=0,"",当初受注!N16))
A19: =IF($L$3<>0,NA(),IF(COUNTA(当初受注!A17:D17)=0,"",当初受注!A17)) | B19: =IF($L$3<>0,NA(),IF(COUNTA(当初受注!A17:D17)=0,"",当初受注!B17)) | C19: =IF($L$3<>0,NA(),IF(COUNTA(当初受注!A17:D17)=0,"",当初受注!C17)) | D19: =IF($L$3<>0,NA(),IF(COUNTA(当初受注!A17:D17)=0,"",当初受注!F17)) | E19: =IF($L$3<>0,NA(),IF(COUNTA(当初受注!A17:D17)=0,"",当初受注!G17)) | F19: =IF($L$3<>0,NA(),IF(COUNTA(当初受注!A17:D17)=0,"",当初受注!H17)) | G19: =IF($L$3<>0,NA(),IF(COUNTA(当初受注!A17:D17)=0,"",当初受注!I17)) | H19: =IF($L$3<>0,NA(),IF(COUNTA(当初受注!A17:D17)=0,"",当初受注!M17)) | I19: =IF($L$3<>0,NA(),IF(COUNTA(当初受注!A17:D17)=0,"",当初受注!N17))
A20: =IF($L$3<>0,NA(),IF(COUNTA(当初受注!A18:D18)=0,"",当初受注!A18)) | B20: =IF($L$3<>0,NA(),IF(COUNTA(当初受注!A18:D18)=0,"",当初受注!B18)) | C20: =IF($L$3<>0,NA(),IF(COUNTA(当初受注!A18:D18)=0,"",当初受注!C18)) | D20: =IF($L$3<>0,NA(),IF(COUNTA(当初受注!A18:D18)=0,"",当初受注!F18)) | E20: =IF($L$3<>0,NA(),IF(COUNTA(当初受注!A18:D18)=0,"",当初受注!G18)) | F20: =IF($L$3<>0,NA(),IF(COUNTA(当初受注!A18:D18)=0,"",当初受注!H18)) | G20: =IF($L$3<>0,NA(),IF(COUNTA(当初受注!A18:D18)=0,"",当初受注!I18)) | H20: =IF($L$3<>0,NA(),IF(COUNTA(当初受注!A18:D18)=0,"",当初受注!M18)) | I20: =IF($L$3<>0,NA(),IF(COUNTA(当初受注!A18:D18)=0,"",当初受注!N18))
A21: =IF($L$3<>0,NA(),IF(COUNTA(当初受注!A19:D19)=0,"",当初受注!A19)) | B21: =IF($L$3<>0,NA(),IF(COUNTA(当初受注!A19:D19)=0,"",当初受注!B19)) | C21: =IF($L$3<>0,NA(),IF(COUNTA(当初受注!A19:D19)=0,"",当初受注!C19)) | D21: =IF($L$3<>0,NA(),IF(COUNTA(当初受注!A19:D19)=0,"",当初受注!F19)) | E21: =IF($L$3<>0,NA(),IF(COUNTA(当初受注!A19:D19)=0,"",当初受注!G19)) | F21: =IF($L$3<>0,NA(),IF(COUNTA(当初受注!A19:D19)=0,"",当初受注!H19)) | G21: =IF($L$3<>0,NA(),IF(COUNTA(当初受注!A19:D19)=0,"",当初受注!I19)) | H21: =IF($L$3<>0,NA(),IF(COUNTA(当初受注!A19:D19)=0,"",当初受注!M19)) | I21: =IF($L$3<>0,NA(),IF(COUNTA(当初受注!A19:D19)=0,"",当初受注!N19))
... A59: =IF($L$3<>0,NA(),IF(COUNTA(当初受注!A57:D57)=0,"",当初受注!A57)) | B59: =IF($L$3<>0,NA(),IF(COUNTA(当初受注!A57:D57)=0,"",当初受注!B57)) | C59: =IF($L$3<>0,NA(),IF(COUNTA(当初受注!A57:D57)=0,"",当初受注!C57)) | D59: =IF($L$3<>0,NA(),IF(COUNTA(当初受注!A57:D57)=0,"",当初受注!F57)) | E59: =IF($L$3<>0,NA(),IF(COUNTA(当初受注!A57:D57)=0,"",当初受注!G57)) | F59: =IF($L$3<>0,NA(),IF(COUNTA(当初受注!A57:D57)=0,"",当初受注!H57)) | G59: =IF($L$3<>0,NA(),IF(COUNTA(当初受注!A57:D57)=0,"",当初受注!I57)) | H59: =IF($L$3<>0,NA(),IF(COUNTA(当初受注!A57:D57)=0,"",当初受注!M57)) | I59: =IF($L$3<>0,NA(),IF(COUNTA(当初受注!A57:D57)=0,"",当初受注!N57))

Sheet 当初受注
A2: 当初の受注記録を保持する
A3: 黄色A〜Dへ50受注。1行1受注、IDはORD-と半角数字4桁。当初額を後の変更で上書きしません。
A5: 金額は円の整数。同じ税込/税抜の基準へ。実際の0円は数値0、不明は当初受注として登録しません。
A7: 受注ID | B7: 当初受注日 | C7: 当初額（円） | D7: 当初確認日 | E7: 受注期間内 | F7: 変更数/最終版 | G7: 現在区分 | H7: 現在額（円） | I7: 現在−当初 | J7: 入力の確認 | K7: 入力不備 | L7: 計算の前提 | M7: 最終変更日 | N7: 最終確認日
A8: ORD-0001 | B8: 46296 | C8: 100000 | D8: 46297 | E8: =IF(J8="","",IF(K8<>0,NA(),IF(AND(B8>=受注一覧!$B$3,B8<=受注一覧!$E$3),1,0))) -> 1 | F8: =IF(J8="","",IF(K8<>0,NA(),COUNTIFS(変更記録!$A$8:$A$107,A8))) -> 2 | G8: =IF(J8="","",IF(K8<>0,NA(),IF(F8=0,"未変更",IF(COUNTIFS(変更記録!$A$8:$A$107,A8,変更記録!$B$8:$B$107,F8,変更記録!$D$8:$D$107,"未確認")>0,"未確認",IF(COUNTIFS(変更記録!$A$8:$A$107,A8,変更記録!$B$8:$B$107,F8,変更記録!$D$8:$D$107,"取消")>0,"取消","変更"))))) -> 変更 | H8: =IF(J8="","",IF(K8<>0,NA(),IF(G8="未確認","",IF(F8=0,C8,SUMIFS(変更記録!$H$8:$H$107,変更記録!$A$8:$A$107,A8,変更記録!$B$8:$B$107,F8))))) -> 90000 | I8: =IF(J8="","",IF(K8<>0,NA(),IF(G8="未確認","",H8-C8))) -> -10000 | J8: =IF(COUNTA(A8:D8)=0,"",IF(NOT(AND(ISTEXT(A8),LEN(A8)=8,EXACT(LEFT(A8,4),"ORD-"),ISNUMBER(FIND(MID(A8,5,1)&"x","0x1x2x3x4x5x6x7x8x9x")),ISNUMBER(FIND(MID(A8,6,1)&"x","0x1x2x3x4x5x6x7x8x9x")),ISNUMBER(FIND(MID(A8,7,1)&"x","0x1x2x3x4x5x6x7x8x9x")),ISNUMBER(FIND(MID(A8,8,1)&"x","0x1x2x3x4x5x6x7x8x9x")))),"IDはORD-と半角数字4桁",IF(COUNTIFS($A$8:$A$57,A8)>1,"受注IDが重複",IF(NOT(IF(ISNUMBER(B8),AND(B8>=43831,B8<73051,B8=INT(B8)),FALSE())),"当初受注日は時刻なしで必須",IF(NOT(IF(ISNUMBER(C8),AND(C8>=0,C8<=1000000000,C8=INT(C8)),FALSE())),"当初額は0〜10億円の整数で必須",IF(NOT(IF(ISNUMBER(D8),AND(D8>=43831,D8<73051,D8=INT(D8)),FALSE())),"当初確認日は時刻なしで必須",IF(OR(B8>D8,D8>受注一覧!$H$3),"受注日≦当初確認日≦基準日を確認","確認済み"))))))) -> 確認済み | K8: =IF(J8="","",IF(J8="確認済み",0,1)) -> 0 | L8: =IF(COUNTA(A8:D8)=0,IF(AND(J8="",K8="",E8="",F8="",G8="",H8="",I8="",M8="",N8=""),0,1),IF(NOT(AND(ISTEXT(J8),J8=IF(COUNTA(A8:D8)=0,"",IF(NOT(AND(ISTEXT(A8),LEN(A8)=8,EXACT(LEFT(A8,4),"ORD-"),ISNUMBER(FIND(MID(A8,5,1)&"x","0x1x2x3x4x5x6x7x8x9x")),ISNUMBER(FIND(MID(A8,6,1)&"x","0x1x2x3x4x5x6x7x8x9x")),ISNUMBER(FIND(MID(A8,7,1)&"x","0x1x2x3x4x5x6x7x8x9x")),ISNUMBER(FIND(MID(A8,8,1)&"x","0x1x2x3x4x5x6x7x8x9x")))),"IDはORD-と半角数字4桁",IF(COUNTIFS($A$8:$A$57,A8)>1,"受注IDが重複",IF(NOT(IF(ISNUMBER(B8),AND(B8>=43831,B8<73051,B8=INT(B8)),FALSE())),"当初受注日は時刻なしで必須",IF(NOT(IF(ISNUMBER(C8),AND(C8>=0,C8<=1000000000,C8=INT(C8)),FALSE())),"当初額は0〜10億円の整数で必須",IF(NOT(IF(ISNUMBER(D8),AND(D8>=43831,D8<73051,D8=INT(D8)),FALSE())),"当初確認日は時刻なしで必須",IF(OR(B8>D8,D8>受注一覧!$H$3),"受注日≦当初確認日≦基準日を確認","確認済み"))))))),ISNUMBER(K8),K8=IF(J8="確認済み",0,1))),1,IF(K8<>0,0,IF(AND(ISNUMBER(E8),E8=IF(AND(B8>=受注一覧!$B$3,B8<=受注一覧!$E$3),1,0),ISNUMBER(F8),F8=COUNTIFS(変更記録!$A$8:$A$107,A8),ISTEXT(G8),G8=IF(F8=0,"未変更",IF(COUNTIFS(変更記録!$A$8:$A$107,A8,変更記録!$B$8:$B$107,F8,変更記録!$D$8:$D$107,"未確認")>0,"未確認",IF(COUNTIFS(変更記録!$A$8:$A$107,A8,変更記録!$B$8:$B$107,F8,変更記録!$D$8:$D$107,"取消")>0,"取消","変更"))),IF(G8="未確認",ISTEXT(H8),ISNUMBER(H8)),H8=IF(G8="未確認","",IF(F8=0,C8,SUMIFS(変更記録!$H$8:$H$107,変更記録!$A$8:$A$107,A8,変更記録!$B$8:$B$107,F8))),IF(G8="未確認",ISTEXT(I8),ISNUMBER(I8)),I8=IF(G8="未確認","",H8-C8),IF(F8=0,ISTEXT(M8),ISNUMBER(M8)),M8=IF(F8=0,"",SUMIFS(変更記録!$C$8:$C$107,変更記録!$A$8:$A$107,A8,変更記録!$B$8:$B$107,F8)),ISNUMBER(N8),N8=IF(F8=0,D8,SUMIFS(変更記録!$F$8:$F$107,変更記録!$A$8:$A$107,A8,変更記録!$B$8:$B$107,F8))),0,1)))) -> 0 | M8: =IF(J8="","",IF(K8<>0,NA(),IF(F8=0,"",SUMIFS(変更記録!$C$8:$C$107,変更記録!$A$8:$A$107,A8,変更記録!$B$8:$B$107,F8)))) -> 46310 | N8: =IF(J8="","",IF(K8<>0,NA(),IF(F8=0,D8,SUMIFS(変更記録!$F$8:$F$107,変更記録!$A$8:$A$107,A8,変更記録!$B$8:$B$107,F8)))) -> 46311
A9: ORD-0002 | B9: 46326 | C9: 200000 | D9: 46326 | E9: =IF(J9="","",IF(K9<>0,NA(),IF(AND(B9>=受注一覧!$B$3,B9<=受注一覧!$E$3),1,0))) -> 1 | F9: =IF(J9="","",IF(K9<>0,NA(),COUNTIFS(変更記録!$A$8:$A$107,A9))) -> 1 | G9: =IF(J9="","",IF(K9<>0,NA(),IF(F9=0,"未変更",IF(COUNTIFS(変更記録!$A$8:$A$107,A9,変更記録!$B$8:$B$107,F9,変更記録!$D$8:$D$107,"未確認")>0,"未確認",IF(COUNTIFS(変更記録!$A$8:$A$107,A9,変更記録!$B$8:$B$107,F9,変更記録!$D$8:$D$107,"取消")>0,"取消","変更"))))) -> 取消 | H9: =IF(J9="","",IF(K9<>0,NA(),IF(G9="未確認","",IF(F9=0,C9,SUMIFS(変更記録!$H$8:$H$107,変更記録!$A$8:$A$107,A9,変更記録!$B$8:$B$107,F9))))) -> 0 | I9: =IF(J9="","",IF(K9<>0,NA(),IF(G9="未確認","",H9-C9))) -> -200000 | J9: =IF(COUNTA(A9:D9)=0,"",IF(NOT(AND(ISTEXT(A9),LEN(A9)=8,EXACT(LEFT(A9,4),"ORD-"),ISNUMBER(FIND(MID(A9,5,1)&"x","0x1x2x3x4x5x6x7x8x9x")),ISNUMBER(FIND(MID(A9,6,1)&"x","0x1x2x3x4x5x6x7x8x9x")),ISNUMBER(FIND(MID(A9,7,1)&"x","0x1x2x3x4x5x6x7x8x9x")),ISNUMBER(FIND(MID(A9,8,1)&"x","0x1x2x3x4x5x6x7x8x9x")))),"IDはORD-と半角数字4桁",IF(COUNTIFS($A$8:$A$57,A9)>1,"受注IDが重複",IF(NOT(IF(ISNUMBER(B9),AND(B9>=43831,B9<73051,B9=INT(B9)),FALSE())),"当初受注日は時刻なしで必須",IF(NOT(IF(ISNUMBER(C9),AND(C9>=0,C9<=1000000000,C9=INT(C9)),FALSE())),"当初額は0〜10億円の整数で必須",IF(NOT(IF(ISNUMBER(D9),AND(D9>=43831,D9<73051,D9=INT(D9)),FALSE())),"当初確認日は時刻なしで必須",IF(OR(B9>D9,D9>受注一覧!$H$3),"受注日≦当初確認日≦基準日を確認","確認済み"))))))) -> 確認済み | K9: =IF(J9="","",IF(J9="確認済み",0,1)) -> 0 | L9: =IF(COUNTA(A9:D9)=0,IF(AND(J9="",K9="",E9="",F9="",G9="",H9="",I9="",M9="",N9=""),0,1),IF(NOT(AND(ISTEXT(J9),J9=IF(COUNTA(A9:D9)=0,"",IF(NOT(AND(ISTEXT(A9),LEN(A9)=8,EXACT(LEFT(A9,4),"ORD-"),ISNUMBER(FIND(MID(A9,5,1)&"x","0x1x2x3x4x5x6x7x8x9x")),ISNUMBER(FIND(MID(A9,6,1)&"x","0x1x2x3x4x5x6x7x8x9x")),ISNUMBER(FIND(MID(A9,7,1)&"x","0x1x2x3x4x5x6x7x8x9x")),ISNUMBER(FIND(MID(A9,8,1)&"x","0x1x2x3x4x5x6x7x8x9x")))),"IDはORD-と半角数字4桁",IF(COUNTIFS($A$8:$A$57,A9)>1,"受注IDが重複",IF(NOT(IF(ISNUMBER(B9),AND(B9>=43831,B9<73051,B9=INT(B9)),FALSE())),"当初受注日は時刻なしで必須",IF(NOT(IF(ISNUMBER(C9),AND(C9>=0,C9<=1000000000,C9=INT(C9)),FALSE())),"当初額は0〜10億円の整数で必須",IF(NOT(IF(ISNUMBER(D9),AND(D9>=43831,D9<73051,D9=INT(D9)),FALSE())),"当初確認日は時刻なしで必須",IF(OR(B9>D9,D9>受注一覧!$H$3),"受注日≦当初確認日≦基準日を確認","確認済み"))))))),ISNUMBER(K9),K9=IF(J9="確認済み",0,1))),1,IF(K9<>0,0,IF(AND(ISNUMBER(E9),E9=IF(AND(B9>=受注一覧!$B$3,B9<=受注一覧!$E$3),1,0),ISNUMBER(F9),F9=COUNTIFS(変更記録!$A$8:$A$107,A9),ISTEXT(G9),G9=IF(F9=0,"未変更",IF(COUNTIFS(変更記録!$A$8:$A$107,A9,変更記録!$B$8:$B$107,F9,変更記録!$D$8:$D$107,"未確認")>0,"未確認",IF(COUNTIFS(変更記録!$A$8:$A$107,A9,変更記録!$B$8:$B$107,F9,変更記録!$D$8:$D$107,"取消")>0,"取消","変更"))),IF(G9="未確認",ISTEXT(H9),ISNUMBER(H9)),H9=IF(G9="未確認","",IF(F9=0,C9,SUMIFS(変更記録!$H$8:$H$107,変更記録!$A$8:$A$107,A9,変更記録!$B$8:$B$107,F9))),IF(G9="未確認",ISTEXT(I9),ISNUMBER(I9)),I9=IF(G9="未確認","",H9-C9),IF(F9=0,ISTEXT(M9),ISNUMBER(M9)),M9=IF(F9=0,"",SUMIFS(変更記録!$C$8:$C$107,変更記録!$A$8:$A$107,A9,変更記録!$B$8:$B$107,F9)),ISNUMBER(N9),N9=IF(F9=0,D9,SUMIFS(変更記録!$F$8:$F$107,変更記録!$A$8:$A$107,A9,変更記録!$B$8:$B$107,F9))),0,1)))) -> 0 | M9: =IF(J9="","",IF(K9<>0,NA(),IF(F9=0,"",SUMIFS(変更記録!$C$8:$C$107,変更記録!$A$8:$A$107,A9,変更記録!$B$8:$B$107,F9)))) -> 46328 | N9: =IF(J9="","",IF(K9<>0,NA(),IF(F9=0,D9,SUMIFS(変更記録!$F$8:$F$107,変更記録!$A$8:$A$107,A9,変更記録!$B$8:$B$107,F9)))) -> 46329
A10: ORD-0003 | B10: 46311 | C10: 0 | D10: 46311 | E10: =IF(J10="","",IF(K10<>0,NA(),IF(AND(B10>=受注一覧!$B$3,B10<=受注一覧!$E$3),1,0))) -> 1 | F10: =IF(J10="","",IF(K10<>0,NA(),COUNTIFS(変更記録!$A$8:$A$107,A10))) -> 0 | G10: =IF(J10="","",IF(K10<>0,NA(),IF(F10=0,"未変更",IF(COUNTIFS(変更記録!$A$8:$A$107,A10,変更記録!$B$8:$B$107,F10,変更記録!$D$8:$D$107,"未確認")>0,"未確認",IF(COUNTIFS(変更記録!$A$8:$A$107,A10,変更記録!$B$8:$B$107,F10,変更記録!$D$8:$D$107,"取消")>0,"取消","変更"))))) -> 未変更 | H10: =IF(J10="","",IF(K10<>0,NA(),IF(G10="未確認","",IF(F10=0,C10,SUMIFS(変更記録!$H$8:$H$107,変更記録!$A$8:$A$107,A10,変更記録!$B$8:$B$107,F10))))) -> 0 | I10: =IF(J10="","",IF(K10<>0,NA(),IF(G10="未確認","",H10-C10))) -> 0 | J10: =IF(COUNTA(A10:D10)=0,"",IF(NOT(AND(ISTEXT(A10),LEN(A10)=8,EXACT(LEFT(A10,4),"ORD-"),ISNUMBER(FIND(MID(A10,5,1)&"x","0x1x2x3x4x5x6x7x8x9x")),ISNUMBER(FIND(MID(A10,6,1)&"x","0x1x2x3x4x5x6x7x8x9x")),ISNUMBER(FIND(MID(A10,7,1)&"x","0x1x2x3x4x5x6x7x8x9x")),ISNUMBER(FIND(MID(A10,8,1)&"x","0x1x2x3x4x5x6x7x8x9x")))),"IDはORD-と半角数字4桁",IF(COUNTIFS($A$8:$A$57,A10)>1,"受注IDが重複",IF(NOT(IF(ISNUMBER(B10),AND(B10>=43831,B10<73051,B10=INT(B10)),FALSE())),"当初受注日は時刻なしで必須",IF(NOT(IF(ISNUMBER(C10),AND(C10>=0,C10<=1000000000,C10=INT(C10)),FALSE())),"当初額は0〜10億円の整数で必須",IF(NOT(IF(ISNUMBER(D10),AND(D10>=43831,D10<73051,D10=INT(D10)),FALSE())),"当初確認日は時刻なしで必須",IF(OR(B10>D10,D10>受注一覧!$H$3),"受注日≦当初確認日≦基準日を確認","確認済み"))))))) -> 確認済み | K10: =IF(J10="","",IF(J10="確認済み",0,1)) -> 0 | L10: =IF(COUNTA(A10:D10)=0,IF(AND(J10="",K10="",E10="",F10="",G10="",H10="",I10="",M10="",N10=""),0,1),IF(NOT(AND(ISTEXT(J10),J10=IF(COUNTA(A10:D10)=0,"",IF(NOT(AND(ISTEXT(A10),LEN(A10)=8,EXACT(LEFT(A10,4),"ORD-"),ISNUMBER(FIND(MID(A10,5,1)&"x","0x1x2x3x4x5x6x7x8x9x")),ISNUMBER(FIND(MID(A10,6,1)&"x","0x1x2x3x4x5x6x7x8x9x")),ISNUMBER(FIND(MID(A10,7,1)&"x","0x1x2x3x4x5x6x7x8x9x")),ISNUMBER(FIND(MID(A10,8,1)&"x","0x1x2x3x4x5x6x7x8x9x")))),"IDはORD-と半角数字4桁",IF(COUNTIFS($A$8:$A$57,A10)>1,"受注IDが重複",IF(NOT(IF(ISNUMBER(B10),AND(B10>=43831,B10<73051,B10=INT(B10)),FALSE())),"当初受注日は時刻なしで必須",IF(NOT(IF(ISNUMBER(C10),AND(C10>=0,C10<=1000000000,C10=INT(C10)),FALSE())),"当初額は0〜10億円の整数で必須",IF(NOT(IF(ISNUMBER(D10),AND(D10>=43831,D10<73051,D10=INT(D10)),FALSE())),"当初確認日は時刻なしで必須",IF(OR(B10>D10,D10>受注一覧!$H$3),"受注日≦当初確認日≦基準日を確認","確認済み"))))))),ISNUMBER(K10),K10=IF(J10="確認済み",0,1))),1,IF(K10<>0,0,IF(AND(ISNUMBER(E10),E10=IF(AND(B10>=受注一覧!$B$3,B10<=受注一覧!$E$3),1,0),ISNUMBER(F10),F10=COUNTIFS(変更記録!$A$8:$A$107,A10),ISTEXT(G10),G10=IF(F10=0,"未変更",IF(COUNTIFS(変更記録!$A$8:$A$107,A10,変更記録!$B$8:$B$107,F10,変更記録!$D$8:$D$107,"未確認")>0,"未確認",IF(COUNTIFS(変更記録!$A$8:$A$107,A10,変更記録!$B$8:$B$107,F10,変更記録!$D$8:$D$107,"取消")>0,"取消","変更"))),IF(G10="未確認",ISTEXT(H10),ISNUMBER(H10)),H10=IF(G10="未確認","",IF(F10=0,C10,SUMIFS(変更記録!$H$8:$H$107,変更記録!$A$8:$A$107,A10,変更記録!$B$8:$B$107,F10))),IF(G10="未確認",ISTEXT(I10),ISNUMBER(I10)),I10=IF(G10="未確認","",H10-C10),IF(F10=0,ISTEXT(M10),ISNUMBER(M10)),M10=IF(F10=0,"",SUMIFS(変更記録!$C$8:$C$107,変更記録!$A$8:$A$107,A10,変更記録!$B$8:$B$107,F10)),ISNUMBER(N10),N10=IF(F10=0,D10,SUMIFS(変更記録!$F$8:$F$107,変更記録!$A$8:$A$107,A10,変更記録!$B$8:$B$107,F10))),0,1)))) -> 0 | M10: =IF(J10="","",IF(K10<>0,NA(),IF(F10=0,"",SUMIFS(変更記録!$C$8:$C$107,変更記録!$A$8:$A$107,A10,変更記録!$B$8:$B$107,F10)))) | N10: =IF(J10="","",IF(K10<>0,NA(),IF(F10=0,D10,SUMIFS(変更記録!$F$8:$F$107,変更記録!$A$8:$A$107,A10,変更記録!$B$8:$B$107,F10)))) -> 46311
A11: ORD-0004 | B11: 46315 | C11: 80000 | D11: 46316 | E11: =IF(J11="","",IF(K11<>0,NA(),IF(AND(B11>=受注一覧!$B$3,B11<=受注一覧!$E$3),1,0))) -> 1 | F11: =IF(J11="","",IF(K11<>0,NA(),COUNTIFS(変更記録!$A$8:$A$107,A11))) -> 1 | G11: =IF(J11="","",IF(K11<>0,NA(),IF(F11=0,"未変更",IF(COUNTIFS(変更記録!$A$8:$A$107,A11,変更記録!$B$8:$B$107,F11,変更記録!$D$8:$D$107,"未確認")>0,"未確認",IF(COUNTIFS(変更記録!$A$8:$A$107,A11,変更記録!$B$8:$B$107,F11,変更記録!$D$8:$D$107,"取消")>0,"取消","変更"))))) -> 未確認 | H11: =IF(J11="","",IF(K11<>0,NA(),IF(G11="未確認","",IF(F11=0,C11,SUMIFS(変更記録!$H$8:$H$107,変更記録!$A$8:$A$107,A11,変更記録!$B$8:$B$107,F11))))) | I11: =IF(J11="","",IF(K11<>0,NA(),IF(G11="未確認","",H11-C11))) | J11: =IF(COUNTA(A11:D11)=0,"",IF(NOT(AND(ISTEXT(A11),LEN(A11)=8,EXACT(LEFT(A11,4),"ORD-"),ISNUMBER(FIND(MID(A11,5,1)&"x","0x1x2x3x4x5x6x7x8x9x")),ISNUMBER(FIND(MID(A11,6,1)&"x","0x1x2x3x4x5x6x7x8x9x")),ISNUMBER(FIND(MID(A11,7,1)&"x","0x1x2x3x4x5x6x7x8x9x")),ISNUMBER(FIND(MID(A11,8,1)&"x","0x1x2x3x4x5x6x7x8x9x")))),"IDはORD-と半角数字4桁",IF(COUNTIFS($A$8:$A$57,A11)>1,"受注IDが重複",IF(NOT(IF(ISNUMBER(B11),AND(B11>=43831,B11<73051,B11=INT(B11)),FALSE())),"当初受注日は時刻なしで必須",IF(NOT(IF(ISNUMBER(C11),AND(C11>=0,C11<=1000000000,C11=INT(C11)),FALSE())),"当初額は0〜10億円の整数で必須",IF(NOT(IF(ISNUMBER(D11),AND(D11>=43831,D11<73051,D11=INT(D11)),FALSE())),"当初確認日は時刻なしで必須",IF(OR(B11>D11,D11>受注一覧!$H$3),"受注日≦当初確認日≦基準日を確認","確認済み"))))))) -> 確認済み | K11: =IF(J11="","",IF(J11="確認済み",0,1)) -> 0 | L11: =IF(COUNTA(A11:D11)=0,IF(AND(J11="",K11="",E11="",F11="",G11="",H11="",I11="",M11="",N11=""),0,1),IF(NOT(AND(ISTEXT(J11),J11=IF(COUNTA(A11:D11)=0,"",IF(NOT(AND(ISTEXT(A11),LEN(A11)=8,EXACT(LEFT(A11,4),"ORD-"),ISNUMBER(FIND(MID(A11,5,1)&"x","0x1x2x3x4x5x6x7x8x9x")),ISNUMBER(FIND(MID(A11,6,1)&"x","0x1x2x3x4x5x6x7x8x9x")),ISNUMBER(FIND(MID(A11,7,1)&"x","0x1x2x3x4x5x6x7x8x9x")),ISNUMBER(FIND(MID(A11,8,1)&"x","0x1x2x3x4x5x6x7x8x9x")))),"IDはORD-と半角数字4桁",IF(COUNTIFS($A$8:$A$57,A11)>1,"受注IDが重複",IF(NOT(IF(ISNUMBER(B11),AND(B11>=43831,B11<73051,B11=INT(B11)),FALSE())),"当初受注日は時刻なしで必須",IF(NOT(IF(ISNUMBER(C11),AND(C11>=0,C11<=1000000000,C11=INT(C11)),FALSE())),"当初額は0〜10億円の整数で必須",IF(NOT(IF(ISNUMBER(D11),AND(D11>=43831,D11<73051,D11=INT(D11)),FALSE())),"当初確認日は時刻なしで必須",IF(OR(B11>D11,D11>受注一覧!$H$3),"受注日≦当初確認日≦基準日を確認","確認済み"))))))),ISNUMBER(K11),K11=IF(J11="確認済み",0,1))),1,IF(K11<>0,0,IF(AND(ISNUMBER(E11),E11=IF(AND(B11>=受注一覧!$B$3,B11<=受注一覧!$E$3),1,0),ISNUMBER(F11),F11=COUNTIFS(変更記録!$A$8:$A$107,A11),ISTEXT(G11),G11=IF(F11=0,"未変更",IF(COUNTIFS(変更記録!$A$8:$A$107,A11,変更記録!$B$8:$B$107,F11,変更記録!$D$8:$D$107,"未確認")>0,"未確認",IF(COUNTIFS(変更記録!$A$8:$A$107,A11,変更記録!$B$8:$B$107,F11,変更記録!$D$8:$D$107,"取消")>0,"取消","変更"))),IF(G11="未確認",ISTEXT(H11),ISNUMBER(H11)),H11=IF(G11="未確認","",IF(F11=0,C11,SUMIFS(変更記録!$H$8:$H$107,変更記録!$A$8:$A$107,A11,変更記録!$B$8:$B$107,F11))),IF(G11="未確認",ISTEXT(I11),ISNUMBER(I11)),I11=IF(G11="未確認","",H11-C11),IF(F11=0,ISTEXT(M11),ISNUMBER(M11)),M11=IF(F11=0,"",SUMIFS(変更記録!$C$8:$C$107,変更記録!$A$8:$A$107,A11,変更記録!$B$8:$B$107,F11)),ISNUMBER(N11),N11=IF(F11=0,D11,SUMIFS(変更記録!$F$8:$F$107,変更記録!$A$8:$A$107,A11,変更記録!$B$8:$B$107,F11))),0,1)))) -> 0 | M11: =IF(J11="","",IF(K11<>0,NA(),IF(F11=0,"",SUMIFS(変更記録!$C$8:$C$107,変更記録!$A$8:$A$107,A11,変更記録!$B$8:$B$107,F11)))) -> 46325 | N11: =IF(J11="","",IF(K11<>0,NA(),IF(F11=0,D11,SUMIFS(変更記録!$F$8:$F$107,変更記録!$A$8:$A$107,A11,変更記録!$B$8:$B$107,F11)))) -> 46331
A12: ORD-0005 | B12: 46295 | C12: 120000 | D12: 46296 | E12: =IF(J12="","",IF(K12<>0,NA(),IF(AND(B12>=受注一覧!$B$3,B12<=受注一覧!$E$3),1,0))) -> 0 | F12: =IF(J12="","",IF(K12<>0,NA(),COUNTIFS(変更記録!$A$8:$A$107,A12))) -> 1 | G12: =IF(J12="","",IF(K12<>0,NA(),IF(F12=0,"未変更",IF(COUNTIFS(変更記録!$A$8:$A$107,A12,変更記録!$B$8:$B$107,F12,変更記録!$D$8:$D$107,"未確認")>0,"未確認",IF(COUNTIFS(変更記録!$A$8:$A$107,A12,変更記録!$B$8:$B$107,F12,変更記録!$D$8:$D$107,"取消")>0,"取消","変更"))))) -> 変更 | H12: =IF(J12="","",IF(K12<>0,NA(),IF(G12="未確認","",IF(F12=0,C12,SUMIFS(変更記録!$H$8:$H$107,変更記録!$A$8:$A$107,A12,変更記録!$B$8:$B$107,F12))))) -> 150000 | I12: =IF(J12="","",IF(K12<>0,NA(),IF(G12="未確認","",H12-C12))) -> 30000 | J12: =IF(COUNTA(A12:D12)=0,"",IF(NOT(AND(ISTEXT(A12),LEN(A12)=8,EXACT(LEFT(A12,4),"ORD-"),ISNUMBER(FIND(MID(A12,5,1)&"x","0x1x2x3x4x5x6x7x8x9x")),ISNUMBER(FIND(MID(A12,6,1)&"x","0x1x2x3x4x5x6x7x8x9x")),ISNUMBER(FIND(MID(A12,7,1)&"x","0x1x2x3x4x5x6x7x8x9x")),ISNUMBER(FIND(MID(A12,8,1)&"x","0x1x2x3x4x5x6x7x8x9x")))),"IDはORD-と半角数字4桁",IF(COUNTIFS($A$8:$A$57,A12)>1,"受注IDが重複",IF(NOT(IF(ISNUMBER(B12),AND(B12>=43831,B12<73051,B12=INT(B12)),FALSE())),"当初受注日は時刻なしで必須",IF(NOT(IF(ISNUMBER(C12),AND(C12>=0,C12<=1000000000,C12=INT(C12)),FALSE())),"当初額は0〜10億円の整数で必須",IF(NOT(IF(ISNUMBER(D12),AND(D12>=43831,D12<73051,D12=INT(D12)),FALSE())),"当初確認日は時刻なしで必須",IF(OR(B12>D12,D12>受注一覧!$H$3),"受注日≦当初確認日≦基準日を確認","確認済み"))))))) -> 確認済み | K12: =IF(J12="","",IF(J12="確認済み",0,1)) -> 0 | L12: =IF(COUNTA(A12:D12)=0,IF(AND(J12="",K12="",E12="",F12="",G12="",H12="",I12="",M12="",N12=""),0,1),IF(NOT(AND(ISTEXT(J12),J12=IF(COUNTA(A12:D12)=0,"",IF(NOT(AND(ISTEXT(A12),LEN(A12)=8,EXACT(LEFT(A12,4),"ORD-"),ISNUMBER(FIND(MID(A12,5,1)&"x","0x1x2x3x4x5x6x7x8x9x")),ISNUMBER(FIND(MID(A12,6,1)&"x","0x1x2x3x4x5x6x7x8x9x")),ISNUMBER(FIND(MID(A12,7,1)&"x","0x1x2x3x4x5x6x7x8x9x")),ISNUMBER(FIND(MID(A12,8,1)&"x","0x1x2x3x4x5x6x7x8x9x")))),"IDはORD-と半角数字4桁",IF(COUNTIFS($A$8:$A$57,A12)>1,"受注IDが重複",IF(NOT(IF(ISNUMBER(B12),AND(B12>=43831,B12<73051,B12=INT(B12)),FALSE())),"当初受注日は時刻なしで必須",IF(NOT(IF(ISNUMBER(C12),AND(C12>=0,C12<=1000000000,C12=INT(C12)),FALSE())),"当初額は0〜10億円の整数で必須",IF(NOT(IF(ISNUMBER(D12),AND(D12>=43831,D12<73051,D12=INT(D12)),FALSE())),"当初確認日は時刻なしで必須",IF(OR(B12>D12,D12>受注一覧!$H$3),"受注日≦当初確認日≦基準日を確認","確認済み"))))))),ISNUMBER(K12),K12=IF(J12="確認済み",0,1))),1,IF(K12<>0,0,IF(AND(ISNUMBER(E12),E12=IF(AND(B12>=受注一覧!$B$3,B12<=受注一覧!$E$3),1,0),ISNUMBER(F12),F12=COUNTIFS(変更記録!$A$8:$A$107,A12),ISTEXT(G12),G12=IF(F12=0,"未変更",IF(COUNTIFS(変更記録!$A$8:$A$107,A12,変更記録!$B$8:$B$107,F12,変更記録!$D$8:$D$107,"未確認")>0,"未確認",IF(COUNTIFS(変更記録!$A$8:$A$107,A12,変更記録!$B$8:$B$107,F12,変更記録!$D$8:$D$107,"取消")>0,"取消","変更"))),IF(G12="未確認",ISTEXT(H12),ISNUMBER(H12)),H12=IF(G12="未確認","",IF(F12=0,C12,SUMIFS(変更記録!$H$8:$H$107,変更記録!$A$8:$A$107,A12,変更記録!$B$8:$B$107,F12))),IF(G12="未確認",ISTEXT(I12),ISNUMBER(I12)),I12=IF(G12="未確認","",H12-C12),IF(F12=0,ISTEXT(M12),ISNUMBER(M12)),M12=IF(F12=0,"",SUMIFS(変更記録!$C$8:$C$107,変更記録!$A$8:$A$107,A12,変更記録!$B$8:$B$107,F12)),ISNUMBER(N12),N12=IF(F12=0,D12,SUMIFS(変更記録!$F$8:$F$107,変更記録!$A$8:$A$107,A12,変更記録!$B$8:$B$107,F12))),0,1)))) -> 0 | M12: =IF(J12="","",IF(K12<>0,NA(),IF(F12=0,"",SUMIFS(変更記録!$C$8:$C$107,変更記録!$A$8:$A$107,A12,変更記録!$B$8:$B$107,F12)))) -> 46305 | N12: =IF(J12="","",IF(K12<>0,NA(),IF(F12=0,D12,SUMIFS(変更記録!$F$8:$F$107,変更記録!$A$8:$A$107,A12,変更記録!$B$8:$B$107,F12)))) -> 46306
A13: ORD-0006 | B13: 46326 | C13: 60000 | D13: 46326 | E13: =IF(J13="","",IF(K13<>0,NA(),IF(AND(B13>=受注一覧!$B$3,B13<=受注一覧!$E$3),1,0))) -> 1 | F13: =IF(J13="","",IF(K13<>0,NA(),COUNTIFS(変更記録!$A$8:$A$107,A13))) -> 1 | G13: =IF(J13="","",IF(K13<>0,NA(),IF(F13=0,"未変更",IF(COUNTIFS(変更記録!$A$8:$A$107,A13,変更記録!$B$8:$B$107,F13,変更記録!$D$8:$D$107,"未確認")>0,"未確認",IF(COUNTIFS(変更記録!$A$8:$A$107,A13,変更記録!$B$8:$B$107,F13,変更記録!$D$8:$D$107,"取消")>0,"取消","変更"))))) -> 変更 | H13: =IF(J13="","",IF(K13<>0,NA(),IF(G13="未確認","",IF(F13=0,C13,SUMIFS(変更記録!$H$8:$H$107,変更記録!$A$8:$A$107,A13,変更記録!$B$8:$B$107,F13))))) -> 70000 | I13: =IF(J13="","",IF(K13<>0,NA(),IF(G13="未確認","",H13-C13))) -> 10000 | J13: =IF(COUNTA(A13:D13)=0,"",IF(NOT(AND(ISTEXT(A13),LEN(A13)=8,EXACT(LEFT(A13,4),"ORD-"),ISNUMBER(FIND(MID(A13,5,1)&"x","0x1x2x3x4x5x6x7x8x9x")),ISNUMBER(FIND(MID(A13,6,1)&"x","0x1x2x3x4x5x6x7x8x9x")),ISNUMBER(FIND(MID(A13,7,1)&"x","0x1x2x3x4x5x6x7x8x9x")),ISNUMBER(FIND(MID(A13,8,1)&"x","0x1x2x3x4x5x6x7x8x9x")))),"IDはORD-と半角数字4桁",IF(COUNTIFS($A$8:$A$57,A13)>1,"受注IDが重複",IF(NOT(IF(ISNUMBER(B13),AND(B13>=43831,B13<73051,B13=INT(B13)),FALSE())),"当初受注日は時刻なしで必須",IF(NOT(IF(ISNUMBER(C13),AND(C13>=0,C13<=1000000000,C13=INT(C13)),FALSE())),"当初額は0〜10億円の整数で必須",IF(NOT(IF(ISNUMBER(D13),AND(D13>=43831,D13<73051,D13=INT(D13)),FALSE())),"当初確認日は時刻なしで必須",IF(OR(B13>D13,D13>受注一覧!$H$3),"受注日≦当初確認日≦基準日を確認","確認済み"))))))) -> 確認済み | K13: =IF(J13="","",IF(J13="確認済み",0,1)) -> 0 | L13: =IF(COUNTA(A13:D13)=0,IF(AND(J13="",K13="",E13="",F13="",G13="",H13="",I13="",M13="",N13=""),0,1),IF(NOT(AND(ISTEXT(J13),J13=IF(COUNTA(A13:D13)=0,"",IF(NOT(AND(ISTEXT(A13),LEN(A13)=8,EXACT(LEFT(A13,4),"ORD-"),ISNUMBER(FIND(MID(A13,5,1)&"x","0x1x2x3x4x5x6x7x8x9x")),ISNUMBER(FIND(MID(A13,6,1)&"x","0x1x2x3x4x5x6x7x8x9x")),ISNUMBER(FIND(MID(A13,7,1)&"x","0x1x2x3x4x5x6x7x8x9x")),ISNUMBER(FIND(MID(A13,8,1)&"x","0x1x2x3x4x5x6x7x8x9x")))),"IDはORD-と半角数字4桁",IF(COUNTIFS($A$8:$A$57,A13)>1,"受注IDが重複",IF(NOT(IF(ISNUMBER(B13),AND(B13>=43831,B13<73051,B13=INT(B13)),FALSE())),"当初受注日は時刻なしで必須",IF(NOT(IF(ISNUMBER(C13),AND(C13>=0,C13<=1000000000,C13=INT(C13)),FALSE())),"当初額は0〜10億円の整数で必須",IF(NOT(IF(ISNUMBER(D13),AND(D13>=43831,D13<73051,D13=INT(D13)),FALSE())),"当初確認日は時刻なしで必須",IF(OR(B13>D13,D13>受注一覧!$H$3),"受注日≦当初確認日≦基準日を確認","確認済み"))))))),ISNUMBER(K13),K13=IF(J13="確認済み",0,1))),1,IF(K13<>0,0,IF(AND(ISNUMBER(E13),E13=IF(AND(B13>=受注一覧!$B$3,B13<=受注一覧!$E$3),1,0),ISNUMBER(F13),F13=COUNTIFS(変更記録!$A$8:$A$107,A13),ISTEXT(G13),G13=IF(F13=0,"未変更",IF(COUNTIFS(変更記録!$A$8:$A$107,A13,変更記録!$B$8:$B$107,F13,変更記録!$D$8:$D$107,"未確認")>0,"未確認",IF(COUNTIFS(変更記録!$A$8:$A$107,A13,変更記録!$B$8:$B$107,F13,変更記録!$D$8:$D$107,"取消")>0,"取消","変更"))),IF(G13="未確認",ISTEXT(H13),ISNUMBER(H13)),H13=IF(G13="未確認","",IF(F13=0,C13,SUMIFS(変更記録!$H$8:$H$107,変更記録!$A$8:$A$107,A13,変更記録!$B$8:$B$107,F13))),IF(G13="未確認",ISTEXT(I13),ISNUMBER(I13)),I13=IF(G13="未確認","",H13-C13),IF(F13=0,ISTEXT(M13),ISNUMBER(M13)),M13=IF(F13=0,"",SUMIFS(変更記録!$C$8:$C$107,変更記録!$A$8:$A$107,A13,変更記録!$B$8:$B$107,F13)),ISNUMBER(N13),N13=IF(F13=0,D13,SUMIFS(変更記録!$F$8:$F$107,変更記録!$A$8:$A$107,A13,変更記録!$B$8:$B$107,F13))),0,1)))) -> 0 | M13: =IF(J13="","",IF(K13<>0,NA(),IF(F13=0,"",SUMIFS(変更記録!$C$8:$C$107,変更記録!$A$8:$A$107,A13,変更記録!$B$8:$B$107,F13)))) -> 46328 | N13: =IF(J13="","",IF(K13<>0,NA(),IF(F13=0,D13,SUMIFS(変更記録!$F$8:$F$107,変更記録!$A$8:$A$107,A13,変更記録!$B$8:$B$107,F13)))) -> 46329
A14: ORD-0007 | B14: 46320 | C14: 1 | D14: 46321 | E14: =IF(J14="","",IF(K14<>0,NA(),IF(AND(B14>=受注一覧!$B$3,B14<=受注一覧!$E$3),1,0))) -> 1 | F14: =IF(J14="","",IF(K14<>0,NA(),COUNTIFS(変更記録!$A$8:$A$107,A14))) -> 1 | G14: =IF(J14="","",IF(K14<>0,NA(),IF(F14=0,"未変更",IF(COUNTIFS(変更記録!$A$8:$A$107,A14,変更記録!$B$8:$B$107,F14,変更記録!$D$8:$D$107,"未確認")>0,"未確認",IF(COUNTIFS(変更記録!$A$8:$A$107,A14,変更記録!$B$8:$B$107,F14,変更記録!$D$8:$D$107,"取消")>0,"取消","変更"))))) -> 変更 | H14: =IF(J14="","",IF(K14<>0,NA(),IF(G14="未確認","",IF(F14=0,C14,SUMIFS(変更記録!$H$8:$H$107,変更記録!$A$8:$A$107,A14,変更記録!$B$8:$B$107,F14))))) -> 0 | I14: =IF(J14="","",IF(K14<>0,NA(),IF(G14="未確認","",H14-C14))) -> -1 | J14: =IF(COUNTA(A14:D14)=0,"",IF(NOT(AND(ISTEXT(A14),LEN(A14)=8,EXACT(LEFT(A14,4),"ORD-"),ISNUMBER(FIND(MID(A14,5,1)&"x","0x1x2x3x4x5x6x7x8x9x")),ISNUMBER(FIND(MID(A14,6,1)&"x","0x1x2x3x4x5x6x7x8x9x")),ISNUMBER(FIND(MID(A14,7,1)&"x","0x1x2x3x4x5x6x7x8x9x")),ISNUMBER(FIND(MID(A14,8,1)&"x","0x1x2x3x4x5x6x7x8x9x")))),"IDはORD-と半角数字4桁",IF(COUNTIFS($A$8:$A$57,A14)>1,"受注IDが重複",IF(NOT(IF(ISNUMBER(B14),AND(B14>=43831,B14<73051,B14=INT(B14)),FALSE())),"当初受注日は時刻なしで必須",IF(NOT(IF(ISNUMBER(C14),AND(C14>=0,C14<=1000000000,C14=INT(C14)),FALSE())),"当初額は0〜10億円の整数で必須",IF(NOT(IF(ISNUMBER(D14),AND(D14>=43831,D14<73051,D14=INT(D14)),FALSE())),"当初確認日は時刻なしで必須",IF(OR(B14>D14,D14>受注一覧!$H$3),"受注日≦当初確認日≦基準日を確認","確認済み"))))))) -> 確認済み | K14: =IF(J14="","",IF(J14="確認済み",0,1)) -> 0 | L14: =IF(COUNTA(A14:D14)=0,IF(AND(J14="",K14="",E14="",F14="",G14="",H14="",I14="",M14="",N14=""),0,1),IF(NOT(AND(ISTEXT(J14),J14=IF(COUNTA(A14:D14)=0,"",IF(NOT(AND(ISTEXT(A14),LEN(A14)=8,EXACT(LEFT(A14,4),"ORD-"),ISNUMBER(FIND(MID(A14,5,1)&"x","0x1x2x3x4x5x6x7x8x9x")),ISNUMBER(FIND(MID(A14,6,1)&"x","0x1x2x3x4x5x6x7x8x9x")),ISNUMBER(FIND(MID(A14,7,1)&"x","0x1x2x3x4x5x6x7x8x9x")),ISNUMBER(FIND(MID(A14,8,1)&"x","0x1x2x3x4x5x6x7x8x9x")))),"IDはORD-と半角数字4桁",IF(COUNTIFS($A$8:$A$57,A14)>1,"受注IDが重複",IF(NOT(IF(ISNUMBER(B14),AND(B14>=43831,B14<73051,B14=INT(B14)),FALSE())),"当初受注日は時刻なしで必須",IF(NOT(IF(ISNUMBER(C14),AND(C14>=0,C14<=1000000000,C14=INT(C14)),FALSE())),"当初額は0〜10億円の整数で必須",IF(NOT(IF(ISNUMBER(D14),AND(D14>=43831,D14<73051,D14=INT(D14)),FALSE())),"当初確認日は時刻なしで必須",IF(OR(B14>D14,D14>受注一覧!$H$3),"受注日≦当初確認日≦基準日を確認","確認済み"))))))),ISNUMBER(K14),K14=IF(J14="確認済み",0,1))),1,IF(K14<>0,0,IF(AND(ISNUMBER(E14),E14=IF(AND(B14>=受注一覧!$B$3,B14<=受注一覧!$E$3),1,0),ISNUMBER(F14),F14=COUNTIFS(変更記録!$A$8:$A$107,A14),ISTEXT(G14),G14=IF(F14=0,"未変更",IF(COUNTIFS(変更記録!$A$8:$A$107,A14,変更記録!$B$8:$B$107,F14,変更記録!$D$8:$D$107,"未確認")>0,"未確認",IF(COUNTIFS(変更記録!$A$8:$A$107,A14,変更記録!$B$8:$B$107,F14,変更記録!$D$8:$D$107,"取消")>0,"取消","変更"))),IF(G14="未確認",ISTEXT(H14),ISNUMBER(H14)),H14=IF(G14="未確認","",IF(F14=0,C14,SUMIFS(変更記録!$H$8:$H$107,変更記録!$A$8:$A$107,A14,変更記録!$B$8:$B$107,F14))),IF(G14="未確認",ISTEXT(I14),ISNUMBER(I14)),I14=IF(G14="未確認","",H14-C14),IF(F14=0,ISTEXT(M14),ISNUMBER(M14)),M14=IF(F14=0,"",SUMIFS(変更記録!$C$8:$C$107,変更記録!$A$8:$A$107,A14,変更記録!$B$8:$B$107,F14)),ISNUMBER(N14),N14=IF(F14=0,D14,SUMIFS(変更記録!$F$8:$F$107,変更記録!$A$8:$A$107,A14,変更記録!$B$8:$B$107,F14))),0,1)))) -> 0 | M14: =IF(J14="","",IF(K14<>0,NA(),IF(F14=0,"",SUMIFS(変更記録!$C$8:$C$107,変更記録!$A$8:$A$107,A14,変更記録!$B$8:$B$107,F14)))) -> 46323 | N14: =IF(J14="","",IF(K14<>0,NA(),IF(F14=0,D14,SUMIFS(変更記録!$F$8:$F$107,変更記録!$A$8:$A$107,A14,変更記録!$B$8:$B$107,F14)))) -> 46324
A15: ORD-0008 | B15: 46321 | C15: 1 | D15: 46321 | E15: =IF(J15="","",IF(K15<>0,NA(),IF(AND(B15>=受注一覧!$B$3,B15<=受注一覧!$E$3),1,0))) -> 1 | F15: =IF(J15="","",IF(K15<>0,NA(),COUNTIFS(変更記録!$A$8:$A$107,A15))) -> 0 | G15: =IF(J15="","",IF(K15<>0,NA(),IF(F15=0,"未変更",IF(COUNTIFS(変更記録!$A$8:$A$107,A15,変更記録!$B$8:$B$107,F15,変更記録!$D$8:$D$107,"未確認")>0,"未確認",IF(COUNTIFS(変更記録!$A$8:$A$107,A15,変更記録!$B$8:$B$107,F15,変更記録!$D$8:$D$107,"取消")>0,"取消","変更"))))) -> 未変更 | H15: =IF(J15="","",IF(K15<>0,NA(),IF(G15="未確認","",IF(F15=0,C15,SUMIFS(変更記録!$H$8:$H$107,変更記録!$A$8:$A$107,A15,変更記録!$B$8:$B$107,F15))))) -> 1 | I15: =IF(J15="","",IF(K15<>0,NA(),IF(G15="未確認","",H15-C15))) -> 0 | J15: =IF(COUNTA(A15:D15)=0,"",IF(NOT(AND(ISTEXT(A15),LEN(A15)=8,EXACT(LEFT(A15,4),"ORD-"),ISNUMBER(FIND(MID(A15,5,1)&"x","0x1x2x3x4x5x6x7x8x9x")),ISNUMBER(FIND(MID(A15,6,1)&"x","0x1x2x3x4x5x6x7x8x9x")),ISNUMBER(FIND(MID(A15,7,1)&"x","0x1x2x3x4x5x6x7x8x9x")),ISNUMBER(FIND(MID(A15,8,1)&"x","0x1x2x3x4x5x6x7x8x9x")))),"IDはORD-と半角数字4桁",IF(COUNTIFS($A$8:$A$57,A15)>1,"受注IDが重複",IF(NOT(IF(ISNUMBER(B15),AND(B15>=43831,B15<73051,B15=INT(B15)),FALSE())),"当初受注日は時刻なしで必須",IF(NOT(IF(ISNUMBER(C15),AND(C15>=0,C15<=1000000000,C15=INT(C15)),FALSE())),"当初額は0〜10億円の整数で必須",IF(NOT(IF(ISNUMBER(D15),AND(D15>=43831,D15<73051,D15=INT(D15)),FALSE())),"当初確認日は時刻なしで必須",IF(OR(B15>D15,D15>受注一覧!$H$3),"受注日≦当初確認日≦基準日を確認","確認済み"))))))) -> 確認済み | K15: =IF(J15="","",IF(J15="確認済み",0,1)) -> 0 | L15: =IF(COUNTA(A15:D15)=0,IF(AND(J15="",K15="",E15="",F15="",G15="",H15="",I15="",M15="",N15=""),0,1),IF(NOT(AND(ISTEXT(J15),J15=IF(COUNTA(A15:D15)=0,"",IF(NOT(AND(ISTEXT(A15),LEN(A15)=8,EXACT(LEFT(A15,4),"ORD-"),ISNUMBER(FIND(MID(A15,5,1)&"x","0x1x2x3x4x5x6x7x8x9x")),ISNUMBER(FIND(MID(A15,6,1)&"x","0x1x2x3x4x5x6x7x8x9x")),ISNUMBER(FIND(MID(A15,7,1)&"x","0x1x2x3x4x5x6x7x8x9x")),ISNUMBER(FIND(MID(A15,8,1)&"x","0x1x2x3x4x5x6x7x8x9x")))),"IDはORD-と半角数字4桁",IF(COUNTIFS($A$8:$A$57,A15)>1,"受注IDが重複",IF(NOT(IF(ISNUMBER(B15),AND(B15>=43831,B15<73051,B15=INT(B15)),FALSE())),"当初受注日は時刻なしで必須",IF(NOT(IF(ISNUMBER(C15),AND(C15>=0,C15<=1000000000,C15=INT(C15)),FALSE())),"当初額は0〜10億円の整数で必須",IF(NOT(IF(ISNUMBER(D15),AND(D15>=43831,D15<73051,D15=INT(D15)),FALSE())),"当初確認日は時刻なしで必須",IF(OR(B15>D15,D15>受注一覧!$H$3),"受注日≦当初確認日≦基準日を確認","確認済み"))))))),ISNUMBER(K15),K15=IF(J15="確認済み",0,1))),1,IF(K15<>0,0,IF(AND(ISNUMBER(E15),E15=IF(AND(B15>=受注一覧!$B$3,B15<=受注一覧!$E$3),1,0),ISNUMBER(F15),F15=COUNTIFS(変更記録!$A$8:$A$107,A15),ISTEXT(G15),G15=IF(F15=0,"未変更",IF(COUNTIFS(変更記録!$A$8:$A$107,A15,変更記録!$B$8:$B$107,F15,変更記録!$D$8:$D$107,"未確認")>0,"未確認",IF(COUNTIFS(変更記録!$A$8:$A$107,A15,変更記録!$B$8:$B$107,F15,変更記録!$D$8:$D$107,"取消")>0,"取消","変更"))),IF(G15="未確認",ISTEXT(H15),ISNUMBER(H15)),H15=IF(G15="未確認","",IF(F15=0,C15,SUMIFS(変更記録!$H$8:$H$107,変更記録!$A$8:$A$107,A15,変更記録!$B$8:$B$107,F15))),IF(G15="未確認",ISTEXT(I15),ISNUMBER(I15)),I15=IF(G15="未確認","",H15-C15),IF(F15=0,ISTEXT(M15),ISNUMBER(M15)),M15=IF(F15=0,"",SUMIFS(変更記録!$C$8:$C$107,変更記録!$A$8:$A$107,A15,変更記録!$B$8:$B$107,F15)),ISNUMBER(N15),N15=IF(F15=0,D15,SUMIFS(変更記録!$F$8:$F$107,変更記録!$A$8:$A$107,A15,変更記録!$B$8:$B$107,F15))),0,1)))) -> 0 | M15: =IF(J15="","",IF(K15<>0,NA(),IF(F15=0,"",SUMIFS(変更記録!$C$8:$C$107,変更記録!$A$8:$A$107,A15,変更記録!$B$8:$B$107,F15)))) | N15: =IF(J15="","",IF(K15<>0,NA(),IF(F15=0,D15,SUMIFS(変更記録!$F$8:$F$107,変更記録!$A$8:$A$107,A15,変更記録!$B$8:$B$107,F15)))) -> 46321
E16: =IF(J16="","",IF(K16<>0,NA(),IF(AND(B16>=受注一覧!$B$3,B16<=受注一覧!$E$3),1,0))) | F16: =IF(J16="","",IF(K16<>0,NA(),COUNTIFS(変更記録!$A$8:$A$107,A16))) | G16: =IF(J16="","",IF(K16<>0,NA(),IF(F16=0,"未変更",IF(COUNTIFS(変更記録!$A$8:$A$107,A16,変更記録!$B$8:$B$107,F16,変更記録!$D$8:$D$107,"未確認")>0,"未確認",IF(COUNTIFS(変更記録!$A$8:$A$107,A16,変更記録!$B$8:$B$107,F16,変更記録!$D$8:$D$107,"取消")>0,"取消","変更"))))) | H16: =IF(J16="","",IF(K16<>0,NA(),IF(G16="未確認","",IF(F16=0,C16,SUMIFS(変更記録!$H$8:$H$107,変更記録!$A$8:$A$107,A16,変更記録!$B$8:$B$107,F16))))) | I16: =IF(J16="","",IF(K16<>0,NA(),IF(G16="未確認","",H16-C16))) | J16: =IF(COUNTA(A16:D16)=0,"",IF(NOT(AND(ISTEXT(A16),LEN(A16)=8,EXACT(LEFT(A16,4),"ORD-"),ISNUMBER(FIND(MID(A16,5,1)&"x","0x1x2x3x4x5x6x7x8x9x")),ISNUMBER(FIND(MID(A16,6,1)&"x","0x1x2x3x4x5x6x7x8x9x")),ISNUMBER(FIND(MID(A16,7,1)&"x","0x1x2x3x4x5x6x7x8x9x")),ISNUMBER(FIND(MID(A16,8,1)&"x","0x1x2x3x4x5x6x7x8x9x")))),"IDはORD-と半角数字4桁",IF(COUNTIFS($A$8:$A$57,A16)>1,"受注IDが重複",IF(NOT(IF(ISNUMBER(B16),AND(B16>=43831,B16<73051,B16=INT(B16)),FALSE())),"当初受注日は時刻なしで必須",IF(NOT(IF(ISNUMBER(C16),AND(C16>=0,C16<=1000000000,C16=INT(C16)),FALSE())),"当初額は0〜10億円の整数で必須",IF(NOT(IF(ISNUMBER(D16),AND(D16>=43831,D16<73051,D16=INT(D16)),FALSE())),"当初確認日は時刻なしで必須",IF(OR(B16>D16,D16>受注一覧!$H$3),"受注日≦当初確認日≦基準日を確認","確認済み"))))))) | K16: =IF(J16="","",IF(J16="確認済み",0,1)) | L16: =IF(COUNTA(A16:D16)=0,IF(AND(J16="",K16="",E16="",F16="",G16="",H16="",I16="",M16="",N16=""),0,1),IF(NOT(AND(ISTEXT(J16),J16=IF(COUNTA(A16:D16)=0,"",IF(NOT(AND(ISTEXT(A16),LEN(A16)=8,EXACT(LEFT(A16,4),"ORD-"),ISNUMBER(FIND(MID(A16,5,1)&"x","0x1x2x3x4x5x6x7x8x9x")),ISNUMBER(FIND(MID(A16,6,1)&"x","0x1x2x3x4x5x6x7x8x9x")),ISNUMBER(FIND(MID(A16,7,1)&"x","0x1x2x3x4x5x6x7x8x9x")),ISNUMBER(FIND(MID(A16,8,1)&"x","0x1x2x3x4x5x6x7x8x9x")))),"IDはORD-と半角数字4桁",IF(COUNTIFS($A$8:$A$57,A16)>1,"受注IDが重複",IF(NOT(IF(ISNUMBER(B16),AND(B16>=43831,B16<73051,B16=INT(B16)),FALSE())),"当初受注日は時刻なしで必須",IF(NOT(IF(ISNUMBER(C16),AND(C16>=0,C16<=1000000000,C16=INT(C16)),FALSE())),"当初額は0〜10億円の整数で必須",IF(NOT(IF(ISNUMBER(D16),AND(D16>=43831,D16<73051,D16=INT(D16)),FALSE())),"当初確認日は時刻なしで必須",IF(OR(B16>D16,D16>受注一覧!$H$3),"受注日≦当初確認日≦基準日を確認","確認済み"))))))),ISNUMBER(K16),K16=IF(J16="確認済み",0,1))),1,IF(K16<>0,0,IF(AND(ISNUMBER(E16),E16=IF(AND(B16>=受注一覧!$B$3,B16<=受注一覧!$E$3),1,0),ISNUMBER(F16),F16=COUNTIFS(変更記録!$A$8:$A$107,A16),ISTEXT(G16),G16=IF(F16=0,"未変更",IF(COUNTIFS(変更記録!$A$8:$A$107,A16,変更記録!$B$8:$B$107,F16,変更記録!$D$8:$D$107,"未確認")>0,"未確認",IF(COUNTIFS(変更記録!$A$8:$A$107,A16,変更記録!$B$8:$B$107,F16,変更記録!$D$8:$D$107,"取消")>0,"取消","変更"))),IF(G16="未確認",ISTEXT(H16),ISNUMBER(H16)),H16=IF(G16="未確認","",IF(F16=0,C16,SUMIFS(変更記録!$H$8:$H$107,変更記録!$A$8:$A$107,A16,変更記録!$B$8:$B$107,F16))),IF(G16="未確認",ISTEXT(I16),ISNUMBER(I16)),I16=IF(G16="未確認","",H16-C16),IF(F16=0,ISTEXT(M16),ISNUMBER(M16)),M16=IF(F16=0,"",SUMIFS(変更記録!$C$8:$C$107,変更記録!$A$8:$A$107,A16,変更記録!$B$8:$B$107,F16)),ISNUMBER(N16),N16=IF(F16=0,D16,SUMIFS(変更記録!$F$8:$F$107,変更記録!$A$8:$A$107,A16,変更記録!$B$8:$B$107,F16))),0,1)))) -> 0 | M16: =IF(J16="","",IF(K16<>0,NA(),IF(F16=0,"",SUMIFS(変更記録!$C$8:$C$107,変更記録!$A$8:$A$107,A16,変更記録!$B$8:$B$107,F16)))) | N16: =IF(J16="","",IF(K16<>0,NA(),IF(F16=0,D16,SUMIFS(変更記録!$F$8:$F$107,変更記録!$A$8:$A$107,A16,変更記録!$B$8:$B$107,F16))))
E17: =IF(J17="","",IF(K17<>0,NA(),IF(AND(B17>=受注一覧!$B$3,B17<=受注一覧!$E$3),1,0))) | F17: =IF(J17="","",IF(K17<>0,NA(),COUNTIFS(変更記録!$A$8:$A$107,A17))) | G17: =IF(J17="","",IF(K17<>0,NA(),IF(F17=0,"未変更",IF(COUNTIFS(変更記録!$A$8:$A$107,A17,変更記録!$B$8:$B$107,F17,変更記録!$D$8:$D$107,"未確認")>0,"未確認",IF(COUNTIFS(変更記録!$A$8:$A$107,A17,変更記録!$B$8:$B$107,F17,変更記録!$D$8:$D$107,"取消")>0,"取消","変更"))))) | H17: =IF(J17="","",IF(K17<>0,NA(),IF(G17="未確認","",IF(F17=0,C17,SUMIFS(変更記録!$H$8:$H$107,変更記録!$A$8:$A$107,A17,変更記録!$B$8:$B$107,F17))))) | I17: =IF(J17="","",IF(K17<>0,NA(),IF(G17="未確認","",H17-C17))) | J17: =IF(COUNTA(A17:D17)=0,"",IF(NOT(AND(ISTEXT(A17),LEN(A17)=8,EXACT(LEFT(A17,4),"ORD-"),ISNUMBER(FIND(MID(A17,5,1)&"x","0x1x2x3x4x5x6x7x8x9x")),ISNUMBER(FIND(MID(A17,6,1)&"x","0x1x2x3x4x5x6x7x8x9x")),ISNUMBER(FIND(MID(A17,7,1)&"x","0x1x2x3x4x5x6x7x8x9x")),ISNUMBER(FIND(MID(A17,8,1)&"x","0x1x2x3x4x5x6x7x8x9x")))),"IDはORD-と半角数字4桁",IF(COUNTIFS($A$8:$A$57,A17)>1,"受注IDが重複",IF(NOT(IF(ISNUMBER(B17),AND(B17>=43831,B17<73051,B17=INT(B17)),FALSE())),"当初受注日は時刻なしで必須",IF(NOT(IF(ISNUMBER(C17),AND(C17>=0,C17<=1000000000,C17=INT(C17)),FALSE())),"当初額は0〜10億円の整数で必須",IF(NOT(IF(ISNUMBER(D17),AND(D17>=43831,D17<73051,D17=INT(D17)),FALSE())),"当初確認日は時刻なしで必須",IF(OR(B17>D17,D17>受注一覧!$H$3),"受注日≦当初確認日≦基準日を確認","確認済み"))))))) | K17: =IF(J17="","",IF(J17="確認済み",0,1)) | L17: =IF(COUNTA(A17:D17)=0,IF(AND(J17="",K17="",E17="",F17="",G17="",H17="",I17="",M17="",N17=""),0,1),IF(NOT(AND(ISTEXT(J17),J17=IF(COUNTA(A17:D17)=0,"",IF(NOT(AND(ISTEXT(A17),LEN(A17)=8,EXACT(LEFT(A17,4),"ORD-"),ISNUMBER(FIND(MID(A17,5,1)&"x","0x1x2x3x4x5x6x7x8x9x")),ISNUMBER(FIND(MID(A17,6,1)&"x","0x1x2x3x4x5x6x7x8x9x")),ISNUMBER(FIND(MID(A17,7,1)&"x","0x1x2x3x4x5x6x7x8x9x")),ISNUMBER(FIND(MID(A17,8,1)&"x","0x1x2x3x4x5x6x7x8x9x")))),"IDはORD-と半角数字4桁",IF(COUNTIFS($A$8:$A$57,A17)>1,"受注IDが重複",IF(NOT(IF(ISNUMBER(B17),AND(B17>=43831,B17<73051,B17=INT(B17)),FALSE())),"当初受注日は時刻なしで必須",IF(NOT(IF(ISNUMBER(C17),AND(C17>=0,C17<=1000000000,C17=INT(C17)),FALSE())),"当初額は0〜10億円の整数で必須",IF(NOT(IF(ISNUMBER(D17),AND(D17>=43831,D17<73051,D17=INT(D17)),FALSE())),"当初確認日は時刻なしで必須",IF(OR(B17>D17,D17>受注一覧!$H$3),"受注日≦当初確認日≦基準日を確認","確認済み"))))))),ISNUMBER(K17),K17=IF(J17="確認済み",0,1))),1,IF(K17<>0,0,IF(AND(ISNUMBER(E17),E17=IF(AND(B17>=受注一覧!$B$3,B17<=受注一覧!$E$3),1,0),ISNUMBER(F17),F17=COUNTIFS(変更記録!$A$8:$A$107,A17),ISTEXT(G17),G17=IF(F17=0,"未変更",IF(COUNTIFS(変更記録!$A$8:$A$107,A17,変更記録!$B$8:$B$107,F17,変更記録!$D$8:$D$107,"未確認")>0,"未確認",IF(COUNTIFS(変更記録!$A$8:$A$107,A17,変更記録!$B$8:$B$107,F17,変更記録!$D$8:$D$107,"取消")>0,"取消","変更"))),IF(G17="未確認",ISTEXT(H17),ISNUMBER(H17)),H17=IF(G17="未確認","",IF(F17=0,C17,SUMIFS(変更記録!$H$8:$H$107,変更記録!$A$8:$A$107,A17,変更記録!$B$8:$B$107,F17))),IF(G17="未確認",ISTEXT(I17),ISNUMBER(I17)),I17=IF(G17="未確認","",H17-C17),IF(F17=0,ISTEXT(M17),ISNUMBER(M17)),M17=IF(F17=0,"",SUMIFS(変更記録!$C$8:$C$107,変更記録!$A$8:$A$107,A17,変更記録!$B$8:$B$107,F17)),ISNUMBER(N17),N17=IF(F17=0,D17,SUMIFS(変更記録!$F$8:$F$107,変更記録!$A$8:$A$107,A17,変更記録!$B$8:$B$107,F17))),0,1)))) -> 0 | M17: =IF(J17="","",IF(K17<>0,NA(),IF(F17=0,"",SUMIFS(変更記録!$C$8:$C$107,変更記録!$A$8:$A$107,A17,変更記録!$B$8:$B$107,F17)))) | N17: =IF(J17="","",IF(K17<>0,NA(),IF(F17=0,D17,SUMIFS(変更記録!$F$8:$F$107,変更記録!$A$8:$A$107,A17,変更記録!$B$8:$B$107,F17))))
E18: =IF(J18="","",IF(K18<>0,NA(),IF(AND(B18>=受注一覧!$B$3,B18<=受注一覧!$E$3),1,0))) | F18: =IF(J18="","",IF(K18<>0,NA(),COUNTIFS(変更記録!$A$8:$A$107,A18))) | G18: =IF(J18="","",IF(K18<>0,NA(),IF(F18=0,"未変更",IF(COUNTIFS(変更記録!$A$8:$A$107,A18,変更記録!$B$8:$B$107,F18,変更記録!$D$8:$D$107,"未確認")>0,"未確認",IF(COUNTIFS(変更記録!$A$8:$A$107,A18,変更記録!$B$8:$B$107,F18,変更記録!$D$8:$D$107,"取消")>0,"取消","変更"))))) | H18: =IF(J18="","",IF(K18<>0,NA(),IF(G18="未確認","",IF(F18=0,C18,SUMIFS(変更記録!$H$8:$H$107,変更記録!$A$8:$A$107,A18,変更記録!$B$8:$B$107,F18))))) | I18: =IF(J18="","",IF(K18<>0,NA(),IF(G18="未確認","",H18-C18))) | J18: =IF(COUNTA(A18:D18)=0,"",IF(NOT(AND(ISTEXT(A18),LEN(A18)=8,EXACT(LEFT(A18,4),"ORD-"),ISNUMBER(FIND(MID(A18,5,1)&"x","0x1x2x3x4x5x6x7x8x9x")),ISNUMBER(FIND(MID(A18,6,1)&"x","0x1x2x3x4x5x6x7x8x9x")),ISNUMBER(FIND(MID(A18,7,1)&"x","0x1x2x3x4x5x6x7x8x9x")),ISNUMBER(FIND(MID(A18,8,1)&"x","0x1x2x3x4x5x6x7x8x9x")))),"IDはORD-と半角数字4桁",IF(COUNTIFS($A$8:$A$57,A18)>1,"受注IDが重複",IF(NOT(IF(ISNUMBER(B18),AND(B18>=43831,B18<73051,B18=INT(B18)),FALSE())),"当初受注日は時刻なしで必須",IF(NOT(IF(ISNUMBER(C18),AND(C18>=0,C18<=1000000000,C18=INT(C18)),FALSE())),"当初額は0〜10億円の整数で必須",IF(NOT(IF(ISNUMBER(D18),AND(D18>=43831,D18<73051,D18=INT(D18)),FALSE())),"当初確認日は時刻なしで必須",IF(OR(B18>D18,D18>受注一覧!$H$3),"受注日≦当初確認日≦基準日を確認","確認済み"))))))) | K18: =IF(J18="","",IF(J18="確認済み",0,1)) | L18: =IF(COUNTA(A18:D18)=0,IF(AND(J18="",K18="",E18="",F18="",G18="",H18="",I18="",M18="",N18=""),0,1),IF(NOT(AND(ISTEXT(J18),J18=IF(COUNTA(A18:D18)=0,"",IF(NOT(AND(ISTEXT(A18),LEN(A18)=8,EXACT(LEFT(A18,4),"ORD-"),ISNUMBER(FIND(MID(A18,5,1)&"x","0x1x2x3x4x5x6x7x8x9x")),ISNUMBER(FIND(MID(A18,6,1)&"x","0x1x2x3x4x5x6x7x8x9x")),ISNUMBER(FIND(MID(A18,7,1)&"x","0x1x2x3x4x5x6x7x8x9x")),ISNUMBER(FIND(MID(A18,8,1)&"x","0x1x2x3x4x5x6x7x8x9x")))),"IDはORD-と半角数字4桁",IF(COUNTIFS($A$8:$A$57,A18)>1,"受注IDが重複",IF(NOT(IF(ISNUMBER(B18),AND(B18>=43831,B18<73051,B18=INT(B18)),FALSE())),"当初受注日は時刻なしで必須",IF(NOT(IF(ISNUMBER(C18),AND(C18>=0,C18<=1000000000,C18=INT(C18)),FALSE())),"当初額は0〜10億円の整数で必須",IF(NOT(IF(ISNUMBER(D18),AND(D18>=43831,D18<73051,D18=INT(D18)),FALSE())),"当初確認日は時刻なしで必須",IF(OR(B18>D18,D18>受注一覧!$H$3),"受注日≦当初確認日≦基準日を確認","確認済み"))))))),ISNUMBER(K18),K18=IF(J18="確認済み",0,1))),1,IF(K18<>0,0,IF(AND(ISNUMBER(E18),E18=IF(AND(B18>=受注一覧!$B$3,B18<=受注一覧!$E$3),1,0),ISNUMBER(F18),F18=COUNTIFS(変更記録!$A$8:$A$107,A18),ISTEXT(G18),G18=IF(F18=0,"未変更",IF(COUNTIFS(変更記録!$A$8:$A$107,A18,変更記録!$B$8:$B$107,F18,変更記録!$D$8:$D$107,"未確認")>0,"未確認",IF(COUNTIFS(変更記録!$A$8:$A$107,A18,変更記録!$B$8:$B$107,F18,変更記録!$D$8:$D$107,"取消")>0,"取消","変更"))),IF(G18="未確認",ISTEXT(H18),ISNUMBER(H18)),H18=IF(G18="未確認","",IF(F18=0,C18,SUMIFS(変更記録!$H$8:$H$107,変更記録!$A$8:$A$107,A18,変更記録!$B$8:$B$107,F18))),IF(G18="未確認",ISTEXT(I18),ISNUMBER(I18)),I18=IF(G18="未確認","",H18-C18),IF(F18=0,ISTEXT(M18),ISNUMBER(M18)),M18=IF(F18=0,"",SUMIFS(変更記録!$C$8:$C$107,変更記録!$A$8:$A$107,A18,変更記録!$B$8:$B$107,F18)),ISNUMBER(N18),N18=IF(F18=0,D18,SUMIFS(変更記録!$F$8:$F$107,変更記録!$A$8:$A$107,A18,変更記録!$B$8:$B$107,F18))),0,1)))) -> 0 | M18: =IF(J18="","",IF(K18<>0,NA(),IF(F18=0,"",SUMIFS(変更記録!$C$8:$C$107,変更記録!$A$8:$A$107,A18,変更記録!$B$8:$B$107,F18)))) | N18: =IF(J18="","",IF(K18<>0,NA(),IF(F18=0,D18,SUMIFS(変更記録!$F$8:$F$107,変更記録!$A$8:$A$107,A18,変更記録!$B$8:$B$107,F18))))
E19: =IF(J19="","",IF(K19<>0,NA(),IF(AND(B19>=受注一覧!$B$3,B19<=受注一覧!$E$3),1,0))) | F19: =IF(J19="","",IF(K19<>0,NA(),COUNTIFS(変更記録!$A$8:$A$107,A19))) | G19: =IF(J19="","",IF(K19<>0,NA(),IF(F19=0,"未変更",IF(COUNTIFS(変更記録!$A$8:$A$107,A19,変更記録!$B$8:$B$107,F19,変更記録!$D$8:$D$107,"未確認")>0,"未確認",IF(COUNTIFS(変更記録!$A$8:$A$107,A19,変更記録!$B$8:$B$107,F19,変更記録!$D$8:$D$107,"取消")>0,"取消","変更"))))) | H19: =IF(J19="","",IF(K19<>0,NA(),IF(G19="未確認","",IF(F19=0,C19,SUMIFS(変更記録!$H$8:$H$107,変更記録!$A$8:$A$107,A19,変更記録!$B$8:$B$107,F19))))) | I19: =IF(J19="","",IF(K19<>0,NA(),IF(G19="未確認","",H19-C19))) | J19: =IF(COUNTA(A19:D19)=0,"",IF(NOT(AND(ISTEXT(A19),LEN(A19)=8,EXACT(LEFT(A19,4),"ORD-"),ISNUMBER(FIND(MID(A19,5,1)&"x","0x1x2x3x4x5x6x7x8x9x")),ISNUMBER(FIND(MID(A19,6,1)&"x","0x1x2x3x4x5x6x7x8x9x")),ISNUMBER(FIND(MID(A19,7,1)&"x","0x1x2x3x4x5x6x7x8x9x")),ISNUMBER(FIND(MID(A19,8,1)&"x","0x1x2x3x4x5x6x7x8x9x")))),"IDはORD-と半角数字4桁",IF(COUNTIFS($A$8:$A$57,A19)>1,"受注IDが重複",IF(NOT(IF(ISNUMBER(B19),AND(B19>=43831,B19<73051,B19=INT(B19)),FALSE())),"当初受注日は時刻なしで必須",IF(NOT(IF(ISNUMBER(C19),AND(C19>=0,C19<=1000000000,C19=INT(C19)),FALSE())),"当初額は0〜10億円の整数で必須",IF(NOT(IF(ISNUMBER(D19),AND(D19>=43831,D19<73051,D19=INT(D19)),FALSE())),"当初確認日は時刻なしで必須",IF(OR(B19>D19,D19>受注一覧!$H$3),"受注日≦当初確認日≦基準日を確認","確認済み"))))))) | K19: =IF(J19="","",IF(J19="確認済み",0,1)) | L19: =IF(COUNTA(A19:D19)=0,IF(AND(J19="",K19="",E19="",F19="",G19="",H19="",I19="",M19="",N19=""),0,1),IF(NOT(AND(ISTEXT(J19),J19=IF(COUNTA(A19:D19)=0,"",IF(NOT(AND(ISTEXT(A19),LEN(A19)=8,EXACT(LEFT(A19,4),"ORD-"),ISNUMBER(FIND(MID(A19,5,1)&"x","0x1x2x3x4x5x6x7x8x9x")),ISNUMBER(FIND(MID(A19,6,1)&"x","0x1x2x3x4x5x6x7x8x9x")),ISNUMBER(FIND(MID(A19,7,1)&"x","0x1x2x3x4x5x6x7x8x9x")),ISNUMBER(FIND(MID(A19,8,1)&"x","0x1x2x3x4x5x6x7x8x9x")))),"IDはORD-と半角数字4桁",IF(COUNTIFS($A$8:$A$57,A19)>1,"受注IDが重複",IF(NOT(IF(ISNUMBER(B19),AND(B19>=43831,B19<73051,B19=INT(B19)),FALSE())),"当初受注日は時刻なしで必須",IF(NOT(IF(ISNUMBER(C19),AND(C19>=0,C19<=1000000000,C19=INT(C19)),FALSE())),"当初額は0〜10億円の整数で必須",IF(NOT(IF(ISNUMBER(D19),AND(D19>=43831,D19<73051,D19=INT(D19)),FALSE())),"当初確認日は時刻なしで必須",IF(OR(B19>D19,D19>受注一覧!$H$3),"受注日≦当初確認日≦基準日を確認","確認済み"))))))),ISNUMBER(K19),K19=IF(J19="確認済み",0,1))),1,IF(K19<>0,0,IF(AND(ISNUMBER(E19),E19=IF(AND(B19>=受注一覧!$B$3,B19<=受注一覧!$E$3),1,0),ISNUMBER(F19),F19=COUNTIFS(変更記録!$A$8:$A$107,A19),ISTEXT(G19),G19=IF(F19=0,"未変更",IF(COUNTIFS(変更記録!$A$8:$A$107,A19,変更記録!$B$8:$B$107,F19,変更記録!$D$8:$D$107,"未確認")>0,"未確認",IF(COUNTIFS(変更記録!$A$8:$A$107,A19,変更記録!$B$8:$B$107,F19,変更記録!$D$8:$D$107,"取消")>0,"取消","変更"))),IF(G19="未確認",ISTEXT(H19),ISNUMBER(H19)),H19=IF(G19="未確認","",IF(F19=0,C19,SUMIFS(変更記録!$H$8:$H$107,変更記録!$A$8:$A$107,A19,変更記録!$B$8:$B$107,F19))),IF(G19="未確認",ISTEXT(I19),ISNUMBER(I19)),I19=IF(G19="未確認","",H19-C19),IF(F19=0,ISTEXT(M19),ISNUMBER(M19)),M19=IF(F19=0,"",SUMIFS(変更記録!$C$8:$C$107,変更記録!$A$8:$A$107,A19,変更記録!$B$8:$B$107,F19)),ISNUMBER(N19),N19=IF(F19=0,D19,SUMIFS(変更記録!$F$8:$F$107,変更記録!$A$8:$A$107,A19,変更記録!$B$8:$B$107,F19))),0,1)))) -> 0 | M19: =IF(J19="","",IF(K19<>0,NA(),IF(F19=0,"",SUMIFS(変更記録!$C$8:$C$107,変更記録!$A$8:$A$107,A19,変更記録!$B$8:$B$107,F19)))) | N19: =IF(J19="","",IF(K19<>0,NA(),IF(F19=0,D19,SUMIFS(変更記録!$F$8:$F$107,変更記録!$A$8:$A$107,A19,変更記録!$B$8:$B$107,F19))))
E20: =IF(J20="","",IF(K20<>0,NA(),IF(AND(B20>=受注一覧!$B$3,B20<=受注一覧!$E$3),1,0))) | F20: =IF(J20="","",IF(K20<>0,NA(),COUNTIFS(変更記録!$A$8:$A$107,A20))) | G20: =IF(J20="","",IF(K20<>0,NA(),IF(F20=0,"未変更",IF(COUNTIFS(変更記録!$A$8:$A$107,A20,変更記録!$B$8:$B$107,F20,変更記録!$D$8:$D$107,"未確認")>0,"未確認",IF(COUNTIFS(変更記録!$A$8:$A$107,A20,変更記録!$B$8:$B$107,F20,変更記録!$D$8:$D$107,"取消")>0,"取消","変更"))))) | H20: =IF(J20="","",IF(K20<>0,NA(),IF(G20="未確認","",IF(F20=0,C20,SUMIFS(変更記録!$H$8:$H$107,変更記録!$A$8:$A$107,A20,変更記録!$B$8:$B$107,F20))))) | I20: =IF(J20="","",IF(K20<>0,NA(),IF(G20="未確認","",H20-C20))) | J20: =IF(COUNTA(A20:D20)=0,"",IF(NOT(AND(ISTEXT(A20),LEN(A20)=8,EXACT(LEFT(A20,4),"ORD-"),ISNUMBER(FIND(MID(A20,5,1)&"x","0x1x2x3x4x5x6x7x8x9x")),ISNUMBER(FIND(MID(A20,6,1)&"x","0x1x2x3x4x5x6x7x8x9x")),ISNUMBER(FIND(MID(A20,7,1)&"x","0x1x2x3x4x5x6x7x8x9x")),ISNUMBER(FIND(MID(A20,8,1)&"x","0x1x2x3x4x5x6x7x8x9x")))),"IDはORD-と半角数字4桁",IF(COUNTIFS($A$8:$A$57,A20)>1,"受注IDが重複",IF(NOT(IF(ISNUMBER(B20),AND(B20>=43831,B20<73051,B20=INT(B20)),FALSE())),"当初受注日は時刻なしで必須",IF(NOT(IF(ISNUMBER(C20),AND(C20>=0,C20<=1000000000,C20=INT(C20)),FALSE())),"当初額は0〜10億円の整数で必須",IF(NOT(IF(ISNUMBER(D20),AND(D20>=43831,D20<73051,D20=INT(D20)),FALSE())),"当初確認日は時刻なしで必須",IF(OR(B20>D20,D20>受注一覧!$H$3),"受注日≦当初確認日≦基準日を確認","確認済み"))))))) | K20: =IF(J20="","",IF(J20="確認済み",0,1)) | L20: =IF(COUNTA(A20:D20)=0,IF(AND(J20="",K20="",E20="",F20="",G20="",H20="",I20="",M20="",N20=""),0,1),IF(NOT(AND(ISTEXT(J20),J20=IF(COUNTA(A20:D20)=0,"",IF(NOT(AND(ISTEXT(A20),LEN(A20)=8,EXACT(LEFT(A20,4),"ORD-"),ISNUMBER(FIND(MID(A20,5,1)&"x","0x1x2x3x4x5x6x7x8x9x")),ISNUMBER(FIND(MID(A20,6,1)&"x","0x1x2x3x4x5x6x7x8x9x")),ISNUMBER(FIND(MID(A20,7,1)&"x","0x1x2x3x4x5x6x7x8x9x")),ISNUMBER(FIND(MID(A20,8,1)&"x","0x1x2x3x4x5x6x7x8x9x")))),"IDはORD-と半角数字4桁",IF(COUNTIFS($A$8:$A$57,A20)>1,"受注IDが重複",IF(NOT(IF(ISNUMBER(B20),AND(B20>=43831,B20<73051,B20=INT(B20)),FALSE())),"当初受注日は時刻なしで必須",IF(NOT(IF(ISNUMBER(C20),AND(C20>=0,C20<=1000000000,C20=INT(C20)),FALSE())),"当初額は0〜10億円の整数で必須",IF(NOT(IF(ISNUMBER(D20),AND(D20>=43831,D20<73051,D20=INT(D20)),FALSE())),"当初確認日は時刻なしで必須",IF(OR(B20>D20,D20>受注一覧!$H$3),"受注日≦当初確認日≦基準日を確認","確認済み"))))))),ISNUMBER(K20),K20=IF(J20="確認済み",0,1))),1,IF(K20<>0,0,IF(AND(ISNUMBER(E20),E20=IF(AND(B20>=受注一覧!$B$3,B20<=受注一覧!$E$3),1,0),ISNUMBER(F20),F20=COUNTIFS(変更記録!$A$8:$A$107,A20),ISTEXT(G20),G20=IF(F20=0,"未変更",IF(COUNTIFS(変更記録!$A$8:$A$107,A20,変更記録!$B$8:$B$107,F20,変更記録!$D$8:$D$107,"未確認")>0,"未確認",IF(COUNTIFS(変更記録!$A$8:$A$107,A20,変更記録!$B$8:$B$107,F20,変更記録!$D$8:$D$107,"取消")>0,"取消","変更"))),IF(G20="未確認",ISTEXT(H20),ISNUMBER(H20)),H20=IF(G20="未確認","",IF(F20=0,C20,SUMIFS(変更記録!$H$8:$H$107,変更記録!$A$8:$A$107,A20,変更記録!$B$8:$B$107,F20))),IF(G20="未確認",ISTEXT(I20),ISNUMBER(I20)),I20=IF(G20="未確認","",H20-C20),IF(F20=0,ISTEXT(M20),ISNUMBER(M20)),M20=IF(F20=0,"",SUMIFS(変更記録!$C$8:$C$107,変更記録!$A$8:$A$107,A20,変更記録!$B$8:$B$107,F20)),ISNUMBER(N20),N20=IF(F20=0,D20,SUMIFS(変更記録!$F$8:$F$107,変更記録!$A$8:$A$107,A20,変更記録!$B$8:$B$107,F20))),0,1)))) -> 0 | M20: =IF(J20="","",IF(K20<>0,NA(),IF(F20=0,"",SUMIFS(変更記録!$C$8:$C$107,変更記録!$A$8:$A$107,A20,変更記録!$B$8:$B$107,F20)))) | N20: =IF(J20="","",IF(K20<>0,NA(),IF(F20=0,D20,SUMIFS(変更記録!$F$8:$F$107,変更記録!$A$8:$A$107,A20,変更記録!$B$8:$B$107,F20))))
E21: =IF(J21="","",IF(K21<>0,NA(),IF(AND(B21>=受注一覧!$B$3,B21<=受注一覧!$E$3),1,0))) | F21: =IF(J21="","",IF(K21<>0,NA(),COUNTIFS(変更記録!$A$8:$A$107,A21))) | G21: =IF(J21="","",IF(K21<>0,NA(),IF(F21=0,"未変更",IF(COUNTIFS(変更記録!$A$8:$A$107,A21,変更記録!$B$8:$B$107,F21,変更記録!$D$8:$D$107,"未確認")>0,"未確認",IF(COUNTIFS(変更記録!$A$8:$A$107,A21,変更記録!$B$8:$B$107,F21,変更記録!$D$8:$D$107,"取消")>0,"取消","変更"))))) | H21: =IF(J21="","",IF(K21<>0,NA(),IF(G21="未確認","",IF(F21=0,C21,SUMIFS(変更記録!$H$8:$H$107,変更記録!$A$8:$A$107,A21,変更記録!$B$8:$B$107,F21))))) | I21: =IF(J21="","",IF(K21<>0,NA(),IF(G21="未確認","",H21-C21))) | J21: =IF(COUNTA(A21:D21)=0,"",IF(NOT(AND(ISTEXT(A21),LEN(A21)=8,EXACT(LEFT(A21,4),"ORD-"),ISNUMBER(FIND(MID(A21,5,1)&"x","0x1x2x3x4x5x6x7x8x9x")),ISNUMBER(FIND(MID(A21,6,1)&"x","0x1x2x3x4x5x6x7x8x9x")),ISNUMBER(FIND(MID(A21,7,1)&"x","0x1x2x3x4x5x6x7x8x9x")),ISNUMBER(FIND(MID(A21,8,1)&"x","0x1x2x3x4x5x6x7x8x9x")))),"IDはORD-と半角数字4桁",IF(COUNTIFS($A$8:$A$57,A21)>1,"受注IDが重複",IF(NOT(IF(ISNUMBER(B21),AND(B21>=43831,B21<73051,B21=INT(B21)),FALSE())),"当初受注日は時刻なしで必須",IF(NOT(IF(ISNUMBER(C21),AND(C21>=0,C21<=1000000000,C21=INT(C21)),FALSE())),"当初額は0〜10億円の整数で必須",IF(NOT(IF(ISNUMBER(D21),AND(D21>=43831,D21<73051,D21=INT(D21)),FALSE())),"当初確認日は時刻なしで必須",IF(OR(B21>D21,D21>受注一覧!$H$3),"受注日≦当初確認日≦基準日を確認","確認済み"))))))) | K21: =IF(J21="","",IF(J21="確認済み",0,1)) | L21: =IF(COUNTA(A21:D21)=0,IF(AND(J21="",K21="",E21="",F21="",G21="",H21="",I21="",M21="",N21=""),0,1),IF(NOT(AND(ISTEXT(J21),J21=IF(COUNTA(A21:D21)=0,"",IF(NOT(AND(ISTEXT(A21),LEN(A21)=8,EXACT(LEFT(A21,4),"ORD-"),ISNUMBER(FIND(MID(A21,5,1)&"x","0x1x2x3x4x5x6x7x8x9x")),ISNUMBER(FIND(MID(A21,6,1)&"x","0x1x2x3x4x5x6x7x8x9x")),ISNUMBER(FIND(MID(A21,7,1)&"x","0x1x2x3x4x5x6x7x8x9x")),ISNUMBER(FIND(MID(A21,8,1)&"x","0x1x2x3x4x5x6x7x8x9x")))),"IDはORD-と半角数字4桁",IF(COUNTIFS($A$8:$A$57,A21)>1,"受注IDが重複",IF(NOT(IF(ISNUMBER(B21),AND(B21>=43831,B21<73051,B21=INT(B21)),FALSE())),"当初受注日は時刻なしで必須",IF(NOT(IF(ISNUMBER(C21),AND(C21>=0,C21<=1000000000,C21=INT(C21)),FALSE())),"当初額は0〜10億円の整数で必須",IF(NOT(IF(ISNUMBER(D21),AND(D21>=43831,D21<73051,D21=INT(D21)),FALSE())),"当初確認日は時刻なしで必須",IF(OR(B21>D21,D21>受注一覧!$H$3),"受注日≦当初確認日≦基準日を確認","確認済み"))))))),ISNUMBER(K21),K21=IF(J21="確認済み",0,1))),1,IF(K21<>0,0,IF(AND(ISNUMBER(E21),E21=IF(AND(B21>=受注一覧!$B$3,B21<=受注一覧!$E$3),1,0),ISNUMBER(F21),F21=COUNTIFS(変更記録!$A$8:$A$107,A21),ISTEXT(G21),G21=IF(F21=0,"未変更",IF(COUNTIFS(変更記録!$A$8:$A$107,A21,変更記録!$B$8:$B$107,F21,変更記録!$D$8:$D$107,"未確認")>0,"未確認",IF(COUNTIFS(変更記録!$A$8:$A$107,A21,変更記録!$B$8:$B$107,F21,変更記録!$D$8:$D$107,"取消")>0,"取消","変更"))),IF(G21="未確認",ISTEXT(H21),ISNUMBER(H21)),H21=IF(G21="未確認","",IF(F21=0,C21,SUMIFS(変更記録!$H$8:$H$107,変更記録!$A$8:$A$107,A21,変更記録!$B$8:$B$107,F21))),IF(G21="未確認",ISTEXT(I21),ISNUMBER(I21)),I21=IF(G21="未確認","",H21-C21),IF(F21=0,ISTEXT(M21),ISNUMBER(M21)),M21=IF(F21=0,"",SUMIFS(変更記録!$C$8:$C$107,変更記録!$A$8:$A$107,A21,変更記録!$B$8:$B$107,F21)),ISNUMBER(N21),N21=IF(F21=0,D21,SUMIFS(変更記録!$F$8:$F$107,変更記録!$A$8:$A$107,A21,変更記録!$B$8:$B$107,F21))),0,1)))) -> 0 | M21: =IF(J21="","",IF(K21<>0,NA(),IF(F21=0,"",SUMIFS(変更記録!$C$8:$C$107,変更記録!$A$8:$A$107,A21,変更記録!$B$8:$B$107,F21)))) | N21: =IF(J21="","",IF(K21<>0,NA(),IF(F21=0,D21,SUMIFS(変更記録!$F$8:$F$107,変更記録!$A$8:$A$107,A21,変更記録!$B$8:$B$107,F21))))
E22: =IF(J22="","",IF(K22<>0,NA(),IF(AND(B22>=受注一覧!$B$3,B22<=受注一覧!$E$3),1,0))) | F22: =IF(J22="","",IF(K22<>0,NA(),COUNTIFS(変更記録!$A$8:$A$107,A22))) | G22: =IF(J22="","",IF(K22<>0,NA(),IF(F22=0,"未変更",IF(COUNTIFS(変更記録!$A$8:$A$107,A22,変更記録!$B$8:$B$107,F22,変更記録!$D$8:$D$107,"未確認")>0,"未確認",IF(COUNTIFS(変更記録!$A$8:$A$107,A22,変更記録!$B$8:$B$107,F22,変更記録!$D$8:$D$107,"取消")>0,"取消","変更"))))) | H22: =IF(J22="","",IF(K22<>0,NA(),IF(G22="未確認","",IF(F22=0,C22,SUMIFS(変更記録!$H$8:$H$107,変更記録!$A$8:$A$107,A22,変更記録!$B$8:$B$107,F22))))) | I22: =IF(J22="","",IF(K22<>0,NA(),IF(G22="未確認","",H22-C22))) | J22: =IF(COUNTA(A22:D22)=0,"",IF(NOT(AND(ISTEXT(A22),LEN(A22)=8,EXACT(LEFT(A22,4),"ORD-"),ISNUMBER(FIND(MID(A22,5,1)&"x","0x1x2x3x4x5x6x7x8x9x")),ISNUMBER(FIND(MID(A22,6,1)&"x","0x1x2x3x4x5x6x7x8x9x")),ISNUMBER(FIND(MID(A22,7,1)&"x","0x1x2x3x4x5x6x7x8x9x")),ISNUMBER(FIND(MID(A22,8,1)&"x","0x1x2x3x4x5x6x7x8x9x")))),"IDはORD-と半角数字4桁",IF(COUNTIFS($A$8:$A$57,A22)>1,"受注IDが重複",IF(NOT(IF(ISNUMBER(B22),AND(B22>=43831,B22<73051,B22=INT(B22)),FALSE())),"当初受注日は時刻なしで必須",IF(NOT(IF(ISNUMBER(C22),AND(C22>=0,C22<=1000000000,C22=INT(C22)),FALSE())),"当初額は0〜10億円の整数で必須",IF(NOT(IF(ISNUMBER(D22),AND(D22>=43831,D22<73051,D22=INT(D22)),FALSE())),"当初確認日は時刻なしで必須",IF(OR(B22>D22,D22>受注一覧!$H$3),"受注日≦当初確認日≦基準日を確認","確認済み"))))))) | K22: =IF(J22="","",IF(J22="確認済み",0,1)) | L22: =IF(COUNTA(A22:D22)=0,IF(AND(J22="",K22="",E22="",F22="",G22="",H22="",I22="",M22="",N22=""),0,1),IF(NOT(AND(ISTEXT(J22),J22=IF(COUNTA(A22:D22)=0,"",IF(NOT(AND(ISTEXT(A22),LEN(A22)=8,EXACT(LEFT(A22,4),"ORD-"),ISNUMBER(FIND(MID(A22,5,1)&"x","0x1x2x3x4x5x6x7x8x9x")),ISNUMBER(FIND(MID(A22,6,1)&"x","0x1x2x3x4x5x6x7x8x9x")),ISNUMBER(FIND(MID(A22,7,1)&"x","0x1x2x3x4x5x6x7x8x9x")),ISNUMBER(FIND(MID(A22,8,1)&"x","0x1x2x3x4x5x6x7x8x9x")))),"IDはORD-と半角数字4桁",IF(COUNTIFS($A$8:$A$57,A22)>1,"受注IDが重複",IF(NOT(IF(ISNUMBER(B22),AND(B22>=43831,B22<73051,B22=INT(B22)),FALSE())),"当初受注日は時刻なしで必須",IF(NOT(IF(ISNUMBER(C22),AND(C22>=0,C22<=1000000000,C22=INT(C22)),FALSE())),"当初額は0〜10億円の整数で必須",IF(NOT(IF(ISNUMBER(D22),AND(D22>=43831,D22<73051,D22=INT(D22)),FALSE())),"当初確認日は時刻なしで必須",IF(OR(B22>D22,D22>受注一覧!$H$3),"受注日≦当初確認日≦基準日を確認","確認済み"))))))),ISNUMBER(K22),K22=IF(J22="確認済み",0,1))),1,IF(K22<>0,0,IF(AND(ISNUMBER(E22),E22=IF(AND(B22>=受注一覧!$B$3,B22<=受注一覧!$E$3),1,0),ISNUMBER(F22),F22=COUNTIFS(変更記録!$A$8:$A$107,A22),ISTEXT(G22),G22=IF(F22=0,"未変更",IF(COUNTIFS(変更記録!$A$8:$A$107,A22,変更記録!$B$8:$B$107,F22,変更記録!$D$8:$D$107,"未確認")>0,"未確認",IF(COUNTIFS(変更記録!$A$8:$A$107,A22,変更記録!$B$8:$B$107,F22,変更記録!$D$8:$D$107,"取消")>0,"取消","変更"))),IF(G22="未確認",ISTEXT(H22),ISNUMBER(H22)),H22=IF(G22="未確認","",IF(F22=0,C22,SUMIFS(変更記録!$H$8:$H$107,変更記録!$A$8:$A$107,A22,変更記録!$B$8:$B$107,F22))),IF(G22="未確認",ISTEXT(I22),ISNUMBER(I22)),I22=IF(G22="未確認","",H22-C22),IF(F22=0,ISTEXT(M22),ISNUMBER(M22)),M22=IF(F22=0,"",SUMIFS(変更記録!$C$8:$C$107,変更記録!$A$8:$A$107,A22,変更記録!$B$8:$B$107,F22)),ISNUMBER(N22),N22=IF(F22=0,D22,SUMIFS(変更記録!$F$8:$F$107,変更記録!$A$8:$A$107,A22,変更記録!$B$8:$B$107,F22))),0,1)))) -> 0 | M22: =IF(J22="","",IF(K22<>0,NA(),IF(F22=0,"",SUMIFS(変更記録!$C$8:$C$107,変更記録!$A$8:$A$107,A22,変更記録!$B$8:$B$107,F22)))) | N22: =IF(J22="","",IF(K22<>0,NA(),IF(F22=0,D22,SUMIFS(変更記録!$F$8:$F$107,変更記録!$A$8:$A$107,A22,変更記録!$B$8:$B$107,F22))))
E23: =IF(J23="","",IF(K23<>0,NA(),IF(AND(B23>=受注一覧!$B$3,B23<=受注一覧!$E$3),1,0))) | F23: =IF(J23="","",IF(K23<>0,NA(),COUNTIFS(変更記録!$A$8:$A$107,A23))) | G23: =IF(J23="","",IF(K23<>0,NA(),IF(F23=0,"未変更",IF(COUNTIFS(変更記録!$A$8:$A$107,A23,変更記録!$B$8:$B$107,F23,変更記録!$D$8:$D$107,"未確認")>0,"未確認",IF(COUNTIFS(変更記録!$A$8:$A$107,A23,変更記録!$B$8:$B$107,F23,変更記録!$D$8:$D$107,"取消")>0,"取消","変更"))))) | H23: =IF(J23="","",IF(K23<>0,NA(),IF(G23="未確認","",IF(F23=0,C23,SUMIFS(変更記録!$H$8:$H$107,変更記録!$A$8:$A$107,A23,変更記録!$B$8:$B$107,F23))))) | I23: =IF(J23="","",IF(K23<>0,NA(),IF(G23="未確認","",H23-C23))) | J23: =IF(COUNTA(A23:D23)=0,"",IF(NOT(AND(ISTEXT(A23),LEN(A23)=8,EXACT(LEFT(A23,4),"ORD-"),ISNUMBER(FIND(MID(A23,5,1)&"x","0x1x2x3x4x5x6x7x8x9x")),ISNUMBER(FIND(MID(A23,6,1)&"x","0x1x2x3x4x5x6x7x8x9x")),ISNUMBER(FIND(MID(A23,7,1)&"x","0x1x2x3x4x5x6x7x8x9x")),ISNUMBER(FIND(MID(A23,8,1)&"x","0x1x2x3x4x5x6x7x8x9x")))),"IDはORD-と半角数字4桁",IF(COUNTIFS($A$8:$A$57,A23)>1,"受注IDが重複",IF(NOT(IF(ISNUMBER(B23),AND(B23>=43831,B23<73051,B23=INT(B23)),FALSE())),"当初受注日は時刻なしで必須",IF(NOT(IF(ISNUMBER(C23),AND(C23>=0,C23<=1000000000,C23=INT(C23)),FALSE())),"当初額は0〜10億円の整数で必須",IF(NOT(IF(ISNUMBER(D23),AND(D23>=43831,D23<73051,D23=INT(D23)),FALSE())),"当初確認日は時刻なしで必須",IF(OR(B23>D23,D23>受注一覧!$H$3),"受注日≦当初確認日≦基準日を確認","確認済み"))))))) | K23: =IF(J23="","",IF(J23="確認済み",0,1)) | L23: =IF(COUNTA(A23:D23)=0,IF(AND(J23="",K23="",E23="",F23="",G23="",H23="",I23="",M23="",N23=""),0,1),IF(NOT(AND(ISTEXT(J23),J23=IF(COUNTA(A23:D23)=0,"",IF(NOT(AND(ISTEXT(A23),LEN(A23)=8,EXACT(LEFT(A23,4),"ORD-"),ISNUMBER(FIND(MID(A23,5,1)&"x","0x1x2x3x4x5x6x7x8x9x")),ISNUMBER(FIND(MID(A23,6,1)&"x","0x1x2x3x4x5x6x7x8x9x")),ISNUMBER(FIND(MID(A23,7,1)&"x","0x1x2x3x4x5x6x7x8x9x")),ISNUMBER(FIND(MID(A23,8,1)&"x","0x1x2x3x4x5x6x7x8x9x")))),"IDはORD-と半角数字4桁",IF(COUNTIFS($A$8:$A$57,A23)>1,"受注IDが重複",IF(NOT(IF(ISNUMBER(B23),AND(B23>=43831,B23<73051,B23=INT(B23)),FALSE())),"当初受注日は時刻なしで必須",IF(NOT(IF(ISNUMBER(C23),AND(C23>=0,C23<=1000000000,C23=INT(C23)),FALSE())),"当初額は0〜10億円の整数で必須",IF(NOT(IF(ISNUMBER(D23),AND(D23>=43831,D23<73051,D23=INT(D23)),FALSE())),"当初確認日は時刻なしで必須",IF(OR(B23>D23,D23>受注一覧!$H$3),"受注日≦当初確認日≦基準日を確認","確認済み"))))))),ISNUMBER(K23),K23=IF(J23="確認済み",0,1))),1,IF(K23<>0,0,IF(AND(ISNUMBER(E23),E23=IF(AND(B23>=受注一覧!$B$3,B23<=受注一覧!$E$3),1,0),ISNUMBER(F23),F23=COUNTIFS(変更記録!$A$8:$A$107,A23),ISTEXT(G23),G23=IF(F23=0,"未変更",IF(COUNTIFS(変更記録!$A$8:$A$107,A23,変更記録!$B$8:$B$107,F23,変更記録!$D$8:$D$107,"未確認")>0,"未確認",IF(COUNTIFS(変更記録!$A$8:$A$107,A23,変更記録!$B$8:$B$107,F23,変更記録!$D$8:$D$107,"取消")>0,"取消","変更"))),IF(G23="未確認",ISTEXT(H23),ISNUMBER(H23)),H23=IF(G23="未確認","",IF(F23=0,C23,SUMIFS(変更記録!$H$8:$H$107,変更記録!$A$8:$A$107,A23,変更記録!$B$8:$B$107,F23))),IF(G23="未確認",ISTEXT(I23),ISNUMBER(I23)),I23=IF(G23="未確認","",H23-C23),IF(F23=0,ISTEXT(M23),ISNUMBER(M23)),M23=IF(F23=0,"",SUMIFS(変更記録!$C$8:$C$107,変更記録!$A$8:$A$107,A23,変更記録!$B$8:$B$107,F23)),ISNUMBER(N23),N23=IF(F23=0,D23,SUMIFS(変更記録!$F$8:$F$107,変更記録!$A$8:$A$107,A23,変更記録!$B$8:$B$107,F23))),0,1)))) -> 0 | M23: =IF(J23="","",IF(K23<>0,NA(),IF(F23=0,"",SUMIFS(変更記録!$C$8:$C$107,変更記録!$A$8:$A$107,A23,変更記録!$B$8:$B$107,F23)))) | N23: =IF(J23="","",IF(K23<>0,NA(),IF(F23=0,D23,SUMIFS(変更記録!$F$8:$F$107,変更記録!$A$8:$A$107,A23,変更記録!$B$8:$B$107,F23))))
E24: =IF(J24="","",IF(K24<>0,NA(),IF(AND(B24>=受注一覧!$B$3,B24<=受注一覧!$E$3),1,0))) | F24: =IF(J24="","",IF(K24<>0,NA(),COUNTIFS(変更記録!$A$8:$A$107,A24))) | G24: =IF(J24="","",IF(K24<>0,NA(),IF(F24=0,"未変更",IF(COUNTIFS(変更記録!$A$8:$A$107,A24,変更記録!$B$8:$B$107,F24,変更記録!$D$8:$D$107,"未確認")>0,"未確認",IF(COUNTIFS(変更記録!$A$8:$A$107,A24,変更記録!$B$8:$B$107,F24,変更記録!$D$8:$D$107,"取消")>0,"取消","変更"))))) | H24: =IF(J24="","",IF(K24<>0,NA(),IF(G24="未確認","",IF(F24=0,C24,SUMIFS(変更記録!$H$8:$H$107,変更記録!$A$8:$A$107,A24,変更記録!$B$8:$B$107,F24))))) | I24: =IF(J24="","",IF(K24<>0,NA(),IF(G24="未確認","",H24-C24))) | J24: =IF(COUNTA(A24:D24)=0,"",IF(NOT(AND(ISTEXT(A24),LEN(A24)=8,EXACT(LEFT(A24,4),"ORD-"),ISNUMBER(FIND(MID(A24,5,1)&"x","0x1x2x3x4x5x6x7x8x9x")),ISNUMBER(FIND(MID(A24,6,1)&"x","0x1x2x3x4x5x6x7x8x9x")),ISNUMBER(FIND(MID(A24,7,1)&"x","0x1x2x3x4x5x6x7x8x9x")),ISNUMBER(FIND(MID(A24,8,1)&"x","0x1x2x3x4x5x6x7x8x9x")))),"IDはORD-と半角数字4桁",IF(COUNTIFS($A$8:$A$57,A24)>1,"受注IDが重複",IF(NOT(IF(ISNUMBER(B24),AND(B24>=43831,B24<73051,B24=INT(B24)),FALSE())),"当初受注日は時刻なしで必須",IF(NOT(IF(ISNUMBER(C24),AND(C24>=0,C24<=1000000000,C24=INT(C24)),FALSE())),"当初額は0〜10億円の整数で必須",IF(NOT(IF(ISNUMBER(D24),AND(D24>=43831,D24<73051,D24=INT(D24)),FALSE())),"当初確認日は時刻なしで必須",IF(OR(B24>D24,D24>受注一覧!$H$3),"受注日≦当初確認日≦基準日を確認","確認済み"))))))) | K24: =IF(J24="","",IF(J24="確認済み",0,1)) | L24: =IF(COUNTA(A24:D24)=0,IF(AND(J24="",K24="",E24="",F24="",G24="",H24="",I24="",M24="",N24=""),0,1),IF(NOT(AND(ISTEXT(J24),J24=IF(COUNTA(A24:D24)=0,"",IF(NOT(AND(ISTEXT(A24),LEN(A24)=8,EXACT(LEFT(A24,4),"ORD-"),ISNUMBER(FIND(MID(A24,5,1)&"x","0x1x2x3x4x5x6x7x8x9x")),ISNUMBER(FIND(MID(A24,6,1)&"x","0x1x2x3x4x5x6x7x8x9x")),ISNUMBER(FIND(MID(A24,7,1)&"x","0x1x2x3x4x5x6x7x8x9x")),ISNUMBER(FIND(MID(A24,8,1)&"x","0x1x2x3x4x5x6x7x8x9x")))),"IDはORD-と半角数字4桁",IF(COUNTIFS($A$8:$A$57,A24)>1,"受注IDが重複",IF(NOT(IF(ISNUMBER(B24),AND(B24>=43831,B24<73051,B24=INT(B24)),FALSE())),"当初受注日は時刻なしで必須",IF(NOT(IF(ISNUMBER(C24),AND(C24>=0,C24<=1000000000,C24=INT(C24)),FALSE())),"当初額は0〜10億円の整数で必須",IF(NOT(IF(ISNUMBER(D24),AND(D24>=43831,D24<73051,D24=INT(D24)),FALSE())),"当初確認日は時刻なしで必須",IF(OR(B24>D24,D24>受注一覧!$H$3),"受注日≦当初確認日≦基準日を確認","確認済み"))))))),ISNUMBER(K24),K24=IF(J24="確認済み",0,1))),1,IF(K24<>0,0,IF(AND(ISNUMBER(E24),E24=IF(AND(B24>=受注一覧!$B$3,B24<=受注一覧!$E$3),1,0),ISNUMBER(F24),F24=COUNTIFS(変更記録!$A$8:$A$107,A24),ISTEXT(G24),G24=IF(F24=0,"未変更",IF(COUNTIFS(変更記録!$A$8:$A$107,A24,変更記録!$B$8:$B$107,F24,変更記録!$D$8:$D$107,"未確認")>0,"未確認",IF(COUNTIFS(変更記録!$A$8:$A$107,A24,変更記録!$B$8:$B$107,F24,変更記録!$D$8:$D$107,"取消")>0,"取消","変更"))),IF(G24="未確認",ISTEXT(H24),ISNUMBER(H24)),H24=IF(G24="未確認","",IF(F24=0,C24,SUMIFS(変更記録!$H$8:$H$107,変更記録!$A$8:$A$107,A24,変更記録!$B$8:$B$107,F24))),IF(G24="未確認",ISTEXT(I24),ISNUMBER(I24)),I24=IF(G24="未確認","",H24-C24),IF(F24=0,ISTEXT(M24),ISNUMBER(M24)),M24=IF(F24=0,"",SUMIFS(変更記録!$C$8:$C$107,変更記録!$A$8:$A$107,A24,変更記録!$B$8:$B$107,F24)),ISNUMBER(N24),N24=IF(F24=0,D24,SUMIFS(変更記録!$F$8:$F$107,変更記録!$A$8:$A$107,A24,変更記録!$B$8:$B$107,F24))),0,1)))) -> 0 | M24: =IF(J24="","",IF(K24<>0,NA(),IF(F24=0,"",SUMIFS(変更記録!$C$8:$C$107,変更記録!$A$8:$A$107,A24,変更記録!$B$8:$B$107,F24)))) | N24: =IF(J24="","",IF(K24<>0,NA(),IF(F24=0,D24,SUMIFS(変更記録!$F$8:$F$107,変更記録!$A$8:$A$107,A24,変更記録!$B$8:$B$107,F24))))
E25: =IF(J25="","",IF(K25<>0,NA(),IF(AND(B25>=受注一覧!$B$3,B25<=受注一覧!$E$3),1,0))) | F25: =IF(J25="","",IF(K25<>0,NA(),COUNTIFS(変更記録!$A$8:$A$107,A25))) | G25: =IF(J25="","",IF(K25<>0,NA(),IF(F25=0,"未変更",IF(COUNTIFS(変更記録!$A$8:$A$107,A25,変更記録!$B$8:$B$107,F25,変更記録!$D$8:$D$107,"未確認")>0,"未確認",IF(COUNTIFS(変更記録!$A$8:$A$107,A25,変更記録!$B$8:$B$107,F25,変更記録!$D$8:$D$107,"取消")>0,"取消","変更"))))) | H25: =IF(J25="","",IF(K25<>0,NA(),IF(G25="未確認","",IF(F25=0,C25,SUMIFS(変更記録!$H$8:$H$107,変更記録!$A$8:$A$107,A25,変更記録!$B$8:$B$107,F25))))) | I25: =IF(J25="","",IF(K25<>0,NA(),IF(G25="未確認","",H25-C25))) | J25: =IF(COUNTA(A25:D25)=0,"",IF(NOT(AND(ISTEXT(A25),LEN(A25)=8,EXACT(LEFT(A25,4),"ORD-"),ISNUMBER(FIND(MID(A25,5,1)&"x","0x1x2x3x4x5x6x7x8x9x")),ISNUMBER(FIND(MID(A25,6,1)&"x","0x1x2x3x4x5x6x7x8x9x")),ISNUMBER(FIND(MID(A25,7,1)&"x","0x1x2x3x4x5x6x7x8x9x")),ISNUMBER(FIND(MID(A25,8,1)&"x","0x1x2x3x4x5x6x7x8x9x")))),"IDはORD-と半角数字4桁",IF(COUNTIFS($A$8:$A$57,A25)>1,"受注IDが重複",IF(NOT(IF(ISNUMBER(B25),AND(B25>=43831,B25<73051,B25=INT(B25)),FALSE())),"当初受注日は時刻なしで必須",IF(NOT(IF(ISNUMBER(C25),AND(C25>=0,C25<=1000000000,C25=INT(C25)),FALSE())),"当初額は0〜10億円の整数で必須",IF(NOT(IF(ISNUMBER(D25),AND(D25>=43831,D25<73051,D25=INT(D25)),FALSE())),"当初確認日は時刻なしで必須",IF(OR(B25>D25,D25>受注一覧!$H$3),"受注日≦当初確認日≦基準日を確認","確認済み"))))))) | K25: =IF(J25="","",IF(J25="確認済み",0,1)) | L25: =IF(COUNTA(A25:D25)=0,IF(AND(J25="",K25="",E25="",F25="",G25="",H25="",I25="",M25="",N25=""),0,1),IF(NOT(AND(ISTEXT(J25),J25=IF(COUNTA(A25:D25)=0,"",IF(NOT(AND(ISTEXT(A25),LEN(A25)=8,EXACT(LEFT(A25,4),"ORD-"),ISNUMBER(FIND(MID(A25,5,1)&"x","0x1x2x3x4x5x6x7x8x9x")),ISNUMBER(FIND(MID(A25,6,1)&"x","0x1x2x3x4x5x6x7x8x9x")),ISNUMBER(FIND(MID(A25,7,1)&"x","0x1x2x3x4x5x6x7x8x9x")),ISNUMBER(FIND(MID(A25,8,1)&"x","0x1x2x3x4x5x6x7x8x9x")))),"IDはORD-と半角数字4桁",IF(COUNTIFS($A$8:$A$57,A25)>1,"受注IDが重複",IF(NOT(IF(ISNUMBER(B25),AND(B25>=43831,B25<73051,B25=INT(B25)),FALSE())),"当初受注日は時刻なしで必須",IF(NOT(IF(ISNUMBER(C25),AND(C25>=0,C25<=1000000000,C25=INT(C25)),FALSE())),"当初額は0〜10億円の整数で必須",IF(NOT(IF(ISNUMBER(D25),AND(D25>=43831,D25<73051,D25=INT(D25)),FALSE())),"当初確認日は時刻なしで必須",IF(OR(B25>D25,D25>受注一覧!$H$3),"受注日≦当初確認日≦基準日を確認","確認済み"))))))),ISNUMBER(K25),K25=IF(J25="確認済み",0,1))),1,IF(K25<>0,0,IF(AND(ISNUMBER(E25),E25=IF(AND(B25>=受注一覧!$B$3,B25<=受注一覧!$E$3),1,0),ISNUMBER(F25),F25=COUNTIFS(変更記録!$A$8:$A$107,A25),ISTEXT(G25),G25=IF(F25=0,"未変更",IF(COUNTIFS(変更記録!$A$8:$A$107,A25,変更記録!$B$8:$B$107,F25,変更記録!$D$8:$D$107,"未確認")>0,"未確認",IF(COUNTIFS(変更記録!$A$8:$A$107,A25,変更記録!$B$8:$B$107,F25,変更記録!$D$8:$D$107,"取消")>0,"取消","変更"))),IF(G25="未確認",ISTEXT(H25),ISNUMBER(H25)),H25=IF(G25="未確認","",IF(F25=0,C25,SUMIFS(変更記録!$H$8:$H$107,変更記録!$A$8:$A$107,A25,変更記録!$B$8:$B$107,F25))),IF(G25="未確認",ISTEXT(I25),ISNUMBER(I25)),I25=IF(G25="未確認","",H25-C25),IF(F25=0,ISTEXT(M25),ISNUMBER(M25)),M25=IF(F25=0,"",SUMIFS(変更記録!$C$8:$C$107,変更記録!$A$8:$A$107,A25,変更記録!$B$8:$B$107,F25)),ISNUMBER(N25),N25=IF(F25=0,D25,SUMIFS(変更記録!$F$8:$F$107,変更記録!$A$8:$A$107,A25,変更記録!$B$8:$B$107,F25))),0,1)))) -> 0 | M25: =IF(J25="","",IF(K25<>0,NA(),IF(F25=0,"",SUMIFS(変更記録!$C$8:$C$107,変更記録!$A$8:$A$107,A25,変更記録!$B$8:$B$107,F25)))) | N25: =IF(J25="","",IF(K25<>0,NA(),IF(F25=0,D25,SUMIFS(変更記録!$F$8:$F$107,変更記録!$A$8:$A$107,A25,変更記録!$B$8:$B$107,F25))))
E26: =IF(J26="","",IF(K26<>0,NA(),IF(AND(B26>=受注一覧!$B$3,B26<=受注一覧!$E$3),1,0))) | F26: =IF(J26="","",IF(K26<>0,NA(),COUNTIFS(変更記録!$A$8:$A$107,A26))) | G26: =IF(J26="","",IF(K26<>0,NA(),IF(F26=0,"未変更",IF(COUNTIFS(変更記録!$A$8:$A$107,A26,変更記録!$B$8:$B$107,F26,変更記録!$D$8:$D$107,"未確認")>0,"未確認",IF(COUNTIFS(変更記録!$A$8:$A$107,A26,変更記録!$B$8:$B$107,F26,変更記録!$D$8:$D$107,"取消")>0,"取消","変更"))))) | H26: =IF(J26="","",IF(K26<>0,NA(),IF(G26="未確認","",IF(F26=0,C26,SUMIFS(変更記録!$H$8:$H$107,変更記録!$A$8:$A$107,A26,変更記録!$B$8:$B$107,F26))))) | I26: =IF(J26="","",IF(K26<>0,NA(),IF(G26="未確認","",H26-C26))) | J26: =IF(COUNTA(A26:D26)=0,"",IF(NOT(AND(ISTEXT(A26),LEN(A26)=8,EXACT(LEFT(A26,4),"ORD-"),ISNUMBER(FIND(MID(A26,5,1)&"x","0x1x2x3x4x5x6x7x8x9x")),ISNUMBER(FIND(MID(A26,6,1)&"x","0x1x2x3x4x5x6x7x8x9x")),ISNUMBER(FIND(MID(A26,7,1)&"x","0x1x2x3x4x5x6x7x8x9x")),ISNUMBER(FIND(MID(A26,8,1)&"x","0x1x2x3x4x5x6x7x8x9x")))),"IDはORD-と半角数字4桁",IF(COUNTIFS($A$8:$A$57,A26)>1,"受注IDが重複",IF(NOT(IF(ISNUMBER(B26),AND(B26>=43831,B26<73051,B26=INT(B26)),FALSE())),"当初受注日は時刻なしで必須",IF(NOT(IF(ISNUMBER(C26),AND(C26>=0,C26<=1000000000,C26=INT(C26)),FALSE())),"当初額は0〜10億円の整数で必須",IF(NOT(IF(ISNUMBER(D26),AND(D26>=43831,D26<73051,D26=INT(D26)),FALSE())),"当初確認日は時刻なしで必須",IF(OR(B26>D26,D26>受注一覧!$H$3),"受注日≦当初確認日≦基準日を確認","確認済み"))))))) | K26: =IF(J26="","",IF(J26="確認済み",0,1)) | L26: =IF(COUNTA(A26:D26)=0,IF(AND(J26="",K26="",E26="",F26="",G26="",H26="",I26="",M26="",N26=""),0,1),IF(NOT(AND(ISTEXT(J26),J26=IF(COUNTA(A26:D26)=0,"",IF(NOT(AND(ISTEXT(A26),LEN(A26)=8,EXACT(LEFT(A26,4),"ORD-"),ISNUMBER(FIND(MID(A26,5,1)&"x","0x1x2x3x4x5x6x7x8x9x")),ISNUMBER(FIND(MID(A26,6,1)&"x","0x1x2x3x4x5x6x7x8x9x")),ISNUMBER(FIND(MID(A26,7,1)&"x","0x1x2x3x4x5x6x7x8x9x")),ISNUMBER(FIND(MID(A26,8,1)&"x","0x1x2x3x4x5x6x7x8x9x")))),"IDはORD-と半角数字4桁",IF(COUNTIFS($A$8:$A$57,A26)>1,"受注IDが重複",IF(NOT(IF(ISNUMBER(B26),AND(B26>=43831,B26<73051,B26=INT(B26)),FALSE())),"当初受注日は時刻なしで必須",IF(NOT(IF(ISNUMBER(C26),AND(C26>=0,C26<=1000000000,C26=INT(C26)),FALSE())),"当初額は0〜10億円の整数で必須",IF(NOT(IF(ISNUMBER(D26),AND(D26>=43831,D26<73051,D26=INT(D26)),FALSE())),"当初確認日は時刻なしで必須",IF(OR(B26>D26,D26>受注一覧!$H$3),"受注日≦当初確認日≦基準日を確認","確認済み"))))))),ISNUMBER(K26),K26=IF(J26="確認済み",0,1))),1,IF(K26<>0,0,IF(AND(ISNUMBER(E26),E26=IF(AND(B26>=受注一覧!$B$3,B26<=受注一覧!$E$3),1,0),ISNUMBER(F26),F26=COUNTIFS(変更記録!$A$8:$A$107,A26),ISTEXT(G26),G26=IF(F26=0,"未変更",IF(COUNTIFS(変更記録!$A$8:$A$107,A26,変更記録!$B$8:$B$107,F26,変更記録!$D$8:$D$107,"未確認")>0,"未確認",IF(COUNTIFS(変更記録!$A$8:$A$107,A26,変更記録!$B$8:$B$107,F26,変更記録!$D$8:$D$107,"取消")>0,"取消","変更"))),IF(G26="未確認",ISTEXT(H26),ISNUMBER(H26)),H26=IF(G26="未確認","",IF(F26=0,C26,SUMIFS(変更記録!$H$8:$H$107,変更記録!$A$8:$A$107,A26,変更記録!$B$8:$B$107,F26))),IF(G26="未確認",ISTEXT(I26),ISNUMBER(I26)),I26=IF(G26="未確認","",H26-C26),IF(F26=0,ISTEXT(M26),ISNUMBER(M26)),M26=IF(F26=0,"",SUMIFS(変更記録!$C$8:$C$107,変更記録!$A$8:$A$107,A26,変更記録!$B$8:$B$107,F26)),ISNUMBER(N26),N26=IF(F26=0,D26,SUMIFS(変更記録!$F$8:$F$107,変更記録!$A$8:$A$107,A26,変更記録!$B$8:$B$107,F26))),0,1)))) -> 0 | M26: =IF(J26="","",IF(K26<>0,NA(),IF(F26=0,"",SUMIFS(変更記録!$C$8:$C$107,変更記録!$A$8:$A$107,A26,変更記録!$B$8:$B$107,F26)))) | N26: =IF(J26="","",IF(K26<>0,NA(),IF(F26=0,D26,SUMIFS(変更記録!$F$8:$F$107,変更記録!$A$8:$A$107,A26,変更記録!$B$8:$B$107,F26))))
E27: =IF(J27="","",IF(K27<>0,NA(),IF(AND(B27>=受注一覧!$B$3,B27<=受注一覧!$E$3),1,0))) | F27: =IF(J27="","",IF(K27<>0,NA(),COUNTIFS(変更記録!$A$8:$A$107,A27))) | G27: =IF(J27="","",IF(K27<>0,NA(),IF(F27=0,"未変更",IF(COUNTIFS(変更記録!$A$8:$A$107,A27,変更記録!$B$8:$B$107,F27,変更記録!$D$8:$D$107,"未確認")>0,"未確認",IF(COUNTIFS(変更記録!$A$8:$A$107,A27,変更記録!$B$8:$B$107,F27,変更記録!$D$8:$D$107,"取消")>0,"取消","変更"))))) | H27: =IF(J27="","",IF(K27<>0,NA(),IF(G27="未確認","",IF(F27=0,C27,SUMIFS(変更記録!$H$8:$H$107,変更記録!$A$8:$A$107,A27,変更記録!$B$8:$B$107,F27))))) | I27: =IF(J27="","",IF(K27<>0,NA(),IF(G27="未確認","",H27-C27))) | J27: =IF(COUNTA(A27:D27)=0,"",IF(NOT(AND(ISTEXT(A27),LEN(A27)=8,EXACT(LEFT(A27,4),"ORD-"),ISNUMBER(FIND(MID(A27,5,1)&"x","0x1x2x3x4x5x6x7x8x9x")),ISNUMBER(FIND(MID(A27,6,1)&"x","0x1x2x3x4x5x6x7x8x9x")),ISNUMBER(FIND(MID(A27,7,1)&"x","0x1x2x3x4x5x6x7x8x9x")),ISNUMBER(FIND(MID(A27,8,1)&"x","0x1x2x3x4x5x6x7x8x9x")))),"IDはORD-と半角数字4桁",IF(COUNTIFS($A$8:$A$57,A27)>1,"受注IDが重複",IF(NOT(IF(ISNUMBER(B27),AND(B27>=43831,B27<73051,B27=INT(B27)),FALSE())),"当初受注日は時刻なしで必須",IF(NOT(IF(ISNUMBER(C27),AND(C27>=0,C27<=1000000000,C27=INT(C27)),FALSE())),"当初額は0〜10億円の整数で必須",IF(NOT(IF(ISNUMBER(D27),AND(D27>=43831,D27<73051,D27=INT(D27)),FALSE())),"当初確認日は時刻なしで必須",IF(OR(B27>D27,D27>受注一覧!$H$3),"受注日≦当初確認日≦基準日を確認","確認済み"))))))) | K27: =IF(J27="","",IF(J27="確認済み",0,1)) | L27: =IF(COUNTA(A27:D27)=0,IF(AND(J27="",K27="",E27="",F27="",G27="",H27="",I27="",M27="",N27=""),0,1),IF(NOT(AND(ISTEXT(J27),J27=IF(COUNTA(A27:D27)=0,"",IF(NOT(AND(ISTEXT(A27),LEN(A27)=8,EXACT(LEFT(A27,4),"ORD-"),ISNUMBER(FIND(MID(A27,5,1)&"x","0x1x2x3x4x5x6x7x8x9x")),ISNUMBER(FIND(MID(A27,6,1)&"x","0x1x2x3x4x5x6x7x8x9x")),ISNUMBER(FIND(MID(A27,7,1)&"x","0x1x2x3x4x5x6x7x8x9x")),ISNUMBER(FIND(MID(A27,8,1)&"x","0x1x2x3x4x5x6x7x8x9x")))),"IDはORD-と半角数字4桁",IF(COUNTIFS($A$8:$A$57,A27)>1,"受注IDが重複",IF(NOT(IF(ISNUMBER(B27),AND(B27>=43831,B27<73051,B27=INT(B27)),FALSE())),"当初受注日は時刻なしで必須",IF(NOT(IF(ISNUMBER(C27),AND(C27>=0,C27<=1000000000,C27=INT(C27)),FALSE())),"当初額は0〜10億円の整数で必須",IF(NOT(IF(ISNUMBER(D27),AND(D27>=43831,D27<73051,D27=INT(D27)),FALSE())),"当初確認日は時刻なしで必須",IF(OR(B27>D27,D27>受注一覧!$H$3),"受注日≦当初確認日≦基準日を確認","確認済み"))))))),ISNUMBER(K27),K27=IF(J27="確認済み",0,1))),1,IF(K27<>0,0,IF(AND(ISNUMBER(E27),E27=IF(AND(B27>=受注一覧!$B$3,B27<=受注一覧!$E$3),1,0),ISNUMBER(F27),F27=COUNTIFS(変更記録!$A$8:$A$107,A27),ISTEXT(G27),G27=IF(F27=0,"未変更",IF(COUNTIFS(変更記録!$A$8:$A$107,A27,変更記録!$B$8:$B$107,F27,変更記録!$D$8:$D$107,"未確認")>0,"未確認",IF(COUNTIFS(変更記録!$A$8:$A$107,A27,変更記録!$B$8:$B$107,F27,変更記録!$D$8:$D$107,"取消")>0,"取消","変更"))),IF(G27="未確認",ISTEXT(H27),ISNUMBER(H27)),H27=IF(G27="未確認","",IF(F27=0,C27,SUMIFS(変更記録!$H$8:$H$107,変更記録!$A$8:$A$107,A27,変更記録!$B$8:$B$107,F27))),IF(G27="未確認",ISTEXT(I27),ISNUMBER(I27)),I27=IF(G27="未確認","",H27-C27),IF(F27=0,ISTEXT(M27),ISNUMBER(M27)),M27=IF(F27=0,"",SUMIFS(変更記録!$C$8:$C$107,変更記録!$A$8:$A$107,A27,変更記録!$B$8:$B$107,F27)),ISNUMBER(N27),N27=IF(F27=0,D27,SUMIFS(変更記録!$F$8:$F$107,変更記録!$A$8:$A$107,A27,変更記録!$B$8:$B$107,F27))),0,1)))) -> 0 | M27: =IF(J27="","",IF(K27<>0,NA(),IF(F27=0,"",SUMIFS(変更記録!$C$8:$C$107,変更記録!$A$8:$A$107,A27,変更記録!$B$8:$B$107,F27)))) | N27: =IF(J27="","",IF(K27<>0,NA(),IF(F27=0,D27,SUMIFS(変更記録!$F$8:$F$107,変更記録!$A$8:$A$107,A27,変更記録!$B$8:$B$107,F27))))
... E57: =IF(J57="","",IF(K57<>0,NA(),IF(AND(B57>=受注一覧!$B$3,B57<=受注一覧!$E$3),1,0))) | F57: =IF(J57="","",IF(K57<>0,NA(),COUNTIFS(変更記録!$A$8:$A$107,A57))) | G57: =IF(J57="","",IF(K57<>0,NA(),IF(F57=0,"未変更",IF(COUNTIFS(変更記録!$A$8:$A$107,A57,変更記録!$B$8:$B$107,F57,変更記録!$D$8:$D$107,"未確認")>0,"未確認",IF(COUNTIFS(変更記録!$A$8:$A$107,A57,変更記録!$B$8:$B$107,F57,変更記録!$D$8:$D$107,"取消")>0,"取消","変更"))))) | H57: =IF(J57="","",IF(K57<>0,NA(),IF(G57="未確認","",IF(F57=0,C57,SUMIFS(変更記録!$H$8:$H$107,変更記録!$A$8:$A$107,A57,変更記録!$B$8:$B$107,F57))))) | I57: =IF(J57="","",IF(K57<>0,NA(),IF(G57="未確認","",H57-C57))) | J57: =IF(COUNTA(A57:D57)=0,"",IF(NOT(AND(ISTEXT(A57),LEN(A57)=8,EXACT(LEFT(A57,4),"ORD-"),ISNUMBER(FIND(MID(A57,5,1)&"x","0x1x2x3x4x5x6x7x8x9x")),ISNUMBER(FIND(MID(A57,6,1)&"x","0x1x2x3x4x5x6x7x8x9x")),ISNUMBER(FIND(MID(A57,7,1)&"x","0x1x2x3x4x5x6x7x8x9x")),ISNUMBER(FIND(MID(A57,8,1)&"x","0x1x2x3x4x5x6x7x8x9x")))),"IDはORD-と半角数字4桁",IF(COUNTIFS($A$8:$A$57,A57)>1,"受注IDが重複",IF(NOT(IF(ISNUMBER(B57),AND(B57>=43831,B57<73051,B57=INT(B57)),FALSE())),"当初受注日は時刻なしで必須",IF(NOT(IF(ISNUMBER(C57),AND(C57>=0,C57<=1000000000,C57=INT(C57)),FALSE())),"当初額は0〜10億円の整数で必須",IF(NOT(IF(ISNUMBER(D57),AND(D57>=43831,D57<73051,D57=INT(D57)),FALSE())),"当初確認日は時刻なしで必須",IF(OR(B57>D57,D57>受注一覧!$H$3),"受注日≦当初確認日≦基準日を確認","確認済み"))))))) | K57: =IF(J57="","",IF(J57="確認済み",0,1)) | L57: =IF(COUNTA(A57:D57)=0,IF(AND(J57="",K57="",E57="",F57="",G57="",H57="",I57="",M57="",N57=""),0,1),IF(NOT(AND(ISTEXT(J57),J57=IF(COUNTA(A57:D57)=0,"",IF(NOT(AND(ISTEXT(A57),LEN(A57)=8,EXACT(LEFT(A57,4),"ORD-"),ISNUMBER(FIND(MID(A57,5,1)&"x","0x1x2x3x4x5x6x7x8x9x")),ISNUMBER(FIND(MID(A57,6,1)&"x","0x1x2x3x4x5x6x7x8x9x")),ISNUMBER(FIND(MID(A57,7,1)&"x","0x1x2x3x4x5x6x7x8x9x")),ISNUMBER(FIND(MID(A57,8,1)&"x","0x1x2x3x4x5x6x7x8x9x")))),"IDはORD-と半角数字4桁",IF(COUNTIFS($A$8:$A$57,A57)>1,"受注IDが重複",IF(NOT(IF(ISNUMBER(B57),AND(B57>=43831,B57<73051,B57=INT(B57)),FALSE())),"当初受注日は時刻なしで必須",IF(NOT(IF(ISNUMBER(C57),AND(C57>=0,C57<=1000000000,C57=INT(C57)),FALSE())),"当初額は0〜10億円の整数で必須",IF(NOT(IF(ISNUMBER(D57),AND(D57>=43831,D57<73051,D57=INT(D57)),FALSE())),"当初確認日は時刻なしで必須",IF(OR(B57>D57,D57>受注一覧!$H$3),"受注日≦当初確認日≦基準日を確認","確認済み"))))))),ISNUMBER(K57),K57=IF(J57="確認済み",0,1))),1,IF(K57<>0,0,IF(AND(ISNUMBER(E57),E57=IF(AND(B57>=受注一覧!$B$3,B57<=受注一覧!$E$3),1,0),ISNUMBER(F57),F57=COUNTIFS(変更記録!$A$8:$A$107,A57),ISTEXT(G57),G57=IF(F57=0,"未変更",IF(COUNTIFS(変更記録!$A$8:$A$107,A57,変更記録!$B$8:$B$107,F57,変更記録!$D$8:$D$107,"未確認")>0,"未確認",IF(COUNTIFS(変更記録!$A$8:$A$107,A57,変更記録!$B$8:$B$107,F57,変更記録!$D$8:$D$107,"取消")>0,"取消","変更"))),IF(G57="未確認",ISTEXT(H57),ISNUMBER(H57)),H57=IF(G57="未確認","",IF(F57=0,C57,SUMIFS(変更記録!$H$8:$H$107,変更記録!$A$8:$A$107,A57,変更記録!$B$8:$B$107,F57))),IF(G57="未確認",ISTEXT(I57),ISNUMBER(I57)),I57=IF(G57="未確認","",H57-C57),IF(F57=0,ISTEXT(M57),ISNUMBER(M57)),M57=IF(F57=0,"",SUMIFS(変更記録!$C$8:$C$107,変更記録!$A$8:$A$107,A57,変更記録!$B$8:$B$107,F57)),ISNUMBER(N57),N57=IF(F57=0,D57,SUMIFS(変更記録!$F$8:$F$107,変更記録!$A$8:$A$107,A57,変更記録!$B$8:$B$107,F57))),0,1)))) -> 0 | M57: =IF(J57="","",IF(K57<>0,NA(),IF(F57=0,"",SUMIFS(変更記録!$C$8:$C$107,変更記録!$A$8:$A$107,A57,変更記録!$B$8:$B$107,F57)))) | N57: =IF(J57="","",IF(K57<>0,NA(),IF(F57=0,D57,SUMIFS(変更記録!$F$8:$F$107,変更記録!$A$8:$A$107,A57,変更記録!$B$8:$B$107,F57))))
A61: 架空教材。50受注・変更100件。受注開始日≦受注終了日≦確認基準日。全日付2020〜2099年。
A62: 当初受注A〜Dは元資料を確認して入力。変更は別シートに残し、当初額を上書きしません。
A63: 変更記録A〜Fは1行1変更。受注ID/版の組合せが一意、受注ごとに版1から欠番なし。行順は問いません。
A64: 変更後総額を入力します。増減額ではありません。取消/未確認の金額は空欄。実際の0円と未確認は別。
A65: 確認済の取消後に再開版は足せません。別受注なら別IDと原本。未確認は根拠を残して同じ版を解消。
A66: 版順に変更発生日・確認日は逆行不可。変更日≦確認日≦基準日。当初受注日より前の変更は不可。
A67: 対象は当初受注日が期間内の注文。期間外受注の期間内変更を新規受注へ加えません。
A68: 対象終了日より後でも、基準日までに確認した変更を反映。期間中の受注増減実績とは違います。
A69: 現在額は最終版の総額、取消は0円。対象に未確認があれば現在額合計と増減合計を判定保留。
A70: 確認済小計には未確認を含めません。対象外の未確認は対象合計を保留しません。不備は全体停止。
A71: 過去時点の復元・版の自動採番/自動保存/改ざん防止はありません。原本/理由/根拠は別管理。
A72: 受注は売上計上・請求・入金ではありません。税/会計・分納/返品/納期/商品別・CRM連携はありません。
... A75: https://support.microsoft.com/en-us/excel/functions/countifs-function https://support.microsoft.com/en-us/excel/functions/sumif-function

Sheet 変更記録
A2: 変更・取消を当初受注とは別に残す
A3: 黄色A〜Fへ100記録。受注ごと版1から連番。変更額は増減額でなく、変更後の総額です。
A5: 取消/未確認の金額は空欄。取消・未確認の後に別版を追加しません。未確認は根拠確認後に解消します。
A7: 受注ID | B7: 変更版（1〜100） | C7: 変更発生日 | D7: 区分 | E7: 変更後総額（円） | F7: 記録確認日 | G7: 最終版か | H7: 反映額（円） | I7: 予備（編集不要） | J7: 入力の確認 | K7: 入力不備 | L7: 計算の前提
A8: ORD-0001 | B8: 1 | C8: 46305 | D8: 変更 | E8: 120000 | F8: 46306 | G8: =IF(J8="","",IF(K8<>0,NA(),IF(COUNTIFS($A$8:$A$107,A8,$B$8:$B$107,">"&B8)=0,1,0))) -> 0 | H8: =IF(J8="","",IF(K8<>0,NA(),IF(D8="変更",E8,IF(D8="取消",0,"")))) -> 120000 | J8: =IF(COUNTA(A8:F8)=0,"",IF(NOT(AND(ISTEXT(A8),LEN(A8)=8,EXACT(LEFT(A8,4),"ORD-"),ISNUMBER(FIND(MID(A8,5,1)&"x","0x1x2x3x4x5x6x7x8x9x")),ISNUMBER(FIND(MID(A8,6,1)&"x","0x1x2x3x4x5x6x7x8x9x")),ISNUMBER(FIND(MID(A8,7,1)&"x","0x1x2x3x4x5x6x7x8x9x")),ISNUMBER(FIND(MID(A8,8,1)&"x","0x1x2x3x4x5x6x7x8x9x")))),"IDはORD-と半角数字4桁",IF(COUNTIFS(当初受注!$A$8:$A$57,A8)<>1,"当初受注が一意に登録されていません",IF(NOT(IF(ISNUMBER(B8),AND(B8>=1,B8<=100,B8=INT(B8)),FALSE())),"変更版は1〜100の整数で必須",IF(COUNTIFS($A$8:$A$107,A8,$B$8:$B$107,B8)>1,"同じ受注の変更版が重複",IF(AND(B8>1,COUNTIFS($A$8:$A$107,A8,$B$8:$B$107,B8-1)<>1),"変更版の連番が欠落",IF(NOT(IF(ISNUMBER(C8),AND(C8>=43831,C8<73051,C8=INT(C8)),FALSE())),"変更発生日は時刻なしで必須",IF(NOT(OR(D8="変更",D8="取消",D8="未確認")),"区分を確認",IF(AND(D8="変更",NOT(IF(ISNUMBER(E8),AND(E8>=0,E8<=1000000000,E8=INT(E8)),FALSE()))),"変更後総額は0〜10億円の整数で必須",IF(AND(D8<>"変更",COUNTA(E8)>0),"取消/未確認の金額は空欄",IF(NOT(IF(ISNUMBER(F8),AND(F8>=43831,F8<73051,F8=INT(F8)),FALSE())),"記録確認日は時刻なしで必須",IF(OR(C8<SUMIFS(当初受注!$B$8:$B$57,当初受注!$A$8:$A$57,A8),C8>F8,F8>受注一覧!$H$3),"受注日≦変更日≦確認日≦基準日を確認",IF(AND(B8>1,OR(C8<SUMIFS($C$8:$C$107,$A$8:$A$107,A8,$B$8:$B$107,B8-1),F8<SUMIFS($F$8:$F$107,$A$8:$A$107,A8,$B$8:$B$107,B8-1))),"前版より日付が逆行しています",IF(COUNTIFS($A$8:$A$107,A8,$B$8:$B$107,"<"&B8,$D$8:$D$107,"取消")+COUNTIFS($A$8:$A$107,A8,$B$8:$B$107,"<"&B8,$D$8:$D$107,"未確認")>0,"取消/未確認の後へ別版を追加できません","確認済み")))))))))))))) -> 確認済み | K8: =IF(J8="","",IF(J8="確認済み",0,1)) -> 0 | L8: =IF(COUNTA(A8:F8)=0,IF(AND(J8="",K8="",G8="",H8=""),0,1),IF(NOT(AND(ISTEXT(J8),J8=IF(COUNTA(A8:F8)=0,"",IF(NOT(AND(ISTEXT(A8),LEN(A8)=8,EXACT(LEFT(A8,4),"ORD-"),ISNUMBER(FIND(MID(A8,5,1)&"x","0x1x2x3x4x5x6x7x8x9x")),ISNUMBER(FIND(MID(A8,6,1)&"x","0x1x2x3x4x5x6x7x8x9x")),ISNUMBER(FIND(MID(A8,7,1)&"x","0x1x2x3x4x5x6x7x8x9x")),ISNUMBER(FIND(MID(A8,8,1)&"x","0x1x2x3x4x5x6x7x8x9x")))),"IDはORD-と半角数字4桁",IF(COUNTIFS(当初受注!$A$8:$A$57,A8)<>1,"当初受注が一意に登録されていません",IF(NOT(IF(ISNUMBER(B8),AND(B8>=1,B8<=100,B8=INT(B8)),FALSE())),"変更版は1〜100の整数で必須",IF(COUNTIFS($A$8:$A$107,A8,$B$8:$B$107,B8)>1,"同じ受注の変更版が重複",IF(AND(B8>1,COUNTIFS($A$8:$A$107,A8,$B$8:$B$107,B8-1)<>1),"変更版の連番が欠落",IF(NOT(IF(ISNUMBER(C8),AND(C8>=43831,C8<73051,C8=INT(C8)),FALSE())),"変更発生日は時刻なしで必須",IF(NOT(OR(D8="変更",D8="取消",D8="未確認")),"区分を確認",IF(AND(D8="変更",NOT(IF(ISNUMBER(E8),AND(E8>=0,E8<=1000000000,E8=INT(E8)),FALSE()))),"変更後総額は0〜10億円の整数で必須",IF(AND(D8<>"変更",COUNTA(E8)>0),"取消/未確認の金額は空欄",IF(NOT(IF(ISNUMBER(F8),AND(F8>=43831,F8<73051,F8=INT(F8)),FALSE())),"記録確認日は時刻なしで必須",IF(OR(C8<SUMIFS(当初受注!$B$8:$B$57,当初受注!$A$8:$A$57,A8),C8>F8,F8>受注一覧!$H$3),"受注日≦変更日≦確認日≦基準日を確認",IF(AND(B8>1,OR(C8<SUMIFS($C$8:$C$107,$A$8:$A$107,A8,$B$8:$B$107,B8-1),F8<SUMIFS($F$8:$F$107,$A$8:$A$107,A8,$B$8:$B$107,B8-1))),"前版より日付が逆行しています",IF(COUNTIFS($A$8:$A$107,A8,$B$8:$B$107,"<"&B8,$D$8:$D$107,"取消")+COUNTIFS($A$8:$A$107,A8,$B$8:$B$107,"<"&B8,$D$8:$D$107,"未確認")>0,"取消/未確認の後へ別版を追加できません","確認済み")))))))))))))),ISNUMBER(K8),K8=IF(J8="確認済み",0,1))),1,IF(K8<>0,0,IF(AND(ISNUMBER(G8),G8=IF(COUNTIFS($A$8:$A$107,A8,$B$8:$B$107,">"&B8)=0,1,0),IF(D8="未確認",ISTEXT(H8),ISNUMBER(H8)),H8=IF(D8="変更",E8,IF(D8="取消",0,""))),0,1)))) -> 0
A9: ORD-0001 | B9: 2 | C9: 46310 | D9: 変更 | E9: 90000 | F9: 46311 | G9: =IF(J9="","",IF(K9<>0,NA(),IF(COUNTIFS($A$8:$A$107,A9,$B$8:$B$107,">"&B9)=0,1,0))) -> 1 | H9: =IF(J9="","",IF(K9<>0,NA(),IF(D9="変更",E9,IF(D9="取消",0,"")))) -> 90000 | J9: =IF(COUNTA(A9:F9)=0,"",IF(NOT(AND(ISTEXT(A9),LEN(A9)=8,EXACT(LEFT(A9,4),"ORD-"),ISNUMBER(FIND(MID(A9,5,1)&"x","0x1x2x3x4x5x6x7x8x9x")),ISNUMBER(FIND(MID(A9,6,1)&"x","0x1x2x3x4x5x6x7x8x9x")),ISNUMBER(FIND(MID(A9,7,1)&"x","0x1x2x3x4x5x6x7x8x9x")),ISNUMBER(FIND(MID(A9,8,1)&"x","0x1x2x3x4x5x6x7x8x9x")))),"IDはORD-と半角数字4桁",IF(COUNTIFS(当初受注!$A$8:$A$57,A9)<>1,"当初受注が一意に登録されていません",IF(NOT(IF(ISNUMBER(B9),AND(B9>=1,B9<=100,B9=INT(B9)),FALSE())),"変更版は1〜100の整数で必須",IF(COUNTIFS($A$8:$A$107,A9,$B$8:$B$107,B9)>1,"同じ受注の変更版が重複",IF(AND(B9>1,COUNTIFS($A$8:$A$107,A9,$B$8:$B$107,B9-1)<>1),"変更版の連番が欠落",IF(NOT(IF(ISNUMBER(C9),AND(C9>=43831,C9<73051,C9=INT(C9)),FALSE())),"変更発生日は時刻なしで必須",IF(NOT(OR(D9="変更",D9="取消",D9="未確認")),"区分を確認",IF(AND(D9="変更",NOT(IF(ISNUMBER(E9),AND(E9>=0,E9<=1000000000,E9=INT(E9)),FALSE()))),"変更後総額は0〜10億円の整数で必須",IF(AND(D9<>"変更",COUNTA(E9)>0),"取消/未確認の金額は空欄",IF(NOT(IF(ISNUMBER(F9),AND(F9>=43831,F9<73051,F9=INT(F9)),FALSE())),"記録確認日は時刻なしで必須",IF(OR(C9<SUMIFS(当初受注!$B$8:$B$57,当初受注!$A$8:$A$57,A9),C9>F9,F9>受注一覧!$H$3),"受注日≦変更日≦確認日≦基準日を確認",IF(AND(B9>1,OR(C9<SUMIFS($C$8:$C$107,$A$8:$A$107,A9,$B$8:$B$107,B9-1),F9<SUMIFS($F$8:$F$107,$A$8:$A$107,A9,$B$8:$B$107,B9-1))),"前版より日付が逆行しています",IF(COUNTIFS($A$8:$A$107,A9,$B$8:$B$107,"<"&B9,$D$8:$D$107,"取消")+COUNTIFS($A$8:$A$107,A9,$B$8:$B$107,"<"&B9,$D$8:$D$107,"未確認")>0,"取消/未確認の後へ別版を追加できません","確認済み")))))))))))))) -> 確認済み | K9: =IF(J9="","",IF(J9="確認済み",0,1)) -> 0 | L9: =IF(COUNTA(A9:F9)=0,IF(AND(J9="",K9="",G9="",H9=""),0,1),IF(NOT(AND(ISTEXT(J9),J9=IF(COUNTA(A9:F9)=0,"",IF(NOT(AND(ISTEXT(A9),LEN(A9)=8,EXACT(LEFT(A9,4),"ORD-"),ISNUMBER(FIND(MID(A9,5,1)&"x","0x1x2x3x4x5x6x7x8x9x")),ISNUMBER(FIND(MID(A9,6,1)&"x","0x1x2x3x4x5x6x7x8x9x")),ISNUMBER(FIND(MID(A9,7,1)&"x","0x1x2x3x4x5x6x7x8x9x")),ISNUMBER(FIND(MID(A9,8,1)&"x","0x1x2x3x4x5x6x7x8x9x")))),"IDはORD-と半角数字4桁",IF(COUNTIFS(当初受注!$A$8:$A$57,A9)<>1,"当初受注が一意に登録されていません",IF(NOT(IF(ISNUMBER(B9),AND(B9>=1,B9<=100,B9=INT(B9)),FALSE())),"変更版は1〜100の整数で必須",IF(COUNTIFS($A$8:$A$107,A9,$B$8:$B$107,B9)>1,"同じ受注の変更版が重複",IF(AND(B9>1,COUNTIFS($A$8:$A$107,A9,$B$8:$B$107,B9-1)<>1),"変更版の連番が欠落",IF(NOT(IF(ISNUMBER(C9),AND(C9>=43831,C9<73051,C9=INT(C9)),FALSE())),"変更発生日は時刻なしで必須",IF(NOT(OR(D9="変更",D9="取消",D9="未確認")),"区分を確認",IF(AND(D9="変更",NOT(IF(ISNUMBER(E9),AND(E9>=0,E9<=1000000000,E9=INT(E9)),FALSE()))),"変更後総額は0〜10億円の整数で必須",IF(AND(D9<>"変更",COUNTA(E9)>0),"取消/未確認の金額は空欄",IF(NOT(IF(ISNUMBER(F9),AND(F9>=43831,F9<73051,F9=INT(F9)),FALSE())),"記録確認日は時刻なしで必須",IF(OR(C9<SUMIFS(当初受注!$B$8:$B$57,当初受注!$A$8:$A$57,A9),C9>F9,F9>受注一覧!$H$3),"受注日≦変更日≦確認日≦基準日を確認",IF(AND(B9>1,OR(C9<SUMIFS($C$8:$C$107,$A$8:$A$107,A9,$B$8:$B$107,B9-1),F9<SUMIFS($F$8:$F$107,$A$8:$A$107,A9,$B$8:$B$107,B9-1))),"前版より日付が逆行しています",IF(COUNTIFS($A$8:$A$107,A9,$B$8:$B$107,"<"&B9,$D$8:$D$107,"取消")+COUNTIFS($A$8:$A$107,A9,$B$8:$B$107,"<"&B9,$D$8:$D$107,"未確認")>0,"取消/未確認の後へ別版を追加できません","確認済み")))))))))))))),ISNUMBER(K9),K9=IF(J9="確認済み",0,1))),1,IF(K9<>0,0,IF(AND(ISNUMBER(G9),G9=IF(COUNTIFS($A$8:$A$107,A9,$B$8:$B$107,">"&B9)=0,1,0),IF(D9="未確認",ISTEXT(H9),ISNUMBER(H9)),H9=IF(D9="変更",E9,IF(D9="取消",0,""))),0,1)))) -> 0
A10: ORD-0002 | B10: 1 | C10: 46328 | D10: 取消 | F10: 46329 | G10: =IF(J10="","",IF(K10<>0,NA(),IF(COUNTIFS($A$8:$A$107,A10,$B$8:$B$107,">"&B10)=0,1,0))) -> 1 | H10: =IF(J10="","",IF(K10<>0,NA(),IF(D10="変更",E10,IF(D10="取消",0,"")))) -> 0 | J10: =IF(COUNTA(A10:F10)=0,"",IF(NOT(AND(ISTEXT(A10),LEN(A10)=8,EXACT(LEFT(A10,4),"ORD-"),ISNUMBER(FIND(MID(A10,5,1)&"x","0x1x2x3x4x5x6x7x8x9x")),ISNUMBER(FIND(MID(A10,6,1)&"x","0x1x2x3x4x5x6x7x8x9x")),ISNUMBER(FIND(MID(A10,7,1)&"x","0x1x2x3x4x5x6x7x8x9x")),ISNUMBER(FIND(MID(A10,8,1)&"x","0x1x2x3x4x5x6x7x8x9x")))),"IDはORD-と半角数字4桁",IF(COUNTIFS(当初受注!$A$8:$A$57,A10)<>1,"当初受注が一意に登録されていません",IF(NOT(IF(ISNUMBER(B10),AND(B10>=1,B10<=100,B10=INT(B10)),FALSE())),"変更版は1〜100の整数で必須",IF(COUNTIFS($A$8:$A$107,A10,$B$8:$B$107,B10)>1,"同じ受注の変更版が重複",IF(AND(B10>1,COUNTIFS($A$8:$A$107,A10,$B$8:$B$107,B10-1)<>1),"変更版の連番が欠落",IF(NOT(IF(ISNUMBER(C10),AND(C10>=43831,C10<73051,C10=INT(C10)),FALSE())),"変更発生日は時刻なしで必須",IF(NOT(OR(D10="変更",D10="取消",D10="未確認")),"区分を確認",IF(AND(D10="変更",NOT(IF(ISNUMBER(E10),AND(E10>=0,E10<=1000000000,E10=INT(E10)),FALSE()))),"変更後総額は0〜10億円の整数で必須",IF(AND(D10<>"変更",COUNTA(E10)>0),"取消/未確認の金額は空欄",IF(NOT(IF(ISNUMBER(F10),AND(F10>=43831,F10<73051,F10=INT(F10)),FALSE())),"記録確認日は時刻なしで必須",IF(OR(C10<SUMIFS(当初受注!$B$8:$B$57,当初受注!$A$8:$A$57,A10),C10>F10,F10>受注一覧!$H$3),"受注日≦変更日≦確認日≦基準日を確認",IF(AND(B10>1,OR(C10<SUMIFS($C$8:$C$107,$A$8:$A$107,A10,$B$8:$B$107,B10-1),F10<SUMIFS($F$8:$F$107,$A$8:$A$107,A10,$B$8:$B$107,B10-1))),"前版より日付が逆行しています",IF(COUNTIFS($A$8:$A$107,A10,$B$8:$B$107,"<"&B10,$D$8:$D$107,"取消")+COUNTIFS($A$8:$A$107,A10,$B$8:$B$107,"<"&B10,$D$8:$D$107,"未確認")>0,"取消/未確認の後へ別版を追加できません","確認済み")))))))))))))) -> 確認済み | K10: =IF(J10="","",IF(J10="確認済み",0,1)) -> 0 | L10: =IF(COUNTA(A10:F10)=0,IF(AND(J10="",K10="",G10="",H10=""),0,1),IF(NOT(AND(ISTEXT(J10),J10=IF(COUNTA(A10:F10)=0,"",IF(NOT(AND(ISTEXT(A10),LEN(A10)=8,EXACT(LEFT(A10,4),"ORD-"),ISNUMBER(FIND(MID(A10,5,1)&"x","0x1x2x3x4x5x6x7x8x9x")),ISNUMBER(FIND(MID(A10,6,1)&"x","0x1x2x3x4x5x6x7x8x9x")),ISNUMBER(FIND(MID(A10,7,1)&"x","0x1x2x3x4x5x6x7x8x9x")),ISNUMBER(FIND(MID(A10,8,1)&"x","0x1x2x3x4x5x6x7x8x9x")))),"IDはORD-と半角数字4桁",IF(COUNTIFS(当初受注!$A$8:$A$57,A10)<>1,"当初受注が一意に登録されていません",IF(NOT(IF(ISNUMBER(B10),AND(B10>=1,B10<=100,B10=INT(B10)),FALSE())),"変更版は1〜100の整数で必須",IF(COUNTIFS($A$8:$A$107,A10,$B$8:$B$107,B10)>1,"同じ受注の変更版が重複",IF(AND(B10>1,COUNTIFS($A$8:$A$107,A10,$B$8:$B$107,B10-1)<>1),"変更版の連番が欠落",IF(NOT(IF(ISNUMBER(C10),AND(C10>=43831,C10<73051,C10=INT(C10)),FALSE())),"変更発生日は時刻なしで必須",IF(NOT(OR(D10="変更",D10="取消",D10="未確認")),"区分を確認",IF(AND(D10="変更",NOT(IF(ISNUMBER(E10),AND(E10>=0,E10<=1000000000,E10=INT(E10)),FALSE()))),"変更後総額は0〜10億円の整数で必須",IF(AND(D10<>"変更",COUNTA(E10)>0),"取消/未確認の金額は空欄",IF(NOT(IF(ISNUMBER(F10),AND(F10>=43831,F10<73051,F10=INT(F10)),FALSE())),"記録確認日は時刻なしで必須",IF(OR(C10<SUMIFS(当初受注!$B$8:$B$57,当初受注!$A$8:$A$57,A10),C10>F10,F10>受注一覧!$H$3),"受注日≦変更日≦確認日≦基準日を確認",IF(AND(B10>1,OR(C10<SUMIFS($C$8:$C$107,$A$8:$A$107,A10,$B$8:$B$107,B10-1),F10<SUMIFS($F$8:$F$107,$A$8:$A$107,A10,$B$8:$B$107,B10-1))),"前版より日付が逆行しています",IF(COUNTIFS($A$8:$A$107,A10,$B$8:$B$107,"<"&B10,$D$8:$D$107,"取消")+COUNTIFS($A$8:$A$107,A10,$B$8:$B$107,"<"&B10,$D$8:$D$107,"未確認")>0,"取消/未確認の後へ別版を追加できません","確認済み")))))))))))))),ISNUMBER(K10),K10=IF(J10="確認済み",0,1))),1,IF(K10<>0,0,IF(AND(ISNUMBER(G10),G10=IF(COUNTIFS($A$8:$A$107,A10,$B$8:$B$107,">"&B10)=0,1,0),IF(D10="未確認",ISTEXT(H10),ISNUMBER(H10)),H10=IF(D10="変更",E10,IF(D10="取消",0,""))),0,1)))) -> 0
A11: ORD-0004 | B11: 1 | C11: 46325 | D11: 未確認 | F11: 46331 | G11: =IF(J11="","",IF(K11<>0,NA(),IF(COUNTIFS($A$8:$A$107,A11,$B$8:$B$107,">"&B11)=0,1,0))) -> 1 | H11: =IF(J11="","",IF(K11<>0,NA(),IF(D11="変更",E11,IF(D11="取消",0,"")))) | J11: =IF(COUNTA(A11:F11)=0,"",IF(NOT(AND(ISTEXT(A11),LEN(A11)=8,EXACT(LEFT(A11,4),"ORD-"),ISNUMBER(FIND(MID(A11,5,1)&"x","0x1x2x3x4x5x6x7x8x9x")),ISNUMBER(FIND(MID(A11,6,1)&"x","0x1x2x3x4x5x6x7x8x9x")),ISNUMBER(FIND(MID(A11,7,1)&"x","0x1x2x3x4x5x6x7x8x9x")),ISNUMBER(FIND(MID(A11,8,1)&"x","0x1x2x3x4x5x6x7x8x9x")))),"IDはORD-と半角数字4桁",IF(COUNTIFS(当初受注!$A$8:$A$57,A11)<>1,"当初受注が一意に登録されていません",IF(NOT(IF(ISNUMBER(B11),AND(B11>=1,B11<=100,B11=INT(B11)),FALSE())),"変更版は1〜100の整数で必須",IF(COUNTIFS($A$8:$A$107,A11,$B$8:$B$107,B11)>1,"同じ受注の変更版が重複",IF(AND(B11>1,COUNTIFS($A$8:$A$107,A11,$B$8:$B$107,B11-1)<>1),"変更版の連番が欠落",IF(NOT(IF(ISNUMBER(C11),AND(C11>=43831,C11<73051,C11=INT(C11)),FALSE())),"変更発生日は時刻なしで必須",IF(NOT(OR(D11="変更",D11="取消",D11="未確認")),"区分を確認",IF(AND(D11="変更",NOT(IF(ISNUMBER(E11),AND(E11>=0,E11<=1000000000,E11=INT(E11)),FALSE()))),"変更後総額は0〜10億円の整数で必須",IF(AND(D11<>"変更",COUNTA(E11)>0),"取消/未確認の金額は空欄",IF(NOT(IF(ISNUMBER(F11),AND(F11>=43831,F11<73051,F11=INT(F11)),FALSE())),"記録確認日は時刻なしで必須",IF(OR(C11<SUMIFS(当初受注!$B$8:$B$57,当初受注!$A$8:$A$57,A11),C11>F11,F11>受注一覧!$H$3),"受注日≦変更日≦確認日≦基準日を確認",IF(AND(B11>1,OR(C11<SUMIFS($C$8:$C$107,$A$8:$A$107,A11,$B$8:$B$107,B11-1),F11<SUMIFS($F$8:$F$107,$A$8:$A$107,A11,$B$8:$B$107,B11-1))),"前版より日付が逆行しています",IF(COUNTIFS($A$8:$A$107,A11,$B$8:$B$107,"<"&B11,$D$8:$D$107,"取消")+COUNTIFS($A$8:$A$107,A11,$B$8:$B$107,"<"&B11,$D$8:$D$107,"未確認")>0,"取消/未確認の後へ別版を追加できません","確認済み")))))))))))))) -> 確認済み | K11: =IF(J11="","",IF(J11="確認済み",0,1)) -> 0 | L11: =IF(COUNTA(A11:F11)=0,IF(AND(J11="",K11="",G11="",H11=""),0,1),IF(NOT(AND(ISTEXT(J11),J11=IF(COUNTA(A11:F11)=0,"",IF(NOT(AND(ISTEXT(A11),LEN(A11)=8,EXACT(LEFT(A11,4),"ORD-"),ISNUMBER(FIND(MID(A11,5,1)&"x","0x1x2x3x4x5x6x7x8x9x")),ISNUMBER(FIND(MID(A11,6,1)&"x","0x1x2x3x4x5x6x7x8x9x")),ISNUMBER(FIND(MID(A11,7,1)&"x","0x1x2x3x4x5x6x7x8x9x")),ISNUMBER(FIND(MID(A11,8,1)&"x","0x1x2x3x4x5x6x7x8x9x")))),"IDはORD-と半角数字4桁",IF(COUNTIFS(当初受注!$A$8:$A$57,A11)<>1,"当初受注が一意に登録されていません",IF(NOT(IF(ISNUMBER(B11),AND(B11>=1,B11<=100,B11=INT(B11)),FALSE())),"変更版は1〜100の整数で必須",IF(COUNTIFS($A$8:$A$107,A11,$B$8:$B$107,B11)>1,"同じ受注の変更版が重複",IF(AND(B11>1,COUNTIFS($A$8:$A$107,A11,$B$8:$B$107,B11-1)<>1),"変更版の連番が欠落",IF(NOT(IF(ISNUMBER(C11),AND(C11>=43831,C11<73051,C11=INT(C11)),FALSE())),"変更発生日は時刻なしで必須",IF(NOT(OR(D11="変更",D11="取消",D11="未確認")),"区分を確認",IF(AND(D11="変更",NOT(IF(ISNUMBER(E11),AND(E11>=0,E11<=1000000000,E11=INT(E11)),FALSE()))),"変更後総額は0〜10億円の整数で必須",IF(AND(D11<>"変更",COUNTA(E11)>0),"取消/未確認の金額は空欄",IF(NOT(IF(ISNUMBER(F11),AND(F11>=43831,F11<73051,F11=INT(F11)),FALSE())),"記録確認日は時刻なしで必須",IF(OR(C11<SUMIFS(当初受注!$B$8:$B$57,当初受注!$A$8:$A$57,A11),C11>F11,F11>受注一覧!$H$3),"受注日≦変更日≦確認日≦基準日を確認",IF(AND(B11>1,OR(C11<SUMIFS($C$8:$C$107,$A$8:$A$107,A11,$B$8:$B$107,B11-1),F11<SUMIFS($F$8:$F$107,$A$8:$A$107,A11,$B$8:$B$107,B11-1))),"前版より日付が逆行しています",IF(COUNTIFS($A$8:$A$107,A11,$B$8:$B$107,"<"&B11,$D$8:$D$107,"取消")+COUNTIFS($A$8:$A$107,A11,$B$8:$B$107,"<"&B11,$D$8:$D$107,"未確認")>0,"取消/未確認の後へ別版を追加できません","確認済み")))))))))))))),ISNUMBER(K11),K11=IF(J11="確認済み",0,1))),1,IF(K11<>0,0,IF(AND(ISNUMBER(G11),G11=IF(COUNTIFS($A$8:$A$107,A11,$B$8:$B$107,">"&B11)=0,1,0),IF(D11="未確認",ISTEXT(H11),ISNUMBER(H11)),H11=IF(D11="変更",E11,IF(D11="取消",0,""))),0,1)))) -> 0
A12: ORD-0005 | B12: 1 | C12: 46305 | D12: 変更 | E12: 150000 | F12: 46306 | G12: =IF(J12="","",IF(K12<>0,NA(),IF(COUNTIFS($A$8:$A$107,A12,$B$8:$B$107,">"&B12)=0,1,0))) -> 1 | H12: =IF(J12="","",IF(K12<>0,NA(),IF(D12="変更",E12,IF(D12="取消",0,"")))) -> 150000 | J12: =IF(COUNTA(A12:F12)=0,"",IF(NOT(AND(ISTEXT(A12),LEN(A12)=8,EXACT(LEFT(A12,4),"ORD-"),ISNUMBER(FIND(MID(A12,5,1)&"x","0x1x2x3x4x5x6x7x8x9x")),ISNUMBER(FIND(MID(A12,6,1)&"x","0x1x2x3x4x5x6x7x8x9x")),ISNUMBER(FIND(MID(A12,7,1)&"x","0x1x2x3x4x5x6x7x8x9x")),ISNUMBER(FIND(MID(A12,8,1)&"x","0x1x2x3x4x5x6x7x8x9x")))),"IDはORD-と半角数字4桁",IF(COUNTIFS(当初受注!$A$8:$A$57,A12)<>1,"当初受注が一意に登録されていません",IF(NOT(IF(ISNUMBER(B12),AND(B12>=1,B12<=100,B12=INT(B12)),FALSE())),"変更版は1〜100の整数で必須",IF(COUNTIFS($A$8:$A$107,A12,$B$8:$B$107,B12)>1,"同じ受注の変更版が重複",IF(AND(B12>1,COUNTIFS($A$8:$A$107,A12,$B$8:$B$107,B12-1)<>1),"変更版の連番が欠落",IF(NOT(IF(ISNUMBER(C12),AND(C12>=43831,C12<73051,C12=INT(C12)),FALSE())),"変更発生日は時刻なしで必須",IF(NOT(OR(D12="変更",D12="取消",D12="未確認")),"区分を確認",IF(AND(D12="変更",NOT(IF(ISNUMBER(E12),AND(E12>=0,E12<=1000000000,E12=INT(E12)),FALSE()))),"変更後総額は0〜10億円の整数で必須",IF(AND(D12<>"変更",COUNTA(E12)>0),"取消/未確認の金額は空欄",IF(NOT(IF(ISNUMBER(F12),AND(F12>=43831,F12<73051,F12=INT(F12)),FALSE())),"記録確認日は時刻なしで必須",IF(OR(C12<SUMIFS(当初受注!$B$8:$B$57,当初受注!$A$8:$A$57,A12),C12>F12,F12>受注一覧!$H$3),"受注日≦変更日≦確認日≦基準日を確認",IF(AND(B12>1,OR(C12<SUMIFS($C$8:$C$107,$A$8:$A$107,A12,$B$8:$B$107,B12-1),F12<SUMIFS($F$8:$F$107,$A$8:$A$107,A12,$B$8:$B$107,B12-1))),"前版より日付が逆行しています",IF(COUNTIFS($A$8:$A$107,A12,$B$8:$B$107,"<"&B12,$D$8:$D$107,"取消")+COUNTIFS($A$8:$A$107,A12,$B$8:$B$107,"<"&B12,$D$8:$D$107,"未確認")>0,"取消/未確認の後へ別版を追加できません","確認済み")))))))))))))) -> 確認済み | K12: =IF(J12="","",IF(J12="確認済み",0,1)) -> 0 | L12: =IF(COUNTA(A12:F12)=0,IF(AND(J12="",K12="",G12="",H12=""),0,1),IF(NOT(AND(ISTEXT(J12),J12=IF(COUNTA(A12:F12)=0,"",IF(NOT(AND(ISTEXT(A12),LEN(A12)=8,EXACT(LEFT(A12,4),"ORD-"),ISNUMBER(FIND(MID(A12,5,1)&"x","0x1x2x3x4x5x6x7x8x9x")),ISNUMBER(FIND(MID(A12,6,1)&"x","0x1x2x3x4x5x6x7x8x9x")),ISNUMBER(FIND(MID(A12,7,1)&"x","0x1x2x3x4x5x6x7x8x9x")),ISNUMBER(FIND(MID(A12,8,1)&"x","0x1x2x3x4x5x6x7x8x9x")))),"IDはORD-と半角数字4桁",IF(COUNTIFS(当初受注!$A$8:$A$57,A12)<>1,"当初受注が一意に登録されていません",IF(NOT(IF(ISNUMBER(B12),AND(B12>=1,B12<=100,B12=INT(B12)),FALSE())),"変更版は1〜100の整数で必須",IF(COUNTIFS($A$8:$A$107,A12,$B$8:$B$107,B12)>1,"同じ受注の変更版が重複",IF(AND(B12>1,COUNTIFS($A$8:$A$107,A12,$B$8:$B$107,B12-1)<>1),"変更版の連番が欠落",IF(NOT(IF(ISNUMBER(C12),AND(C12>=43831,C12<73051,C12=INT(C12)),FALSE())),"変更発生日は時刻なしで必須",IF(NOT(OR(D12="変更",D12="取消",D12="未確認")),"区分を確認",IF(AND(D12="変更",NOT(IF(ISNUMBER(E12),AND(E12>=0,E12<=1000000000,E12=INT(E12)),FALSE()))),"変更後総額は0〜10億円の整数で必須",IF(AND(D12<>"変更",COUNTA(E12)>0),"取消/未確認の金額は空欄",IF(NOT(IF(ISNUMBER(F12),AND(F12>=43831,F12<73051,F12=INT(F12)),FALSE())),"記録確認日は時刻なしで必須",IF(OR(C12<SUMIFS(当初受注!$B$8:$B$57,当初受注!$A$8:$A$57,A12),C12>F12,F12>受注一覧!$H$3),"受注日≦変更日≦確認日≦基準日を確認",IF(AND(B12>1,OR(C12<SUMIFS($C$8:$C$107,$A$8:$A$107,A12,$B$8:$B$107,B12-1),F12<SUMIFS($F$8:$F$107,$A$8:$A$107,A12,$B$8:$B$107,B12-1))),"前版より日付が逆行しています",IF(COUNTIFS($A$8:$A$107,A12,$B$8:$B$107,"<"&B12,$D$8:$D$107,"取消")+COUNTIFS($A$8:$A$107,A12,$B$8:$B$107,"<"&B12,$D$8:$D$107,"未確認")>0,"取消/未確認の後へ別版を追加できません","確認済み")))))))))))))),ISNUMBER(K12),K12=IF(J12="確認済み",0,1))),1,IF(K12<>0,0,IF(AND(ISNUMBER(G12),G12=IF(COUNTIFS($A$8:$A$107,A12,$B$8:$B$107,">"&B12)=0,1,0),IF(D12="未確認",ISTEXT(H12),ISNUMBER(H12)),H12=IF(D12="変更",E12,IF(D12="取消",0,""))),0,1)))) -> 0
A13: ORD-0006 | B13: 1 | C13: 46328 | D13: 変更 | E13: 70000 | F13: 46329 | G13: =IF(J13="","",IF(K13<>0,NA(),IF(COUNTIFS($A$8:$A$107,A13,$B$8:$B$107,">"&B13)=0,1,0))) -> 1 | H13: =IF(J13="","",IF(K13<>0,NA(),IF(D13="変更",E13,IF(D13="取消",0,"")))) -> 70000 | J13: =IF(COUNTA(A13:F13)=0,"",IF(NOT(AND(ISTEXT(A13),LEN(A13)=8,EXACT(LEFT(A13,4),"ORD-"),ISNUMBER(FIND(MID(A13,5,1)&"x","0x1x2x3x4x5x6x7x8x9x")),ISNUMBER(FIND(MID(A13,6,1)&"x","0x1x2x3x4x5x6x7x8x9x")),ISNUMBER(FIND(MID(A13,7,1)&"x","0x1x2x3x4x5x6x7x8x9x")),ISNUMBER(FIND(MID(A13,8,1)&"x","0x1x2x3x4x5x6x7x8x9x")))),"IDはORD-と半角数字4桁",IF(COUNTIFS(当初受注!$A$8:$A$57,A13)<>1,"当初受注が一意に登録されていません",IF(NOT(IF(ISNUMBER(B13),AND(B13>=1,B13<=100,B13=INT(B13)),FALSE())),"変更版は1〜100の整数で必須",IF(COUNTIFS($A$8:$A$107,A13,$B$8:$B$107,B13)>1,"同じ受注の変更版が重複",IF(AND(B13>1,COUNTIFS($A$8:$A$107,A13,$B$8:$B$107,B13-1)<>1),"変更版の連番が欠落",IF(NOT(IF(ISNUMBER(C13),AND(C13>=43831,C13<73051,C13=INT(C13)),FALSE())),"変更発生日は時刻なしで必須",IF(NOT(OR(D13="変更",D13="取消",D13="未確認")),"区分を確認",IF(AND(D13="変更",NOT(IF(ISNUMBER(E13),AND(E13>=0,E13<=1000000000,E13=INT(E13)),FALSE()))),"変更後総額は0〜10億円の整数で必須",IF(AND(D13<>"変更",COUNTA(E13)>0),"取消/未確認の金額は空欄",IF(NOT(IF(ISNUMBER(F13),AND(F13>=43831,F13<73051,F13=INT(F13)),FALSE())),"記録確認日は時刻なしで必須",IF(OR(C13<SUMIFS(当初受注!$B$8:$B$57,当初受注!$A$8:$A$57,A13),C13>F13,F13>受注一覧!$H$3),"受注日≦変更日≦確認日≦基準日を確認",IF(AND(B13>1,OR(C13<SUMIFS($C$8:$C$107,$A$8:$A$107,A13,$B$8:$B$107,B13-1),F13<SUMIFS($F$8:$F$107,$A$8:$A$107,A13,$B$8:$B$107,B13-1))),"前版より日付が逆行しています",IF(COUNTIFS($A$8:$A$107,A13,$B$8:$B$107,"<"&B13,$D$8:$D$107,"取消")+COUNTIFS($A$8:$A$107,A13,$B$8:$B$107,"<"&B13,$D$8:$D$107,"未確認")>0,"取消/未確認の後へ別版を追加できません","確認済み")))))))))))))) -> 確認済み | K13: =IF(J13="","",IF(J13="確認済み",0,1)) -> 0 | L13: =IF(COUNTA(A13:F13)=0,IF(AND(J13="",K13="",G13="",H13=""),0,1),IF(NOT(AND(ISTEXT(J13),J13=IF(COUNTA(A13:F13)=0,"",IF(NOT(AND(ISTEXT(A13),LEN(A13)=8,EXACT(LEFT(A13,4),"ORD-"),ISNUMBER(FIND(MID(A13,5,1)&"x","0x1x2x3x4x5x6x7x8x9x")),ISNUMBER(FIND(MID(A13,6,1)&"x","0x1x2x3x4x5x6x7x8x9x")),ISNUMBER(FIND(MID(A13,7,1)&"x","0x1x2x3x4x5x6x7x8x9x")),ISNUMBER(FIND(MID(A13,8,1)&"x","0x1x2x3x4x5x6x7x8x9x")))),"IDはORD-と半角数字4桁",IF(COUNTIFS(当初受注!$A$8:$A$57,A13)<>1,"当初受注が一意に登録されていません",IF(NOT(IF(ISNUMBER(B13),AND(B13>=1,B13<=100,B13=INT(B13)),FALSE())),"変更版は1〜100の整数で必須",IF(COUNTIFS($A$8:$A$107,A13,$B$8:$B$107,B13)>1,"同じ受注の変更版が重複",IF(AND(B13>1,COUNTIFS($A$8:$A$107,A13,$B$8:$B$107,B13-1)<>1),"変更版の連番が欠落",IF(NOT(IF(ISNUMBER(C13),AND(C13>=43831,C13<73051,C13=INT(C13)),FALSE())),"変更発生日は時刻なしで必須",IF(NOT(OR(D13="変更",D13="取消",D13="未確認")),"区分を確認",IF(AND(D13="変更",NOT(IF(ISNUMBER(E13),AND(E13>=0,E13<=1000000000,E13=INT(E13)),FALSE()))),"変更後総額は0〜10億円の整数で必須",IF(AND(D13<>"変更",COUNTA(E13)>0),"取消/未確認の金額は空欄",IF(NOT(IF(ISNUMBER(F13),AND(F13>=43831,F13<73051,F13=INT(F13)),FALSE())),"記録確認日は時刻なしで必須",IF(OR(C13<SUMIFS(当初受注!$B$8:$B$57,当初受注!$A$8:$A$57,A13),C13>F13,F13>受注一覧!$H$3),"受注日≦変更日≦確認日≦基準日を確認",IF(AND(B13>1,OR(C13<SUMIFS($C$8:$C$107,$A$8:$A$107,A13,$B$8:$B$107,B13-1),F13<SUMIFS($F$8:$F$107,$A$8:$A$107,A13,$B$8:$B$107,B13-1))),"前版より日付が逆行しています",IF(COUNTIFS($A$8:$A$107,A13,$B$8:$B$107,"<"&B13,$D$8:$D$107,"取消")+COUNTIFS($A$8:$A$107,A13,$B$8:$B$107,"<"&B13,$D$8:$D$107,"未確認")>0,"取消/未確認の後へ別版を追加できません","確認済み")))))))))))))),ISNUMBER(K13),K13=IF(J13="確認済み",0,1))),1,IF(K13<>0,0,IF(AND(ISNUMBER(G13),G13=IF(COUNTIFS($A$8:$A$107,A13,$B$8:$B$107,">"&B13)=0,1,0),IF(D13="未確認",ISTEXT(H13),ISNUMBER(H13)),H13=IF(D13="変更",E13,IF(D13="取消",0,""))),0,1)))) -> 0
A14: ORD-0007 | B14: 1 | C14: 46323 | D14: 変更 | E14: 0 | F14: 46324 | G14: =IF(J14="","",IF(K14<>0,NA(),IF(COUNTIFS($A$8:$A$107,A14,$B$8:$B$107,">"&B14)=0,1,0))) -> 1 | H14: =IF(J14="","",IF(K14<>0,NA(),IF(D14="変更",E14,IF(D14="取消",0,"")))) -> 0 | J14: =IF(COUNTA(A14:F14)=0,"",IF(NOT(AND(ISTEXT(A14),LEN(A14)=8,EXACT(LEFT(A14,4),"ORD-"),ISNUMBER(FIND(MID(A14,5,1)&"x","0x1x2x3x4x5x6x7x8x9x")),ISNUMBER(FIND(MID(A14,6,1)&"x","0x1x2x3x4x5x6x7x8x9x")),ISNUMBER(FIND(MID(A14,7,1)&"x","0x1x2x3x4x5x6x7x8x9x")),ISNUMBER(FIND(MID(A14,8,1)&"x","0x1x2x3x4x5x6x7x8x9x")))),"IDはORD-と半角数字4桁",IF(COUNTIFS(当初受注!$A$8:$A$57,A14)<>1,"当初受注が一意に登録されていません",IF(NOT(IF(ISNUMBER(B14),AND(B14>=1,B14<=100,B14=INT(B14)),FALSE())),"変更版は1〜100の整数で必須",IF(COUNTIFS($A$8:$A$107,A14,$B$8:$B$107,B14)>1,"同じ受注の変更版が重複",IF(AND(B14>1,COUNTIFS($A$8:$A$107,A14,$B$8:$B$107,B14-1)<>1),"変更版の連番が欠落",IF(NOT(IF(ISNUMBER(C14),AND(C14>=43831,C14<73051,C14=INT(C14)),FALSE())),"変更発生日は時刻なしで必須",IF(NOT(OR(D14="変更",D14="取消",D14="未確認")),"区分を確認",IF(AND(D14="変更",NOT(IF(ISNUMBER(E14),AND(E14>=0,E14<=1000000000,E14=INT(E14)),FALSE()))),"変更後総額は0〜10億円の整数で必須",IF(AND(D14<>"変更",COUNTA(E14)>0),"取消/未確認の金額は空欄",IF(NOT(IF(ISNUMBER(F14),AND(F14>=43831,F14<73051,F14=INT(F14)),FALSE())),"記録確認日は時刻なしで必須",IF(OR(C14<SUMIFS(当初受注!$B$8:$B$57,当初受注!$A$8:$A$57,A14),C14>F14,F14>受注一覧!$H$3),"受注日≦変更日≦確認日≦基準日を確認",IF(AND(B14>1,OR(C14<SUMIFS($C$8:$C$107,$A$8:$A$107,A14,$B$8:$B$107,B14-1),F14<SUMIFS($F$8:$F$107,$A$8:$A$107,A14,$B$8:$B$107,B14-1))),"前版より日付が逆行しています",IF(COUNTIFS($A$8:$A$107,A14,$B$8:$B$107,"<"&B14,$D$8:$D$107,"取消")+COUNTIFS($A$8:$A$107,A14,$B$8:$B$107,"<"&B14,$D$8:$D$107,"未確認")>0,"取消/未確認の後へ別版を追加できません","確認済み")))))))))))))) -> 確認済み | K14: =IF(J14="","",IF(J14="確認済み",0,1)) -> 0 | L14: =IF(COUNTA(A14:F14)=0,IF(AND(J14="",K14="",G14="",H14=""),0,1),IF(NOT(AND(ISTEXT(J14),J14=IF(COUNTA(A14:F14)=0,"",IF(NOT(AND(ISTEXT(A14),LEN(A14)=8,EXACT(LEFT(A14,4),"ORD-"),ISNUMBER(FIND(MID(A14,5,1)&"x","0x1x2x3x4x5x6x7x8x9x")),ISNUMBER(FIND(MID(A14,6,1)&"x","0x1x2x3x4x5x6x7x8x9x")),ISNUMBER(FIND(MID(A14,7,1)&"x","0x1x2x3x4x5x6x7x8x9x")),ISNUMBER(FIND(MID(A14,8,1)&"x","0x1x2x3x4x5x6x7x8x9x")))),"IDはORD-と半角数字4桁",IF(COUNTIFS(当初受注!$A$8:$A$57,A14)<>1,"当初受注が一意に登録されていません",IF(NOT(IF(ISNUMBER(B14),AND(B14>=1,B14<=100,B14=INT(B14)),FALSE())),"変更版は1〜100の整数で必須",IF(COUNTIFS($A$8:$A$107,A14,$B$8:$B$107,B14)>1,"同じ受注の変更版が重複",IF(AND(B14>1,COUNTIFS($A$8:$A$107,A14,$B$8:$B$107,B14-1)<>1),"変更版の連番が欠落",IF(NOT(IF(ISNUMBER(C14),AND(C14>=43831,C14<73051,C14=INT(C14)),FALSE())),"変更発生日は時刻なしで必須",IF(NOT(OR(D14="変更",D14="取消",D14="未確認")),"区分を確認",IF(AND(D14="変更",NOT(IF(ISNUMBER(E14),AND(E14>=0,E14<=1000000000,E14=INT(E14)),FALSE()))),"変更後総額は0〜10億円の整数で必須",IF(AND(D14<>"変更",COUNTA(E14)>0),"取消/未確認の金額は空欄",IF(NOT(IF(ISNUMBER(F14),AND(F14>=43831,F14<73051,F14=INT(F14)),FALSE())),"記録確認日は時刻なしで必須",IF(OR(C14<SUMIFS(当初受注!$B$8:$B$57,当初受注!$A$8:$A$57,A14),C14>F14,F14>受注一覧!$H$3),"受注日≦変更日≦確認日≦基準日を確認",IF(AND(B14>1,OR(C14<SUMIFS($C$8:$C$107,$A$8:$A$107,A14,$B$8:$B$107,B14-1),F14<SUMIFS($F$8:$F$107,$A$8:$A$107,A14,$B$8:$B$107,B14-1))),"前版より日付が逆行しています",IF(COUNTIFS($A$8:$A$107,A14,$B$8:$B$107,"<"&B14,$D$8:$D$107,"取消")+COUNTIFS($A$8:$A$107,A14,$B$8:$B$107,"<"&B14,$D$8:$D$107,"未確認")>0,"取消/未確認の後へ別版を追加できません","確認済み")))))))))))))),ISNUMBER(K14),K14=IF(J14="確認済み",0,1))),1,IF(K14<>0,0,IF(AND(ISNUMBER(G14),G14=IF(COUNTIFS($A$8:$A$107,A14,$B$8:$B$107,">"&B14)=0,1,0),IF(D14="未確認",ISTEXT(H14),ISNUMBER(H14)),H14=IF(D14="変更",E14,IF(D14="取消",0,""))),0,1)))) -> 0
G15: =IF(J15="","",IF(K15<>0,NA(),IF(COUNTIFS($A$8:$A$107,A15,$B$8:$B$107,">"&B15)=0,1,0))) | H15: =IF(J15="","",IF(K15<>0,NA(),IF(D15="変更",E15,IF(D15="取消",0,"")))) | J15: =IF(COUNTA(A15:F15)=0,"",IF(NOT(AND(ISTEXT(A15),LEN(A15)=8,EXACT(LEFT(A15,4),"ORD-"),ISNUMBER(FIND(MID(A15,5,1)&"x","0x1x2x3x4x5x6x7x8x9x")),ISNUMBER(FIND(MID(A15,6,1)&"x","0x1x2x3x4x5x6x7x8x9x")),ISNUMBER(FIND(MID(A15,7,1)&"x","0x1x2x3x4x5x6x7x8x9x")),ISNUMBER(FIND(MID(A15,8,1)&"x","0x1x2x3x4x5x6x7x8x9x")))),"IDはORD-と半角数字4桁",IF(COUNTIFS(当初受注!$A$8:$A$57,A15)<>1,"当初受注が一意に登録されていません",IF(NOT(IF(ISNUMBER(B15),AND(B15>=1,B15<=100,B15=INT(B15)),FALSE())),"変更版は1〜100の整数で必須",IF(COUNTIFS($A$8:$A$107,A15,$B$8:$B$107,B15)>1,"同じ受注の変更版が重複",IF(AND(B15>1,COUNTIFS($A$8:$A$107,A15,$B$8:$B$107,B15-1)<>1),"変更版の連番が欠落",IF(NOT(IF(ISNUMBER(C15),AND(C15>=43831,C15<73051,C15=INT(C15)),FALSE())),"変更発生日は時刻なしで必須",IF(NOT(OR(D15="変更",D15="取消",D15="未確認")),"区分を確認",IF(AND(D15="変更",NOT(IF(ISNUMBER(E15),AND(E15>=0,E15<=1000000000,E15=INT(E15)),FALSE()))),"変更後総額は0〜10億円の整数で必須",IF(AND(D15<>"変更",COUNTA(E15)>0),"取消/未確認の金額は空欄",IF(NOT(IF(ISNUMBER(F15),AND(F15>=43831,F15<73051,F15=INT(F15)),FALSE())),"記録確認日は時刻なしで必須",IF(OR(C15<SUMIFS(当初受注!$B$8:$B$57,当初受注!$A$8:$A$57,A15),C15>F15,F15>受注一覧!$H$3),"受注日≦変更日≦確認日≦基準日を確認",IF(AND(B15>1,OR(C15<SUMIFS($C$8:$C$107,$A$8:$A$107,A15,$B$8:$B$107,B15-1),F15<SUMIFS($F$8:$F$107,$A$8:$A$107,A15,$B$8:$B$107,B15-1))),"前版より日付が逆行しています",IF(COUNTIFS($A$8:$A$107,A15,$B$8:$B$107,"<"&B15,$D$8:$D$107,"取消")+COUNTIFS($A$8:$A$107,A15,$B$8:$B$107,"<"&B15,$D$8:$D$107,"未確認")>0,"取消/未確認の後へ別版を追加できません","確認済み")))))))))))))) | K15: =IF(J15="","",IF(J15="確認済み",0,1)) | L15: =IF(COUNTA(A15:F15)=0,IF(AND(J15="",K15="",G15="",H15=""),0,1),IF(NOT(AND(ISTEXT(J15),J15=IF(COUNTA(A15:F15)=0,"",IF(NOT(AND(ISTEXT(A15),LEN(A15)=8,EXACT(LEFT(A15,4),"ORD-"),ISNUMBER(FIND(MID(A15,5,1)&"x","0x1x2x3x4x5x6x7x8x9x")),ISNUMBER(FIND(MID(A15,6,1)&"x","0x1x2x3x4x5x6x7x8x9x")),ISNUMBER(FIND(MID(A15,7,1)&"x","0x1x2x3x4x5x6x7x8x9x")),ISNUMBER(FIND(MID(A15,8,1)&"x","0x1x2x3x4x5x6x7x8x9x")))),"IDはORD-と半角数字4桁",IF(COUNTIFS(当初受注!$A$8:$A$57,A15)<>1,"当初受注が一意に登録されていません",IF(NOT(IF(ISNUMBER(B15),AND(B15>=1,B15<=100,B15=INT(B15)),FALSE())),"変更版は1〜100の整数で必須",IF(COUNTIFS($A$8:$A$107,A15,$B$8:$B$107,B15)>1,"同じ受注の変更版が重複",IF(AND(B15>1,COUNTIFS($A$8:$A$107,A15,$B$8:$B$107,B15-1)<>1),"変更版の連番が欠落",IF(NOT(IF(ISNUMBER(C15),AND(C15>=43831,C15<73051,C15=INT(C15)),FALSE())),"変更発生日は時刻なしで必須",IF(NOT(OR(D15="変更",D15="取消",D15="未確認")),"区分を確認",IF(AND(D15="変更",NOT(IF(ISNUMBER(E15),AND(E15>=0,E15<=1000000000,E15=INT(E15)),FALSE()))),"変更後総額は0〜10億円の整数で必須",IF(AND(D15<>"変更",COUNTA(E15)>0),"取消/未確認の金額は空欄",IF(NOT(IF(ISNUMBER(F15),AND(F15>=43831,F15<73051,F15=INT(F15)),FALSE())),"記録確認日は時刻なしで必須",IF(OR(C15<SUMIFS(当初受注!$B$8:$B$57,当初受注!$A$8:$A$57,A15),C15>F15,F15>受注一覧!$H$3),"受注日≦変更日≦確認日≦基準日を確認",IF(AND(B15>1,OR(C15<SUMIFS($C$8:$C$107,$A$8:$A$107,A15,$B$8:$B$107,B15-1),F15<SUMIFS($F$8:$F$107,$A$8:$A$107,A15,$B$8:$B$107,B15-1))),"前版より日付が逆行しています",IF(COUNTIFS($A$8:$A$107,A15,$B$8:$B$107,"<"&B15,$D$8:$D$107,"取消")+COUNTIFS($A$8:$A$107,A15,$B$8:$B$107,"<"&B15,$D$8:$D$107,"未確認")>0,"取消/未確認の後へ別版を追加できません","確認済み")))))))))))))),ISNUMBER(K15),K15=IF(J15="確認済み",0,1))),1,IF(K15<>0,0,IF(AND(ISNUMBER(G15),G15=IF(COUNTIFS($A$8:$A$107,A15,$B$8:$B$107,">"&B15)=0,1,0),IF(D15="未確認",ISTEXT(H15),ISNUMBER(H15)),H15=IF(D15="変更",E15,IF(D15="取消",0,""))),0,1)))) -> 0
G16: =IF(J16="","",IF(K16<>0,NA(),IF(COUNTIFS($A$8:$A$107,A16,$B$8:$B$107,">"&B16)=0,1,0))) | H16: =IF(J16="","",IF(K16<>0,NA(),IF(D16="変更",E16,IF(D16="取消",0,"")))) | J16: =IF(COUNTA(A16:F16)=0,"",IF(NOT(AND(ISTEXT(A16),LEN(A16)=8,EXACT(LEFT(A16,4),"ORD-"),ISNUMBER(FIND(MID(A16,5,1)&"x","0x1x2x3x4x5x6x7x8x9x")),ISNUMBER(FIND(MID(A16,6,1)&"x","0x1x2x3x4x5x6x7x8x9x")),ISNUMBER(FIND(MID(A16,7,1)&"x","0x1x2x3x4x5x6x7x8x9x")),ISNUMBER(FIND(MID(A16,8,1)&"x","0x1x2x3x4x5x6x7x8x9x")))),"IDはORD-と半角数字4桁",IF(COUNTIFS(当初受注!$A$8:$A$57,A16)<>1,"当初受注が一意に登録されていません",IF(NOT(IF(ISNUMBER(B16),AND(B16>=1,B16<=100,B16=INT(B16)),FALSE())),"変更版は1〜100の整数で必須",IF(COUNTIFS($A$8:$A$107,A16,$B$8:$B$107,B16)>1,"同じ受注の変更版が重複",IF(AND(B16>1,COUNTIFS($A$8:$A$107,A16,$B$8:$B$107,B16-1)<>1),"変更版の連番が欠落",IF(NOT(IF(ISNUMBER(C16),AND(C16>=43831,C16<73051,C16=INT(C16)),FALSE())),"変更発生日は時刻なしで必須",IF(NOT(OR(D16="変更",D16="取消",D16="未確認")),"区分を確認",IF(AND(D16="変更",NOT(IF(ISNUMBER(E16),AND(E16>=0,E16<=1000000000,E16=INT(E16)),FALSE()))),"変更後総額は0〜10億円の整数で必須",IF(AND(D16<>"変更",COUNTA(E16)>0),"取消/未確認の金額は空欄",IF(NOT(IF(ISNUMBER(F16),AND(F16>=43831,F16<73051,F16=INT(F16)),FALSE())),"記録確認日は時刻なしで必須",IF(OR(C16<SUMIFS(当初受注!$B$8:$B$57,当初受注!$A$8:$A$57,A16),C16>F16,F16>受注一覧!$H$3),"受注日≦変更日≦確認日≦基準日を確認",IF(AND(B16>1,OR(C16<SUMIFS($C$8:$C$107,$A$8:$A$107,A16,$B$8:$B$107,B16-1),F16<SUMIFS($F$8:$F$107,$A$8:$A$107,A16,$B$8:$B$107,B16-1))),"前版より日付が逆行しています",IF(COUNTIFS($A$8:$A$107,A16,$B$8:$B$107,"<"&B16,$D$8:$D$107,"取消")+COUNTIFS($A$8:$A$107,A16,$B$8:$B$107,"<"&B16,$D$8:$D$107,"未確認")>0,"取消/未確認の後へ別版を追加できません","確認済み")))))))))))))) | K16: =IF(J16="","",IF(J16="確認済み",0,1)) | L16: =IF(COUNTA(A16:F16)=0,IF(AND(J16="",K16="",G16="",H16=""),0,1),IF(NOT(AND(ISTEXT(J16),J16=IF(COUNTA(A16:F16)=0,"",IF(NOT(AND(ISTEXT(A16),LEN(A16)=8,EXACT(LEFT(A16,4),"ORD-"),ISNUMBER(FIND(MID(A16,5,1)&"x","0x1x2x3x4x5x6x7x8x9x")),ISNUMBER(FIND(MID(A16,6,1)&"x","0x1x2x3x4x5x6x7x8x9x")),ISNUMBER(FIND(MID(A16,7,1)&"x","0x1x2x3x4x5x6x7x8x9x")),ISNUMBER(FIND(MID(A16,8,1)&"x","0x1x2x3x4x5x6x7x8x9x")))),"IDはORD-と半角数字4桁",IF(COUNTIFS(当初受注!$A$8:$A$57,A16)<>1,"当初受注が一意に登録されていません",IF(NOT(IF(ISNUMBER(B16),AND(B16>=1,B16<=100,B16=INT(B16)),FALSE())),"変更版は1〜100の整数で必須",IF(COUNTIFS($A$8:$A$107,A16,$B$8:$B$107,B16)>1,"同じ受注の変更版が重複",IF(AND(B16>1,COUNTIFS($A$8:$A$107,A16,$B$8:$B$107,B16-1)<>1),"変更版の連番が欠落",IF(NOT(IF(ISNUMBER(C16),AND(C16>=43831,C16<73051,C16=INT(C16)),FALSE())),"変更発生日は時刻なしで必須",IF(NOT(OR(D16="変更",D16="取消",D16="未確認")),"区分を確認",IF(AND(D16="変更",NOT(IF(ISNUMBER(E16),AND(E16>=0,E16<=1000000000,E16=INT(E16)),FALSE()))),"変更後総額は0〜10億円の整数で必須",IF(AND(D16<>"変更",COUNTA(E16)>0),"取消/未確認の金額は空欄",IF(NOT(IF(ISNUMBER(F16),AND(F16>=43831,F16<73051,F16=INT(F16)),FALSE())),"記録確認日は時刻なしで必須",IF(OR(C16<SUMIFS(当初受注!$B$8:$B$57,当初受注!$A$8:$A$57,A16),C16>F16,F16>受注一覧!$H$3),"受注日≦変更日≦確認日≦基準日を確認",IF(AND(B16>1,OR(C16<SUMIFS($C$8:$C$107,$A$8:$A$107,A16,$B$8:$B$107,B16-1),F16<SUMIFS($F$8:$F$107,$A$8:$A$107,A16,$B$8:$B$107,B16-1))),"前版より日付が逆行しています",IF(COUNTIFS($A$8:$A$107,A16,$B$8:$B$107,"<"&B16,$D$8:$D$107,"取消")+COUNTIFS($A$8:$A$107,A16,$B$8:$B$107,"<"&B16,$D$8:$D$107,"未確認")>0,"取消/未確認の後へ別版を追加できません","確認済み")))))))))))))),ISNUMBER(K16),K16=IF(J16="確認済み",0,1))),1,IF(K16<>0,0,IF(AND(ISNUMBER(G16),G16=IF(COUNTIFS($A$8:$A$107,A16,$B$8:$B$107,">"&B16)=0,1,0),IF(D16="未確認",ISTEXT(H16),ISNUMBER(H16)),H16=IF(D16="変更",E16,IF(D16="取消",0,""))),0,1)))) -> 0
G17: =IF(J17="","",IF(K17<>0,NA(),IF(COUNTIFS($A$8:$A$107,A17,$B$8:$B$107,">"&B17)=0,1,0))) | H17: =IF(J17="","",IF(K17<>0,NA(),IF(D17="変更",E17,IF(D17="取消",0,"")))) | J17: =IF(COUNTA(A17:F17)=0,"",IF(NOT(AND(ISTEXT(A17),LEN(A17)=8,EXACT(LEFT(A17,4),"ORD-"),ISNUMBER(FIND(MID(A17,5,1)&"x","0x1x2x3x4x5x6x7x8x9x")),ISNUMBER(FIND(MID(A17,6,1)&"x","0x1x2x3x4x5x6x7x8x9x")),ISNUMBER(FIND(MID(A17,7,1)&"x","0x1x2x3x4x5x6x7x8x9x")),ISNUMBER(FIND(MID(A17,8,1)&"x","0x1x2x3x4x5x6x7x8x9x")))),"IDはORD-と半角数字4桁",IF(COUNTIFS(当初受注!$A$8:$A$57,A17)<>1,"当初受注が一意に登録されていません",IF(NOT(IF(ISNUMBER(B17),AND(B17>=1,B17<=100,B17=INT(B17)),FALSE())),"変更版は1〜100の整数で必須",IF(COUNTIFS($A$8:$A$107,A17,$B$8:$B$107,B17)>1,"同じ受注の変更版が重複",IF(AND(B17>1,COUNTIFS($A$8:$A$107,A17,$B$8:$B$107,B17-1)<>1),"変更版の連番が欠落",IF(NOT(IF(ISNUMBER(C17),AND(C17>=43831,C17<73051,C17=INT(C17)),FALSE())),"変更発生日は時刻なしで必須",IF(NOT(OR(D17="変更",D17="取消",D17="未確認")),"区分を確認",IF(AND(D17="変更",NOT(IF(ISNUMBER(E17),AND(E17>=0,E17<=1000000000,E17=INT(E17)),FALSE()))),"変更後総額は0〜10億円の整数で必須",IF(AND(D17<>"変更",COUNTA(E17)>0),"取消/未確認の金額は空欄",IF(NOT(IF(ISNUMBER(F17),AND(F17>=43831,F17<73051,F17=INT(F17)),FALSE())),"記録確認日は時刻なしで必須",IF(OR(C17<SUMIFS(当初受注!$B$8:$B$57,当初受注!$A$8:$A$57,A17),C17>F17,F17>受注一覧!$H$3),"受注日≦変更日≦確認日≦基準日を確認",IF(AND(B17>1,OR(C17<SUMIFS($C$8:$C$107,$A$8:$A$107,A17,$B$8:$B$107,B17-1),F17<SUMIFS($F$8:$F$107,$A$8:$A$107,A17,$B$8:$B$107,B17-1))),"前版より日付が逆行しています",IF(COUNTIFS($A$8:$A$107,A17,$B$8:$B$107,"<"&B17,$D$8:$D$107,"取消")+COUNTIFS($A$8:$A$107,A17,$B$8:$B$107,"<"&B17,$D$8:$D$107,"未確認")>0,"取消/未確認の後へ別版を追加できません","確認済み")))))))))))))) | K17: =IF(J17="","",IF(J17="確認済み",0,1)) | L17: =IF(COUNTA(A17:F17)=0,IF(AND(J17="",K17="",G17="",H17=""),0,1),IF(NOT(AND(ISTEXT(J17),J17=IF(COUNTA(A17:F17)=0,"",IF(NOT(AND(ISTEXT(A17),LEN(A17)=8,EXACT(LEFT(A17,4),"ORD-"),ISNUMBER(FIND(MID(A17,5,1)&"x","0x1x2x3x4x5x6x7x8x9x")),ISNUMBER(FIND(MID(A17,6,1)&"x","0x1x2x3x4x5x6x7x8x9x")),ISNUMBER(FIND(MID(A17,7,1)&"x","0x1x2x3x4x5x6x7x8x9x")),ISNUMBER(FIND(MID(A17,8,1)&"x","0x1x2x3x4x5x6x7x8x9x")))),"IDはORD-と半角数字4桁",IF(COUNTIFS(当初受注!$A$8:$A$57,A17)<>1,"当初受注が一意に登録されていません",IF(NOT(IF(ISNUMBER(B17),AND(B17>=1,B17<=100,B17=INT(B17)),FALSE())),"変更版は1〜100の整数で必須",IF(COUNTIFS($A$8:$A$107,A17,$B$8:$B$107,B17)>1,"同じ受注の変更版が重複",IF(AND(B17>1,COUNTIFS($A$8:$A$107,A17,$B$8:$B$107,B17-1)<>1),"変更版の連番が欠落",IF(NOT(IF(ISNUMBER(C17),AND(C17>=43831,C17<73051,C17=INT(C17)),FALSE())),"変更発生日は時刻なしで必須",IF(NOT(OR(D17="変更",D17="取消",D17="未確認")),"区分を確認",IF(AND(D17="変更",NOT(IF(ISNUMBER(E17),AND(E17>=0,E17<=1000000000,E17=INT(E17)),FALSE()))),"変更後総額は0〜10億円の整数で必須",IF(AND(D17<>"変更",COUNTA(E17)>0),"取消/未確認の金額は空欄",IF(NOT(IF(ISNUMBER(F17),AND(F17>=43831,F17<73051,F17=INT(F17)),FALSE())),"記録確認日は時刻なしで必須",IF(OR(C17<SUMIFS(当初受注!$B$8:$B$57,当初受注!$A$8:$A$57,A17),C17>F17,F17>受注一覧!$H$3),"受注日≦変更日≦確認日≦基準日を確認",IF(AND(B17>1,OR(C17<SUMIFS($C$8:$C$107,$A$8:$A$107,A17,$B$8:$B$107,B17-1),F17<SUMIFS($F$8:$F$107,$A$8:$A$107,A17,$B$8:$B$107,B17-1))),"前版より日付が逆行しています",IF(COUNTIFS($A$8:$A$107,A17,$B$8:$B$107,"<"&B17,$D$8:$D$107,"取消")+COUNTIFS($A$8:$A$107,A17,$B$8:$B$107,"<"&B17,$D$8:$D$107,"未確認")>0,"取消/未確認の後へ別版を追加できません","確認済み")))))))))))))),ISNUMBER(K17),K17=IF(J17="確認済み",0,1))),1,IF(K17<>0,0,IF(AND(ISNUMBER(G17),G17=IF(COUNTIFS($A$8:$A$107,A17,$B$8:$B$107,">"&B17)=0,1,0),IF(D17="未確認",ISTEXT(H17),ISNUMBER(H17)),H17=IF(D17="変更",E17,IF(D17="取消",0,""))),0,1)))) -> 0
G18: =IF(J18="","",IF(K18<>0,NA(),IF(COUNTIFS($A$8:$A$107,A18,$B$8:$B$107,">"&B18)=0,1,0))) | H18: =IF(J18="","",IF(K18<>0,NA(),IF(D18="変更",E18,IF(D18="取消",0,"")))) | J18: =IF(COUNTA(A18:F18)=0,"",IF(NOT(AND(ISTEXT(A18),LEN(A18)=8,EXACT(LEFT(A18,4),"ORD-"),ISNUMBER(FIND(MID(A18,5,1)&"x","0x1x2x3x4x5x6x7x8x9x")),ISNUMBER(FIND(MID(A18,6,1)&"x","0x1x2x3x4x5x6x7x8x9x")),ISNUMBER(FIND(MID(A18,7,1)&"x","0x1x2x3x4x5x6x7x8x9x")),ISNUMBER(FIND(MID(A18,8,1)&"x","0x1x2x3x4x5x6x7x8x9x")))),"IDはORD-と半角数字4桁",IF(COUNTIFS(当初受注!$A$8:$A$57,A18)<>1,"当初受注が一意に登録されていません",IF(NOT(IF(ISNUMBER(B18),AND(B18>=1,B18<=100,B18=INT(B18)),FALSE())),"変更版は1〜100の整数で必須",IF(COUNTIFS($A$8:$A$107,A18,$B$8:$B$107,B18)>1,"同じ受注の変更版が重複",IF(AND(B18>1,COUNTIFS($A$8:$A$107,A18,$B$8:$B$107,B18-1)<>1),"変更版の連番が欠落",IF(NOT(IF(ISNUMBER(C18),AND(C18>=43831,C18<73051,C18=INT(C18)),FALSE())),"変更発生日は時刻なしで必須",IF(NOT(OR(D18="変更",D18="取消",D18="未確認")),"区分を確認",IF(AND(D18="変更",NOT(IF(ISNUMBER(E18),AND(E18>=0,E18<=1000000000,E18=INT(E18)),FALSE()))),"変更後総額は0〜10億円の整数で必須",IF(AND(D18<>"変更",COUNTA(E18)>0),"取消/未確認の金額は空欄",IF(NOT(IF(ISNUMBER(F18),AND(F18>=43831,F18<73051,F18=INT(F18)),FALSE())),"記録確認日は時刻なしで必須",IF(OR(C18<SUMIFS(当初受注!$B$8:$B$57,当初受注!$A$8:$A$57,A18),C18>F18,F18>受注一覧!$H$3),"受注日≦変更日≦確認日≦基準日を確認",IF(AND(B18>1,OR(C18<SUMIFS($C$8:$C$107,$A$8:$A$107,A18,$B$8:$B$107,B18-1),F18<SUMIFS($F$8:$F$107,$A$8:$A$107,A18,$B$8:$B$107,B18-1))),"前版より日付が逆行しています",IF(COUNTIFS($A$8:$A$107,A18,$B$8:$B$107,"<"&B18,$D$8:$D$107,"取消")+COUNTIFS($A$8:$A$107,A18,$B$8:$B$107,"<"&B18,$D$8:$D$107,"未確認")>0,"取消/未確認の後へ別版を追加できません","確認済み")))))))))))))) | K18: =IF(J18="","",IF(J18="確認済み",0,1)) | L18: =IF(COUNTA(A18:F18)=0,IF(AND(J18="",K18="",G18="",H18=""),0,1),IF(NOT(AND(ISTEXT(J18),J18=IF(COUNTA(A18:F18)=0,"",IF(NOT(AND(ISTEXT(A18),LEN(A18)=8,EXACT(LEFT(A18,4),"ORD-"),ISNUMBER(FIND(MID(A18,5,1)&"x","0x1x2x3x4x5x6x7x8x9x")),ISNUMBER(FIND(MID(A18,6,1)&"x","0x1x2x3x4x5x6x7x8x9x")),ISNUMBER(FIND(MID(A18,7,1)&"x","0x1x2x3x4x5x6x7x8x9x")),ISNUMBER(FIND(MID(A18,8,1)&"x","0x1x2x3x4x5x6x7x8x9x")))),"IDはORD-と半角数字4桁",IF(COUNTIFS(当初受注!$A$8:$A$57,A18)<>1,"当初受注が一意に登録されていません",IF(NOT(IF(ISNUMBER(B18),AND(B18>=1,B18<=100,B18=INT(B18)),FALSE())),"変更版は1〜100の整数で必須",IF(COUNTIFS($A$8:$A$107,A18,$B$8:$B$107,B18)>1,"同じ受注の変更版が重複",IF(AND(B18>1,COUNTIFS($A$8:$A$107,A18,$B$8:$B$107,B18-1)<>1),"変更版の連番が欠落",IF(NOT(IF(ISNUMBER(C18),AND(C18>=43831,C18<73051,C18=INT(C18)),FALSE())),"変更発生日は時刻なしで必須",IF(NOT(OR(D18="変更",D18="取消",D18="未確認")),"区分を確認",IF(AND(D18="変更",NOT(IF(ISNUMBER(E18),AND(E18>=0,E18<=1000000000,E18=INT(E18)),FALSE()))),"変更後総額は0〜10億円の整数で必須",IF(AND(D18<>"変更",COUNTA(E18)>0),"取消/未確認の金額は空欄",IF(NOT(IF(ISNUMBER(F18),AND(F18>=43831,F18<73051,F18=INT(F18)),FALSE())),"記録確認日は時刻なしで必須",IF(OR(C18<SUMIFS(当初受注!$B$8:$B$57,当初受注!$A$8:$A$57,A18),C18>F18,F18>受注一覧!$H$3),"受注日≦変更日≦確認日≦基準日を確認",IF(AND(B18>1,OR(C18<SUMIFS($C$8:$C$107,$A$8:$A$107,A18,$B$8:$B$107,B18-1),F18<SUMIFS($F$8:$F$107,$A$8:$A$107,A18,$B$8:$B$107,B18-1))),"前版より日付が逆行しています",IF(COUNTIFS($A$8:$A$107,A18,$B$8:$B$107,"<"&B18,$D$8:$D$107,"取消")+COUNTIFS($A$8:$A$107,A18,$B$8:$B$107,"<"&B18,$D$8:$D$107,"未確認")>0,"取消/未確認の後へ別版を追加できません","確認済み")))))))))))))),ISNUMBER(K18),K18=IF(J18="確認済み",0,1))),1,IF(K18<>0,0,IF(AND(ISNUMBER(G18),G18=IF(COUNTIFS($A$8:$A$107,A18,$B$8:$B$107,">"&B18)=0,1,0),IF(D18="未確認",ISTEXT(H18),ISNUMBER(H18)),H18=IF(D18="変更",E18,IF(D18="取消",0,""))),0,1)))) -> 0
G19: =IF(J19="","",IF(K19<>0,NA(),IF(COUNTIFS($A$8:$A$107,A19,$B$8:$B$107,">"&B19)=0,1,0))) | H19: =IF(J19="","",IF(K19<>0,NA(),IF(D19="変更",E19,IF(D19="取消",0,"")))) | J19: =IF(COUNTA(A19:F19)=0,"",IF(NOT(AND(ISTEXT(A19),LEN(A19)=8,EXACT(LEFT(A19,4),"ORD-"),ISNUMBER(FIND(MID(A19,5,1)&"x","0x1x2x3x4x5x6x7x8x9x")),ISNUMBER(FIND(MID(A19,6,1)&"x","0x1x2x3x4x5x6x7x8x9x")),ISNUMBER(FIND(MID(A19,7,1)&"x","0x1x2x3x4x5x6x7x8x9x")),ISNUMBER(FIND(MID(A19,8,1)&"x","0x1x2x3x4x5x6x7x8x9x")))),"IDはORD-と半角数字4桁",IF(COUNTIFS(当初受注!$A$8:$A$57,A19)<>1,"当初受注が一意に登録されていません",IF(NOT(IF(ISNUMBER(B19),AND(B19>=1,B19<=100,B19=INT(B19)),FALSE())),"変更版は1〜100の整数で必須",IF(COUNTIFS($A$8:$A$107,A19,$B$8:$B$107,B19)>1,"同じ受注の変更版が重複",IF(AND(B19>1,COUNTIFS($A$8:$A$107,A19,$B$8:$B$107,B19-1)<>1),"変更版の連番が欠落",IF(NOT(IF(ISNUMBER(C19),AND(C19>=43831,C19<73051,C19=INT(C19)),FALSE())),"変更発生日は時刻なしで必須",IF(NOT(OR(D19="変更",D19="取消",D19="未確認")),"区分を確認",IF(AND(D19="変更",NOT(IF(ISNUMBER(E19),AND(E19>=0,E19<=1000000000,E19=INT(E19)),FALSE()))),"変更後総額は0〜10億円の整数で必須",IF(AND(D19<>"変更",COUNTA(E19)>0),"取消/未確認の金額は空欄",IF(NOT(IF(ISNUMBER(F19),AND(F19>=43831,F19<73051,F19=INT(F19)),FALSE())),"記録確認日は時刻なしで必須",IF(OR(C19<SUMIFS(当初受注!$B$8:$B$57,当初受注!$A$8:$A$57,A19),C19>F19,F19>受注一覧!$H$3),"受注日≦変更日≦確認日≦基準日を確認",IF(AND(B19>1,OR(C19<SUMIFS($C$8:$C$107,$A$8:$A$107,A19,$B$8:$B$107,B19-1),F19<SUMIFS($F$8:$F$107,$A$8:$A$107,A19,$B$8:$B$107,B19-1))),"前版より日付が逆行しています",IF(COUNTIFS($A$8:$A$107,A19,$B$8:$B$107,"<"&B19,$D$8:$D$107,"取消")+COUNTIFS($A$8:$A$107,A19,$B$8:$B$107,"<"&B19,$D$8:$D$107,"未確認")>0,"取消/未確認の後へ別版を追加できません","確認済み")))))))))))))) | K19: =IF(J19="","",IF(J19="確認済み",0,1)) | L19: =IF(COUNTA(A19:F19)=0,IF(AND(J19="",K19="",G19="",H19=""),0,1),IF(NOT(AND(ISTEXT(J19),J19=IF(COUNTA(A19:F19)=0,"",IF(NOT(AND(ISTEXT(A19),LEN(A19)=8,EXACT(LEFT(A19,4),"ORD-"),ISNUMBER(FIND(MID(A19,5,1)&"x","0x1x2x3x4x5x6x7x8x9x")),ISNUMBER(FIND(MID(A19,6,1)&"x","0x1x2x3x4x5x6x7x8x9x")),ISNUMBER(FIND(MID(A19,7,1)&"x","0x1x2x3x4x5x6x7x8x9x")),ISNUMBER(FIND(MID(A19,8,1)&"x","0x1x2x3x4x5x6x7x8x9x")))),"IDはORD-と半角数字4桁",IF(COUNTIFS(当初受注!$A$8:$A$57,A19)<>1,"当初受注が一意に登録されていません",IF(NOT(IF(ISNUMBER(B19),AND(B19>=1,B19<=100,B19=INT(B19)),FALSE())),"変更版は1〜100の整数で必須",IF(COUNTIFS($A$8:$A$107,A19,$B$8:$B$107,B19)>1,"同じ受注の変更版が重複",IF(AND(B19>1,COUNTIFS($A$8:$A$107,A19,$B$8:$B$107,B19-1)<>1),"変更版の連番が欠落",IF(NOT(IF(ISNUMBER(C19),AND(C19>=43831,C19<73051,C19=INT(C19)),FALSE())),"変更発生日は時刻なしで必須",IF(NOT(OR(D19="変更",D19="取消",D19="未確認")),"区分を確認",IF(AND(D19="変更",NOT(IF(ISNUMBER(E19),AND(E19>=0,E19<=1000000000,E19=INT(E19)),FALSE()))),"変更後総額は0〜10億円の整数で必須",IF(AND(D19<>"変更",COUNTA(E19)>0),"取消/未確認の金額は空欄",IF(NOT(IF(ISNUMBER(F19),AND(F19>=43831,F19<73051,F19=INT(F19)),FALSE())),"記録確認日は時刻なしで必須",IF(OR(C19<SUMIFS(当初受注!$B$8:$B$57,当初受注!$A$8:$A$57,A19),C19>F19,F19>受注一覧!$H$3),"受注日≦変更日≦確認日≦基準日を確認",IF(AND(B19>1,OR(C19<SUMIFS($C$8:$C$107,$A$8:$A$107,A19,$B$8:$B$107,B19-1),F19<SUMIFS($F$8:$F$107,$A$8:$A$107,A19,$B$8:$B$107,B19-1))),"前版より日付が逆行しています",IF(COUNTIFS($A$8:$A$107,A19,$B$8:$B$107,"<"&B19,$D$8:$D$107,"取消")+COUNTIFS($A$8:$A$107,A19,$B$8:$B$107,"<"&B19,$D$8:$D$107,"未確認")>0,"取消/未確認の後へ別版を追加できません","確認済み")))))))))))))),ISNUMBER(K19),K19=IF(J19="確認済み",0,1))),1,IF(K19<>0,0,IF(AND(ISNUMBER(G19),G19=IF(COUNTIFS($A$8:$A$107,A19,$B$8:$B$107,">"&B19)=0,1,0),IF(D19="未確認",ISTEXT(H19),ISNUMBER(H19)),H19=IF(D19="変更",E19,IF(D19="取消",0,""))),0,1)))) -> 0
G20: =IF(J20="","",IF(K20<>0,NA(),IF(COUNTIFS($A$8:$A$107,A20,$B$8:$B$107,">"&B20)=0,1,0))) | H20: =IF(J20="","",IF(K20<>0,NA(),IF(D20="変更",E20,IF(D20="取消",0,"")))) | J20: =IF(COUNTA(A20:F20)=0,"",IF(NOT(AND(ISTEXT(A20),LEN(A20)=8,EXACT(LEFT(A20,4),"ORD-"),ISNUMBER(FIND(MID(A20,5,1)&"x","0x1x2x3x4x5x6x7x8x9x")),ISNUMBER(FIND(MID(A20,6,1)&"x","0x1x2x3x4x5x6x7x8x9x")),ISNUMBER(FIND(MID(A20,7,1)&"x","0x1x2x3x4x5x6x7x8x9x")),ISNUMBER(FIND(MID(A20,8,1)&"x","0x1x2x3x4x5x6x7x8x9x")))),"IDはORD-と半角数字4桁",IF(COUNTIFS(当初受注!$A$8:$A$57,A20)<>1,"当初受注が一意に登録されていません",IF(NOT(IF(ISNUMBER(B20),AND(B20>=1,B20<=100,B20=INT(B20)),FALSE())),"変更版は1〜100の整数で必須",IF(COUNTIFS($A$8:$A$107,A20,$B$8:$B$107,B20)>1,"同じ受注の変更版が重複",IF(AND(B20>1,COUNTIFS($A$8:$A$107,A20,$B$8:$B$107,B20-1)<>1),"変更版の連番が欠落",IF(NOT(IF(ISNUMBER(C20),AND(C20>=43831,C20<73051,C20=INT(C20)),FALSE())),"変更発生日は時刻なしで必須",IF(NOT(OR(D20="変更",D20="取消",D20="未確認")),"区分を確認",IF(AND(D20="変更",NOT(IF(ISNUMBER(E20),AND(E20>=0,E20<=1000000000,E20=INT(E20)),FALSE()))),"変更後総額は0〜10億円の整数で必須",IF(AND(D20<>"変更",COUNTA(E20)>0),"取消/未確認の金額は空欄",IF(NOT(IF(ISNUMBER(F20),AND(F20>=43831,F20<73051,F20=INT(F20)),FALSE())),"記録確認日は時刻なしで必須",IF(OR(C20<SUMIFS(当初受注!$B$8:$B$57,当初受注!$A$8:$A$57,A20),C20>F20,F20>受注一覧!$H$3),"受注日≦変更日≦確認日≦基準日を確認",IF(AND(B20>1,OR(C20<SUMIFS($C$8:$C$107,$A$8:$A$107,A20,$B$8:$B$107,B20-1),F20<SUMIFS($F$8:$F$107,$A$8:$A$107,A20,$B$8:$B$107,B20-1))),"前版より日付が逆行しています",IF(COUNTIFS($A$8:$A$107,A20,$B$8:$B$107,"<"&B20,$D$8:$D$107,"取消")+COUNTIFS($A$8:$A$107,A20,$B$8:$B$107,"<"&B20,$D$8:$D$107,"未確認")>0,"取消/未確認の後へ別版を追加できません","確認済み")))))))))))))) | K20: =IF(J20="","",IF(J20="確認済み",0,1)) | L20: =IF(COUNTA(A20:F20)=0,IF(AND(J20="",K20="",G20="",H20=""),0,1),IF(NOT(AND(ISTEXT(J20),J20=IF(COUNTA(A20:F20)=0,"",IF(NOT(AND(ISTEXT(A20),LEN(A20)=8,EXACT(LEFT(A20,4),"ORD-"),ISNUMBER(FIND(MID(A20,5,1)&"x","0x1x2x3x4x5x6x7x8x9x")),ISNUMBER(FIND(MID(A20,6,1)&"x","0x1x2x3x4x5x6x7x8x9x")),ISNUMBER(FIND(MID(A20,7,1)&"x","0x1x2x3x4x5x6x7x8x9x")),ISNUMBER(FIND(MID(A20,8,1)&"x","0x1x2x3x4x5x6x7x8x9x")))),"IDはORD-と半角数字4桁",IF(COUNTIFS(当初受注!$A$8:$A$57,A20)<>1,"当初受注が一意に登録されていません",IF(NOT(IF(ISNUMBER(B20),AND(B20>=1,B20<=100,B20=INT(B20)),FALSE())),"変更版は1〜100の整数で必須",IF(COUNTIFS($A$8:$A$107,A20,$B$8:$B$107,B20)>1,"同じ受注の変更版が重複",IF(AND(B20>1,COUNTIFS($A$8:$A$107,A20,$B$8:$B$107,B20-1)<>1),"変更版の連番が欠落",IF(NOT(IF(ISNUMBER(C20),AND(C20>=43831,C20<73051,C20=INT(C20)),FALSE())),"変更発生日は時刻なしで必須",IF(NOT(OR(D20="変更",D20="取消",D20="未確認")),"区分を確認",IF(AND(D20="変更",NOT(IF(ISNUMBER(E20),AND(E20>=0,E20<=1000000000,E20=INT(E20)),FALSE()))),"変更後総額は0〜10億円の整数で必須",IF(AND(D20<>"変更",COUNTA(E20)>0),"取消/未確認の金額は空欄",IF(NOT(IF(ISNUMBER(F20),AND(F20>=43831,F20<73051,F20=INT(F20)),FALSE())),"記録確認日は時刻なしで必須",IF(OR(C20<SUMIFS(当初受注!$B$8:$B$57,当初受注!$A$8:$A$57,A20),C20>F20,F20>受注一覧!$H$3),"受注日≦変更日≦確認日≦基準日を確認",IF(AND(B20>1,OR(C20<SUMIFS($C$8:$C$107,$A$8:$A$107,A20,$B$8:$B$107,B20-1),F20<SUMIFS($F$8:$F$107,$A$8:$A$107,A20,$B$8:$B$107,B20-1))),"前版より日付が逆行しています",IF(COUNTIFS($A$8:$A$107,A20,$B$8:$B$107,"<"&B20,$D$8:$D$107,"取消")+COUNTIFS($A$8:$A$107,A20,$B$8:$B$107,"<"&B20,$D$8:$D$107,"未確認")>0,"取消/未確認の後へ別版を追加できません","確認済み")))))))))))))),ISNUMBER(K20),K20=IF(J20="確認済み",0,1))),1,IF(K20<>0,0,IF(AND(ISNUMBER(G20),G20=IF(COUNTIFS($A$8:$A$107,A20,$B$8:$B$107,">"&B20)=0,1,0),IF(D20="未確認",ISTEXT(H20),ISNUMBER(H20)),H20=IF(D20="変更",E20,IF(D20="取消",0,""))),0,1)))) -> 0
G21: =IF(J21="","",IF(K21<>0,NA(),IF(COUNTIFS($A$8:$A$107,A21,$B$8:$B$107,">"&B21)=0,1,0))) | H21: =IF(J21="","",IF(K21<>0,NA(),IF(D21="変更",E21,IF(D21="取消",0,"")))) | J21: =IF(COUNTA(A21:F21)=0,"",IF(NOT(AND(ISTEXT(A21),LEN(A21)=8,EXACT(LEFT(A21,4),"ORD-"),ISNUMBER(FIND(MID(A21,5,1)&"x","0x1x2x3x4x5x6x7x8x9x")),ISNUMBER(FIND(MID(A21,6,1)&"x","0x1x2x3x4x5x6x7x8x9x")),ISNUMBER(FIND(MID(A21,7,1)&"x","0x1x2x3x4x5x6x7x8x9x")),ISNUMBER(FIND(MID(A21,8,1)&"x","0x1x2x3x4x5x6x7x8x9x")))),"IDはORD-と半角数字4桁",IF(COUNTIFS(当初受注!$A$8:$A$57,A21)<>1,"当初受注が一意に登録されていません",IF(NOT(IF(ISNUMBER(B21),AND(B21>=1,B21<=100,B21=INT(B21)),FALSE())),"変更版は1〜100の整数で必須",IF(COUNTIFS($A$8:$A$107,A21,$B$8:$B$107,B21)>1,"同じ受注の変更版が重複",IF(AND(B21>1,COUNTIFS($A$8:$A$107,A21,$B$8:$B$107,B21-1)<>1),"変更版の連番が欠落",IF(NOT(IF(ISNUMBER(C21),AND(C21>=43831,C21<73051,C21=INT(C21)),FALSE())),"変更発生日は時刻なしで必須",IF(NOT(OR(D21="変更",D21="取消",D21="未確認")),"区分を確認",IF(AND(D21="変更",NOT(IF(ISNUMBER(E21),AND(E21>=0,E21<=1000000000,E21=INT(E21)),FALSE()))),"変更後総額は0〜10億円の整数で必須",IF(AND(D21<>"変更",COUNTA(E21)>0),"取消/未確認の金額は空欄",IF(NOT(IF(ISNUMBER(F21),AND(F21>=43831,F21<73051,F21=INT(F21)),FALSE())),"記録確認日は時刻なしで必須",IF(OR(C21<SUMIFS(当初受注!$B$8:$B$57,当初受注!$A$8:$A$57,A21),C21>F21,F21>受注一覧!$H$3),"受注日≦変更日≦確認日≦基準日を確認",IF(AND(B21>1,OR(C21<SUMIFS($C$8:$C$107,$A$8:$A$107,A21,$B$8:$B$107,B21-1),F21<SUMIFS($F$8:$F$107,$A$8:$A$107,A21,$B$8:$B$107,B21-1))),"前版より日付が逆行しています",IF(COUNTIFS($A$8:$A$107,A21,$B$8:$B$107,"<"&B21,$D$8:$D$107,"取消")+COUNTIFS($A$8:$A$107,A21,$B$8:$B$107,"<"&B21,$D$8:$D$107,"未確認")>0,"取消/未確認の後へ別版を追加できません","確認済み")))))))))))))) | K21: =IF(J21="","",IF(J21="確認済み",0,1)) | L21: =IF(COUNTA(A21:F21)=0,IF(AND(J21="",K21="",G21="",H21=""),0,1),IF(NOT(AND(ISTEXT(J21),J21=IF(COUNTA(A21:F21)=0,"",IF(NOT(AND(ISTEXT(A21),LEN(A21)=8,EXACT(LEFT(A21,4),"ORD-"),ISNUMBER(FIND(MID(A21,5,1)&"x","0x1x2x3x4x5x6x7x8x9x")),ISNUMBER(FIND(MID(A21,6,1)&"x","0x1x2x3x4x5x6x7x8x9x")),ISNUMBER(FIND(MID(A21,7,1)&"x","0x1x2x3x4x5x6x7x8x9x")),ISNUMBER(FIND(MID(A21,8,1)&"x","0x1x2x3x4x5x6x7x8x9x")))),"IDはORD-と半角数字4桁",IF(COUNTIFS(当初受注!$A$8:$A$57,A21)<>1,"当初受注が一意に登録されていません",IF(NOT(IF(ISNUMBER(B21),AND(B21>=1,B21<=100,B21=INT(B21)),FALSE())),"変更版は1〜100の整数で必須",IF(COUNTIFS($A$8:$A$107,A21,$B$8:$B$107,B21)>1,"同じ受注の変更版が重複",IF(AND(B21>1,COUNTIFS($A$8:$A$107,A21,$B$8:$B$107,B21-1)<>1),"変更版の連番が欠落",IF(NOT(IF(ISNUMBER(C21),AND(C21>=43831,C21<73051,C21=INT(C21)),FALSE())),"変更発生日は時刻なしで必須",IF(NOT(OR(D21="変更",D21="取消",D21="未確認")),"区分を確認",IF(AND(D21="変更",NOT(IF(ISNUMBER(E21),AND(E21>=0,E21<=1000000000,E21=INT(E21)),FALSE()))),"変更後総額は0〜10億円の整数で必須",IF(AND(D21<>"変更",COUNTA(E21)>0),"取消/未確認の金額は空欄",IF(NOT(IF(ISNUMBER(F21),AND(F21>=43831,F21<73051,F21=INT(F21)),FALSE())),"記録確認日は時刻なしで必須",IF(OR(C21<SUMIFS(当初受注!$B$8:$B$57,当初受注!$A$8:$A$57,A21),C21>F21,F21>受注一覧!$H$3),"受注日≦変更日≦確認日≦基準日を確認",IF(AND(B21>1,OR(C21<SUMIFS($C$8:$C$107,$A$8:$A$107,A21,$B$8:$B$107,B21-1),F21<SUMIFS($F$8:$F$107,$A$8:$A$107,A21,$B$8:$B$107,B21-1))),"前版より日付が逆行しています",IF(COUNTIFS($A$8:$A$107,A21,$B$8:$B$107,"<"&B21,$D$8:$D$107,"取消")+COUNTIFS($A$8:$A$107,A21,$B$8:$B$107,"<"&B21,$D$8:$D$107,"未確認")>0,"取消/未確認の後へ別版を追加できません","確認済み")))))))))))))),ISNUMBER(K21),K21=IF(J21="確認済み",0,1))),1,IF(K21<>0,0,IF(AND(ISNUMBER(G21),G21=IF(COUNTIFS($A$8:$A$107,A21,$B$8:$B$107,">"&B21)=0,1,0),IF(D21="未確認",ISTEXT(H21),ISNUMBER(H21)),H21=IF(D21="変更",E21,IF(D21="取消",0,""))),0,1)))) -> 0
G22: =IF(J22="","",IF(K22<>0,NA(),IF(COUNTIFS($A$8:$A$107,A22,$B$8:$B$107,">"&B22)=0,1,0))) | H22: =IF(J22="","",IF(K22<>0,NA(),IF(D22="変更",E22,IF(D22="取消",0,"")))) | J22: =IF(COUNTA(A22:F22)=0,"",IF(NOT(AND(ISTEXT(A22),LEN(A22)=8,EXACT(LEFT(A22,4),"ORD-"),ISNUMBER(FIND(MID(A22,5,1)&"x","0x1x2x3x4x5x6x7x8x9x")),ISNUMBER(FIND(MID(A22,6,1)&"x","0x1x2x3x4x5x6x7x8x9x")),ISNUMBER(FIND(MID(A22,7,1)&"x","0x1x2x3x4x5x6x7x8x9x")),ISNUMBER(FIND(MID(A22,8,1)&"x","0x1x2x3x4x5x6x7x8x9x")))),"IDはORD-と半角数字4桁",IF(COUNTIFS(当初受注!$A$8:$A$57,A22)<>1,"当初受注が一意に登録されていません",IF(NOT(IF(ISNUMBER(B22),AND(B22>=1,B22<=100,B22=INT(B22)),FALSE())),"変更版は1〜100の整数で必須",IF(COUNTIFS($A$8:$A$107,A22,$B$8:$B$107,B22)>1,"同じ受注の変更版が重複",IF(AND(B22>1,COUNTIFS($A$8:$A$107,A22,$B$8:$B$107,B22-1)<>1),"変更版の連番が欠落",IF(NOT(IF(ISNUMBER(C22),AND(C22>=43831,C22<73051,C22=INT(C22)),FALSE())),"変更発生日は時刻なしで必須",IF(NOT(OR(D22="変更",D22="取消",D22="未確認")),"区分を確認",IF(AND(D22="変更",NOT(IF(ISNUMBER(E22),AND(E22>=0,E22<=1000000000,E22=INT(E22)),FALSE()))),"変更後総額は0〜10億円の整数で必須",IF(AND(D22<>"変更",COUNTA(E22)>0),"取消/未確認の金額は空欄",IF(NOT(IF(ISNUMBER(F22),AND(F22>=43831,F22<73051,F22=INT(F22)),FALSE())),"記録確認日は時刻なしで必須",IF(OR(C22<SUMIFS(当初受注!$B$8:$B$57,当初受注!$A$8:$A$57,A22),C22>F22,F22>受注一覧!$H$3),"受注日≦変更日≦確認日≦基準日を確認",IF(AND(B22>1,OR(C22<SUMIFS($C$8:$C$107,$A$8:$A$107,A22,$B$8:$B$107,B22-1),F22<SUMIFS($F$8:$F$107,$A$8:$A$107,A22,$B$8:$B$107,B22-1))),"前版より日付が逆行しています",IF(COUNTIFS($A$8:$A$107,A22,$B$8:$B$107,"<"&B22,$D$8:$D$107,"取消")+COUNTIFS($A$8:$A$107,A22,$B$8:$B$107,"<"&B22,$D$8:$D$107,"未確認")>0,"取消/未確認の後へ別版を追加できません","確認済み")))))))))))))) | K22: =IF(J22="","",IF(J22="確認済み",0,1)) | L22: =IF(COUNTA(A22:F22)=0,IF(AND(J22="",K22="",G22="",H22=""),0,1),IF(NOT(AND(ISTEXT(J22),J22=IF(COUNTA(A22:F22)=0,"",IF(NOT(AND(ISTEXT(A22),LEN(A22)=8,EXACT(LEFT(A22,4),"ORD-"),ISNUMBER(FIND(MID(A22,5,1)&"x","0x1x2x3x4x5x6x7x8x9x")),ISNUMBER(FIND(MID(A22,6,1)&"x","0x1x2x3x4x5x6x7x8x9x")),ISNUMBER(FIND(MID(A22,7,1)&"x","0x1x2x3x4x5x6x7x8x9x")),ISNUMBER(FIND(MID(A22,8,1)&"x","0x1x2x3x4x5x6x7x8x9x")))),"IDはORD-と半角数字4桁",IF(COUNTIFS(当初受注!$A$8:$A$57,A22)<>1,"当初受注が一意に登録されていません",IF(NOT(IF(ISNUMBER(B22),AND(B22>=1,B22<=100,B22=INT(B22)),FALSE())),"変更版は1〜100の整数で必須",IF(COUNTIFS($A$8:$A$107,A22,$B$8:$B$107,B22)>1,"同じ受注の変更版が重複",IF(AND(B22>1,COUNTIFS($A$8:$A$107,A22,$B$8:$B$107,B22-1)<>1),"変更版の連番が欠落",IF(NOT(IF(ISNUMBER(C22),AND(C22>=43831,C22<73051,C22=INT(C22)),FALSE())),"変更発生日は時刻なしで必須",IF(NOT(OR(D22="変更",D22="取消",D22="未確認")),"区分を確認",IF(AND(D22="変更",NOT(IF(ISNUMBER(E22),AND(E22>=0,E22<=1000000000,E22=INT(E22)),FALSE()))),"変更後総額は0〜10億円の整数で必須",IF(AND(D22<>"変更",COUNTA(E22)>0),"取消/未確認の金額は空欄",IF(NOT(IF(ISNUMBER(F22),AND(F22>=43831,F22<73051,F22=INT(F22)),FALSE())),"記録確認日は時刻なしで必須",IF(OR(C22<SUMIFS(当初受注!$B$8:$B$57,当初受注!$A$8:$A$57,A22),C22>F22,F22>受注一覧!$H$3),"受注日≦変更日≦確認日≦基準日を確認",IF(AND(B22>1,OR(C22<SUMIFS($C$8:$C$107,$A$8:$A$107,A22,$B$8:$B$107,B22-1),F22<SUMIFS($F$8:$F$107,$A$8:$A$107,A22,$B$8:$B$107,B22-1))),"前版より日付が逆行しています",IF(COUNTIFS($A$8:$A$107,A22,$B$8:$B$107,"<"&B22,$D$8:$D$107,"取消")+COUNTIFS($A$8:$A$107,A22,$B$8:$B$107,"<"&B22,$D$8:$D$107,"未確認")>0,"取消/未確認の後へ別版を追加できません","確認済み")))))))))))))),ISNUMBER(K22),K22=IF(J22="確認済み",0,1))),1,IF(K22<>0,0,IF(AND(ISNUMBER(G22),G22=IF(COUNTIFS($A$8:$A$107,A22,$B$8:$B$107,">"&B22)=0,1,0),IF(D22="未確認",ISTEXT(H22),ISNUMBER(H22)),H22=IF(D22="変更",E22,IF(D22="取消",0,""))),0,1)))) -> 0
G23: =IF(J23="","",IF(K23<>0,NA(),IF(COUNTIFS($A$8:$A$107,A23,$B$8:$B$107,">"&B23)=0,1,0))) | H23: =IF(J23="","",IF(K23<>0,NA(),IF(D23="変更",E23,IF(D23="取消",0,"")))) | J23: =IF(COUNTA(A23:F23)=0,"",IF(NOT(AND(ISTEXT(A23),LEN(A23)=8,EXACT(LEFT(A23,4),"ORD-"),ISNUMBER(FIND(MID(A23,5,1)&"x","0x1x2x3x4x5x6x7x8x9x")),ISNUMBER(FIND(MID(A23,6,1)&"x","0x1x2x3x4x5x6x7x8x9x")),ISNUMBER(FIND(MID(A23,7,1)&"x","0x1x2x3x4x5x6x7x8x9x")),ISNUMBER(FIND(MID(A23,8,1)&"x","0x1x2x3x4x5x6x7x8x9x")))),"IDはORD-と半角数字4桁",IF(COUNTIFS(当初受注!$A$8:$A$57,A23)<>1,"当初受注が一意に登録されていません",IF(NOT(IF(ISNUMBER(B23),AND(B23>=1,B23<=100,B23=INT(B23)),FALSE())),"変更版は1〜100の整数で必須",IF(COUNTIFS($A$8:$A$107,A23,$B$8:$B$107,B23)>1,"同じ受注の変更版が重複",IF(AND(B23>1,COUNTIFS($A$8:$A$107,A23,$B$8:$B$107,B23-1)<>1),"変更版の連番が欠落",IF(NOT(IF(ISNUMBER(C23),AND(C23>=43831,C23<73051,C23=INT(C23)),FALSE())),"変更発生日は時刻なしで必須",IF(NOT(OR(D23="変更",D23="取消",D23="未確認")),"区分を確認",IF(AND(D23="変更",NOT(IF(ISNUMBER(E23),AND(E23>=0,E23<=1000000000,E23=INT(E23)),FALSE()))),"変更後総額は0〜10億円の整数で必須",IF(AND(D23<>"変更",COUNTA(E23)>0),"取消/未確認の金額は空欄",IF(NOT(IF(ISNUMBER(F23),AND(F23>=43831,F23<73051,F23=INT(F23)),FALSE())),"記録確認日は時刻なしで必須",IF(OR(C23<SUMIFS(当初受注!$B$8:$B$57,当初受注!$A$8:$A$57,A23),C23>F23,F23>受注一覧!$H$3),"受注日≦変更日≦確認日≦基準日を確認",IF(AND(B23>1,OR(C23<SUMIFS($C$8:$C$107,$A$8:$A$107,A23,$B$8:$B$107,B23-1),F23<SUMIFS($F$8:$F$107,$A$8:$A$107,A23,$B$8:$B$107,B23-1))),"前版より日付が逆行しています",IF(COUNTIFS($A$8:$A$107,A23,$B$8:$B$107,"<"&B23,$D$8:$D$107,"取消")+COUNTIFS($A$8:$A$107,A23,$B$8:$B$107,"<"&B23,$D$8:$D$107,"未確認")>0,"取消/未確認の後へ別版を追加できません","確認済み")))))))))))))) | K23: =IF(J23="","",IF(J23="確認済み",0,1)) | L23: =IF(COUNTA(A23:F23)=0,IF(AND(J23="",K23="",G23="",H23=""),0,1),IF(NOT(AND(ISTEXT(J23),J23=IF(COUNTA(A23:F23)=0,"",IF(NOT(AND(ISTEXT(A23),LEN(A23)=8,EXACT(LEFT(A23,4),"ORD-"),ISNUMBER(FIND(MID(A23,5,1)&"x","0x1x2x3x4x5x6x7x8x9x")),ISNUMBER(FIND(MID(A23,6,1)&"x","0x1x2x3x4x5x6x7x8x9x")),ISNUMBER(FIND(MID(A23,7,1)&"x","0x1x2x3x4x5x6x7x8x9x")),ISNUMBER(FIND(MID(A23,8,1)&"x","0x1x2x3x4x5x6x7x8x9x")))),"IDはORD-と半角数字4桁",IF(COUNTIFS(当初受注!$A$8:$A$57,A23)<>1,"当初受注が一意に登録されていません",IF(NOT(IF(ISNUMBER(B23),AND(B23>=1,B23<=100,B23=INT(B23)),FALSE())),"変更版は1〜100の整数で必須",IF(COUNTIFS($A$8:$A$107,A23,$B$8:$B$107,B23)>1,"同じ受注の変更版が重複",IF(AND(B23>1,COUNTIFS($A$8:$A$107,A23,$B$8:$B$107,B23-1)<>1),"変更版の連番が欠落",IF(NOT(IF(ISNUMBER(C23),AND(C23>=43831,C23<73051,C23=INT(C23)),FALSE())),"変更発生日は時刻なしで必須",IF(NOT(OR(D23="変更",D23="取消",D23="未確認")),"区分を確認",IF(AND(D23="変更",NOT(IF(ISNUMBER(E23),AND(E23>=0,E23<=1000000000,E23=INT(E23)),FALSE()))),"変更後総額は0〜10億円の整数で必須",IF(AND(D23<>"変更",COUNTA(E23)>0),"取消/未確認の金額は空欄",IF(NOT(IF(ISNUMBER(F23),AND(F23>=43831,F23<73051,F23=INT(F23)),FALSE())),"記録確認日は時刻なしで必須",IF(OR(C23<SUMIFS(当初受注!$B$8:$B$57,当初受注!$A$8:$A$57,A23),C23>F23,F23>受注一覧!$H$3),"受注日≦変更日≦確認日≦基準日を確認",IF(AND(B23>1,OR(C23<SUMIFS($C$8:$C$107,$A$8:$A$107,A23,$B$8:$B$107,B23-1),F23<SUMIFS($F$8:$F$107,$A$8:$A$107,A23,$B$8:$B$107,B23-1))),"前版より日付が逆行しています",IF(COUNTIFS($A$8:$A$107,A23,$B$8:$B$107,"<"&B23,$D$8:$D$107,"取消")+COUNTIFS($A$8:$A$107,A23,$B$8:$B$107,"<"&B23,$D$8:$D$107,"未確認")>0,"取消/未確認の後へ別版を追加できません","確認済み")))))))))))))),ISNUMBER(K23),K23=IF(J23="確認済み",0,1))),1,IF(K23<>0,0,IF(AND(ISNUMBER(G23),G23=IF(COUNTIFS($A$8:$A$107,A23,$B$8:$B$107,">"&B23)=0,1,0),IF(D23="未確認",ISTEXT(H23),ISNUMBER(H23)),H23=IF(D23="変更",E23,IF(D23="取消",0,""))),0,1)))) -> 0
G24: =IF(J24="","",IF(K24<>0,NA(),IF(COUNTIFS($A$8:$A$107,A24,$B$8:$B$107,">"&B24)=0,1,0))) | H24: =IF(J24="","",IF(K24<>0,NA(),IF(D24="変更",E24,IF(D24="取消",0,"")))) | J24: =IF(COUNTA(A24:F24)=0,"",IF(NOT(AND(ISTEXT(A24),LEN(A24)=8,EXACT(LEFT(A24,4),"ORD-"),ISNUMBER(FIND(MID(A24,5,1)&"x","0x1x2x3x4x5x6x7x8x9x")),ISNUMBER(FIND(MID(A24,6,1)&"x","0x1x2x3x4x5x6x7x8x9x")),ISNUMBER(FIND(MID(A24,7,1)&"x","0x1x2x3x4x5x6x7x8x9x")),ISNUMBER(FIND(MID(A24,8,1)&"x","0x1x2x3x4x5x6x7x8x9x")))),"IDはORD-と半角数字4桁",IF(COUNTIFS(当初受注!$A$8:$A$57,A24)<>1,"当初受注が一意に登録されていません",IF(NOT(IF(ISNUMBER(B24),AND(B24>=1,B24<=100,B24=INT(B24)),FALSE())),"変更版は1〜100の整数で必須",IF(COUNTIFS($A$8:$A$107,A24,$B$8:$B$107,B24)>1,"同じ受注の変更版が重複",IF(AND(B24>1,COUNTIFS($A$8:$A$107,A24,$B$8:$B$107,B24-1)<>1),"変更版の連番が欠落",IF(NOT(IF(ISNUMBER(C24),AND(C24>=43831,C24<73051,C24=INT(C24)),FALSE())),"変更発生日は時刻なしで必須",IF(NOT(OR(D24="変更",D24="取消",D24="未確認")),"区分を確認",IF(AND(D24="変更",NOT(IF(ISNUMBER(E24),AND(E24>=0,E24<=1000000000,E24=INT(E24)),FALSE()))),"変更後総額は0〜10億円の整数で必須",IF(AND(D24<>"変更",COUNTA(E24)>0),"取消/未確認の金額は空欄",IF(NOT(IF(ISNUMBER(F24),AND(F24>=43831,F24<73051,F24=INT(F24)),FALSE())),"記録確認日は時刻なしで必須",IF(OR(C24<SUMIFS(当初受注!$B$8:$B$57,当初受注!$A$8:$A$57,A24),C24>F24,F24>受注一覧!$H$3),"受注日≦変更日≦確認日≦基準日を確認",IF(AND(B24>1,OR(C24<SUMIFS($C$8:$C$107,$A$8:$A$107,A24,$B$8:$B$107,B24-1),F24<SUMIFS($F$8:$F$107,$A$8:$A$107,A24,$B$8:$B$107,B24-1))),"前版より日付が逆行しています",IF(COUNTIFS($A$8:$A$107,A24,$B$8:$B$107,"<"&B24,$D$8:$D$107,"取消")+COUNTIFS($A$8:$A$107,A24,$B$8:$B$107,"<"&B24,$D$8:$D$107,"未確認")>0,"取消/未確認の後へ別版を追加できません","確認済み")))))))))))))) | K24: =IF(J24="","",IF(J24="確認済み",0,1)) | L24: =IF(COUNTA(A24:F24)=0,IF(AND(J24="",K24="",G24="",H24=""),0,1),IF(NOT(AND(ISTEXT(J24),J24=IF(COUNTA(A24:F24)=0,"",IF(NOT(AND(ISTEXT(A24),LEN(A24)=8,EXACT(LEFT(A24,4),"ORD-"),ISNUMBER(FIND(MID(A24,5,1)&"x","0x1x2x3x4x5x6x7x8x9x")),ISNUMBER(FIND(MID(A24,6,1)&"x","0x1x2x3x4x5x6x7x8x9x")),ISNUMBER(FIND(MID(A24,7,1)&"x","0x1x2x3x4x5x6x7x8x9x")),ISNUMBER(FIND(MID(A24,8,1)&"x","0x1x2x3x4x5x6x7x8x9x")))),"IDはORD-と半角数字4桁",IF(COUNTIFS(当初受注!$A$8:$A$57,A24)<>1,"当初受注が一意に登録されていません",IF(NOT(IF(ISNUMBER(B24),AND(B24>=1,B24<=100,B24=INT(B24)),FALSE())),"変更版は1〜100の整数で必須",IF(COUNTIFS($A$8:$A$107,A24,$B$8:$B$107,B24)>1,"同じ受注の変更版が重複",IF(AND(B24>1,COUNTIFS($A$8:$A$107,A24,$B$8:$B$107,B24-1)<>1),"変更版の連番が欠落",IF(NOT(IF(ISNUMBER(C24),AND(C24>=43831,C24<73051,C24=INT(C24)),FALSE())),"変更発生日は時刻なしで必須",IF(NOT(OR(D24="変更",D24="取消",D24="未確認")),"区分を確認",IF(AND(D24="変更",NOT(IF(ISNUMBER(E24),AND(E24>=0,E24<=1000000000,E24=INT(E24)),FALSE()))),"変更後総額は0〜10億円の整数で必須",IF(AND(D24<>"変更",COUNTA(E24)>0),"取消/未確認の金額は空欄",IF(NOT(IF(ISNUMBER(F24),AND(F24>=43831,F24<73051,F24=INT(F24)),FALSE())),"記録確認日は時刻なしで必須",IF(OR(C24<SUMIFS(当初受注!$B$8:$B$57,当初受注!$A$8:$A$57,A24),C24>F24,F24>受注一覧!$H$3),"受注日≦変更日≦確認日≦基準日を確認",IF(AND(B24>1,OR(C24<SUMIFS($C$8:$C$107,$A$8:$A$107,A24,$B$8:$B$107,B24-1),F24<SUMIFS($F$8:$F$107,$A$8:$A$107,A24,$B$8:$B$107,B24-1))),"前版より日付が逆行しています",IF(COUNTIFS($A$8:$A$107,A24,$B$8:$B$107,"<"&B24,$D$8:$D$107,"取消")+COUNTIFS($A$8:$A$107,A24,$B$8:$B$107,"<"&B24,$D$8:$D$107,"未確認")>0,"取消/未確認の後へ別版を追加できません","確認済み")))))))))))))),ISNUMBER(K24),K24=IF(J24="確認済み",0,1))),1,IF(K24<>0,0,IF(AND(ISNUMBER(G24),G24=IF(COUNTIFS($A$8:$A$107,A24,$B$8:$B$107,">"&B24)=0,1,0),IF(D24="未確認",ISTEXT(H24),ISNUMBER(H24)),H24=IF(D24="変更",E24,IF(D24="取消",0,""))),0,1)))) -> 0
G25: =IF(J25="","",IF(K25<>0,NA(),IF(COUNTIFS($A$8:$A$107,A25,$B$8:$B$107,">"&B25)=0,1,0))) | H25: =IF(J25="","",IF(K25<>0,NA(),IF(D25="変更",E25,IF(D25="取消",0,"")))) | J25: =IF(COUNTA(A25:F25)=0,"",IF(NOT(AND(ISTEXT(A25),LEN(A25)=8,EXACT(LEFT(A25,4),"ORD-"),ISNUMBER(FIND(MID(A25,5,1)&"x","0x1x2x3x4x5x6x7x8x9x")),ISNUMBER(FIND(MID(A25,6,1)&"x","0x1x2x3x4x5x6x7x8x9x")),ISNUMBER(FIND(MID(A25,7,1)&"x","0x1x2x3x4x5x6x7x8x9x")),ISNUMBER(FIND(MID(A25,8,1)&"x","0x1x2x3x4x5x6x7x8x9x")))),"IDはORD-と半角数字4桁",IF(COUNTIFS(当初受注!$A$8:$A$57,A25)<>1,"当初受注が一意に登録されていません",IF(NOT(IF(ISNUMBER(B25),AND(B25>=1,B25<=100,B25=INT(B25)),FALSE())),"変更版は1〜100の整数で必須",IF(COUNTIFS($A$8:$A$107,A25,$B$8:$B$107,B25)>1,"同じ受注の変更版が重複",IF(AND(B25>1,COUNTIFS($A$8:$A$107,A25,$B$8:$B$107,B25-1)<>1),"変更版の連番が欠落",IF(NOT(IF(ISNUMBER(C25),AND(C25>=43831,C25<73051,C25=INT(C25)),FALSE())),"変更発生日は時刻なしで必須",IF(NOT(OR(D25="変更",D25="取消",D25="未確認")),"区分を確認",IF(AND(D25="変更",NOT(IF(ISNUMBER(E25),AND(E25>=0,E25<=1000000000,E25=INT(E25)),FALSE()))),"変更後総額は0〜10億円の整数で必須",IF(AND(D25<>"変更",COUNTA(E25)>0),"取消/未確認の金額は空欄",IF(NOT(IF(ISNUMBER(F25),AND(F25>=43831,F25<73051,F25=INT(F25)),FALSE())),"記録確認日は時刻なしで必須",IF(OR(C25<SUMIFS(当初受注!$B$8:$B$57,当初受注!$A$8:$A$57,A25),C25>F25,F25>受注一覧!$H$3),"受注日≦変更日≦確認日≦基準日を確認",IF(AND(B25>1,OR(C25<SUMIFS($C$8:$C$107,$A$8:$A$107,A25,$B$8:$B$107,B25-1),F25<SUMIFS($F$8:$F$107,$A$8:$A$107,A25,$B$8:$B$107,B25-1))),"前版より日付が逆行しています",IF(COUNTIFS($A$8:$A$107,A25,$B$8:$B$107,"<"&B25,$D$8:$D$107,"取消")+COUNTIFS($A$8:$A$107,A25,$B$8:$B$107,"<"&B25,$D$8:$D$107,"未確認")>0,"取消/未確認の後へ別版を追加できません","確認済み")))))))))))))) | K25: =IF(J25="","",IF(J25="確認済み",0,1)) | L25: =IF(COUNTA(A25:F25)=0,IF(AND(J25="",K25="",G25="",H25=""),0,1),IF(NOT(AND(ISTEXT(J25),J25=IF(COUNTA(A25:F25)=0,"",IF(NOT(AND(ISTEXT(A25),LEN(A25)=8,EXACT(LEFT(A25,4),"ORD-"),ISNUMBER(FIND(MID(A25,5,1)&"x","0x1x2x3x4x5x6x7x8x9x")),ISNUMBER(FIND(MID(A25,6,1)&"x","0x1x2x3x4x5x6x7x8x9x")),ISNUMBER(FIND(MID(A25,7,1)&"x","0x1x2x3x4x5x6x7x8x9x")),ISNUMBER(FIND(MID(A25,8,1)&"x","0x1x2x3x4x5x6x7x8x9x")))),"IDはORD-と半角数字4桁",IF(COUNTIFS(当初受注!$A$8:$A$57,A25)<>1,"当初受注が一意に登録されていません",IF(NOT(IF(ISNUMBER(B25),AND(B25>=1,B25<=100,B25=INT(B25)),FALSE())),"変更版は1〜100の整数で必須",IF(COUNTIFS($A$8:$A$107,A25,$B$8:$B$107,B25)>1,"同じ受注の変更版が重複",IF(AND(B25>1,COUNTIFS($A$8:$A$107,A25,$B$8:$B$107,B25-1)<>1),"変更版の連番が欠落",IF(NOT(IF(ISNUMBER(C25),AND(C25>=43831,C25<73051,C25=INT(C25)),FALSE())),"変更発生日は時刻なしで必須",IF(NOT(OR(D25="変更",D25="取消",D25="未確認")),"区分を確認",IF(AND(D25="変更",NOT(IF(ISNUMBER(E25),AND(E25>=0,E25<=1000000000,E25=INT(E25)),FALSE()))),"変更後総額は0〜10億円の整数で必須",IF(AND(D25<>"変更",COUNTA(E25)>0),"取消/未確認の金額は空欄",IF(NOT(IF(ISNUMBER(F25),AND(F25>=43831,F25<73051,F25=INT(F25)),FALSE())),"記録確認日は時刻なしで必須",IF(OR(C25<SUMIFS(当初受注!$B$8:$B$57,当初受注!$A$8:$A$57,A25),C25>F25,F25>受注一覧!$H$3),"受注日≦変更日≦確認日≦基準日を確認",IF(AND(B25>1,OR(C25<SUMIFS($C$8:$C$107,$A$8:$A$107,A25,$B$8:$B$107,B25-1),F25<SUMIFS($F$8:$F$107,$A$8:$A$107,A25,$B$8:$B$107,B25-1))),"前版より日付が逆行しています",IF(COUNTIFS($A$8:$A$107,A25,$B$8:$B$107,"<"&B25,$D$8:$D$107,"取消")+COUNTIFS($A$8:$A$107,A25,$B$8:$B$107,"<"&B25,$D$8:$D$107,"未確認")>0,"取消/未確認の後へ別版を追加できません","確認済み")))))))))))))),ISNUMBER(K25),K25=IF(J25="確認済み",0,1))),1,IF(K25<>0,0,IF(AND(ISNUMBER(G25),G25=IF(COUNTIFS($A$8:$A$107,A25,$B$8:$B$107,">"&B25)=0,1,0),IF(D25="未確認",ISTEXT(H25),ISNUMBER(H25)),H25=IF(D25="変更",E25,IF(D25="取消",0,""))),0,1)))) -> 0
G26: =IF(J26="","",IF(K26<>0,NA(),IF(COUNTIFS($A$8:$A$107,A26,$B$8:$B$107,">"&B26)=0,1,0))) | H26: =IF(J26="","",IF(K26<>0,NA(),IF(D26="変更",E26,IF(D26="取消",0,"")))) | J26: =IF(COUNTA(A26:F26)=0,"",IF(NOT(AND(ISTEXT(A26),LEN(A26)=8,EXACT(LEFT(A26,4),"ORD-"),ISNUMBER(FIND(MID(A26,5,1)&"x","0x1x2x3x4x5x6x7x8x9x")),ISNUMBER(FIND(MID(A26,6,1)&"x","0x1x2x3x4x5x6x7x8x9x")),ISNUMBER(FIND(MID(A26,7,1)&"x","0x1x2x3x4x5x6x7x8x9x")),ISNUMBER(FIND(MID(A26,8,1)&"x","0x1x2x3x4x5x6x7x8x9x")))),"IDはORD-と半角数字4桁",IF(COUNTIFS(当初受注!$A$8:$A$57,A26)<>1,"当初受注が一意に登録されていません",IF(NOT(IF(ISNUMBER(B26),AND(B26>=1,B26<=100,B26=INT(B26)),FALSE())),"変更版は1〜100の整数で必須",IF(COUNTIFS($A$8:$A$107,A26,$B$8:$B$107,B26)>1,"同じ受注の変更版が重複",IF(AND(B26>1,COUNTIFS($A$8:$A$107,A26,$B$8:$B$107,B26-1)<>1),"変更版の連番が欠落",IF(NOT(IF(ISNUMBER(C26),AND(C26>=43831,C26<73051,C26=INT(C26)),FALSE())),"変更発生日は時刻なしで必須",IF(NOT(OR(D26="変更",D26="取消",D26="未確認")),"区分を確認",IF(AND(D26="変更",NOT(IF(ISNUMBER(E26),AND(E26>=0,E26<=1000000000,E26=INT(E26)),FALSE()))),"変更後総額は0〜10億円の整数で必須",IF(AND(D26<>"変更",COUNTA(E26)>0),"取消/未確認の金額は空欄",IF(NOT(IF(ISNUMBER(F26),AND(F26>=43831,F26<73051,F26=INT(F26)),FALSE())),"記録確認日は時刻なしで必須",IF(OR(C26<SUMIFS(当初受注!$B$8:$B$57,当初受注!$A$8:$A$57,A26),C26>F26,F26>受注一覧!$H$3),"受注日≦変更日≦確認日≦基準日を確認",IF(AND(B26>1,OR(C26<SUMIFS($C$8:$C$107,$A$8:$A$107,A26,$B$8:$B$107,B26-1),F26<SUMIFS($F$8:$F$107,$A$8:$A$107,A26,$B$8:$B$107,B26-1))),"前版より日付が逆行しています",IF(COUNTIFS($A$8:$A$107,A26,$B$8:$B$107,"<"&B26,$D$8:$D$107,"取消")+COUNTIFS($A$8:$A$107,A26,$B$8:$B$107,"<"&B26,$D$8:$D$107,"未確認")>0,"取消/未確認の後へ別版を追加できません","確認済み")))))))))))))) | K26: =IF(J26="","",IF(J26="確認済み",0,1)) | L26: =IF(COUNTA(A26:F26)=0,IF(AND(J26="",K26="",G26="",H26=""),0,1),IF(NOT(AND(ISTEXT(J26),J26=IF(COUNTA(A26:F26)=0,"",IF(NOT(AND(ISTEXT(A26),LEN(A26)=8,EXACT(LEFT(A26,4),"ORD-"),ISNUMBER(FIND(MID(A26,5,1)&"x","0x1x2x3x4x5x6x7x8x9x")),ISNUMBER(FIND(MID(A26,6,1)&"x","0x1x2x3x4x5x6x7x8x9x")),ISNUMBER(FIND(MID(A26,7,1)&"x","0x1x2x3x4x5x6x7x8x9x")),ISNUMBER(FIND(MID(A26,8,1)&"x","0x1x2x3x4x5x6x7x8x9x")))),"IDはORD-と半角数字4桁",IF(COUNTIFS(当初受注!$A$8:$A$57,A26)<>1,"当初受注が一意に登録されていません",IF(NOT(IF(ISNUMBER(B26),AND(B26>=1,B26<=100,B26=INT(B26)),FALSE())),"変更版は1〜100の整数で必須",IF(COUNTIFS($A$8:$A$107,A26,$B$8:$B$107,B26)>1,"同じ受注の変更版が重複",IF(AND(B26>1,COUNTIFS($A$8:$A$107,A26,$B$8:$B$107,B26-1)<>1),"変更版の連番が欠落",IF(NOT(IF(ISNUMBER(C26),AND(C26>=43831,C26<73051,C26=INT(C26)),FALSE())),"変更発生日は時刻なしで必須",IF(NOT(OR(D26="変更",D26="取消",D26="未確認")),"区分を確認",IF(AND(D26="変更",NOT(IF(ISNUMBER(E26),AND(E26>=0,E26<=1000000000,E26=INT(E26)),FALSE()))),"変更後総額は0〜10億円の整数で必須",IF(AND(D26<>"変更",COUNTA(E26)>0),"取消/未確認の金額は空欄",IF(NOT(IF(ISNUMBER(F26),AND(F26>=43831,F26<73051,F26=INT(F26)),FALSE())),"記録確認日は時刻なしで必須",IF(OR(C26<SUMIFS(当初受注!$B$8:$B$57,当初受注!$A$8:$A$57,A26),C26>F26,F26>受注一覧!$H$3),"受注日≦変更日≦確認日≦基準日を確認",IF(AND(B26>1,OR(C26<SUMIFS($C$8:$C$107,$A$8:$A$107,A26,$B$8:$B$107,B26-1),F26<SUMIFS($F$8:$F$107,$A$8:$A$107,A26,$B$8:$B$107,B26-1))),"前版より日付が逆行しています",IF(COUNTIFS($A$8:$A$107,A26,$B$8:$B$107,"<"&B26,$D$8:$D$107,"取消")+COUNTIFS($A$8:$A$107,A26,$B$8:$B$107,"<"&B26,$D$8:$D$107,"未確認")>0,"取消/未確認の後へ別版を追加できません","確認済み")))))))))))))),ISNUMBER(K26),K26=IF(J26="確認済み",0,1))),1,IF(K26<>0,0,IF(AND(ISNUMBER(G26),G26=IF(COUNTIFS($A$8:$A$107,A26,$B$8:$B$107,">"&B26)=0,1,0),IF(D26="未確認",ISTEXT(H26),ISNUMBER(H26)),H26=IF(D26="変更",E26,IF(D26="取消",0,""))),0,1)))) -> 0
... G107: =IF(J107="","",IF(K107<>0,NA(),IF(COUNTIFS($A$8:$A$107,A107,$B$8:$B$107,">"&B107)=0,1,0))) | H107: =IF(J107="","",IF(K107<>0,NA(),IF(D107="変更",E107,IF(D107="取消",0,"")))) | J107: =IF(COUNTA(A107:F107)=0,"",IF(NOT(AND(ISTEXT(A107),LEN(A107)=8,EXACT(LEFT(A107,4),"ORD-"),ISNUMBER(FIND(MID(A107,5,1)&"x","0x1x2x3x4x5x6x7x8x9x")),ISNUMBER(FIND(MID(A107,6,1)&"x","0x1x2x3x4x5x6x7x8x9x")),ISNUMBER(FIND(MID(A107,7,1)&"x","0x1x2x3x4x5x6x7x8x9x")),ISNUMBER(FIND(MID(A107,8,1)&"x","0x1x2x3x4x5x6x7x8x9x")))),"IDはORD-と半角数字4桁",IF(COUNTIFS(当初受注!$A$8:$A$57,A107)<>1,"当初受注が一意に登録されていません",IF(NOT(IF(ISNUMBER(B107),AND(B107>=1,B107<=100,B107=INT(B107)),FALSE())),"変更版は1〜100の整数で必須",IF(COUNTIFS($A$8:$A$107,A107,$B$8:$B$107,B107)>1,"同じ受注の変更版が重複",IF(AND(B107>1,COUNTIFS($A$8:$A$107,A107,$B$8:$B$107,B107-1)<>1),"変更版の連番が欠落",IF(NOT(IF(ISNUMBER(C107),AND(C107>=43831,C107<73051,C107=INT(C107)),FALSE())),"変更発生日は時刻なしで必須",IF(NOT(OR(D107="変更",D107="取消",D107="未確認")),"区分を確認",IF(AND(D107="変更",NOT(IF(ISNUMBER(E107),AND(E107>=0,E107<=1000000000,E107=INT(E107)),FALSE()))),"変更後総額は0〜10億円の整数で必須",IF(AND(D107<>"変更",COUNTA(E107)>0),"取消/未確認の金額は空欄",IF(NOT(IF(ISNUMBER(F107),AND(F107>=43831,F107<73051,F107=INT(F107)),FALSE())),"記録確認日は時刻なしで必須",IF(OR(C107<SUMIFS(当初受注!$B$8:$B$57,当初受注!$A$8:$A$57,A107),C107>F107,F107>受注一覧!$H$3),"受注日≦変更日≦確認日≦基準日を確認",IF(AND(B107>1,OR(C107<SUMIFS($C$8:$C$107,$A$8:$A$107,A107,$B$8:$B$107,B107-1),F107<SUMIFS($F$8:$F$107,$A$8:$A$107,A107,$B$8:$B$107,B107-1))),"前版より日付が逆行しています",IF(COUNTIFS($A$8:$A$107,A107,$B$8:$B$107,"<"&B107,$D$8:$D$107,"取消")+COUNTIFS($A$8:$A$107,A107,$B$8:$B$107,"<"&B107,$D$8:$D$107,"未確認")>0,"取消/未確認の後へ別版を追加できません","確認済み")))))))))))))) | K107: =IF(J107="","",IF(J107="確認済み",0,1)) | L107: =IF(COUNTA(A107:F107)=0,IF(AND(J107="",K107="",G107="",H107=""),0,1),IF(NOT(AND(ISTEXT(J107),J107=IF(COUNTA(A107:F107)=0,"",IF(NOT(AND(ISTEXT(A107),LEN(A107)=8,EXACT(LEFT(A107,4),"ORD-"),ISNUMBER(FIND(MID(A107,5,1)&"x","0x1x2x3x4x5x6x7x8x9x")),ISNUMBER(FIND(MID(A107,6,1)&"x","0x1x2x3x4x5x6x7x8x9x")),ISNUMBER(FIND(MID(A107,7,1)&"x","0x1x2x3x4x5x6x7x8x9x")),ISNUMBER(FIND(MID(A107,8,1)&"x","0x1x2x3x4x5x6x7x8x9x")))),"IDはORD-と半角数字4桁",IF(COUNTIFS(当初受注!$A$8:$A$57,A107)<>1,"当初受注が一意に登録されていません",IF(NOT(IF(ISNUMBER(B107),AND(B107>=1,B107<=100,B107=INT(B107)),FALSE())),"変更版は1〜100の整数で必須",IF(COUNTIFS($A$8:$A$107,A107,$B$8:$B$107,B107)>1,"同じ受注の変更版が重複",IF(AND(B107>1,COUNTIFS($A$8:$A$107,A107,$B$8:$B$107,B107-1)<>1),"変更版の連番が欠落",IF(NOT(IF(ISNUMBER(C107),AND(C107>=43831,C107<73051,C107=INT(C107)),FALSE())),"変更発生日は時刻なしで必須",IF(NOT(OR(D107="変更",D107="取消",D107="未確認")),"区分を確認",IF(AND(D107="変更",NOT(IF(ISNUMBER(E107),AND(E107>=0,E107<=1000000000,E107=INT(E107)),FALSE()))),"変更後総額は0〜10億円の整数で必須",IF(AND(D107<>"変更",COUNTA(E107)>0),"取消/未確認の金額は空欄",IF(NOT(IF(ISNUMBER(F107),AND(F107>=43831,F107<73051,F107=INT(F107)),FALSE())),"記録確認日は時刻なしで必須",IF(OR(C107<SUMIFS(当初受注!$B$8:$B$57,当初受注!$A$8:$A$57,A107),C107>F107,F107>受注一覧!$H$3),"受注日≦変更日≦確認日≦基準日を確認",IF(AND(B107>1,OR(C107<SUMIFS($C$8:$C$107,$A$8:$A$107,A107,$B$8:$B$107,B107-1),F107<SUMIFS($F$8:$F$107,$A$8:$A$107,A107,$B$8:$B$107,B107-1))),"前版より日付が逆行しています",IF(COUNTIFS($A$8:$A$107,A107,$B$8:$B$107,"<"&B107,$D$8:$D$107,"取消")+COUNTIFS($A$8:$A$107,A107,$B$8:$B$107,"<"&B107,$D$8:$D$107,"未確認")>0,"取消/未確認の後へ別版を追加できません","確認済み")))))))))))))),ISNUMBER(K107),K107=IF(J107="確認済み",0,1))),1,IF(K107<>0,0,IF(AND(ISNUMBER(G107),G107=IF(COUNTIFS($A$8:$A$107,A107,$B$8:$B$107,">"&B107)=0,1,0),IF(D107="未確認",ISTEXT(H107),ISNUMBER(H107)),H107=IF(D107="変更",E107,IF(D107="取消",0,""))),0,1)))) -> 0
