Workbook

Sheet 受注一覧
A2: 当初受注を残して、変更後の受注を確認する | K2: 期間の前提 | L2: 入力の前提
A3: 受注開始日 | B3: 46296 | D3: 受注終了日 | E3: 46326 | G3: 確認基準日 | H3: 46331 | K3: =IF(AND(IF(ISNUMBER(B3),AND(B3>=43831,B3<73051,B3=INT(B3)),FALSE()),IF(ISNUMBER(E3),AND(E3>=43831,E3<73051,E3=INT(E3)),FALSE()),IF(ISNUMBER(H3),AND(H3>=43831,H3<73051,H3=INT(H3)),FALSE()),B3<=E3,E3<=H3),0,1) -> 0 | L3: =IF(AND(ISNUMBER(K3),K3=IF(AND(IF(ISNUMBER(B3),AND(B3>=43831,B3<73051,B3=INT(B3)),FALSE()),IF(ISNUMBER(E3),AND(E3>=43831,E3<73051,E3=INT(E3)),FALSE()),IF(ISNUMBER(H3),AND(H3>=43831,H3<73051,H3=INT(H3)),FALSE()),B3<=E3,E3<=H3),0,1)),K3,1)+SUM(当初受注!K8:L57)+SUM(変更記録!K8:L107)+IF(COUNT(当初受注!L8:L57)=50,0,1)+IF(COUNT(変更記録!L8:L107)=100,0,1) -> 0
A4: 受注日で選んだ注文の、確認基準日までの変更を反映。売上・請求・入金とは別です。 | I4: =IF(L3=0,"入力不備なし","入力を確認") -> 入力不備なし
A5: 対象受注（件） | B5: =IF($L$3<>0,NA(),COUNTIFS(当初受注!E8:E57,1)) -> 7 | D5: 当初受注額（円） | E5: =IF($L$3<>0,NA(),SUMIFS(当初受注!C8:C57,当初受注!E8:E57,1)) -> 440002 | G5: 現在額合計（円） | H5: =IF($L$3<>0,NA(),IF(B5=0,"対象なし",IF(H6>0,"判定保留",E7))) -> 判定保留
A6: 有効受注（件） | B6: =IF($L$3<>0,NA(),COUNTIFS(当初受注!E8:E57,1,当初受注!G8:G57,"未変更")+COUNTIFS(当初受注!E8:E57,1,当初受注!G8:G57,"変更")) -> 5 | D6: 取消（件） | E6: =IF($L$3<>0,NA(),COUNTIFS(当初受注!E8:E57,1,当初受注!G8:G57,"取消")) -> 1 | G6: 変更未確認（件） | H6: =IF($L$3<>0,NA(),COUNTIFS(当初受注!E8:E57,1,当初受注!G8:G57,"未確認")) -> 1
A7: 変更記録（件） | B7: =IF($L$3<>0,NA(),SUMIFS(当初受注!F8:F57,当初受注!E8:E57,1)) -> 6 | D7: 確認済小計（円） | E7: =IF($L$3<>0,NA(),SUMIFS(当初受注!H8:H57,当初受注!E8:E57,1)) -> 160001 | G7: 現在−当初（円） | H7: =IF($L$3<>0,NA(),IF(B5=0,"対象なし",IF(H6>0,"判定保留",H5-E5))) -> 判定保留
A8: 受注期間外（件） | B8: =IF($L$3<>0,NA(),COUNTIFS(当初受注!E8:E57,0,当初受注!J8:J57,"確認済み")) -> 1 | D8: 全登録（件） | E8: =IF($L$3<>0,NA(),COUNTIFS(当初受注!J8:J57,"確認済み")) -> 8 | G8: 件数照合差（件） | H8: =IF($L$3<>0,NA(),E8-B5-B8) -> 0
A9: 受注ID | B9: 当初受注日 | C9: 当初額（円） | D9: 変更数 | E9: 現在区分 | F9: 現在額（円） | G9: 増減（円） | H9: 最終変更日 | I9: 最終確認日
A10: =IF($L$3<>0,NA(),IF(COUNTA(当初受注!A8:D8)=0,"",当初受注!A8)) -> ORD-0001 | B10: =IF($L$3<>0,NA(),IF(COUNTA(当初受注!A8:D8)=0,"",当初受注!B8)) -> 46296 | C10: =IF($L$3<>0,NA(),IF(COUNTA(当初受注!A8:D8)=0,"",当初受注!C8)) -> 100000 | D10: =IF($L$3<>0,NA(),IF(COUNTA(当初受注!A8:D8)=0,"",当初受注!F8)) -> 2 | E10: =IF($L$3<>0,NA(),IF(COUNTA(当初受注!A8:D8)=0,"",当初受注!G8)) -> 変更 | F10: =IF($L$3<>0,NA(),IF(COUNTA(当初受注!A8:D8)=0,"",当初受注!H8)) -> 90000 | G10: =IF($L$3<>0,NA(),IF(COUNTA(当初受注!A8:D8)=0,"",当初受注!I8)) -> -10000 | H10: =IF($L$3<>0,NA(),IF(COUNTA(当初受注!A8:D8)=0,"",当初受注!M8)) -> 46310 | I10: =IF($L$3<>0,NA(),IF(COUNTA(当初受注!A8:D8)=0,"",当初受注!N8)) -> 46311
A11: =IF($L$3<>0,NA(),IF(COUNTA(当初受注!A9:D9)=0,"",当初受注!A9)) -> ORD-0002 | B11: =IF($L$3<>0,NA(),IF(COUNTA(当初受注!A9:D9)=0,"",当初受注!B9)) -> 46326 | C11: =IF($L$3<>0,NA(),IF(COUNTA(当初受注!A9:D9)=0,"",当初受注!C9)) -> 200000 | D11: =IF($L$3<>0,NA(),IF(COUNTA(当初受注!A9:D9)=0,"",当初受注!F9)) -> 1 | E11: =IF($L$3<>0,NA(),IF(COUNTA(当初受注!A9:D9)=0,"",当初受注!G9)) -> 取消 | F11: =IF($L$3<>0,NA(),IF(COUNTA(当初受注!A9:D9)=0,"",当初受注!H9)) -> 0 | G11: =IF($L$3<>0,NA(),IF(COUNTA(当初受注!A9:D9)=0,"",当初受注!I9)) -> -200000 | H11: =IF($L$3<>0,NA(),IF(COUNTA(当初受注!A9:D9)=0,"",当初受注!M9)) -> 46328 | I11: =IF($L$3<>0,NA(),IF(COUNTA(当初受注!A9:D9)=0,"",当初受注!N9)) -> 46329
A12: =IF($L$3<>0,NA(),IF(COUNTA(当初受注!A10:D10)=0,"",当初受注!A10)) -> ORD-0003 | B12: =IF($L$3<>0,NA(),IF(COUNTA(当初受注!A10:D10)=0,"",当初受注!B10)) -> 46311 | C12: =IF($L$3<>0,NA(),IF(COUNTA(当初受注!A10:D10)=0,"",当初受注!C10)) -> 0 | D12: =IF($L$3<>0,NA(),IF(COUNTA(当初受注!A10:D10)=0,"",当初受注!F10)) -> 0 | E12: =IF($L$3<>0,NA(),IF(COUNTA(当初受注!A10:D10)=0,"",当初受注!G10)) -> 未変更 | F12: =IF($L$3<>0,NA(),IF(COUNTA(当初受注!A10:D10)=0,"",当初受注!H10)) -> 0 | G12: =IF($L$3<>0,NA(),IF(COUNTA(当初受注!A10:D10)=0,"",当初受注!I10)) -> 0 | H12: =IF($L$3<>0,NA(),IF(COUNTA(当初受注!A10:D10)=0,"",当初受注!M10)) | I12: =IF($L$3<>0,NA(),IF(COUNTA(当初受注!A10:D10)=0,"",当初受注!N10)) -> 46311
A13: =IF($L$3<>0,NA(),IF(COUNTA(当初受注!A11:D11)=0,"",当初受注!A11)) -> ORD-0004 | B13: =IF($L$3<>0,NA(),IF(COUNTA(当初受注!A11:D11)=0,"",当初受注!B11)) -> 46315 | C13: =IF($L$3<>0,NA(),IF(COUNTA(当初受注!A11:D11)=0,"",当初受注!C11)) -> 80000 | D13: =IF($L$3<>0,NA(),IF(COUNTA(当初受注!A11:D11)=0,"",当初受注!F11)) -> 1 | E13: =IF($L$3<>0,NA(),IF(COUNTA(当初受注!A11:D11)=0,"",当初受注!G11)) -> 未確認 | F13: =IF($L$3<>0,NA(),IF(COUNTA(当初受注!A11:D11)=0,"",当初受注!H11)) | G13: =IF($L$3<>0,NA(),IF(COUNTA(当初受注!A11:D11)=0,"",当初受注!I11)) | H13: =IF($L$3<>0,NA(),IF(COUNTA(当初受注!A11:D11)=0,"",当初受注!M11)) -> 46325 | I13: =IF($L$3<>0,NA(),IF(COUNTA(当初受注!A11:D11)=0,"",当初受注!N11)) -> 46331
A14: =IF($L$3<>0,NA(),IF(COUNTA(当初受注!A12:D12)=0,"",当初受注!A12)) -> ORD-0005 | B14: =IF($L$3<>0,NA(),IF(COUNTA(当初受注!A12:D12)=0,"",当初受注!B12)) -> 46295 | C14: =IF($L$3<>0,NA(),IF(COUNTA(当初受注!A12:D12)=0,"",当初受注!C12)) -> 120000 | D14: =IF($L$3<>0,NA(),IF(COUNTA(当初受注!A12:D12)=0,"",当初受注!F12)) -> 1 | E14: =IF($L$3<>0,NA(),IF(COUNTA(当初受注!A12:D12)=0,"",当初受注!G12)) -> 変更 | F14: =IF($L$3<>0,NA(),IF(COUNTA(当初受注!A12:D12)=0,"",当初受注!H12)) -> 150000 | G14: =IF($L$3<>0,NA(),IF(COUNTA(当初受注!A12:D12)=0,"",当初受注!I12)) -> 30000 | H14: =IF($L$3<>0,NA(),IF(COUNTA(当初受注!A12:D12)=0,"",当初受注!M12)) -> 46305 | I14: =IF($L$3<>0,NA(),IF(COUNTA(当初受注!A12:D12)=0,"",当初受注!N12)) -> 46306
A15: =IF($L$3<>0,NA(),IF(COUNTA(当初受注!A13:D13)=0,"",当初受注!A13)) -> ORD-0006 | B15: =IF($L$3<>0,NA(),IF(COUNTA(当初受注!A13:D13)=0,"",当初受注!B13)) -> 46326 | C15: =IF($L$3<>0,NA(),IF(COUNTA(当初受注!A13:D13)=0,"",当初受注!C13)) -> 60000 | D15: =IF($L$3<>0,NA(),IF(COUNTA(当初受注!A13:D13)=0,"",当初受注!F13)) -> 1 | E15: =IF($L$3<>0,NA(),IF(COUNTA(当初受注!A13:D13)=0,"",当初受注!G13)) -> 変更 | F15: =IF($L$3<>0,NA(),IF(COUNTA(当初受注!A13:D13)=0,"",当初受注!H13)) -> 70000 | G15: =IF($L$3<>0,NA(),IF(COUNTA(当初受注!A13:D13)=0,"",当初受注!I13)) -> 10000 | H15: =IF($L$3<>0,NA(),IF(COUNTA(当初受注!A13:D13)=0,"",当初受注!M13)) -> 46328 | I15: =IF($L$3<>0,NA(),IF(COUNTA(当初受注!A13:D13)=0,"",当初受注!N13)) -> 46329
A16: =IF($L$3<>0,NA(),IF(COUNTA(当初受注!A14:D14)=0,"",当初受注!A14)) -> ORD-0007 | B16: =IF($L$3<>0,NA(),IF(COUNTA(当初受注!A14:D14)=0,"",当初受注!B14)) -> 46320 | C16: =IF($L$3<>0,NA(),IF(COUNTA(当初受注!A14:D14)=0,"",当初受注!C14)) -> 1 | D16: =IF($L$3<>0,NA(),IF(COUNTA(当初受注!A14:D14)=0,"",当初受注!F14)) -> 1 | E16: =IF($L$3<>0,NA(),IF(COUNTA(当初受注!A14:D14)=0,"",当初受注!G14)) -> 変更 | F16: =IF($L$3<>0,NA(),IF(COUNTA(当初受注!A14:D14)=0,"",当初受注!H14)) -> 0 | G16: =IF($L$3<>0,NA(),IF(COUNTA(当初受注!A14:D14)=0,"",当初受注!I14)) -> -1 | H16: =IF($L$3<>0,NA(),IF(COUNTA(当初受注!A14:D14)=0,"",当初受注!M14)) -> 46323 | I16: =IF($L$3<>0,NA(),IF(COUNTA(当初受注!A14:D14)=0,"",当初受注!N14)) -> 46324
A17: =IF($L$3<>0,NA(),IF(COUNTA(当初受注!A15:D15)=0,"",当初受注!A15)) -> ORD-0008 | B17: =IF($L$3<>0,NA(),IF(COUNTA(当初受注!A15:D15)=0,"",当初受注!B15)) -> 46321 | C17: =IF($L$3<>0,NA(),IF(COUNTA(当初受注!A15:D15)=0,"",当初受注!C15)) -> 1 | D17: =IF($L$3<>0,NA(),IF(COUNTA(当初受注!A15:D15)=0,"",当初受注!F15)) -> 0 | E17: =IF($L$3<>0,NA(),IF(COUNTA(当初受注!A15:D15)=0,"",当初受注!G15)) -> 未変更 | F17: =IF($L$3<>0,NA(),IF(COUNTA(当初受注!A15:D15)=0,"",当初受注!H15)) -> 1 | G17: =IF($L$3<>0,NA(),IF(COUNTA(当初受注!A15:D15)=0,"",当初受注!I15)) -> 0 | H17: =IF($L$3<>0,NA(),IF(COUNTA(当初受注!A15:D15)=0,"",当初受注!M15)) | I17: =IF($L$3<>0,NA(),IF(COUNTA(当初受注!A15:D15)=0,"",当初受注!N15)) -> 46321
A18: =IF($L$3<>0,NA(),IF(COUNTA(当初受注!A16:D16)=0,"",当初受注!A16)) | B18: =IF($L$3<>0,NA(),IF(COUNTA(当初受注!A16:D16)=0,"",当初受注!B16)) | C18: =IF($L$3<>0,NA(),IF(COUNTA(当初受注!A16:D16)=0,"",当初受注!C16)) | D18: =IF($L$3<>0,NA(),IF(COUNTA(当初受注!A16:D16)=0,"",当初受注!F16)) | E18: =IF($L$3<>0,NA(),IF(COUNTA(当初受注!A16:D16)=0,"",当初受注!G16)) | F18: =IF($L$3<>0,NA(),IF(COUNTA(当初受注!A16:D16)=0,"",当初受注!H16)) | G18: =IF($L$3<>0,NA(),IF(COUNTA(当初受注!A16:D16)=0,"",当初受注!I16)) | H18: =IF($L$3<>0,NA(),IF(COUNTA(当初受注!A16:D16)=0,"",当初受注!M16)) | I18: =IF($L$3<>0,NA(),IF(COUNTA(当初受注!A16:D16)=0,"",当初受注!N16))
A19: =IF($L$3<>0,NA(),IF(COUNTA(当初受注!A17:D17)=0,"",当初受注!A17)) | B19: =IF($L$3<>0,NA(),IF(COUNTA(当初受注!A17:D17)=0,"",当初受注!B17)) | C19: =IF($L$3<>0,NA(),IF(COUNTA(当初受注!A17:D17)=0,"",当初受注!C17)) | D19: =IF($L$3<>0,NA(),IF(COUNTA(当初受注!A17:D17)=0,"",当初受注!F17)) | E19: =IF($L$3<>0,NA(),IF(COUNTA(当初受注!A17:D17)=0,"",当初受注!G17)) | F19: =IF($L$3<>0,NA(),IF(COUNTA(当初受注!A17:D17)=0,"",当初受注!H17)) | G19: =IF($L$3<>0,NA(),IF(COUNTA(当初受注!A17:D17)=0,"",当初受注!I17)) | H19: =IF($L$3<>0,NA(),IF(COUNTA(当初受注!A17:D17)=0,"",当初受注!M17)) | I19: =IF($L$3<>0,NA(),IF(COUNTA(当初受注!A17:D17)=0,"",当初受注!N17))
A20: =IF($L$3<>0,NA(),IF(COUNTA(当初受注!A18:D18)=0,"",当初受注!A18)) | B20: =IF($L$3<>0,NA(),IF(COUNTA(当初受注!A18:D18)=0,"",当初受注!B18)) | C20: =IF($L$3<>0,NA(),IF(COUNTA(当初受注!A18:D18)=0,"",当初受注!C18)) | D20: =IF($L$3<>0,NA(),IF(COUNTA(当初受注!A18:D18)=0,"",当初受注!F18)) | E20: =IF($L$3<>0,NA(),IF(COUNTA(当初受注!A18:D18)=0,"",当初受注!G18)) | F20: =IF($L$3<>0,NA(),IF(COUNTA(当初受注!A18:D18)=0,"",当初受注!H18)) | G20: =IF($L$3<>0,NA(),IF(COUNTA(当初受注!A18:D18)=0,"",当初受注!I18)) | H20: =IF($L$3<>0,NA(),IF(COUNTA(当初受注!A18:D18)=0,"",当初受注!M18)) | I20: =IF($L$3<>0,NA(),IF(COUNTA(当初受注!A18:D18)=0,"",当初受注!N18))
A21: =IF($L$3<>0,NA(),IF(COUNTA(当初受注!A19:D19)=0,"",当初受注!A19)) | B21: =IF($L$3<>0,NA(),IF(COUNTA(当初受注!A19:D19)=0,"",当初受注!B19)) | C21: =IF($L$3<>0,NA(),IF(COUNTA(当初受注!A19:D19)=0,"",当初受注!C19)) | D21: =IF($L$3<>0,NA(),IF(COUNTA(当初受注!A19:D19)=0,"",当初受注!F19)) | E21: =IF($L$3<>0,NA(),IF(COUNTA(当初受注!A19:D19)=0,"",当初受注!G19)) | F21: =IF($L$3<>0,NA(),IF(COUNTA(当初受注!A19:D19)=0,"",当初受注!H19)) | G21: =IF($L$3<>0,NA(),IF(COUNTA(当初受注!A19:D19)=0,"",当初受注!I19)) | H21: =IF($L$3<>0,NA(),IF(COUNTA(当初受注!A19:D19)=0,"",当初受注!M19)) | I21: =IF($L$3<>0,NA(),IF(COUNTA(当初受注!A19:D19)=0,"",当初受注!N19))
... A59: =IF($L$3<>0,NA(),IF(COUNTA(当初受注!A57:D57)=0,"",当初受注!A57)) | B59: =IF($L$3<>0,NA(),IF(COUNTA(当初受注!A57:D57)=0,"",当初受注!B57)) | C59: =IF($L$3<>0,NA(),IF(COUNTA(当初受注!A57:D57)=0,"",当初受注!C57)) | D59: =IF($L$3<>0,NA(),IF(COUNTA(当初受注!A57:D57)=0,"",当初受注!F57)) | E59: =IF($L$3<>0,NA(),IF(COUNTA(当初受注!A57:D57)=0,"",当初受注!G57)) | F59: =IF($L$3<>0,NA(),IF(COUNTA(当初受注!A57:D57)=0,"",当初受注!H57)) | G59: =IF($L$3<>0,NA(),IF(COUNTA(当初受注!A57:D57)=0,"",当初受注!I57)) | H59: =IF($L$3<>0,NA(),IF(COUNTA(当初受注!A57:D57)=0,"",当初受注!M57)) | I59: =IF($L$3<>0,NA(),IF(COUNTA(当初受注!A57:D57)=0,"",当初受注!N57))

Sheet 当初受注
A2: 当初の受注記録を保持する
A3: 黄色A〜Dへ50受注。1行1受注、IDはORD-と半角数字4桁。当初額を後の変更で上書きしません。
A5: 金額は円の整数。同じ税込/税抜の基準へ。実際の0円は数値0、不明は当初受注として登録しません。
A7: 受注ID | B7: 当初受注日 | C7: 当初額（円） | D7: 当初確認日 | E7: 受注期間内 | F7: 変更数/最終版 | G7: 現在区分 | H7: 現在額（円） | I7: 現在−当初 | J7: 入力の確認 | K7: 入力不備 | L7: 計算の前提 | M7: 最終変更日 | N7: 最終確認日
A8: ORD-0001 | B8: 46296 | C8: 100000 | D8: 46297 | E8: =IF(J8="","",IF(K8<>0,NA(),IF(AND(B8>=受注一覧!$B$3,B8<=受注一覧!$E$3),1,0))) -> 1 | F8: =IF(J8="","",IF(K8<>0,NA(),COUNTIFS(変更記録!$A$8:$A$107,A8))) -> 2 | G8: =IF(J8="","",IF(K8<>0,NA(),IF(F8=0,"未変更",IF(COUNTIFS(変更記録!$A$8:$A$107,A8,変更記録!$B$8:$B$107,F8,変更記録!$D$8:$D$107,"未確認")>0,"未確認",IF(COUNTIFS(変更記録!$A$8:$A$107,A8,変更記録!$B$8:$B$107,F8,変更記録!$D$8:$D$107,"取消")>0,"取消","変更"))))) -> 変更 | H8: =IF(J8="","",IF(K8<>0,NA(),IF(G8="未確認","",IF(F8=0,C8,SUMIFS(変更記録!$H$8:$H$107,変更記録!$A$8:$A$107,A8,変更記録!$B$8:$B$107,F8))))) -> 90000 | I8: =IF(J8="","",IF(K8<>0,NA(),IF(G8="未確認","",H8-C8))) -> -10000 | J8: =IF(COUNTA(A8:D8)=0,"",IF(NOT(AND(ISTEXT(A8),LEN(A8)=8,EXACT(LEFT(A8,4),"ORD-"),ISNUMBER(FIND(MID(A8,5,1)&"x","0x1x2x3x4x5x6x7x8x9x")),ISNUMBER(FIND(MID(A8,6,1)&"x","0x1x2x3x4x5x6x7x8x9x")),ISNUMBER(FIND(MID(A8,7,1)&"x","0x1x2x3x4x5x6x7x8x9x")),ISNUMBER(FIND(MID(A8,8,1)&"x","0x1x2x3x4x5x6x7x8x9x")))),"IDはORD-と半角数字4桁",IF(COUNTIFS($A$8:$A$57,A8)>1,"受注IDが重複",IF(NOT(IF(ISNUMBER(B8),AND(B8>=43831,B8<73051,B8=INT(B8)),FALSE())),"当初受注日は時刻なしで必須",IF(NOT(IF(ISNUMBER(C8),AND(C8>=0,C8<=1000000000,C8=INT(C8)),FALSE())),"当初額は0〜10億円の整数で必須",IF(NOT(IF(ISNUMBER(D8),AND(D8>=43831,D8<73051,D8=INT(D8)),FALSE())),"当初確認日は時刻なしで必須",IF(OR(B8>D8,D8>受注一覧!$H$3),"受注日≦当初確認日≦基準日を確認","確認済み"))))))) -> 確認済み | K8: =IF(J8="","",IF(J8="確認済み",0,1)) -> 0 | L8: =IF(COUNTA(A8:D8)=0,IF(AND(J8="",K8="",E8="",F8="",G8="",H8="",I8="",M8="",N8=""),0,1),IF(NOT(AND(ISTEXT(J8),J8=IF(COUNTA(A8:D8)=0,"",IF(NOT(AND(ISTEXT(A8),LEN(A8)=8,EXACT(LEFT(A8,4),"ORD-"),ISNUMBER(FIND(MID(A8,5,1)&"x","0x1x2x3x4x5x6x7x8x9x")),ISNUMBER(FIND(MID(A8,6,1)&"x","0x1x2x3x4x5x6x7x8x9x")),ISNUMBER(FIND(MID(A8,7,1)&"x","0x1x2x3x4x5x6x7x8x9x")),ISNUMBER(FIND(MID(A8,8,1)&"x","0x1x2x3x4x5x6x7x8x9x")))),"IDはORD-と半角数字4桁",IF(COUNTIFS($A$8:$A$57,A8)>1,"受注IDが重複",IF(NOT(IF(ISNUMBER(B8),AND(B8>=43831,B8<73051,B8=INT(B8)),FALSE())),"当初受注日は時刻なしで必須",IF(NOT(IF(ISNUMBER(C8),AND(C8>=0,C8<=1000000000,C8=INT(C8)),FALSE())),"当初額は0〜10億円の整数で必須",IF(NOT(IF(ISNUMBER(D8),AND(D8>=43831,D8<73051,D8=INT(D8)),FALSE())),"当初確認日は時刻なしで必須",IF(OR(B8>D8,D8>受注一覧!$H$3),"受注日≦当初確認日≦基準日を確認","確認済み"))))))),ISNUMBER(K8),K8=IF(J8="確認済み",0,1))),1,IF(K8<>0,0,IF(AND(ISNUMBER(E8),E8=IF(AND(B8>=受注一覧!$B$3,B8<=受注一覧!$E$3),1,0),ISNUMBER(F8),F8=COUNTIFS(変更記録!$A$8:$A$107,A8),ISTEXT(G8),G8=IF(F8=0,"未変更",IF(COUNTIFS(変更記録!$A$8:$A$107,A8,変更記録!$B$8:$B$107,F8,変更記録!$D$8:$D$107,"未確認")>0,"未確認",IF(COUNTIFS(変更記録!$A$8:$A$107,A8,変更記録!$B$8:$B$107,F8,変更記録!$D$8:$D$107,"取消")>0,"取消","変更"))),IF(G8="未確認",ISTEXT(H8),ISNUMBER(H8)),H8=IF(G8="未確認","",IF(F8=0,C8,SUMIFS(変更記録!$H$8:$H$107,変更記録!$A$8:$A$107,A8,変更記録!$B$8:$B$107,F8))),IF(G8="未確認",ISTEXT(I8),ISNUMBER(I8)),I8=IF(G8="未確認","",H8-C8),IF(F8=0,ISTEXT(M8),ISNUMBER(M8)),M8=IF(F8=0,"",SUMIFS(変更記録!$C$8:$C$107,変更記録!$A$8:$A$107,A8,変更記録!$B$8:$B$107,F8)),ISNUMBER(N8),N8=IF(F8=0,D8,SUMIFS(変更記録!$F$8:$F$107,変更記録!$A$8:$A$107,A8,変更記録!$B$8:$B$107,F8))),0,1)))) -> 0 | M8: =IF(J8="","",IF(K8<>0,NA(),IF(F8=0,"",SUMIFS(変更記録!$C$8:$C$107,変更記録!$A$8:$A$107,A8,変更記録!$B$8:$B$107,F8)))) -> 46310 | N8: =IF(J8="","",IF(K8<>0,NA(),IF(F8=0,D8,SUMIFS(変更記録!$F$8:$F$107,変更記録!$A$8:$A$107,A8,変更記録!$B$8:$B$107,F8)))) -> 46311
A9: ORD-0002 | B9: 46326 | C9: 200000 | D9: 46326 | E9: =IF(J9="","",IF(K9<>0,NA(),IF(AND(B9>=受注一覧!$B$3,B9<=受注一覧!$E$3),1,0))) -> 1 | F9: =IF(J9="","",IF(K9<>0,NA(),COUNTIFS(変更記録!$A$8:$A$107,A9))) -> 1 | G9: =IF(J9="","",IF(K9<>0,NA(),IF(F9=0,"未変更",IF(COUNTIFS(変更記録!$A$8:$A$107,A9,変更記録!$B$8:$B$107,F9,変更記録!$D$8:$D$107,"未確認")>0,"未確認",IF(COUNTIFS(変更記録!$A$8:$A$107,A9,変更記録!$B$8:$B$107,F9,変更記録!$D$8:$D$107,"取消")>0,"取消","変更"))))) -> 取消 | H9: =IF(J9="","",IF(K9<>0,NA(),IF(G9="未確認","",IF(F9=0,C9,SUMIFS(変更記録!$H$8:$H$107,変更記録!$A$8:$A$107,A9,変更記録!$B$8:$B$107,F9))))) -> 0 | I9: =IF(J9="","",IF(K9<>0,NA(),IF(G9="未確認","",H9-C9))) -> -200000 | J9: =IF(COUNTA(A9:D9)=0,"",IF(NOT(AND(ISTEXT(A9),LEN(A9)=8,EXACT(LEFT(A9,4),"ORD-"),ISNUMBER(FIND(MID(A9,5,1)&"x","0x1x2x3x4x5x6x7x8x9x")),ISNUMBER(FIND(MID(A9,6,1)&"x","0x1x2x3x4x5x6x7x8x9x")),ISNUMBER(FIND(MID(A9,7,1)&"x","0x1x2x3x4x5x6x7x8x9x")),ISNUMBER(FIND(MID(A9,8,1)&"x","0x1x2x3x4x5x6x7x8x9x")))),"IDはORD-と半角数字4桁",IF(COUNTIFS($A$8:$A$57,A9)>1,"受注IDが重複",IF(NOT(IF(ISNUMBER(B9),AND(B9>=43831,B9<73051,B9=INT(B9)),FALSE())),"当初受注日は時刻なしで必須",IF(NOT(IF(ISNUMBER(C9),AND(C9>=0,C9<=1000000000,C9=INT(C9)),FALSE())),"当初額は0〜10億円の整数で必須",IF(NOT(IF(ISNUMBER(D9),AND(D9>=43831,D9<73051,D9=INT(D9)),FALSE())),"当初確認日は時刻なしで必須",IF(OR(B9>D9,D9>受注一覧!$H$3),"受注日≦当初確認日≦基準日を確認","確認済み"))))))) -> 確認済み | K9: =IF(J9="","",IF(J9="確認済み",0,1)) -> 0 | L9: =IF(COUNTA(A9:D9)=0,IF(AND(J9="",K9="",E9="",F9="",G9="",H9="",I9="",M9="",N9=""),0,1),IF(NOT(AND(ISTEXT(J9),J9=IF(COUNTA(A9:D9)=0,"",IF(NOT(AND(ISTEXT(A9),LEN(A9)=8,EXACT(LEFT(A9,4),"ORD-"),ISNUMBER(FIND(MID(A9,5,1)&"x","0x1x2x3x4x5x6x7x8x9x")),ISNUMBER(FIND(MID(A9,6,1)&"x","0x1x2x3x4x5x6x7x8x9x")),ISNUMBER(FIND(MID(A9,7,1)&"x","0x1x2x3x4x5x6x7x8x9x")),ISNUMBER(FIND(MID(A9,8,1)&"x","0x1x2x3x4x5x6x7x8x9x")))),"IDはORD-と半角数字4桁",IF(COUNTIFS($A$8:$A$57,A9)>1,"受注IDが重複",IF(NOT(IF(ISNUMBER(B9),AND(B9>=43831,B9<73051,B9=INT(B9)),FALSE())),"当初受注日は時刻なしで必須",IF(NOT(IF(ISNUMBER(C9),AND(C9>=0,C9<=1000000000,C9=INT(C9)),FALSE())),"当初額は0〜10億円の整数で必須",IF(NOT(IF(ISNUMBER(D9),AND(D9>=43831,D9<73051,D9=INT(D9)),FALSE())),"当初確認日は時刻なしで必須",IF(OR(B9>D9,D9>受注一覧!$H$3),"受注日≦当初確認日≦基準日を確認","確認済み"))))))),ISNUMBER(K9),K9=IF(J9="確認済み",0,1))),1,IF(K9<>0,0,IF(AND(ISNUMBER(E9),E9=IF(AND(B9>=受注一覧!$B$3,B9<=受注一覧!$E$3),1,0),ISNUMBER(F9),F9=COUNTIFS(変更記録!$A$8:$A$107,A9),ISTEXT(G9),G9=IF(F9=0,"未変更",IF(COUNTIFS(変更記録!$A$8:$A$107,A9,変更記録!$B$8:$B$107,F9,変更記録!$D$8:$D$107,"未確認")>0,"未確認",IF(COUNTIFS(変更記録!$A$8:$A$107,A9,変更記録!$B$8:$B$107,F9,変更記録!$D$8:$D$107,"取消")>0,"取消","変更"))),IF(G9="未確認",ISTEXT(H9),ISNUMBER(H9)),H9=IF(G9="未確認","",IF(F9=0,C9,SUMIFS(変更記録!$H$8:$H$107,変更記録!$A$8:$A$107,A9,変更記録!$B$8:$B$107,F9))),IF(G9="未確認",ISTEXT(I9),ISNUMBER(I9)),I9=IF(G9="未確認","",H9-C9),IF(F9=0,ISTEXT(M9),ISNUMBER(M9)),M9=IF(F9=0,"",SUMIFS(変更記録!$C$8:$C$107,変更記録!$A$8:$A$107,A9,変更記録!$B$8:$B$107,F9)),ISNUMBER(N9),N9=IF(F9=0,D9,SUMIFS(変更記録!$F$8:$F$107,変更記録!$A$8:$A$107,A9,変更記録!$B$8:$B$107,F9))),0,1)))) -> 0 | M9: =IF(J9="","",IF(K9<>0,NA(),IF(F9=0,"",SUMIFS(変更記録!$C$8:$C$107,変更記録!$A$8:$A$107,A9,変更記録!$B$8:$B$107,F9)))) -> 46328 | N9: =IF(J9="","",IF(K9<>0,NA(),IF(F9=0,D9,SUMIFS(変更記録!$F$8:$F$107,変更記録!$A$8:$A$107,A9,変更記録!$B$8:$B$107,F9)))) -> 46329
A10: ORD-0003 | B10: 46311 | C10: 0 | D10: 46311 | E10: =IF(J10="","",IF(K10<>0,NA(),IF(AND(B10>=受注一覧!$B$3,B10<=受注一覧!$E$3),1,0))) -> 1 | F10: =IF(J10="","",IF(K10<>0,NA(),COUNTIFS(変更記録!$A$8:$A$107,A10))) -> 0 | G10: =IF(J10="","",IF(K10<>0,NA(),IF(F10=0,"未変更",IF(COUNTIFS(変更記録!$A$8:$A$107,A10,変更記録!$B$8:$B$107,F10,変更記録!$D$8:$D$107,"未確認")>0,"未確認",IF(COUNTIFS(変更記録!$A$8:$A$107,A10,変更記録!$B$8:$B$107,F10,変更記録!$D$8:$D$107,"取消")>0,"取消","変更"))))) -> 未変更 | H10: =IF(J10="","",IF(K10<>0,NA(),IF(G10="未確認","",IF(F10=0,C10,SUMIFS(変更記録!$H$8:$H$107,変更記録!$A$8:$A$107,A10,変更記録!$B$8:$B$107,F10))))) -> 0 | I10: =IF(J10="","",IF(K10<>0,NA(),IF(G10="未確認","",H10-C10))) -> 0 | J10: =IF(COUNTA(A10:D10)=0,"",IF(NOT(AND(ISTEXT(A10),LEN(A10)=8,EXACT(LEFT(A10,4),"ORD-"),ISNUMBER(FIND(MID(A10,5,1)&"x","0x1x2x3x4x5x6x7x8x9x")),ISNUMBER(FIND(MID(A10,6,1)&"x","0x1x2x3x4x5x6x7x8x9x")),ISNUMBER(FIND(MID(A10,7,1)&"x","0x1x2x3x4x5x6x7x8x9x")),ISNUMBER(FIND(MID(A10,8,1)&"x","0x1x2x3x4x5x6x7x8x9x")))),"IDはORD-と半角数字4桁",IF(COUNTIFS($A$8:$A$57,A10)>1,"受注IDが重複",IF(NOT(IF(ISNUMBER(B10),AND(B10>=43831,B10<73051,B10=INT(B10)),FALSE())),"当初受注日は時刻なしで必須",IF(NOT(IF(ISNUMBER(C10),AND(C10>=0,C10<=1000000000,C10=INT(C10)),FALSE())),"当初額は0〜10億円の整数で必須",IF(NOT(IF(ISNUMBER(D10),AND(D10>=43831,D10<73051,D10=INT(D10)),FALSE())),"当初確認日は時刻なしで必須",IF(OR(B10>D10,D10>受注一覧!$H$3),"受注日≦当初確認日≦基準日を確認","確認済み"))))))) -> 確認済み | K10: =IF(J10="","",IF(J10="確認済み",0,1)) -> 0 | L10: =IF(COUNTA(A10:D10)=0,IF(AND(J10="",K10="",E10="",F10="",G10="",H10="",I10="",M10="",N10=""),0,1),IF(NOT(AND(ISTEXT(J10),J10=IF(COUNTA(A10:D10)=0,"",IF(NOT(AND(ISTEXT(A10),LEN(A10)=8,EXACT(LEFT(A10,4),"ORD-"),ISNUMBER(FIND(MID(A10,5,1)&"x","0x1x2x3x4x5x6x7x8x9x")),ISNUMBER(FIND(MID(A10,6,1)&"x","0x1x2x3x4x5x6x7x8x9x")),ISNUMBER(FIND(MID(A10,7,1)&"x","0x1x2x3x4x5x6x7x8x9x")),ISNUMBER(FIND(MID(A10,8,1)&"x","0x1x2x3x4x5x6x7x8x9x")))),"IDはORD-と半角数字4桁",IF(COUNTIFS($A$8:$A$57,A10)>1,"受注IDが重複",IF(NOT(IF(ISNUMBER(B10),AND(B10>=43831,B10<73051,B10=INT(B10)),FALSE())),"当初受注日は時刻なしで必須",IF(NOT(IF(ISNUMBER(C10),AND(C10>=0,C10<=1000000000,C10=INT(C10)),FALSE())),"当初額は0〜10億円の整数で必須",IF(NOT(IF(ISNUMBER(D10),AND(D10>=43831,D10<73051,D10=INT(D10)),FALSE())),"当初確認日は時刻なしで必須",IF(OR(B10>D10,D10>受注一覧!$H$3),"受注日≦当初確認日≦基準日を確認","確認済み"))))))),ISNUMBER(K10),K10=IF(J10="確認済み",0,1))),1,IF(K10<>0,0,IF(AND(ISNUMBER(E10),E10=IF(AND(B10>=受注一覧!$B$3,B10<=受注一覧!$E$3),1,0),ISNUMBER(F10),F10=COUNTIFS(変更記録!$A$8:$A$107,A10),ISTEXT(G10),G10=IF(F10=0,"未変更",IF(COUNTIFS(変更記録!$A$8:$A$107,A10,変更記録!$B$8:$B$107,F10,変更記録!$D$8:$D$107,"未確認")>0,"未確認",IF(COUNTIFS(変更記録!$A$8:$A$107,A10,変更記録!$B$8:$B$107,F10,変更記録!$D$8:$D$107,"取消")>0,"取消","変更"))),IF(G10="未確認",ISTEXT(H10),ISNUMBER(H10)),H10=IF(G10="未確認","",IF(F10=0,C10,SUMIFS(変更記録!$H$8:$H$107,変更記録!$A$8:$A$107,A10,変更記録!$B$8:$B$107,F10))),IF(G10="未確認",ISTEXT(I10),ISNUMBER(I10)),I10=IF(G10="未確認","",H10-C10),IF(F10=0,ISTEXT(M10),ISNUMBER(M10)),M10=IF(F10=0,"",SUMIFS(変更記録!$C$8:$C$107,変更記録!$A$8:$A$107,A10,変更記録!$B$8:$B$107,F10)),ISNUMBER(N10),N10=IF(F10=0,D10,SUMIFS(変更記録!$F$8:$F$107,変更記録!$A$8:$A$107,A10,変更記録!$B$8:$B$107,F10))),0,1)))) -> 0 | M10: =IF(J10="","",IF(K10<>0,NA(),IF(F10=0,"",SUMIFS(変更記録!$C$8:$C$107,変更記録!$A$8:$A$107,A10,変更記録!$B$8:$B$107,F10)))) | N10: =IF(J10="","",IF(K10<>0,NA(),IF(F10=0,D10,SUMIFS(変更記録!$F$8:$F$107,変更記録!$A$8:$A$107,A10,変更記録!$B$8:$B$107,F10)))) -> 46311
A11: ORD-0004 | B11: 46315 | C11: 80000 | D11: 46316 | E11: =IF(J11="","",IF(K11<>0,NA(),IF(AND(B11>=受注一覧!$B$3,B11<=受注一覧!$E$3),1,0))) -> 1 | F11: =IF(J11="","",IF(K11<>0,NA(),COUNTIFS(変更記録!$A$8:$A$107,A11))) -> 1 | G11: =IF(J11="","",IF(K11<>0,NA(),IF(F11=0,"未変更",IF(COUNTIFS(変更記録!$A$8:$A$107,A11,変更記録!$B$8:$B$107,F11,変更記録!$D$8:$D$107,"未確認")>0,"未確認",IF(COUNTIFS(変更記録!$A$8:$A$107,A11,変更記録!$B$8:$B$107,F11,変更記録!$D$8:$D$107,"取消")>0,"取消","変更"))))) -> 未確認 | H11: =IF(J11="","",IF(K11<>0,NA(),IF(G11="未確認","",IF(F11=0,C11,SUMIFS(変更記録!$H$8:$H$107,変更記録!$A$8:$A$107,A11,変更記録!$B$8:$B$107,F11))))) | I11: =IF(J11="","",IF(K11<>0,NA(),IF(G11="未確認","",H11-C11))) | J11: =IF(COUNTA(A11:D11)=0,"",IF(NOT(AND(ISTEXT(A11),LEN(A11)=8,EXACT(LEFT(A11,4),"ORD-"),ISNUMBER(FIND(MID(A11,5,1)&"x","0x1x2x3x4x5x6x7x8x9x")),ISNUMBER(FIND(MID(A11,6,1)&"x","0x1x2x3x4x5x6x7x8x9x")),ISNUMBER(FIND(MID(A11,7,1)&"x","0x1x2x3x4x5x6x7x8x9x")),ISNUMBER(FIND(MID(A11,8,1)&"x","0x1x2x3x4x5x6x7x8x9x")))),"IDはORD-と半角数字4桁",IF(COUNTIFS($A$8:$A$57,A11)>1,"受注IDが重複",IF(NOT(IF(ISNUMBER(B11),AND(B11>=43831,B11<73051,B11=INT(B11)),FALSE())),"当初受注日は時刻なしで必須",IF(NOT(IF(ISNUMBER(C11),AND(C11>=0,C11<=1000000000,C11=INT(C11)),FALSE())),"当初額は0〜10億円の整数で必須",IF(NOT(IF(ISNUMBER(D11),AND(D11>=43831,D11<73051,D11=INT(D11)),FALSE())),"当初確認日は時刻なしで必須",IF(OR(B11>D11,D11>受注一覧!$H$3),"受注日≦当初確認日≦基準日を確認","確認済み"))))))) -> 確認済み | K11: =IF(J11="","",IF(J11="確認済み",0,1)) -> 0 | L11: =IF(COUNTA(A11:D11)=0,IF(AND(J11="",K11="",E11="",F11="",G11="",H11="",I11="",M11="",N11=""),0,1),IF(NOT(AND(ISTEXT(J11),J11=IF(COUNTA(A11:D11)=0,"",IF(NOT(AND(ISTEXT(A11),LEN(A11)=8,EXACT(LEFT(A11,4),"ORD-"),ISNUMBER(FIND(MID(A11,5,1)&"x","0x1x2x3x4x5x6x7x8x9x")),ISNUMBER(FIND(MID(A11,6,1)&"x","0x1x2x3x4x5x6x7x8x9x")),ISNUMBER(FIND(MID(A11,7,1)&"x","0x1x2x3x4x5x6x7x8x9x")),ISNUMBER(FIND(MID(A11,8,1)&"x","0x1x2x3x4x5x6x7x8x9x")))),"IDはORD-と半角数字4桁",IF(COUNTIFS($A$8:$A$57,A11)>1,"受注IDが重複",IF(NOT(IF(ISNUMBER(B11),AND(B11>=43831,B11<73051,B11=INT(B11)),FALSE())),"当初受注日は時刻なしで必須",IF(NOT(IF(ISNUMBER(C11),AND(C11>=0,C11<=1000000000,C11=INT(C11)),FALSE())),"当初額は0〜10億円の整数で必須",IF(NOT(IF(ISNUMBER(D11),AND(D11>=43831,D11<73051,D11=INT(D11)),FALSE())),"当初確認日は時刻なしで必須",IF(OR(B11>D11,D11>受注一覧!$H$3),"受注日≦当初確認日≦基準日を確認","確認済み"))))))),ISNUMBER(K11),K11=IF(J11="確認済み",0,1))),1,IF(K11<>0,0,IF(AND(ISNUMBER(E11),E11=IF(AND(B11>=受注一覧!$B$3,B11<=受注一覧!$E$3),1,0),ISNUMBER(F11),F11=COUNTIFS(変更記録!$A$8:$A$107,A11),ISTEXT(G11),G11=IF(F11=0,"未変更",IF(COUNTIFS(変更記録!$A$8:$A$107,A11,変更記録!$B$8:$B$107,F11,変更記録!$D$8:$D$107,"未確認")>0,"未確認",IF(COUNTIFS(変更記録!$A$8:$A$107,A11,変更記録!$B$8:$B$107,F11,変更記録!$D$8:$D$107,"取消")>0,"取消","変更"))),IF(G11="未確認",ISTEXT(H11),ISNUMBER(H11)),H11=IF(G11="未確認","",IF(F11=0,C11,SUMIFS(変更記録!$H$8:$H$107,変更記録!$A$8:$A$107,A11,変更記録!$B$8:$B$107,F11))),IF(G11="未確認",ISTEXT(I11),ISNUMBER(I11)),I11=IF(G11="未確認","",H11-C11),IF(F11=0,ISTEXT(M11),ISNUMBER(M11)),M11=IF(F11=0,"",SUMIFS(変更記録!$C$8:$C$107,変更記録!$A$8:$A$107,A11,変更記録!$B$8:$B$107,F11)),ISNUMBER(N11),N11=IF(F11=0,D11,SUMIFS(変更記録!$F$8:$F$107,変更記録!$A$8:$A$107,A11,変更記録!$B$8:$B$107,F11))),0,1)))) -> 0 | M11: =IF(J11="","",IF(K11<>0,NA(),IF(F11=0,"",SUMIFS(変更記録!$C$8:$C$107,変更記録!$A$8:$A$107,A11,変更記録!$B$8:$B$107,F11)))) -> 46325 | N11: =IF(J11="","",IF(K11<>0,NA(),IF(F11=0,D11,SUMIFS(変更記録!$F$8:$F$107,変更記録!$A$8:$A$107,A11,変更記録!$B$8:$B$107,F11)))) -> 46331
A12: ORD-0005 | B12: 46295 | C12: 120000 | D12: 46296 | E12: =IF(J12="","",IF(K12<>0,NA(),IF(AND(B12>=受注一覧!$B$3,B12<=受注一覧!$E$3),1,0))) -> 0 | F12: =IF(J12="","",IF(K12<>0,NA(),COUNTIFS(変更記録!$A$8:$A$107,A12))) -> 1 | G12: =IF(J12="","",IF(K12<>0,NA(),IF(F12=0,"未変更",IF(COUNTIFS(変更記録!$A$8:$A$107,A12,変更記録!$B$8:$B$107,F12,変更記録!$D$8:$D$107,"未確認")>0,"未確認",IF(COUNTIFS(変更記録!$A$8:$A$107,A12,変更記録!$B$8:$B$107,F12,変更記録!$D$8:$D$107,"取消")>0,"取消","変更"))))) -> 変更 | H12: =IF(J12="","",IF(K12<>0,NA(),IF(G12="未確認","",IF(F12=0,C12,SUMIFS(変更記録!$H$8:$H$107,変更記録!$A$8:$A$107,A12,変更記録!$B$8:$B$107,F12))))) -> 150000 | I12: =IF(J12="","",IF(K12<>0,NA(),IF(G12="未確認","",H12-C12))) -> 30000 | J12: =IF(COUNTA(A12:D12)=0,"",IF(NOT(AND(ISTEXT(A12),LEN(A12)=8,EXACT(LEFT(A12,4),"ORD-"),ISNUMBER(FIND(MID(A12,5,1)&"x","0x1x2x3x4x5x6x7x8x9x")),ISNUMBER(FIND(MID(A12,6,1)&"x","0x1x2x3x4x5x6x7x8x9x")),ISNUMBER(FIND(MID(A12,7,1)&"x","0x1x2x3x4x5x6x7x8x9x")),ISNUMBER(FIND(MID(A12,8,1)&"x","0x1x2x3x4x5x6x7x8x9x")))),"IDはORD-と半角数字4桁",IF(COUNTIFS($A$8:$A$57,A12)>1,"受注IDが重複",IF(NOT(IF(ISNUMBER(B12),AND(B12>=43831,B12<73051,B12=INT(B12)),FALSE())),"当初受注日は時刻なしで必須",IF(NOT(IF(ISNUMBER(C12),AND(C12>=0,C12<=1000000000,C12=INT(C12)),FALSE())),"当初額は0〜10億円の整数で必須",IF(NOT(IF(ISNUMBER(D12),AND(D12>=43831,D12<73051,D12=INT(D12)),FALSE())),"当初確認日は時刻なしで必須",IF(OR(B12>D12,D12>受注一覧!$H$3),"受注日≦当初確認日≦基準日を確認","確認済み"))))))) -> 確認済み | K12: =IF(J12="","",IF(J12="確認済み",0,1)) -> 0 | L12: =IF(COUNTA(A12:D12)=0,IF(AND(J12="",K12="",E12="",F12="",G12="",H12="",I12="",M12="",N12=""),0,1),IF(NOT(AND(ISTEXT(J12),J12=IF(COUNTA(A12:D12)=0,"",IF(NOT(AND(ISTEXT(A12),LEN(A12)=8,EXACT(LEFT(A12,4),"ORD-"),ISNUMBER(FIND(MID(A12,5,1)&"x","0x1x2x3x4x5x6x7x8x9x")),ISNUMBER(FIND(MID(A12,6,1)&"x","0x1x2x3x4x5x6x7x8x9x")),ISNUMBER(FIND(MID(A12,7,1)&"x","0x1x2x3x4x5x6x7x8x9x")),ISNUMBER(FIND(MID(A12,8,1)&"x","0x1x2x3x4x5x6x7x8x9x")))),"IDはORD-と半角数字4桁",IF(COUNTIFS($A$8:$A$57,A12)>1,"受注IDが重複",IF(NOT(IF(ISNUMBER(B12),AND(B12>=43831,B12<73051,B12=INT(B12)),FALSE())),"当初受注日は時刻なしで必須",IF(NOT(IF(ISNUMBER(C12),AND(C12>=0,C12<=1000000000,C12=INT(C12)),FALSE())),"当初額は0〜10億円の整数で必須",IF(NOT(IF(ISNUMBER(D12),AND(D12>=43831,D12<73051,D12=INT(D12)),FALSE())),"当初確認日は時刻なしで必須",IF(OR(B12>D12,D12>受注一覧!$H$3),"受注日≦当初確認日≦基準日を確認","確認済み"))))))),ISNUMBER(K12),K12=IF(J12="確認済み",0,1))),1,IF(K12<>0,0,IF(AND(ISNUMBER(E12),E12=IF(AND(B12>=受注一覧!$B$3,B12<=受注一覧!$E$3),1,0),ISNUMBER(F12),F12=COUNTIFS(変更記録!$A$8:$A$107,A12),ISTEXT(G12),G12=IF(F12=0,"未変更",IF(COUNTIFS(変更記録!$A$8:$A$107,A12,変更記録!$B$8:$B$107,F12,変更記録!$D$8:$D$107,"未確認")>0,"未確認",IF(COUNTIFS(変更記録!$A$8:$A$107,A12,変更記録!$B$8:$B$107,F12,変更記録!$D$8:$D$107,"取消")>0,"取消","変更"))),IF(G12="未確認",ISTEXT(H12),ISNUMBER(H12)),H12=IF(G12="未確認","",IF(F12=0,C12,SUMIFS(変更記録!$H$8:$H$107,変更記録!$A$8:$A$107,A12,変更記録!$B$8:$B$107,F12))),IF(G12="未確認",ISTEXT(I12),ISNUMBER(I12)),I12=IF(G12="未確認","",H12-C12),IF(F12=0,ISTEXT(M12),ISNUMBER(M12)),M12=IF(F12=0,"",SUMIFS(変更記録!$C$8:$C$107,変更記録!$A$8:$A$107,A12,変更記録!$B$8:$B$107,F12)),ISNUMBER(N12),N12=IF(F12=0,D12,SUMIFS(変更記録!$F$8:$F$107,変更記録!$A$8:$A$107,A12,変更記録!$B$8:$B$107,F12))),0,1)))) -> 0 | M12: =IF(J12="","",IF(K12<>0,NA(),IF(F12=0,"",SUMIFS(変更記録!$C$8:$C$107,変更記録!$A$8:$A$107,A12,変更記録!$B$8:$B$107,F12)))) -> 46305 | N12: =IF(J12="","",IF(K12<>0,NA(),IF(F12=0,D12,SUMIFS(変更記録!$F$8:$F$107,変更記録!$A$8:$A$107,A12,変更記録!$B$8:$B$107,F12)))) -> 46306
A13: ORD-0006 | B13: 46326 | C13: 60000 | D13: 46326 | E13: =IF(J13="","",IF(K13<>0,NA(),IF(AND(B13>=受注一覧!$B$3,B13<=受注一覧!$E$3),1,0))) -> 1 | F13: =IF(J13="","",IF(K13<>0,NA(),COUNTIFS(変更記録!$A$8:$A$107,A13))) -> 1 | G13: =IF(J13="","",IF(K13<>0,NA(),IF(F13=0,"未変更",IF(COUNTIFS(変更記録!$A$8:$A$107,A13,変更記録!$B$8:$B$107,F13,変更記録!$D$8:$D$107,"未確認")>0,"未確認",IF(COUNTIFS(変更記録!$A$8:$A$107,A13,変更記録!$B$8:$B$107,F13,変更記録!$D$8:$D$107,"取消")>0,"取消","変更"))))) -> 変更 | H13: =IF(J13="","",IF(K13<>0,NA(),IF(G13="未確認","",IF(F13=0,C13,SUMIFS(変更記録!$H$8:$H$107,変更記録!$A$8:$A$107,A13,変更記録!$B$8:$B$107,F13))))) -> 70000 | I13: =IF(J13="","",IF(K13<>0,NA(),IF(G13="未確認","",H13-C13))) -> 10000 | J13: =IF(COUNTA(A13:D13)=0,"",IF(NOT(AND(ISTEXT(A13),LEN(A13)=8,EXACT(LEFT(A13,4),"ORD-"),ISNUMBER(FIND(MID(A13,5,1)&"x","0x1x2x3x4x5x6x7x8x9x")),ISNUMBER(FIND(MID(A13,6,1)&"x","0x1x2x3x4x5x6x7x8x9x")),ISNUMBER(FIND(MID(A13,7,1)&"x","0x1x2x3x4x5x6x7x8x9x")),ISNUMBER(FIND(MID(A13,8,1)&"x","0x1x2x3x4x5x6x7x8x9x")))),"IDはORD-と半角数字4桁",IF(COUNTIFS($A$8:$A$57,A13)>1,"受注IDが重複",IF(NOT(IF(ISNUMBER(B13),AND(B13>=43831,B13<73051,B13=INT(B13)),FALSE())),"当初受注日は時刻なしで必須",IF(NOT(IF(ISNUMBER(C13),AND(C13>=0,C13<=1000000000,C13=INT(C13)),FALSE())),"当初額は0〜10億円の整数で必須",IF(NOT(IF(ISNUMBER(D13),AND(D13>=43831,D13<73051,D13=INT(D13)),FALSE())),"当初確認日は時刻なしで必須",IF(OR(B13>D13,D13>受注一覧!$H$3),"受注日≦当初確認日≦基準日を確認","確認済み"))))))) -> 確認済み | K13: =IF(J13="","",IF(J13="確認済み",0,1)) -> 0 | L13: =IF(COUNTA(A13:D13)=0,IF(AND(J13="",K13="",E13="",F13="",G13="",H13="",I13="",M13="",N13=""),0,1),IF(NOT(AND(ISTEXT(J13),J13=IF(COUNTA(A13:D13)=0,"",IF(NOT(AND(ISTEXT(A13),LEN(A13)=8,EXACT(LEFT(A13,4),"ORD-"),ISNUMBER(FIND(MID(A13,5,1)&"x","0x1x2x3x4x5x6x7x8x9x")),ISNUMBER(FIND(MID(A13,6,1)&"x","0x1x2x3x4x5x6x7x8x9x")),ISNUMBER(FIND(MID(A13,7,1)&"x","0x1x2x3x4x5x6x7x8x9x")),ISNUMBER(FIND(MID(A13,8,1)&"x","0x1x2x3x4x5x6x7x8x9x")))),"IDはORD-と半角数字4桁",IF(COUNTIFS($A$8:$A$57,A13)>1,"受注IDが重複",IF(NOT(IF(ISNUMBER(B13),AND(B13>=43831,B13<73051,B13=INT(B13)),FALSE())),"当初受注日は時刻なしで必須",IF(NOT(IF(ISNUMBER(C13),AND(C13>=0,C13<=1000000000,C13=INT(C13)),FALSE())),"当初額は0〜10億円の整数で必須",IF(NOT(IF(ISNUMBER(D13),AND(D13>=43831,D13<73051,D13=INT(D13)),FALSE())),"当初確認日は時刻なしで必須",IF(OR(B13>D13,D13>受注一覧!$H$3),"受注日≦当初確認日≦基準日を確認","確認済み"))))))),ISNUMBER(K13),K13=IF(J13="確認済み",0,1))),1,IF(K13<>0,0,IF(AND(ISNUMBER(E13),E13=IF(AND(B13>=受注一覧!$B$3,B13<=受注一覧!$E$3),1,0),ISNUMBER(F13),F13=COUNTIFS(変更記録!$A$8:$A$107,A13),ISTEXT(G13),G13=IF(F13=0,"未変更",IF(COUNTIFS(変更記録!$A$8:$A$107,A13,変更記録!$B$8:$B$107,F13,変更記録!$D$8:$D$107,"未確認")>0,"未確認",IF(COUNTIFS(変更記録!$A$8:$A$107,A13,変更記録!$B$8:$B$107,F13,変更記録!$D$8:$D$107,"取消")>0,"取消","変更"))),IF(G13="未確認",ISTEXT(H13),ISNUMBER(H13)),H13=IF(G13="未確認","",IF(F13=0,C13,SUMIFS(変更記録!$H$8:$H$107,変更記録!$A$8:$A$107,A13,変更記録!$B$8:$B$107,F13))),IF(G13="未確認",ISTEXT(I13),ISNUMBER(I13)),I13=IF(G13="未確認","",H13-C13),IF(F13=0,ISTEXT(M13),ISNUMBER(M13)),M13=IF(F13=0,"",SUMIFS(変更記録!$C$8:$C$107,変更記録!$A$8:$A$107,A13,変更記録!$B$8:$B$107,F13)),ISNUMBER(N13),N13=IF(F13=0,D13,SUMIFS(変更記録!$F$8:$F$107,変更記録!$A$8:$A$107,A13,変更記録!$B$8:$B$107,F13))),0,1)))) -> 0 | M13: =IF(J13="","",IF(K13<>0,NA(),IF(F13=0,"",SUMIFS(変更記録!$C$8:$C$107,変更記録!$A$8:$A$107,A13,変更記録!$B$8:$B$107,F13)))) -> 46328 | N13: =IF(J13="","",IF(K13<>0,NA(),IF(F13=0,D13,SUMIFS(変更記録!$F$8:$F$107,変更記録!$A$8:$A$107,A13,変更記録!$B$8:$B$107,F13)))) -> 46329
A14: ORD-0007 | B14: 46320 | C14: 1 | D14: 46321 | E14: =IF(J14="","",IF(K14<>0,NA(),IF(AND(B14>=受注一覧!$B$3,B14<=受注一覧!$E$3),1,0))) -> 1 | F14: =IF(J14="","",IF(K14<>0,NA(),COUNTIFS(変更記録!$A$8:$A$107,A14))) -> 1 | G14: =IF(J14="","",IF(K14<>0,NA(),IF(F14=0,"未変更",IF(COUNTIFS(変更記録!$A$8:$A$107,A14,変更記録!$B$8:$B$107,F14,変更記録!$D$8:$D$107,"未確認")>0,"未確認",IF(COUNTIFS(変更記録!$A$8:$A$107,A14,変更記録!$B$8:$B$107,F14,変更記録!$D$8:$D$107,"取消")>0,"取消","変更"))))) -> 変更 | H14: =IF(J14="","",IF(K14<>0,NA(),IF(G14="未確認","",IF(F14=0,C14,SUMIFS(変更記録!$H$8:$H$107,変更記録!$A$8:$A$107,A14,変更記録!$B$8:$B$107,F14))))) -> 0 | I14: =IF(J14="","",IF(K14<>0,NA(),IF(G14="未確認","",H14-C14))) -> -1 | J14: =IF(COUNTA(A14:D14)=0,"",IF(NOT(AND(ISTEXT(A14),LEN(A14)=8,EXACT(LEFT(A14,4),"ORD-"),ISNUMBER(FIND(MID(A14,5,1)&"x","0x1x2x3x4x5x6x7x8x9x")),ISNUMBER(FIND(MID(A14,6,1)&"x","0x1x2x3x4x5x6x7x8x9x")),ISNUMBER(FIND(MID(A14,7,1)&"x","0x1x2x3x4x5x6x7x8x9x")),ISNUMBER(FIND(MID(A14,8,1)&"x","0x1x2x3x4x5x6x7x8x9x")))),"IDはORD-と半角数字4桁",IF(COUNTIFS($A$8:$A$57,A14)>1,"受注IDが重複",IF(NOT(IF(ISNUMBER(B14),AND(B14>=43831,B14<73051,B14=INT(B14)),FALSE())),"当初受注日は時刻なしで必須",IF(NOT(IF(ISNUMBER(C14),AND(C14>=0,C14<=1000000000,C14=INT(C14)),FALSE())),"当初額は0〜10億円の整数で必須",IF(NOT(IF(ISNUMBER(D14),AND(D14>=43831,D14<73051,D14=INT(D14)),FALSE())),"当初確認日は時刻なしで必須",IF(OR(B14>D14,D14>受注一覧!$H$3),"受注日≦当初確認日≦基準日を確認","確認済み"))))))) -> 確認済み | K14: =IF(J14="","",IF(J14="確認済み",0,1)) -> 0 | L14: =IF(COUNTA(A14:D14)=0,IF(AND(J14="",K14="",E14="",F14="",G14="",H14="",I14="",M14="",N14=""),0,1),IF(NOT(AND(ISTEXT(J14),J14=IF(COUNTA(A14:D14)=0,"",IF(NOT(AND(ISTEXT(A14),LEN(A14)=8,EXACT(LEFT(A14,4),"ORD-"),ISNUMBER(FIND(MID(A14,5,1)&"x","0x1x2x3x4x5x6x7x8x9x")),ISNUMBER(FIND(MID(A14,6,1)&"x","0x1x2x3x4x5x6x7x8x9x")),ISNUMBER(FIND(MID(A14,7,1)&"x","0x1x2x3x4x5x6x7x8x9x")),ISNUMBER(FIND(MID(A14,8,1)&"x","0x1x2x3x4x5x6x7x8x9x")))),"IDはORD-と半角数字4桁",IF(COUNTIFS($A$8:$A$57,A14)>1,"受注IDが重複",IF(NOT(IF(ISNUMBER(B14),AND(B14>=43831,B14<73051,B14=INT(B14)),FALSE())),"当初受注日は時刻なしで必須",IF(NOT(IF(ISNUMBER(C14),AND(C14>=0,C14<=1000000000,C14=INT(C14)),FALSE())),"当初額は0〜10億円の整数で必須",IF(NOT(IF(ISNUMBER(D14),AND(D14>=43831,D14<73051,D14=INT(D14)),FALSE())),"当初確認日は時刻なしで必須",IF(OR(B14>D14,D14>受注一覧!$H$3),"受注日≦当初確認日≦基準日を確認","確認済み"))))))),ISNUMBER(K14),K14=IF(J14="確認済み",0,1))),1,IF(K14<>0,0,IF(AND(ISNUMBER(E14),E14=IF(AND(B14>=受注一覧!$B$3,B14<=受注一覧!$E$3),1,0),ISNUMBER(F14),F14=COUNTIFS(変更記録!$A$8:$A$107,A14),ISTEXT(G14),G14=IF(F14=0,"未変更",IF(COUNTIFS(変更記録!$A$8:$A$107,A14,変更記録!$B$8:$B$107,F14,変更記録!$D$8:$D$107,"未確認")>0,"未確認",IF(COUNTIFS(変更記録!$A$8:$A$107,A14,変更記録!$B$8:$B$107,F14,変更記録!$D$8:$D$107,"取消")>0,"取消","変更"))),IF(G14="未確認",ISTEXT(H14),ISNUMBER(H14)),H14=IF(G14="未確認","",IF(F14=0,C14,SUMIFS(変更記録!$H$8:$H$107,変更記録!$A$8:$A$107,A14,変更記録!$B$8:$B$107,F14))),IF(G14="未確認",ISTEXT(I14),ISNUMBER(I14)),I14=IF(G14="未確認","",H14-C14),IF(F14=0,ISTEXT(M14),ISNUMBER(M14)),M14=IF(F14=0,"",SUMIFS(変更記録!$C$8:$C$107,変更記録!$A$8:$A$107,A14,変更記録!$B$8:$B$107,F14)),ISNUMBER(N14),N14=IF(F14=0,D14,SUMIFS(変更記録!$F$8:$F$107,変更記録!$A$8:$A$107,A14,変更記録!$B$8:$B$107,F14))),0,1)))) -> 0 | M14: =IF(J14="","",IF(K14<>0,NA(),IF(F14=0,"",SUMIFS(変更記録!$C$8:$C$107,変更記録!$A$8:$A$107,A14,変更記録!$B$8:$B$107,F14)))) -> 46323 | N14: =IF(J14="","",IF(K14<>0,NA(),IF(F14=0,D14,SUMIFS(変更記録!$F$8:$F$107,変更記録!$A$8:$A$107,A14,変更記録!$B$8:$B$107,F14)))) -> 46324
A15: ORD-0008 | B15: 46321 | C15: 1 | D15: 46321 | E15: =IF(J15="","",IF(K15<>0,NA(),IF(AND(B15>=受注一覧!$B$3,B15<=受注一覧!$E$3),1,0))) -> 1 | F15: =IF(J15="","",IF(K15<>0,NA(),COUNTIFS(変更記録!$A$8:$A$107,A15))) -> 0 | G15: =IF(J15="","",IF(K15<>0,NA(),IF(F15=0,"未変更",IF(COUNTIFS(変更記録!$A$8:$A$107,A15,変更記録!$B$8:$B$107,F15,変更記録!$D$8:$D$107,"未確認")>0,"未確認",IF(COUNTIFS(変更記録!$A$8:$A$107,A15,変更記録!$B$8:$B$107,F15,変更記録!$D$8:$D$107,"取消")>0,"取消","変更"))))) -> 未変更 | H15: =IF(J15="","",IF(K15<>0,NA(),IF(G15="未確認","",IF(F15=0,C15,SUMIFS(変更記録!$H$8:$H$107,変更記録!$A$8:$A$107,A15,変更記録!$B$8:$B$107,F15))))) -> 1 | I15: =IF(J15="","",IF(K15<>0,NA(),IF(G15="未確認","",H15-C15))) -> 0 | J15: =IF(COUNTA(A15:D15)=0,"",IF(NOT(AND(ISTEXT(A15),LEN(A15)=8,EXACT(LEFT(A15,4),"ORD-"),ISNUMBER(FIND(MID(A15,5,1)&"x","0x1x2x3x4x5x6x7x8x9x")),ISNUMBER(FIND(MID(A15,6,1)&"x","0x1x2x3x4x5x6x7x8x9x")),ISNUMBER(FIND(MID(A15,7,1)&"x","0x1x2x3x4x5x6x7x8x9x")),ISNUMBER(FIND(MID(A15,8,1)&"x","0x1x2x3x4x5x6x7x8x9x")))),"IDはORD-と半角数字4桁",IF(COUNTIFS($A$8:$A$57,A15)>1,"受注IDが重複",IF(NOT(IF(ISNUMBER(B15),AND(B15>=43831,B15<73051,B15=INT(B15)),FALSE())),"当初受注日は時刻なしで必須",IF(NOT(IF(ISNUMBER(C15),AND(C15>=0,C15<=1000000000,C15=INT(C15)),FALSE())),"当初額は0〜10億円の整数で必須",IF(NOT(IF(ISNUMBER(D15),AND(D15>=43831,D15<73051,D15=INT(D15)),FALSE())),"当初確認日は時刻なしで必須",IF(OR(B15>D15,D15>受注一覧!$H$3),"受注日≦当初確認日≦基準日を確認","確認済み"))))))) -> 確認済み | K15: =IF(J15="","",IF(J15="確認済み",0,1)) -> 0 | L15: =IF(COUNTA(A15:D15)=0,IF(AND(J15="",K15="",E15="",F15="",G15="",H15="",I15="",M15="",N15=""),0,1),IF(NOT(AND(ISTEXT(J15),J15=IF(COUNTA(A15:D15)=0,"",IF(NOT(AND(ISTEXT(A15),LEN(A15)=8,EXACT(LEFT(A15,4),"ORD-"),ISNUMBER(FIND(MID(A15,5,1)&"x","0x1x2x3x4x5x6x7x8x9x")),ISNUMBER(FIND(MID(A15,6,1)&"x","0x1x2x3x4x5x6x7x8x9x")),ISNUMBER(FIND(MID(A15,7,1)&"x","0x1x2x3x4x5x6x7x8x9x")),ISNUMBER(FIND(MID(A15,8,1)&"x","0x1x2x3x4x5x6x7x8x9x")))),"IDはORD-と半角数字4桁",IF(COUNTIFS($A$8:$A$57,A15)>1,"受注IDが重複",IF(NOT(IF(ISNUMBER(B15),AND(B15>=43831,B15<73051,B15=INT(B15)),FALSE())),"当初受注日は時刻なしで必須",IF(NOT(IF(ISNUMBER(C15),AND(C15>=0,C15<=1000000000,C15=INT(C15)),FALSE())),"当初額は0〜10億円の整数で必須",IF(NOT(IF(ISNUMBER(D15),AND(D15>=43831,D15<73051,D15=INT(D15)),FALSE())),"当初確認日は時刻なしで必須",IF(OR(B15>D15,D15>受注一覧!$H$3),"受注日≦当初確認日≦基準日を確認","確認済み"))))))),ISNUMBER(K15),K15=IF(J15="確認済み",0,1))),1,IF(K15<>0,0,IF(AND(ISNUMBER(E15),E15=IF(AND(B15>=受注一覧!$B$3,B15<=受注一覧!$E$3),1,0),ISNUMBER(F15),F15=COUNTIFS(変更記録!$A$8:$A$107,A15),ISTEXT(G15),G15=IF(F15=0,"未変更",IF(COUNTIFS(変更記録!$A$8:$A$107,A15,変更記録!$B$8:$B$107,F15,変更記録!$D$8:$D$107,"未確認")>0,"未確認",IF(COUNTIFS(変更記録!$A$8:$A$107,A15,変更記録!$B$8:$B$107,F15,変更記録!$D$8:$D$107,"取消")>0,"取消","変更"))),IF(G15="未確認",ISTEXT(H15),ISNUMBER(H15)),H15=IF(G15="未確認","",IF(F15=0,C15,SUMIFS(変更記録!$H$8:$H$107,変更記録!$A$8:$A$107,A15,変更記録!$B$8:$B$107,F15))),IF(G15="未確認",ISTEXT(I15),ISNUMBER(I15)),I15=IF(G15="未確認","",H15-C15),IF(F15=0,ISTEXT(M15),ISNUMBER(M15)),M15=IF(F15=0,"",SUMIFS(変更記録!$C$8:$C$107,変更記録!$A$8:$A$107,A15,変更記録!$B$8:$B$107,F15)),ISNUMBER(N15),N15=IF(F15=0,D15,SUMIFS(変更記録!$F$8:$F$107,変更記録!$A$8:$A$107,A15,変更記録!$B$8:$B$107,F15))),0,1)))) -> 0 | M15: =IF(J15="","",IF(K15<>0,NA(),IF(F15=0,"",SUMIFS(変更記録!$C$8:$C$107,変更記録!$A$8:$A$107,A15,変更記録!$B$8:$B$107,F15)))) | N15: =IF(J15="","",IF(K15<>0,NA(),IF(F15=0,D15,SUMIFS(変更記録!$F$8:$F$107,変更記録!$A$8:$A$107,A15,変更記録!$B$8:$B$107,F15)))) -> 46321
E16: =IF(J16="","",IF(K16<>0,NA(),IF(AND(B16>=受注一覧!$B$3,B16<=受注一覧!$E$3),1,0))) | F16: =IF(J16="","",IF(K16<>0,NA(),COUNTIFS(変更記録!$A$8:$A$107,A16))) | G16: =IF(J16="","",IF(K16<>0,NA(),IF(F16=0,"未変更",IF(COUNTIFS(変更記録!$A$8:$A$107,A16,変更記録!$B$8:$B$107,F16,変更記録!$D$8:$D$107,"未確認")>0,"未確認",IF(COUNTIFS(変更記録!$A$8:$A$107,A16,変更記録!$B$8:$B$107,F16,変更記録!$D$8:$D$107,"取消")>0,"取消","変更"))))) | H16: =IF(J16="","",IF(K16<>0,NA(),IF(G16="未確認","",IF(F16=0,C16,SUMIFS(変更記録!$H$8:$H$107,変更記録!$A$8:$A$107,A16,変更記録!$B$8:$B$107,F16))))) | I16: =IF(J16="","",IF(K16<>0,NA(),IF(G16="未確認","",H16-C16))) | J16: =IF(COUNTA(A16:D16)=0,"",IF(NOT(AND(ISTEXT(A16),LEN(A16)=8,EXACT(LEFT(A16,4),"ORD-"),ISNUMBER(FIND(MID(A16,5,1)&"x","0x1x2x3x4x5x6x7x8x9x")),ISNUMBER(FIND(MID(A16,6,1)&"x","0x1x2x3x4x5x6x7x8x9x")),ISNUMBER(FIND(MID(A16,7,1)&"x","0x1x2x3x4x5x6x7x8x9x")),ISNUMBER(FIND(MID(A16,8,1)&"x","0x1x2x3x4x5x6x7x8x9x")))),"IDはORD-と半角数字4桁",IF(COUNTIFS($A$8:$A$57,A16)>1,"受注IDが重複",IF(NOT(IF(ISNUMBER(B16),AND(B16>=43831,B16<73051,B16=INT(B16)),FALSE())),"当初受注日は時刻なしで必須",IF(NOT(IF(ISNUMBER(C16),AND(C16>=0,C16<=1000000000,C16=INT(C16)),FALSE())),"当初額は0〜10億円の整数で必須",IF(NOT(IF(ISNUMBER(D16),AND(D16>=43831,D16<73051,D16=INT(D16)),FALSE())),"当初確認日は時刻なしで必須",IF(OR(B16>D16,D16>受注一覧!$H$3),"受注日≦当初確認日≦基準日を確認","確認済み"))))))) | K16: =IF(J16="","",IF(J16="確認済み",0,1)) | L16: =IF(COUNTA(A16:D16)=0,IF(AND(J16="",K16="",E16="",F16="",G16="",H16="",I16="",M16="",N16=""),0,1),IF(NOT(AND(ISTEXT(J16),J16=IF(COUNTA(A16:D16)=0,"",IF(NOT(AND(ISTEXT(A16),LEN(A16)=8,EXACT(LEFT(A16,4),"ORD-"),ISNUMBER(FIND(MID(A16,5,1)&"x","0x1x2x3x4x5x6x7x8x9x")),ISNUMBER(FIND(MID(A16,6,1)&"x","0x1x2x3x4x5x6x7x8x9x")),ISNUMBER(FIND(MID(A16,7,1)&"x","0x1x2x3x4x5x6x7x8x9x")),ISNUMBER(FIND(MID(A16,8,1)&"x","0x1x2x3x4x5x6x7x8x9x")))),"IDはORD-と半角数字4桁",IF(COUNTIFS($A$8:$A$57,A16)>1,"受注IDが重複",IF(NOT(IF(ISNUMBER(B16),AND(B16>=43831,B16<73051,B16=INT(B16)),FALSE())),"当初受注日は時刻なしで必須",IF(NOT(IF(ISNUMBER(C16),AND(C16>=0,C16<=1000000000,C16=INT(C16)),FALSE())),"当初額は0〜10億円の整数で必須",IF(NOT(IF(ISNUMBER(D16),AND(D16>=43831,D16<73051,D16=INT(D16)),FALSE())),"当初確認日は時刻なしで必須",IF(OR(B16>D16,D16>受注一覧!$H$3),"受注日≦当初確認日≦基準日を確認","確認済み"))))))),ISNUMBER(K16),K16=IF(J16="確認済み",0,1))),1,IF(K16<>0,0,IF(AND(ISNUMBER(E16),E16=IF(AND(B16>=受注一覧!$B$3,B16<=受注一覧!$E$3),1,0),ISNUMBER(F16),F16=COUNTIFS(変更記録!$A$8:$A$107,A16),ISTEXT(G16),G16=IF(F16=0,"未変更",IF(COUNTIFS(変更記録!$A$8:$A$107,A16,変更記録!$B$8:$B$107,F16,変更記録!$D$8:$D$107,"未確認")>0,"未確認",IF(COUNTIFS(変更記録!$A$8:$A$107,A16,変更記録!$B$8:$B$107,F16,変更記録!$D$8:$D$107,"取消")>0,"取消","変更"))),IF(G16="未確認",ISTEXT(H16),ISNUMBER(H16)),H16=IF(G16="未確認","",IF(F16=0,C16,SUMIFS(変更記録!$H$8:$H$107,変更記録!$A$8:$A$107,A16,変更記録!$B$8:$B$107,F16))),IF(G16="未確認",ISTEXT(I16),ISNUMBER(I16)),I16=IF(G16="未確認","",H16-C16),IF(F16=0,ISTEXT(M16),ISNUMBER(M16)),M16=IF(F16=0,"",SUMIFS(変更記録!$C$8:$C$107,変更記録!$A$8:$A$107,A16,変更記録!$B$8:$B$107,F16)),ISNUMBER(N16),N16=IF(F16=0,D16,SUMIFS(変更記録!$F$8:$F$107,変更記録!$A$8:$A$107,A16,変更記録!$B$8:$B$107,F16))),0,1)))) -> 0 | M16: =IF(J16="","",IF(K16<>0,NA(),IF(F16=0,"",SUMIFS(変更記録!$C$8:$C$107,変更記録!$A$8:$A$107,A16,変更記録!$B$8:$B$107,F16)))) | N16: =IF(J16="","",IF(K16<>0,NA(),IF(F16=0,D16,SUMIFS(変更記録!$F$8:$F$107,変更記録!$A$8:$A$107,A16,変更記録!$B$8:$B$107,F16))))
E17: =IF(J17="","",IF(K17<>0,NA(),IF(AND(B17>=受注一覧!$B$3,B17<=受注一覧!$E$3),1,0))) | F17: =IF(J17="","",IF(K17<>0,NA(),COUNTIFS(変更記録!$A$8:$A$107,A17))) | G17: =IF(J17="","",IF(K17<>0,NA(),IF(F17=0,"未変更",IF(COUNTIFS(変更記録!$A$8:$A$107,A17,変更記録!$B$8:$B$107,F17,変更記録!$D$8:$D$107,"未確認")>0,"未確認",IF(COUNTIFS(変更記録!$A$8:$A$107,A17,変更記録!$B$8:$B$107,F17,変更記録!$D$8:$D$107,"取消")>0,"取消","変更"))))) | H17: =IF(J17="","",IF(K17<>0,NA(),IF(G17="未確認","",IF(F17=0,C17,SUMIFS(変更記録!$H$8:$H$107,変更記録!$A$8:$A$107,A17,変更記録!$B$8:$B$107,F17))))) | I17: =IF(J17="","",IF(K17<>0,NA(),IF(G17="未確認","",H17-C17))) | J17: =IF(COUNTA(A17:D17)=0,"",IF(NOT(AND(ISTEXT(A17),LEN(A17)=8,EXACT(LEFT(A17,4),"ORD-"),ISNUMBER(FIND(MID(A17,5,1)&"x","0x1x2x3x4x5x6x7x8x9x")),ISNUMBER(FIND(MID(A17,6,1)&"x","0x1x2x3x4x5x6x7x8x9x")),ISNUMBER(FIND(MID(A17,7,1)&"x","0x1x2x3x4x5x6x7x8x9x")),ISNUMBER(FIND(MID(A17,8,1)&"x","0x1x2x3x4x5x6x7x8x9x")))),"IDはORD-と半角数字4桁",IF(COUNTIFS($A$8:$A$57,A17)>1,"受注IDが重複",IF(NOT(IF(ISNUMBER(B17),AND(B17>=43831,B17<73051,B17=INT(B17)),FALSE())),"当初受注日は時刻なしで必須",IF(NOT(IF(ISNUMBER(C17),AND(C17>=0,C17<=1000000000,C17=INT(C17)),FALSE())),"当初額は0〜10億円の整数で必須",IF(NOT(IF(ISNUMBER(D17),AND(D17>=43831,D17<73051,D17=INT(D17)),FALSE())),"当初確認日は時刻なしで必須",IF(OR(B17>D17,D17>受注一覧!$H$3),"受注日≦当初確認日≦基準日を確認","確認済み"))))))) | K17: =IF(J17="","",IF(J17="確認済み",0,1)) | L17: =IF(COUNTA(A17:D17)=0,IF(AND(J17="",K17="",E17="",F17="",G17="",H17="",I17="",M17="",N17=""),0,1),IF(NOT(AND(ISTEXT(J17),J17=IF(COUNTA(A17:D17)=0,"",IF(NOT(AND(ISTEXT(A17),LEN(A17)=8,EXACT(LEFT(A17,4),"ORD-"),ISNUMBER(FIND(MID(A17,5,1)&"x","0x1x2x3x4x5x6x7x8x9x")),ISNUMBER(FIND(MID(A17,6,1)&"x","0x1x2x3x4x5x6x7x8x9x")),ISNUMBER(FIND(MID(A17,7,1)&"x","0x1x2x3x4x5x6x7x8x9x")),ISNUMBER(FIND(MID(A17,8,1)&"x","0x1x2x3x4x5x6x7x8x9x")))),"IDはORD-と半角数字4桁",IF(COUNTIFS($A$8:$A$57,A17)>1,"受注IDが重複",IF(NOT(IF(ISNUMBER(B17),AND(B17>=43831,B17<73051,B17=INT(B17)),FALSE())),"当初受注日は時刻なしで必須",IF(NOT(IF(ISNUMBER(C17),AND(C17>=0,C17<=1000000000,C17=INT(C17)),FALSE())),"当初額は0〜10億円の整数で必須",IF(NOT(IF(ISNUMBER(D17),AND(D17>=43831,D17<73051,D17=INT(D17)),FALSE())),"当初確認日は時刻なしで必須",IF(OR(B17>D17,D17>受注一覧!$H$3),"受注日≦当初確認日≦基準日を確認","確認済み"))))))),ISNUMBER(K17),K17=IF(J17="確認済み",0,1))),1,IF(K17<>0,0,IF(AND(ISNUMBER(E17),E17=IF(AND(B17>=受注一覧!$B$3,B17<=受注一覧!$E$3),1,0),ISNUMBER(F17),F17=COUNTIFS(変更記録!$A$8:$A$107,A17),ISTEXT(G17),G17=IF(F17=0,"未変更",IF(COUNTIFS(変更記録!$A$8:$A$107,A17,変更記録!$B$8:$B$107,F17,変更記録!$D$8:$D$107,"未確認")>0,"未確認",IF(COUNTIFS(変更記録!$A$8:$A$107,A17,変更記録!$B$8:$B$107,F17,変更記録!$D$8:$D$107,"取消")>0,"取消","変更"))),IF(G17="未確認",ISTEXT(H17),ISNUMBER(H17)),H17=IF(G17="未確認","",IF(F17=0,C17,SUMIFS(変更記録!$H$8:$H$107,変更記録!$A$8:$A$107,A17,変更記録!$B$8:$B$107,F17))),IF(G17="未確認",ISTEXT(I17),ISNUMBER(I17)),I17=IF(G17="未確認","",H17-C17),IF(F17=0,ISTEXT(M17),ISNUMBER(M17)),M17=IF(F17=0,"",SUMIFS(変更記録!$C$8:$C$107,変更記録!$A$8:$A$107,A17,変更記録!$B$8:$B$107,F17)),ISNUMBER(N17),N17=IF(F17=0,D17,SUMIFS(変更記録!$F$8:$F$107,変更記録!$A$8:$A$107,A17,変更記録!$B$8:$B$107,F17))),0,1)))) -> 0 | M17: =IF(J17="","",IF(K17<>0,NA(),IF(F17=0,"",SUMIFS(変更記録!$C$8:$C$107,変更記録!$A$8:$A$107,A17,変更記録!$B$8:$B$107,F17)))) | N17: =IF(J17="","",IF(K17<>0,NA(),IF(F17=0,D17,SUMIFS(変更記録!$F$8:$F$107,変更記録!$A$8:$A$107,A17,変更記録!$B$8:$B$107,F17))))
E18: =IF(J18="","",IF(K18<>0,NA(),IF(AND(B18>=受注一覧!$B$3,B18<=受注一覧!$E$3),1,0))) | F18: =IF(J18="","",IF(K18<>0,NA(),COUNTIFS(変更記録!$A$8:$A$107,A18))) | G18: =IF(J18="","",IF(K18<>0,NA(),IF(F18=0,"未変更",IF(COUNTIFS(変更記録!$A$8:$A$107,A18,変更記録!$B$8:$B$107,F18,変更記録!$D$8:$D$107,"未確認")>0,"未確認",IF(COUNTIFS(変更記録!$A$8:$A$107,A18,変更記録!$B$8:$B$107,F18,変更記録!$D$8:$D$107,"取消")>0,"取消","変更"))))) | H18: =IF(J18="","",IF(K18<>0,NA(),IF(G18="未確認","",IF(F18=0,C18,SUMIFS(変更記録!$H$8:$H$107,変更記録!$A$8:$A$107,A18,変更記録!$B$8:$B$107,F18))))) | I18: =IF(J18="","",IF(K18<>0,NA(),IF(G18="未確認","",H18-C18))) | J18: =IF(COUNTA(A18:D18)=0,"",IF(NOT(AND(ISTEXT(A18),LEN(A18)=8,EXACT(LEFT(A18,4),"ORD-"),ISNUMBER(FIND(MID(A18,5,1)&"x","0x1x2x3x4x5x6x7x8x9x")),ISNUMBER(FIND(MID(A18,6,1)&"x","0x1x2x3x4x5x6x7x8x9x")),ISNUMBER(FIND(MID(A18,7,1)&"x","0x1x2x3x4x5x6x7x8x9x")),ISNUMBER(FIND(MID(A18,8,1)&"x","0x1x2x3x4x5x6x7x8x9x")))),"IDはORD-と半角数字4桁",IF(COUNTIFS($A$8:$A$57,A18)>1,"受注IDが重複",IF(NOT(IF(ISNUMBER(B18),AND(B18>=43831,B18<73051,B18=INT(B18)),FALSE())),"当初受注日は時刻なしで必須",IF(NOT(IF(ISNUMBER(C18),AND(C18>=0,C18<=1000000000,C18=INT(C18)),FALSE())),"当初額は0〜10億円の整数で必須",IF(NOT(IF(ISNUMBER(D18),AND(D18>=43831,D18<73051,D18=INT(D18)),FALSE())),"当初確認日は時刻なしで必須",IF(OR(B18>D18,D18>受注一覧!$H$3),"受注日≦当初確認日≦基準日を確認","確認済み"))))))) | K18: =IF(J18="","",IF(J18="確認済み",0,1)) | L18: =IF(COUNTA(A18:D18)=0,IF(AND(J18="",K18="",E18="",F18="",G18="",H18="",I18="",M18="",N18=""),0,1),IF(NOT(AND(ISTEXT(J18),J18=IF(COUNTA(A18:D18)=0,"",IF(NOT(AND(ISTEXT(A18),LEN(A18)=8,EXACT(LEFT(A18,4),"ORD-"),ISNUMBER(FIND(MID(A18,5,1)&"x","0x1x2x3x4x5x6x7x8x9x")),ISNUMBER(FIND(MID(A18,6,1)&"x","0x1x2x3x4x5x6x7x8x9x")),ISNUMBER(FIND(MID(A18,7,1)&"x","0x1x2x3x4x5x6x7x8x9x")),ISNUMBER(FIND(MID(A18,8,1)&"x","0x1x2x3x4x5x6x7x8x9x")))),"IDはORD-と半角数字4桁",IF(COUNTIFS($A$8:$A$57,A18)>1,"受注IDが重複",IF(NOT(IF(ISNUMBER(B18),AND(B18>=43831,B18<73051,B18=INT(B18)),FALSE())),"当初受注日は時刻なしで必須",IF(NOT(IF(ISNUMBER(C18),AND(C18>=0,C18<=1000000000,C18=INT(C18)),FALSE())),"当初額は0〜10億円の整数で必須",IF(NOT(IF(ISNUMBER(D18),AND(D18>=43831,D18<73051,D18=INT(D18)),FALSE())),"当初確認日は時刻なしで必須",IF(OR(B18>D18,D18>受注一覧!$H$3),"受注日≦当初確認日≦基準日を確認","確認済み"))))))),ISNUMBER(K18),K18=IF(J18="確認済み",0,1))),1,IF(K18<>0,0,IF(AND(ISNUMBER(E18),E18=IF(AND(B18>=受注一覧!$B$3,B18<=受注一覧!$E$3),1,0),ISNUMBER(F18),F18=COUNTIFS(変更記録!$A$8:$A$107,A18),ISTEXT(G18),G18=IF(F18=0,"未変更",IF(COUNTIFS(変更記録!$A$8:$A$107,A18,変更記録!$B$8:$B$107,F18,変更記録!$D$8:$D$107,"未確認")>0,"未確認",IF(COUNTIFS(変更記録!$A$8:$A$107,A18,変更記録!$B$8:$B$107,F18,変更記録!$D$8:$D$107,"取消")>0,"取消","変更"))),IF(G18="未確認",ISTEXT(H18),ISNUMBER(H18)),H18=IF(G18="未確認","",IF(F18=0,C18,SUMIFS(変更記録!$H$8:$H$107,変更記録!$A$8:$A$107,A18,変更記録!$B$8:$B$107,F18))),IF(G18="未確認",ISTEXT(I18),ISNUMBER(I18)),I18=IF(G18="未確認","",H18-C18),IF(F18=0,ISTEXT(M18),ISNUMBER(M18)),M18=IF(F18=0,"",SUMIFS(変更記録!$C$8:$C$107,変更記録!$A$8:$A$107,A18,変更記録!$B$8:$B$107,F18)),ISNUMBER(N18),N18=IF(F18=0,D18,SUMIFS(変更記録!$F$8:$F$107,変更記録!$A$8:$A$107,A18,変更記録!$B$8:$B$107,F18))),0,1)))) -> 0 | M18: =IF(J18="","",IF(K18<>0,NA(),IF(F18=0,"",SUMIFS(変更記録!$C$8:$C$107,変更記録!$A$8:$A$107,A18,変更記録!$B$8:$B$107,F18)))) | N18: =IF(J18="","",IF(K18<>0,NA(),IF(F18=0,D18,SUMIFS(変更記録!$F$8:$F$107,変更記録!$A$8:$A$107,A18,変更記録!$B$8:$B$107,F18))))
E19: =IF(J19="","",IF(K19<>0,NA(),IF(AND(B19>=受注一覧!$B$3,B19<=受注一覧!$E$3),1,0))) | F19: =IF(J19="","",IF(K19<>0,NA(),COUNTIFS(変更記録!$A$8:$A$107,A19))) | G19: =IF(J19="","",IF(K19<>0,NA(),IF(F19=0,"未変更",IF(COUNTIFS(変更記録!$A$8:$A$107,A19,変更記録!$B$8:$B$107,F19,変更記録!$D$8:$D$107,"未確認")>0,"未確認",IF(COUNTIFS(変更記録!$A$8:$A$107,A19,変更記録!$B$8:$B$107,F19,変更記録!$D$8:$D$107,"取消")>0,"取消","変更"))))) | H19: =IF(J19="","",IF(K19<>0,NA(),IF(G19="未確認","",IF(F19=0,C19,SUMIFS(変更記録!$H$8:$H$107,変更記録!$A$8:$A$107,A19,変更記録!$B$8:$B$107,F19))))) | I19: =IF(J19="","",IF(K19<>0,NA(),IF(G19="未確認","",H19-C19))) | J19: =IF(COUNTA(A19:D19)=0,"",IF(NOT(AND(ISTEXT(A19),LEN(A19)=8,EXACT(LEFT(A19,4),"ORD-"),ISNUMBER(FIND(MID(A19,5,1)&"x","0x1x2x3x4x5x6x7x8x9x")),ISNUMBER(FIND(MID(A19,6,1)&"x","0x1x2x3x4x5x6x7x8x9x")),ISNUMBER(FIND(MID(A19,7,1)&"x","0x1x2x3x4x5x6x7x8x9x")),ISNUMBER(FIND(MID(A19,8,1)&"x","0x1x2x3x4x5x6x7x8x9x")))),"IDはORD-と半角数字4桁",IF(COUNTIFS($A$8:$A$57,A19)>1,"受注IDが重複",IF(NOT(IF(ISNUMBER(B19),AND(B19>=43831,B19<73051,B19=INT(B19)),FALSE())),"当初受注日は時刻なしで必須",IF(NOT(IF(ISNUMBER(C19),AND(C19>=0,C19<=1000000000,C19=INT(C19)),FALSE())),"当初額は0〜10億円の整数で必須",IF(NOT(IF(ISNUMBER(D19),AND(D19>=43831,D19<73051,D19=INT(D19)),FALSE())),"当初確認日は時刻なしで必須",IF(OR(B19>D19,D19>受注一覧!$H$3),"受注日≦当初確認日≦基準日を確認","確認済み"))))))) | K19: =IF(J19="","",IF(J19="確認済み",0,1)) | L19: =IF(COUNTA(A19:D19)=0,IF(AND(J19="",K19="",E19="",F19="",G19="",H19="",I19="",M19="",N19=""),0,1),IF(NOT(AND(ISTEXT(J19),J19=IF(COUNTA(A19:D19)=0,"",IF(NOT(AND(ISTEXT(A19),LEN(A19)=8,EXACT(LEFT(A19,4),"ORD-"),ISNUMBER(FIND(MID(A19,5,1)&"x","0x1x2x3x4x5x6x7x8x9x")),ISNUMBER(FIND(MID(A19,6,1)&"x","0x1x2x3x4x5x6x7x8x9x")),ISNUMBER(FIND(MID(A19,7,1)&"x","0x1x2x3x4x5x6x7x8x9x")),ISNUMBER(FIND(MID(A19,8,1)&"x","0x1x2x3x4x5x6x7x8x9x")))),"IDはORD-と半角数字4桁",IF(COUNTIFS($A$8:$A$57,A19)>1,"受注IDが重複",IF(NOT(IF(ISNUMBER(B19),AND(B19>=43831,B19<73051,B19=INT(B19)),FALSE())),"当初受注日は時刻なしで必須",IF(NOT(IF(ISNUMBER(C19),AND(C19>=0,C19<=1000000000,C19=INT(C19)),FALSE())),"当初額は0〜10億円の整数で必須",IF(NOT(IF(ISNUMBER(D19),AND(D19>=43831,D19<73051,D19=INT(D19)),FALSE())),"当初確認日は時刻なしで必須",IF(OR(B19>D19,D19>受注一覧!$H$3),"受注日≦当初確認日≦基準日を確認","確認済み"))))))),ISNUMBER(K19),K19=IF(J19="確認済み",0,1))),1,IF(K19<>0,0,IF(AND(ISNUMBER(E19),E19=IF(AND(B19>=受注一覧!$B$3,B19<=受注一覧!$E$3),1,0),ISNUMBER(F19),F19=COUNTIFS(変更記録!$A$8:$A$107,A19),ISTEXT(G19),G19=IF(F19=0,"未変更",IF(COUNTIFS(変更記録!$A$8:$A$107,A19,変更記録!$B$8:$B$107,F19,変更記録!$D$8:$D$107,"未確認")>0,"未確認",IF(COUNTIFS(変更記録!$A$8:$A$107,A19,変更記録!$B$8:$B$107,F19,変更記録!$D$8:$D$107,"取消")>0,"取消","変更"))),IF(G19="未確認",ISTEXT(H19),ISNUMBER(H19)),H19=IF(G19="未確認","",IF(F19=0,C19,SUMIFS(変更記録!$H$8:$H$107,変更記録!$A$8:$A$107,A19,変更記録!$B$8:$B$107,F19))),IF(G19="未確認",ISTEXT(I19),ISNUMBER(I19)),I19=IF(G19="未確認","",H19-C19),IF(F19=0,ISTEXT(M19),ISNUMBER(M19)),M19=IF(F19=0,"",SUMIFS(変更記録!$C$8:$C$107,変更記録!$A$8:$A$107,A19,変更記録!$B$8:$B$107,F19)),ISNUMBER(N19),N19=IF(F19=0,D19,SUMIFS(変更記録!$F$8:$F$107,変更記録!$A$8:$A$107,A19,変更記録!$B$8:$B$107,F19))),0,1)))) -> 0 | M19: =IF(J19="","",IF(K19<>0,NA(),IF(F19=0,"",SUMIFS(変更記録!$C$8:$C$107,変更記録!$A$8:$A$107,A19,変更記録!$B$8:$B$107,F19)))) | N19: =IF(J19="","",IF(K19<>0,NA(),IF(F19=0,D19,SUMIFS(変更記録!$F$8:$F$107,変更記録!$A$8:$A$107,A19,変更記録!$B$8:$B$107,F19))))
E20: =IF(J20="","",IF(K20<>0,NA(),IF(AND(B20>=受注一覧!$B$3,B20<=受注一覧!$E$3),1,0))) | F20: =IF(J20="","",IF(K20<>0,NA(),COUNTIFS(変更記録!$A$8:$A$107,A20))) | G20: =IF(J20="","",IF(K20<>0,NA(),IF(F20=0,"未変更",IF(COUNTIFS(変更記録!$A$8:$A$107,A20,変更記録!$B$8:$B$107,F20,変更記録!$D$8:$D$107,"未確認")>0,"未確認",IF(COUNTIFS(変更記録!$A$8:$A$107,A20,変更記録!$B$8:$B$107,F20,変更記録!$D$8:$D$107,"取消")>0,"取消","変更"))))) | H20: =IF(J20="","",IF(K20<>0,NA(),IF(G20="未確認","",IF(F20=0,C20,SUMIFS(変更記録!$H$8:$H$107,変更記録!$A$8:$A$107,A20,変更記録!$B$8:$B$107,F20))))) | I20: =IF(J20="","",IF(K20<>0,NA(),IF(G20="未確認","",H20-C20))) | J20: =IF(COUNTA(A20:D20)=0,"",IF(NOT(AND(ISTEXT(A20),LEN(A20)=8,EXACT(LEFT(A20,4),"ORD-"),ISNUMBER(FIND(MID(A20,5,1)&"x","0x1x2x3x4x5x6x7x8x9x")),ISNUMBER(FIND(MID(A20,6,1)&"x","0x1x2x3x4x5x6x7x8x9x")),ISNUMBER(FIND(MID(A20,7,1)&"x","0x1x2x3x4x5x6x7x8x9x")),ISNUMBER(FIND(MID(A20,8,1)&"x","0x1x2x3x4x5x6x7x8x9x")))),"IDはORD-と半角数字4桁",IF(COUNTIFS($A$8:$A$57,A20)>1,"受注IDが重複",IF(NOT(IF(ISNUMBER(B20),AND(B20>=43831,B20<73051,B20=INT(B20)),FALSE())),"当初受注日は時刻なしで必須",IF(NOT(IF(ISNUMBER(C20),AND(C20>=0,C20<=1000000000,C20=INT(C20)),FALSE())),"当初額は0〜10億円の整数で必須",IF(NOT(IF(ISNUMBER(D20),AND(D20>=43831,D20<73051,D20=INT(D20)),FALSE())),"当初確認日は時刻なしで必須",IF(OR(B20>D20,D20>受注一覧!$H$3),"受注日≦当初確認日≦基準日を確認","確認済み"))))))) | K20: =IF(J20="","",IF(J20="確認済み",0,1)) | L20: =IF(COUNTA(A20:D20)=0,IF(AND(J20="",K20="",E20="",F20="",G20="",H20="",I20="",M20="",N20=""),0,1),IF(NOT(AND(ISTEXT(J20),J20=IF(COUNTA(A20:D20)=0,"",IF(NOT(AND(ISTEXT(A20),LEN(A20)=8,EXACT(LEFT(A20,4),"ORD-"),ISNUMBER(FIND(MID(A20,5,1)&"x","0x1x2x3x4x5x6x7x8x9x")),ISNUMBER(FIND(MID(A20,6,1)&"x","0x1x2x3x4x5x6x7x8x9x")),ISNUMBER(FIND(MID(A20,7,1)&"x","0x1x2x3x4x5x6x7x8x9x")),ISNUMBER(FIND(MID(A20,8,1)&"x","0x1x2x3x4x5x6x7x8x9x")))),"IDはORD-と半角数字4桁",IF(COUNTIFS($A$8:$A$57,A20)>1,"受注IDが重複",IF(NOT(IF(ISNUMBER(B20),AND(B20>=43831,B20<73051,B20=INT(B20)),FALSE())),"当初受注日は時刻なしで必須",IF(NOT(IF(ISNUMBER(C20),AND(C20>=0,C20<=1000000000,C20=INT(C20)),FALSE())),"当初額は0〜10億円の整数で必須",IF(NOT(IF(ISNUMBER(D20),AND(D20>=43831,D20<73051,D20=INT(D20)),FALSE())),"当初確認日は時刻なしで必須",IF(OR(B20>D20,D20>受注一覧!$H$3),"受注日≦当初確認日≦基準日を確認","確認済み"))))))),ISNUMBER(K20),K20=IF(J20="確認済み",0,1))),1,IF(K20<>0,0,IF(AND(ISNUMBER(E20),E20=IF(AND(B20>=受注一覧!$B$3,B20<=受注一覧!$E$3),1,0),ISNUMBER(F20),F20=COUNTIFS(変更記録!$A$8:$A$107,A20),ISTEXT(G20),G20=IF(F20=0,"未変更",IF(COUNTIFS(変更記録!$A$8:$A$107,A20,変更記録!$B$8:$B$107,F20,変更記録!$D$8:$D$107,"未確認")>0,"未確認",IF(COUNTIFS(変更記録!$A$8:$A$107,A20,変更記録!$B$8:$B$107,F20,変更記録!$D$8:$D$107,"取消")>0,"取消","変更"))),IF(G20="未確認",ISTEXT(H20),ISNUMBER(H20)),H20=IF(G20="未確認","",IF(F20=0,C20,SUMIFS(変更記録!$H$8:$H$107,変更記録!$A$8:$A$107,A20,変更記録!$B$8:$B$107,F20))),IF(G20="未確認",ISTEXT(I20),ISNUMBER(I20)),I20=IF(G20="未確認","",H20-C20),IF(F20=0,ISTEXT(M20),ISNUMBER(M20)),M20=IF(F20=0,"",SUMIFS(変更記録!$C$8:$C$107,変更記録!$A$8:$A$107,A20,変更記録!$B$8:$B$107,F20)),ISNUMBER(N20),N20=IF(F20=0,D20,SUMIFS(変更記録!$F$8:$F$107,変更記録!$A$8:$A$107,A20,変更記録!$B$8:$B$107,F20))),0,1)))) -> 0 | M20: =IF(J20="","",IF(K20<>0,NA(),IF(F20=0,"",SUMIFS(変更記録!$C$8:$C$107,変更記録!$A$8:$A$107,A20,変更記録!$B$8:$B$107,F20)))) | N20: =IF(J20="","",IF(K20<>0,NA(),IF(F20=0,D20,SUMIFS(変更記録!$F$8:$F$107,変更記録!$A$8:$A$107,A20,変更記録!$B$8:$B$107,F20))))
E21: =IF(J21="","",IF(K21<>0,NA(),IF(AND(B21>=受注一覧!$B$3,B21<=受注一覧!$E$3),1,0))) | F21: =IF(J21="","",IF(K21<>0,NA(),COUNTIFS(変更記録!$A$8:$A$107,A21))) | G21: =IF(J21="","",IF(K21<>0,NA(),IF(F21=0,"未変更",IF(COUNTIFS(変更記録!$A$8:$A$107,A21,変更記録!$B$8:$B$107,F21,変更記録!$D$8:$D$107,"未確認")>0,"未確認",IF(COUNTIFS(変更記録!$A$8:$A$107,A21,変更記録!$B$8:$B$107,F21,変更記録!$D$8:$D$107,"取消")>0,"取消","変更"))))) | H21: =IF(J21="","",IF(K21<>0,NA(),IF(G21="未確認","",IF(F21=0,C21,SUMIFS(変更記録!$H$8:$H$107,変更記録!$A$8:$A$107,A21,変更記録!$B$8:$B$107,F21))))) | I21: =IF(J21="","",IF(K21<>0,NA(),IF(G21="未確認","",H21-C21))) | J21: =IF(COUNTA(A21:D21)=0,"",IF(NOT(AND(ISTEXT(A21),LEN(A21)=8,EXACT(LEFT(A21,4),"ORD-"),ISNUMBER(FIND(MID(A21,5,1)&"x","0x1x2x3x4x5x6x7x8x9x")),ISNUMBER(FIND(MID(A21,6,1)&"x","0x1x2x3x4x5x6x7x8x9x")),ISNUMBER(FIND(MID(A21,7,1)&"x","0x1x2x3x4x5x6x7x8x9x")),ISNUMBER(FIND(MID(A21,8,1)&"x","0x1x2x3x4x5x6x7x8x9x")))),"IDはORD-と半角数字4桁",IF(COUNTIFS($A$8:$A$57,A21)>1,"受注IDが重複",IF(NOT(IF(ISNUMBER(B21),AND(B21>=43831,B21<73051,B21=INT(B21)),FALSE())),"当初受注日は時刻なしで必須",IF(NOT(IF(ISNUMBER(C21),AND(C21>=0,C21<=1000000000,C21=INT(C21)),FALSE())),"当初額は0〜10億円の整数で必須",IF(NOT(IF(ISNUMBER(D21),AND(D21>=43831,D21<73051,D21=INT(D21)),FALSE())),"当初確認日は時刻なしで必須",IF(OR(B21>D21,D21>受注一覧!$H$3),"受注日≦当初確認日≦基準日を確認","確認済み"))))))) | K21: =IF(J21="","",IF(J21="確認済み",0,1)) | L21: =IF(COUNTA(A21:D21)=0,IF(AND(J21="",K21="",E21="",F21="",G21="",H21="",I21="",M21="",N21=""),0,1),IF(NOT(AND(ISTEXT(J21),J21=IF(COUNTA(A21:D21)=0,"",IF(NOT(AND(ISTEXT(A21),LEN(A21)=8,EXACT(LEFT(A21,4),"ORD-"),ISNUMBER(FIND(MID(A21,5,1)&"x","0x1x2x3x4x5x6x7x8x9x")),ISNUMBER(FIND(MID(A21,6,1)&"x","0x1x2x3x4x5x6x7x8x9x")),ISNUMBER(FIND(MID(A21,7,1)&"x","0x1x2x3x4x5x6x7x8x9x")),ISNUMBER(FIND(MID(A21,8,1)&"x","0x1x2x3x4x5x6x7x8x9x")))),"IDはORD-と半角数字4桁",IF(COUNTIFS($A$8:$A$57,A21)>1,"受注IDが重複",IF(NOT(IF(ISNUMBER(B21),AND(B21>=43831,B21<73051,B21=INT(B21)),FALSE())),"当初受注日は時刻なしで必須",IF(NOT(IF(ISNUMBER(C21),AND(C21>=0,C21<=1000000000,C21=INT(C21)),FALSE())),"当初額は0〜10億円の整数で必須",IF(NOT(IF(ISNUMBER(D21),AND(D21>=43831,D21<73051,D21=INT(D21)),FALSE())),"当初確認日は時刻なしで必須",IF(OR(B21>D21,D21>受注一覧!$H$3),"受注日≦当初確認日≦基準日を確認","確認済み"))))))),ISNUMBER(K21),K21=IF(J21="確認済み",0,1))),1,IF(K21<>0,0,IF(AND(ISNUMBER(E21),E21=IF(AND(B21>=受注一覧!$B$3,B21<=受注一覧!$E$3),1,0),ISNUMBER(F21),F21=COUNTIFS(変更記録!$A$8:$A$107,A21),ISTEXT(G21),G21=IF(F21=0,"未変更",IF(COUNTIFS(変更記録!$A$8:$A$107,A21,変更記録!$B$8:$B$107,F21,変更記録!$D$8:$D$107,"未確認")>0,"未確認",IF(COUNTIFS(変更記録!$A$8:$A$107,A21,変更記録!$B$8:$B$107,F21,変更記録!$D$8:$D$107,"取消")>0,"取消","変更"))),IF(G21="未確認",ISTEXT(H21),ISNUMBER(H21)),H21=IF(G21="未確認","",IF(F21=0,C21,SUMIFS(変更記録!$H$8:$H$107,変更記録!$A$8:$A$107,A21,変更記録!$B$8:$B$107,F21))),IF(G21="未確認",ISTEXT(I21),ISNUMBER(I21)),I21=IF(G21="未確認","",H21-C21),IF(F21=0,ISTEXT(M21),ISNUMBER(M21)),M21=IF(F21=0,"",SUMIFS(変更記録!$C$8:$C$107,変更記録!$A$8:$A$107,A21,変更記録!$B$8:$B$107,F21)),ISNUMBER(N21),N21=IF(F21=0,D21,SUMIFS(変更記録!$F$8:$F$107,変更記録!$A$8:$A$107,A21,変更記録!$B$8:$B$107,F21))),0,1)))) -> 0 | M21: =IF(J21="","",IF(K21<>0,NA(),IF(F21=0,"",SUMIFS(変更記録!$C$8:$C$107,変更記録!$A$8:$A$107,A21,変更記録!$B$8:$B$107,F21)))) | N21: =IF(J21="","",IF(K21<>0,NA(),IF(F21=0,D21,SUMIFS(変更記録!$F$8:$F$107,変更記録!$A$8:$A$107,A21,変更記録!$B$8:$B$107,F21))))
E22: =IF(J22="","",IF(K22<>0,NA(),IF(AND(B22>=受注一覧!$B$3,B22<=受注一覧!$E$3),1,0))) | F22: =IF(J22="","",IF(K22<>0,NA(),COUNTIFS(変更記録!$A$8:$A$107,A22))) | G22: =IF(J22="","",IF(K22<>0,NA(),IF(F22=0,"未変更",IF(COUNTIFS(変更記録!$A$8:$A$107,A22,変更記録!$B$8:$B$107,F22,変更記録!$D$8:$D$107,"未確認")>0,"未確認",IF(COUNTIFS(変更記録!$A$8:$A$107,A22,変更記録!$B$8:$B$107,F22,変更記録!$D$8:$D$107,"取消")>0,"取消","変更"))))) | H22: =IF(J22="","",IF(K22<>0,NA(),IF(G22="未確認","",IF(F22=0,C22,SUMIFS(変更記録!$H$8:$H$107,変更記録!$A$8:$A$107,A22,変更記録!$B$8:$B$107,F22))))) | I22: =IF(J22="","",IF(K22<>0,NA(),IF(G22="未確認","",H22-C22))) | J22: =IF(COUNTA(A22:D22)=0,"",IF(NOT(AND(ISTEXT(A22),LEN(A22)=8,EXACT(LEFT(A22,4),"ORD-"),ISNUMBER(FIND(MID(A22,5,1)&"x","0x1x2x3x4x5x6x7x8x9x")),ISNUMBER(FIND(MID(A22,6,1)&"x","0x1x2x3x4x5x6x7x8x9x")),ISNUMBER(FIND(MID(A22,7,1)&"x","0x1x2x3x4x5x6x7x8x9x")),ISNUMBER(FIND(MID(A22,8,1)&"x","0x1x2x3x4x5x6x7x8x9x")))),"IDはORD-と半角数字4桁",IF(COUNTIFS($A$8:$A$57,A22)>1,"受注IDが重複",IF(NOT(IF(ISNUMBER(B22),AND(B22>=43831,B22<73051,B22=INT(B22)),FALSE())),"当初受注日は時刻なしで必須",IF(NOT(IF(ISNUMBER(C22),AND(C22>=0,C22<=1000000000,C22=INT(C22)),FALSE())),"当初額は0〜10億円の整数で必須",IF(NOT(IF(ISNUMBER(D22),AND(D22>=43831,D22<73051,D22=INT(D22)),FALSE())),"当初確認日は時刻なしで必須",IF(OR(B22>D22,D22>受注一覧!$H$3),"受注日≦当初確認日≦基準日を確認","確認済み"))))))) | K22: =IF(J22="","",IF(J22="確認済み",0,1)) | L22: =IF(COUNTA(A22:D22)=0,IF(AND(J22="",K22="",E22="",F22="",G22="",H22="",I22="",M22="",N22=""),0,1),IF(NOT(AND(ISTEXT(J22),J22=IF(COUNTA(A22:D22)=0,"",IF(NOT(AND(ISTEXT(A22),LEN(A22)=8,EXACT(LEFT(A22,4),"ORD-"),ISNUMBER(FIND(MID(A22,5,1)&"x","0x1x2x3x4x5x6x7x8x9x")),ISNUMBER(FIND(MID(A22,6,1)&"x","0x1x2x3x4x5x6x7x8x9x")),ISNUMBER(FIND(MID(A22,7,1)&"x","0x1x2x3x4x5x6x7x8x9x")),ISNUMBER(FIND(MID(A22,8,1)&"x","0x1x2x3x4x5x6x7x8x9x")))),"IDはORD-と半角数字4桁",IF(COUNTIFS($A$8:$A$57,A22)>1,"受注IDが重複",IF(NOT(IF(ISNUMBER(B22),AND(B22>=43831,B22<73051,B22=INT(B22)),FALSE())),"当初受注日は時刻なしで必須",IF(NOT(IF(ISNUMBER(C22),AND(C22>=0,C22<=1000000000,C22=INT(C22)),FALSE())),"当初額は0〜10億円の整数で必須",IF(NOT(IF(ISNUMBER(D22),AND(D22>=43831,D22<73051,D22=INT(D22)),FALSE())),"当初確認日は時刻なしで必須",IF(OR(B22>D22,D22>受注一覧!$H$3),"受注日≦当初確認日≦基準日を確認","確認済み"))))))),ISNUMBER(K22),K22=IF(J22="確認済み",0,1))),1,IF(K22<>0,0,IF(AND(ISNUMBER(E22),E22=IF(AND(B22>=受注一覧!$B$3,B22<=受注一覧!$E$3),1,0),ISNUMBER(F22),F22=COUNTIFS(変更記録!$A$8:$A$107,A22),ISTEXT(G22),G22=IF(F22=0,"未変更",IF(COUNTIFS(変更記録!$A$8:$A$107,A22,変更記録!$B$8:$B$107,F22,変更記録!$D$8:$D$107,"未確認")>0,"未確認",IF(COUNTIFS(変更記録!$A$8:$A$107,A22,変更記録!$B$8:$B$107,F22,変更記録!$D$8:$D$107,"取消")>0,"取消","変更"))),IF(G22="未確認",ISTEXT(H22),ISNUMBER(H22)),H22=IF(G22="未確認","",IF(F22=0,C22,SUMIFS(変更記録!$H$8:$H$107,変更記録!$A$8:$A$107,A22,変更記録!$B$8:$B$107,F22))),IF(G22="未確認",ISTEXT(I22),ISNUMBER(I22)),I22=IF(G22="未確認","",H22-C22),IF(F22=0,ISTEXT(M22),ISNUMBER(M22)),M22=IF(F22=0,"",SUMIFS(変更記録!$C$8:$C$107,変更記録!$A$8:$A$107,A22,変更記録!$B$8:$B$107,F22)),ISNUMBER(N22),N22=IF(F22=0,D22,SUMIFS(変更記録!$F$8:$F$107,変更記録!$A$8:$A$107,A22,変更記録!$B$8:$B$107,F22))),0,1)))) -> 0 | M22: =IF(J22="","",IF(K22<>0,NA(),IF(F22=0,"",SUMIFS(変更記録!$C$8:$C$107,変更記録!$A$8:$A$107,A22,変更記録!$B$8:$B$107,F22)))) | N22: =IF(J22="","",IF(K22<>0,NA(),IF(F22=0,D22,SUMIFS(変更記録!$F$8:$F$107,変更記録!$A$8:$A$107,A22,変更記録!$B$8:$B$107,F22))))
