Workbook

Sheet 月次集計
A2: 所定超過と確認済み法定区分の集計 | I2: 月の前提 | J2: 入力の前提
A3: 対象月 | B3: 46296 | H3: =IF(J3=0,"入力不備なし","入力を確認") -> 入力不備なし | I3: =IF(AND(AND(ISNUMBER(B3),B3>=43831,B3<73051,B3=INT(B3)),DAY(B3)=1),0,1) -> 0 | J3: =I3+SUM(日別記録!K8:K38)+SUM(日別記録!L8:L38) -> 0
A4: 実働合計（分） | B4: =IF($J$3=0,SUMIFS(日別記録!$D$8:$D$38,日別記録!$B$8:$B$38,">="&$B$3,日別記録!$B$8:$B$38,"<"&DATE(YEAR($B$3),MONTH($B$3)+1,1)),NA()) -> 1590 | D4: 所定合計（分） | E4: =IF($J$3=0,SUMIFS(日別記録!$C$8:$C$38,日別記録!$B$8:$B$38,">="&$B$3,日別記録!$B$8:$B$38,"<"&DATE(YEAR($B$3),MONTH($B$3)+1,1)),NA()) -> 1410 | G4: 所定超過（分） | H4: =IF($J$3=0,SUMIFS(日別記録!$H$8:$H$38,日別記録!$B$8:$B$38,">="&$B$3,日別記録!$B$8:$B$38,"<"&DATE(YEAR($B$3),MONTH($B$3)+1,1)),NA()) -> 240
A5: 法定時間外（分） | B5: =IF($J$3=0,SUMIFS(日別記録!$E$8:$E$38,日別記録!$B$8:$B$38,">="&$B$3,日別記録!$B$8:$B$38,"<"&DATE(YEAR($B$3),MONTH($B$3)+1,1)),NA()) -> 90 | D5: 法定休日（分） | E5: =IF($J$3=0,SUMIFS(日別記録!$F$8:$F$38,日別記録!$B$8:$B$38,">="&$B$3,日別記録!$B$8:$B$38,"<"&DATE(YEAR($B$3),MONTH($B$3)+1,1)),NA()) -> 180 | G5: 深夜（分） | H5: =IF($J$3=0,SUMIFS(日別記録!$G$8:$G$38,日別記録!$B$8:$B$38,">="&$B$3,日別記録!$B$8:$B$38,"<"&DATE(YEAR($B$3),MONTH($B$3)+1,1)),NA()) -> 180
A6: 記録日数 | B6: =IF($J$3=0,COUNTIFS(日別記録!$B$8:$B$38,">="&$B$3,日別記録!$B$8:$B$38,"<"&DATE(YEAR($B$3),MONTH($B$3)+1,1),日別記録!$J$8:$J$38,"確認済み"),NA()) -> 4 | D6: 所定未達（分） | E6: =IF($J$3=0,SUMIFS(日別記録!$I$8:$I$38,日別記録!$B$8:$B$38,">="&$B$3,日別記録!$B$8:$B$38,"<"&DATE(YEAR($B$3),MONTH($B$3)+1,1)),NA()) -> 60 | G6: 照合差額（分） | H6: =B4-E4-H4+E6 -> 0
A7: 法定外［時:分］ | B7: =B5/1440 -> 0.0625 | D7: 休日［時:分］ | E7: =E5/1440 -> 0.125 | G7: 深夜［時:分］ | H7: =H5/1440 -> 0.125
A8: 合計は対象月のみ・全明細表示。法定区分は確認済み入力。深夜は重複あり。給与/適法性判定なし。
A9: 記録ID | B9: 集計日 | C9: 所定（分） | D9: 実働（分） | E9: 所定超過（分） | F9: 法定時間外（分） | G9: 法定休日（分） | H9: 深夜（分）
A10: =IF(COUNTA(日別記録!A8:G8)=0,"",日別記録!A8) -> OVT-0001 | B10: =IF(COUNTA(日別記録!A8:G8)=0,"",日別記録!B8) -> 46296 | C10: =IF(COUNTA(日別記録!A8:G8)=0,"",日別記録!C8) -> 450 | D10: =IF(COUNTA(日別記録!A8:G8)=0,"",日別記録!D8) -> 510 | E10: =IF(COUNTA(日別記録!A8:G8)=0,"",日別記録!H8) -> 60 | F10: =IF(COUNTA(日別記録!A8:G8)=0,"",日別記録!E8) -> 30 | G10: =IF(COUNTA(日別記録!A8:G8)=0,"",日別記録!F8) -> 0 | H10: =IF(COUNTA(日別記録!A8:G8)=0,"",日別記録!G8) -> 0
A11: =IF(COUNTA(日別記録!A9:G9)=0,"",日別記録!A9) -> OVT-0002 | B11: =IF(COUNTA(日別記録!A9:G9)=0,"",日別記録!B9) -> 46297 | C11: =IF(COUNTA(日別記録!A9:G9)=0,"",日別記録!C9) -> 480 | D11: =IF(COUNTA(日別記録!A9:G9)=0,"",日別記録!D9) -> 420 | E11: =IF(COUNTA(日別記録!A9:G9)=0,"",日別記録!H9) -> 0 | F11: =IF(COUNTA(日別記録!A9:G9)=0,"",日別記録!E9) -> 0 | G11: =IF(COUNTA(日別記録!A9:G9)=0,"",日別記録!F9) -> 0 | H11: =IF(COUNTA(日別記録!A9:G9)=0,"",日別記録!G9) -> 0
A12: =IF(COUNTA(日別記録!A10:G10)=0,"",日別記録!A10) -> OVT-0003 | B12: =IF(COUNTA(日別記録!A10:G10)=0,"",日別記録!B10) -> 46298 | C12: =IF(COUNTA(日別記録!A10:G10)=0,"",日別記録!C10) -> 0 | D12: =IF(COUNTA(日別記録!A10:G10)=0,"",日別記録!D10) -> 180 | E12: =IF(COUNTA(日別記録!A10:G10)=0,"",日別記録!H10) -> 180 | F12: =IF(COUNTA(日別記録!A10:G10)=0,"",日別記録!E10) -> 0 | G12: =IF(COUNTA(日別記録!A10:G10)=0,"",日別記録!F10) -> 180 | H12: =IF(COUNTA(日別記録!A10:G10)=0,"",日別記録!G10) -> 60
A13: =IF(COUNTA(日別記録!A11:G11)=0,"",日別記録!A11) -> OVT-0004 | B13: =IF(COUNTA(日別記録!A11:G11)=0,"",日別記録!B11) -> 46299 | C13: =IF(COUNTA(日別記録!A11:G11)=0,"",日別記録!C11) -> 480 | D13: =IF(COUNTA(日別記録!A11:G11)=0,"",日別記録!D11) -> 480 | E13: =IF(COUNTA(日別記録!A11:G11)=0,"",日別記録!H11) -> 0 | F13: =IF(COUNTA(日別記録!A11:G11)=0,"",日別記録!E11) -> 60 | G13: =IF(COUNTA(日別記録!A11:G11)=0,"",日別記録!F11) -> 0 | H13: =IF(COUNTA(日別記録!A11:G11)=0,"",日別記録!G11) -> 120
A14: =IF(COUNTA(日別記録!A12:G12)=0,"",日別記録!A12) -> OVT-0005 | B14: =IF(COUNTA(日別記録!A12:G12)=0,"",日別記録!B12) -> 46295 | C14: =IF(COUNTA(日別記録!A12:G12)=0,"",日別記録!C12) -> 480 | D14: =IF(COUNTA(日別記録!A12:G12)=0,"",日別記録!D12) -> 540 | E14: =IF(COUNTA(日別記録!A12:G12)=0,"",日別記録!H12) -> 60 | F14: =IF(COUNTA(日別記録!A12:G12)=0,"",日別記録!E12) -> 60 | G14: =IF(COUNTA(日別記録!A12:G12)=0,"",日別記録!F12) -> 0 | H14: =IF(COUNTA(日別記録!A12:G12)=0,"",日別記録!G12) -> 0
A15: =IF(COUNTA(日別記録!A13:G13)=0,"",日別記録!A13) -> OVT-0006 | B15: =IF(COUNTA(日別記録!A13:G13)=0,"",日別記録!B13) -> 46327 | C15: =IF(COUNTA(日別記録!A13:G13)=0,"",日別記録!C13) -> 480 | D15: =IF(COUNTA(日別記録!A13:G13)=0,"",日別記録!D13) -> 600 | E15: =IF(COUNTA(日別記録!A13:G13)=0,"",日別記録!H13) -> 120 | F15: =IF(COUNTA(日別記録!A13:G13)=0,"",日別記録!E13) -> 120 | G15: =IF(COUNTA(日別記録!A13:G13)=0,"",日別記録!F13) -> 0 | H15: =IF(COUNTA(日別記録!A13:G13)=0,"",日別記録!G13) -> 30
A16: =IF(COUNTA(日別記録!A14:G14)=0,"",日別記録!A14) | B16: =IF(COUNTA(日別記録!A14:G14)=0,"",日別記録!B14) | C16: =IF(COUNTA(日別記録!A14:G14)=0,"",日別記録!C14) | D16: =IF(COUNTA(日別記録!A14:G14)=0,"",日別記録!D14) | E16: =IF(COUNTA(日別記録!A14:G14)=0,"",日別記録!H14) | F16: =IF(COUNTA(日別記録!A14:G14)=0,"",日別記録!E14) | G16: =IF(COUNTA(日別記録!A14:G14)=0,"",日別記録!F14) | H16: =IF(COUNTA(日別記録!A14:G14)=0,"",日別記録!G14)
A17: =IF(COUNTA(日別記録!A15:G15)=0,"",日別記録!A15) | B17: =IF(COUNTA(日別記録!A15:G15)=0,"",日別記録!B15) | C17: =IF(COUNTA(日別記録!A15:G15)=0,"",日別記録!C15) | D17: =IF(COUNTA(日別記録!A15:G15)=0,"",日別記録!D15) | E17: =IF(COUNTA(日別記録!A15:G15)=0,"",日別記録!H15) | F17: =IF(COUNTA(日別記録!A15:G15)=0,"",日別記録!E15) | G17: =IF(COUNTA(日別記録!A15:G15)=0,"",日別記録!F15) | H17: =IF(COUNTA(日別記録!A15:G15)=0,"",日別記録!G15)
A18: =IF(COUNTA(日別記録!A16:G16)=0,"",日別記録!A16) | B18: =IF(COUNTA(日別記録!A16:G16)=0,"",日別記録!B16) | C18: =IF(COUNTA(日別記録!A16:G16)=0,"",日別記録!C16) | D18: =IF(COUNTA(日別記録!A16:G16)=0,"",日別記録!D16) | E18: =IF(COUNTA(日別記録!A16:G16)=0,"",日別記録!H16) | F18: =IF(COUNTA(日別記録!A16:G16)=0,"",日別記録!E16) | G18: =IF(COUNTA(日別記録!A16:G16)=0,"",日別記録!F16) | H18: =IF(COUNTA(日別記録!A16:G16)=0,"",日別記録!G16)
A19: =IF(COUNTA(日別記録!A17:G17)=0,"",日別記録!A17) | B19: =IF(COUNTA(日別記録!A17:G17)=0,"",日別記録!B17) | C19: =IF(COUNTA(日別記録!A17:G17)=0,"",日別記録!C17) | D19: =IF(COUNTA(日別記録!A17:G17)=0,"",日別記録!D17) | E19: =IF(COUNTA(日別記録!A17:G17)=0,"",日別記録!H17) | F19: =IF(COUNTA(日別記録!A17:G17)=0,"",日別記録!E17) | G19: =IF(COUNTA(日別記録!A17:G17)=0,"",日別記録!F17) | H19: =IF(COUNTA(日別記録!A17:G17)=0,"",日別記録!G17)
A20: =IF(COUNTA(日別記録!A18:G18)=0,"",日別記録!A18) | B20: =IF(COUNTA(日別記録!A18:G18)=0,"",日別記録!B18) | C20: =IF(COUNTA(日別記録!A18:G18)=0,"",日別記録!C18) | D20: =IF(COUNTA(日別記録!A18:G18)=0,"",日別記録!D18) | E20: =IF(COUNTA(日別記録!A18:G18)=0,"",日別記録!H18) | F20: =IF(COUNTA(日別記録!A18:G18)=0,"",日別記録!E18) | G20: =IF(COUNTA(日別記録!A18:G18)=0,"",日別記録!F18) | H20: =IF(COUNTA(日別記録!A18:G18)=0,"",日別記録!G18)
A21: =IF(COUNTA(日別記録!A19:G19)=0,"",日別記録!A19) | B21: =IF(COUNTA(日別記録!A19:G19)=0,"",日別記録!B19) | C21: =IF(COUNTA(日別記録!A19:G19)=0,"",日別記録!C19) | D21: =IF(COUNTA(日別記録!A19:G19)=0,"",日別記録!D19) | E21: =IF(COUNTA(日別記録!A19:G19)=0,"",日別記録!H19) | F21: =IF(COUNTA(日別記録!A19:G19)=0,"",日別記録!E19) | G21: =IF(COUNTA(日別記録!A19:G19)=0,"",日別記録!F19) | H21: =IF(COUNTA(日別記録!A19:G19)=0,"",日別記録!G19)
... A40: =IF(COUNTA(日別記録!A38:G38)=0,"",日別記録!A38) | B40: =IF(COUNTA(日別記録!A38:G38)=0,"",日別記録!B38) | C40: =IF(COUNTA(日別記録!A38:G38)=0,"",日別記録!C38) | D40: =IF(COUNTA(日別記録!A38:G38)=0,"",日別記録!D38) | E40: =IF(COUNTA(日別記録!A38:G38)=0,"",日別記録!H38) | F40: =IF(COUNTA(日別記録!A38:G38)=0,"",日別記録!E38) | G40: =IF(COUNTA(日別記録!A38:G38)=0,"",日別記録!F38) | H40: =IF(COUNTA(日別記録!A38:G38)=0,"",日別記録!G38)

Sheet 日別記録
A2: 日別の実働と確認済み区分
A3: 1人・1集計日1行、31日分。黄色のA〜Gへ入力。所定/実働/法定時間外/法定休日/深夜は整数分。
A5: 法定区分を8時間超から推測しません。区分が不明なら空欄で止め、0へ埋めないでください。
A7: 記録ID | B7: 集計日 | C7: 所定（分） | D7: 実働（分） | E7: 法定時間外（分） | F7: 法定休日（分） | G7: 深夜（分） | H7: 所定超過（分） | I7: 所定未達（分） | J7: 入力の確認 | K7: 入力不備 | L7: 計算の前提
A8: OVT-0001 | B8: 46296 | C8: 450 | D8: 510 | E8: 30 | F8: 0 | G8: 0 | H8: =IF(J8="","",IF(K8<>0,NA(),MAX(D8-C8,0))) -> 60 | I8: =IF(J8="","",IF(K8<>0,NA(),MAX(C8-D8,0))) -> 0 | J8: =IF(COUNTA(A8:G8)=0,"",IF(NOT(AND(ISTEXT(A8),LEN(A8)=8,EXACT(LEFT(A8,4),"OVT-"),ISNUMBER(FIND(MID(A8,5,1)&"x","0x1x2x3x4x5x6x7x8x9x")),ISNUMBER(FIND(MID(A8,6,1)&"x","0x1x2x3x4x5x6x7x8x9x")),ISNUMBER(FIND(MID(A8,7,1)&"x","0x1x2x3x4x5x6x7x8x9x")),ISNUMBER(FIND(MID(A8,8,1)&"x","0x1x2x3x4x5x6x7x8x9x")))),"IDはOVT-と半角数字4桁",IF(COUNTIFS($A$8:$A$38,A8)>1,"記録IDが重複",IF(NOT(AND(ISNUMBER(B8),B8>=43831,B8<73051,B8=INT(B8))),"集計日は時刻なしの日付",IF(COUNTIFS($B$8:$B$38,B8)>1,"同じ集計日が重複",IF(NOT(AND(AND(ISNUMBER(C8),C8>=0,C8<=1440,C8=INT(C8)),AND(ISNUMBER(D8),D8>=0,D8<=1440,D8=INT(D8)),AND(ISNUMBER(E8),E8>=0,E8<=1440,E8=INT(E8)),AND(ISNUMBER(F8),F8>=0,F8<=1440,F8=INT(F8)),AND(ISNUMBER(G8),G8>=0,G8<=1440,G8=INT(G8)))),"時間は0〜1440の整数分",IF(E8+F8>D8,"法定時間外+休日が実働超過",IF(G8>D8,"深夜が実働を超過","確認済み")))))))) -> 確認済み | K8: =IF(J8="","",IF(J8="確認済み",0,1)) -> 0 | L8: =IF(J8="","",IF(K8<>0,0,IF(AND(ISNUMBER(H8),H8=MAX(D8-C8,0),ISNUMBER(I8),I8=MAX(C8-D8,0)),0,1))) -> 0
A9: OVT-0002 | B9: 46297 | C9: 480 | D9: 420 | E9: 0 | F9: 0 | G9: 0 | H9: =IF(J9="","",IF(K9<>0,NA(),MAX(D9-C9,0))) -> 0 | I9: =IF(J9="","",IF(K9<>0,NA(),MAX(C9-D9,0))) -> 60 | J9: =IF(COUNTA(A9:G9)=0,"",IF(NOT(AND(ISTEXT(A9),LEN(A9)=8,EXACT(LEFT(A9,4),"OVT-"),ISNUMBER(FIND(MID(A9,5,1)&"x","0x1x2x3x4x5x6x7x8x9x")),ISNUMBER(FIND(MID(A9,6,1)&"x","0x1x2x3x4x5x6x7x8x9x")),ISNUMBER(FIND(MID(A9,7,1)&"x","0x1x2x3x4x5x6x7x8x9x")),ISNUMBER(FIND(MID(A9,8,1)&"x","0x1x2x3x4x5x6x7x8x9x")))),"IDはOVT-と半角数字4桁",IF(COUNTIFS($A$8:$A$38,A9)>1,"記録IDが重複",IF(NOT(AND(ISNUMBER(B9),B9>=43831,B9<73051,B9=INT(B9))),"集計日は時刻なしの日付",IF(COUNTIFS($B$8:$B$38,B9)>1,"同じ集計日が重複",IF(NOT(AND(AND(ISNUMBER(C9),C9>=0,C9<=1440,C9=INT(C9)),AND(ISNUMBER(D9),D9>=0,D9<=1440,D9=INT(D9)),AND(ISNUMBER(E9),E9>=0,E9<=1440,E9=INT(E9)),AND(ISNUMBER(F9),F9>=0,F9<=1440,F9=INT(F9)),AND(ISNUMBER(G9),G9>=0,G9<=1440,G9=INT(G9)))),"時間は0〜1440の整数分",IF(E9+F9>D9,"法定時間外+休日が実働超過",IF(G9>D9,"深夜が実働を超過","確認済み")))))))) -> 確認済み | K9: =IF(J9="","",IF(J9="確認済み",0,1)) -> 0 | L9: =IF(J9="","",IF(K9<>0,0,IF(AND(ISNUMBER(H9),H9=MAX(D9-C9,0),ISNUMBER(I9),I9=MAX(C9-D9,0)),0,1))) -> 0
A10: OVT-0003 | B10: 46298 | C10: 0 | D10: 180 | E10: 0 | F10: 180 | G10: 60 | H10: =IF(J10="","",IF(K10<>0,NA(),MAX(D10-C10,0))) -> 180 | I10: =IF(J10="","",IF(K10<>0,NA(),MAX(C10-D10,0))) -> 0 | J10: =IF(COUNTA(A10:G10)=0,"",IF(NOT(AND(ISTEXT(A10),LEN(A10)=8,EXACT(LEFT(A10,4),"OVT-"),ISNUMBER(FIND(MID(A10,5,1)&"x","0x1x2x3x4x5x6x7x8x9x")),ISNUMBER(FIND(MID(A10,6,1)&"x","0x1x2x3x4x5x6x7x8x9x")),ISNUMBER(FIND(MID(A10,7,1)&"x","0x1x2x3x4x5x6x7x8x9x")),ISNUMBER(FIND(MID(A10,8,1)&"x","0x1x2x3x4x5x6x7x8x9x")))),"IDはOVT-と半角数字4桁",IF(COUNTIFS($A$8:$A$38,A10)>1,"記録IDが重複",IF(NOT(AND(ISNUMBER(B10),B10>=43831,B10<73051,B10=INT(B10))),"集計日は時刻なしの日付",IF(COUNTIFS($B$8:$B$38,B10)>1,"同じ集計日が重複",IF(NOT(AND(AND(ISNUMBER(C10),C10>=0,C10<=1440,C10=INT(C10)),AND(ISNUMBER(D10),D10>=0,D10<=1440,D10=INT(D10)),AND(ISNUMBER(E10),E10>=0,E10<=1440,E10=INT(E10)),AND(ISNUMBER(F10),F10>=0,F10<=1440,F10=INT(F10)),AND(ISNUMBER(G10),G10>=0,G10<=1440,G10=INT(G10)))),"時間は0〜1440の整数分",IF(E10+F10>D10,"法定時間外+休日が実働超過",IF(G10>D10,"深夜が実働を超過","確認済み")))))))) -> 確認済み | K10: =IF(J10="","",IF(J10="確認済み",0,1)) -> 0 | L10: =IF(J10="","",IF(K10<>0,0,IF(AND(ISNUMBER(H10),H10=MAX(D10-C10,0),ISNUMBER(I10),I10=MAX(C10-D10,0)),0,1))) -> 0
A11: OVT-0004 | B11: 46299 | C11: 480 | D11: 480 | E11: 60 | F11: 0 | G11: 120 | H11: =IF(J11="","",IF(K11<>0,NA(),MAX(D11-C11,0))) -> 0 | I11: =IF(J11="","",IF(K11<>0,NA(),MAX(C11-D11,0))) -> 0 | J11: =IF(COUNTA(A11:G11)=0,"",IF(NOT(AND(ISTEXT(A11),LEN(A11)=8,EXACT(LEFT(A11,4),"OVT-"),ISNUMBER(FIND(MID(A11,5,1)&"x","0x1x2x3x4x5x6x7x8x9x")),ISNUMBER(FIND(MID(A11,6,1)&"x","0x1x2x3x4x5x6x7x8x9x")),ISNUMBER(FIND(MID(A11,7,1)&"x","0x1x2x3x4x5x6x7x8x9x")),ISNUMBER(FIND(MID(A11,8,1)&"x","0x1x2x3x4x5x6x7x8x9x")))),"IDはOVT-と半角数字4桁",IF(COUNTIFS($A$8:$A$38,A11)>1,"記録IDが重複",IF(NOT(AND(ISNUMBER(B11),B11>=43831,B11<73051,B11=INT(B11))),"集計日は時刻なしの日付",IF(COUNTIFS($B$8:$B$38,B11)>1,"同じ集計日が重複",IF(NOT(AND(AND(ISNUMBER(C11),C11>=0,C11<=1440,C11=INT(C11)),AND(ISNUMBER(D11),D11>=0,D11<=1440,D11=INT(D11)),AND(ISNUMBER(E11),E11>=0,E11<=1440,E11=INT(E11)),AND(ISNUMBER(F11),F11>=0,F11<=1440,F11=INT(F11)),AND(ISNUMBER(G11),G11>=0,G11<=1440,G11=INT(G11)))),"時間は0〜1440の整数分",IF(E11+F11>D11,"法定時間外+休日が実働超過",IF(G11>D11,"深夜が実働を超過","確認済み")))))))) -> 確認済み | K11: =IF(J11="","",IF(J11="確認済み",0,1)) -> 0 | L11: =IF(J11="","",IF(K11<>0,0,IF(AND(ISNUMBER(H11),H11=MAX(D11-C11,0),ISNUMBER(I11),I11=MAX(C11-D11,0)),0,1))) -> 0
A12: OVT-0005 | B12: 46295 | C12: 480 | D12: 540 | E12: 60 | F12: 0 | G12: 0 | H12: =IF(J12="","",IF(K12<>0,NA(),MAX(D12-C12,0))) -> 60 | I12: =IF(J12="","",IF(K12<>0,NA(),MAX(C12-D12,0))) -> 0 | J12: =IF(COUNTA(A12:G12)=0,"",IF(NOT(AND(ISTEXT(A12),LEN(A12)=8,EXACT(LEFT(A12,4),"OVT-"),ISNUMBER(FIND(MID(A12,5,1)&"x","0x1x2x3x4x5x6x7x8x9x")),ISNUMBER(FIND(MID(A12,6,1)&"x","0x1x2x3x4x5x6x7x8x9x")),ISNUMBER(FIND(MID(A12,7,1)&"x","0x1x2x3x4x5x6x7x8x9x")),ISNUMBER(FIND(MID(A12,8,1)&"x","0x1x2x3x4x5x6x7x8x9x")))),"IDはOVT-と半角数字4桁",IF(COUNTIFS($A$8:$A$38,A12)>1,"記録IDが重複",IF(NOT(AND(ISNUMBER(B12),B12>=43831,B12<73051,B12=INT(B12))),"集計日は時刻なしの日付",IF(COUNTIFS($B$8:$B$38,B12)>1,"同じ集計日が重複",IF(NOT(AND(AND(ISNUMBER(C12),C12>=0,C12<=1440,C12=INT(C12)),AND(ISNUMBER(D12),D12>=0,D12<=1440,D12=INT(D12)),AND(ISNUMBER(E12),E12>=0,E12<=1440,E12=INT(E12)),AND(ISNUMBER(F12),F12>=0,F12<=1440,F12=INT(F12)),AND(ISNUMBER(G12),G12>=0,G12<=1440,G12=INT(G12)))),"時間は0〜1440の整数分",IF(E12+F12>D12,"法定時間外+休日が実働超過",IF(G12>D12,"深夜が実働を超過","確認済み")))))))) -> 確認済み | K12: =IF(J12="","",IF(J12="確認済み",0,1)) -> 0 | L12: =IF(J12="","",IF(K12<>0,0,IF(AND(ISNUMBER(H12),H12=MAX(D12-C12,0),ISNUMBER(I12),I12=MAX(C12-D12,0)),0,1))) -> 0
A13: OVT-0006 | B13: 46327 | C13: 480 | D13: 600 | E13: 120 | F13: 0 | G13: 30 | H13: =IF(J13="","",IF(K13<>0,NA(),MAX(D13-C13,0))) -> 120 | I13: =IF(J13="","",IF(K13<>0,NA(),MAX(C13-D13,0))) -> 0 | J13: =IF(COUNTA(A13:G13)=0,"",IF(NOT(AND(ISTEXT(A13),LEN(A13)=8,EXACT(LEFT(A13,4),"OVT-"),ISNUMBER(FIND(MID(A13,5,1)&"x","0x1x2x3x4x5x6x7x8x9x")),ISNUMBER(FIND(MID(A13,6,1)&"x","0x1x2x3x4x5x6x7x8x9x")),ISNUMBER(FIND(MID(A13,7,1)&"x","0x1x2x3x4x5x6x7x8x9x")),ISNUMBER(FIND(MID(A13,8,1)&"x","0x1x2x3x4x5x6x7x8x9x")))),"IDはOVT-と半角数字4桁",IF(COUNTIFS($A$8:$A$38,A13)>1,"記録IDが重複",IF(NOT(AND(ISNUMBER(B13),B13>=43831,B13<73051,B13=INT(B13))),"集計日は時刻なしの日付",IF(COUNTIFS($B$8:$B$38,B13)>1,"同じ集計日が重複",IF(NOT(AND(AND(ISNUMBER(C13),C13>=0,C13<=1440,C13=INT(C13)),AND(ISNUMBER(D13),D13>=0,D13<=1440,D13=INT(D13)),AND(ISNUMBER(E13),E13>=0,E13<=1440,E13=INT(E13)),AND(ISNUMBER(F13),F13>=0,F13<=1440,F13=INT(F13)),AND(ISNUMBER(G13),G13>=0,G13<=1440,G13=INT(G13)))),"時間は0〜1440の整数分",IF(E13+F13>D13,"法定時間外+休日が実働超過",IF(G13>D13,"深夜が実働を超過","確認済み")))))))) -> 確認済み | K13: =IF(J13="","",IF(J13="確認済み",0,1)) -> 0 | L13: =IF(J13="","",IF(K13<>0,0,IF(AND(ISNUMBER(H13),H13=MAX(D13-C13,0),ISNUMBER(I13),I13=MAX(C13-D13,0)),0,1))) -> 0
H14: =IF(J14="","",IF(K14<>0,NA(),MAX(D14-C14,0))) | I14: =IF(J14="","",IF(K14<>0,NA(),MAX(C14-D14,0))) | J14: =IF(COUNTA(A14:G14)=0,"",IF(NOT(AND(ISTEXT(A14),LEN(A14)=8,EXACT(LEFT(A14,4),"OVT-"),ISNUMBER(FIND(MID(A14,5,1)&"x","0x1x2x3x4x5x6x7x8x9x")),ISNUMBER(FIND(MID(A14,6,1)&"x","0x1x2x3x4x5x6x7x8x9x")),ISNUMBER(FIND(MID(A14,7,1)&"x","0x1x2x3x4x5x6x7x8x9x")),ISNUMBER(FIND(MID(A14,8,1)&"x","0x1x2x3x4x5x6x7x8x9x")))),"IDはOVT-と半角数字4桁",IF(COUNTIFS($A$8:$A$38,A14)>1,"記録IDが重複",IF(NOT(AND(ISNUMBER(B14),B14>=43831,B14<73051,B14=INT(B14))),"集計日は時刻なしの日付",IF(COUNTIFS($B$8:$B$38,B14)>1,"同じ集計日が重複",IF(NOT(AND(AND(ISNUMBER(C14),C14>=0,C14<=1440,C14=INT(C14)),AND(ISNUMBER(D14),D14>=0,D14<=1440,D14=INT(D14)),AND(ISNUMBER(E14),E14>=0,E14<=1440,E14=INT(E14)),AND(ISNUMBER(F14),F14>=0,F14<=1440,F14=INT(F14)),AND(ISNUMBER(G14),G14>=0,G14<=1440,G14=INT(G14)))),"時間は0〜1440の整数分",IF(E14+F14>D14,"法定時間外+休日が実働超過",IF(G14>D14,"深夜が実働を超過","確認済み")))))))) | K14: =IF(J14="","",IF(J14="確認済み",0,1)) | L14: =IF(J14="","",IF(K14<>0,0,IF(AND(ISNUMBER(H14),H14=MAX(D14-C14,0),ISNUMBER(I14),I14=MAX(C14-D14,0)),0,1)))
H15: =IF(J15="","",IF(K15<>0,NA(),MAX(D15-C15,0))) | I15: =IF(J15="","",IF(K15<>0,NA(),MAX(C15-D15,0))) | J15: =IF(COUNTA(A15:G15)=0,"",IF(NOT(AND(ISTEXT(A15),LEN(A15)=8,EXACT(LEFT(A15,4),"OVT-"),ISNUMBER(FIND(MID(A15,5,1)&"x","0x1x2x3x4x5x6x7x8x9x")),ISNUMBER(FIND(MID(A15,6,1)&"x","0x1x2x3x4x5x6x7x8x9x")),ISNUMBER(FIND(MID(A15,7,1)&"x","0x1x2x3x4x5x6x7x8x9x")),ISNUMBER(FIND(MID(A15,8,1)&"x","0x1x2x3x4x5x6x7x8x9x")))),"IDはOVT-と半角数字4桁",IF(COUNTIFS($A$8:$A$38,A15)>1,"記録IDが重複",IF(NOT(AND(ISNUMBER(B15),B15>=43831,B15<73051,B15=INT(B15))),"集計日は時刻なしの日付",IF(COUNTIFS($B$8:$B$38,B15)>1,"同じ集計日が重複",IF(NOT(AND(AND(ISNUMBER(C15),C15>=0,C15<=1440,C15=INT(C15)),AND(ISNUMBER(D15),D15>=0,D15<=1440,D15=INT(D15)),AND(ISNUMBER(E15),E15>=0,E15<=1440,E15=INT(E15)),AND(ISNUMBER(F15),F15>=0,F15<=1440,F15=INT(F15)),AND(ISNUMBER(G15),G15>=0,G15<=1440,G15=INT(G15)))),"時間は0〜1440の整数分",IF(E15+F15>D15,"法定時間外+休日が実働超過",IF(G15>D15,"深夜が実働を超過","確認済み")))))))) | K15: =IF(J15="","",IF(J15="確認済み",0,1)) | L15: =IF(J15="","",IF(K15<>0,0,IF(AND(ISNUMBER(H15),H15=MAX(D15-C15,0),ISNUMBER(I15),I15=MAX(C15-D15,0)),0,1)))
H16: =IF(J16="","",IF(K16<>0,NA(),MAX(D16-C16,0))) | I16: =IF(J16="","",IF(K16<>0,NA(),MAX(C16-D16,0))) | J16: =IF(COUNTA(A16:G16)=0,"",IF(NOT(AND(ISTEXT(A16),LEN(A16)=8,EXACT(LEFT(A16,4),"OVT-"),ISNUMBER(FIND(MID(A16,5,1)&"x","0x1x2x3x4x5x6x7x8x9x")),ISNUMBER(FIND(MID(A16,6,1)&"x","0x1x2x3x4x5x6x7x8x9x")),ISNUMBER(FIND(MID(A16,7,1)&"x","0x1x2x3x4x5x6x7x8x9x")),ISNUMBER(FIND(MID(A16,8,1)&"x","0x1x2x3x4x5x6x7x8x9x")))),"IDはOVT-と半角数字4桁",IF(COUNTIFS($A$8:$A$38,A16)>1,"記録IDが重複",IF(NOT(AND(ISNUMBER(B16),B16>=43831,B16<73051,B16=INT(B16))),"集計日は時刻なしの日付",IF(COUNTIFS($B$8:$B$38,B16)>1,"同じ集計日が重複",IF(NOT(AND(AND(ISNUMBER(C16),C16>=0,C16<=1440,C16=INT(C16)),AND(ISNUMBER(D16),D16>=0,D16<=1440,D16=INT(D16)),AND(ISNUMBER(E16),E16>=0,E16<=1440,E16=INT(E16)),AND(ISNUMBER(F16),F16>=0,F16<=1440,F16=INT(F16)),AND(ISNUMBER(G16),G16>=0,G16<=1440,G16=INT(G16)))),"時間は0〜1440の整数分",IF(E16+F16>D16,"法定時間外+休日が実働超過",IF(G16>D16,"深夜が実働を超過","確認済み")))))))) | K16: =IF(J16="","",IF(J16="確認済み",0,1)) | L16: =IF(J16="","",IF(K16<>0,0,IF(AND(ISNUMBER(H16),H16=MAX(D16-C16,0),ISNUMBER(I16),I16=MAX(C16-D16,0)),0,1)))
H17: =IF(J17="","",IF(K17<>0,NA(),MAX(D17-C17,0))) | I17: =IF(J17="","",IF(K17<>0,NA(),MAX(C17-D17,0))) | J17: =IF(COUNTA(A17:G17)=0,"",IF(NOT(AND(ISTEXT(A17),LEN(A17)=8,EXACT(LEFT(A17,4),"OVT-"),ISNUMBER(FIND(MID(A17,5,1)&"x","0x1x2x3x4x5x6x7x8x9x")),ISNUMBER(FIND(MID(A17,6,1)&"x","0x1x2x3x4x5x6x7x8x9x")),ISNUMBER(FIND(MID(A17,7,1)&"x","0x1x2x3x4x5x6x7x8x9x")),ISNUMBER(FIND(MID(A17,8,1)&"x","0x1x2x3x4x5x6x7x8x9x")))),"IDはOVT-と半角数字4桁",IF(COUNTIFS($A$8:$A$38,A17)>1,"記録IDが重複",IF(NOT(AND(ISNUMBER(B17),B17>=43831,B17<73051,B17=INT(B17))),"集計日は時刻なしの日付",IF(COUNTIFS($B$8:$B$38,B17)>1,"同じ集計日が重複",IF(NOT(AND(AND(ISNUMBER(C17),C17>=0,C17<=1440,C17=INT(C17)),AND(ISNUMBER(D17),D17>=0,D17<=1440,D17=INT(D17)),AND(ISNUMBER(E17),E17>=0,E17<=1440,E17=INT(E17)),AND(ISNUMBER(F17),F17>=0,F17<=1440,F17=INT(F17)),AND(ISNUMBER(G17),G17>=0,G17<=1440,G17=INT(G17)))),"時間は0〜1440の整数分",IF(E17+F17>D17,"法定時間外+休日が実働超過",IF(G17>D17,"深夜が実働を超過","確認済み")))))))) | K17: =IF(J17="","",IF(J17="確認済み",0,1)) | L17: =IF(J17="","",IF(K17<>0,0,IF(AND(ISNUMBER(H17),H17=MAX(D17-C17,0),ISNUMBER(I17),I17=MAX(C17-D17,0)),0,1)))
H18: =IF(J18="","",IF(K18<>0,NA(),MAX(D18-C18,0))) | I18: =IF(J18="","",IF(K18<>0,NA(),MAX(C18-D18,0))) | J18: =IF(COUNTA(A18:G18)=0,"",IF(NOT(AND(ISTEXT(A18),LEN(A18)=8,EXACT(LEFT(A18,4),"OVT-"),ISNUMBER(FIND(MID(A18,5,1)&"x","0x1x2x3x4x5x6x7x8x9x")),ISNUMBER(FIND(MID(A18,6,1)&"x","0x1x2x3x4x5x6x7x8x9x")),ISNUMBER(FIND(MID(A18,7,1)&"x","0x1x2x3x4x5x6x7x8x9x")),ISNUMBER(FIND(MID(A18,8,1)&"x","0x1x2x3x4x5x6x7x8x9x")))),"IDはOVT-と半角数字4桁",IF(COUNTIFS($A$8:$A$38,A18)>1,"記録IDが重複",IF(NOT(AND(ISNUMBER(B18),B18>=43831,B18<73051,B18=INT(B18))),"集計日は時刻なしの日付",IF(COUNTIFS($B$8:$B$38,B18)>1,"同じ集計日が重複",IF(NOT(AND(AND(ISNUMBER(C18),C18>=0,C18<=1440,C18=INT(C18)),AND(ISNUMBER(D18),D18>=0,D18<=1440,D18=INT(D18)),AND(ISNUMBER(E18),E18>=0,E18<=1440,E18=INT(E18)),AND(ISNUMBER(F18),F18>=0,F18<=1440,F18=INT(F18)),AND(ISNUMBER(G18),G18>=0,G18<=1440,G18=INT(G18)))),"時間は0〜1440の整数分",IF(E18+F18>D18,"法定時間外+休日が実働超過",IF(G18>D18,"深夜が実働を超過","確認済み")))))))) | K18: =IF(J18="","",IF(J18="確認済み",0,1)) | L18: =IF(J18="","",IF(K18<>0,0,IF(AND(ISNUMBER(H18),H18=MAX(D18-C18,0),ISNUMBER(I18),I18=MAX(C18-D18,0)),0,1)))
H19: =IF(J19="","",IF(K19<>0,NA(),MAX(D19-C19,0))) | I19: =IF(J19="","",IF(K19<>0,NA(),MAX(C19-D19,0))) | J19: =IF(COUNTA(A19:G19)=0,"",IF(NOT(AND(ISTEXT(A19),LEN(A19)=8,EXACT(LEFT(A19,4),"OVT-"),ISNUMBER(FIND(MID(A19,5,1)&"x","0x1x2x3x4x5x6x7x8x9x")),ISNUMBER(FIND(MID(A19,6,1)&"x","0x1x2x3x4x5x6x7x8x9x")),ISNUMBER(FIND(MID(A19,7,1)&"x","0x1x2x3x4x5x6x7x8x9x")),ISNUMBER(FIND(MID(A19,8,1)&"x","0x1x2x3x4x5x6x7x8x9x")))),"IDはOVT-と半角数字4桁",IF(COUNTIFS($A$8:$A$38,A19)>1,"記録IDが重複",IF(NOT(AND(ISNUMBER(B19),B19>=43831,B19<73051,B19=INT(B19))),"集計日は時刻なしの日付",IF(COUNTIFS($B$8:$B$38,B19)>1,"同じ集計日が重複",IF(NOT(AND(AND(ISNUMBER(C19),C19>=0,C19<=1440,C19=INT(C19)),AND(ISNUMBER(D19),D19>=0,D19<=1440,D19=INT(D19)),AND(ISNUMBER(E19),E19>=0,E19<=1440,E19=INT(E19)),AND(ISNUMBER(F19),F19>=0,F19<=1440,F19=INT(F19)),AND(ISNUMBER(G19),G19>=0,G19<=1440,G19=INT(G19)))),"時間は0〜1440の整数分",IF(E19+F19>D19,"法定時間外+休日が実働超過",IF(G19>D19,"深夜が実働を超過","確認済み")))))))) | K19: =IF(J19="","",IF(J19="確認済み",0,1)) | L19: =IF(J19="","",IF(K19<>0,0,IF(AND(ISNUMBER(H19),H19=MAX(D19-C19,0),ISNUMBER(I19),I19=MAX(C19-D19,0)),0,1)))
H20: =IF(J20="","",IF(K20<>0,NA(),MAX(D20-C20,0))) | I20: =IF(J20="","",IF(K20<>0,NA(),MAX(C20-D20,0))) | J20: =IF(COUNTA(A20:G20)=0,"",IF(NOT(AND(ISTEXT(A20),LEN(A20)=8,EXACT(LEFT(A20,4),"OVT-"),ISNUMBER(FIND(MID(A20,5,1)&"x","0x1x2x3x4x5x6x7x8x9x")),ISNUMBER(FIND(MID(A20,6,1)&"x","0x1x2x3x4x5x6x7x8x9x")),ISNUMBER(FIND(MID(A20,7,1)&"x","0x1x2x3x4x5x6x7x8x9x")),ISNUMBER(FIND(MID(A20,8,1)&"x","0x1x2x3x4x5x6x7x8x9x")))),"IDはOVT-と半角数字4桁",IF(COUNTIFS($A$8:$A$38,A20)>1,"記録IDが重複",IF(NOT(AND(ISNUMBER(B20),B20>=43831,B20<73051,B20=INT(B20))),"集計日は時刻なしの日付",IF(COUNTIFS($B$8:$B$38,B20)>1,"同じ集計日が重複",IF(NOT(AND(AND(ISNUMBER(C20),C20>=0,C20<=1440,C20=INT(C20)),AND(ISNUMBER(D20),D20>=0,D20<=1440,D20=INT(D20)),AND(ISNUMBER(E20),E20>=0,E20<=1440,E20=INT(E20)),AND(ISNUMBER(F20),F20>=0,F20<=1440,F20=INT(F20)),AND(ISNUMBER(G20),G20>=0,G20<=1440,G20=INT(G20)))),"時間は0〜1440の整数分",IF(E20+F20>D20,"法定時間外+休日が実働超過",IF(G20>D20,"深夜が実働を超過","確認済み")))))))) | K20: =IF(J20="","",IF(J20="確認済み",0,1)) | L20: =IF(J20="","",IF(K20<>0,0,IF(AND(ISNUMBER(H20),H20=MAX(D20-C20,0),ISNUMBER(I20),I20=MAX(C20-D20,0)),0,1)))
H21: =IF(J21="","",IF(K21<>0,NA(),MAX(D21-C21,0))) | I21: =IF(J21="","",IF(K21<>0,NA(),MAX(C21-D21,0))) | J21: =IF(COUNTA(A21:G21)=0,"",IF(NOT(AND(ISTEXT(A21),LEN(A21)=8,EXACT(LEFT(A21,4),"OVT-"),ISNUMBER(FIND(MID(A21,5,1)&"x","0x1x2x3x4x5x6x7x8x9x")),ISNUMBER(FIND(MID(A21,6,1)&"x","0x1x2x3x4x5x6x7x8x9x")),ISNUMBER(FIND(MID(A21,7,1)&"x","0x1x2x3x4x5x6x7x8x9x")),ISNUMBER(FIND(MID(A21,8,1)&"x","0x1x2x3x4x5x6x7x8x9x")))),"IDはOVT-と半角数字4桁",IF(COUNTIFS($A$8:$A$38,A21)>1,"記録IDが重複",IF(NOT(AND(ISNUMBER(B21),B21>=43831,B21<73051,B21=INT(B21))),"集計日は時刻なしの日付",IF(COUNTIFS($B$8:$B$38,B21)>1,"同じ集計日が重複",IF(NOT(AND(AND(ISNUMBER(C21),C21>=0,C21<=1440,C21=INT(C21)),AND(ISNUMBER(D21),D21>=0,D21<=1440,D21=INT(D21)),AND(ISNUMBER(E21),E21>=0,E21<=1440,E21=INT(E21)),AND(ISNUMBER(F21),F21>=0,F21<=1440,F21=INT(F21)),AND(ISNUMBER(G21),G21>=0,G21<=1440,G21=INT(G21)))),"時間は0〜1440の整数分",IF(E21+F21>D21,"法定時間外+休日が実働超過",IF(G21>D21,"深夜が実働を超過","確認済み")))))))) | K21: =IF(J21="","",IF(J21="確認済み",0,1)) | L21: =IF(J21="","",IF(K21<>0,0,IF(AND(ISNUMBER(H21),H21=MAX(D21-C21,0),ISNUMBER(I21),I21=MAX(C21-D21,0)),0,1)))
H22: =IF(J22="","",IF(K22<>0,NA(),MAX(D22-C22,0))) | I22: =IF(J22="","",IF(K22<>0,NA(),MAX(C22-D22,0))) | J22: =IF(COUNTA(A22:G22)=0,"",IF(NOT(AND(ISTEXT(A22),LEN(A22)=8,EXACT(LEFT(A22,4),"OVT-"),ISNUMBER(FIND(MID(A22,5,1)&"x","0x1x2x3x4x5x6x7x8x9x")),ISNUMBER(FIND(MID(A22,6,1)&"x","0x1x2x3x4x5x6x7x8x9x")),ISNUMBER(FIND(MID(A22,7,1)&"x","0x1x2x3x4x5x6x7x8x9x")),ISNUMBER(FIND(MID(A22,8,1)&"x","0x1x2x3x4x5x6x7x8x9x")))),"IDはOVT-と半角数字4桁",IF(COUNTIFS($A$8:$A$38,A22)>1,"記録IDが重複",IF(NOT(AND(ISNUMBER(B22),B22>=43831,B22<73051,B22=INT(B22))),"集計日は時刻なしの日付",IF(COUNTIFS($B$8:$B$38,B22)>1,"同じ集計日が重複",IF(NOT(AND(AND(ISNUMBER(C22),C22>=0,C22<=1440,C22=INT(C22)),AND(ISNUMBER(D22),D22>=0,D22<=1440,D22=INT(D22)),AND(ISNUMBER(E22),E22>=0,E22<=1440,E22=INT(E22)),AND(ISNUMBER(F22),F22>=0,F22<=1440,F22=INT(F22)),AND(ISNUMBER(G22),G22>=0,G22<=1440,G22=INT(G22)))),"時間は0〜1440の整数分",IF(E22+F22>D22,"法定時間外+休日が実働超過",IF(G22>D22,"深夜が実働を超過","確認済み")))))))) | K22: =IF(J22="","",IF(J22="確認済み",0,1)) | L22: =IF(J22="","",IF(K22<>0,0,IF(AND(ISNUMBER(H22),H22=MAX(D22-C22,0),ISNUMBER(I22),I22=MAX(C22-D22,0)),0,1)))
H23: =IF(J23="","",IF(K23<>0,NA(),MAX(D23-C23,0))) | I23: =IF(J23="","",IF(K23<>0,NA(),MAX(C23-D23,0))) | J23: =IF(COUNTA(A23:G23)=0,"",IF(NOT(AND(ISTEXT(A23),LEN(A23)=8,EXACT(LEFT(A23,4),"OVT-"),ISNUMBER(FIND(MID(A23,5,1)&"x","0x1x2x3x4x5x6x7x8x9x")),ISNUMBER(FIND(MID(A23,6,1)&"x","0x1x2x3x4x5x6x7x8x9x")),ISNUMBER(FIND(MID(A23,7,1)&"x","0x1x2x3x4x5x6x7x8x9x")),ISNUMBER(FIND(MID(A23,8,1)&"x","0x1x2x3x4x5x6x7x8x9x")))),"IDはOVT-と半角数字4桁",IF(COUNTIFS($A$8:$A$38,A23)>1,"記録IDが重複",IF(NOT(AND(ISNUMBER(B23),B23>=43831,B23<73051,B23=INT(B23))),"集計日は時刻なしの日付",IF(COUNTIFS($B$8:$B$38,B23)>1,"同じ集計日が重複",IF(NOT(AND(AND(ISNUMBER(C23),C23>=0,C23<=1440,C23=INT(C23)),AND(ISNUMBER(D23),D23>=0,D23<=1440,D23=INT(D23)),AND(ISNUMBER(E23),E23>=0,E23<=1440,E23=INT(E23)),AND(ISNUMBER(F23),F23>=0,F23<=1440,F23=INT(F23)),AND(ISNUMBER(G23),G23>=0,G23<=1440,G23=INT(G23)))),"時間は0〜1440の整数分",IF(E23+F23>D23,"法定時間外+休日が実働超過",IF(G23>D23,"深夜が実働を超過","確認済み")))))))) | K23: =IF(J23="","",IF(J23="確認済み",0,1)) | L23: =IF(J23="","",IF(K23<>0,0,IF(AND(ISNUMBER(H23),H23=MAX(D23-C23,0),ISNUMBER(I23),I23=MAX(C23-D23,0)),0,1)))
H24: =IF(J24="","",IF(K24<>0,NA(),MAX(D24-C24,0))) | I24: =IF(J24="","",IF(K24<>0,NA(),MAX(C24-D24,0))) | J24: =IF(COUNTA(A24:G24)=0,"",IF(NOT(AND(ISTEXT(A24),LEN(A24)=8,EXACT(LEFT(A24,4),"OVT-"),ISNUMBER(FIND(MID(A24,5,1)&"x","0x1x2x3x4x5x6x7x8x9x")),ISNUMBER(FIND(MID(A24,6,1)&"x","0x1x2x3x4x5x6x7x8x9x")),ISNUMBER(FIND(MID(A24,7,1)&"x","0x1x2x3x4x5x6x7x8x9x")),ISNUMBER(FIND(MID(A24,8,1)&"x","0x1x2x3x4x5x6x7x8x9x")))),"IDはOVT-と半角数字4桁",IF(COUNTIFS($A$8:$A$38,A24)>1,"記録IDが重複",IF(NOT(AND(ISNUMBER(B24),B24>=43831,B24<73051,B24=INT(B24))),"集計日は時刻なしの日付",IF(COUNTIFS($B$8:$B$38,B24)>1,"同じ集計日が重複",IF(NOT(AND(AND(ISNUMBER(C24),C24>=0,C24<=1440,C24=INT(C24)),AND(ISNUMBER(D24),D24>=0,D24<=1440,D24=INT(D24)),AND(ISNUMBER(E24),E24>=0,E24<=1440,E24=INT(E24)),AND(ISNUMBER(F24),F24>=0,F24<=1440,F24=INT(F24)),AND(ISNUMBER(G24),G24>=0,G24<=1440,G24=INT(G24)))),"時間は0〜1440の整数分",IF(E24+F24>D24,"法定時間外+休日が実働超過",IF(G24>D24,"深夜が実働を超過","確認済み")))))))) | K24: =IF(J24="","",IF(J24="確認済み",0,1)) | L24: =IF(J24="","",IF(K24<>0,0,IF(AND(ISNUMBER(H24),H24=MAX(D24-C24,0),ISNUMBER(I24),I24=MAX(C24-D24,0)),0,1)))
H25: =IF(J25="","",IF(K25<>0,NA(),MAX(D25-C25,0))) | I25: =IF(J25="","",IF(K25<>0,NA(),MAX(C25-D25,0))) | J25: =IF(COUNTA(A25:G25)=0,"",IF(NOT(AND(ISTEXT(A25),LEN(A25)=8,EXACT(LEFT(A25,4),"OVT-"),ISNUMBER(FIND(MID(A25,5,1)&"x","0x1x2x3x4x5x6x7x8x9x")),ISNUMBER(FIND(MID(A25,6,1)&"x","0x1x2x3x4x5x6x7x8x9x")),ISNUMBER(FIND(MID(A25,7,1)&"x","0x1x2x3x4x5x6x7x8x9x")),ISNUMBER(FIND(MID(A25,8,1)&"x","0x1x2x3x4x5x6x7x8x9x")))),"IDはOVT-と半角数字4桁",IF(COUNTIFS($A$8:$A$38,A25)>1,"記録IDが重複",IF(NOT(AND(ISNUMBER(B25),B25>=43831,B25<73051,B25=INT(B25))),"集計日は時刻なしの日付",IF(COUNTIFS($B$8:$B$38,B25)>1,"同じ集計日が重複",IF(NOT(AND(AND(ISNUMBER(C25),C25>=0,C25<=1440,C25=INT(C25)),AND(ISNUMBER(D25),D25>=0,D25<=1440,D25=INT(D25)),AND(ISNUMBER(E25),E25>=0,E25<=1440,E25=INT(E25)),AND(ISNUMBER(F25),F25>=0,F25<=1440,F25=INT(F25)),AND(ISNUMBER(G25),G25>=0,G25<=1440,G25=INT(G25)))),"時間は0〜1440の整数分",IF(E25+F25>D25,"法定時間外+休日が実働超過",IF(G25>D25,"深夜が実働を超過","確認済み")))))))) | K25: =IF(J25="","",IF(J25="確認済み",0,1)) | L25: =IF(J25="","",IF(K25<>0,0,IF(AND(ISNUMBER(H25),H25=MAX(D25-C25,0),ISNUMBER(I25),I25=MAX(C25-D25,0)),0,1)))
... H38: =IF(J38="","",IF(K38<>0,NA(),MAX(D38-C38,0))) | I38: =IF(J38="","",IF(K38<>0,NA(),MAX(C38-D38,0))) | J38: =IF(COUNTA(A38:G38)=0,"",IF(NOT(AND(ISTEXT(A38),LEN(A38)=8,EXACT(LEFT(A38,4),"OVT-"),ISNUMBER(FIND(MID(A38,5,1)&"x","0x1x2x3x4x5x6x7x8x9x")),ISNUMBER(FIND(MID(A38,6,1)&"x","0x1x2x3x4x5x6x7x8x9x")),ISNUMBER(FIND(MID(A38,7,1)&"x","0x1x2x3x4x5x6x7x8x9x")),ISNUMBER(FIND(MID(A38,8,1)&"x","0x1x2x3x4x5x6x7x8x9x")))),"IDはOVT-と半角数字4桁",IF(COUNTIFS($A$8:$A$38,A38)>1,"記録IDが重複",IF(NOT(AND(ISNUMBER(B38),B38>=43831,B38<73051,B38=INT(B38))),"集計日は時刻なしの日付",IF(COUNTIFS($B$8:$B$38,B38)>1,"同じ集計日が重複",IF(NOT(AND(AND(ISNUMBER(C38),C38>=0,C38<=1440,C38=INT(C38)),AND(ISNUMBER(D38),D38>=0,D38<=1440,D38=INT(D38)),AND(ISNUMBER(E38),E38>=0,E38<=1440,E38=INT(E38)),AND(ISNUMBER(F38),F38>=0,F38<=1440,F38=INT(F38)),AND(ISNUMBER(G38),G38>=0,G38<=1440,G38=INT(G38)))),"時間は0〜1440の整数分",IF(E38+F38>D38,"法定時間外+休日が実働超過",IF(G38>D38,"深夜が実働を超過","確認済み")))))))) | K38: =IF(J38="","",IF(J38="確認済み",0,1)) | L38: =IF(J38="","",IF(K38<>0,0,IF(AND(ISNUMBER(H38),H38=MAX(D38-C38,0),ISNUMBER(I38),I38=MAX(C38-D38,0)),0,1)))
A42: 架空教材。1人31集計日。集計日と各区分の元記録を確認して入力。
A43: 所定超過/未達は日別に正の部分を合計。他の日の未達や短時間で超過を相殺しません。
A44: 法定時間外・法定休日は重ならない確認済み分数。深夜は両方と重なりうるため合算しません。
A45: 法定時間外を所定超過以下へ制限しません。週単位等の判定根拠は元記録で確認。
A46: 休憩控除後の実働を入力。時刻や休憩位置、休日・週起算日・変形/フレックスは推測しません。
A47: 集計日は元台帳の確定済み帰属日。日/月またぎの分割・区分付けはこの表の前に確認します。
A48: 全明細を表示。合計は対象月だけ。対象外の入力不備でも止めます。0と未確認空欄は別。
A49: 給与/割増額・36協定上限・法令適合・承認/打刻収集は判定しません。自動連携なし。
A50: 印刷は月次集計のみ。初期A1:H15、31日分はA1:H40。版1 / CC0 1.0 https://creativecommons.org/publicdomain/zero/1.0/
A51: 一次情報確認2026-10-15 https://www.check-roudou.mhlw.go.jp/study/roudousya_jikangai.html
