Workbook

Sheet 有休残数
A2: 日・半日の有休残数を照合 | I2: 基準日の前提 | J2: 入力の前提
A3: 照合基準日 | B3: 46305 | H3: =IF(J3=0,"入力不備なし","入力を確認") -> 入力不備なし | I3: =IF(AND(ISNUMBER(B3),B3>=43831,B3<=73050,B3=INT(B3)),0,1) -> 0 | J3: =I3+SUM(付与!F8:F27)+SUM(付与!H8:H27)+SUM(取得!F8:F38)+SUM(取得!H8:H38)+SUM(消化配分!I8:I107)+SUM(消化配分!K8:K107) -> 0
A4: 付与合計（日） | B4: =IF($J$3=0,SUM(D10:D29),NA()) -> 32 | D4: 消化（日） | E4: =IF($J$3=0,SUM(E10:E29),NA()) -> 2.5 | G4: 有効残（日） | H4: =IF($J$3=0,SUM(F10:F29),NA()) -> 20.5
A5: 失効残（日） | B5: =IF($J$3=0,SUM(G10:G29),NA()) -> 9 | D5: 有効期間内の付与件数 | E5: =IF($J$3=0,COUNTIFS(付与!B8:B27,"<="&$B$3,付与!C8:C27,">="&$B$3,付与!E8:E27,"確認済み"),NA()) -> 2 | G5: 付与前の件数 | H5: =IF($J$3=0,COUNTIFS(付与!B8:B27,">"&$B$3,付与!E8:E27,"確認済み"),NA()) -> 1
A6: 取得件数 | B6: =IF($J$3=0,COUNTIFS(取得!B8:B38,"<="&$B$3,取得!E8:E38,"確認済み"),NA()) -> 3 | D6: 半日取得件数 | E6: =IF($J$3=0,COUNTIFS(取得!B8:B38,"<="&$B$3,取得!E8:E38,"確認済み",取得!C8:C38,"<>全日"),NA()) -> 1 | G6: 照合差額（日） | H6: =B4-E4-H4-B5 -> 0
A8: 1人・日/半日の取得済み履歴。時間単位を含む運用には使えません。法定付与・5日義務の判定なし。
A9: 付与ID | B9: 付与日 | C9: 有効最終日 | D9: 付与日数 | E9: 消化日数 | F9: 有効残日数 | G9: 失効残日数 | H9: 状態
A10: =IF(COUNTA(付与!A8:D8)=0,"",付与!A8) -> GRT-0001 | B10: =IF(COUNTA(付与!A8:D8)=0,"",付与!B8) -> 45566 | C10: =IF(COUNTA(付与!A8:D8)=0,"",付与!C8) -> 46295 | D10: =IF(COUNTA(付与!A8:D8)=0,"",IF($J$3<>0,NA(),IF(付与!B8>$B$3,"",付与!D8))) -> 10 | E10: =IF(COUNTA(付与!A8:D8)=0,"",IF($J$3<>0,NA(),IF(付与!B8>$B$3,"",SUMIFS(消化配分!$J$8:$J$107,消化配分!$C$8:$C$107,A10)))) -> 1 | F10: =IF(COUNTA(付与!A8:D8)=0,"",IF($J$3<>0,NA(),IF(付与!B8>$B$3,"",IF($B$3<=付与!C8,D10-E10,0)))) -> 0 | G10: =IF(COUNTA(付与!A8:D8)=0,"",IF($J$3<>0,NA(),IF(付与!B8>$B$3,"",IF($B$3>付与!C8,D10-E10,0)))) -> 9 | H10: =IF(COUNTA(付与!A8:D8)=0,"",IF($J$3<>0,"入力を確認",IF(付与!B8>$B$3,"付与前",IF($B$3>付与!C8,"有効期間終了",IF(F10=0,"残数なし","有効"))))) -> 有効期間終了
A11: =IF(COUNTA(付与!A9:D9)=0,"",付与!A9) -> GRT-0002 | B11: =IF(COUNTA(付与!A9:D9)=0,"",付与!B9) -> 45578 | C11: =IF(COUNTA(付与!A9:D9)=0,"",付与!C9) -> 46307 | D11: =IF(COUNTA(付与!A9:D9)=0,"",IF($J$3<>0,NA(),IF(付与!B9>$B$3,"",付与!D9))) -> 10 | E11: =IF(COUNTA(付与!A9:D9)=0,"",IF($J$3<>0,NA(),IF(付与!B9>$B$3,"",SUMIFS(消化配分!$J$8:$J$107,消化配分!$C$8:$C$107,A11)))) -> 1 | F11: =IF(COUNTA(付与!A9:D9)=0,"",IF($J$3<>0,NA(),IF(付与!B9>$B$3,"",IF($B$3<=付与!C9,D11-E11,0)))) -> 9 | G11: =IF(COUNTA(付与!A9:D9)=0,"",IF($J$3<>0,NA(),IF(付与!B9>$B$3,"",IF($B$3>付与!C9,D11-E11,0)))) -> 0 | H11: =IF(COUNTA(付与!A9:D9)=0,"",IF($J$3<>0,"入力を確認",IF(付与!B9>$B$3,"付与前",IF($B$3>付与!C9,"有効期間終了",IF(F11=0,"残数なし","有効"))))) -> 有効
A12: =IF(COUNTA(付与!A10:D10)=0,"",付与!A10) -> GRT-0003 | B12: =IF(COUNTA(付与!A10:D10)=0,"",付与!B10) -> 46296 | C12: =IF(COUNTA(付与!A10:D10)=0,"",付与!C10) -> 47026 | D12: =IF(COUNTA(付与!A10:D10)=0,"",IF($J$3<>0,NA(),IF(付与!B10>$B$3,"",付与!D10))) -> 12 | E12: =IF(COUNTA(付与!A10:D10)=0,"",IF($J$3<>0,NA(),IF(付与!B10>$B$3,"",SUMIFS(消化配分!$J$8:$J$107,消化配分!$C$8:$C$107,A12)))) -> 0.5 | F12: =IF(COUNTA(付与!A10:D10)=0,"",IF($J$3<>0,NA(),IF(付与!B10>$B$3,"",IF($B$3<=付与!C10,D12-E12,0)))) -> 11.5 | G12: =IF(COUNTA(付与!A10:D10)=0,"",IF($J$3<>0,NA(),IF(付与!B10>$B$3,"",IF($B$3>付与!C10,D12-E12,0)))) -> 0 | H12: =IF(COUNTA(付与!A10:D10)=0,"",IF($J$3<>0,"入力を確認",IF(付与!B10>$B$3,"付与前",IF($B$3>付与!C10,"有効期間終了",IF(F12=0,"残数なし","有効"))))) -> 有効
A13: =IF(COUNTA(付与!A11:D11)=0,"",付与!A11) -> GRT-0004 | B13: =IF(COUNTA(付与!A11:D11)=0,"",付与!B11) -> 46310 | C13: =IF(COUNTA(付与!A11:D11)=0,"",付与!C11) -> 47040 | D13: =IF(COUNTA(付与!A11:D11)=0,"",IF($J$3<>0,NA(),IF(付与!B11>$B$3,"",付与!D11))) | E13: =IF(COUNTA(付与!A11:D11)=0,"",IF($J$3<>0,NA(),IF(付与!B11>$B$3,"",SUMIFS(消化配分!$J$8:$J$107,消化配分!$C$8:$C$107,A13)))) | F13: =IF(COUNTA(付与!A11:D11)=0,"",IF($J$3<>0,NA(),IF(付与!B11>$B$3,"",IF($B$3<=付与!C11,D13-E13,0)))) | G13: =IF(COUNTA(付与!A11:D11)=0,"",IF($J$3<>0,NA(),IF(付与!B11>$B$3,"",IF($B$3>付与!C11,D13-E13,0)))) | H13: =IF(COUNTA(付与!A11:D11)=0,"",IF($J$3<>0,"入力を確認",IF(付与!B11>$B$3,"付与前",IF($B$3>付与!C11,"有効期間終了",IF(F13=0,"残数なし","有効"))))) -> 付与前
A14: =IF(COUNTA(付与!A12:D12)=0,"",付与!A12) | B14: =IF(COUNTA(付与!A12:D12)=0,"",付与!B12) | C14: =IF(COUNTA(付与!A12:D12)=0,"",付与!C12) | D14: =IF(COUNTA(付与!A12:D12)=0,"",IF($J$3<>0,NA(),IF(付与!B12>$B$3,"",付与!D12))) | E14: =IF(COUNTA(付与!A12:D12)=0,"",IF($J$3<>0,NA(),IF(付与!B12>$B$3,"",SUMIFS(消化配分!$J$8:$J$107,消化配分!$C$8:$C$107,A14)))) | F14: =IF(COUNTA(付与!A12:D12)=0,"",IF($J$3<>0,NA(),IF(付与!B12>$B$3,"",IF($B$3<=付与!C12,D14-E14,0)))) | G14: =IF(COUNTA(付与!A12:D12)=0,"",IF($J$3<>0,NA(),IF(付与!B12>$B$3,"",IF($B$3>付与!C12,D14-E14,0)))) | H14: =IF(COUNTA(付与!A12:D12)=0,"",IF($J$3<>0,"入力を確認",IF(付与!B12>$B$3,"付与前",IF($B$3>付与!C12,"有効期間終了",IF(F14=0,"残数なし","有効")))))
A15: =IF(COUNTA(付与!A13:D13)=0,"",付与!A13) | B15: =IF(COUNTA(付与!A13:D13)=0,"",付与!B13) | C15: =IF(COUNTA(付与!A13:D13)=0,"",付与!C13) | D15: =IF(COUNTA(付与!A13:D13)=0,"",IF($J$3<>0,NA(),IF(付与!B13>$B$3,"",付与!D13))) | E15: =IF(COUNTA(付与!A13:D13)=0,"",IF($J$3<>0,NA(),IF(付与!B13>$B$3,"",SUMIFS(消化配分!$J$8:$J$107,消化配分!$C$8:$C$107,A15)))) | F15: =IF(COUNTA(付与!A13:D13)=0,"",IF($J$3<>0,NA(),IF(付与!B13>$B$3,"",IF($B$3<=付与!C13,D15-E15,0)))) | G15: =IF(COUNTA(付与!A13:D13)=0,"",IF($J$3<>0,NA(),IF(付与!B13>$B$3,"",IF($B$3>付与!C13,D15-E15,0)))) | H15: =IF(COUNTA(付与!A13:D13)=0,"",IF($J$3<>0,"入力を確認",IF(付与!B13>$B$3,"付与前",IF($B$3>付与!C13,"有効期間終了",IF(F15=0,"残数なし","有効")))))
A16: =IF(COUNTA(付与!A14:D14)=0,"",付与!A14) | B16: =IF(COUNTA(付与!A14:D14)=0,"",付与!B14) | C16: =IF(COUNTA(付与!A14:D14)=0,"",付与!C14) | D16: =IF(COUNTA(付与!A14:D14)=0,"",IF($J$3<>0,NA(),IF(付与!B14>$B$3,"",付与!D14))) | E16: =IF(COUNTA(付与!A14:D14)=0,"",IF($J$3<>0,NA(),IF(付与!B14>$B$3,"",SUMIFS(消化配分!$J$8:$J$107,消化配分!$C$8:$C$107,A16)))) | F16: =IF(COUNTA(付与!A14:D14)=0,"",IF($J$3<>0,NA(),IF(付与!B14>$B$3,"",IF($B$3<=付与!C14,D16-E16,0)))) | G16: =IF(COUNTA(付与!A14:D14)=0,"",IF($J$3<>0,NA(),IF(付与!B14>$B$3,"",IF($B$3>付与!C14,D16-E16,0)))) | H16: =IF(COUNTA(付与!A14:D14)=0,"",IF($J$3<>0,"入力を確認",IF(付与!B14>$B$3,"付与前",IF($B$3>付与!C14,"有効期間終了",IF(F16=0,"残数なし","有効")))))
A17: =IF(COUNTA(付与!A15:D15)=0,"",付与!A15) | B17: =IF(COUNTA(付与!A15:D15)=0,"",付与!B15) | C17: =IF(COUNTA(付与!A15:D15)=0,"",付与!C15) | D17: =IF(COUNTA(付与!A15:D15)=0,"",IF($J$3<>0,NA(),IF(付与!B15>$B$3,"",付与!D15))) | E17: =IF(COUNTA(付与!A15:D15)=0,"",IF($J$3<>0,NA(),IF(付与!B15>$B$3,"",SUMIFS(消化配分!$J$8:$J$107,消化配分!$C$8:$C$107,A17)))) | F17: =IF(COUNTA(付与!A15:D15)=0,"",IF($J$3<>0,NA(),IF(付与!B15>$B$3,"",IF($B$3<=付与!C15,D17-E17,0)))) | G17: =IF(COUNTA(付与!A15:D15)=0,"",IF($J$3<>0,NA(),IF(付与!B15>$B$3,"",IF($B$3>付与!C15,D17-E17,0)))) | H17: =IF(COUNTA(付与!A15:D15)=0,"",IF($J$3<>0,"入力を確認",IF(付与!B15>$B$3,"付与前",IF($B$3>付与!C15,"有効期間終了",IF(F17=0,"残数なし","有効")))))
A18: =IF(COUNTA(付与!A16:D16)=0,"",付与!A16) | B18: =IF(COUNTA(付与!A16:D16)=0,"",付与!B16) | C18: =IF(COUNTA(付与!A16:D16)=0,"",付与!C16) | D18: =IF(COUNTA(付与!A16:D16)=0,"",IF($J$3<>0,NA(),IF(付与!B16>$B$3,"",付与!D16))) | E18: =IF(COUNTA(付与!A16:D16)=0,"",IF($J$3<>0,NA(),IF(付与!B16>$B$3,"",SUMIFS(消化配分!$J$8:$J$107,消化配分!$C$8:$C$107,A18)))) | F18: =IF(COUNTA(付与!A16:D16)=0,"",IF($J$3<>0,NA(),IF(付与!B16>$B$3,"",IF($B$3<=付与!C16,D18-E18,0)))) | G18: =IF(COUNTA(付与!A16:D16)=0,"",IF($J$3<>0,NA(),IF(付与!B16>$B$3,"",IF($B$3>付与!C16,D18-E18,0)))) | H18: =IF(COUNTA(付与!A16:D16)=0,"",IF($J$3<>0,"入力を確認",IF(付与!B16>$B$3,"付与前",IF($B$3>付与!C16,"有効期間終了",IF(F18=0,"残数なし","有効")))))
A19: =IF(COUNTA(付与!A17:D17)=0,"",付与!A17) | B19: =IF(COUNTA(付与!A17:D17)=0,"",付与!B17) | C19: =IF(COUNTA(付与!A17:D17)=0,"",付与!C17) | D19: =IF(COUNTA(付与!A17:D17)=0,"",IF($J$3<>0,NA(),IF(付与!B17>$B$3,"",付与!D17))) | E19: =IF(COUNTA(付与!A17:D17)=0,"",IF($J$3<>0,NA(),IF(付与!B17>$B$3,"",SUMIFS(消化配分!$J$8:$J$107,消化配分!$C$8:$C$107,A19)))) | F19: =IF(COUNTA(付与!A17:D17)=0,"",IF($J$3<>0,NA(),IF(付与!B17>$B$3,"",IF($B$3<=付与!C17,D19-E19,0)))) | G19: =IF(COUNTA(付与!A17:D17)=0,"",IF($J$3<>0,NA(),IF(付与!B17>$B$3,"",IF($B$3>付与!C17,D19-E19,0)))) | H19: =IF(COUNTA(付与!A17:D17)=0,"",IF($J$3<>0,"入力を確認",IF(付与!B17>$B$3,"付与前",IF($B$3>付与!C17,"有効期間終了",IF(F19=0,"残数なし","有効")))))
A20: =IF(COUNTA(付与!A18:D18)=0,"",付与!A18) | B20: =IF(COUNTA(付与!A18:D18)=0,"",付与!B18) | C20: =IF(COUNTA(付与!A18:D18)=0,"",付与!C18) | D20: =IF(COUNTA(付与!A18:D18)=0,"",IF($J$3<>0,NA(),IF(付与!B18>$B$3,"",付与!D18))) | E20: =IF(COUNTA(付与!A18:D18)=0,"",IF($J$3<>0,NA(),IF(付与!B18>$B$3,"",SUMIFS(消化配分!$J$8:$J$107,消化配分!$C$8:$C$107,A20)))) | F20: =IF(COUNTA(付与!A18:D18)=0,"",IF($J$3<>0,NA(),IF(付与!B18>$B$3,"",IF($B$3<=付与!C18,D20-E20,0)))) | G20: =IF(COUNTA(付与!A18:D18)=0,"",IF($J$3<>0,NA(),IF(付与!B18>$B$3,"",IF($B$3>付与!C18,D20-E20,0)))) | H20: =IF(COUNTA(付与!A18:D18)=0,"",IF($J$3<>0,"入力を確認",IF(付与!B18>$B$3,"付与前",IF($B$3>付与!C18,"有効期間終了",IF(F20=0,"残数なし","有効")))))
A21: =IF(COUNTA(付与!A19:D19)=0,"",付与!A19) | B21: =IF(COUNTA(付与!A19:D19)=0,"",付与!B19) | C21: =IF(COUNTA(付与!A19:D19)=0,"",付与!C19) | D21: =IF(COUNTA(付与!A19:D19)=0,"",IF($J$3<>0,NA(),IF(付与!B19>$B$3,"",付与!D19))) | E21: =IF(COUNTA(付与!A19:D19)=0,"",IF($J$3<>0,NA(),IF(付与!B19>$B$3,"",SUMIFS(消化配分!$J$8:$J$107,消化配分!$C$8:$C$107,A21)))) | F21: =IF(COUNTA(付与!A19:D19)=0,"",IF($J$3<>0,NA(),IF(付与!B19>$B$3,"",IF($B$3<=付与!C19,D21-E21,0)))) | G21: =IF(COUNTA(付与!A19:D19)=0,"",IF($J$3<>0,NA(),IF(付与!B19>$B$3,"",IF($B$3>付与!C19,D21-E21,0)))) | H21: =IF(COUNTA(付与!A19:D19)=0,"",IF($J$3<>0,"入力を確認",IF(付与!B19>$B$3,"付与前",IF($B$3>付与!C19,"有効期間終了",IF(F21=0,"残数なし","有効")))))
... A29: =IF(COUNTA(付与!A27:D27)=0,"",付与!A27) | B29: =IF(COUNTA(付与!A27:D27)=0,"",付与!B27) | C29: =IF(COUNTA(付与!A27:D27)=0,"",付与!C27) | D29: =IF(COUNTA(付与!A27:D27)=0,"",IF($J$3<>0,NA(),IF(付与!B27>$B$3,"",付与!D27))) | E29: =IF(COUNTA(付与!A27:D27)=0,"",IF($J$3<>0,NA(),IF(付与!B27>$B$3,"",SUMIFS(消化配分!$J$8:$J$107,消化配分!$C$8:$C$107,A29)))) | F29: =IF(COUNTA(付与!A27:D27)=0,"",IF($J$3<>0,NA(),IF(付与!B27>$B$3,"",IF($B$3<=付与!C27,D29-E29,0)))) | G29: =IF(COUNTA(付与!A27:D27)=0,"",IF($J$3<>0,NA(),IF(付与!B27>$B$3,"",IF($B$3>付与!C27,D29-E29,0)))) | H29: =IF(COUNTA(付与!A27:D27)=0,"",IF($J$3<>0,"入力を確認",IF(付与!B27>$B$3,"付与前",IF($B$3>付与!C27,"有効期間終了",IF(F29=0,"残数なし","有効")))))

Sheet 付与
A2: 確認済みの付与履歴
A3: 付与日・有効最終日・日数は元記録から入力。自動付与・自動繰越はしません。最大20件。
A5: 有効最終日はその日を含む値。法定の基準日や時効を計算する機能ではありません。
A7: 付与ID | B7: 付与日 | C7: 有効最終日 | D7: 付与日数 | E7: 付与の確認 | F7: 入力不備 | G7: 全履歴の配分日数 | H7: 残数の前提
A8: GRT-0001 | B8: 45566 | C8: 46295 | D8: 10 | E8: =IF(COUNTA(A8:D8)=0,"",IF(NOT(AND(ISTEXT(A8),LEN(A8)=8,EXACT(LEFT(A8,4),"GRT-"),ISNUMBER(FIND(MID(A8,5,1)&"x","0x1x2x3x4x5x6x7x8x9x")),ISNUMBER(FIND(MID(A8,6,1)&"x","0x1x2x3x4x5x6x7x8x9x")),ISNUMBER(FIND(MID(A8,7,1)&"x","0x1x2x3x4x5x6x7x8x9x")),ISNUMBER(FIND(MID(A8,8,1)&"x","0x1x2x3x4x5x6x7x8x9x")))),"IDはGRT-と半角数字4桁",IF(COUNTIFS($A$8:$A$27,A8)>1,"付与IDが重複",IF(NOT(AND(ISNUMBER(B8),B8>=43831,B8<=73050,B8=INT(B8))),"付与日を確認",IF(NOT(AND(ISNUMBER(C8),C8>=43831,C8<=73780,C8=INT(C8))),"有効最終日を確認",IF(C8<B8,"有効期間の逆転",IF(NOT(AND(ISNUMBER(D8),D8>=0,D8<=100,D8*2=INT(D8*2))),"日数は0〜100・0.5日刻み","確認済み"))))))) -> 確認済み | F8: =IF(E8="","",IF(E8="確認済み",0,1)) -> 0 | G8: =IF(E8="","",IF(F8<>0,NA(),SUMIFS(消化配分!$D$8:$D$107,消化配分!$C$8:$C$107,A8))) -> 1 | H8: =IF(E8="","",IF(F8<>0,0,IF(AND(ISNUMBER(G8),G8=SUMIFS(消化配分!$D$8:$D$107,消化配分!$C$8:$C$107,A8),G8>=0,G8<=D8),0,1))) -> 0
A9: GRT-0002 | B9: 45578 | C9: 46307 | D9: 10 | E9: =IF(COUNTA(A9:D9)=0,"",IF(NOT(AND(ISTEXT(A9),LEN(A9)=8,EXACT(LEFT(A9,4),"GRT-"),ISNUMBER(FIND(MID(A9,5,1)&"x","0x1x2x3x4x5x6x7x8x9x")),ISNUMBER(FIND(MID(A9,6,1)&"x","0x1x2x3x4x5x6x7x8x9x")),ISNUMBER(FIND(MID(A9,7,1)&"x","0x1x2x3x4x5x6x7x8x9x")),ISNUMBER(FIND(MID(A9,8,1)&"x","0x1x2x3x4x5x6x7x8x9x")))),"IDはGRT-と半角数字4桁",IF(COUNTIFS($A$8:$A$27,A9)>1,"付与IDが重複",IF(NOT(AND(ISNUMBER(B9),B9>=43831,B9<=73050,B9=INT(B9))),"付与日を確認",IF(NOT(AND(ISNUMBER(C9),C9>=43831,C9<=73780,C9=INT(C9))),"有効最終日を確認",IF(C9<B9,"有効期間の逆転",IF(NOT(AND(ISNUMBER(D9),D9>=0,D9<=100,D9*2=INT(D9*2))),"日数は0〜100・0.5日刻み","確認済み"))))))) -> 確認済み | F9: =IF(E9="","",IF(E9="確認済み",0,1)) -> 0 | G9: =IF(E9="","",IF(F9<>0,NA(),SUMIFS(消化配分!$D$8:$D$107,消化配分!$C$8:$C$107,A9))) -> 1 | H9: =IF(E9="","",IF(F9<>0,0,IF(AND(ISNUMBER(G9),G9=SUMIFS(消化配分!$D$8:$D$107,消化配分!$C$8:$C$107,A9),G9>=0,G9<=D9),0,1))) -> 0
A10: GRT-0003 | B10: 46296 | C10: 47026 | D10: 12 | E10: =IF(COUNTA(A10:D10)=0,"",IF(NOT(AND(ISTEXT(A10),LEN(A10)=8,EXACT(LEFT(A10,4),"GRT-"),ISNUMBER(FIND(MID(A10,5,1)&"x","0x1x2x3x4x5x6x7x8x9x")),ISNUMBER(FIND(MID(A10,6,1)&"x","0x1x2x3x4x5x6x7x8x9x")),ISNUMBER(FIND(MID(A10,7,1)&"x","0x1x2x3x4x5x6x7x8x9x")),ISNUMBER(FIND(MID(A10,8,1)&"x","0x1x2x3x4x5x6x7x8x9x")))),"IDはGRT-と半角数字4桁",IF(COUNTIFS($A$8:$A$27,A10)>1,"付与IDが重複",IF(NOT(AND(ISNUMBER(B10),B10>=43831,B10<=73050,B10=INT(B10))),"付与日を確認",IF(NOT(AND(ISNUMBER(C10),C10>=43831,C10<=73780,C10=INT(C10))),"有効最終日を確認",IF(C10<B10,"有効期間の逆転",IF(NOT(AND(ISNUMBER(D10),D10>=0,D10<=100,D10*2=INT(D10*2))),"日数は0〜100・0.5日刻み","確認済み"))))))) -> 確認済み | F10: =IF(E10="","",IF(E10="確認済み",0,1)) -> 0 | G10: =IF(E10="","",IF(F10<>0,NA(),SUMIFS(消化配分!$D$8:$D$107,消化配分!$C$8:$C$107,A10))) -> 1 | H10: =IF(E10="","",IF(F10<>0,0,IF(AND(ISNUMBER(G10),G10=SUMIFS(消化配分!$D$8:$D$107,消化配分!$C$8:$C$107,A10),G10>=0,G10<=D10),0,1))) -> 0
A11: GRT-0004 | B11: 46310 | C11: 47040 | D11: 14 | E11: =IF(COUNTA(A11:D11)=0,"",IF(NOT(AND(ISTEXT(A11),LEN(A11)=8,EXACT(LEFT(A11,4),"GRT-"),ISNUMBER(FIND(MID(A11,5,1)&"x","0x1x2x3x4x5x6x7x8x9x")),ISNUMBER(FIND(MID(A11,6,1)&"x","0x1x2x3x4x5x6x7x8x9x")),ISNUMBER(FIND(MID(A11,7,1)&"x","0x1x2x3x4x5x6x7x8x9x")),ISNUMBER(FIND(MID(A11,8,1)&"x","0x1x2x3x4x5x6x7x8x9x")))),"IDはGRT-と半角数字4桁",IF(COUNTIFS($A$8:$A$27,A11)>1,"付与IDが重複",IF(NOT(AND(ISNUMBER(B11),B11>=43831,B11<=73050,B11=INT(B11))),"付与日を確認",IF(NOT(AND(ISNUMBER(C11),C11>=43831,C11<=73780,C11=INT(C11))),"有効最終日を確認",IF(C11<B11,"有効期間の逆転",IF(NOT(AND(ISNUMBER(D11),D11>=0,D11<=100,D11*2=INT(D11*2))),"日数は0〜100・0.5日刻み","確認済み"))))))) -> 確認済み | F11: =IF(E11="","",IF(E11="確認済み",0,1)) -> 0 | G11: =IF(E11="","",IF(F11<>0,NA(),SUMIFS(消化配分!$D$8:$D$107,消化配分!$C$8:$C$107,A11))) -> 0 | H11: =IF(E11="","",IF(F11<>0,0,IF(AND(ISNUMBER(G11),G11=SUMIFS(消化配分!$D$8:$D$107,消化配分!$C$8:$C$107,A11),G11>=0,G11<=D11),0,1))) -> 0
E12: =IF(COUNTA(A12:D12)=0,"",IF(NOT(AND(ISTEXT(A12),LEN(A12)=8,EXACT(LEFT(A12,4),"GRT-"),ISNUMBER(FIND(MID(A12,5,1)&"x","0x1x2x3x4x5x6x7x8x9x")),ISNUMBER(FIND(MID(A12,6,1)&"x","0x1x2x3x4x5x6x7x8x9x")),ISNUMBER(FIND(MID(A12,7,1)&"x","0x1x2x3x4x5x6x7x8x9x")),ISNUMBER(FIND(MID(A12,8,1)&"x","0x1x2x3x4x5x6x7x8x9x")))),"IDはGRT-と半角数字4桁",IF(COUNTIFS($A$8:$A$27,A12)>1,"付与IDが重複",IF(NOT(AND(ISNUMBER(B12),B12>=43831,B12<=73050,B12=INT(B12))),"付与日を確認",IF(NOT(AND(ISNUMBER(C12),C12>=43831,C12<=73780,C12=INT(C12))),"有効最終日を確認",IF(C12<B12,"有効期間の逆転",IF(NOT(AND(ISNUMBER(D12),D12>=0,D12<=100,D12*2=INT(D12*2))),"日数は0〜100・0.5日刻み","確認済み"))))))) | F12: =IF(E12="","",IF(E12="確認済み",0,1)) | G12: =IF(E12="","",IF(F12<>0,NA(),SUMIFS(消化配分!$D$8:$D$107,消化配分!$C$8:$C$107,A12))) | H12: =IF(E12="","",IF(F12<>0,0,IF(AND(ISNUMBER(G12),G12=SUMIFS(消化配分!$D$8:$D$107,消化配分!$C$8:$C$107,A12),G12>=0,G12<=D12),0,1)))
E13: =IF(COUNTA(A13:D13)=0,"",IF(NOT(AND(ISTEXT(A13),LEN(A13)=8,EXACT(LEFT(A13,4),"GRT-"),ISNUMBER(FIND(MID(A13,5,1)&"x","0x1x2x3x4x5x6x7x8x9x")),ISNUMBER(FIND(MID(A13,6,1)&"x","0x1x2x3x4x5x6x7x8x9x")),ISNUMBER(FIND(MID(A13,7,1)&"x","0x1x2x3x4x5x6x7x8x9x")),ISNUMBER(FIND(MID(A13,8,1)&"x","0x1x2x3x4x5x6x7x8x9x")))),"IDはGRT-と半角数字4桁",IF(COUNTIFS($A$8:$A$27,A13)>1,"付与IDが重複",IF(NOT(AND(ISNUMBER(B13),B13>=43831,B13<=73050,B13=INT(B13))),"付与日を確認",IF(NOT(AND(ISNUMBER(C13),C13>=43831,C13<=73780,C13=INT(C13))),"有効最終日を確認",IF(C13<B13,"有効期間の逆転",IF(NOT(AND(ISNUMBER(D13),D13>=0,D13<=100,D13*2=INT(D13*2))),"日数は0〜100・0.5日刻み","確認済み"))))))) | F13: =IF(E13="","",IF(E13="確認済み",0,1)) | G13: =IF(E13="","",IF(F13<>0,NA(),SUMIFS(消化配分!$D$8:$D$107,消化配分!$C$8:$C$107,A13))) | H13: =IF(E13="","",IF(F13<>0,0,IF(AND(ISNUMBER(G13),G13=SUMIFS(消化配分!$D$8:$D$107,消化配分!$C$8:$C$107,A13),G13>=0,G13<=D13),0,1)))
E14: =IF(COUNTA(A14:D14)=0,"",IF(NOT(AND(ISTEXT(A14),LEN(A14)=8,EXACT(LEFT(A14,4),"GRT-"),ISNUMBER(FIND(MID(A14,5,1)&"x","0x1x2x3x4x5x6x7x8x9x")),ISNUMBER(FIND(MID(A14,6,1)&"x","0x1x2x3x4x5x6x7x8x9x")),ISNUMBER(FIND(MID(A14,7,1)&"x","0x1x2x3x4x5x6x7x8x9x")),ISNUMBER(FIND(MID(A14,8,1)&"x","0x1x2x3x4x5x6x7x8x9x")))),"IDはGRT-と半角数字4桁",IF(COUNTIFS($A$8:$A$27,A14)>1,"付与IDが重複",IF(NOT(AND(ISNUMBER(B14),B14>=43831,B14<=73050,B14=INT(B14))),"付与日を確認",IF(NOT(AND(ISNUMBER(C14),C14>=43831,C14<=73780,C14=INT(C14))),"有効最終日を確認",IF(C14<B14,"有効期間の逆転",IF(NOT(AND(ISNUMBER(D14),D14>=0,D14<=100,D14*2=INT(D14*2))),"日数は0〜100・0.5日刻み","確認済み"))))))) | F14: =IF(E14="","",IF(E14="確認済み",0,1)) | G14: =IF(E14="","",IF(F14<>0,NA(),SUMIFS(消化配分!$D$8:$D$107,消化配分!$C$8:$C$107,A14))) | H14: =IF(E14="","",IF(F14<>0,0,IF(AND(ISNUMBER(G14),G14=SUMIFS(消化配分!$D$8:$D$107,消化配分!$C$8:$C$107,A14),G14>=0,G14<=D14),0,1)))
E15: =IF(COUNTA(A15:D15)=0,"",IF(NOT(AND(ISTEXT(A15),LEN(A15)=8,EXACT(LEFT(A15,4),"GRT-"),ISNUMBER(FIND(MID(A15,5,1)&"x","0x1x2x3x4x5x6x7x8x9x")),ISNUMBER(FIND(MID(A15,6,1)&"x","0x1x2x3x4x5x6x7x8x9x")),ISNUMBER(FIND(MID(A15,7,1)&"x","0x1x2x3x4x5x6x7x8x9x")),ISNUMBER(FIND(MID(A15,8,1)&"x","0x1x2x3x4x5x6x7x8x9x")))),"IDはGRT-と半角数字4桁",IF(COUNTIFS($A$8:$A$27,A15)>1,"付与IDが重複",IF(NOT(AND(ISNUMBER(B15),B15>=43831,B15<=73050,B15=INT(B15))),"付与日を確認",IF(NOT(AND(ISNUMBER(C15),C15>=43831,C15<=73780,C15=INT(C15))),"有効最終日を確認",IF(C15<B15,"有効期間の逆転",IF(NOT(AND(ISNUMBER(D15),D15>=0,D15<=100,D15*2=INT(D15*2))),"日数は0〜100・0.5日刻み","確認済み"))))))) | F15: =IF(E15="","",IF(E15="確認済み",0,1)) | G15: =IF(E15="","",IF(F15<>0,NA(),SUMIFS(消化配分!$D$8:$D$107,消化配分!$C$8:$C$107,A15))) | H15: =IF(E15="","",IF(F15<>0,0,IF(AND(ISNUMBER(G15),G15=SUMIFS(消化配分!$D$8:$D$107,消化配分!$C$8:$C$107,A15),G15>=0,G15<=D15),0,1)))
E16: =IF(COUNTA(A16:D16)=0,"",IF(NOT(AND(ISTEXT(A16),LEN(A16)=8,EXACT(LEFT(A16,4),"GRT-"),ISNUMBER(FIND(MID(A16,5,1)&"x","0x1x2x3x4x5x6x7x8x9x")),ISNUMBER(FIND(MID(A16,6,1)&"x","0x1x2x3x4x5x6x7x8x9x")),ISNUMBER(FIND(MID(A16,7,1)&"x","0x1x2x3x4x5x6x7x8x9x")),ISNUMBER(FIND(MID(A16,8,1)&"x","0x1x2x3x4x5x6x7x8x9x")))),"IDはGRT-と半角数字4桁",IF(COUNTIFS($A$8:$A$27,A16)>1,"付与IDが重複",IF(NOT(AND(ISNUMBER(B16),B16>=43831,B16<=73050,B16=INT(B16))),"付与日を確認",IF(NOT(AND(ISNUMBER(C16),C16>=43831,C16<=73780,C16=INT(C16))),"有効最終日を確認",IF(C16<B16,"有効期間の逆転",IF(NOT(AND(ISNUMBER(D16),D16>=0,D16<=100,D16*2=INT(D16*2))),"日数は0〜100・0.5日刻み","確認済み"))))))) | F16: =IF(E16="","",IF(E16="確認済み",0,1)) | G16: =IF(E16="","",IF(F16<>0,NA(),SUMIFS(消化配分!$D$8:$D$107,消化配分!$C$8:$C$107,A16))) | H16: =IF(E16="","",IF(F16<>0,0,IF(AND(ISNUMBER(G16),G16=SUMIFS(消化配分!$D$8:$D$107,消化配分!$C$8:$C$107,A16),G16>=0,G16<=D16),0,1)))
E17: =IF(COUNTA(A17:D17)=0,"",IF(NOT(AND(ISTEXT(A17),LEN(A17)=8,EXACT(LEFT(A17,4),"GRT-"),ISNUMBER(FIND(MID(A17,5,1)&"x","0x1x2x3x4x5x6x7x8x9x")),ISNUMBER(FIND(MID(A17,6,1)&"x","0x1x2x3x4x5x6x7x8x9x")),ISNUMBER(FIND(MID(A17,7,1)&"x","0x1x2x3x4x5x6x7x8x9x")),ISNUMBER(FIND(MID(A17,8,1)&"x","0x1x2x3x4x5x6x7x8x9x")))),"IDはGRT-と半角数字4桁",IF(COUNTIFS($A$8:$A$27,A17)>1,"付与IDが重複",IF(NOT(AND(ISNUMBER(B17),B17>=43831,B17<=73050,B17=INT(B17))),"付与日を確認",IF(NOT(AND(ISNUMBER(C17),C17>=43831,C17<=73780,C17=INT(C17))),"有効最終日を確認",IF(C17<B17,"有効期間の逆転",IF(NOT(AND(ISNUMBER(D17),D17>=0,D17<=100,D17*2=INT(D17*2))),"日数は0〜100・0.5日刻み","確認済み"))))))) | F17: =IF(E17="","",IF(E17="確認済み",0,1)) | G17: =IF(E17="","",IF(F17<>0,NA(),SUMIFS(消化配分!$D$8:$D$107,消化配分!$C$8:$C$107,A17))) | H17: =IF(E17="","",IF(F17<>0,0,IF(AND(ISNUMBER(G17),G17=SUMIFS(消化配分!$D$8:$D$107,消化配分!$C$8:$C$107,A17),G17>=0,G17<=D17),0,1)))
E18: =IF(COUNTA(A18:D18)=0,"",IF(NOT(AND(ISTEXT(A18),LEN(A18)=8,EXACT(LEFT(A18,4),"GRT-"),ISNUMBER(FIND(MID(A18,5,1)&"x","0x1x2x3x4x5x6x7x8x9x")),ISNUMBER(FIND(MID(A18,6,1)&"x","0x1x2x3x4x5x6x7x8x9x")),ISNUMBER(FIND(MID(A18,7,1)&"x","0x1x2x3x4x5x6x7x8x9x")),ISNUMBER(FIND(MID(A18,8,1)&"x","0x1x2x3x4x5x6x7x8x9x")))),"IDはGRT-と半角数字4桁",IF(COUNTIFS($A$8:$A$27,A18)>1,"付与IDが重複",IF(NOT(AND(ISNUMBER(B18),B18>=43831,B18<=73050,B18=INT(B18))),"付与日を確認",IF(NOT(AND(ISNUMBER(C18),C18>=43831,C18<=73780,C18=INT(C18))),"有効最終日を確認",IF(C18<B18,"有効期間の逆転",IF(NOT(AND(ISNUMBER(D18),D18>=0,D18<=100,D18*2=INT(D18*2))),"日数は0〜100・0.5日刻み","確認済み"))))))) | F18: =IF(E18="","",IF(E18="確認済み",0,1)) | G18: =IF(E18="","",IF(F18<>0,NA(),SUMIFS(消化配分!$D$8:$D$107,消化配分!$C$8:$C$107,A18))) | H18: =IF(E18="","",IF(F18<>0,0,IF(AND(ISNUMBER(G18),G18=SUMIFS(消化配分!$D$8:$D$107,消化配分!$C$8:$C$107,A18),G18>=0,G18<=D18),0,1)))
E19: =IF(COUNTA(A19:D19)=0,"",IF(NOT(AND(ISTEXT(A19),LEN(A19)=8,EXACT(LEFT(A19,4),"GRT-"),ISNUMBER(FIND(MID(A19,5,1)&"x","0x1x2x3x4x5x6x7x8x9x")),ISNUMBER(FIND(MID(A19,6,1)&"x","0x1x2x3x4x5x6x7x8x9x")),ISNUMBER(FIND(MID(A19,7,1)&"x","0x1x2x3x4x5x6x7x8x9x")),ISNUMBER(FIND(MID(A19,8,1)&"x","0x1x2x3x4x5x6x7x8x9x")))),"IDはGRT-と半角数字4桁",IF(COUNTIFS($A$8:$A$27,A19)>1,"付与IDが重複",IF(NOT(AND(ISNUMBER(B19),B19>=43831,B19<=73050,B19=INT(B19))),"付与日を確認",IF(NOT(AND(ISNUMBER(C19),C19>=43831,C19<=73780,C19=INT(C19))),"有効最終日を確認",IF(C19<B19,"有効期間の逆転",IF(NOT(AND(ISNUMBER(D19),D19>=0,D19<=100,D19*2=INT(D19*2))),"日数は0〜100・0.5日刻み","確認済み"))))))) | F19: =IF(E19="","",IF(E19="確認済み",0,1)) | G19: =IF(E19="","",IF(F19<>0,NA(),SUMIFS(消化配分!$D$8:$D$107,消化配分!$C$8:$C$107,A19))) | H19: =IF(E19="","",IF(F19<>0,0,IF(AND(ISNUMBER(G19),G19=SUMIFS(消化配分!$D$8:$D$107,消化配分!$C$8:$C$107,A19),G19>=0,G19<=D19),0,1)))
E20: =IF(COUNTA(A20:D20)=0,"",IF(NOT(AND(ISTEXT(A20),LEN(A20)=8,EXACT(LEFT(A20,4),"GRT-"),ISNUMBER(FIND(MID(A20,5,1)&"x","0x1x2x3x4x5x6x7x8x9x")),ISNUMBER(FIND(MID(A20,6,1)&"x","0x1x2x3x4x5x6x7x8x9x")),ISNUMBER(FIND(MID(A20,7,1)&"x","0x1x2x3x4x5x6x7x8x9x")),ISNUMBER(FIND(MID(A20,8,1)&"x","0x1x2x3x4x5x6x7x8x9x")))),"IDはGRT-と半角数字4桁",IF(COUNTIFS($A$8:$A$27,A20)>1,"付与IDが重複",IF(NOT(AND(ISNUMBER(B20),B20>=43831,B20<=73050,B20=INT(B20))),"付与日を確認",IF(NOT(AND(ISNUMBER(C20),C20>=43831,C20<=73780,C20=INT(C20))),"有効最終日を確認",IF(C20<B20,"有効期間の逆転",IF(NOT(AND(ISNUMBER(D20),D20>=0,D20<=100,D20*2=INT(D20*2))),"日数は0〜100・0.5日刻み","確認済み"))))))) | F20: =IF(E20="","",IF(E20="確認済み",0,1)) | G20: =IF(E20="","",IF(F20<>0,NA(),SUMIFS(消化配分!$D$8:$D$107,消化配分!$C$8:$C$107,A20))) | H20: =IF(E20="","",IF(F20<>0,0,IF(AND(ISNUMBER(G20),G20=SUMIFS(消化配分!$D$8:$D$107,消化配分!$C$8:$C$107,A20),G20>=0,G20<=D20),0,1)))
E21: =IF(COUNTA(A21:D21)=0,"",IF(NOT(AND(ISTEXT(A21),LEN(A21)=8,EXACT(LEFT(A21,4),"GRT-"),ISNUMBER(FIND(MID(A21,5,1)&"x","0x1x2x3x4x5x6x7x8x9x")),ISNUMBER(FIND(MID(A21,6,1)&"x","0x1x2x3x4x5x6x7x8x9x")),ISNUMBER(FIND(MID(A21,7,1)&"x","0x1x2x3x4x5x6x7x8x9x")),ISNUMBER(FIND(MID(A21,8,1)&"x","0x1x2x3x4x5x6x7x8x9x")))),"IDはGRT-と半角数字4桁",IF(COUNTIFS($A$8:$A$27,A21)>1,"付与IDが重複",IF(NOT(AND(ISNUMBER(B21),B21>=43831,B21<=73050,B21=INT(B21))),"付与日を確認",IF(NOT(AND(ISNUMBER(C21),C21>=43831,C21<=73780,C21=INT(C21))),"有効最終日を確認",IF(C21<B21,"有効期間の逆転",IF(NOT(AND(ISNUMBER(D21),D21>=0,D21<=100,D21*2=INT(D21*2))),"日数は0〜100・0.5日刻み","確認済み"))))))) | F21: =IF(E21="","",IF(E21="確認済み",0,1)) | G21: =IF(E21="","",IF(F21<>0,NA(),SUMIFS(消化配分!$D$8:$D$107,消化配分!$C$8:$C$107,A21))) | H21: =IF(E21="","",IF(F21<>0,0,IF(AND(ISNUMBER(G21),G21=SUMIFS(消化配分!$D$8:$D$107,消化配分!$C$8:$C$107,A21),G21>=0,G21<=D21),0,1)))
E22: =IF(COUNTA(A22:D22)=0,"",IF(NOT(AND(ISTEXT(A22),LEN(A22)=8,EXACT(LEFT(A22,4),"GRT-"),ISNUMBER(FIND(MID(A22,5,1)&"x","0x1x2x3x4x5x6x7x8x9x")),ISNUMBER(FIND(MID(A22,6,1)&"x","0x1x2x3x4x5x6x7x8x9x")),ISNUMBER(FIND(MID(A22,7,1)&"x","0x1x2x3x4x5x6x7x8x9x")),ISNUMBER(FIND(MID(A22,8,1)&"x","0x1x2x3x4x5x6x7x8x9x")))),"IDはGRT-と半角数字4桁",IF(COUNTIFS($A$8:$A$27,A22)>1,"付与IDが重複",IF(NOT(AND(ISNUMBER(B22),B22>=43831,B22<=73050,B22=INT(B22))),"付与日を確認",IF(NOT(AND(ISNUMBER(C22),C22>=43831,C22<=73780,C22=INT(C22))),"有効最終日を確認",IF(C22<B22,"有効期間の逆転",IF(NOT(AND(ISNUMBER(D22),D22>=0,D22<=100,D22*2=INT(D22*2))),"日数は0〜100・0.5日刻み","確認済み"))))))) | F22: =IF(E22="","",IF(E22="確認済み",0,1)) | G22: =IF(E22="","",IF(F22<>0,NA(),SUMIFS(消化配分!$D$8:$D$107,消化配分!$C$8:$C$107,A22))) | H22: =IF(E22="","",IF(F22<>0,0,IF(AND(ISNUMBER(G22),G22=SUMIFS(消化配分!$D$8:$D$107,消化配分!$C$8:$C$107,A22),G22>=0,G22<=D22),0,1)))
E23: =IF(COUNTA(A23:D23)=0,"",IF(NOT(AND(ISTEXT(A23),LEN(A23)=8,EXACT(LEFT(A23,4),"GRT-"),ISNUMBER(FIND(MID(A23,5,1)&"x","0x1x2x3x4x5x6x7x8x9x")),ISNUMBER(FIND(MID(A23,6,1)&"x","0x1x2x3x4x5x6x7x8x9x")),ISNUMBER(FIND(MID(A23,7,1)&"x","0x1x2x3x4x5x6x7x8x9x")),ISNUMBER(FIND(MID(A23,8,1)&"x","0x1x2x3x4x5x6x7x8x9x")))),"IDはGRT-と半角数字4桁",IF(COUNTIFS($A$8:$A$27,A23)>1,"付与IDが重複",IF(NOT(AND(ISNUMBER(B23),B23>=43831,B23<=73050,B23=INT(B23))),"付与日を確認",IF(NOT(AND(ISNUMBER(C23),C23>=43831,C23<=73780,C23=INT(C23))),"有効最終日を確認",IF(C23<B23,"有効期間の逆転",IF(NOT(AND(ISNUMBER(D23),D23>=0,D23<=100,D23*2=INT(D23*2))),"日数は0〜100・0.5日刻み","確認済み"))))))) | F23: =IF(E23="","",IF(E23="確認済み",0,1)) | G23: =IF(E23="","",IF(F23<>0,NA(),SUMIFS(消化配分!$D$8:$D$107,消化配分!$C$8:$C$107,A23))) | H23: =IF(E23="","",IF(F23<>0,0,IF(AND(ISNUMBER(G23),G23=SUMIFS(消化配分!$D$8:$D$107,消化配分!$C$8:$C$107,A23),G23>=0,G23<=D23),0,1)))
... E27: =IF(COUNTA(A27:D27)=0,"",IF(NOT(AND(ISTEXT(A27),LEN(A27)=8,EXACT(LEFT(A27,4),"GRT-"),ISNUMBER(FIND(MID(A27,5,1)&"x","0x1x2x3x4x5x6x7x8x9x")),ISNUMBER(FIND(MID(A27,6,1)&"x","0x1x2x3x4x5x6x7x8x9x")),ISNUMBER(FIND(MID(A27,7,1)&"x","0x1x2x3x4x5x6x7x8x9x")),ISNUMBER(FIND(MID(A27,8,1)&"x","0x1x2x3x4x5x6x7x8x9x")))),"IDはGRT-と半角数字4桁",IF(COUNTIFS($A$8:$A$27,A27)>1,"付与IDが重複",IF(NOT(AND(ISNUMBER(B27),B27>=43831,B27<=73050,B27=INT(B27))),"付与日を確認",IF(NOT(AND(ISNUMBER(C27),C27>=43831,C27<=73780,C27=INT(C27))),"有効最終日を確認",IF(C27<B27,"有効期間の逆転",IF(NOT(AND(ISNUMBER(D27),D27>=0,D27<=100,D27*2=INT(D27*2))),"日数は0〜100・0.5日刻み","確認済み"))))))) | F27: =IF(E27="","",IF(E27="確認済み",0,1)) | G27: =IF(E27="","",IF(F27<>0,NA(),SUMIFS(消化配分!$D$8:$D$107,消化配分!$C$8:$C$107,A27))) | H27: =IF(E27="","",IF(F27<>0,0,IF(AND(ISNUMBER(G27),G27=SUMIFS(消化配分!$D$8:$D$107,消化配分!$C$8:$C$107,A27),G27>=0,G27<=D27),0,1)))
A30: 架空教材。1人・20付与/31取得/配分100予約行。元記録から、付与と取得済みを入力。
A31: 日/半日のみ。時間単位取得を含む運用には使えません。1日=8時間などの換算なし。
A32: 半日は会社で確認した前半/後半の区分。全日の取得と、その消化配分は別です。
A33: 1日を複数の付与へ配分可能。同日全日+半日、同じ半日の重複は不可。
A34: 付与日数0〜100、0.5日刻みは教材の上限。法定付与日数を自動算出しません。
A35: 有効最終日を含む。付与前/期間外取得、全履歴の過消化、未配分/過配分で集計停止。
A36: 消化順・半日制度・所定休日・実際の取得は元資料と確認。法定5日取得義務や承認の判定なし。
A37: 印刷は有休残数のみ。初期A1:H13、20付与はA1:H29へ手動拡張。A4横・9行目繰返し。
A38: 版1 / CC0 1.0。https://creativecommons.org/publicdomain/zero/1.0/
A39: 一次情報確認2026-10-15。https://www.check-roudou.mhlw.go.jp/qa/roudousya/yukyu/q3.html

Sheet 取得
A2: 実際の取得履歴
A3: 1人分・最大31取得。全日/前半/後半を元記録どおり入力。予定・取消済みは混ぜません。
A5: 前半/後半は会社で確認した半日の区分。時間数へ換算しません。日数と消化配分を別々に照合。
A7: 取得ID | B7: 取得日 | C7: 取得区分 | D7: 取得日数 | E7: 取得の確認 | F7: 入力不備 | G7: 配分済日数 | H7: 配分の前提
A8: USE-0001 | B8: 46280 | C8: 全日 | D8: =IF(E8="","",IF(F8<>0,NA(),IF(C8="全日",1,0.5))) -> 1 | E8: =IF(COUNTA(A8:C8)=0,"",IF(NOT(AND(ISTEXT(A8),LEN(A8)=8,EXACT(LEFT(A8,4),"USE-"),ISNUMBER(FIND(MID(A8,5,1)&"x","0x1x2x3x4x5x6x7x8x9x")),ISNUMBER(FIND(MID(A8,6,1)&"x","0x1x2x3x4x5x6x7x8x9x")),ISNUMBER(FIND(MID(A8,7,1)&"x","0x1x2x3x4x5x6x7x8x9x")),ISNUMBER(FIND(MID(A8,8,1)&"x","0x1x2x3x4x5x6x7x8x9x")))),"IDはUSE-と半角数字4桁",IF(COUNTIFS($A$8:$A$38,A8)>1,"取得IDが重複",IF(NOT(AND(ISNUMBER(B8),B8>=43831,B8<=73050,B8=INT(B8))),"取得日を確認",IF(NOT(OR(C8="全日",C8="前半",C8="後半")),"区分は全日/前半/後半",IF(COUNTIFS($B$8:$B$38,B8,$C$8:$C$38,C8)>1,"同日・同区分の重複",IF(OR(AND(C8="全日",COUNTIFS($B$8:$B$38,B8)>1),AND(C8<>"全日",COUNTIFS($B$8:$B$38,B8,$C$8:$C$38,"全日")>0)),"全日と半日の重複","確認済み"))))))) -> 確認済み | F8: =IF(E8="","",IF(E8="確認済み",0,1)) -> 0 | G8: =IF(E8="","",IF(F8<>0,NA(),SUMIFS(消化配分!$D$8:$D$107,消化配分!$B$8:$B$107,A8))) -> 1 | H8: =IF(E8="","",IF(F8<>0,0,IF(AND(ISNUMBER(D8),D8=IF(C8="全日",1,0.5),ISNUMBER(G8),G8=SUMIFS(消化配分!$D$8:$D$107,消化配分!$B$8:$B$107,A8),G8=D8),0,1))) -> 0
A9: USE-0002 | B9: 46297 | C9: 前半 | D9: =IF(E9="","",IF(F9<>0,NA(),IF(C9="全日",1,0.5))) -> 0.5 | E9: =IF(COUNTA(A9:C9)=0,"",IF(NOT(AND(ISTEXT(A9),LEN(A9)=8,EXACT(LEFT(A9,4),"USE-"),ISNUMBER(FIND(MID(A9,5,1)&"x","0x1x2x3x4x5x6x7x8x9x")),ISNUMBER(FIND(MID(A9,6,1)&"x","0x1x2x3x4x5x6x7x8x9x")),ISNUMBER(FIND(MID(A9,7,1)&"x","0x1x2x3x4x5x6x7x8x9x")),ISNUMBER(FIND(MID(A9,8,1)&"x","0x1x2x3x4x5x6x7x8x9x")))),"IDはUSE-と半角数字4桁",IF(COUNTIFS($A$8:$A$38,A9)>1,"取得IDが重複",IF(NOT(AND(ISNUMBER(B9),B9>=43831,B9<=73050,B9=INT(B9))),"取得日を確認",IF(NOT(OR(C9="全日",C9="前半",C9="後半")),"区分は全日/前半/後半",IF(COUNTIFS($B$8:$B$38,B9,$C$8:$C$38,C9)>1,"同日・同区分の重複",IF(OR(AND(C9="全日",COUNTIFS($B$8:$B$38,B9)>1),AND(C9<>"全日",COUNTIFS($B$8:$B$38,B9,$C$8:$C$38,"全日")>0)),"全日と半日の重複","確認済み"))))))) -> 確認済み | F9: =IF(E9="","",IF(E9="確認済み",0,1)) -> 0 | G9: =IF(E9="","",IF(F9<>0,NA(),SUMIFS(消化配分!$D$8:$D$107,消化配分!$B$8:$B$107,A9))) -> 0.5 | H9: =IF(E9="","",IF(F9<>0,0,IF(AND(ISNUMBER(D9),D9=IF(C9="全日",1,0.5),ISNUMBER(G9),G9=SUMIFS(消化配分!$D$8:$D$107,消化配分!$B$8:$B$107,A9),G9=D9),0,1))) -> 0
A10: USE-0003 | B10: 46302 | C10: 全日 | D10: =IF(E10="","",IF(F10<>0,NA(),IF(C10="全日",1,0.5))) -> 1 | E10: =IF(COUNTA(A10:C10)=0,"",IF(NOT(AND(ISTEXT(A10),LEN(A10)=8,EXACT(LEFT(A10,4),"USE-"),ISNUMBER(FIND(MID(A10,5,1)&"x","0x1x2x3x4x5x6x7x8x9x")),ISNUMBER(FIND(MID(A10,6,1)&"x","0x1x2x3x4x5x6x7x8x9x")),ISNUMBER(FIND(MID(A10,7,1)&"x","0x1x2x3x4x5x6x7x8x9x")),ISNUMBER(FIND(MID(A10,8,1)&"x","0x1x2x3x4x5x6x7x8x9x")))),"IDはUSE-と半角数字4桁",IF(COUNTIFS($A$8:$A$38,A10)>1,"取得IDが重複",IF(NOT(AND(ISNUMBER(B10),B10>=43831,B10<=73050,B10=INT(B10))),"取得日を確認",IF(NOT(OR(C10="全日",C10="前半",C10="後半")),"区分は全日/前半/後半",IF(COUNTIFS($B$8:$B$38,B10,$C$8:$C$38,C10)>1,"同日・同区分の重複",IF(OR(AND(C10="全日",COUNTIFS($B$8:$B$38,B10)>1),AND(C10<>"全日",COUNTIFS($B$8:$B$38,B10,$C$8:$C$38,"全日")>0)),"全日と半日の重複","確認済み"))))))) -> 確認済み | F10: =IF(E10="","",IF(E10="確認済み",0,1)) -> 0 | G10: =IF(E10="","",IF(F10<>0,NA(),SUMIFS(消化配分!$D$8:$D$107,消化配分!$B$8:$B$107,A10))) -> 1 | H10: =IF(E10="","",IF(F10<>0,0,IF(AND(ISNUMBER(D10),D10=IF(C10="全日",1,0.5),ISNUMBER(G10),G10=SUMIFS(消化配分!$D$8:$D$107,消化配分!$B$8:$B$107,A10),G10=D10),0,1))) -> 0
A11: USE-0004 | B11: 46309 | C11: 後半 | D11: =IF(E11="","",IF(F11<>0,NA(),IF(C11="全日",1,0.5))) -> 0.5 | E11: =IF(COUNTA(A11:C11)=0,"",IF(NOT(AND(ISTEXT(A11),LEN(A11)=8,EXACT(LEFT(A11,4),"USE-"),ISNUMBER(FIND(MID(A11,5,1)&"x","0x1x2x3x4x5x6x7x8x9x")),ISNUMBER(FIND(MID(A11,6,1)&"x","0x1x2x3x4x5x6x7x8x9x")),ISNUMBER(FIND(MID(A11,7,1)&"x","0x1x2x3x4x5x6x7x8x9x")),ISNUMBER(FIND(MID(A11,8,1)&"x","0x1x2x3x4x5x6x7x8x9x")))),"IDはUSE-と半角数字4桁",IF(COUNTIFS($A$8:$A$38,A11)>1,"取得IDが重複",IF(NOT(AND(ISNUMBER(B11),B11>=43831,B11<=73050,B11=INT(B11))),"取得日を確認",IF(NOT(OR(C11="全日",C11="前半",C11="後半")),"区分は全日/前半/後半",IF(COUNTIFS($B$8:$B$38,B11,$C$8:$C$38,C11)>1,"同日・同区分の重複",IF(OR(AND(C11="全日",COUNTIFS($B$8:$B$38,B11)>1),AND(C11<>"全日",COUNTIFS($B$8:$B$38,B11,$C$8:$C$38,"全日")>0)),"全日と半日の重複","確認済み"))))))) -> 確認済み | F11: =IF(E11="","",IF(E11="確認済み",0,1)) -> 0 | G11: =IF(E11="","",IF(F11<>0,NA(),SUMIFS(消化配分!$D$8:$D$107,消化配分!$B$8:$B$107,A11))) -> 0.5 | H11: =IF(E11="","",IF(F11<>0,0,IF(AND(ISNUMBER(D11),D11=IF(C11="全日",1,0.5),ISNUMBER(G11),G11=SUMIFS(消化配分!$D$8:$D$107,消化配分!$B$8:$B$107,A11),G11=D11),0,1))) -> 0
D12: =IF(E12="","",IF(F12<>0,NA(),IF(C12="全日",1,0.5))) | E12: =IF(COUNTA(A12:C12)=0,"",IF(NOT(AND(ISTEXT(A12),LEN(A12)=8,EXACT(LEFT(A12,4),"USE-"),ISNUMBER(FIND(MID(A12,5,1)&"x","0x1x2x3x4x5x6x7x8x9x")),ISNUMBER(FIND(MID(A12,6,1)&"x","0x1x2x3x4x5x6x7x8x9x")),ISNUMBER(FIND(MID(A12,7,1)&"x","0x1x2x3x4x5x6x7x8x9x")),ISNUMBER(FIND(MID(A12,8,1)&"x","0x1x2x3x4x5x6x7x8x9x")))),"IDはUSE-と半角数字4桁",IF(COUNTIFS($A$8:$A$38,A12)>1,"取得IDが重複",IF(NOT(AND(ISNUMBER(B12),B12>=43831,B12<=73050,B12=INT(B12))),"取得日を確認",IF(NOT(OR(C12="全日",C12="前半",C12="後半")),"区分は全日/前半/後半",IF(COUNTIFS($B$8:$B$38,B12,$C$8:$C$38,C12)>1,"同日・同区分の重複",IF(OR(AND(C12="全日",COUNTIFS($B$8:$B$38,B12)>1),AND(C12<>"全日",COUNTIFS($B$8:$B$38,B12,$C$8:$C$38,"全日")>0)),"全日と半日の重複","確認済み"))))))) | F12: =IF(E12="","",IF(E12="確認済み",0,1)) | G12: =IF(E12="","",IF(F12<>0,NA(),SUMIFS(消化配分!$D$8:$D$107,消化配分!$B$8:$B$107,A12))) | H12: =IF(E12="","",IF(F12<>0,0,IF(AND(ISNUMBER(D12),D12=IF(C12="全日",1,0.5),ISNUMBER(G12),G12=SUMIFS(消化配分!$D$8:$D$107,消化配分!$B$8:$B$107,A12),G12=D12),0,1)))
D13: =IF(E13="","",IF(F13<>0,NA(),IF(C13="全日",1,0.5))) | E13: =IF(COUNTA(A13:C13)=0,"",IF(NOT(AND(ISTEXT(A13),LEN(A13)=8,EXACT(LEFT(A13,4),"USE-"),ISNUMBER(FIND(MID(A13,5,1)&"x","0x1x2x3x4x5x6x7x8x9x")),ISNUMBER(FIND(MID(A13,6,1)&"x","0x1x2x3x4x5x6x7x8x9x")),ISNUMBER(FIND(MID(A13,7,1)&"x","0x1x2x3x4x5x6x7x8x9x")),ISNUMBER(FIND(MID(A13,8,1)&"x","0x1x2x3x4x5x6x7x8x9x")))),"IDはUSE-と半角数字4桁",IF(COUNTIFS($A$8:$A$38,A13)>1,"取得IDが重複",IF(NOT(AND(ISNUMBER(B13),B13>=43831,B13<=73050,B13=INT(B13))),"取得日を確認",IF(NOT(OR(C13="全日",C13="前半",C13="後半")),"区分は全日/前半/後半",IF(COUNTIFS($B$8:$B$38,B13,$C$8:$C$38,C13)>1,"同日・同区分の重複",IF(OR(AND(C13="全日",COUNTIFS($B$8:$B$38,B13)>1),AND(C13<>"全日",COUNTIFS($B$8:$B$38,B13,$C$8:$C$38,"全日")>0)),"全日と半日の重複","確認済み"))))))) | F13: =IF(E13="","",IF(E13="確認済み",0,1)) | G13: =IF(E13="","",IF(F13<>0,NA(),SUMIFS(消化配分!$D$8:$D$107,消化配分!$B$8:$B$107,A13))) | H13: =IF(E13="","",IF(F13<>0,0,IF(AND(ISNUMBER(D13),D13=IF(C13="全日",1,0.5),ISNUMBER(G13),G13=SUMIFS(消化配分!$D$8:$D$107,消化配分!$B$8:$B$107,A13),G13=D13),0,1)))
D14: =IF(E14="","",IF(F14<>0,NA(),IF(C14="全日",1,0.5))) | E14: =IF(COUNTA(A14:C14)=0,"",IF(NOT(AND(ISTEXT(A14),LEN(A14)=8,EXACT(LEFT(A14,4),"USE-"),ISNUMBER(FIND(MID(A14,5,1)&"x","0x1x2x3x4x5x6x7x8x9x")),ISNUMBER(FIND(MID(A14,6,1)&"x","0x1x2x3x4x5x6x7x8x9x")),ISNUMBER(FIND(MID(A14,7,1)&"x","0x1x2x3x4x5x6x7x8x9x")),ISNUMBER(FIND(MID(A14,8,1)&"x","0x1x2x3x4x5x6x7x8x9x")))),"IDはUSE-と半角数字4桁",IF(COUNTIFS($A$8:$A$38,A14)>1,"取得IDが重複",IF(NOT(AND(ISNUMBER(B14),B14>=43831,B14<=73050,B14=INT(B14))),"取得日を確認",IF(NOT(OR(C14="全日",C14="前半",C14="後半")),"区分は全日/前半/後半",IF(COUNTIFS($B$8:$B$38,B14,$C$8:$C$38,C14)>1,"同日・同区分の重複",IF(OR(AND(C14="全日",COUNTIFS($B$8:$B$38,B14)>1),AND(C14<>"全日",COUNTIFS($B$8:$B$38,B14,$C$8:$C$38,"全日")>0)),"全日と半日の重複","確認済み"))))))) | F14: =IF(E14="","",IF(E14="確認済み",0,1)) | G14: =IF(E14="","",IF(F14<>0,NA(),SUMIFS(消化配分!$D$8:$D$107,消化配分!$B$8:$B$107,A14))) | H14: =IF(E14="","",IF(F14<>0,0,IF(AND(ISNUMBER(D14),D14=IF(C14="全日",1,0.5),ISNUMBER(G14),G14=SUMIFS(消化配分!$D$8:$D$107,消化配分!$B$8:$B$107,A14),G14=D14),0,1)))
D15: =IF(E15="","",IF(F15<>0,NA(),IF(C15="全日",1,0.5))) | E15: =IF(COUNTA(A15:C15)=0,"",IF(NOT(AND(ISTEXT(A15),LEN(A15)=8,EXACT(LEFT(A15,4),"USE-"),ISNUMBER(FIND(MID(A15,5,1)&"x","0x1x2x3x4x5x6x7x8x9x")),ISNUMBER(FIND(MID(A15,6,1)&"x","0x1x2x3x4x5x6x7x8x9x")),ISNUMBER(FIND(MID(A15,7,1)&"x","0x1x2x3x4x5x6x7x8x9x")),ISNUMBER(FIND(MID(A15,8,1)&"x","0x1x2x3x4x5x6x7x8x9x")))),"IDはUSE-と半角数字4桁",IF(COUNTIFS($A$8:$A$38,A15)>1,"取得IDが重複",IF(NOT(AND(ISNUMBER(B15),B15>=43831,B15<=73050,B15=INT(B15))),"取得日を確認",IF(NOT(OR(C15="全日",C15="前半",C15="後半")),"区分は全日/前半/後半",IF(COUNTIFS($B$8:$B$38,B15,$C$8:$C$38,C15)>1,"同日・同区分の重複",IF(OR(AND(C15="全日",COUNTIFS($B$8:$B$38,B15)>1),AND(C15<>"全日",COUNTIFS($B$8:$B$38,B15,$C$8:$C$38,"全日")>0)),"全日と半日の重複","確認済み"))))))) | F15: =IF(E15="","",IF(E15="確認済み",0,1)) | G15: =IF(E15="","",IF(F15<>0,NA(),SUMIFS(消化配分!$D$8:$D$107,消化配分!$B$8:$B$107,A15))) | H15: =IF(E15="","",IF(F15<>0,0,IF(AND(ISNUMBER(D15),D15=IF(C15="全日",1,0.5),ISNUMBER(G15),G15=SUMIFS(消化配分!$D$8:$D$107,消化配分!$B$8:$B$107,A15),G15=D15),0,1)))
D16: =IF(E16="","",IF(F16<>0,NA(),IF(C16="全日",1,0.5))) | E16: =IF(COUNTA(A16:C16)=0,"",IF(NOT(AND(ISTEXT(A16),LEN(A16)=8,EXACT(LEFT(A16,4),"USE-"),ISNUMBER(FIND(MID(A16,5,1)&"x","0x1x2x3x4x5x6x7x8x9x")),ISNUMBER(FIND(MID(A16,6,1)&"x","0x1x2x3x4x5x6x7x8x9x")),ISNUMBER(FIND(MID(A16,7,1)&"x","0x1x2x3x4x5x6x7x8x9x")),ISNUMBER(FIND(MID(A16,8,1)&"x","0x1x2x3x4x5x6x7x8x9x")))),"IDはUSE-と半角数字4桁",IF(COUNTIFS($A$8:$A$38,A16)>1,"取得IDが重複",IF(NOT(AND(ISNUMBER(B16),B16>=43831,B16<=73050,B16=INT(B16))),"取得日を確認",IF(NOT(OR(C16="全日",C16="前半",C16="後半")),"区分は全日/前半/後半",IF(COUNTIFS($B$8:$B$38,B16,$C$8:$C$38,C16)>1,"同日・同区分の重複",IF(OR(AND(C16="全日",COUNTIFS($B$8:$B$38,B16)>1),AND(C16<>"全日",COUNTIFS($B$8:$B$38,B16,$C$8:$C$38,"全日")>0)),"全日と半日の重複","確認済み"))))))) | F16: =IF(E16="","",IF(E16="確認済み",0,1)) | G16: =IF(E16="","",IF(F16<>0,NA(),SUMIFS(消化配分!$D$8:$D$107,消化配分!$B$8:$B$107,A16))) | H16: =IF(E16="","",IF(F16<>0,0,IF(AND(ISNUMBER(D16),D16=IF(C16="全日",1,0.5),ISNUMBER(G16),G16=SUMIFS(消化配分!$D$8:$D$107,消化配分!$B$8:$B$107,A16),G16=D16),0,1)))
D17: =IF(E17="","",IF(F17<>0,NA(),IF(C17="全日",1,0.5))) | E17: =IF(COUNTA(A17:C17)=0,"",IF(NOT(AND(ISTEXT(A17),LEN(A17)=8,EXACT(LEFT(A17,4),"USE-"),ISNUMBER(FIND(MID(A17,5,1)&"x","0x1x2x3x4x5x6x7x8x9x")),ISNUMBER(FIND(MID(A17,6,1)&"x","0x1x2x3x4x5x6x7x8x9x")),ISNUMBER(FIND(MID(A17,7,1)&"x","0x1x2x3x4x5x6x7x8x9x")),ISNUMBER(FIND(MID(A17,8,1)&"x","0x1x2x3x4x5x6x7x8x9x")))),"IDはUSE-と半角数字4桁",IF(COUNTIFS($A$8:$A$38,A17)>1,"取得IDが重複",IF(NOT(AND(ISNUMBER(B17),B17>=43831,B17<=73050,B17=INT(B17))),"取得日を確認",IF(NOT(OR(C17="全日",C17="前半",C17="後半")),"区分は全日/前半/後半",IF(COUNTIFS($B$8:$B$38,B17,$C$8:$C$38,C17)>1,"同日・同区分の重複",IF(OR(AND(C17="全日",COUNTIFS($B$8:$B$38,B17)>1),AND(C17<>"全日",COUNTIFS($B$8:$B$38,B17,$C$8:$C$38,"全日")>0)),"全日と半日の重複","確認済み"))))))) | F17: =IF(E17="","",IF(E17="確認済み",0,1)) | G17: =IF(E17="","",IF(F17<>0,NA(),SUMIFS(消化配分!$D$8:$D$107,消化配分!$B$8:$B$107,A17))) | H17: =IF(E17="","",IF(F17<>0,0,IF(AND(ISNUMBER(D17),D17=IF(C17="全日",1,0.5),ISNUMBER(G17),G17=SUMIFS(消化配分!$D$8:$D$107,消化配分!$B$8:$B$107,A17),G17=D17),0,1)))
D18: =IF(E18="","",IF(F18<>0,NA(),IF(C18="全日",1,0.5))) | E18: =IF(COUNTA(A18:C18)=0,"",IF(NOT(AND(ISTEXT(A18),LEN(A18)=8,EXACT(LEFT(A18,4),"USE-"),ISNUMBER(FIND(MID(A18,5,1)&"x","0x1x2x3x4x5x6x7x8x9x")),ISNUMBER(FIND(MID(A18,6,1)&"x","0x1x2x3x4x5x6x7x8x9x")),ISNUMBER(FIND(MID(A18,7,1)&"x","0x1x2x3x4x5x6x7x8x9x")),ISNUMBER(FIND(MID(A18,8,1)&"x","0x1x2x3x4x5x6x7x8x9x")))),"IDはUSE-と半角数字4桁",IF(COUNTIFS($A$8:$A$38,A18)>1,"取得IDが重複",IF(NOT(AND(ISNUMBER(B18),B18>=43831,B18<=73050,B18=INT(B18))),"取得日を確認",IF(NOT(OR(C18="全日",C18="前半",C18="後半")),"区分は全日/前半/後半",IF(COUNTIFS($B$8:$B$38,B18,$C$8:$C$38,C18)>1,"同日・同区分の重複",IF(OR(AND(C18="全日",COUNTIFS($B$8:$B$38,B18)>1),AND(C18<>"全日",COUNTIFS($B$8:$B$38,B18,$C$8:$C$38,"全日")>0)),"全日と半日の重複","確認済み"))))))) | F18: =IF(E18="","",IF(E18="確認済み",0,1)) | G18: =IF(E18="","",IF(F18<>0,NA(),SUMIFS(消化配分!$D$8:$D$107,消化配分!$B$8:$B$107,A18))) | H18: =IF(E18="","",IF(F18<>0,0,IF(AND(ISNUMBER(D18),D18=IF(C18="全日",1,0.5),ISNUMBER(G18),G18=SUMIFS(消化配分!$D$8:$D$107,消化配分!$B$8:$B$107,A18),G18=D18),0,1)))
D19: =IF(E19="","",IF(F19<>0,NA(),IF(C19="全日",1,0.5))) | E19: =IF(COUNTA(A19:C19)=0,"",IF(NOT(AND(ISTEXT(A19),LEN(A19)=8,EXACT(LEFT(A19,4),"USE-"),ISNUMBER(FIND(MID(A19,5,1)&"x","0x1x2x3x4x5x6x7x8x9x")),ISNUMBER(FIND(MID(A19,6,1)&"x","0x1x2x3x4x5x6x7x8x9x")),ISNUMBER(FIND(MID(A19,7,1)&"x","0x1x2x3x4x5x6x7x8x9x")),ISNUMBER(FIND(MID(A19,8,1)&"x","0x1x2x3x4x5x6x7x8x9x")))),"IDはUSE-と半角数字4桁",IF(COUNTIFS($A$8:$A$38,A19)>1,"取得IDが重複",IF(NOT(AND(ISNUMBER(B19),B19>=43831,B19<=73050,B19=INT(B19))),"取得日を確認",IF(NOT(OR(C19="全日",C19="前半",C19="後半")),"区分は全日/前半/後半",IF(COUNTIFS($B$8:$B$38,B19,$C$8:$C$38,C19)>1,"同日・同区分の重複",IF(OR(AND(C19="全日",COUNTIFS($B$8:$B$38,B19)>1),AND(C19<>"全日",COUNTIFS($B$8:$B$38,B19,$C$8:$C$38,"全日")>0)),"全日と半日の重複","確認済み"))))))) | F19: =IF(E19="","",IF(E19="確認済み",0,1)) | G19: =IF(E19="","",IF(F19<>0,NA(),SUMIFS(消化配分!$D$8:$D$107,消化配分!$B$8:$B$107,A19))) | H19: =IF(E19="","",IF(F19<>0,0,IF(AND(ISNUMBER(D19),D19=IF(C19="全日",1,0.5),ISNUMBER(G19),G19=SUMIFS(消化配分!$D$8:$D$107,消化配分!$B$8:$B$107,A19),G19=D19),0,1)))
D20: =IF(E20="","",IF(F20<>0,NA(),IF(C20="全日",1,0.5))) | E20: =IF(COUNTA(A20:C20)=0,"",IF(NOT(AND(ISTEXT(A20),LEN(A20)=8,EXACT(LEFT(A20,4),"USE-"),ISNUMBER(FIND(MID(A20,5,1)&"x","0x1x2x3x4x5x6x7x8x9x")),ISNUMBER(FIND(MID(A20,6,1)&"x","0x1x2x3x4x5x6x7x8x9x")),ISNUMBER(FIND(MID(A20,7,1)&"x","0x1x2x3x4x5x6x7x8x9x")),ISNUMBER(FIND(MID(A20,8,1)&"x","0x1x2x3x4x5x6x7x8x9x")))),"IDはUSE-と半角数字4桁",IF(COUNTIFS($A$8:$A$38,A20)>1,"取得IDが重複",IF(NOT(AND(ISNUMBER(B20),B20>=43831,B20<=73050,B20=INT(B20))),"取得日を確認",IF(NOT(OR(C20="全日",C20="前半",C20="後半")),"区分は全日/前半/後半",IF(COUNTIFS($B$8:$B$38,B20,$C$8:$C$38,C20)>1,"同日・同区分の重複",IF(OR(AND(C20="全日",COUNTIFS($B$8:$B$38,B20)>1),AND(C20<>"全日",COUNTIFS($B$8:$B$38,B20,$C$8:$C$38,"全日")>0)),"全日と半日の重複","確認済み"))))))) | F20: =IF(E20="","",IF(E20="確認済み",0,1)) | G20: =IF(E20="","",IF(F20<>0,NA(),SUMIFS(消化配分!$D$8:$D$107,消化配分!$B$8:$B$107,A20))) | H20: =IF(E20="","",IF(F20<>0,0,IF(AND(ISNUMBER(D20),D20=IF(C20="全日",1,0.5),ISNUMBER(G20),G20=SUMIFS(消化配分!$D$8:$D$107,消化配分!$B$8:$B$107,A20),G20=D20),0,1)))
D21: =IF(E21="","",IF(F21<>0,NA(),IF(C21="全日",1,0.5))) | E21: =IF(COUNTA(A21:C21)=0,"",IF(NOT(AND(ISTEXT(A21),LEN(A21)=8,EXACT(LEFT(A21,4),"USE-"),ISNUMBER(FIND(MID(A21,5,1)&"x","0x1x2x3x4x5x6x7x8x9x")),ISNUMBER(FIND(MID(A21,6,1)&"x","0x1x2x3x4x5x6x7x8x9x")),ISNUMBER(FIND(MID(A21,7,1)&"x","0x1x2x3x4x5x6x7x8x9x")),ISNUMBER(FIND(MID(A21,8,1)&"x","0x1x2x3x4x5x6x7x8x9x")))),"IDはUSE-と半角数字4桁",IF(COUNTIFS($A$8:$A$38,A21)>1,"取得IDが重複",IF(NOT(AND(ISNUMBER(B21),B21>=43831,B21<=73050,B21=INT(B21))),"取得日を確認",IF(NOT(OR(C21="全日",C21="前半",C21="後半")),"区分は全日/前半/後半",IF(COUNTIFS($B$8:$B$38,B21,$C$8:$C$38,C21)>1,"同日・同区分の重複",IF(OR(AND(C21="全日",COUNTIFS($B$8:$B$38,B21)>1),AND(C21<>"全日",COUNTIFS($B$8:$B$38,B21,$C$8:$C$38,"全日")>0)),"全日と半日の重複","確認済み"))))))) | F21: =IF(E21="","",IF(E21="確認済み",0,1)) | G21: =IF(E21="","",IF(F21<>0,NA(),SUMIFS(消化配分!$D$8:$D$107,消化配分!$B$8:$B$107,A21))) | H21: =IF(E21="","",IF(F21<>0,0,IF(AND(ISNUMBER(D21),D21=IF(C21="全日",1,0.5),ISNUMBER(G21),G21=SUMIFS(消化配分!$D$8:$D$107,消化配分!$B$8:$B$107,A21),G21=D21),0,1)))
D22: =IF(E22="","",IF(F22<>0,NA(),IF(C22="全日",1,0.5))) | E22: =IF(COUNTA(A22:C22)=0,"",IF(NOT(AND(ISTEXT(A22),LEN(A22)=8,EXACT(LEFT(A22,4),"USE-"),ISNUMBER(FIND(MID(A22,5,1)&"x","0x1x2x3x4x5x6x7x8x9x")),ISNUMBER(FIND(MID(A22,6,1)&"x","0x1x2x3x4x5x6x7x8x9x")),ISNUMBER(FIND(MID(A22,7,1)&"x","0x1x2x3x4x5x6x7x8x9x")),ISNUMBER(FIND(MID(A22,8,1)&"x","0x1x2x3x4x5x6x7x8x9x")))),"IDはUSE-と半角数字4桁",IF(COUNTIFS($A$8:$A$38,A22)>1,"取得IDが重複",IF(NOT(AND(ISNUMBER(B22),B22>=43831,B22<=73050,B22=INT(B22))),"取得日を確認",IF(NOT(OR(C22="全日",C22="前半",C22="後半")),"区分は全日/前半/後半",IF(COUNTIFS($B$8:$B$38,B22,$C$8:$C$38,C22)>1,"同日・同区分の重複",IF(OR(AND(C22="全日",COUNTIFS($B$8:$B$38,B22)>1),AND(C22<>"全日",COUNTIFS($B$8:$B$38,B22,$C$8:$C$38,"全日")>0)),"全日と半日の重複","確認済み"))))))) | F22: =IF(E22="","",IF(E22="確認済み",0,1)) | G22: =IF(E22="","",IF(F22<>0,NA(),SUMIFS(消化配分!$D$8:$D$107,消化配分!$B$8:$B$107,A22))) | H22: =IF(E22="","",IF(F22<>0,0,IF(AND(ISNUMBER(D22),D22=IF(C22="全日",1,0.5),ISNUMBER(G22),G22=SUMIFS(消化配分!$D$8:$D$107,消化配分!$B$8:$B$107,A22),G22=D22),0,1)))
D23: =IF(E23="","",IF(F23<>0,NA(),IF(C23="全日",1,0.5))) | E23: =IF(COUNTA(A23:C23)=0,"",IF(NOT(AND(ISTEXT(A23),LEN(A23)=8,EXACT(LEFT(A23,4),"USE-"),ISNUMBER(FIND(MID(A23,5,1)&"x","0x1x2x3x4x5x6x7x8x9x")),ISNUMBER(FIND(MID(A23,6,1)&"x","0x1x2x3x4x5x6x7x8x9x")),ISNUMBER(FIND(MID(A23,7,1)&"x","0x1x2x3x4x5x6x7x8x9x")),ISNUMBER(FIND(MID(A23,8,1)&"x","0x1x2x3x4x5x6x7x8x9x")))),"IDはUSE-と半角数字4桁",IF(COUNTIFS($A$8:$A$38,A23)>1,"取得IDが重複",IF(NOT(AND(ISNUMBER(B23),B23>=43831,B23<=73050,B23=INT(B23))),"取得日を確認",IF(NOT(OR(C23="全日",C23="前半",C23="後半")),"区分は全日/前半/後半",IF(COUNTIFS($B$8:$B$38,B23,$C$8:$C$38,C23)>1,"同日・同区分の重複",IF(OR(AND(C23="全日",COUNTIFS($B$8:$B$38,B23)>1),AND(C23<>"全日",COUNTIFS($B$8:$B$38,B23,$C$8:$C$38,"全日")>0)),"全日と半日の重複","確認済み"))))))) | F23: =IF(E23="","",IF(E23="確認済み",0,1)) | G23: =IF(E23="","",IF(F23<>0,NA(),SUMIFS(消化配分!$D$8:$D$107,消化配分!$B$8:$B$107,A23))) | H23: =IF(E23="","",IF(F23<>0,0,IF(AND(ISNUMBER(D23),D23=IF(C23="全日",1,0.5),ISNUMBER(G23),G23=SUMIFS(消化配分!$D$8:$D$107,消化配分!$B$8:$B$107,A23),G23=D23),0,1)))
... D38: =IF(E38="","",IF(F38<>0,NA(),IF(C38="全日",1,0.5))) | E38: =IF(COUNTA(A38:C38)=0,"",IF(NOT(AND(ISTEXT(A38),LEN(A38)=8,EXACT(LEFT(A38,4),"USE-"),ISNUMBER(FIND(MID(A38,5,1)&"x","0x1x2x3x4x5x6x7x8x9x")),ISNUMBER(FIND(MID(A38,6,1)&"x","0x1x2x3x4x5x6x7x8x9x")),ISNUMBER(FIND(MID(A38,7,1)&"x","0x1x2x3x4x5x6x7x8x9x")),ISNUMBER(FIND(MID(A38,8,1)&"x","0x1x2x3x4x5x6x7x8x9x")))),"IDはUSE-と半角数字4桁",IF(COUNTIFS($A$8:$A$38,A38)>1,"取得IDが重複",IF(NOT(AND(ISNUMBER(B38),B38>=43831,B38<=73050,B38=INT(B38))),"取得日を確認",IF(NOT(OR(C38="全日",C38="前半",C38="後半")),"区分は全日/前半/後半",IF(COUNTIFS($B$8:$B$38,B38,$C$8:$C$38,C38)>1,"同日・同区分の重複",IF(OR(AND(C38="全日",COUNTIFS($B$8:$B$38,B38)>1),AND(C38<>"全日",COUNTIFS($B$8:$B$38,B38,$C$8:$C$38,"全日")>0)),"全日と半日の重複","確認済み"))))))) | F38: =IF(E38="","",IF(E38="確認済み",0,1)) | G38: =IF(E38="","",IF(F38<>0,NA(),SUMIFS(消化配分!$D$8:$D$107,消化配分!$B$8:$B$107,A38))) | H38: =IF(E38="","",IF(F38<>0,0,IF(AND(ISNUMBER(D38),D38=IF(C38="全日",1,0.5),ISNUMBER(G38),G38=SUMIFS(消化配分!$D$8:$D$107,消化配分!$B$8:$B$107,A38),G38=D38),0,1)))

Sheet 消化配分
A2: 取得と付与の消化配分
A3: 取得IDと付与IDへ日数を配分。全日の1日を2つの付与へ0.5日ずつ分けることもできます。
A5: 自動FIFOなし。消化順は元記録と会社の確認結果どおりに入力。同じ取得/付与の組合せは1行。
A7: 配分ID | B7: 取得ID | C7: 付与ID | D7: 配分日数 | E7: 取得日 | F7: 付与日 | G7: 有効最終日 | H7: 配分の確認 | I7: 入力不備 | J7: 基準日まで（日） | K7: 集計の前提
A8: ALL-0001 | B8: USE-0001 | C8: GRT-0001 | D8: 1 | E8: =IF(COUNTA(A8:D8)=0,"",IF(AND(ISTEXT(B8),LEN(B8)=8,EXACT(LEFT(B8,4),"USE-"),ISNUMBER(FIND(MID(B8,5,1)&"x","0x1x2x3x4x5x6x7x8x9x")),ISNUMBER(FIND(MID(B8,6,1)&"x","0x1x2x3x4x5x6x7x8x9x")),ISNUMBER(FIND(MID(B8,7,1)&"x","0x1x2x3x4x5x6x7x8x9x")),ISNUMBER(FIND(MID(B8,8,1)&"x","0x1x2x3x4x5x6x7x8x9x"))),IF(COUNTIFS(取得!$A$8:$A$38,B8)=1,INDEX(取得!$B$8:$B$38,MATCH(B8,取得!$A$8:$A$38,0)),NA()),NA())) -> 46280 | F8: =IF(COUNTA(A8:D8)=0,"",IF(AND(ISTEXT(C8),LEN(C8)=8,EXACT(LEFT(C8,4),"GRT-"),ISNUMBER(FIND(MID(C8,5,1)&"x","0x1x2x3x4x5x6x7x8x9x")),ISNUMBER(FIND(MID(C8,6,1)&"x","0x1x2x3x4x5x6x7x8x9x")),ISNUMBER(FIND(MID(C8,7,1)&"x","0x1x2x3x4x5x6x7x8x9x")),ISNUMBER(FIND(MID(C8,8,1)&"x","0x1x2x3x4x5x6x7x8x9x"))),IF(COUNTIFS(付与!$A$8:$A$27,C8)=1,INDEX(付与!$B$8:$B$27,MATCH(C8,付与!$A$8:$A$27,0)),NA()),NA())) -> 45566 | G8: =IF(COUNTA(A8:D8)=0,"",IF(AND(ISTEXT(C8),LEN(C8)=8,EXACT(LEFT(C8,4),"GRT-"),ISNUMBER(FIND(MID(C8,5,1)&"x","0x1x2x3x4x5x6x7x8x9x")),ISNUMBER(FIND(MID(C8,6,1)&"x","0x1x2x3x4x5x6x7x8x9x")),ISNUMBER(FIND(MID(C8,7,1)&"x","0x1x2x3x4x5x6x7x8x9x")),ISNUMBER(FIND(MID(C8,8,1)&"x","0x1x2x3x4x5x6x7x8x9x"))),IF(COUNTIFS(付与!$A$8:$A$27,C8)=1,INDEX(付与!$C$8:$C$27,MATCH(C8,付与!$A$8:$A$27,0)),NA()),NA())) -> 46295 | H8: =IF(COUNTA(A8:D8)=0,"",IF(NOT(AND(ISTEXT(A8),LEN(A8)=8,EXACT(LEFT(A8,4),"ALL-"),ISNUMBER(FIND(MID(A8,5,1)&"x","0x1x2x3x4x5x6x7x8x9x")),ISNUMBER(FIND(MID(A8,6,1)&"x","0x1x2x3x4x5x6x7x8x9x")),ISNUMBER(FIND(MID(A8,7,1)&"x","0x1x2x3x4x5x6x7x8x9x")),ISNUMBER(FIND(MID(A8,8,1)&"x","0x1x2x3x4x5x6x7x8x9x")))),"IDはALL-と半角数字4桁",IF(COUNTIFS($A$8:$A$107,A8)>1,"配分IDが重複",IF(NOT(AND(ISTEXT(B8),LEN(B8)=8,EXACT(LEFT(B8,4),"USE-"),ISNUMBER(FIND(MID(B8,5,1)&"x","0x1x2x3x4x5x6x7x8x9x")),ISNUMBER(FIND(MID(B8,6,1)&"x","0x1x2x3x4x5x6x7x8x9x")),ISNUMBER(FIND(MID(B8,7,1)&"x","0x1x2x3x4x5x6x7x8x9x")),ISNUMBER(FIND(MID(B8,8,1)&"x","0x1x2x3x4x5x6x7x8x9x")))),"取得IDの形式を確認",IF(COUNTIFS(取得!$A$8:$A$38,B8)<>1,"取得IDが不明・重複",IF(NOT(AND(ISTEXT(C8),LEN(C8)=8,EXACT(LEFT(C8,4),"GRT-"),ISNUMBER(FIND(MID(C8,5,1)&"x","0x1x2x3x4x5x6x7x8x9x")),ISNUMBER(FIND(MID(C8,6,1)&"x","0x1x2x3x4x5x6x7x8x9x")),ISNUMBER(FIND(MID(C8,7,1)&"x","0x1x2x3x4x5x6x7x8x9x")),ISNUMBER(FIND(MID(C8,8,1)&"x","0x1x2x3x4x5x6x7x8x9x")))),"付与IDの形式を確認",IF(COUNTIFS(付与!$A$8:$A$27,C8)<>1,"付与IDが不明・重複",IF(NOT(AND(ISNUMBER(D8),OR(D8=0.5,D8=1))),"配分は0.5日または1日",IF(COUNTIFS($B$8:$B$107,B8,$C$8:$C$107,C8)>1,"同じ取得/付与の組合せが重複",IF(OR(E8<F8,E8>G8),"取得日が有効期間外","確認済み")))))))))) -> 確認済み | I8: =IF(H8="","",IF(H8="確認済み",0,1)) -> 0 | J8: =IF(H8="","",IF(OR(I8<>0,有休残数!$I$3<>0),NA(),IF(E8<=有休残数!$B$3,D8,0))) -> 1 | K8: =IF(H8="","",IF(I8<>0,0,IF(有休残数!$I$3<>0,0,IF(AND(ISNUMBER(E8),E8=INDEX(取得!$B$8:$B$38,MATCH(B8,取得!$A$8:$A$38,0)),ISNUMBER(F8),F8=INDEX(付与!$B$8:$B$27,MATCH(C8,付与!$A$8:$A$27,0)),ISNUMBER(G8),G8=INDEX(付与!$C$8:$C$27,MATCH(C8,付与!$A$8:$A$27,0)),ISNUMBER(J8),J8=IF(E8<=有休残数!$B$3,D8,0)),0,1)))) -> 0
A9: ALL-0002 | B9: USE-0002 | C9: GRT-0002 | D9: 0.5 | E9: =IF(COUNTA(A9:D9)=0,"",IF(AND(ISTEXT(B9),LEN(B9)=8,EXACT(LEFT(B9,4),"USE-"),ISNUMBER(FIND(MID(B9,5,1)&"x","0x1x2x3x4x5x6x7x8x9x")),ISNUMBER(FIND(MID(B9,6,1)&"x","0x1x2x3x4x5x6x7x8x9x")),ISNUMBER(FIND(MID(B9,7,1)&"x","0x1x2x3x4x5x6x7x8x9x")),ISNUMBER(FIND(MID(B9,8,1)&"x","0x1x2x3x4x5x6x7x8x9x"))),IF(COUNTIFS(取得!$A$8:$A$38,B9)=1,INDEX(取得!$B$8:$B$38,MATCH(B9,取得!$A$8:$A$38,0)),NA()),NA())) -> 46297 | F9: =IF(COUNTA(A9:D9)=0,"",IF(AND(ISTEXT(C9),LEN(C9)=8,EXACT(LEFT(C9,4),"GRT-"),ISNUMBER(FIND(MID(C9,5,1)&"x","0x1x2x3x4x5x6x7x8x9x")),ISNUMBER(FIND(MID(C9,6,1)&"x","0x1x2x3x4x5x6x7x8x9x")),ISNUMBER(FIND(MID(C9,7,1)&"x","0x1x2x3x4x5x6x7x8x9x")),ISNUMBER(FIND(MID(C9,8,1)&"x","0x1x2x3x4x5x6x7x8x9x"))),IF(COUNTIFS(付与!$A$8:$A$27,C9)=1,INDEX(付与!$B$8:$B$27,MATCH(C9,付与!$A$8:$A$27,0)),NA()),NA())) -> 45578 | G9: =IF(COUNTA(A9:D9)=0,"",IF(AND(ISTEXT(C9),LEN(C9)=8,EXACT(LEFT(C9,4),"GRT-"),ISNUMBER(FIND(MID(C9,5,1)&"x","0x1x2x3x4x5x6x7x8x9x")),ISNUMBER(FIND(MID(C9,6,1)&"x","0x1x2x3x4x5x6x7x8x9x")),ISNUMBER(FIND(MID(C9,7,1)&"x","0x1x2x3x4x5x6x7x8x9x")),ISNUMBER(FIND(MID(C9,8,1)&"x","0x1x2x3x4x5x6x7x8x9x"))),IF(COUNTIFS(付与!$A$8:$A$27,C9)=1,INDEX(付与!$C$8:$C$27,MATCH(C9,付与!$A$8:$A$27,0)),NA()),NA())) -> 46307 | H9: =IF(COUNTA(A9:D9)=0,"",IF(NOT(AND(ISTEXT(A9),LEN(A9)=8,EXACT(LEFT(A9,4),"ALL-"),ISNUMBER(FIND(MID(A9,5,1)&"x","0x1x2x3x4x5x6x7x8x9x")),ISNUMBER(FIND(MID(A9,6,1)&"x","0x1x2x3x4x5x6x7x8x9x")),ISNUMBER(FIND(MID(A9,7,1)&"x","0x1x2x3x4x5x6x7x8x9x")),ISNUMBER(FIND(MID(A9,8,1)&"x","0x1x2x3x4x5x6x7x8x9x")))),"IDはALL-と半角数字4桁",IF(COUNTIFS($A$8:$A$107,A9)>1,"配分IDが重複",IF(NOT(AND(ISTEXT(B9),LEN(B9)=8,EXACT(LEFT(B9,4),"USE-"),ISNUMBER(FIND(MID(B9,5,1)&"x","0x1x2x3x4x5x6x7x8x9x")),ISNUMBER(FIND(MID(B9,6,1)&"x","0x1x2x3x4x5x6x7x8x9x")),ISNUMBER(FIND(MID(B9,7,1)&"x","0x1x2x3x4x5x6x7x8x9x")),ISNUMBER(FIND(MID(B9,8,1)&"x","0x1x2x3x4x5x6x7x8x9x")))),"取得IDの形式を確認",IF(COUNTIFS(取得!$A$8:$A$38,B9)<>1,"取得IDが不明・重複",IF(NOT(AND(ISTEXT(C9),LEN(C9)=8,EXACT(LEFT(C9,4),"GRT-"),ISNUMBER(FIND(MID(C9,5,1)&"x","0x1x2x3x4x5x6x7x8x9x")),ISNUMBER(FIND(MID(C9,6,1)&"x","0x1x2x3x4x5x6x7x8x9x")),ISNUMBER(FIND(MID(C9,7,1)&"x","0x1x2x3x4x5x6x7x8x9x")),ISNUMBER(FIND(MID(C9,8,1)&"x","0x1x2x3x4x5x6x7x8x9x")))),"付与IDの形式を確認",IF(COUNTIFS(付与!$A$8:$A$27,C9)<>1,"付与IDが不明・重複",IF(NOT(AND(ISNUMBER(D9),OR(D9=0.5,D9=1))),"配分は0.5日または1日",IF(COUNTIFS($B$8:$B$107,B9,$C$8:$C$107,C9)>1,"同じ取得/付与の組合せが重複",IF(OR(E9<F9,E9>G9),"取得日が有効期間外","確認済み")))))))))) -> 確認済み | I9: =IF(H9="","",IF(H9="確認済み",0,1)) -> 0 | J9: =IF(H9="","",IF(OR(I9<>0,有休残数!$I$3<>0),NA(),IF(E9<=有休残数!$B$3,D9,0))) -> 0.5 | K9: =IF(H9="","",IF(I9<>0,0,IF(有休残数!$I$3<>0,0,IF(AND(ISNUMBER(E9),E9=INDEX(取得!$B$8:$B$38,MATCH(B9,取得!$A$8:$A$38,0)),ISNUMBER(F9),F9=INDEX(付与!$B$8:$B$27,MATCH(C9,付与!$A$8:$A$27,0)),ISNUMBER(G9),G9=INDEX(付与!$C$8:$C$27,MATCH(C9,付与!$A$8:$A$27,0)),ISNUMBER(J9),J9=IF(E9<=有休残数!$B$3,D9,0)),0,1)))) -> 0
A10: ALL-0003 | B10: USE-0003 | C10: GRT-0002 | D10: 0.5 | E10: =IF(COUNTA(A10:D10)=0,"",IF(AND(ISTEXT(B10),LEN(B10)=8,EXACT(LEFT(B10,4),"USE-"),ISNUMBER(FIND(MID(B10,5,1)&"x","0x1x2x3x4x5x6x7x8x9x")),ISNUMBER(FIND(MID(B10,6,1)&"x","0x1x2x3x4x5x6x7x8x9x")),ISNUMBER(FIND(MID(B10,7,1)&"x","0x1x2x3x4x5x6x7x8x9x")),ISNUMBER(FIND(MID(B10,8,1)&"x","0x1x2x3x4x5x6x7x8x9x"))),IF(COUNTIFS(取得!$A$8:$A$38,B10)=1,INDEX(取得!$B$8:$B$38,MATCH(B10,取得!$A$8:$A$38,0)),NA()),NA())) -> 46302 | F10: =IF(COUNTA(A10:D10)=0,"",IF(AND(ISTEXT(C10),LEN(C10)=8,EXACT(LEFT(C10,4),"GRT-"),ISNUMBER(FIND(MID(C10,5,1)&"x","0x1x2x3x4x5x6x7x8x9x")),ISNUMBER(FIND(MID(C10,6,1)&"x","0x1x2x3x4x5x6x7x8x9x")),ISNUMBER(FIND(MID(C10,7,1)&"x","0x1x2x3x4x5x6x7x8x9x")),ISNUMBER(FIND(MID(C10,8,1)&"x","0x1x2x3x4x5x6x7x8x9x"))),IF(COUNTIFS(付与!$A$8:$A$27,C10)=1,INDEX(付与!$B$8:$B$27,MATCH(C10,付与!$A$8:$A$27,0)),NA()),NA())) -> 45578 | G10: =IF(COUNTA(A10:D10)=0,"",IF(AND(ISTEXT(C10),LEN(C10)=8,EXACT(LEFT(C10,4),"GRT-"),ISNUMBER(FIND(MID(C10,5,1)&"x","0x1x2x3x4x5x6x7x8x9x")),ISNUMBER(FIND(MID(C10,6,1)&"x","0x1x2x3x4x5x6x7x8x9x")),ISNUMBER(FIND(MID(C10,7,1)&"x","0x1x2x3x4x5x6x7x8x9x")),ISNUMBER(FIND(MID(C10,8,1)&"x","0x1x2x3x4x5x6x7x8x9x"))),IF(COUNTIFS(付与!$A$8:$A$27,C10)=1,INDEX(付与!$C$8:$C$27,MATCH(C10,付与!$A$8:$A$27,0)),NA()),NA())) -> 46307 | H10: =IF(COUNTA(A10:D10)=0,"",IF(NOT(AND(ISTEXT(A10),LEN(A10)=8,EXACT(LEFT(A10,4),"ALL-"),ISNUMBER(FIND(MID(A10,5,1)&"x","0x1x2x3x4x5x6x7x8x9x")),ISNUMBER(FIND(MID(A10,6,1)&"x","0x1x2x3x4x5x6x7x8x9x")),ISNUMBER(FIND(MID(A10,7,1)&"x","0x1x2x3x4x5x6x7x8x9x")),ISNUMBER(FIND(MID(A10,8,1)&"x","0x1x2x3x4x5x6x7x8x9x")))),"IDはALL-と半角数字4桁",IF(COUNTIFS($A$8:$A$107,A10)>1,"配分IDが重複",IF(NOT(AND(ISTEXT(B10),LEN(B10)=8,EXACT(LEFT(B10,4),"USE-"),ISNUMBER(FIND(MID(B10,5,1)&"x","0x1x2x3x4x5x6x7x8x9x")),ISNUMBER(FIND(MID(B10,6,1)&"x","0x1x2x3x4x5x6x7x8x9x")),ISNUMBER(FIND(MID(B10,7,1)&"x","0x1x2x3x4x5x6x7x8x9x")),ISNUMBER(FIND(MID(B10,8,1)&"x","0x1x2x3x4x5x6x7x8x9x")))),"取得IDの形式を確認",IF(COUNTIFS(取得!$A$8:$A$38,B10)<>1,"取得IDが不明・重複",IF(NOT(AND(ISTEXT(C10),LEN(C10)=8,EXACT(LEFT(C10,4),"GRT-"),ISNUMBER(FIND(MID(C10,5,1)&"x","0x1x2x3x4x5x6x7x8x9x")),ISNUMBER(FIND(MID(C10,6,1)&"x","0x1x2x3x4x5x6x7x8x9x")),ISNUMBER(FIND(MID(C10,7,1)&"x","0x1x2x3x4x5x6x7x8x9x")),ISNUMBER(FIND(MID(C10,8,1)&"x","0x1x2x3x4x5x6x7x8x9x")))),"付与IDの形式を確認",IF(COUNTIFS(付与!$A$8:$A$27,C10)<>1,"付与IDが不明・重複",IF(NOT(AND(ISNUMBER(D10),OR(D10=0.5,D10=1))),"配分は0.5日または1日",IF(COUNTIFS($B$8:$B$107,B10,$C$8:$C$107,C10)>1,"同じ取得/付与の組合せが重複",IF(OR(E10<F10,E10>G10),"取得日が有効期間外","確認済み")))))))))) -> 確認済み | I10: =IF(H10="","",IF(H10="確認済み",0,1)) -> 0 | J10: =IF(H10="","",IF(OR(I10<>0,有休残数!$I$3<>0),NA(),IF(E10<=有休残数!$B$3,D10,0))) -> 0.5 | K10: =IF(H10="","",IF(I10<>0,0,IF(有休残数!$I$3<>0,0,IF(AND(ISNUMBER(E10),E10=INDEX(取得!$B$8:$B$38,MATCH(B10,取得!$A$8:$A$38,0)),ISNUMBER(F10),F10=INDEX(付与!$B$8:$B$27,MATCH(C10,付与!$A$8:$A$27,0)),ISNUMBER(G10),G10=INDEX(付与!$C$8:$C$27,MATCH(C10,付与!$A$8:$A$27,0)),ISNUMBER(J10),J10=IF(E10<=有休残数!$B$3,D10,0)),0,1)))) -> 0
A11: ALL-0004 | B11: USE-0003 | C11: GRT-0003 | D11: 0.5 | E11: =IF(COUNTA(A11:D11)=0,"",IF(AND(ISTEXT(B11),LEN(B11)=8,EXACT(LEFT(B11,4),"USE-"),ISNUMBER(FIND(MID(B11,5,1)&"x","0x1x2x3x4x5x6x7x8x9x")),ISNUMBER(FIND(MID(B11,6,1)&"x","0x1x2x3x4x5x6x7x8x9x")),ISNUMBER(FIND(MID(B11,7,1)&"x","0x1x2x3x4x5x6x7x8x9x")),ISNUMBER(FIND(MID(B11,8,1)&"x","0x1x2x3x4x5x6x7x8x9x"))),IF(COUNTIFS(取得!$A$8:$A$38,B11)=1,INDEX(取得!$B$8:$B$38,MATCH(B11,取得!$A$8:$A$38,0)),NA()),NA())) -> 46302 | F11: =IF(COUNTA(A11:D11)=0,"",IF(AND(ISTEXT(C11),LEN(C11)=8,EXACT(LEFT(C11,4),"GRT-"),ISNUMBER(FIND(MID(C11,5,1)&"x","0x1x2x3x4x5x6x7x8x9x")),ISNUMBER(FIND(MID(C11,6,1)&"x","0x1x2x3x4x5x6x7x8x9x")),ISNUMBER(FIND(MID(C11,7,1)&"x","0x1x2x3x4x5x6x7x8x9x")),ISNUMBER(FIND(MID(C11,8,1)&"x","0x1x2x3x4x5x6x7x8x9x"))),IF(COUNTIFS(付与!$A$8:$A$27,C11)=1,INDEX(付与!$B$8:$B$27,MATCH(C11,付与!$A$8:$A$27,0)),NA()),NA())) -> 46296 | G11: =IF(COUNTA(A11:D11)=0,"",IF(AND(ISTEXT(C11),LEN(C11)=8,EXACT(LEFT(C11,4),"GRT-"),ISNUMBER(FIND(MID(C11,5,1)&"x","0x1x2x3x4x5x6x7x8x9x")),ISNUMBER(FIND(MID(C11,6,1)&"x","0x1x2x3x4x5x6x7x8x9x")),ISNUMBER(FIND(MID(C11,7,1)&"x","0x1x2x3x4x5x6x7x8x9x")),ISNUMBER(FIND(MID(C11,8,1)&"x","0x1x2x3x4x5x6x7x8x9x"))),IF(COUNTIFS(付与!$A$8:$A$27,C11)=1,INDEX(付与!$C$8:$C$27,MATCH(C11,付与!$A$8:$A$27,0)),NA()),NA())) -> 47026 | H11: =IF(COUNTA(A11:D11)=0,"",IF(NOT(AND(ISTEXT(A11),LEN(A11)=8,EXACT(LEFT(A11,4),"ALL-"),ISNUMBER(FIND(MID(A11,5,1)&"x","0x1x2x3x4x5x6x7x8x9x")),ISNUMBER(FIND(MID(A11,6,1)&"x","0x1x2x3x4x5x6x7x8x9x")),ISNUMBER(FIND(MID(A11,7,1)&"x","0x1x2x3x4x5x6x7x8x9x")),ISNUMBER(FIND(MID(A11,8,1)&"x","0x1x2x3x4x5x6x7x8x9x")))),"IDはALL-と半角数字4桁",IF(COUNTIFS($A$8:$A$107,A11)>1,"配分IDが重複",IF(NOT(AND(ISTEXT(B11),LEN(B11)=8,EXACT(LEFT(B11,4),"USE-"),ISNUMBER(FIND(MID(B11,5,1)&"x","0x1x2x3x4x5x6x7x8x9x")),ISNUMBER(FIND(MID(B11,6,1)&"x","0x1x2x3x4x5x6x7x8x9x")),ISNUMBER(FIND(MID(B11,7,1)&"x","0x1x2x3x4x5x6x7x8x9x")),ISNUMBER(FIND(MID(B11,8,1)&"x","0x1x2x3x4x5x6x7x8x9x")))),"取得IDの形式を確認",IF(COUNTIFS(取得!$A$8:$A$38,B11)<>1,"取得IDが不明・重複",IF(NOT(AND(ISTEXT(C11),LEN(C11)=8,EXACT(LEFT(C11,4),"GRT-"),ISNUMBER(FIND(MID(C11,5,1)&"x","0x1x2x3x4x5x6x7x8x9x")),ISNUMBER(FIND(MID(C11,6,1)&"x","0x1x2x3x4x5x6x7x8x9x")),ISNUMBER(FIND(MID(C11,7,1)&"x","0x1x2x3x4x5x6x7x8x9x")),ISNUMBER(FIND(MID(C11,8,1)&"x","0x1x2x3x4x5x6x7x8x9x")))),"付与IDの形式を確認",IF(COUNTIFS(付与!$A$8:$A$27,C11)<>1,"付与IDが不明・重複",IF(NOT(AND(ISNUMBER(D11),OR(D11=0.5,D11=1))),"配分は0.5日または1日",IF(COUNTIFS($B$8:$B$107,B11,$C$8:$C$107,C11)>1,"同じ取得/付与の組合せが重複",IF(OR(E11<F11,E11>G11),"取得日が有効期間外","確認済み")))))))))) -> 確認済み | I11: =IF(H11="","",IF(H11="確認済み",0,1)) -> 0 | J11: =IF(H11="","",IF(OR(I11<>0,有休残数!$I$3<>0),NA(),IF(E11<=有休残数!$B$3,D11,0))) -> 0.5 | K11: =IF(H11="","",IF(I11<>0,0,IF(有休残数!$I$3<>0,0,IF(AND(ISNUMBER(E11),E11=INDEX(取得!$B$8:$B$38,MATCH(B11,取得!$A$8:$A$38,0)),ISNUMBER(F11),F11=INDEX(付与!$B$8:$B$27,MATCH(C11,付与!$A$8:$A$27,0)),ISNUMBER(G11),G11=INDEX(付与!$C$8:$C$27,MATCH(C11,付与!$A$8:$A$27,0)),ISNUMBER(J11),J11=IF(E11<=有休残数!$B$3,D11,0)),0,1)))) -> 0
A12: ALL-0005 | B12: USE-0004 | C12: GRT-0003 | D12: 0.5 | E12: =IF(COUNTA(A12:D12)=0,"",IF(AND(ISTEXT(B12),LEN(B12)=8,EXACT(LEFT(B12,4),"USE-"),ISNUMBER(FIND(MID(B12,5,1)&"x","0x1x2x3x4x5x6x7x8x9x")),ISNUMBER(FIND(MID(B12,6,1)&"x","0x1x2x3x4x5x6x7x8x9x")),ISNUMBER(FIND(MID(B12,7,1)&"x","0x1x2x3x4x5x6x7x8x9x")),ISNUMBER(FIND(MID(B12,8,1)&"x","0x1x2x3x4x5x6x7x8x9x"))),IF(COUNTIFS(取得!$A$8:$A$38,B12)=1,INDEX(取得!$B$8:$B$38,MATCH(B12,取得!$A$8:$A$38,0)),NA()),NA())) -> 46309 | F12: =IF(COUNTA(A12:D12)=0,"",IF(AND(ISTEXT(C12),LEN(C12)=8,EXACT(LEFT(C12,4),"GRT-"),ISNUMBER(FIND(MID(C12,5,1)&"x","0x1x2x3x4x5x6x7x8x9x")),ISNUMBER(FIND(MID(C12,6,1)&"x","0x1x2x3x4x5x6x7x8x9x")),ISNUMBER(FIND(MID(C12,7,1)&"x","0x1x2x3x4x5x6x7x8x9x")),ISNUMBER(FIND(MID(C12,8,1)&"x","0x1x2x3x4x5x6x7x8x9x"))),IF(COUNTIFS(付与!$A$8:$A$27,C12)=1,INDEX(付与!$B$8:$B$27,MATCH(C12,付与!$A$8:$A$27,0)),NA()),NA())) -> 46296 | G12: =IF(COUNTA(A12:D12)=0,"",IF(AND(ISTEXT(C12),LEN(C12)=8,EXACT(LEFT(C12,4),"GRT-"),ISNUMBER(FIND(MID(C12,5,1)&"x","0x1x2x3x4x5x6x7x8x9x")),ISNUMBER(FIND(MID(C12,6,1)&"x","0x1x2x3x4x5x6x7x8x9x")),ISNUMBER(FIND(MID(C12,7,1)&"x","0x1x2x3x4x5x6x7x8x9x")),ISNUMBER(FIND(MID(C12,8,1)&"x","0x1x2x3x4x5x6x7x8x9x"))),IF(COUNTIFS(付与!$A$8:$A$27,C12)=1,INDEX(付与!$C$8:$C$27,MATCH(C12,付与!$A$8:$A$27,0)),NA()),NA())) -> 47026 | H12: =IF(COUNTA(A12:D12)=0,"",IF(NOT(AND(ISTEXT(A12),LEN(A12)=8,EXACT(LEFT(A12,4),"ALL-"),ISNUMBER(FIND(MID(A12,5,1)&"x","0x1x2x3x4x5x6x7x8x9x")),ISNUMBER(FIND(MID(A12,6,1)&"x","0x1x2x3x4x5x6x7x8x9x")),ISNUMBER(FIND(MID(A12,7,1)&"x","0x1x2x3x4x5x6x7x8x9x")),ISNUMBER(FIND(MID(A12,8,1)&"x","0x1x2x3x4x5x6x7x8x9x")))),"IDはALL-と半角数字4桁",IF(COUNTIFS($A$8:$A$107,A12)>1,"配分IDが重複",IF(NOT(AND(ISTEXT(B12),LEN(B12)=8,EXACT(LEFT(B12,4),"USE-"),ISNUMBER(FIND(MID(B12,5,1)&"x","0x1x2x3x4x5x6x7x8x9x")),ISNUMBER(FIND(MID(B12,6,1)&"x","0x1x2x3x4x5x6x7x8x9x")),ISNUMBER(FIND(MID(B12,7,1)&"x","0x1x2x3x4x5x6x7x8x9x")),ISNUMBER(FIND(MID(B12,8,1)&"x","0x1x2x3x4x5x6x7x8x9x")))),"取得IDの形式を確認",IF(COUNTIFS(取得!$A$8:$A$38,B12)<>1,"取得IDが不明・重複",IF(NOT(AND(ISTEXT(C12),LEN(C12)=8,EXACT(LEFT(C12,4),"GRT-"),ISNUMBER(FIND(MID(C12,5,1)&"x","0x1x2x3x4x5x6x7x8x9x")),ISNUMBER(FIND(MID(C12,6,1)&"x","0x1x2x3x4x5x6x7x8x9x")),ISNUMBER(FIND(MID(C12,7,1)&"x","0x1x2x3x4x5x6x7x8x9x")),ISNUMBER(FIND(MID(C12,8,1)&"x","0x1x2x3x4x5x6x7x8x9x")))),"付与IDの形式を確認",IF(COUNTIFS(付与!$A$8:$A$27,C12)<>1,"付与IDが不明・重複",IF(NOT(AND(ISNUMBER(D12),OR(D12=0.5,D12=1))),"配分は0.5日または1日",IF(COUNTIFS($B$8:$B$107,B12,$C$8:$C$107,C12)>1,"同じ取得/付与の組合せが重複",IF(OR(E12<F12,E12>G12),"取得日が有効期間外","確認済み")))))))))) -> 確認済み | I12: =IF(H12="","",IF(H12="確認済み",0,1)) -> 0 | J12: =IF(H12="","",IF(OR(I12<>0,有休残数!$I$3<>0),NA(),IF(E12<=有休残数!$B$3,D12,0))) -> 0 | K12: =IF(H12="","",IF(I12<>0,0,IF(有休残数!$I$3<>0,0,IF(AND(ISNUMBER(E12),E12=INDEX(取得!$B$8:$B$38,MATCH(B12,取得!$A$8:$A$38,0)),ISNUMBER(F12),F12=INDEX(付与!$B$8:$B$27,MATCH(C12,付与!$A$8:$A$27,0)),ISNUMBER(G12),G12=INDEX(付与!$C$8:$C$27,MATCH(C12,付与!$A$8:$A$27,0)),ISNUMBER(J12),J12=IF(E12<=有休残数!$B$3,D12,0)),0,1)))) -> 0
E13: =IF(COUNTA(A13:D13)=0,"",IF(AND(ISTEXT(B13),LEN(B13)=8,EXACT(LEFT(B13,4),"USE-"),ISNUMBER(FIND(MID(B13,5,1)&"x","0x1x2x3x4x5x6x7x8x9x")),ISNUMBER(FIND(MID(B13,6,1)&"x","0x1x2x3x4x5x6x7x8x9x")),ISNUMBER(FIND(MID(B13,7,1)&"x","0x1x2x3x4x5x6x7x8x9x")),ISNUMBER(FIND(MID(B13,8,1)&"x","0x1x2x3x4x5x6x7x8x9x"))),IF(COUNTIFS(取得!$A$8:$A$38,B13)=1,INDEX(取得!$B$8:$B$38,MATCH(B13,取得!$A$8:$A$38,0)),NA()),NA())) | F13: =IF(COUNTA(A13:D13)=0,"",IF(AND(ISTEXT(C13),LEN(C13)=8,EXACT(LEFT(C13,4),"GRT-"),ISNUMBER(FIND(MID(C13,5,1)&"x","0x1x2x3x4x5x6x7x8x9x")),ISNUMBER(FIND(MID(C13,6,1)&"x","0x1x2x3x4x5x6x7x8x9x")),ISNUMBER(FIND(MID(C13,7,1)&"x","0x1x2x3x4x5x6x7x8x9x")),ISNUMBER(FIND(MID(C13,8,1)&"x","0x1x2x3x4x5x6x7x8x9x"))),IF(COUNTIFS(付与!$A$8:$A$27,C13)=1,INDEX(付与!$B$8:$B$27,MATCH(C13,付与!$A$8:$A$27,0)),NA()),NA())) | G13: =IF(COUNTA(A13:D13)=0,"",IF(AND(ISTEXT(C13),LEN(C13)=8,EXACT(LEFT(C13,4),"GRT-"),ISNUMBER(FIND(MID(C13,5,1)&"x","0x1x2x3x4x5x6x7x8x9x")),ISNUMBER(FIND(MID(C13,6,1)&"x","0x1x2x3x4x5x6x7x8x9x")),ISNUMBER(FIND(MID(C13,7,1)&"x","0x1x2x3x4x5x6x7x8x9x")),ISNUMBER(FIND(MID(C13,8,1)&"x","0x1x2x3x4x5x6x7x8x9x"))),IF(COUNTIFS(付与!$A$8:$A$27,C13)=1,INDEX(付与!$C$8:$C$27,MATCH(C13,付与!$A$8:$A$27,0)),NA()),NA())) | H13: =IF(COUNTA(A13:D13)=0,"",IF(NOT(AND(ISTEXT(A13),LEN(A13)=8,EXACT(LEFT(A13,4),"ALL-"),ISNUMBER(FIND(MID(A13,5,1)&"x","0x1x2x3x4x5x6x7x8x9x")),ISNUMBER(FIND(MID(A13,6,1)&"x","0x1x2x3x4x5x6x7x8x9x")),ISNUMBER(FIND(MID(A13,7,1)&"x","0x1x2x3x4x5x6x7x8x9x")),ISNUMBER(FIND(MID(A13,8,1)&"x","0x1x2x3x4x5x6x7x8x9x")))),"IDはALL-と半角数字4桁",IF(COUNTIFS($A$8:$A$107,A13)>1,"配分IDが重複",IF(NOT(AND(ISTEXT(B13),LEN(B13)=8,EXACT(LEFT(B13,4),"USE-"),ISNUMBER(FIND(MID(B13,5,1)&"x","0x1x2x3x4x5x6x7x8x9x")),ISNUMBER(FIND(MID(B13,6,1)&"x","0x1x2x3x4x5x6x7x8x9x")),ISNUMBER(FIND(MID(B13,7,1)&"x","0x1x2x3x4x5x6x7x8x9x")),ISNUMBER(FIND(MID(B13,8,1)&"x","0x1x2x3x4x5x6x7x8x9x")))),"取得IDの形式を確認",IF(COUNTIFS(取得!$A$8:$A$38,B13)<>1,"取得IDが不明・重複",IF(NOT(AND(ISTEXT(C13),LEN(C13)=8,EXACT(LEFT(C13,4),"GRT-"),ISNUMBER(FIND(MID(C13,5,1)&"x","0x1x2x3x4x5x6x7x8x9x")),ISNUMBER(FIND(MID(C13,6,1)&"x","0x1x2x3x4x5x6x7x8x9x")),ISNUMBER(FIND(MID(C13,7,1)&"x","0x1x2x3x4x5x6x7x8x9x")),ISNUMBER(FIND(MID(C13,8,1)&"x","0x1x2x3x4x5x6x7x8x9x")))),"付与IDの形式を確認",IF(COUNTIFS(付与!$A$8:$A$27,C13)<>1,"付与IDが不明・重複",IF(NOT(AND(ISNUMBER(D13),OR(D13=0.5,D13=1))),"配分は0.5日または1日",IF(COUNTIFS($B$8:$B$107,B13,$C$8:$C$107,C13)>1,"同じ取得/付与の組合せが重複",IF(OR(E13<F13,E13>G13),"取得日が有効期間外","確認済み")))))))))) | I13: =IF(H13="","",IF(H13="確認済み",0,1)) | J13: =IF(H13="","",IF(OR(I13<>0,有休残数!$I$3<>0),NA(),IF(E13<=有休残数!$B$3,D13,0))) | K13: =IF(H13="","",IF(I13<>0,0,IF(有休残数!$I$3<>0,0,IF(AND(ISNUMBER(E13),E13=INDEX(取得!$B$8:$B$38,MATCH(B13,取得!$A$8:$A$38,0)),ISNUMBER(F13),F13=INDEX(付与!$B$8:$B$27,MATCH(C13,付与!$A$8:$A$27,0)),ISNUMBER(G13),G13=INDEX(付与!$C$8:$C$27,MATCH(C13,付与!$A$8:$A$27,0)),ISNUMBER(J13),J13=IF(E13<=有休残数!$B$3,D13,0)),0,1))))
E14: =IF(COUNTA(A14:D14)=0,"",IF(AND(ISTEXT(B14),LEN(B14)=8,EXACT(LEFT(B14,4),"USE-"),ISNUMBER(FIND(MID(B14,5,1)&"x","0x1x2x3x4x5x6x7x8x9x")),ISNUMBER(FIND(MID(B14,6,1)&"x","0x1x2x3x4x5x6x7x8x9x")),ISNUMBER(FIND(MID(B14,7,1)&"x","0x1x2x3x4x5x6x7x8x9x")),ISNUMBER(FIND(MID(B14,8,1)&"x","0x1x2x3x4x5x6x7x8x9x"))),IF(COUNTIFS(取得!$A$8:$A$38,B14)=1,INDEX(取得!$B$8:$B$38,MATCH(B14,取得!$A$8:$A$38,0)),NA()),NA())) | F14: =IF(COUNTA(A14:D14)=0,"",IF(AND(ISTEXT(C14),LEN(C14)=8,EXACT(LEFT(C14,4),"GRT-"),ISNUMBER(FIND(MID(C14,5,1)&"x","0x1x2x3x4x5x6x7x8x9x")),ISNUMBER(FIND(MID(C14,6,1)&"x","0x1x2x3x4x5x6x7x8x9x")),ISNUMBER(FIND(MID(C14,7,1)&"x","0x1x2x3x4x5x6x7x8x9x")),ISNUMBER(FIND(MID(C14,8,1)&"x","0x1x2x3x4x5x6x7x8x9x"))),IF(COUNTIFS(付与!$A$8:$A$27,C14)=1,INDEX(付与!$B$8:$B$27,MATCH(C14,付与!$A$8:$A$27,0)),NA()),NA())) | G14: =IF(COUNTA(A14:D14)=0,"",IF(AND(ISTEXT(C14),LEN(C14)=8,EXACT(LEFT(C14,4),"GRT-"),ISNUMBER(FIND(MID(C14,5,1)&"x","0x1x2x3x4x5x6x7x8x9x")),ISNUMBER(FIND(MID(C14,6,1)&"x","0x1x2x3x4x5x6x7x8x9x")),ISNUMBER(FIND(MID(C14,7,1)&"x","0x1x2x3x4x5x6x7x8x9x")),ISNUMBER(FIND(MID(C14,8,1)&"x","0x1x2x3x4x5x6x7x8x9x"))),IF(COUNTIFS(付与!$A$8:$A$27,C14)=1,INDEX(付与!$C$8:$C$27,MATCH(C14,付与!$A$8:$A$27,0)),NA()),NA())) | H14: =IF(COUNTA(A14:D14)=0,"",IF(NOT(AND(ISTEXT(A14),LEN(A14)=8,EXACT(LEFT(A14,4),"ALL-"),ISNUMBER(FIND(MID(A14,5,1)&"x","0x1x2x3x4x5x6x7x8x9x")),ISNUMBER(FIND(MID(A14,6,1)&"x","0x1x2x3x4x5x6x7x8x9x")),ISNUMBER(FIND(MID(A14,7,1)&"x","0x1x2x3x4x5x6x7x8x9x")),ISNUMBER(FIND(MID(A14,8,1)&"x","0x1x2x3x4x5x6x7x8x9x")))),"IDはALL-と半角数字4桁",IF(COUNTIFS($A$8:$A$107,A14)>1,"配分IDが重複",IF(NOT(AND(ISTEXT(B14),LEN(B14)=8,EXACT(LEFT(B14,4),"USE-"),ISNUMBER(FIND(MID(B14,5,1)&"x","0x1x2x3x4x5x6x7x8x9x")),ISNUMBER(FIND(MID(B14,6,1)&"x","0x1x2x3x4x5x6x7x8x9x")),ISNUMBER(FIND(MID(B14,7,1)&"x","0x1x2x3x4x5x6x7x8x9x")),ISNUMBER(FIND(MID(B14,8,1)&"x","0x1x2x3x4x5x6x7x8x9x")))),"取得IDの形式を確認",IF(COUNTIFS(取得!$A$8:$A$38,B14)<>1,"取得IDが不明・重複",IF(NOT(AND(ISTEXT(C14),LEN(C14)=8,EXACT(LEFT(C14,4),"GRT-"),ISNUMBER(FIND(MID(C14,5,1)&"x","0x1x2x3x4x5x6x7x8x9x")),ISNUMBER(FIND(MID(C14,6,1)&"x","0x1x2x3x4x5x6x7x8x9x")),ISNUMBER(FIND(MID(C14,7,1)&"x","0x1x2x3x4x5x6x7x8x9x")),ISNUMBER(FIND(MID(C14,8,1)&"x","0x1x2x3x4x5x6x7x8x9x")))),"付与IDの形式を確認",IF(COUNTIFS(付与!$A$8:$A$27,C14)<>1,"付与IDが不明・重複",IF(NOT(AND(ISNUMBER(D14),OR(D14=0.5,D14=1))),"配分は0.5日または1日",IF(COUNTIFS($B$8:$B$107,B14,$C$8:$C$107,C14)>1,"同じ取得/付与の組合せが重複",IF(OR(E14<F14,E14>G14),"取得日が有効期間外","確認済み")))))))))) | I14: =IF(H14="","",IF(H14="確認済み",0,1)) | J14: =IF(H14="","",IF(OR(I14<>0,有休残数!$I$3<>0),NA(),IF(E14<=有休残数!$B$3,D14,0))) | K14: =IF(H14="","",IF(I14<>0,0,IF(有休残数!$I$3<>0,0,IF(AND(ISNUMBER(E14),E14=INDEX(取得!$B$8:$B$38,MATCH(B14,取得!$A$8:$A$38,0)),ISNUMBER(F14),F14=INDEX(付与!$B$8:$B$27,MATCH(C14,付与!$A$8:$A$27,0)),ISNUMBER(G14),G14=INDEX(付与!$C$8:$C$27,MATCH(C14,付与!$A$8:$A$27,0)),ISNUMBER(J14),J14=IF(E14<=有休残数!$B$3,D14,0)),0,1))))
E15: =IF(COUNTA(A15:D15)=0,"",IF(AND(ISTEXT(B15),LEN(B15)=8,EXACT(LEFT(B15,4),"USE-"),ISNUMBER(FIND(MID(B15,5,1)&"x","0x1x2x3x4x5x6x7x8x9x")),ISNUMBER(FIND(MID(B15,6,1)&"x","0x1x2x3x4x5x6x7x8x9x")),ISNUMBER(FIND(MID(B15,7,1)&"x","0x1x2x3x4x5x6x7x8x9x")),ISNUMBER(FIND(MID(B15,8,1)&"x","0x1x2x3x4x5x6x7x8x9x"))),IF(COUNTIFS(取得!$A$8:$A$38,B15)=1,INDEX(取得!$B$8:$B$38,MATCH(B15,取得!$A$8:$A$38,0)),NA()),NA())) | F15: =IF(COUNTA(A15:D15)=0,"",IF(AND(ISTEXT(C15),LEN(C15)=8,EXACT(LEFT(C15,4),"GRT-"),ISNUMBER(FIND(MID(C15,5,1)&"x","0x1x2x3x4x5x6x7x8x9x")),ISNUMBER(FIND(MID(C15,6,1)&"x","0x1x2x3x4x5x6x7x8x9x")),ISNUMBER(FIND(MID(C15,7,1)&"x","0x1x2x3x4x5x6x7x8x9x")),ISNUMBER(FIND(MID(C15,8,1)&"x","0x1x2x3x4x5x6x7x8x9x"))),IF(COUNTIFS(付与!$A$8:$A$27,C15)=1,INDEX(付与!$B$8:$B$27,MATCH(C15,付与!$A$8:$A$27,0)),NA()),NA())) | G15: =IF(COUNTA(A15:D15)=0,"",IF(AND(ISTEXT(C15),LEN(C15)=8,EXACT(LEFT(C15,4),"GRT-"),ISNUMBER(FIND(MID(C15,5,1)&"x","0x1x2x3x4x5x6x7x8x9x")),ISNUMBER(FIND(MID(C15,6,1)&"x","0x1x2x3x4x5x6x7x8x9x")),ISNUMBER(FIND(MID(C15,7,1)&"x","0x1x2x3x4x5x6x7x8x9x")),ISNUMBER(FIND(MID(C15,8,1)&"x","0x1x2x3x4x5x6x7x8x9x"))),IF(COUNTIFS(付与!$A$8:$A$27,C15)=1,INDEX(付与!$C$8:$C$27,MATCH(C15,付与!$A$8:$A$27,0)),NA()),NA())) | H15: =IF(COUNTA(A15:D15)=0,"",IF(NOT(AND(ISTEXT(A15),LEN(A15)=8,EXACT(LEFT(A15,4),"ALL-"),ISNUMBER(FIND(MID(A15,5,1)&"x","0x1x2x3x4x5x6x7x8x9x")),ISNUMBER(FIND(MID(A15,6,1)&"x","0x1x2x3x4x5x6x7x8x9x")),ISNUMBER(FIND(MID(A15,7,1)&"x","0x1x2x3x4x5x6x7x8x9x")),ISNUMBER(FIND(MID(A15,8,1)&"x","0x1x2x3x4x5x6x7x8x9x")))),"IDはALL-と半角数字4桁",IF(COUNTIFS($A$8:$A$107,A15)>1,"配分IDが重複",IF(NOT(AND(ISTEXT(B15),LEN(B15)=8,EXACT(LEFT(B15,4),"USE-"),ISNUMBER(FIND(MID(B15,5,1)&"x","0x1x2x3x4x5x6x7x8x9x")),ISNUMBER(FIND(MID(B15,6,1)&"x","0x1x2x3x4x5x6x7x8x9x")),ISNUMBER(FIND(MID(B15,7,1)&"x","0x1x2x3x4x5x6x7x8x9x")),ISNUMBER(FIND(MID(B15,8,1)&"x","0x1x2x3x4x5x6x7x8x9x")))),"取得IDの形式を確認",IF(COUNTIFS(取得!$A$8:$A$38,B15)<>1,"取得IDが不明・重複",IF(NOT(AND(ISTEXT(C15),LEN(C15)=8,EXACT(LEFT(C15,4),"GRT-"),ISNUMBER(FIND(MID(C15,5,1)&"x","0x1x2x3x4x5x6x7x8x9x")),ISNUMBER(FIND(MID(C15,6,1)&"x","0x1x2x3x4x5x6x7x8x9x")),ISNUMBER(FIND(MID(C15,7,1)&"x","0x1x2x3x4x5x6x7x8x9x")),ISNUMBER(FIND(MID(C15,8,1)&"x","0x1x2x3x4x5x6x7x8x9x")))),"付与IDの形式を確認",IF(COUNTIFS(付与!$A$8:$A$27,C15)<>1,"付与IDが不明・重複",IF(NOT(AND(ISNUMBER(D15),OR(D15=0.5,D15=1))),"配分は0.5日または1日",IF(COUNTIFS($B$8:$B$107,B15,$C$8:$C$107,C15)>1,"同じ取得/付与の組合せが重複",IF(OR(E15<F15,E15>G15),"取得日が有効期間外","確認済み")))))))))) | I15: =IF(H15="","",IF(H15="確認済み",0,1)) | J15: =IF(H15="","",IF(OR(I15<>0,有休残数!$I$3<>0),NA(),IF(E15<=有休残数!$B$3,D15,0))) | K15: =IF(H15="","",IF(I15<>0,0,IF(有休残数!$I$3<>0,0,IF(AND(ISNUMBER(E15),E15=INDEX(取得!$B$8:$B$38,MATCH(B15,取得!$A$8:$A$38,0)),ISNUMBER(F15),F15=INDEX(付与!$B$8:$B$27,MATCH(C15,付与!$A$8:$A$27,0)),ISNUMBER(G15),G15=INDEX(付与!$C$8:$C$27,MATCH(C15,付与!$A$8:$A$27,0)),ISNUMBER(J15),J15=IF(E15<=有休残数!$B$3,D15,0)),0,1))))
E16: =IF(COUNTA(A16:D16)=0,"",IF(AND(ISTEXT(B16),LEN(B16)=8,EXACT(LEFT(B16,4),"USE-"),ISNUMBER(FIND(MID(B16,5,1)&"x","0x1x2x3x4x5x6x7x8x9x")),ISNUMBER(FIND(MID(B16,6,1)&"x","0x1x2x3x4x5x6x7x8x9x")),ISNUMBER(FIND(MID(B16,7,1)&"x","0x1x2x3x4x5x6x7x8x9x")),ISNUMBER(FIND(MID(B16,8,1)&"x","0x1x2x3x4x5x6x7x8x9x"))),IF(COUNTIFS(取得!$A$8:$A$38,B16)=1,INDEX(取得!$B$8:$B$38,MATCH(B16,取得!$A$8:$A$38,0)),NA()),NA())) | F16: =IF(COUNTA(A16:D16)=0,"",IF(AND(ISTEXT(C16),LEN(C16)=8,EXACT(LEFT(C16,4),"GRT-"),ISNUMBER(FIND(MID(C16,5,1)&"x","0x1x2x3x4x5x6x7x8x9x")),ISNUMBER(FIND(MID(C16,6,1)&"x","0x1x2x3x4x5x6x7x8x9x")),ISNUMBER(FIND(MID(C16,7,1)&"x","0x1x2x3x4x5x6x7x8x9x")),ISNUMBER(FIND(MID(C16,8,1)&"x","0x1x2x3x4x5x6x7x8x9x"))),IF(COUNTIFS(付与!$A$8:$A$27,C16)=1,INDEX(付与!$B$8:$B$27,MATCH(C16,付与!$A$8:$A$27,0)),NA()),NA())) | G16: =IF(COUNTA(A16:D16)=0,"",IF(AND(ISTEXT(C16),LEN(C16)=8,EXACT(LEFT(C16,4),"GRT-"),ISNUMBER(FIND(MID(C16,5,1)&"x","0x1x2x3x4x5x6x7x8x9x")),ISNUMBER(FIND(MID(C16,6,1)&"x","0x1x2x3x4x5x6x7x8x9x")),ISNUMBER(FIND(MID(C16,7,1)&"x","0x1x2x3x4x5x6x7x8x9x")),ISNUMBER(FIND(MID(C16,8,1)&"x","0x1x2x3x4x5x6x7x8x9x"))),IF(COUNTIFS(付与!$A$8:$A$27,C16)=1,INDEX(付与!$C$8:$C$27,MATCH(C16,付与!$A$8:$A$27,0)),NA()),NA())) | H16: =IF(COUNTA(A16:D16)=0,"",IF(NOT(AND(ISTEXT(A16),LEN(A16)=8,EXACT(LEFT(A16,4),"ALL-"),ISNUMBER(FIND(MID(A16,5,1)&"x","0x1x2x3x4x5x6x7x8x9x")),ISNUMBER(FIND(MID(A16,6,1)&"x","0x1x2x3x4x5x6x7x8x9x")),ISNUMBER(FIND(MID(A16,7,1)&"x","0x1x2x3x4x5x6x7x8x9x")),ISNUMBER(FIND(MID(A16,8,1)&"x","0x1x2x3x4x5x6x7x8x9x")))),"IDはALL-と半角数字4桁",IF(COUNTIFS($A$8:$A$107,A16)>1,"配分IDが重複",IF(NOT(AND(ISTEXT(B16),LEN(B16)=8,EXACT(LEFT(B16,4),"USE-"),ISNUMBER(FIND(MID(B16,5,1)&"x","0x1x2x3x4x5x6x7x8x9x")),ISNUMBER(FIND(MID(B16,6,1)&"x","0x1x2x3x4x5x6x7x8x9x")),ISNUMBER(FIND(MID(B16,7,1)&"x","0x1x2x3x4x5x6x7x8x9x")),ISNUMBER(FIND(MID(B16,8,1)&"x","0x1x2x3x4x5x6x7x8x9x")))),"取得IDの形式を確認",IF(COUNTIFS(取得!$A$8:$A$38,B16)<>1,"取得IDが不明・重複",IF(NOT(AND(ISTEXT(C16),LEN(C16)=8,EXACT(LEFT(C16,4),"GRT-"),ISNUMBER(FIND(MID(C16,5,1)&"x","0x1x2x3x4x5x6x7x8x9x")),ISNUMBER(FIND(MID(C16,6,1)&"x","0x1x2x3x4x5x6x7x8x9x")),ISNUMBER(FIND(MID(C16,7,1)&"x","0x1x2x3x4x5x6x7x8x9x")),ISNUMBER(FIND(MID(C16,8,1)&"x","0x1x2x3x4x5x6x7x8x9x")))),"付与IDの形式を確認",IF(COUNTIFS(付与!$A$8:$A$27,C16)<>1,"付与IDが不明・重複",IF(NOT(AND(ISNUMBER(D16),OR(D16=0.5,D16=1))),"配分は0.5日または1日",IF(COUNTIFS($B$8:$B$107,B16,$C$8:$C$107,C16)>1,"同じ取得/付与の組合せが重複",IF(OR(E16<F16,E16>G16),"取得日が有効期間外","確認済み")))))))))) | I16: =IF(H16="","",IF(H16="確認済み",0,1)) | J16: =IF(H16="","",IF(OR(I16<>0,有休残数!$I$3<>0),NA(),IF(E16<=有休残数!$B$3,D16,0))) | K16: =IF(H16="","",IF(I16<>0,0,IF(有休残数!$I$3<>0,0,IF(AND(ISNUMBER(E16),E16=INDEX(取得!$B$8:$B$38,MATCH(B16,取得!$A$8:$A$38,0)),ISNUMBER(F16),F16=INDEX(付与!$B$8:$B$27,MATCH(C16,付与!$A$8:$A$27,0)),ISNUMBER(G16),G16=INDEX(付与!$C$8:$C$27,MATCH(C16,付与!$A$8:$A$27,0)),ISNUMBER(J16),J16=IF(E16<=有休残数!$B$3,D16,0)),0,1))))
E17: =IF(COUNTA(A17:D17)=0,"",IF(AND(ISTEXT(B17),LEN(B17)=8,EXACT(LEFT(B17,4),"USE-"),ISNUMBER(FIND(MID(B17,5,1)&"x","0x1x2x3x4x5x6x7x8x9x")),ISNUMBER(FIND(MID(B17,6,1)&"x","0x1x2x3x4x5x6x7x8x9x")),ISNUMBER(FIND(MID(B17,7,1)&"x","0x1x2x3x4x5x6x7x8x9x")),ISNUMBER(FIND(MID(B17,8,1)&"x","0x1x2x3x4x5x6x7x8x9x"))),IF(COUNTIFS(取得!$A$8:$A$38,B17)=1,INDEX(取得!$B$8:$B$38,MATCH(B17,取得!$A$8:$A$38,0)),NA()),NA())) | F17: =IF(COUNTA(A17:D17)=0,"",IF(AND(ISTEXT(C17),LEN(C17)=8,EXACT(LEFT(C17,4),"GRT-"),ISNUMBER(FIND(MID(C17,5,1)&"x","0x1x2x3x4x5x6x7x8x9x")),ISNUMBER(FIND(MID(C17,6,1)&"x","0x1x2x3x4x5x6x7x8x9x")),ISNUMBER(FIND(MID(C17,7,1)&"x","0x1x2x3x4x5x6x7x8x9x")),ISNUMBER(FIND(MID(C17,8,1)&"x","0x1x2x3x4x5x6x7x8x9x"))),IF(COUNTIFS(付与!$A$8:$A$27,C17)=1,INDEX(付与!$B$8:$B$27,MATCH(C17,付与!$A$8:$A$27,0)),NA()),NA())) | G17: =IF(COUNTA(A17:D17)=0,"",IF(AND(ISTEXT(C17),LEN(C17)=8,EXACT(LEFT(C17,4),"GRT-"),ISNUMBER(FIND(MID(C17,5,1)&"x","0x1x2x3x4x5x6x7x8x9x")),ISNUMBER(FIND(MID(C17,6,1)&"x","0x1x2x3x4x5x6x7x8x9x")),ISNUMBER(FIND(MID(C17,7,1)&"x","0x1x2x3x4x5x6x7x8x9x")),ISNUMBER(FIND(MID(C17,8,1)&"x","0x1x2x3x4x5x6x7x8x9x"))),IF(COUNTIFS(付与!$A$8:$A$27,C17)=1,INDEX(付与!$C$8:$C$27,MATCH(C17,付与!$A$8:$A$27,0)),NA()),NA())) | H17: =IF(COUNTA(A17:D17)=0,"",IF(NOT(AND(ISTEXT(A17),LEN(A17)=8,EXACT(LEFT(A17,4),"ALL-"),ISNUMBER(FIND(MID(A17,5,1)&"x","0x1x2x3x4x5x6x7x8x9x")),ISNUMBER(FIND(MID(A17,6,1)&"x","0x1x2x3x4x5x6x7x8x9x")),ISNUMBER(FIND(MID(A17,7,1)&"x","0x1x2x3x4x5x6x7x8x9x")),ISNUMBER(FIND(MID(A17,8,1)&"x","0x1x2x3x4x5x6x7x8x9x")))),"IDはALL-と半角数字4桁",IF(COUNTIFS($A$8:$A$107,A17)>1,"配分IDが重複",IF(NOT(AND(ISTEXT(B17),LEN(B17)=8,EXACT(LEFT(B17,4),"USE-"),ISNUMBER(FIND(MID(B17,5,1)&"x","0x1x2x3x4x5x6x7x8x9x")),ISNUMBER(FIND(MID(B17,6,1)&"x","0x1x2x3x4x5x6x7x8x9x")),ISNUMBER(FIND(MID(B17,7,1)&"x","0x1x2x3x4x5x6x7x8x9x")),ISNUMBER(FIND(MID(B17,8,1)&"x","0x1x2x3x4x5x6x7x8x9x")))),"取得IDの形式を確認",IF(COUNTIFS(取得!$A$8:$A$38,B17)<>1,"取得IDが不明・重複",IF(NOT(AND(ISTEXT(C17),LEN(C17)=8,EXACT(LEFT(C17,4),"GRT-"),ISNUMBER(FIND(MID(C17,5,1)&"x","0x1x2x3x4x5x6x7x8x9x")),ISNUMBER(FIND(MID(C17,6,1)&"x","0x1x2x3x4x5x6x7x8x9x")),ISNUMBER(FIND(MID(C17,7,1)&"x","0x1x2x3x4x5x6x7x8x9x")),ISNUMBER(FIND(MID(C17,8,1)&"x","0x1x2x3x4x5x6x7x8x9x")))),"付与IDの形式を確認",IF(COUNTIFS(付与!$A$8:$A$27,C17)<>1,"付与IDが不明・重複",IF(NOT(AND(ISNUMBER(D17),OR(D17=0.5,D17=1))),"配分は0.5日または1日",IF(COUNTIFS($B$8:$B$107,B17,$C$8:$C$107,C17)>1,"同じ取得/付与の組合せが重複",IF(OR(E17<F17,E17>G17),"取得日が有効期間外","確認済み")))))))))) | I17: =IF(H17="","",IF(H17="確認済み",0,1)) | J17: =IF(H17="","",IF(OR(I17<>0,有休残数!$I$3<>0),NA(),IF(E17<=有休残数!$B$3,D17,0))) | K17: =IF(H17="","",IF(I17<>0,0,IF(有休残数!$I$3<>0,0,IF(AND(ISNUMBER(E17),E17=INDEX(取得!$B$8:$B$38,MATCH(B17,取得!$A$8:$A$38,0)),ISNUMBER(F17),F17=INDEX(付与!$B$8:$B$27,MATCH(C17,付与!$A$8:$A$27,0)),ISNUMBER(G17),G17=INDEX(付与!$C$8:$C$27,MATCH(C17,付与!$A$8:$A$27,0)),ISNUMBER(J17),J17=IF(E17<=有休残数!$B$3,D17,0)),0,1))))
E18: =IF(COUNTA(A18:D18)=0,"",IF(AND(ISTEXT(B18),LEN(B18)=8,EXACT(LEFT(B18,4),"USE-"),ISNUMBER(FIND(MID(B18,5,1)&"x","0x1x2x3x4x5x6x7x8x9x")),ISNUMBER(FIND(MID(B18,6,1)&"x","0x1x2x3x4x5x6x7x8x9x")),ISNUMBER(FIND(MID(B18,7,1)&"x","0x1x2x3x4x5x6x7x8x9x")),ISNUMBER(FIND(MID(B18,8,1)&"x","0x1x2x3x4x5x6x7x8x9x"))),IF(COUNTIFS(取得!$A$8:$A$38,B18)=1,INDEX(取得!$B$8:$B$38,MATCH(B18,取得!$A$8:$A$38,0)),NA()),NA())) | F18: =IF(COUNTA(A18:D18)=0,"",IF(AND(ISTEXT(C18),LEN(C18)=8,EXACT(LEFT(C18,4),"GRT-"),ISNUMBER(FIND(MID(C18,5,1)&"x","0x1x2x3x4x5x6x7x8x9x")),ISNUMBER(FIND(MID(C18,6,1)&"x","0x1x2x3x4x5x6x7x8x9x")),ISNUMBER(FIND(MID(C18,7,1)&"x","0x1x2x3x4x5x6x7x8x9x")),ISNUMBER(FIND(MID(C18,8,1)&"x","0x1x2x3x4x5x6x7x8x9x"))),IF(COUNTIFS(付与!$A$8:$A$27,C18)=1,INDEX(付与!$B$8:$B$27,MATCH(C18,付与!$A$8:$A$27,0)),NA()),NA())) | G18: =IF(COUNTA(A18:D18)=0,"",IF(AND(ISTEXT(C18),LEN(C18)=8,EXACT(LEFT(C18,4),"GRT-"),ISNUMBER(FIND(MID(C18,5,1)&"x","0x1x2x3x4x5x6x7x8x9x")),ISNUMBER(FIND(MID(C18,6,1)&"x","0x1x2x3x4x5x6x7x8x9x")),ISNUMBER(FIND(MID(C18,7,1)&"x","0x1x2x3x4x5x6x7x8x9x")),ISNUMBER(FIND(MID(C18,8,1)&"x","0x1x2x3x4x5x6x7x8x9x"))),IF(COUNTIFS(付与!$A$8:$A$27,C18)=1,INDEX(付与!$C$8:$C$27,MATCH(C18,付与!$A$8:$A$27,0)),NA()),NA())) | H18: =IF(COUNTA(A18:D18)=0,"",IF(NOT(AND(ISTEXT(A18),LEN(A18)=8,EXACT(LEFT(A18,4),"ALL-"),ISNUMBER(FIND(MID(A18,5,1)&"x","0x1x2x3x4x5x6x7x8x9x")),ISNUMBER(FIND(MID(A18,6,1)&"x","0x1x2x3x4x5x6x7x8x9x")),ISNUMBER(FIND(MID(A18,7,1)&"x","0x1x2x3x4x5x6x7x8x9x")),ISNUMBER(FIND(MID(A18,8,1)&"x","0x1x2x3x4x5x6x7x8x9x")))),"IDはALL-と半角数字4桁",IF(COUNTIFS($A$8:$A$107,A18)>1,"配分IDが重複",IF(NOT(AND(ISTEXT(B18),LEN(B18)=8,EXACT(LEFT(B18,4),"USE-"),ISNUMBER(FIND(MID(B18,5,1)&"x","0x1x2x3x4x5x6x7x8x9x")),ISNUMBER(FIND(MID(B18,6,1)&"x","0x1x2x3x4x5x6x7x8x9x")),ISNUMBER(FIND(MID(B18,7,1)&"x","0x1x2x3x4x5x6x7x8x9x")),ISNUMBER(FIND(MID(B18,8,1)&"x","0x1x2x3x4x5x6x7x8x9x")))),"取得IDの形式を確認",IF(COUNTIFS(取得!$A$8:$A$38,B18)<>1,"取得IDが不明・重複",IF(NOT(AND(ISTEXT(C18),LEN(C18)=8,EXACT(LEFT(C18,4),"GRT-"),ISNUMBER(FIND(MID(C18,5,1)&"x","0x1x2x3x4x5x6x7x8x9x")),ISNUMBER(FIND(MID(C18,6,1)&"x","0x1x2x3x4x5x6x7x8x9x")),ISNUMBER(FIND(MID(C18,7,1)&"x","0x1x2x3x4x5x6x7x8x9x")),ISNUMBER(FIND(MID(C18,8,1)&"x","0x1x2x3x4x5x6x7x8x9x")))),"付与IDの形式を確認",IF(COUNTIFS(付与!$A$8:$A$27,C18)<>1,"付与IDが不明・重複",IF(NOT(AND(ISNUMBER(D18),OR(D18=0.5,D18=1))),"配分は0.5日または1日",IF(COUNTIFS($B$8:$B$107,B18,$C$8:$C$107,C18)>1,"同じ取得/付与の組合せが重複",IF(OR(E18<F18,E18>G18),"取得日が有効期間外","確認済み")))))))))) | I18: =IF(H18="","",IF(H18="確認済み",0,1)) | J18: =IF(H18="","",IF(OR(I18<>0,有休残数!$I$3<>0),NA(),IF(E18<=有休残数!$B$3,D18,0))) | K18: =IF(H18="","",IF(I18<>0,0,IF(有休残数!$I$3<>0,0,IF(AND(ISNUMBER(E18),E18=INDEX(取得!$B$8:$B$38,MATCH(B18,取得!$A$8:$A$38,0)),ISNUMBER(F18),F18=INDEX(付与!$B$8:$B$27,MATCH(C18,付与!$A$8:$A$27,0)),ISNUMBER(G18),G18=INDEX(付与!$C$8:$C$27,MATCH(C18,付与!$A$8:$A$27,0)),ISNUMBER(J18),J18=IF(E18<=有休残数!$B$3,D18,0)),0,1))))
E19: =IF(COUNTA(A19:D19)=0,"",IF(AND(ISTEXT(B19),LEN(B19)=8,EXACT(LEFT(B19,4),"USE-"),ISNUMBER(FIND(MID(B19,5,1)&"x","0x1x2x3x4x5x6x7x8x9x")),ISNUMBER(FIND(MID(B19,6,1)&"x","0x1x2x3x4x5x6x7x8x9x")),ISNUMBER(FIND(MID(B19,7,1)&"x","0x1x2x3x4x5x6x7x8x9x")),ISNUMBER(FIND(MID(B19,8,1)&"x","0x1x2x3x4x5x6x7x8x9x"))),IF(COUNTIFS(取得!$A$8:$A$38,B19)=1,INDEX(取得!$B$8:$B$38,MATCH(B19,取得!$A$8:$A$38,0)),NA()),NA())) | F19: =IF(COUNTA(A19:D19)=0,"",IF(AND(ISTEXT(C19),LEN(C19)=8,EXACT(LEFT(C19,4),"GRT-"),ISNUMBER(FIND(MID(C19,5,1)&"x","0x1x2x3x4x5x6x7x8x9x")),ISNUMBER(FIND(MID(C19,6,1)&"x","0x1x2x3x4x5x6x7x8x9x")),ISNUMBER(FIND(MID(C19,7,1)&"x","0x1x2x3x4x5x6x7x8x9x")),ISNUMBER(FIND(MID(C19,8,1)&"x","0x1x2x3x4x5x6x7x8x9x"))),IF(COUNTIFS(付与!$A$8:$A$27,C19)=1,INDEX(付与!$B$8:$B$27,MATCH(C19,付与!$A$8:$A$27,0)),NA()),NA())) | G19: =IF(COUNTA(A19:D19)=0,"",IF(AND(ISTEXT(C19),LEN(C19)=8,EXACT(LEFT(C19,4),"GRT-"),ISNUMBER(FIND(MID(C19,5,1)&"x","0x1x2x3x4x5x6x7x8x9x")),ISNUMBER(FIND(MID(C19,6,1)&"x","0x1x2x3x4x5x6x7x8x9x")),ISNUMBER(FIND(MID(C19,7,1)&"x","0x1x2x3x4x5x6x7x8x9x")),ISNUMBER(FIND(MID(C19,8,1)&"x","0x1x2x3x4x5x6x7x8x9x"))),IF(COUNTIFS(付与!$A$8:$A$27,C19)=1,INDEX(付与!$C$8:$C$27,MATCH(C19,付与!$A$8:$A$27,0)),NA()),NA())) | H19: =IF(COUNTA(A19:D19)=0,"",IF(NOT(AND(ISTEXT(A19),LEN(A19)=8,EXACT(LEFT(A19,4),"ALL-"),ISNUMBER(FIND(MID(A19,5,1)&"x","0x1x2x3x4x5x6x7x8x9x")),ISNUMBER(FIND(MID(A19,6,1)&"x","0x1x2x3x4x5x6x7x8x9x")),ISNUMBER(FIND(MID(A19,7,1)&"x","0x1x2x3x4x5x6x7x8x9x")),ISNUMBER(FIND(MID(A19,8,1)&"x","0x1x2x3x4x5x6x7x8x9x")))),"IDはALL-と半角数字4桁",IF(COUNTIFS($A$8:$A$107,A19)>1,"配分IDが重複",IF(NOT(AND(ISTEXT(B19),LEN(B19)=8,EXACT(LEFT(B19,4),"USE-"),ISNUMBER(FIND(MID(B19,5,1)&"x","0x1x2x3x4x5x6x7x8x9x")),ISNUMBER(FIND(MID(B19,6,1)&"x","0x1x2x3x4x5x6x7x8x9x")),ISNUMBER(FIND(MID(B19,7,1)&"x","0x1x2x3x4x5x6x7x8x9x")),ISNUMBER(FIND(MID(B19,8,1)&"x","0x1x2x3x4x5x6x7x8x9x")))),"取得IDの形式を確認",IF(COUNTIFS(取得!$A$8:$A$38,B19)<>1,"取得IDが不明・重複",IF(NOT(AND(ISTEXT(C19),LEN(C19)=8,EXACT(LEFT(C19,4),"GRT-"),ISNUMBER(FIND(MID(C19,5,1)&"x","0x1x2x3x4x5x6x7x8x9x")),ISNUMBER(FIND(MID(C19,6,1)&"x","0x1x2x3x4x5x6x7x8x9x")),ISNUMBER(FIND(MID(C19,7,1)&"x","0x1x2x3x4x5x6x7x8x9x")),ISNUMBER(FIND(MID(C19,8,1)&"x","0x1x2x3x4x5x6x7x8x9x")))),"付与IDの形式を確認",IF(COUNTIFS(付与!$A$8:$A$27,C19)<>1,"付与IDが不明・重複",IF(NOT(AND(ISNUMBER(D19),OR(D19=0.5,D19=1))),"配分は0.5日または1日",IF(COUNTIFS($B$8:$B$107,B19,$C$8:$C$107,C19)>1,"同じ取得/付与の組合せが重複",IF(OR(E19<F19,E19>G19),"取得日が有効期間外","確認済み")))))))))) | I19: =IF(H19="","",IF(H19="確認済み",0,1)) | J19: =IF(H19="","",IF(OR(I19<>0,有休残数!$I$3<>0),NA(),IF(E19<=有休残数!$B$3,D19,0))) | K19: =IF(H19="","",IF(I19<>0,0,IF(有休残数!$I$3<>0,0,IF(AND(ISNUMBER(E19),E19=INDEX(取得!$B$8:$B$38,MATCH(B19,取得!$A$8:$A$38,0)),ISNUMBER(F19),F19=INDEX(付与!$B$8:$B$27,MATCH(C19,付与!$A$8:$A$27,0)),ISNUMBER(G19),G19=INDEX(付与!$C$8:$C$27,MATCH(C19,付与!$A$8:$A$27,0)),ISNUMBER(J19),J19=IF(E19<=有休残数!$B$3,D19,0)),0,1))))
E20: =IF(COUNTA(A20:D20)=0,"",IF(AND(ISTEXT(B20),LEN(B20)=8,EXACT(LEFT(B20,4),"USE-"),ISNUMBER(FIND(MID(B20,5,1)&"x","0x1x2x3x4x5x6x7x8x9x")),ISNUMBER(FIND(MID(B20,6,1)&"x","0x1x2x3x4x5x6x7x8x9x")),ISNUMBER(FIND(MID(B20,7,1)&"x","0x1x2x3x4x5x6x7x8x9x")),ISNUMBER(FIND(MID(B20,8,1)&"x","0x1x2x3x4x5x6x7x8x9x"))),IF(COUNTIFS(取得!$A$8:$A$38,B20)=1,INDEX(取得!$B$8:$B$38,MATCH(B20,取得!$A$8:$A$38,0)),NA()),NA())) | F20: =IF(COUNTA(A20:D20)=0,"",IF(AND(ISTEXT(C20),LEN(C20)=8,EXACT(LEFT(C20,4),"GRT-"),ISNUMBER(FIND(MID(C20,5,1)&"x","0x1x2x3x4x5x6x7x8x9x")),ISNUMBER(FIND(MID(C20,6,1)&"x","0x1x2x3x4x5x6x7x8x9x")),ISNUMBER(FIND(MID(C20,7,1)&"x","0x1x2x3x4x5x6x7x8x9x")),ISNUMBER(FIND(MID(C20,8,1)&"x","0x1x2x3x4x5x6x7x8x9x"))),IF(COUNTIFS(付与!$A$8:$A$27,C20)=1,INDEX(付与!$B$8:$B$27,MATCH(C20,付与!$A$8:$A$27,0)),NA()),NA())) | G20: =IF(COUNTA(A20:D20)=0,"",IF(AND(ISTEXT(C20),LEN(C20)=8,EXACT(LEFT(C20,4),"GRT-"),ISNUMBER(FIND(MID(C20,5,1)&"x","0x1x2x3x4x5x6x7x8x9x")),ISNUMBER(FIND(MID(C20,6,1)&"x","0x1x2x3x4x5x6x7x8x9x")),ISNUMBER(FIND(MID(C20,7,1)&"x","0x1x2x3x4x5x6x7x8x9x")),ISNUMBER(FIND(MID(C20,8,1)&"x","0x1x2x3x4x5x6x7x8x9x"))),IF(COUNTIFS(付与!$A$8:$A$27,C20)=1,INDEX(付与!$C$8:$C$27,MATCH(C20,付与!$A$8:$A$27,0)),NA()),NA())) | H20: =IF(COUNTA(A20:D20)=0,"",IF(NOT(AND(ISTEXT(A20),LEN(A20)=8,EXACT(LEFT(A20,4),"ALL-"),ISNUMBER(FIND(MID(A20,5,1)&"x","0x1x2x3x4x5x6x7x8x9x")),ISNUMBER(FIND(MID(A20,6,1)&"x","0x1x2x3x4x5x6x7x8x9x")),ISNUMBER(FIND(MID(A20,7,1)&"x","0x1x2x3x4x5x6x7x8x9x")),ISNUMBER(FIND(MID(A20,8,1)&"x","0x1x2x3x4x5x6x7x8x9x")))),"IDはALL-と半角数字4桁",IF(COUNTIFS($A$8:$A$107,A20)>1,"配分IDが重複",IF(NOT(AND(ISTEXT(B20),LEN(B20)=8,EXACT(LEFT(B20,4),"USE-"),ISNUMBER(FIND(MID(B20,5,1)&"x","0x1x2x3x4x5x6x7x8x9x")),ISNUMBER(FIND(MID(B20,6,1)&"x","0x1x2x3x4x5x6x7x8x9x")),ISNUMBER(FIND(MID(B20,7,1)&"x","0x1x2x3x4x5x6x7x8x9x")),ISNUMBER(FIND(MID(B20,8,1)&"x","0x1x2x3x4x5x6x7x8x9x")))),"取得IDの形式を確認",IF(COUNTIFS(取得!$A$8:$A$38,B20)<>1,"取得IDが不明・重複",IF(NOT(AND(ISTEXT(C20),LEN(C20)=8,EXACT(LEFT(C20,4),"GRT-"),ISNUMBER(FIND(MID(C20,5,1)&"x","0x1x2x3x4x5x6x7x8x9x")),ISNUMBER(FIND(MID(C20,6,1)&"x","0x1x2x3x4x5x6x7x8x9x")),ISNUMBER(FIND(MID(C20,7,1)&"x","0x1x2x3x4x5x6x7x8x9x")),ISNUMBER(FIND(MID(C20,8,1)&"x","0x1x2x3x4x5x6x7x8x9x")))),"付与IDの形式を確認",IF(COUNTIFS(付与!$A$8:$A$27,C20)<>1,"付与IDが不明・重複",IF(NOT(AND(ISNUMBER(D20),OR(D20=0.5,D20=1))),"配分は0.5日または1日",IF(COUNTIFS($B$8:$B$107,B20,$C$8:$C$107,C20)>1,"同じ取得/付与の組合せが重複",IF(OR(E20<F20,E20>G20),"取得日が有効期間外","確認済み")))))))))) | I20: =IF(H20="","",IF(H20="確認済み",0,1)) | J20: =IF(H20="","",IF(OR(I20<>0,有休残数!$I$3<>0),NA(),IF(E20<=有休残数!$B$3,D20,0))) | K20: =IF(H20="","",IF(I20<>0,0,IF(有休残数!$I$3<>0,0,IF(AND(ISNUMBER(E20),E20=INDEX(取得!$B$8:$B$38,MATCH(B20,取得!$A$8:$A$38,0)),ISNUMBER(F20),F20=INDEX(付与!$B$8:$B$27,MATCH(C20,付与!$A$8:$A$27,0)),ISNUMBER(G20),G20=INDEX(付与!$C$8:$C$27,MATCH(C20,付与!$A$8:$A$27,0)),ISNUMBER(J20),J20=IF(E20<=有休残数!$B$3,D20,0)),0,1))))
E21: =IF(COUNTA(A21:D21)=0,"",IF(AND(ISTEXT(B21),LEN(B21)=8,EXACT(LEFT(B21,4),"USE-"),ISNUMBER(FIND(MID(B21,5,1)&"x","0x1x2x3x4x5x6x7x8x9x")),ISNUMBER(FIND(MID(B21,6,1)&"x","0x1x2x3x4x5x6x7x8x9x")),ISNUMBER(FIND(MID(B21,7,1)&"x","0x1x2x3x4x5x6x7x8x9x")),ISNUMBER(FIND(MID(B21,8,1)&"x","0x1x2x3x4x5x6x7x8x9x"))),IF(COUNTIFS(取得!$A$8:$A$38,B21)=1,INDEX(取得!$B$8:$B$38,MATCH(B21,取得!$A$8:$A$38,0)),NA()),NA())) | F21: =IF(COUNTA(A21:D21)=0,"",IF(AND(ISTEXT(C21),LEN(C21)=8,EXACT(LEFT(C21,4),"GRT-"),ISNUMBER(FIND(MID(C21,5,1)&"x","0x1x2x3x4x5x6x7x8x9x")),ISNUMBER(FIND(MID(C21,6,1)&"x","0x1x2x3x4x5x6x7x8x9x")),ISNUMBER(FIND(MID(C21,7,1)&"x","0x1x2x3x4x5x6x7x8x9x")),ISNUMBER(FIND(MID(C21,8,1)&"x","0x1x2x3x4x5x6x7x8x9x"))),IF(COUNTIFS(付与!$A$8:$A$27,C21)=1,INDEX(付与!$B$8:$B$27,MATCH(C21,付与!$A$8:$A$27,0)),NA()),NA())) | G21: =IF(COUNTA(A21:D21)=0,"",IF(AND(ISTEXT(C21),LEN(C21)=8,EXACT(LEFT(C21,4),"GRT-"),ISNUMBER(FIND(MID(C21,5,1)&"x","0x1x2x3x4x5x6x7x8x9x")),ISNUMBER(FIND(MID(C21,6,1)&"x","0x1x2x3x4x5x6x7x8x9x")),ISNUMBER(FIND(MID(C21,7,1)&"x","0x1x2x3x4x5x6x7x8x9x")),ISNUMBER(FIND(MID(C21,8,1)&"x","0x1x2x3x4x5x6x7x8x9x"))),IF(COUNTIFS(付与!$A$8:$A$27,C21)=1,INDEX(付与!$C$8:$C$27,MATCH(C21,付与!$A$8:$A$27,0)),NA()),NA())) | H21: =IF(COUNTA(A21:D21)=0,"",IF(NOT(AND(ISTEXT(A21),LEN(A21)=8,EXACT(LEFT(A21,4),"ALL-"),ISNUMBER(FIND(MID(A21,5,1)&"x","0x1x2x3x4x5x6x7x8x9x")),ISNUMBER(FIND(MID(A21,6,1)&"x","0x1x2x3x4x5x6x7x8x9x")),ISNUMBER(FIND(MID(A21,7,1)&"x","0x1x2x3x4x5x6x7x8x9x")),ISNUMBER(FIND(MID(A21,8,1)&"x","0x1x2x3x4x5x6x7x8x9x")))),"IDはALL-と半角数字4桁",IF(COUNTIFS($A$8:$A$107,A21)>1,"配分IDが重複",IF(NOT(AND(ISTEXT(B21),LEN(B21)=8,EXACT(LEFT(B21,4),"USE-"),ISNUMBER(FIND(MID(B21,5,1)&"x","0x1x2x3x4x5x6x7x8x9x")),ISNUMBER(FIND(MID(B21,6,1)&"x","0x1x2x3x4x5x6x7x8x9x")),ISNUMBER(FIND(MID(B21,7,1)&"x","0x1x2x3x4x5x6x7x8x9x")),ISNUMBER(FIND(MID(B21,8,1)&"x","0x1x2x3x4x5x6x7x8x9x")))),"取得IDの形式を確認",IF(COUNTIFS(取得!$A$8:$A$38,B21)<>1,"取得IDが不明・重複",IF(NOT(AND(ISTEXT(C21),LEN(C21)=8,EXACT(LEFT(C21,4),"GRT-"),ISNUMBER(FIND(MID(C21,5,1)&"x","0x1x2x3x4x5x6x7x8x9x")),ISNUMBER(FIND(MID(C21,6,1)&"x","0x1x2x3x4x5x6x7x8x9x")),ISNUMBER(FIND(MID(C21,7,1)&"x","0x1x2x3x4x5x6x7x8x9x")),ISNUMBER(FIND(MID(C21,8,1)&"x","0x1x2x3x4x5x6x7x8x9x")))),"付与IDの形式を確認",IF(COUNTIFS(付与!$A$8:$A$27,C21)<>1,"付与IDが不明・重複",IF(NOT(AND(ISNUMBER(D21),OR(D21=0.5,D21=1))),"配分は0.5日または1日",IF(COUNTIFS($B$8:$B$107,B21,$C$8:$C$107,C21)>1,"同じ取得/付与の組合せが重複",IF(OR(E21<F21,E21>G21),"取得日が有効期間外","確認済み")))))))))) | I21: =IF(H21="","",IF(H21="確認済み",0,1)) | J21: =IF(H21="","",IF(OR(I21<>0,有休残数!$I$3<>0),NA(),IF(E21<=有休残数!$B$3,D21,0))) | K21: =IF(H21="","",IF(I21<>0,0,IF(有休残数!$I$3<>0,0,IF(AND(ISNUMBER(E21),E21=INDEX(取得!$B$8:$B$38,MATCH(B21,取得!$A$8:$A$38,0)),ISNUMBER(F21),F21=INDEX(付与!$B$8:$B$27,MATCH(C21,付与!$A$8:$A$27,0)),ISNUMBER(G21),G21=INDEX(付与!$C$8:$C$27,MATCH(C21,付与!$A$8:$A$27,0)),ISNUMBER(J21),J21=IF(E21<=有休残数!$B$3,D21,0)),0,1))))
E22: =IF(COUNTA(A22:D22)=0,"",IF(AND(ISTEXT(B22),LEN(B22)=8,EXACT(LEFT(B22,4),"USE-"),ISNUMBER(FIND(MID(B22,5,1)&"x","0x1x2x3x4x5x6x7x8x9x")),ISNUMBER(FIND(MID(B22,6,1)&"x","0x1x2x3x4x5x6x7x8x9x")),ISNUMBER(FIND(MID(B22,7,1)&"x","0x1x2x3x4x5x6x7x8x9x")),ISNUMBER(FIND(MID(B22,8,1)&"x","0x1x2x3x4x5x6x7x8x9x"))),IF(COUNTIFS(取得!$A$8:$A$38,B22)=1,INDEX(取得!$B$8:$B$38,MATCH(B22,取得!$A$8:$A$38,0)),NA()),NA())) | F22: =IF(COUNTA(A22:D22)=0,"",IF(AND(ISTEXT(C22),LEN(C22)=8,EXACT(LEFT(C22,4),"GRT-"),ISNUMBER(FIND(MID(C22,5,1)&"x","0x1x2x3x4x5x6x7x8x9x")),ISNUMBER(FIND(MID(C22,6,1)&"x","0x1x2x3x4x5x6x7x8x9x")),ISNUMBER(FIND(MID(C22,7,1)&"x","0x1x2x3x4x5x6x7x8x9x")),ISNUMBER(FIND(MID(C22,8,1)&"x","0x1x2x3x4x5x6x7x8x9x"))),IF(COUNTIFS(付与!$A$8:$A$27,C22)=1,INDEX(付与!$B$8:$B$27,MATCH(C22,付与!$A$8:$A$27,0)),NA()),NA())) | G22: =IF(COUNTA(A22:D22)=0,"",IF(AND(ISTEXT(C22),LEN(C22)=8,EXACT(LEFT(C22,4),"GRT-"),ISNUMBER(FIND(MID(C22,5,1)&"x","0x1x2x3x4x5x6x7x8x9x")),ISNUMBER(FIND(MID(C22,6,1)&"x","0x1x2x3x4x5x6x7x8x9x")),ISNUMBER(FIND(MID(C22,7,1)&"x","0x1x2x3x4x5x6x7x8x9x")),ISNUMBER(FIND(MID(C22,8,1)&"x","0x1x2x3x4x5x6x7x8x9x"))),IF(COUNTIFS(付与!$A$8:$A$27,C22)=1,INDEX(付与!$C$8:$C$27,MATCH(C22,付与!$A$8:$A$27,0)),NA()),NA())) | H22: =IF(COUNTA(A22:D22)=0,"",IF(NOT(AND(ISTEXT(A22),LEN(A22)=8,EXACT(LEFT(A22,4),"ALL-"),ISNUMBER(FIND(MID(A22,5,1)&"x","0x1x2x3x4x5x6x7x8x9x")),ISNUMBER(FIND(MID(A22,6,1)&"x","0x1x2x3x4x5x6x7x8x9x")),ISNUMBER(FIND(MID(A22,7,1)&"x","0x1x2x3x4x5x6x7x8x9x")),ISNUMBER(FIND(MID(A22,8,1)&"x","0x1x2x3x4x5x6x7x8x9x")))),"IDはALL-と半角数字4桁",IF(COUNTIFS($A$8:$A$107,A22)>1,"配分IDが重複",IF(NOT(AND(ISTEXT(B22),LEN(B22)=8,EXACT(LEFT(B22,4),"USE-"),ISNUMBER(FIND(MID(B22,5,1)&"x","0x1x2x3x4x5x6x7x8x9x")),ISNUMBER(FIND(MID(B22,6,1)&"x","0x1x2x3x4x5x6x7x8x9x")),ISNUMBER(FIND(MID(B22,7,1)&"x","0x1x2x3x4x5x6x7x8x9x")),ISNUMBER(FIND(MID(B22,8,1)&"x","0x1x2x3x4x5x6x7x8x9x")))),"取得IDの形式を確認",IF(COUNTIFS(取得!$A$8:$A$38,B22)<>1,"取得IDが不明・重複",IF(NOT(AND(ISTEXT(C22),LEN(C22)=8,EXACT(LEFT(C22,4),"GRT-"),ISNUMBER(FIND(MID(C22,5,1)&"x","0x1x2x3x4x5x6x7x8x9x")),ISNUMBER(FIND(MID(C22,6,1)&"x","0x1x2x3x4x5x6x7x8x9x")),ISNUMBER(FIND(MID(C22,7,1)&"x","0x1x2x3x4x5x6x7x8x9x")),ISNUMBER(FIND(MID(C22,8,1)&"x","0x1x2x3x4x5x6x7x8x9x")))),"付与IDの形式を確認",IF(COUNTIFS(付与!$A$8:$A$27,C22)<>1,"付与IDが不明・重複",IF(NOT(AND(ISNUMBER(D22),OR(D22=0.5,D22=1))),"配分は0.5日または1日",IF(COUNTIFS($B$8:$B$107,B22,$C$8:$C$107,C22)>1,"同じ取得/付与の組合せが重複",IF(OR(E22<F22,E22>G22),"取得日が有効期間外","確認済み")))))))))) | I22: =IF(H22="","",IF(H22="確認済み",0,1)) | J22: =IF(H22="","",IF(OR(I22<>0,有休残数!$I$3<>0),NA(),IF(E22<=有休残数!$B$3,D22,0))) | K22: =IF(H22="","",IF(I22<>0,0,IF(有休残数!$I$3<>0,0,IF(AND(ISNUMBER(E22),E22=INDEX(取得!$B$8:$B$38,MATCH(B22,取得!$A$8:$A$38,0)),ISNUMBER(F22),F22=INDEX(付与!$B$8:$B$27,MATCH(C22,付与!$A$8:$A$27,0)),ISNUMBER(G22),G22=INDEX(付与!$C$8:$C$27,MATCH(C22,付与!$A$8:$A$27,0)),ISNUMBER(J22),J22=IF(E22<=有休残数!$B$3,D22,0)),0,1))))
E23: =IF(COUNTA(A23:D23)=0,"",IF(AND(ISTEXT(B23),LEN(B23)=8,EXACT(LEFT(B23,4),"USE-"),ISNUMBER(FIND(MID(B23,5,1)&"x","0x1x2x3x4x5x6x7x8x9x")),ISNUMBER(FIND(MID(B23,6,1)&"x","0x1x2x3x4x5x6x7x8x9x")),ISNUMBER(FIND(MID(B23,7,1)&"x","0x1x2x3x4x5x6x7x8x9x")),ISNUMBER(FIND(MID(B23,8,1)&"x","0x1x2x3x4x5x6x7x8x9x"))),IF(COUNTIFS(取得!$A$8:$A$38,B23)=1,INDEX(取得!$B$8:$B$38,MATCH(B23,取得!$A$8:$A$38,0)),NA()),NA())) | F23: =IF(COUNTA(A23:D23)=0,"",IF(AND(ISTEXT(C23),LEN(C23)=8,EXACT(LEFT(C23,4),"GRT-"),ISNUMBER(FIND(MID(C23,5,1)&"x","0x1x2x3x4x5x6x7x8x9x")),ISNUMBER(FIND(MID(C23,6,1)&"x","0x1x2x3x4x5x6x7x8x9x")),ISNUMBER(FIND(MID(C23,7,1)&"x","0x1x2x3x4x5x6x7x8x9x")),ISNUMBER(FIND(MID(C23,8,1)&"x","0x1x2x3x4x5x6x7x8x9x"))),IF(COUNTIFS(付与!$A$8:$A$27,C23)=1,INDEX(付与!$B$8:$B$27,MATCH(C23,付与!$A$8:$A$27,0)),NA()),NA())) | G23: =IF(COUNTA(A23:D23)=0,"",IF(AND(ISTEXT(C23),LEN(C23)=8,EXACT(LEFT(C23,4),"GRT-"),ISNUMBER(FIND(MID(C23,5,1)&"x","0x1x2x3x4x5x6x7x8x9x")),ISNUMBER(FIND(MID(C23,6,1)&"x","0x1x2x3x4x5x6x7x8x9x")),ISNUMBER(FIND(MID(C23,7,1)&"x","0x1x2x3x4x5x6x7x8x9x")),ISNUMBER(FIND(MID(C23,8,1)&"x","0x1x2x3x4x5x6x7x8x9x"))),IF(COUNTIFS(付与!$A$8:$A$27,C23)=1,INDEX(付与!$C$8:$C$27,MATCH(C23,付与!$A$8:$A$27,0)),NA()),NA())) | H23: =IF(COUNTA(A23:D23)=0,"",IF(NOT(AND(ISTEXT(A23),LEN(A23)=8,EXACT(LEFT(A23,4),"ALL-"),ISNUMBER(FIND(MID(A23,5,1)&"x","0x1x2x3x4x5x6x7x8x9x")),ISNUMBER(FIND(MID(A23,6,1)&"x","0x1x2x3x4x5x6x7x8x9x")),ISNUMBER(FIND(MID(A23,7,1)&"x","0x1x2x3x4x5x6x7x8x9x")),ISNUMBER(FIND(MID(A23,8,1)&"x","0x1x2x3x4x5x6x7x8x9x")))),"IDはALL-と半角数字4桁",IF(COUNTIFS($A$8:$A$107,A23)>1,"配分IDが重複",IF(NOT(AND(ISTEXT(B23),LEN(B23)=8,EXACT(LEFT(B23,4),"USE-"),ISNUMBER(FIND(MID(B23,5,1)&"x","0x1x2x3x4x5x6x7x8x9x")),ISNUMBER(FIND(MID(B23,6,1)&"x","0x1x2x3x4x5x6x7x8x9x")),ISNUMBER(FIND(MID(B23,7,1)&"x","0x1x2x3x4x5x6x7x8x9x")),ISNUMBER(FIND(MID(B23,8,1)&"x","0x1x2x3x4x5x6x7x8x9x")))),"取得IDの形式を確認",IF(COUNTIFS(取得!$A$8:$A$38,B23)<>1,"取得IDが不明・重複",IF(NOT(AND(ISTEXT(C23),LEN(C23)=8,EXACT(LEFT(C23,4),"GRT-"),ISNUMBER(FIND(MID(C23,5,1)&"x","0x1x2x3x4x5x6x7x8x9x")),ISNUMBER(FIND(MID(C23,6,1)&"x","0x1x2x3x4x5x6x7x8x9x")),ISNUMBER(FIND(MID(C23,7,1)&"x","0x1x2x3x4x5x6x7x8x9x")),ISNUMBER(FIND(MID(C23,8,1)&"x","0x1x2x3x4x5x6x7x8x9x")))),"付与IDの形式を確認",IF(COUNTIFS(付与!$A$8:$A$27,C23)<>1,"付与IDが不明・重複",IF(NOT(AND(ISNUMBER(D23),OR(D23=0.5,D23=1))),"配分は0.5日または1日",IF(COUNTIFS($B$8:$B$107,B23,$C$8:$C$107,C23)>1,"同じ取得/付与の組合せが重複",IF(OR(E23<F23,E23>G23),"取得日が有効期間外","確認済み")))))))))) | I23: =IF(H23="","",IF(H23="確認済み",0,1)) | J23: =IF(H23="","",IF(OR(I23<>0,有休残数!$I$3<>0),NA(),IF(E23<=有休残数!$B$3,D23,0))) | K23: =IF(H23="","",IF(I23<>0,0,IF(有休残数!$I$3<>0,0,IF(AND(ISNUMBER(E23),E23=INDEX(取得!$B$8:$B$38,MATCH(B23,取得!$A$8:$A$38,0)),ISNUMBER(F23),F23=INDEX(付与!$B$8:$B$27,MATCH(C23,付与!$A$8:$A$27,0)),ISNUMBER(G23),G23=INDEX(付与!$C$8:$C$27,MATCH(C23,付与!$A$8:$A$27,0)),ISNUMBER(J23),J23=IF(E23<=有休残数!$B$3,D23,0)),0,1))))
E24: =IF(COUNTA(A24:D24)=0,"",IF(AND(ISTEXT(B24),LEN(B24)=8,EXACT(LEFT(B24,4),"USE-"),ISNUMBER(FIND(MID(B24,5,1)&"x","0x1x2x3x4x5x6x7x8x9x")),ISNUMBER(FIND(MID(B24,6,1)&"x","0x1x2x3x4x5x6x7x8x9x")),ISNUMBER(FIND(MID(B24,7,1)&"x","0x1x2x3x4x5x6x7x8x9x")),ISNUMBER(FIND(MID(B24,8,1)&"x","0x1x2x3x4x5x6x7x8x9x"))),IF(COUNTIFS(取得!$A$8:$A$38,B24)=1,INDEX(取得!$B$8:$B$38,MATCH(B24,取得!$A$8:$A$38,0)),NA()),NA())) | F24: =IF(COUNTA(A24:D24)=0,"",IF(AND(ISTEXT(C24),LEN(C24)=8,EXACT(LEFT(C24,4),"GRT-"),ISNUMBER(FIND(MID(C24,5,1)&"x","0x1x2x3x4x5x6x7x8x9x")),ISNUMBER(FIND(MID(C24,6,1)&"x","0x1x2x3x4x5x6x7x8x9x")),ISNUMBER(FIND(MID(C24,7,1)&"x","0x1x2x3x4x5x6x7x8x9x")),ISNUMBER(FIND(MID(C24,8,1)&"x","0x1x2x3x4x5x6x7x8x9x"))),IF(COUNTIFS(付与!$A$8:$A$27,C24)=1,INDEX(付与!$B$8:$B$27,MATCH(C24,付与!$A$8:$A$27,0)),NA()),NA())) | G24: =IF(COUNTA(A24:D24)=0,"",IF(AND(ISTEXT(C24),LEN(C24)=8,EXACT(LEFT(C24,4),"GRT-"),ISNUMBER(FIND(MID(C24,5,1)&"x","0x1x2x3x4x5x6x7x8x9x")),ISNUMBER(FIND(MID(C24,6,1)&"x","0x1x2x3x4x5x6x7x8x9x")),ISNUMBER(FIND(MID(C24,7,1)&"x","0x1x2x3x4x5x6x7x8x9x")),ISNUMBER(FIND(MID(C24,8,1)&"x","0x1x2x3x4x5x6x7x8x9x"))),IF(COUNTIFS(付与!$A$8:$A$27,C24)=1,INDEX(付与!$C$8:$C$27,MATCH(C24,付与!$A$8:$A$27,0)),NA()),NA())) | H24: =IF(COUNTA(A24:D24)=0,"",IF(NOT(AND(ISTEXT(A24),LEN(A24)=8,EXACT(LEFT(A24,4),"ALL-"),ISNUMBER(FIND(MID(A24,5,1)&"x","0x1x2x3x4x5x6x7x8x9x")),ISNUMBER(FIND(MID(A24,6,1)&"x","0x1x2x3x4x5x6x7x8x9x")),ISNUMBER(FIND(MID(A24,7,1)&"x","0x1x2x3x4x5x6x7x8x9x")),ISNUMBER(FIND(MID(A24,8,1)&"x","0x1x2x3x4x5x6x7x8x9x")))),"IDはALL-と半角数字4桁",IF(COUNTIFS($A$8:$A$107,A24)>1,"配分IDが重複",IF(NOT(AND(ISTEXT(B24),LEN(B24)=8,EXACT(LEFT(B24,4),"USE-"),ISNUMBER(FIND(MID(B24,5,1)&"x","0x1x2x3x4x5x6x7x8x9x")),ISNUMBER(FIND(MID(B24,6,1)&"x","0x1x2x3x4x5x6x7x8x9x")),ISNUMBER(FIND(MID(B24,7,1)&"x","0x1x2x3x4x5x6x7x8x9x")),ISNUMBER(FIND(MID(B24,8,1)&"x","0x1x2x3x4x5x6x7x8x9x")))),"取得IDの形式を確認",IF(COUNTIFS(取得!$A$8:$A$38,B24)<>1,"取得IDが不明・重複",IF(NOT(AND(ISTEXT(C24),LEN(C24)=8,EXACT(LEFT(C24,4),"GRT-"),ISNUMBER(FIND(MID(C24,5,1)&"x","0x1x2x3x4x5x6x7x8x9x")),ISNUMBER(FIND(MID(C24,6,1)&"x","0x1x2x3x4x5x6x7x8x9x")),ISNUMBER(FIND(MID(C24,7,1)&"x","0x1x2x3x4x5x6x7x8x9x")),ISNUMBER(FIND(MID(C24,8,1)&"x","0x1x2x3x4x5x6x7x8x9x")))),"付与IDの形式を確認",IF(COUNTIFS(付与!$A$8:$A$27,C24)<>1,"付与IDが不明・重複",IF(NOT(AND(ISNUMBER(D24),OR(D24=0.5,D24=1))),"配分は0.5日または1日",IF(COUNTIFS($B$8:$B$107,B24,$C$8:$C$107,C24)>1,"同じ取得/付与の組合せが重複",IF(OR(E24<F24,E24>G24),"取得日が有効期間外","確認済み")))))))))) | I24: =IF(H24="","",IF(H24="確認済み",0,1)) | J24: =IF(H24="","",IF(OR(I24<>0,有休残数!$I$3<>0),NA(),IF(E24<=有休残数!$B$3,D24,0))) | K24: =IF(H24="","",IF(I24<>0,0,IF(有休残数!$I$3<>0,0,IF(AND(ISNUMBER(E24),E24=INDEX(取得!$B$8:$B$38,MATCH(B24,取得!$A$8:$A$38,0)),ISNUMBER(F24),F24=INDEX(付与!$B$8:$B$27,MATCH(C24,付与!$A$8:$A$27,0)),ISNUMBER(G24),G24=INDEX(付与!$C$8:$C$27,MATCH(C24,付与!$A$8:$A$27,0)),ISNUMBER(J24),J24=IF(E24<=有休残数!$B$3,D24,0)),0,1))))
... E107: =IF(COUNTA(A107:D107)=0,"",IF(AND(ISTEXT(B107),LEN(B107)=8,EXACT(LEFT(B107,4),"USE-"),ISNUMBER(FIND(MID(B107,5,1)&"x","0x1x2x3x4x5x6x7x8x9x")),ISNUMBER(FIND(MID(B107,6,1)&"x","0x1x2x3x4x5x6x7x8x9x")),ISNUMBER(FIND(MID(B107,7,1)&"x","0x1x2x3x4x5x6x7x8x9x")),ISNUMBER(FIND(MID(B107,8,1)&"x","0x1x2x3x4x5x6x7x8x9x"))),IF(COUNTIFS(取得!$A$8:$A$38,B107)=1,INDEX(取得!$B$8:$B$38,MATCH(B107,取得!$A$8:$A$38,0)),NA()),NA())) | F107: =IF(COUNTA(A107:D107)=0,"",IF(AND(ISTEXT(C107),LEN(C107)=8,EXACT(LEFT(C107,4),"GRT-"),ISNUMBER(FIND(MID(C107,5,1)&"x","0x1x2x3x4x5x6x7x8x9x")),ISNUMBER(FIND(MID(C107,6,1)&"x","0x1x2x3x4x5x6x7x8x9x")),ISNUMBER(FIND(MID(C107,7,1)&"x","0x1x2x3x4x5x6x7x8x9x")),ISNUMBER(FIND(MID(C107,8,1)&"x","0x1x2x3x4x5x6x7x8x9x"))),IF(COUNTIFS(付与!$A$8:$A$27,C107)=1,INDEX(付与!$B$8:$B$27,MATCH(C107,付与!$A$8:$A$27,0)),NA()),NA())) | G107: =IF(COUNTA(A107:D107)=0,"",IF(AND(ISTEXT(C107),LEN(C107)=8,EXACT(LEFT(C107,4),"GRT-"),ISNUMBER(FIND(MID(C107,5,1)&"x","0x1x2x3x4x5x6x7x8x9x")),ISNUMBER(FIND(MID(C107,6,1)&"x","0x1x2x3x4x5x6x7x8x9x")),ISNUMBER(FIND(MID(C107,7,1)&"x","0x1x2x3x4x5x6x7x8x9x")),ISNUMBER(FIND(MID(C107,8,1)&"x","0x1x2x3x4x5x6x7x8x9x"))),IF(COUNTIFS(付与!$A$8:$A$27,C107)=1,INDEX(付与!$C$8:$C$27,MATCH(C107,付与!$A$8:$A$27,0)),NA()),NA())) | H107: =IF(COUNTA(A107:D107)=0,"",IF(NOT(AND(ISTEXT(A107),LEN(A107)=8,EXACT(LEFT(A107,4),"ALL-"),ISNUMBER(FIND(MID(A107,5,1)&"x","0x1x2x3x4x5x6x7x8x9x")),ISNUMBER(FIND(MID(A107,6,1)&"x","0x1x2x3x4x5x6x7x8x9x")),ISNUMBER(FIND(MID(A107,7,1)&"x","0x1x2x3x4x5x6x7x8x9x")),ISNUMBER(FIND(MID(A107,8,1)&"x","0x1x2x3x4x5x6x7x8x9x")))),"IDはALL-と半角数字4桁",IF(COUNTIFS($A$8:$A$107,A107)>1,"配分IDが重複",IF(NOT(AND(ISTEXT(B107),LEN(B107)=8,EXACT(LEFT(B107,4),"USE-"),ISNUMBER(FIND(MID(B107,5,1)&"x","0x1x2x3x4x5x6x7x8x9x")),ISNUMBER(FIND(MID(B107,6,1)&"x","0x1x2x3x4x5x6x7x8x9x")),ISNUMBER(FIND(MID(B107,7,1)&"x","0x1x2x3x4x5x6x7x8x9x")),ISNUMBER(FIND(MID(B107,8,1)&"x","0x1x2x3x4x5x6x7x8x9x")))),"取得IDの形式を確認",IF(COUNTIFS(取得!$A$8:$A$38,B107)<>1,"取得IDが不明・重複",IF(NOT(AND(ISTEXT(C107),LEN(C107)=8,EXACT(LEFT(C107,4),"GRT-"),ISNUMBER(FIND(MID(C107,5,1)&"x","0x1x2x3x4x5x6x7x8x9x")),ISNUMBER(FIND(MID(C107,6,1)&"x","0x1x2x3x4x5x6x7x8x9x")),ISNUMBER(FIND(MID(C107,7,1)&"x","0x1x2x3x4x5x6x7x8x9x")),ISNUMBER(FIND(MID(C107,8,1)&"x","0x1x2x3x4x5x6x7x8x9x")))),"付与IDの形式を確認",IF(COUNTIFS(付与!$A$8:$A$27,C107)<>1,"付与IDが不明・重複",IF(NOT(AND(ISNUMBER(D107),OR(D107=0.5,D107=1))),"配分は0.5日または1日",IF(COUNTIFS($B$8:$B$107,B107,$C$8:$C$107,C107)>1,"同じ取得/付与の組合せが重複",IF(OR(E107<F107,E107>G107),"取得日が有効期間外","確認済み")))))))))) | I107: =IF(H107="","",IF(H107="確認済み",0,1)) | J107: =IF(H107="","",IF(OR(I107<>0,有休残数!$I$3<>0),NA(),IF(E107<=有休残数!$B$3,D107,0))) | K107: =IF(H107="","",IF(I107<>0,0,IF(有休残数!$I$3<>0,0,IF(AND(ISNUMBER(E107),E107=INDEX(取得!$B$8:$B$38,MATCH(B107,取得!$A$8:$A$38,0)),ISNUMBER(F107),F107=INDEX(付与!$B$8:$B$27,MATCH(C107,付与!$A$8:$A$27,0)),ISNUMBER(G107),G107=INDEX(付与!$C$8:$C$27,MATCH(C107,付与!$A$8:$A$27,0)),ISNUMBER(J107),J107=IF(E107<=有休残数!$B$3,D107,0)),0,1))))
A110: https://support.microsoft.com/en-us/excel/functions/sumifs-function
