Workbook

Sheet 期限の確認
A2: 商品の期限 | K2: 日付の前提 | L2: 入力の前提
A3: 基準日 | B3: 46326 | D3: 注意日数（日） | E3: 7 | G3: 記録確認基準日 | H3: 46331 | K3: =IF(AND(IF(ISNUMBER(B3),AND(B3>=43831,B3<=73050,B3=INT(B3)),FALSE()),IF(ISNUMBER(E3),AND(E3>=0,E3<=365,E3=INT(E3)),FALSE()),IF(ISNUMBER(H3),AND(H3>=43831,H3<=73050,H3=INT(H3)),FALSE()),B3<=H3),0,1) -> 0 | L3: =IF(AND(ISNUMBER(K3),K3=IF(AND(IF(ISNUMBER(B3),AND(B3>=43831,B3<=73050,B3=INT(B3)),FALSE()),IF(ISNUMBER(E3),AND(E3>=0,E3<=365,E3=INT(E3)),FALSE()),IF(ISNUMBER(H3),AND(H3>=43831,H3<=73050,H3=INT(H3)),FALSE()),B3<=H3),0,1)),K3,1)+SUM(期限記録!P8:Q57)+IF(COUNT(期限記録!Q8:Q57)=50,0,1) -> 0
A4: 日付比較は全登録行（数量0/未確認も含む）。開封・保存・在庫は別照合。安全性の判定はしません。
A5: 登録行（件） | B5: =IF($L$3<>0,NA(),COUNTIFS(期限記録!O8:O57,"確認済み")) -> 12 | D5: 期限日確認済（件） | E5: =IF($L$3<>0,NA(),COUNT(期限記録!K8:K57)) -> 11 | G5: 期限日未確認（件） | H5: =IF($L$3<>0,NA(),COUNTIFS(期限記録!L8:L57,"期限日未確認")) -> 1
A6: 期限超過（件） | B6: =IF($L$3<>0,NA(),COUNTIFS(期限記録!L8:L57,"期限超過")) -> 3 | D6: 期限当日（件） | E6: =IF($L$3<>0,NA(),COUNTIFS(期限記録!L8:L57,"期限当日")) -> 1 | G6: 注意期間内（件） | H6: =IF($L$3<>0,NA(),COUNTIFS(期限記録!L8:L57,"注意期間内")) -> 2
A7: 注意期間外（件） | B7: =IF($L$3<>0,NA(),COUNTIFS(期限記録!L8:L57,"注意期間外")) -> 5 | D7: 条件要確認（件） | E7: =IF($L$3<>0,NA(),SUM(期限記録!M8:M57)) -> 6 | G7: 在庫なし（件） | H7: =IF($L$3<>0,NA(),COUNTIFS(期限記録!H8:H57,"確認済",期限記録!I8:I57,0)) -> 1
A8: 在庫未確認（件） | B8: =IF($L$3<>0,NA(),COUNTIFS(期限記録!H8:H57,"未確認")) -> 1 | D8: 種類未確認（件） | E8: =IF($L$3<>0,NA(),COUNTIFS(期限記録!C8:C57,"未確認")) -> 1 | G8: 表示条件外（件） | H8: =IF($L$3<>0,NA(),SUM(期限記録!N8:N57)) -> 2
A9: 管理ID | B9: 品目ID | C9: 期限種類 | D9: 期限日 | E9: 日付差（日） | F9: 開封状態 | G9: 保存条件 | H9: 数量（個） | I9: 日付区分
A10: =IF($L$3<>0,NA(),IF(COUNTA(期限記録!A8:J8)=0,"",期限記録!A8)) -> LOT-0001 | B10: =IF($L$3<>0,NA(),IF(COUNTA(期限記録!A8:J8)=0,"",期限記録!B8)) -> SKU-0001 | C10: =IF($L$3<>0,NA(),IF(COUNTA(期限記録!A8:J8)=0,"",期限記録!C8)) -> 消費期限 | D10: =IF($L$3<>0,NA(),IF(COUNTA(期限記録!A8:J8)=0,"",IF(COUNTA(期限記録!E8)=0,"",期限記録!E8))) -> 46325 | E10: =IF($L$3<>0,NA(),IF(COUNTA(期限記録!A8:J8)=0,"",期限記録!K8)) -> -1 | F10: =IF($L$3<>0,NA(),IF(COUNTA(期限記録!A8:J8)=0,"",期限記録!F8)) -> 未開封 | G10: =IF($L$3<>0,NA(),IF(COUNTA(期限記録!A8:J8)=0,"",期限記録!G8)) -> 適合 | H10: =IF($L$3<>0,NA(),IF(COUNTA(期限記録!A8:J8)=0,"",IF(COUNTA(期限記録!I8)=0,"",期限記録!I8))) -> 5 | I10: =IF($L$3<>0,NA(),IF(COUNTA(期限記録!A8:J8)=0,"",期限記録!L8)) -> 期限超過
A11: =IF($L$3<>0,NA(),IF(COUNTA(期限記録!A9:J9)=0,"",期限記録!A9)) -> LOT-0002 | B11: =IF($L$3<>0,NA(),IF(COUNTA(期限記録!A9:J9)=0,"",期限記録!B9)) -> SKU-0001 | C11: =IF($L$3<>0,NA(),IF(COUNTA(期限記録!A9:J9)=0,"",期限記録!C9)) -> 賞味期限 | D11: =IF($L$3<>0,NA(),IF(COUNTA(期限記録!A9:J9)=0,"",IF(COUNTA(期限記録!E9)=0,"",期限記録!E9))) -> 46326 | E11: =IF($L$3<>0,NA(),IF(COUNTA(期限記録!A9:J9)=0,"",期限記録!K9)) -> 0 | F11: =IF($L$3<>0,NA(),IF(COUNTA(期限記録!A9:J9)=0,"",期限記録!F9)) -> 未開封 | G11: =IF($L$3<>0,NA(),IF(COUNTA(期限記録!A9:J9)=0,"",期限記録!G9)) -> 適合 | H11: =IF($L$3<>0,NA(),IF(COUNTA(期限記録!A9:J9)=0,"",IF(COUNTA(期限記録!I9)=0,"",期限記録!I9))) -> 10 | I11: =IF($L$3<>0,NA(),IF(COUNTA(期限記録!A9:J9)=0,"",期限記録!L9)) -> 期限当日
A12: =IF($L$3<>0,NA(),IF(COUNTA(期限記録!A10:J10)=0,"",期限記録!A10)) -> LOT-0003 | B12: =IF($L$3<>0,NA(),IF(COUNTA(期限記録!A10:J10)=0,"",期限記録!B10)) -> SKU-0002 | C12: =IF($L$3<>0,NA(),IF(COUNTA(期限記録!A10:J10)=0,"",期限記録!C10)) -> その他期限 | D12: =IF($L$3<>0,NA(),IF(COUNTA(期限記録!A10:J10)=0,"",IF(COUNTA(期限記録!E10)=0,"",期限記録!E10))) -> 46327 | E12: =IF($L$3<>0,NA(),IF(COUNTA(期限記録!A10:J10)=0,"",期限記録!K10)) -> 1 | F12: =IF($L$3<>0,NA(),IF(COUNTA(期限記録!A10:J10)=0,"",期限記録!F10)) -> 未開封 | G12: =IF($L$3<>0,NA(),IF(COUNTA(期限記録!A10:J10)=0,"",期限記録!G10)) -> 適合 | H12: =IF($L$3<>0,NA(),IF(COUNTA(期限記録!A10:J10)=0,"",IF(COUNTA(期限記録!I10)=0,"",期限記録!I10))) -> 8 | I12: =IF($L$3<>0,NA(),IF(COUNTA(期限記録!A10:J10)=0,"",期限記録!L10)) -> 注意期間内
A13: =IF($L$3<>0,NA(),IF(COUNTA(期限記録!A11:J11)=0,"",期限記録!A11)) -> LOT-0004 | B13: =IF($L$3<>0,NA(),IF(COUNTA(期限記録!A11:J11)=0,"",期限記録!B11)) -> SKU-0003 | C13: =IF($L$3<>0,NA(),IF(COUNTA(期限記録!A11:J11)=0,"",期限記録!C11)) -> 賞味期限 | D13: =IF($L$3<>0,NA(),IF(COUNTA(期限記録!A11:J11)=0,"",IF(COUNTA(期限記録!E11)=0,"",期限記録!E11))) -> 46333 | E13: =IF($L$3<>0,NA(),IF(COUNTA(期限記録!A11:J11)=0,"",期限記録!K11)) -> 7 | F13: =IF($L$3<>0,NA(),IF(COUNTA(期限記録!A11:J11)=0,"",期限記録!F11)) -> 未開封 | G13: =IF($L$3<>0,NA(),IF(COUNTA(期限記録!A11:J11)=0,"",期限記録!G11)) -> 適合 | H13: =IF($L$3<>0,NA(),IF(COUNTA(期限記録!A11:J11)=0,"",IF(COUNTA(期限記録!I11)=0,"",期限記録!I11))) -> 20 | I13: =IF($L$3<>0,NA(),IF(COUNTA(期限記録!A11:J11)=0,"",期限記録!L11)) -> 注意期間内
A14: =IF($L$3<>0,NA(),IF(COUNTA(期限記録!A12:J12)=0,"",期限記録!A12)) -> LOT-0005 | B14: =IF($L$3<>0,NA(),IF(COUNTA(期限記録!A12:J12)=0,"",期限記録!B12)) -> SKU-0004 | C14: =IF($L$3<>0,NA(),IF(COUNTA(期限記録!A12:J12)=0,"",期限記録!C12)) -> 賞味期限 | D14: =IF($L$3<>0,NA(),IF(COUNTA(期限記録!A12:J12)=0,"",IF(COUNTA(期限記録!E12)=0,"",期限記録!E12))) -> 46334 | E14: =IF($L$3<>0,NA(),IF(COUNTA(期限記録!A12:J12)=0,"",期限記録!K12)) -> 8 | F14: =IF($L$3<>0,NA(),IF(COUNTA(期限記録!A12:J12)=0,"",期限記録!F12)) -> 未開封 | G14: =IF($L$3<>0,NA(),IF(COUNTA(期限記録!A12:J12)=0,"",期限記録!G12)) -> 適合 | H14: =IF($L$3<>0,NA(),IF(COUNTA(期限記録!A12:J12)=0,"",IF(COUNTA(期限記録!I12)=0,"",期限記録!I12))) -> 30 | I14: =IF($L$3<>0,NA(),IF(COUNTA(期限記録!A12:J12)=0,"",期限記録!L12)) -> 注意期間外
A15: =IF($L$3<>0,NA(),IF(COUNTA(期限記録!A13:J13)=0,"",期限記録!A13)) -> LOT-0006 | B15: =IF($L$3<>0,NA(),IF(COUNTA(期限記録!A13:J13)=0,"",期限記録!B13)) -> SKU-0005 | C15: =IF($L$3<>0,NA(),IF(COUNTA(期限記録!A13:J13)=0,"",期限記録!C13)) -> 消費期限 | D15: =IF($L$3<>0,NA(),IF(COUNTA(期限記録!A13:J13)=0,"",IF(COUNTA(期限記録!E13)=0,"",期限記録!E13))) | E15: =IF($L$3<>0,NA(),IF(COUNTA(期限記録!A13:J13)=0,"",期限記録!K13)) | F15: =IF($L$3<>0,NA(),IF(COUNTA(期限記録!A13:J13)=0,"",期限記録!F13)) -> 未開封 | G15: =IF($L$3<>0,NA(),IF(COUNTA(期限記録!A13:J13)=0,"",期限記録!G13)) -> 適合 | H15: =IF($L$3<>0,NA(),IF(COUNTA(期限記録!A13:J13)=0,"",IF(COUNTA(期限記録!I13)=0,"",期限記録!I13))) -> 2 | I15: =IF($L$3<>0,NA(),IF(COUNTA(期限記録!A13:J13)=0,"",期限記録!L13)) -> 期限日未確認
A16: =IF($L$3<>0,NA(),IF(COUNTA(期限記録!A14:J14)=0,"",期限記録!A14)) -> LOT-0007 | B16: =IF($L$3<>0,NA(),IF(COUNTA(期限記録!A14:J14)=0,"",期限記録!B14)) -> SKU-0006 | C16: =IF($L$3<>0,NA(),IF(COUNTA(期限記録!A14:J14)=0,"",期限記録!C14)) -> 賞味期限 | D16: =IF($L$3<>0,NA(),IF(COUNTA(期限記録!A14:J14)=0,"",IF(COUNTA(期限記録!E14)=0,"",期限記録!E14))) -> 46356 | E16: =IF($L$3<>0,NA(),IF(COUNTA(期限記録!A14:J14)=0,"",期限記録!K14)) -> 30 | F16: =IF($L$3<>0,NA(),IF(COUNTA(期限記録!A14:J14)=0,"",期限記録!F14)) -> 開封済 | G16: =IF($L$3<>0,NA(),IF(COUNTA(期限記録!A14:J14)=0,"",期限記録!G14)) -> 適合 | H16: =IF($L$3<>0,NA(),IF(COUNTA(期限記録!A14:J14)=0,"",IF(COUNTA(期限記録!I14)=0,"",期限記録!I14))) -> 3 | I16: =IF($L$3<>0,NA(),IF(COUNTA(期限記録!A14:J14)=0,"",期限記録!L14)) -> 注意期間外
A17: =IF($L$3<>0,NA(),IF(COUNTA(期限記録!A15:J15)=0,"",期限記録!A15)) -> LOT-0008 | B17: =IF($L$3<>0,NA(),IF(COUNTA(期限記録!A15:J15)=0,"",期限記録!B15)) -> SKU-0007 | C17: =IF($L$3<>0,NA(),IF(COUNTA(期限記録!A15:J15)=0,"",期限記録!C15)) -> 賞味期限 | D17: =IF($L$3<>0,NA(),IF(COUNTA(期限記録!A15:J15)=0,"",IF(COUNTA(期限記録!E15)=0,"",期限記録!E15))) -> 46356 | E17: =IF($L$3<>0,NA(),IF(COUNTA(期限記録!A15:J15)=0,"",期限記録!K15)) -> 30 | F17: =IF($L$3<>0,NA(),IF(COUNTA(期限記録!A15:J15)=0,"",期限記録!F15)) -> 未開封 | G17: =IF($L$3<>0,NA(),IF(COUNTA(期限記録!A15:J15)=0,"",期限記録!G15)) -> 不適合 | H17: =IF($L$3<>0,NA(),IF(COUNTA(期限記録!A15:J15)=0,"",IF(COUNTA(期限記録!I15)=0,"",期限記録!I15))) -> 4 | I17: =IF($L$3<>0,NA(),IF(COUNTA(期限記録!A15:J15)=0,"",期限記録!L15)) -> 注意期間外
A18: =IF($L$3<>0,NA(),IF(COUNTA(期限記録!A16:J16)=0,"",期限記録!A16)) -> LOT-0009 | B18: =IF($L$3<>0,NA(),IF(COUNTA(期限記録!A16:J16)=0,"",期限記録!B16)) -> SKU-0008 | C18: =IF($L$3<>0,NA(),IF(COUNTA(期限記録!A16:J16)=0,"",期限記録!C16)) -> 賞味期限 | D18: =IF($L$3<>0,NA(),IF(COUNTA(期限記録!A16:J16)=0,"",IF(COUNTA(期限記録!E16)=0,"",期限記録!E16))) -> 46356 | E18: =IF($L$3<>0,NA(),IF(COUNTA(期限記録!A16:J16)=0,"",期限記録!K16)) -> 30 | F18: =IF($L$3<>0,NA(),IF(COUNTA(期限記録!A16:J16)=0,"",期限記録!F16)) -> 未確認 | G18: =IF($L$3<>0,NA(),IF(COUNTA(期限記録!A16:J16)=0,"",期限記録!G16)) -> 適合 | H18: =IF($L$3<>0,NA(),IF(COUNTA(期限記録!A16:J16)=0,"",IF(COUNTA(期限記録!I16)=0,"",期限記録!I16))) -> 5 | I18: =IF($L$3<>0,NA(),IF(COUNTA(期限記録!A16:J16)=0,"",期限記録!L16)) -> 注意期間外
A19: =IF($L$3<>0,NA(),IF(COUNTA(期限記録!A17:J17)=0,"",期限記録!A17)) -> LOT-0010 | B19: =IF($L$3<>0,NA(),IF(COUNTA(期限記録!A17:J17)=0,"",期限記録!B17)) -> SKU-0009 | C19: =IF($L$3<>0,NA(),IF(COUNTA(期限記録!A17:J17)=0,"",期限記録!C17)) -> 未確認 | D19: =IF($L$3<>0,NA(),IF(COUNTA(期限記録!A17:J17)=0,"",IF(COUNTA(期限記録!E17)=0,"",期限記録!E17))) -> 46356 | E19: =IF($L$3<>0,NA(),IF(COUNTA(期限記録!A17:J17)=0,"",期限記録!K17)) -> 30 | F19: =IF($L$3<>0,NA(),IF(COUNTA(期限記録!A17:J17)=0,"",期限記録!F17)) -> 未開封 | G19: =IF($L$3<>0,NA(),IF(COUNTA(期限記録!A17:J17)=0,"",期限記録!G17)) -> 適合 | H19: =IF($L$3<>0,NA(),IF(COUNTA(期限記録!A17:J17)=0,"",IF(COUNTA(期限記録!I17)=0,"",期限記録!I17))) -> 6 | I19: =IF($L$3<>0,NA(),IF(COUNTA(期限記録!A17:J17)=0,"",期限記録!L17)) -> 注意期間外
A20: =IF($L$3<>0,NA(),IF(COUNTA(期限記録!A18:J18)=0,"",期限記録!A18)) -> LOT-0011 | B20: =IF($L$3<>0,NA(),IF(COUNTA(期限記録!A18:J18)=0,"",期限記録!B18)) -> SKU-0010 | C20: =IF($L$3<>0,NA(),IF(COUNTA(期限記録!A18:J18)=0,"",期限記録!C18)) -> 消費期限 | D20: =IF($L$3<>0,NA(),IF(COUNTA(期限記録!A18:J18)=0,"",IF(COUNTA(期限記録!E18)=0,"",期限記録!E18))) -> 46315 | E20: =IF($L$3<>0,NA(),IF(COUNTA(期限記録!A18:J18)=0,"",期限記録!K18)) -> -11 | F20: =IF($L$3<>0,NA(),IF(COUNTA(期限記録!A18:J18)=0,"",期限記録!F18)) -> 未開封 | G20: =IF($L$3<>0,NA(),IF(COUNTA(期限記録!A18:J18)=0,"",期限記録!G18)) -> 適合 | H20: =IF($L$3<>0,NA(),IF(COUNTA(期限記録!A18:J18)=0,"",IF(COUNTA(期限記録!I18)=0,"",期限記録!I18))) | I20: =IF($L$3<>0,NA(),IF(COUNTA(期限記録!A18:J18)=0,"",期限記録!L18)) -> 期限超過
A21: =IF($L$3<>0,NA(),IF(COUNTA(期限記録!A19:J19)=0,"",期限記録!A19)) -> LOT-0012 | B21: =IF($L$3<>0,NA(),IF(COUNTA(期限記録!A19:J19)=0,"",期限記録!B19)) -> SKU-0011 | C21: =IF($L$3<>0,NA(),IF(COUNTA(期限記録!A19:J19)=0,"",期限記録!C19)) -> 賞味期限 | D21: =IF($L$3<>0,NA(),IF(COUNTA(期限記録!A19:J19)=0,"",IF(COUNTA(期限記録!E19)=0,"",期限記録!E19))) -> 46315 | E21: =IF($L$3<>0,NA(),IF(COUNTA(期限記録!A19:J19)=0,"",期限記録!K19)) -> -11 | F21: =IF($L$3<>0,NA(),IF(COUNTA(期限記録!A19:J19)=0,"",期限記録!F19)) -> 未開封 | G21: =IF($L$3<>0,NA(),IF(COUNTA(期限記録!A19:J19)=0,"",期限記録!G19)) -> 適合 | H21: =IF($L$3<>0,NA(),IF(COUNTA(期限記録!A19:J19)=0,"",IF(COUNTA(期限記録!I19)=0,"",期限記録!I19))) -> 0 | I21: =IF($L$3<>0,NA(),IF(COUNTA(期限記録!A19:J19)=0,"",期限記録!L19)) -> 期限超過
... A59: =IF($L$3<>0,NA(),IF(COUNTA(期限記録!A57:J57)=0,"",期限記録!A57)) | B59: =IF($L$3<>0,NA(),IF(COUNTA(期限記録!A57:J57)=0,"",期限記録!B57)) | C59: =IF($L$3<>0,NA(),IF(COUNTA(期限記録!A57:J57)=0,"",期限記録!C57)) | D59: =IF($L$3<>0,NA(),IF(COUNTA(期限記録!A57:J57)=0,"",IF(COUNTA(期限記録!E57)=0,"",期限記録!E57))) | E59: =IF($L$3<>0,NA(),IF(COUNTA(期限記録!A57:J57)=0,"",期限記録!K57)) | F59: =IF($L$3<>0,NA(),IF(COUNTA(期限記録!A57:J57)=0,"",期限記録!F57)) | G59: =IF($L$3<>0,NA(),IF(COUNTA(期限記録!A57:J57)=0,"",期限記録!G57)) | H59: =IF($L$3<>0,NA(),IF(COUNTA(期限記録!A57:J57)=0,"",IF(COUNTA(期限記録!I57)=0,"",期限記録!I57))) | I59: =IF($L$3<>0,NA(),IF(COUNTA(期限記録!A57:J57)=0,"",期限記録!L57))

Sheet 期限記録
A2: 期限と条件の記録
A3: 黄色A〜Jへ50管理行。同じ品目でも異なる期限/包装は別管理ID。数量0と未確認を分けます。
A5: 日付差＝確認済期限日−基準日。正/0/負だけで使用可否を決めず、種類・開封・保存・現物を確認。
A7: 管理ID | B7: 品目ID | C7: 期限種類 | D7: 期限日区分 | E7: 期限日 | F7: 開封状態 | G7: 保存条件 | H7: 在庫区分 | I7: 数量（個） | J7: 記録確認日 | K7: 日付差（日） | L7: 日付区分 | M7: 条件要確認 | N7: 表示条件外 | O7: 入力の確認 | P7: 入力不備 | Q7: 計算の前提
A8: LOT-0001 | B8: SKU-0001 | C8: 消費期限 | D8: 確認済 | E8: 46325 | F8: 未開封 | G8: 適合 | H8: 確認済 | I8: 5 | J8: 46327 | K8: =IF(O8="","",IF(P8<>0,NA(),IF(D8="未確認","",E8-期限の確認!$B$3))) -> -1 | L8: =IF(O8="","",IF(P8<>0,NA(),IF(D8="未確認","期限日未確認",IF(K8<0,"期限超過",IF(K8=0,"期限当日",IF(K8<=期限の確認!$E$3,"注意期間内","注意期間外")))))) -> 期限超過 | M8: =IF(O8="","",IF(P8<>0,NA(),IF(OR(C8="未確認",D8="未確認",F8<>"未開封",G8<>"適合",H8="未確認"),1,0))) -> 0 | N8: =IF(O8="","",IF(P8<>0,NA(),IF(OR(F8="開封済",G8="不適合"),1,0))) -> 0 | O8: =IF(COUNTA(A8:J8)=0,"",IF(NOT(AND(ISTEXT(A8),LEN(A8)=8,EXACT(LEFT(A8,4),"LOT-"),ISNUMBER(FIND(MID(A8,5,1)&"x","0x1x2x3x4x5x6x7x8x9x")),ISNUMBER(FIND(MID(A8,6,1)&"x","0x1x2x3x4x5x6x7x8x9x")),ISNUMBER(FIND(MID(A8,7,1)&"x","0x1x2x3x4x5x6x7x8x9x")),ISNUMBER(FIND(MID(A8,8,1)&"x","0x1x2x3x4x5x6x7x8x9x")))),"管理IDはLOT-と半角数字4桁",IF(COUNTIFS($A$8:$A$57,A8)>1,"管理IDが重複",IF(NOT(AND(ISTEXT(B8),LEN(B8)=8,EXACT(LEFT(B8,4),"SKU-"),ISNUMBER(FIND(MID(B8,5,1)&"x","0x1x2x3x4x5x6x7x8x9x")),ISNUMBER(FIND(MID(B8,6,1)&"x","0x1x2x3x4x5x6x7x8x9x")),ISNUMBER(FIND(MID(B8,7,1)&"x","0x1x2x3x4x5x6x7x8x9x")),ISNUMBER(FIND(MID(B8,8,1)&"x","0x1x2x3x4x5x6x7x8x9x")))),"品目IDはSKU-と半角数字4桁",IF(NOT(OR(C8="賞味期限",C8="消費期限",C8="その他期限",C8="未確認")),"期限種類を確認",IF(NOT(OR(D8="確認済",D8="未確認")),"期限日区分を確認",IF(AND(D8="確認済",NOT(IF(ISNUMBER(E8),AND(E8>=43831,E8<=73050,E8=INT(E8)),FALSE()))),"確認済期限日は2020〜2099年/時刻なしで必須",IF(AND(D8="未確認",COUNTA(E8)>0),"未確認期限日は空欄",IF(NOT(OR(F8="未開封",F8="開封済",F8="未確認")),"開封状態を確認",IF(NOT(OR(G8="適合",G8="不適合",G8="未確認")),"保存条件を確認",IF(NOT(OR(H8="確認済",H8="未確認")),"在庫区分を確認",IF(AND(H8="確認済",NOT(IF(ISNUMBER(I8),AND(I8>=0,I8<=1000000,I8=INT(I8)),FALSE()))),"確認済数量は0〜100万個の整数で必須",IF(AND(H8="未確認",COUNTA(I8)>0),"未確認数量は空欄",IF(NOT(IF(ISNUMBER(J8),AND(J8>=43831,J8<=73050,J8=INT(J8)),FALSE())),"確認日は2020〜2099年/時刻なしで必須",IF(J8>期限の確認!$H$3,"確認日は確認基準日以下","確認済み"))))))))))))))) -> 確認済み | P8: =IF(O8="","",IF(O8="確認済み",0,1)) -> 0 | Q8: =IF(COUNTA(A8:J8)=0,IF(AND(O8="",P8="",K8="",L8="",M8="",N8=""),0,1),IF(NOT(AND(ISTEXT(O8),O8=IF(COUNTA(A8:J8)=0,"",IF(NOT(AND(ISTEXT(A8),LEN(A8)=8,EXACT(LEFT(A8,4),"LOT-"),ISNUMBER(FIND(MID(A8,5,1)&"x","0x1x2x3x4x5x6x7x8x9x")),ISNUMBER(FIND(MID(A8,6,1)&"x","0x1x2x3x4x5x6x7x8x9x")),ISNUMBER(FIND(MID(A8,7,1)&"x","0x1x2x3x4x5x6x7x8x9x")),ISNUMBER(FIND(MID(A8,8,1)&"x","0x1x2x3x4x5x6x7x8x9x")))),"管理IDはLOT-と半角数字4桁",IF(COUNTIFS($A$8:$A$57,A8)>1,"管理IDが重複",IF(NOT(AND(ISTEXT(B8),LEN(B8)=8,EXACT(LEFT(B8,4),"SKU-"),ISNUMBER(FIND(MID(B8,5,1)&"x","0x1x2x3x4x5x6x7x8x9x")),ISNUMBER(FIND(MID(B8,6,1)&"x","0x1x2x3x4x5x6x7x8x9x")),ISNUMBER(FIND(MID(B8,7,1)&"x","0x1x2x3x4x5x6x7x8x9x")),ISNUMBER(FIND(MID(B8,8,1)&"x","0x1x2x3x4x5x6x7x8x9x")))),"品目IDはSKU-と半角数字4桁",IF(NOT(OR(C8="賞味期限",C8="消費期限",C8="その他期限",C8="未確認")),"期限種類を確認",IF(NOT(OR(D8="確認済",D8="未確認")),"期限日区分を確認",IF(AND(D8="確認済",NOT(IF(ISNUMBER(E8),AND(E8>=43831,E8<=73050,E8=INT(E8)),FALSE()))),"確認済期限日は2020〜2099年/時刻なしで必須",IF(AND(D8="未確認",COUNTA(E8)>0),"未確認期限日は空欄",IF(NOT(OR(F8="未開封",F8="開封済",F8="未確認")),"開封状態を確認",IF(NOT(OR(G8="適合",G8="不適合",G8="未確認")),"保存条件を確認",IF(NOT(OR(H8="確認済",H8="未確認")),"在庫区分を確認",IF(AND(H8="確認済",NOT(IF(ISNUMBER(I8),AND(I8>=0,I8<=1000000,I8=INT(I8)),FALSE()))),"確認済数量は0〜100万個の整数で必須",IF(AND(H8="未確認",COUNTA(I8)>0),"未確認数量は空欄",IF(NOT(IF(ISNUMBER(J8),AND(J8>=43831,J8<=73050,J8=INT(J8)),FALSE())),"確認日は2020〜2099年/時刻なしで必須",IF(J8>期限の確認!$H$3,"確認日は確認基準日以下","確認済み"))))))))))))))),ISNUMBER(P8),P8=IF(O8="確認済み",0,1))),1,IF(P8<>0,0,IF(AND(IF(D8="未確認",ISTEXT(K8),ISNUMBER(K8)),K8=IF(D8="未確認","",E8-期限の確認!$B$3),ISTEXT(L8),L8=IF(D8="未確認","期限日未確認",IF(K8<0,"期限超過",IF(K8=0,"期限当日",IF(K8<=期限の確認!$E$3,"注意期間内","注意期間外")))),ISNUMBER(M8),M8=IF(OR(C8="未確認",D8="未確認",F8<>"未開封",G8<>"適合",H8="未確認"),1,0),ISNUMBER(N8),N8=IF(OR(F8="開封済",G8="不適合"),1,0)),0,1)))) -> 0
A9: LOT-0002 | B9: SKU-0001 | C9: 賞味期限 | D9: 確認済 | E9: 46326 | F9: 未開封 | G9: 適合 | H9: 確認済 | I9: 10 | J9: 46327 | K9: =IF(O9="","",IF(P9<>0,NA(),IF(D9="未確認","",E9-期限の確認!$B$3))) -> 0 | L9: =IF(O9="","",IF(P9<>0,NA(),IF(D9="未確認","期限日未確認",IF(K9<0,"期限超過",IF(K9=0,"期限当日",IF(K9<=期限の確認!$E$3,"注意期間内","注意期間外")))))) -> 期限当日 | M9: =IF(O9="","",IF(P9<>0,NA(),IF(OR(C9="未確認",D9="未確認",F9<>"未開封",G9<>"適合",H9="未確認"),1,0))) -> 0 | N9: =IF(O9="","",IF(P9<>0,NA(),IF(OR(F9="開封済",G9="不適合"),1,0))) -> 0 | O9: =IF(COUNTA(A9:J9)=0,"",IF(NOT(AND(ISTEXT(A9),LEN(A9)=8,EXACT(LEFT(A9,4),"LOT-"),ISNUMBER(FIND(MID(A9,5,1)&"x","0x1x2x3x4x5x6x7x8x9x")),ISNUMBER(FIND(MID(A9,6,1)&"x","0x1x2x3x4x5x6x7x8x9x")),ISNUMBER(FIND(MID(A9,7,1)&"x","0x1x2x3x4x5x6x7x8x9x")),ISNUMBER(FIND(MID(A9,8,1)&"x","0x1x2x3x4x5x6x7x8x9x")))),"管理IDはLOT-と半角数字4桁",IF(COUNTIFS($A$8:$A$57,A9)>1,"管理IDが重複",IF(NOT(AND(ISTEXT(B9),LEN(B9)=8,EXACT(LEFT(B9,4),"SKU-"),ISNUMBER(FIND(MID(B9,5,1)&"x","0x1x2x3x4x5x6x7x8x9x")),ISNUMBER(FIND(MID(B9,6,1)&"x","0x1x2x3x4x5x6x7x8x9x")),ISNUMBER(FIND(MID(B9,7,1)&"x","0x1x2x3x4x5x6x7x8x9x")),ISNUMBER(FIND(MID(B9,8,1)&"x","0x1x2x3x4x5x6x7x8x9x")))),"品目IDはSKU-と半角数字4桁",IF(NOT(OR(C9="賞味期限",C9="消費期限",C9="その他期限",C9="未確認")),"期限種類を確認",IF(NOT(OR(D9="確認済",D9="未確認")),"期限日区分を確認",IF(AND(D9="確認済",NOT(IF(ISNUMBER(E9),AND(E9>=43831,E9<=73050,E9=INT(E9)),FALSE()))),"確認済期限日は2020〜2099年/時刻なしで必須",IF(AND(D9="未確認",COUNTA(E9)>0),"未確認期限日は空欄",IF(NOT(OR(F9="未開封",F9="開封済",F9="未確認")),"開封状態を確認",IF(NOT(OR(G9="適合",G9="不適合",G9="未確認")),"保存条件を確認",IF(NOT(OR(H9="確認済",H9="未確認")),"在庫区分を確認",IF(AND(H9="確認済",NOT(IF(ISNUMBER(I9),AND(I9>=0,I9<=1000000,I9=INT(I9)),FALSE()))),"確認済数量は0〜100万個の整数で必須",IF(AND(H9="未確認",COUNTA(I9)>0),"未確認数量は空欄",IF(NOT(IF(ISNUMBER(J9),AND(J9>=43831,J9<=73050,J9=INT(J9)),FALSE())),"確認日は2020〜2099年/時刻なしで必須",IF(J9>期限の確認!$H$3,"確認日は確認基準日以下","確認済み"))))))))))))))) -> 確認済み | P9: =IF(O9="","",IF(O9="確認済み",0,1)) -> 0 | Q9: =IF(COUNTA(A9:J9)=0,IF(AND(O9="",P9="",K9="",L9="",M9="",N9=""),0,1),IF(NOT(AND(ISTEXT(O9),O9=IF(COUNTA(A9:J9)=0,"",IF(NOT(AND(ISTEXT(A9),LEN(A9)=8,EXACT(LEFT(A9,4),"LOT-"),ISNUMBER(FIND(MID(A9,5,1)&"x","0x1x2x3x4x5x6x7x8x9x")),ISNUMBER(FIND(MID(A9,6,1)&"x","0x1x2x3x4x5x6x7x8x9x")),ISNUMBER(FIND(MID(A9,7,1)&"x","0x1x2x3x4x5x6x7x8x9x")),ISNUMBER(FIND(MID(A9,8,1)&"x","0x1x2x3x4x5x6x7x8x9x")))),"管理IDはLOT-と半角数字4桁",IF(COUNTIFS($A$8:$A$57,A9)>1,"管理IDが重複",IF(NOT(AND(ISTEXT(B9),LEN(B9)=8,EXACT(LEFT(B9,4),"SKU-"),ISNUMBER(FIND(MID(B9,5,1)&"x","0x1x2x3x4x5x6x7x8x9x")),ISNUMBER(FIND(MID(B9,6,1)&"x","0x1x2x3x4x5x6x7x8x9x")),ISNUMBER(FIND(MID(B9,7,1)&"x","0x1x2x3x4x5x6x7x8x9x")),ISNUMBER(FIND(MID(B9,8,1)&"x","0x1x2x3x4x5x6x7x8x9x")))),"品目IDはSKU-と半角数字4桁",IF(NOT(OR(C9="賞味期限",C9="消費期限",C9="その他期限",C9="未確認")),"期限種類を確認",IF(NOT(OR(D9="確認済",D9="未確認")),"期限日区分を確認",IF(AND(D9="確認済",NOT(IF(ISNUMBER(E9),AND(E9>=43831,E9<=73050,E9=INT(E9)),FALSE()))),"確認済期限日は2020〜2099年/時刻なしで必須",IF(AND(D9="未確認",COUNTA(E9)>0),"未確認期限日は空欄",IF(NOT(OR(F9="未開封",F9="開封済",F9="未確認")),"開封状態を確認",IF(NOT(OR(G9="適合",G9="不適合",G9="未確認")),"保存条件を確認",IF(NOT(OR(H9="確認済",H9="未確認")),"在庫区分を確認",IF(AND(H9="確認済",NOT(IF(ISNUMBER(I9),AND(I9>=0,I9<=1000000,I9=INT(I9)),FALSE()))),"確認済数量は0〜100万個の整数で必須",IF(AND(H9="未確認",COUNTA(I9)>0),"未確認数量は空欄",IF(NOT(IF(ISNUMBER(J9),AND(J9>=43831,J9<=73050,J9=INT(J9)),FALSE())),"確認日は2020〜2099年/時刻なしで必須",IF(J9>期限の確認!$H$3,"確認日は確認基準日以下","確認済み"))))))))))))))),ISNUMBER(P9),P9=IF(O9="確認済み",0,1))),1,IF(P9<>0,0,IF(AND(IF(D9="未確認",ISTEXT(K9),ISNUMBER(K9)),K9=IF(D9="未確認","",E9-期限の確認!$B$3),ISTEXT(L9),L9=IF(D9="未確認","期限日未確認",IF(K9<0,"期限超過",IF(K9=0,"期限当日",IF(K9<=期限の確認!$E$3,"注意期間内","注意期間外")))),ISNUMBER(M9),M9=IF(OR(C9="未確認",D9="未確認",F9<>"未開封",G9<>"適合",H9="未確認"),1,0),ISNUMBER(N9),N9=IF(OR(F9="開封済",G9="不適合"),1,0)),0,1)))) -> 0
A10: LOT-0003 | B10: SKU-0002 | C10: その他期限 | D10: 確認済 | E10: 46327 | F10: 未開封 | G10: 適合 | H10: 確認済 | I10: 8 | J10: 46328 | K10: =IF(O10="","",IF(P10<>0,NA(),IF(D10="未確認","",E10-期限の確認!$B$3))) -> 1 | L10: =IF(O10="","",IF(P10<>0,NA(),IF(D10="未確認","期限日未確認",IF(K10<0,"期限超過",IF(K10=0,"期限当日",IF(K10<=期限の確認!$E$3,"注意期間内","注意期間外")))))) -> 注意期間内 | M10: =IF(O10="","",IF(P10<>0,NA(),IF(OR(C10="未確認",D10="未確認",F10<>"未開封",G10<>"適合",H10="未確認"),1,0))) -> 0 | N10: =IF(O10="","",IF(P10<>0,NA(),IF(OR(F10="開封済",G10="不適合"),1,0))) -> 0 | O10: =IF(COUNTA(A10:J10)=0,"",IF(NOT(AND(ISTEXT(A10),LEN(A10)=8,EXACT(LEFT(A10,4),"LOT-"),ISNUMBER(FIND(MID(A10,5,1)&"x","0x1x2x3x4x5x6x7x8x9x")),ISNUMBER(FIND(MID(A10,6,1)&"x","0x1x2x3x4x5x6x7x8x9x")),ISNUMBER(FIND(MID(A10,7,1)&"x","0x1x2x3x4x5x6x7x8x9x")),ISNUMBER(FIND(MID(A10,8,1)&"x","0x1x2x3x4x5x6x7x8x9x")))),"管理IDはLOT-と半角数字4桁",IF(COUNTIFS($A$8:$A$57,A10)>1,"管理IDが重複",IF(NOT(AND(ISTEXT(B10),LEN(B10)=8,EXACT(LEFT(B10,4),"SKU-"),ISNUMBER(FIND(MID(B10,5,1)&"x","0x1x2x3x4x5x6x7x8x9x")),ISNUMBER(FIND(MID(B10,6,1)&"x","0x1x2x3x4x5x6x7x8x9x")),ISNUMBER(FIND(MID(B10,7,1)&"x","0x1x2x3x4x5x6x7x8x9x")),ISNUMBER(FIND(MID(B10,8,1)&"x","0x1x2x3x4x5x6x7x8x9x")))),"品目IDはSKU-と半角数字4桁",IF(NOT(OR(C10="賞味期限",C10="消費期限",C10="その他期限",C10="未確認")),"期限種類を確認",IF(NOT(OR(D10="確認済",D10="未確認")),"期限日区分を確認",IF(AND(D10="確認済",NOT(IF(ISNUMBER(E10),AND(E10>=43831,E10<=73050,E10=INT(E10)),FALSE()))),"確認済期限日は2020〜2099年/時刻なしで必須",IF(AND(D10="未確認",COUNTA(E10)>0),"未確認期限日は空欄",IF(NOT(OR(F10="未開封",F10="開封済",F10="未確認")),"開封状態を確認",IF(NOT(OR(G10="適合",G10="不適合",G10="未確認")),"保存条件を確認",IF(NOT(OR(H10="確認済",H10="未確認")),"在庫区分を確認",IF(AND(H10="確認済",NOT(IF(ISNUMBER(I10),AND(I10>=0,I10<=1000000,I10=INT(I10)),FALSE()))),"確認済数量は0〜100万個の整数で必須",IF(AND(H10="未確認",COUNTA(I10)>0),"未確認数量は空欄",IF(NOT(IF(ISNUMBER(J10),AND(J10>=43831,J10<=73050,J10=INT(J10)),FALSE())),"確認日は2020〜2099年/時刻なしで必須",IF(J10>期限の確認!$H$3,"確認日は確認基準日以下","確認済み"))))))))))))))) -> 確認済み | P10: =IF(O10="","",IF(O10="確認済み",0,1)) -> 0 | Q10: =IF(COUNTA(A10:J10)=0,IF(AND(O10="",P10="",K10="",L10="",M10="",N10=""),0,1),IF(NOT(AND(ISTEXT(O10),O10=IF(COUNTA(A10:J10)=0,"",IF(NOT(AND(ISTEXT(A10),LEN(A10)=8,EXACT(LEFT(A10,4),"LOT-"),ISNUMBER(FIND(MID(A10,5,1)&"x","0x1x2x3x4x5x6x7x8x9x")),ISNUMBER(FIND(MID(A10,6,1)&"x","0x1x2x3x4x5x6x7x8x9x")),ISNUMBER(FIND(MID(A10,7,1)&"x","0x1x2x3x4x5x6x7x8x9x")),ISNUMBER(FIND(MID(A10,8,1)&"x","0x1x2x3x4x5x6x7x8x9x")))),"管理IDはLOT-と半角数字4桁",IF(COUNTIFS($A$8:$A$57,A10)>1,"管理IDが重複",IF(NOT(AND(ISTEXT(B10),LEN(B10)=8,EXACT(LEFT(B10,4),"SKU-"),ISNUMBER(FIND(MID(B10,5,1)&"x","0x1x2x3x4x5x6x7x8x9x")),ISNUMBER(FIND(MID(B10,6,1)&"x","0x1x2x3x4x5x6x7x8x9x")),ISNUMBER(FIND(MID(B10,7,1)&"x","0x1x2x3x4x5x6x7x8x9x")),ISNUMBER(FIND(MID(B10,8,1)&"x","0x1x2x3x4x5x6x7x8x9x")))),"品目IDはSKU-と半角数字4桁",IF(NOT(OR(C10="賞味期限",C10="消費期限",C10="その他期限",C10="未確認")),"期限種類を確認",IF(NOT(OR(D10="確認済",D10="未確認")),"期限日区分を確認",IF(AND(D10="確認済",NOT(IF(ISNUMBER(E10),AND(E10>=43831,E10<=73050,E10=INT(E10)),FALSE()))),"確認済期限日は2020〜2099年/時刻なしで必須",IF(AND(D10="未確認",COUNTA(E10)>0),"未確認期限日は空欄",IF(NOT(OR(F10="未開封",F10="開封済",F10="未確認")),"開封状態を確認",IF(NOT(OR(G10="適合",G10="不適合",G10="未確認")),"保存条件を確認",IF(NOT(OR(H10="確認済",H10="未確認")),"在庫区分を確認",IF(AND(H10="確認済",NOT(IF(ISNUMBER(I10),AND(I10>=0,I10<=1000000,I10=INT(I10)),FALSE()))),"確認済数量は0〜100万個の整数で必須",IF(AND(H10="未確認",COUNTA(I10)>0),"未確認数量は空欄",IF(NOT(IF(ISNUMBER(J10),AND(J10>=43831,J10<=73050,J10=INT(J10)),FALSE())),"確認日は2020〜2099年/時刻なしで必須",IF(J10>期限の確認!$H$3,"確認日は確認基準日以下","確認済み"))))))))))))))),ISNUMBER(P10),P10=IF(O10="確認済み",0,1))),1,IF(P10<>0,0,IF(AND(IF(D10="未確認",ISTEXT(K10),ISNUMBER(K10)),K10=IF(D10="未確認","",E10-期限の確認!$B$3),ISTEXT(L10),L10=IF(D10="未確認","期限日未確認",IF(K10<0,"期限超過",IF(K10=0,"期限当日",IF(K10<=期限の確認!$E$3,"注意期間内","注意期間外")))),ISNUMBER(M10),M10=IF(OR(C10="未確認",D10="未確認",F10<>"未開封",G10<>"適合",H10="未確認"),1,0),ISNUMBER(N10),N10=IF(OR(F10="開封済",G10="不適合"),1,0)),0,1)))) -> 0
A11: LOT-0004 | B11: SKU-0003 | C11: 賞味期限 | D11: 確認済 | E11: 46333 | F11: 未開封 | G11: 適合 | H11: 確認済 | I11: 20 | J11: 46328 | K11: =IF(O11="","",IF(P11<>0,NA(),IF(D11="未確認","",E11-期限の確認!$B$3))) -> 7 | L11: =IF(O11="","",IF(P11<>0,NA(),IF(D11="未確認","期限日未確認",IF(K11<0,"期限超過",IF(K11=0,"期限当日",IF(K11<=期限の確認!$E$3,"注意期間内","注意期間外")))))) -> 注意期間内 | M11: =IF(O11="","",IF(P11<>0,NA(),IF(OR(C11="未確認",D11="未確認",F11<>"未開封",G11<>"適合",H11="未確認"),1,0))) -> 0 | N11: =IF(O11="","",IF(P11<>0,NA(),IF(OR(F11="開封済",G11="不適合"),1,0))) -> 0 | O11: =IF(COUNTA(A11:J11)=0,"",IF(NOT(AND(ISTEXT(A11),LEN(A11)=8,EXACT(LEFT(A11,4),"LOT-"),ISNUMBER(FIND(MID(A11,5,1)&"x","0x1x2x3x4x5x6x7x8x9x")),ISNUMBER(FIND(MID(A11,6,1)&"x","0x1x2x3x4x5x6x7x8x9x")),ISNUMBER(FIND(MID(A11,7,1)&"x","0x1x2x3x4x5x6x7x8x9x")),ISNUMBER(FIND(MID(A11,8,1)&"x","0x1x2x3x4x5x6x7x8x9x")))),"管理IDはLOT-と半角数字4桁",IF(COUNTIFS($A$8:$A$57,A11)>1,"管理IDが重複",IF(NOT(AND(ISTEXT(B11),LEN(B11)=8,EXACT(LEFT(B11,4),"SKU-"),ISNUMBER(FIND(MID(B11,5,1)&"x","0x1x2x3x4x5x6x7x8x9x")),ISNUMBER(FIND(MID(B11,6,1)&"x","0x1x2x3x4x5x6x7x8x9x")),ISNUMBER(FIND(MID(B11,7,1)&"x","0x1x2x3x4x5x6x7x8x9x")),ISNUMBER(FIND(MID(B11,8,1)&"x","0x1x2x3x4x5x6x7x8x9x")))),"品目IDはSKU-と半角数字4桁",IF(NOT(OR(C11="賞味期限",C11="消費期限",C11="その他期限",C11="未確認")),"期限種類を確認",IF(NOT(OR(D11="確認済",D11="未確認")),"期限日区分を確認",IF(AND(D11="確認済",NOT(IF(ISNUMBER(E11),AND(E11>=43831,E11<=73050,E11=INT(E11)),FALSE()))),"確認済期限日は2020〜2099年/時刻なしで必須",IF(AND(D11="未確認",COUNTA(E11)>0),"未確認期限日は空欄",IF(NOT(OR(F11="未開封",F11="開封済",F11="未確認")),"開封状態を確認",IF(NOT(OR(G11="適合",G11="不適合",G11="未確認")),"保存条件を確認",IF(NOT(OR(H11="確認済",H11="未確認")),"在庫区分を確認",IF(AND(H11="確認済",NOT(IF(ISNUMBER(I11),AND(I11>=0,I11<=1000000,I11=INT(I11)),FALSE()))),"確認済数量は0〜100万個の整数で必須",IF(AND(H11="未確認",COUNTA(I11)>0),"未確認数量は空欄",IF(NOT(IF(ISNUMBER(J11),AND(J11>=43831,J11<=73050,J11=INT(J11)),FALSE())),"確認日は2020〜2099年/時刻なしで必須",IF(J11>期限の確認!$H$3,"確認日は確認基準日以下","確認済み"))))))))))))))) -> 確認済み | P11: =IF(O11="","",IF(O11="確認済み",0,1)) -> 0 | Q11: =IF(COUNTA(A11:J11)=0,IF(AND(O11="",P11="",K11="",L11="",M11="",N11=""),0,1),IF(NOT(AND(ISTEXT(O11),O11=IF(COUNTA(A11:J11)=0,"",IF(NOT(AND(ISTEXT(A11),LEN(A11)=8,EXACT(LEFT(A11,4),"LOT-"),ISNUMBER(FIND(MID(A11,5,1)&"x","0x1x2x3x4x5x6x7x8x9x")),ISNUMBER(FIND(MID(A11,6,1)&"x","0x1x2x3x4x5x6x7x8x9x")),ISNUMBER(FIND(MID(A11,7,1)&"x","0x1x2x3x4x5x6x7x8x9x")),ISNUMBER(FIND(MID(A11,8,1)&"x","0x1x2x3x4x5x6x7x8x9x")))),"管理IDはLOT-と半角数字4桁",IF(COUNTIFS($A$8:$A$57,A11)>1,"管理IDが重複",IF(NOT(AND(ISTEXT(B11),LEN(B11)=8,EXACT(LEFT(B11,4),"SKU-"),ISNUMBER(FIND(MID(B11,5,1)&"x","0x1x2x3x4x5x6x7x8x9x")),ISNUMBER(FIND(MID(B11,6,1)&"x","0x1x2x3x4x5x6x7x8x9x")),ISNUMBER(FIND(MID(B11,7,1)&"x","0x1x2x3x4x5x6x7x8x9x")),ISNUMBER(FIND(MID(B11,8,1)&"x","0x1x2x3x4x5x6x7x8x9x")))),"品目IDはSKU-と半角数字4桁",IF(NOT(OR(C11="賞味期限",C11="消費期限",C11="その他期限",C11="未確認")),"期限種類を確認",IF(NOT(OR(D11="確認済",D11="未確認")),"期限日区分を確認",IF(AND(D11="確認済",NOT(IF(ISNUMBER(E11),AND(E11>=43831,E11<=73050,E11=INT(E11)),FALSE()))),"確認済期限日は2020〜2099年/時刻なしで必須",IF(AND(D11="未確認",COUNTA(E11)>0),"未確認期限日は空欄",IF(NOT(OR(F11="未開封",F11="開封済",F11="未確認")),"開封状態を確認",IF(NOT(OR(G11="適合",G11="不適合",G11="未確認")),"保存条件を確認",IF(NOT(OR(H11="確認済",H11="未確認")),"在庫区分を確認",IF(AND(H11="確認済",NOT(IF(ISNUMBER(I11),AND(I11>=0,I11<=1000000,I11=INT(I11)),FALSE()))),"確認済数量は0〜100万個の整数で必須",IF(AND(H11="未確認",COUNTA(I11)>0),"未確認数量は空欄",IF(NOT(IF(ISNUMBER(J11),AND(J11>=43831,J11<=73050,J11=INT(J11)),FALSE())),"確認日は2020〜2099年/時刻なしで必須",IF(J11>期限の確認!$H$3,"確認日は確認基準日以下","確認済み"))))))))))))))),ISNUMBER(P11),P11=IF(O11="確認済み",0,1))),1,IF(P11<>0,0,IF(AND(IF(D11="未確認",ISTEXT(K11),ISNUMBER(K11)),K11=IF(D11="未確認","",E11-期限の確認!$B$3),ISTEXT(L11),L11=IF(D11="未確認","期限日未確認",IF(K11<0,"期限超過",IF(K11=0,"期限当日",IF(K11<=期限の確認!$E$3,"注意期間内","注意期間外")))),ISNUMBER(M11),M11=IF(OR(C11="未確認",D11="未確認",F11<>"未開封",G11<>"適合",H11="未確認"),1,0),ISNUMBER(N11),N11=IF(OR(F11="開封済",G11="不適合"),1,0)),0,1)))) -> 0
A12: LOT-0005 | B12: SKU-0004 | C12: 賞味期限 | D12: 確認済 | E12: 46334 | F12: 未開封 | G12: 適合 | H12: 確認済 | I12: 30 | J12: 46329 | K12: =IF(O12="","",IF(P12<>0,NA(),IF(D12="未確認","",E12-期限の確認!$B$3))) -> 8 | L12: =IF(O12="","",IF(P12<>0,NA(),IF(D12="未確認","期限日未確認",IF(K12<0,"期限超過",IF(K12=0,"期限当日",IF(K12<=期限の確認!$E$3,"注意期間内","注意期間外")))))) -> 注意期間外 | M12: =IF(O12="","",IF(P12<>0,NA(),IF(OR(C12="未確認",D12="未確認",F12<>"未開封",G12<>"適合",H12="未確認"),1,0))) -> 0 | N12: =IF(O12="","",IF(P12<>0,NA(),IF(OR(F12="開封済",G12="不適合"),1,0))) -> 0 | O12: =IF(COUNTA(A12:J12)=0,"",IF(NOT(AND(ISTEXT(A12),LEN(A12)=8,EXACT(LEFT(A12,4),"LOT-"),ISNUMBER(FIND(MID(A12,5,1)&"x","0x1x2x3x4x5x6x7x8x9x")),ISNUMBER(FIND(MID(A12,6,1)&"x","0x1x2x3x4x5x6x7x8x9x")),ISNUMBER(FIND(MID(A12,7,1)&"x","0x1x2x3x4x5x6x7x8x9x")),ISNUMBER(FIND(MID(A12,8,1)&"x","0x1x2x3x4x5x6x7x8x9x")))),"管理IDはLOT-と半角数字4桁",IF(COUNTIFS($A$8:$A$57,A12)>1,"管理IDが重複",IF(NOT(AND(ISTEXT(B12),LEN(B12)=8,EXACT(LEFT(B12,4),"SKU-"),ISNUMBER(FIND(MID(B12,5,1)&"x","0x1x2x3x4x5x6x7x8x9x")),ISNUMBER(FIND(MID(B12,6,1)&"x","0x1x2x3x4x5x6x7x8x9x")),ISNUMBER(FIND(MID(B12,7,1)&"x","0x1x2x3x4x5x6x7x8x9x")),ISNUMBER(FIND(MID(B12,8,1)&"x","0x1x2x3x4x5x6x7x8x9x")))),"品目IDはSKU-と半角数字4桁",IF(NOT(OR(C12="賞味期限",C12="消費期限",C12="その他期限",C12="未確認")),"期限種類を確認",IF(NOT(OR(D12="確認済",D12="未確認")),"期限日区分を確認",IF(AND(D12="確認済",NOT(IF(ISNUMBER(E12),AND(E12>=43831,E12<=73050,E12=INT(E12)),FALSE()))),"確認済期限日は2020〜2099年/時刻なしで必須",IF(AND(D12="未確認",COUNTA(E12)>0),"未確認期限日は空欄",IF(NOT(OR(F12="未開封",F12="開封済",F12="未確認")),"開封状態を確認",IF(NOT(OR(G12="適合",G12="不適合",G12="未確認")),"保存条件を確認",IF(NOT(OR(H12="確認済",H12="未確認")),"在庫区分を確認",IF(AND(H12="確認済",NOT(IF(ISNUMBER(I12),AND(I12>=0,I12<=1000000,I12=INT(I12)),FALSE()))),"確認済数量は0〜100万個の整数で必須",IF(AND(H12="未確認",COUNTA(I12)>0),"未確認数量は空欄",IF(NOT(IF(ISNUMBER(J12),AND(J12>=43831,J12<=73050,J12=INT(J12)),FALSE())),"確認日は2020〜2099年/時刻なしで必須",IF(J12>期限の確認!$H$3,"確認日は確認基準日以下","確認済み"))))))))))))))) -> 確認済み | P12: =IF(O12="","",IF(O12="確認済み",0,1)) -> 0 | Q12: =IF(COUNTA(A12:J12)=0,IF(AND(O12="",P12="",K12="",L12="",M12="",N12=""),0,1),IF(NOT(AND(ISTEXT(O12),O12=IF(COUNTA(A12:J12)=0,"",IF(NOT(AND(ISTEXT(A12),LEN(A12)=8,EXACT(LEFT(A12,4),"LOT-"),ISNUMBER(FIND(MID(A12,5,1)&"x","0x1x2x3x4x5x6x7x8x9x")),ISNUMBER(FIND(MID(A12,6,1)&"x","0x1x2x3x4x5x6x7x8x9x")),ISNUMBER(FIND(MID(A12,7,1)&"x","0x1x2x3x4x5x6x7x8x9x")),ISNUMBER(FIND(MID(A12,8,1)&"x","0x1x2x3x4x5x6x7x8x9x")))),"管理IDはLOT-と半角数字4桁",IF(COUNTIFS($A$8:$A$57,A12)>1,"管理IDが重複",IF(NOT(AND(ISTEXT(B12),LEN(B12)=8,EXACT(LEFT(B12,4),"SKU-"),ISNUMBER(FIND(MID(B12,5,1)&"x","0x1x2x3x4x5x6x7x8x9x")),ISNUMBER(FIND(MID(B12,6,1)&"x","0x1x2x3x4x5x6x7x8x9x")),ISNUMBER(FIND(MID(B12,7,1)&"x","0x1x2x3x4x5x6x7x8x9x")),ISNUMBER(FIND(MID(B12,8,1)&"x","0x1x2x3x4x5x6x7x8x9x")))),"品目IDはSKU-と半角数字4桁",IF(NOT(OR(C12="賞味期限",C12="消費期限",C12="その他期限",C12="未確認")),"期限種類を確認",IF(NOT(OR(D12="確認済",D12="未確認")),"期限日区分を確認",IF(AND(D12="確認済",NOT(IF(ISNUMBER(E12),AND(E12>=43831,E12<=73050,E12=INT(E12)),FALSE()))),"確認済期限日は2020〜2099年/時刻なしで必須",IF(AND(D12="未確認",COUNTA(E12)>0),"未確認期限日は空欄",IF(NOT(OR(F12="未開封",F12="開封済",F12="未確認")),"開封状態を確認",IF(NOT(OR(G12="適合",G12="不適合",G12="未確認")),"保存条件を確認",IF(NOT(OR(H12="確認済",H12="未確認")),"在庫区分を確認",IF(AND(H12="確認済",NOT(IF(ISNUMBER(I12),AND(I12>=0,I12<=1000000,I12=INT(I12)),FALSE()))),"確認済数量は0〜100万個の整数で必須",IF(AND(H12="未確認",COUNTA(I12)>0),"未確認数量は空欄",IF(NOT(IF(ISNUMBER(J12),AND(J12>=43831,J12<=73050,J12=INT(J12)),FALSE())),"確認日は2020〜2099年/時刻なしで必須",IF(J12>期限の確認!$H$3,"確認日は確認基準日以下","確認済み"))))))))))))))),ISNUMBER(P12),P12=IF(O12="確認済み",0,1))),1,IF(P12<>0,0,IF(AND(IF(D12="未確認",ISTEXT(K12),ISNUMBER(K12)),K12=IF(D12="未確認","",E12-期限の確認!$B$3),ISTEXT(L12),L12=IF(D12="未確認","期限日未確認",IF(K12<0,"期限超過",IF(K12=0,"期限当日",IF(K12<=期限の確認!$E$3,"注意期間内","注意期間外")))),ISNUMBER(M12),M12=IF(OR(C12="未確認",D12="未確認",F12<>"未開封",G12<>"適合",H12="未確認"),1,0),ISNUMBER(N12),N12=IF(OR(F12="開封済",G12="不適合"),1,0)),0,1)))) -> 0
A13: LOT-0006 | B13: SKU-0005 | C13: 消費期限 | D13: 未確認 | F13: 未開封 | G13: 適合 | H13: 確認済 | I13: 2 | J13: 46329 | K13: =IF(O13="","",IF(P13<>0,NA(),IF(D13="未確認","",E13-期限の確認!$B$3))) | L13: =IF(O13="","",IF(P13<>0,NA(),IF(D13="未確認","期限日未確認",IF(K13<0,"期限超過",IF(K13=0,"期限当日",IF(K13<=期限の確認!$E$3,"注意期間内","注意期間外")))))) -> 期限日未確認 | M13: =IF(O13="","",IF(P13<>0,NA(),IF(OR(C13="未確認",D13="未確認",F13<>"未開封",G13<>"適合",H13="未確認"),1,0))) -> 1 | N13: =IF(O13="","",IF(P13<>0,NA(),IF(OR(F13="開封済",G13="不適合"),1,0))) -> 0 | O13: =IF(COUNTA(A13:J13)=0,"",IF(NOT(AND(ISTEXT(A13),LEN(A13)=8,EXACT(LEFT(A13,4),"LOT-"),ISNUMBER(FIND(MID(A13,5,1)&"x","0x1x2x3x4x5x6x7x8x9x")),ISNUMBER(FIND(MID(A13,6,1)&"x","0x1x2x3x4x5x6x7x8x9x")),ISNUMBER(FIND(MID(A13,7,1)&"x","0x1x2x3x4x5x6x7x8x9x")),ISNUMBER(FIND(MID(A13,8,1)&"x","0x1x2x3x4x5x6x7x8x9x")))),"管理IDはLOT-と半角数字4桁",IF(COUNTIFS($A$8:$A$57,A13)>1,"管理IDが重複",IF(NOT(AND(ISTEXT(B13),LEN(B13)=8,EXACT(LEFT(B13,4),"SKU-"),ISNUMBER(FIND(MID(B13,5,1)&"x","0x1x2x3x4x5x6x7x8x9x")),ISNUMBER(FIND(MID(B13,6,1)&"x","0x1x2x3x4x5x6x7x8x9x")),ISNUMBER(FIND(MID(B13,7,1)&"x","0x1x2x3x4x5x6x7x8x9x")),ISNUMBER(FIND(MID(B13,8,1)&"x","0x1x2x3x4x5x6x7x8x9x")))),"品目IDはSKU-と半角数字4桁",IF(NOT(OR(C13="賞味期限",C13="消費期限",C13="その他期限",C13="未確認")),"期限種類を確認",IF(NOT(OR(D13="確認済",D13="未確認")),"期限日区分を確認",IF(AND(D13="確認済",NOT(IF(ISNUMBER(E13),AND(E13>=43831,E13<=73050,E13=INT(E13)),FALSE()))),"確認済期限日は2020〜2099年/時刻なしで必須",IF(AND(D13="未確認",COUNTA(E13)>0),"未確認期限日は空欄",IF(NOT(OR(F13="未開封",F13="開封済",F13="未確認")),"開封状態を確認",IF(NOT(OR(G13="適合",G13="不適合",G13="未確認")),"保存条件を確認",IF(NOT(OR(H13="確認済",H13="未確認")),"在庫区分を確認",IF(AND(H13="確認済",NOT(IF(ISNUMBER(I13),AND(I13>=0,I13<=1000000,I13=INT(I13)),FALSE()))),"確認済数量は0〜100万個の整数で必須",IF(AND(H13="未確認",COUNTA(I13)>0),"未確認数量は空欄",IF(NOT(IF(ISNUMBER(J13),AND(J13>=43831,J13<=73050,J13=INT(J13)),FALSE())),"確認日は2020〜2099年/時刻なしで必須",IF(J13>期限の確認!$H$3,"確認日は確認基準日以下","確認済み"))))))))))))))) -> 確認済み | P13: =IF(O13="","",IF(O13="確認済み",0,1)) -> 0 | Q13: =IF(COUNTA(A13:J13)=0,IF(AND(O13="",P13="",K13="",L13="",M13="",N13=""),0,1),IF(NOT(AND(ISTEXT(O13),O13=IF(COUNTA(A13:J13)=0,"",IF(NOT(AND(ISTEXT(A13),LEN(A13)=8,EXACT(LEFT(A13,4),"LOT-"),ISNUMBER(FIND(MID(A13,5,1)&"x","0x1x2x3x4x5x6x7x8x9x")),ISNUMBER(FIND(MID(A13,6,1)&"x","0x1x2x3x4x5x6x7x8x9x")),ISNUMBER(FIND(MID(A13,7,1)&"x","0x1x2x3x4x5x6x7x8x9x")),ISNUMBER(FIND(MID(A13,8,1)&"x","0x1x2x3x4x5x6x7x8x9x")))),"管理IDはLOT-と半角数字4桁",IF(COUNTIFS($A$8:$A$57,A13)>1,"管理IDが重複",IF(NOT(AND(ISTEXT(B13),LEN(B13)=8,EXACT(LEFT(B13,4),"SKU-"),ISNUMBER(FIND(MID(B13,5,1)&"x","0x1x2x3x4x5x6x7x8x9x")),ISNUMBER(FIND(MID(B13,6,1)&"x","0x1x2x3x4x5x6x7x8x9x")),ISNUMBER(FIND(MID(B13,7,1)&"x","0x1x2x3x4x5x6x7x8x9x")),ISNUMBER(FIND(MID(B13,8,1)&"x","0x1x2x3x4x5x6x7x8x9x")))),"品目IDはSKU-と半角数字4桁",IF(NOT(OR(C13="賞味期限",C13="消費期限",C13="その他期限",C13="未確認")),"期限種類を確認",IF(NOT(OR(D13="確認済",D13="未確認")),"期限日区分を確認",IF(AND(D13="確認済",NOT(IF(ISNUMBER(E13),AND(E13>=43831,E13<=73050,E13=INT(E13)),FALSE()))),"確認済期限日は2020〜2099年/時刻なしで必須",IF(AND(D13="未確認",COUNTA(E13)>0),"未確認期限日は空欄",IF(NOT(OR(F13="未開封",F13="開封済",F13="未確認")),"開封状態を確認",IF(NOT(OR(G13="適合",G13="不適合",G13="未確認")),"保存条件を確認",IF(NOT(OR(H13="確認済",H13="未確認")),"在庫区分を確認",IF(AND(H13="確認済",NOT(IF(ISNUMBER(I13),AND(I13>=0,I13<=1000000,I13=INT(I13)),FALSE()))),"確認済数量は0〜100万個の整数で必須",IF(AND(H13="未確認",COUNTA(I13)>0),"未確認数量は空欄",IF(NOT(IF(ISNUMBER(J13),AND(J13>=43831,J13<=73050,J13=INT(J13)),FALSE())),"確認日は2020〜2099年/時刻なしで必須",IF(J13>期限の確認!$H$3,"確認日は確認基準日以下","確認済み"))))))))))))))),ISNUMBER(P13),P13=IF(O13="確認済み",0,1))),1,IF(P13<>0,0,IF(AND(IF(D13="未確認",ISTEXT(K13),ISNUMBER(K13)),K13=IF(D13="未確認","",E13-期限の確認!$B$3),ISTEXT(L13),L13=IF(D13="未確認","期限日未確認",IF(K13<0,"期限超過",IF(K13=0,"期限当日",IF(K13<=期限の確認!$E$3,"注意期間内","注意期間外")))),ISNUMBER(M13),M13=IF(OR(C13="未確認",D13="未確認",F13<>"未開封",G13<>"適合",H13="未確認"),1,0),ISNUMBER(N13),N13=IF(OR(F13="開封済",G13="不適合"),1,0)),0,1)))) -> 0
A14: LOT-0007 | B14: SKU-0006 | C14: 賞味期限 | D14: 確認済 | E14: 46356 | F14: 開封済 | G14: 適合 | H14: 確認済 | I14: 3 | J14: 46330 | K14: =IF(O14="","",IF(P14<>0,NA(),IF(D14="未確認","",E14-期限の確認!$B$3))) -> 30 | L14: =IF(O14="","",IF(P14<>0,NA(),IF(D14="未確認","期限日未確認",IF(K14<0,"期限超過",IF(K14=0,"期限当日",IF(K14<=期限の確認!$E$3,"注意期間内","注意期間外")))))) -> 注意期間外 | M14: =IF(O14="","",IF(P14<>0,NA(),IF(OR(C14="未確認",D14="未確認",F14<>"未開封",G14<>"適合",H14="未確認"),1,0))) -> 1 | N14: =IF(O14="","",IF(P14<>0,NA(),IF(OR(F14="開封済",G14="不適合"),1,0))) -> 1 | O14: =IF(COUNTA(A14:J14)=0,"",IF(NOT(AND(ISTEXT(A14),LEN(A14)=8,EXACT(LEFT(A14,4),"LOT-"),ISNUMBER(FIND(MID(A14,5,1)&"x","0x1x2x3x4x5x6x7x8x9x")),ISNUMBER(FIND(MID(A14,6,1)&"x","0x1x2x3x4x5x6x7x8x9x")),ISNUMBER(FIND(MID(A14,7,1)&"x","0x1x2x3x4x5x6x7x8x9x")),ISNUMBER(FIND(MID(A14,8,1)&"x","0x1x2x3x4x5x6x7x8x9x")))),"管理IDはLOT-と半角数字4桁",IF(COUNTIFS($A$8:$A$57,A14)>1,"管理IDが重複",IF(NOT(AND(ISTEXT(B14),LEN(B14)=8,EXACT(LEFT(B14,4),"SKU-"),ISNUMBER(FIND(MID(B14,5,1)&"x","0x1x2x3x4x5x6x7x8x9x")),ISNUMBER(FIND(MID(B14,6,1)&"x","0x1x2x3x4x5x6x7x8x9x")),ISNUMBER(FIND(MID(B14,7,1)&"x","0x1x2x3x4x5x6x7x8x9x")),ISNUMBER(FIND(MID(B14,8,1)&"x","0x1x2x3x4x5x6x7x8x9x")))),"品目IDはSKU-と半角数字4桁",IF(NOT(OR(C14="賞味期限",C14="消費期限",C14="その他期限",C14="未確認")),"期限種類を確認",IF(NOT(OR(D14="確認済",D14="未確認")),"期限日区分を確認",IF(AND(D14="確認済",NOT(IF(ISNUMBER(E14),AND(E14>=43831,E14<=73050,E14=INT(E14)),FALSE()))),"確認済期限日は2020〜2099年/時刻なしで必須",IF(AND(D14="未確認",COUNTA(E14)>0),"未確認期限日は空欄",IF(NOT(OR(F14="未開封",F14="開封済",F14="未確認")),"開封状態を確認",IF(NOT(OR(G14="適合",G14="不適合",G14="未確認")),"保存条件を確認",IF(NOT(OR(H14="確認済",H14="未確認")),"在庫区分を確認",IF(AND(H14="確認済",NOT(IF(ISNUMBER(I14),AND(I14>=0,I14<=1000000,I14=INT(I14)),FALSE()))),"確認済数量は0〜100万個の整数で必須",IF(AND(H14="未確認",COUNTA(I14)>0),"未確認数量は空欄",IF(NOT(IF(ISNUMBER(J14),AND(J14>=43831,J14<=73050,J14=INT(J14)),FALSE())),"確認日は2020〜2099年/時刻なしで必須",IF(J14>期限の確認!$H$3,"確認日は確認基準日以下","確認済み"))))))))))))))) -> 確認済み | P14: =IF(O14="","",IF(O14="確認済み",0,1)) -> 0 | Q14: =IF(COUNTA(A14:J14)=0,IF(AND(O14="",P14="",K14="",L14="",M14="",N14=""),0,1),IF(NOT(AND(ISTEXT(O14),O14=IF(COUNTA(A14:J14)=0,"",IF(NOT(AND(ISTEXT(A14),LEN(A14)=8,EXACT(LEFT(A14,4),"LOT-"),ISNUMBER(FIND(MID(A14,5,1)&"x","0x1x2x3x4x5x6x7x8x9x")),ISNUMBER(FIND(MID(A14,6,1)&"x","0x1x2x3x4x5x6x7x8x9x")),ISNUMBER(FIND(MID(A14,7,1)&"x","0x1x2x3x4x5x6x7x8x9x")),ISNUMBER(FIND(MID(A14,8,1)&"x","0x1x2x3x4x5x6x7x8x9x")))),"管理IDはLOT-と半角数字4桁",IF(COUNTIFS($A$8:$A$57,A14)>1,"管理IDが重複",IF(NOT(AND(ISTEXT(B14),LEN(B14)=8,EXACT(LEFT(B14,4),"SKU-"),ISNUMBER(FIND(MID(B14,5,1)&"x","0x1x2x3x4x5x6x7x8x9x")),ISNUMBER(FIND(MID(B14,6,1)&"x","0x1x2x3x4x5x6x7x8x9x")),ISNUMBER(FIND(MID(B14,7,1)&"x","0x1x2x3x4x5x6x7x8x9x")),ISNUMBER(FIND(MID(B14,8,1)&"x","0x1x2x3x4x5x6x7x8x9x")))),"品目IDはSKU-と半角数字4桁",IF(NOT(OR(C14="賞味期限",C14="消費期限",C14="その他期限",C14="未確認")),"期限種類を確認",IF(NOT(OR(D14="確認済",D14="未確認")),"期限日区分を確認",IF(AND(D14="確認済",NOT(IF(ISNUMBER(E14),AND(E14>=43831,E14<=73050,E14=INT(E14)),FALSE()))),"確認済期限日は2020〜2099年/時刻なしで必須",IF(AND(D14="未確認",COUNTA(E14)>0),"未確認期限日は空欄",IF(NOT(OR(F14="未開封",F14="開封済",F14="未確認")),"開封状態を確認",IF(NOT(OR(G14="適合",G14="不適合",G14="未確認")),"保存条件を確認",IF(NOT(OR(H14="確認済",H14="未確認")),"在庫区分を確認",IF(AND(H14="確認済",NOT(IF(ISNUMBER(I14),AND(I14>=0,I14<=1000000,I14=INT(I14)),FALSE()))),"確認済数量は0〜100万個の整数で必須",IF(AND(H14="未確認",COUNTA(I14)>0),"未確認数量は空欄",IF(NOT(IF(ISNUMBER(J14),AND(J14>=43831,J14<=73050,J14=INT(J14)),FALSE())),"確認日は2020〜2099年/時刻なしで必須",IF(J14>期限の確認!$H$3,"確認日は確認基準日以下","確認済み"))))))))))))))),ISNUMBER(P14),P14=IF(O14="確認済み",0,1))),1,IF(P14<>0,0,IF(AND(IF(D14="未確認",ISTEXT(K14),ISNUMBER(K14)),K14=IF(D14="未確認","",E14-期限の確認!$B$3),ISTEXT(L14),L14=IF(D14="未確認","期限日未確認",IF(K14<0,"期限超過",IF(K14=0,"期限当日",IF(K14<=期限の確認!$E$3,"注意期間内","注意期間外")))),ISNUMBER(M14),M14=IF(OR(C14="未確認",D14="未確認",F14<>"未開封",G14<>"適合",H14="未確認"),1,0),ISNUMBER(N14),N14=IF(OR(F14="開封済",G14="不適合"),1,0)),0,1)))) -> 0
A15: LOT-0008 | B15: SKU-0007 | C15: 賞味期限 | D15: 確認済 | E15: 46356 | F15: 未開封 | G15: 不適合 | H15: 確認済 | I15: 4 | J15: 46330 | K15: =IF(O15="","",IF(P15<>0,NA(),IF(D15="未確認","",E15-期限の確認!$B$3))) -> 30 | L15: =IF(O15="","",IF(P15<>0,NA(),IF(D15="未確認","期限日未確認",IF(K15<0,"期限超過",IF(K15=0,"期限当日",IF(K15<=期限の確認!$E$3,"注意期間内","注意期間外")))))) -> 注意期間外 | M15: =IF(O15="","",IF(P15<>0,NA(),IF(OR(C15="未確認",D15="未確認",F15<>"未開封",G15<>"適合",H15="未確認"),1,0))) -> 1 | N15: =IF(O15="","",IF(P15<>0,NA(),IF(OR(F15="開封済",G15="不適合"),1,0))) -> 1 | O15: =IF(COUNTA(A15:J15)=0,"",IF(NOT(AND(ISTEXT(A15),LEN(A15)=8,EXACT(LEFT(A15,4),"LOT-"),ISNUMBER(FIND(MID(A15,5,1)&"x","0x1x2x3x4x5x6x7x8x9x")),ISNUMBER(FIND(MID(A15,6,1)&"x","0x1x2x3x4x5x6x7x8x9x")),ISNUMBER(FIND(MID(A15,7,1)&"x","0x1x2x3x4x5x6x7x8x9x")),ISNUMBER(FIND(MID(A15,8,1)&"x","0x1x2x3x4x5x6x7x8x9x")))),"管理IDはLOT-と半角数字4桁",IF(COUNTIFS($A$8:$A$57,A15)>1,"管理IDが重複",IF(NOT(AND(ISTEXT(B15),LEN(B15)=8,EXACT(LEFT(B15,4),"SKU-"),ISNUMBER(FIND(MID(B15,5,1)&"x","0x1x2x3x4x5x6x7x8x9x")),ISNUMBER(FIND(MID(B15,6,1)&"x","0x1x2x3x4x5x6x7x8x9x")),ISNUMBER(FIND(MID(B15,7,1)&"x","0x1x2x3x4x5x6x7x8x9x")),ISNUMBER(FIND(MID(B15,8,1)&"x","0x1x2x3x4x5x6x7x8x9x")))),"品目IDはSKU-と半角数字4桁",IF(NOT(OR(C15="賞味期限",C15="消費期限",C15="その他期限",C15="未確認")),"期限種類を確認",IF(NOT(OR(D15="確認済",D15="未確認")),"期限日区分を確認",IF(AND(D15="確認済",NOT(IF(ISNUMBER(E15),AND(E15>=43831,E15<=73050,E15=INT(E15)),FALSE()))),"確認済期限日は2020〜2099年/時刻なしで必須",IF(AND(D15="未確認",COUNTA(E15)>0),"未確認期限日は空欄",IF(NOT(OR(F15="未開封",F15="開封済",F15="未確認")),"開封状態を確認",IF(NOT(OR(G15="適合",G15="不適合",G15="未確認")),"保存条件を確認",IF(NOT(OR(H15="確認済",H15="未確認")),"在庫区分を確認",IF(AND(H15="確認済",NOT(IF(ISNUMBER(I15),AND(I15>=0,I15<=1000000,I15=INT(I15)),FALSE()))),"確認済数量は0〜100万個の整数で必須",IF(AND(H15="未確認",COUNTA(I15)>0),"未確認数量は空欄",IF(NOT(IF(ISNUMBER(J15),AND(J15>=43831,J15<=73050,J15=INT(J15)),FALSE())),"確認日は2020〜2099年/時刻なしで必須",IF(J15>期限の確認!$H$3,"確認日は確認基準日以下","確認済み"))))))))))))))) -> 確認済み | P15: =IF(O15="","",IF(O15="確認済み",0,1)) -> 0 | Q15: =IF(COUNTA(A15:J15)=0,IF(AND(O15="",P15="",K15="",L15="",M15="",N15=""),0,1),IF(NOT(AND(ISTEXT(O15),O15=IF(COUNTA(A15:J15)=0,"",IF(NOT(AND(ISTEXT(A15),LEN(A15)=8,EXACT(LEFT(A15,4),"LOT-"),ISNUMBER(FIND(MID(A15,5,1)&"x","0x1x2x3x4x5x6x7x8x9x")),ISNUMBER(FIND(MID(A15,6,1)&"x","0x1x2x3x4x5x6x7x8x9x")),ISNUMBER(FIND(MID(A15,7,1)&"x","0x1x2x3x4x5x6x7x8x9x")),ISNUMBER(FIND(MID(A15,8,1)&"x","0x1x2x3x4x5x6x7x8x9x")))),"管理IDはLOT-と半角数字4桁",IF(COUNTIFS($A$8:$A$57,A15)>1,"管理IDが重複",IF(NOT(AND(ISTEXT(B15),LEN(B15)=8,EXACT(LEFT(B15,4),"SKU-"),ISNUMBER(FIND(MID(B15,5,1)&"x","0x1x2x3x4x5x6x7x8x9x")),ISNUMBER(FIND(MID(B15,6,1)&"x","0x1x2x3x4x5x6x7x8x9x")),ISNUMBER(FIND(MID(B15,7,1)&"x","0x1x2x3x4x5x6x7x8x9x")),ISNUMBER(FIND(MID(B15,8,1)&"x","0x1x2x3x4x5x6x7x8x9x")))),"品目IDはSKU-と半角数字4桁",IF(NOT(OR(C15="賞味期限",C15="消費期限",C15="その他期限",C15="未確認")),"期限種類を確認",IF(NOT(OR(D15="確認済",D15="未確認")),"期限日区分を確認",IF(AND(D15="確認済",NOT(IF(ISNUMBER(E15),AND(E15>=43831,E15<=73050,E15=INT(E15)),FALSE()))),"確認済期限日は2020〜2099年/時刻なしで必須",IF(AND(D15="未確認",COUNTA(E15)>0),"未確認期限日は空欄",IF(NOT(OR(F15="未開封",F15="開封済",F15="未確認")),"開封状態を確認",IF(NOT(OR(G15="適合",G15="不適合",G15="未確認")),"保存条件を確認",IF(NOT(OR(H15="確認済",H15="未確認")),"在庫区分を確認",IF(AND(H15="確認済",NOT(IF(ISNUMBER(I15),AND(I15>=0,I15<=1000000,I15=INT(I15)),FALSE()))),"確認済数量は0〜100万個の整数で必須",IF(AND(H15="未確認",COUNTA(I15)>0),"未確認数量は空欄",IF(NOT(IF(ISNUMBER(J15),AND(J15>=43831,J15<=73050,J15=INT(J15)),FALSE())),"確認日は2020〜2099年/時刻なしで必須",IF(J15>期限の確認!$H$3,"確認日は確認基準日以下","確認済み"))))))))))))))),ISNUMBER(P15),P15=IF(O15="確認済み",0,1))),1,IF(P15<>0,0,IF(AND(IF(D15="未確認",ISTEXT(K15),ISNUMBER(K15)),K15=IF(D15="未確認","",E15-期限の確認!$B$3),ISTEXT(L15),L15=IF(D15="未確認","期限日未確認",IF(K15<0,"期限超過",IF(K15=0,"期限当日",IF(K15<=期限の確認!$E$3,"注意期間内","注意期間外")))),ISNUMBER(M15),M15=IF(OR(C15="未確認",D15="未確認",F15<>"未開封",G15<>"適合",H15="未確認"),1,0),ISNUMBER(N15),N15=IF(OR(F15="開封済",G15="不適合"),1,0)),0,1)))) -> 0
A16: LOT-0009 | B16: SKU-0008 | C16: 賞味期限 | D16: 確認済 | E16: 46356 | F16: 未確認 | G16: 適合 | H16: 確認済 | I16: 5 | J16: 46331 | K16: =IF(O16="","",IF(P16<>0,NA(),IF(D16="未確認","",E16-期限の確認!$B$3))) -> 30 | L16: =IF(O16="","",IF(P16<>0,NA(),IF(D16="未確認","期限日未確認",IF(K16<0,"期限超過",IF(K16=0,"期限当日",IF(K16<=期限の確認!$E$3,"注意期間内","注意期間外")))))) -> 注意期間外 | M16: =IF(O16="","",IF(P16<>0,NA(),IF(OR(C16="未確認",D16="未確認",F16<>"未開封",G16<>"適合",H16="未確認"),1,0))) -> 1 | N16: =IF(O16="","",IF(P16<>0,NA(),IF(OR(F16="開封済",G16="不適合"),1,0))) -> 0 | O16: =IF(COUNTA(A16:J16)=0,"",IF(NOT(AND(ISTEXT(A16),LEN(A16)=8,EXACT(LEFT(A16,4),"LOT-"),ISNUMBER(FIND(MID(A16,5,1)&"x","0x1x2x3x4x5x6x7x8x9x")),ISNUMBER(FIND(MID(A16,6,1)&"x","0x1x2x3x4x5x6x7x8x9x")),ISNUMBER(FIND(MID(A16,7,1)&"x","0x1x2x3x4x5x6x7x8x9x")),ISNUMBER(FIND(MID(A16,8,1)&"x","0x1x2x3x4x5x6x7x8x9x")))),"管理IDはLOT-と半角数字4桁",IF(COUNTIFS($A$8:$A$57,A16)>1,"管理IDが重複",IF(NOT(AND(ISTEXT(B16),LEN(B16)=8,EXACT(LEFT(B16,4),"SKU-"),ISNUMBER(FIND(MID(B16,5,1)&"x","0x1x2x3x4x5x6x7x8x9x")),ISNUMBER(FIND(MID(B16,6,1)&"x","0x1x2x3x4x5x6x7x8x9x")),ISNUMBER(FIND(MID(B16,7,1)&"x","0x1x2x3x4x5x6x7x8x9x")),ISNUMBER(FIND(MID(B16,8,1)&"x","0x1x2x3x4x5x6x7x8x9x")))),"品目IDはSKU-と半角数字4桁",IF(NOT(OR(C16="賞味期限",C16="消費期限",C16="その他期限",C16="未確認")),"期限種類を確認",IF(NOT(OR(D16="確認済",D16="未確認")),"期限日区分を確認",IF(AND(D16="確認済",NOT(IF(ISNUMBER(E16),AND(E16>=43831,E16<=73050,E16=INT(E16)),FALSE()))),"確認済期限日は2020〜2099年/時刻なしで必須",IF(AND(D16="未確認",COUNTA(E16)>0),"未確認期限日は空欄",IF(NOT(OR(F16="未開封",F16="開封済",F16="未確認")),"開封状態を確認",IF(NOT(OR(G16="適合",G16="不適合",G16="未確認")),"保存条件を確認",IF(NOT(OR(H16="確認済",H16="未確認")),"在庫区分を確認",IF(AND(H16="確認済",NOT(IF(ISNUMBER(I16),AND(I16>=0,I16<=1000000,I16=INT(I16)),FALSE()))),"確認済数量は0〜100万個の整数で必須",IF(AND(H16="未確認",COUNTA(I16)>0),"未確認数量は空欄",IF(NOT(IF(ISNUMBER(J16),AND(J16>=43831,J16<=73050,J16=INT(J16)),FALSE())),"確認日は2020〜2099年/時刻なしで必須",IF(J16>期限の確認!$H$3,"確認日は確認基準日以下","確認済み"))))))))))))))) -> 確認済み | P16: =IF(O16="","",IF(O16="確認済み",0,1)) -> 0 | Q16: =IF(COUNTA(A16:J16)=0,IF(AND(O16="",P16="",K16="",L16="",M16="",N16=""),0,1),IF(NOT(AND(ISTEXT(O16),O16=IF(COUNTA(A16:J16)=0,"",IF(NOT(AND(ISTEXT(A16),LEN(A16)=8,EXACT(LEFT(A16,4),"LOT-"),ISNUMBER(FIND(MID(A16,5,1)&"x","0x1x2x3x4x5x6x7x8x9x")),ISNUMBER(FIND(MID(A16,6,1)&"x","0x1x2x3x4x5x6x7x8x9x")),ISNUMBER(FIND(MID(A16,7,1)&"x","0x1x2x3x4x5x6x7x8x9x")),ISNUMBER(FIND(MID(A16,8,1)&"x","0x1x2x3x4x5x6x7x8x9x")))),"管理IDはLOT-と半角数字4桁",IF(COUNTIFS($A$8:$A$57,A16)>1,"管理IDが重複",IF(NOT(AND(ISTEXT(B16),LEN(B16)=8,EXACT(LEFT(B16,4),"SKU-"),ISNUMBER(FIND(MID(B16,5,1)&"x","0x1x2x3x4x5x6x7x8x9x")),ISNUMBER(FIND(MID(B16,6,1)&"x","0x1x2x3x4x5x6x7x8x9x")),ISNUMBER(FIND(MID(B16,7,1)&"x","0x1x2x3x4x5x6x7x8x9x")),ISNUMBER(FIND(MID(B16,8,1)&"x","0x1x2x3x4x5x6x7x8x9x")))),"品目IDはSKU-と半角数字4桁",IF(NOT(OR(C16="賞味期限",C16="消費期限",C16="その他期限",C16="未確認")),"期限種類を確認",IF(NOT(OR(D16="確認済",D16="未確認")),"期限日区分を確認",IF(AND(D16="確認済",NOT(IF(ISNUMBER(E16),AND(E16>=43831,E16<=73050,E16=INT(E16)),FALSE()))),"確認済期限日は2020〜2099年/時刻なしで必須",IF(AND(D16="未確認",COUNTA(E16)>0),"未確認期限日は空欄",IF(NOT(OR(F16="未開封",F16="開封済",F16="未確認")),"開封状態を確認",IF(NOT(OR(G16="適合",G16="不適合",G16="未確認")),"保存条件を確認",IF(NOT(OR(H16="確認済",H16="未確認")),"在庫区分を確認",IF(AND(H16="確認済",NOT(IF(ISNUMBER(I16),AND(I16>=0,I16<=1000000,I16=INT(I16)),FALSE()))),"確認済数量は0〜100万個の整数で必須",IF(AND(H16="未確認",COUNTA(I16)>0),"未確認数量は空欄",IF(NOT(IF(ISNUMBER(J16),AND(J16>=43831,J16<=73050,J16=INT(J16)),FALSE())),"確認日は2020〜2099年/時刻なしで必須",IF(J16>期限の確認!$H$3,"確認日は確認基準日以下","確認済み"))))))))))))))),ISNUMBER(P16),P16=IF(O16="確認済み",0,1))),1,IF(P16<>0,0,IF(AND(IF(D16="未確認",ISTEXT(K16),ISNUMBER(K16)),K16=IF(D16="未確認","",E16-期限の確認!$B$3),ISTEXT(L16),L16=IF(D16="未確認","期限日未確認",IF(K16<0,"期限超過",IF(K16=0,"期限当日",IF(K16<=期限の確認!$E$3,"注意期間内","注意期間外")))),ISNUMBER(M16),M16=IF(OR(C16="未確認",D16="未確認",F16<>"未開封",G16<>"適合",H16="未確認"),1,0),ISNUMBER(N16),N16=IF(OR(F16="開封済",G16="不適合"),1,0)),0,1)))) -> 0
A17: LOT-0010 | B17: SKU-0009 | C17: 未確認 | D17: 確認済 | E17: 46356 | F17: 未開封 | G17: 適合 | H17: 確認済 | I17: 6 | J17: 46331 | K17: =IF(O17="","",IF(P17<>0,NA(),IF(D17="未確認","",E17-期限の確認!$B$3))) -> 30 | L17: =IF(O17="","",IF(P17<>0,NA(),IF(D17="未確認","期限日未確認",IF(K17<0,"期限超過",IF(K17=0,"期限当日",IF(K17<=期限の確認!$E$3,"注意期間内","注意期間外")))))) -> 注意期間外 | M17: =IF(O17="","",IF(P17<>0,NA(),IF(OR(C17="未確認",D17="未確認",F17<>"未開封",G17<>"適合",H17="未確認"),1,0))) -> 1 | N17: =IF(O17="","",IF(P17<>0,NA(),IF(OR(F17="開封済",G17="不適合"),1,0))) -> 0 | O17: =IF(COUNTA(A17:J17)=0,"",IF(NOT(AND(ISTEXT(A17),LEN(A17)=8,EXACT(LEFT(A17,4),"LOT-"),ISNUMBER(FIND(MID(A17,5,1)&"x","0x1x2x3x4x5x6x7x8x9x")),ISNUMBER(FIND(MID(A17,6,1)&"x","0x1x2x3x4x5x6x7x8x9x")),ISNUMBER(FIND(MID(A17,7,1)&"x","0x1x2x3x4x5x6x7x8x9x")),ISNUMBER(FIND(MID(A17,8,1)&"x","0x1x2x3x4x5x6x7x8x9x")))),"管理IDはLOT-と半角数字4桁",IF(COUNTIFS($A$8:$A$57,A17)>1,"管理IDが重複",IF(NOT(AND(ISTEXT(B17),LEN(B17)=8,EXACT(LEFT(B17,4),"SKU-"),ISNUMBER(FIND(MID(B17,5,1)&"x","0x1x2x3x4x5x6x7x8x9x")),ISNUMBER(FIND(MID(B17,6,1)&"x","0x1x2x3x4x5x6x7x8x9x")),ISNUMBER(FIND(MID(B17,7,1)&"x","0x1x2x3x4x5x6x7x8x9x")),ISNUMBER(FIND(MID(B17,8,1)&"x","0x1x2x3x4x5x6x7x8x9x")))),"品目IDはSKU-と半角数字4桁",IF(NOT(OR(C17="賞味期限",C17="消費期限",C17="その他期限",C17="未確認")),"期限種類を確認",IF(NOT(OR(D17="確認済",D17="未確認")),"期限日区分を確認",IF(AND(D17="確認済",NOT(IF(ISNUMBER(E17),AND(E17>=43831,E17<=73050,E17=INT(E17)),FALSE()))),"確認済期限日は2020〜2099年/時刻なしで必須",IF(AND(D17="未確認",COUNTA(E17)>0),"未確認期限日は空欄",IF(NOT(OR(F17="未開封",F17="開封済",F17="未確認")),"開封状態を確認",IF(NOT(OR(G17="適合",G17="不適合",G17="未確認")),"保存条件を確認",IF(NOT(OR(H17="確認済",H17="未確認")),"在庫区分を確認",IF(AND(H17="確認済",NOT(IF(ISNUMBER(I17),AND(I17>=0,I17<=1000000,I17=INT(I17)),FALSE()))),"確認済数量は0〜100万個の整数で必須",IF(AND(H17="未確認",COUNTA(I17)>0),"未確認数量は空欄",IF(NOT(IF(ISNUMBER(J17),AND(J17>=43831,J17<=73050,J17=INT(J17)),FALSE())),"確認日は2020〜2099年/時刻なしで必須",IF(J17>期限の確認!$H$3,"確認日は確認基準日以下","確認済み"))))))))))))))) -> 確認済み | P17: =IF(O17="","",IF(O17="確認済み",0,1)) -> 0 | Q17: =IF(COUNTA(A17:J17)=0,IF(AND(O17="",P17="",K17="",L17="",M17="",N17=""),0,1),IF(NOT(AND(ISTEXT(O17),O17=IF(COUNTA(A17:J17)=0,"",IF(NOT(AND(ISTEXT(A17),LEN(A17)=8,EXACT(LEFT(A17,4),"LOT-"),ISNUMBER(FIND(MID(A17,5,1)&"x","0x1x2x3x4x5x6x7x8x9x")),ISNUMBER(FIND(MID(A17,6,1)&"x","0x1x2x3x4x5x6x7x8x9x")),ISNUMBER(FIND(MID(A17,7,1)&"x","0x1x2x3x4x5x6x7x8x9x")),ISNUMBER(FIND(MID(A17,8,1)&"x","0x1x2x3x4x5x6x7x8x9x")))),"管理IDはLOT-と半角数字4桁",IF(COUNTIFS($A$8:$A$57,A17)>1,"管理IDが重複",IF(NOT(AND(ISTEXT(B17),LEN(B17)=8,EXACT(LEFT(B17,4),"SKU-"),ISNUMBER(FIND(MID(B17,5,1)&"x","0x1x2x3x4x5x6x7x8x9x")),ISNUMBER(FIND(MID(B17,6,1)&"x","0x1x2x3x4x5x6x7x8x9x")),ISNUMBER(FIND(MID(B17,7,1)&"x","0x1x2x3x4x5x6x7x8x9x")),ISNUMBER(FIND(MID(B17,8,1)&"x","0x1x2x3x4x5x6x7x8x9x")))),"品目IDはSKU-と半角数字4桁",IF(NOT(OR(C17="賞味期限",C17="消費期限",C17="その他期限",C17="未確認")),"期限種類を確認",IF(NOT(OR(D17="確認済",D17="未確認")),"期限日区分を確認",IF(AND(D17="確認済",NOT(IF(ISNUMBER(E17),AND(E17>=43831,E17<=73050,E17=INT(E17)),FALSE()))),"確認済期限日は2020〜2099年/時刻なしで必須",IF(AND(D17="未確認",COUNTA(E17)>0),"未確認期限日は空欄",IF(NOT(OR(F17="未開封",F17="開封済",F17="未確認")),"開封状態を確認",IF(NOT(OR(G17="適合",G17="不適合",G17="未確認")),"保存条件を確認",IF(NOT(OR(H17="確認済",H17="未確認")),"在庫区分を確認",IF(AND(H17="確認済",NOT(IF(ISNUMBER(I17),AND(I17>=0,I17<=1000000,I17=INT(I17)),FALSE()))),"確認済数量は0〜100万個の整数で必須",IF(AND(H17="未確認",COUNTA(I17)>0),"未確認数量は空欄",IF(NOT(IF(ISNUMBER(J17),AND(J17>=43831,J17<=73050,J17=INT(J17)),FALSE())),"確認日は2020〜2099年/時刻なしで必須",IF(J17>期限の確認!$H$3,"確認日は確認基準日以下","確認済み"))))))))))))))),ISNUMBER(P17),P17=IF(O17="確認済み",0,1))),1,IF(P17<>0,0,IF(AND(IF(D17="未確認",ISTEXT(K17),ISNUMBER(K17)),K17=IF(D17="未確認","",E17-期限の確認!$B$3),ISTEXT(L17),L17=IF(D17="未確認","期限日未確認",IF(K17<0,"期限超過",IF(K17=0,"期限当日",IF(K17<=期限の確認!$E$3,"注意期間内","注意期間外")))),ISNUMBER(M17),M17=IF(OR(C17="未確認",D17="未確認",F17<>"未開封",G17<>"適合",H17="未確認"),1,0),ISNUMBER(N17),N17=IF(OR(F17="開封済",G17="不適合"),1,0)),0,1)))) -> 0
A18: LOT-0011 | B18: SKU-0010 | C18: 消費期限 | D18: 確認済 | E18: 46315 | F18: 未開封 | G18: 適合 | H18: 未確認 | J18: 46331 | K18: =IF(O18="","",IF(P18<>0,NA(),IF(D18="未確認","",E18-期限の確認!$B$3))) -> -11 | L18: =IF(O18="","",IF(P18<>0,NA(),IF(D18="未確認","期限日未確認",IF(K18<0,"期限超過",IF(K18=0,"期限当日",IF(K18<=期限の確認!$E$3,"注意期間内","注意期間外")))))) -> 期限超過 | M18: =IF(O18="","",IF(P18<>0,NA(),IF(OR(C18="未確認",D18="未確認",F18<>"未開封",G18<>"適合",H18="未確認"),1,0))) -> 1 | N18: =IF(O18="","",IF(P18<>0,NA(),IF(OR(F18="開封済",G18="不適合"),1,0))) -> 0 | O18: =IF(COUNTA(A18:J18)=0,"",IF(NOT(AND(ISTEXT(A18),LEN(A18)=8,EXACT(LEFT(A18,4),"LOT-"),ISNUMBER(FIND(MID(A18,5,1)&"x","0x1x2x3x4x5x6x7x8x9x")),ISNUMBER(FIND(MID(A18,6,1)&"x","0x1x2x3x4x5x6x7x8x9x")),ISNUMBER(FIND(MID(A18,7,1)&"x","0x1x2x3x4x5x6x7x8x9x")),ISNUMBER(FIND(MID(A18,8,1)&"x","0x1x2x3x4x5x6x7x8x9x")))),"管理IDはLOT-と半角数字4桁",IF(COUNTIFS($A$8:$A$57,A18)>1,"管理IDが重複",IF(NOT(AND(ISTEXT(B18),LEN(B18)=8,EXACT(LEFT(B18,4),"SKU-"),ISNUMBER(FIND(MID(B18,5,1)&"x","0x1x2x3x4x5x6x7x8x9x")),ISNUMBER(FIND(MID(B18,6,1)&"x","0x1x2x3x4x5x6x7x8x9x")),ISNUMBER(FIND(MID(B18,7,1)&"x","0x1x2x3x4x5x6x7x8x9x")),ISNUMBER(FIND(MID(B18,8,1)&"x","0x1x2x3x4x5x6x7x8x9x")))),"品目IDはSKU-と半角数字4桁",IF(NOT(OR(C18="賞味期限",C18="消費期限",C18="その他期限",C18="未確認")),"期限種類を確認",IF(NOT(OR(D18="確認済",D18="未確認")),"期限日区分を確認",IF(AND(D18="確認済",NOT(IF(ISNUMBER(E18),AND(E18>=43831,E18<=73050,E18=INT(E18)),FALSE()))),"確認済期限日は2020〜2099年/時刻なしで必須",IF(AND(D18="未確認",COUNTA(E18)>0),"未確認期限日は空欄",IF(NOT(OR(F18="未開封",F18="開封済",F18="未確認")),"開封状態を確認",IF(NOT(OR(G18="適合",G18="不適合",G18="未確認")),"保存条件を確認",IF(NOT(OR(H18="確認済",H18="未確認")),"在庫区分を確認",IF(AND(H18="確認済",NOT(IF(ISNUMBER(I18),AND(I18>=0,I18<=1000000,I18=INT(I18)),FALSE()))),"確認済数量は0〜100万個の整数で必須",IF(AND(H18="未確認",COUNTA(I18)>0),"未確認数量は空欄",IF(NOT(IF(ISNUMBER(J18),AND(J18>=43831,J18<=73050,J18=INT(J18)),FALSE())),"確認日は2020〜2099年/時刻なしで必須",IF(J18>期限の確認!$H$3,"確認日は確認基準日以下","確認済み"))))))))))))))) -> 確認済み | P18: =IF(O18="","",IF(O18="確認済み",0,1)) -> 0 | Q18: =IF(COUNTA(A18:J18)=0,IF(AND(O18="",P18="",K18="",L18="",M18="",N18=""),0,1),IF(NOT(AND(ISTEXT(O18),O18=IF(COUNTA(A18:J18)=0,"",IF(NOT(AND(ISTEXT(A18),LEN(A18)=8,EXACT(LEFT(A18,4),"LOT-"),ISNUMBER(FIND(MID(A18,5,1)&"x","0x1x2x3x4x5x6x7x8x9x")),ISNUMBER(FIND(MID(A18,6,1)&"x","0x1x2x3x4x5x6x7x8x9x")),ISNUMBER(FIND(MID(A18,7,1)&"x","0x1x2x3x4x5x6x7x8x9x")),ISNUMBER(FIND(MID(A18,8,1)&"x","0x1x2x3x4x5x6x7x8x9x")))),"管理IDはLOT-と半角数字4桁",IF(COUNTIFS($A$8:$A$57,A18)>1,"管理IDが重複",IF(NOT(AND(ISTEXT(B18),LEN(B18)=8,EXACT(LEFT(B18,4),"SKU-"),ISNUMBER(FIND(MID(B18,5,1)&"x","0x1x2x3x4x5x6x7x8x9x")),ISNUMBER(FIND(MID(B18,6,1)&"x","0x1x2x3x4x5x6x7x8x9x")),ISNUMBER(FIND(MID(B18,7,1)&"x","0x1x2x3x4x5x6x7x8x9x")),ISNUMBER(FIND(MID(B18,8,1)&"x","0x1x2x3x4x5x6x7x8x9x")))),"品目IDはSKU-と半角数字4桁",IF(NOT(OR(C18="賞味期限",C18="消費期限",C18="その他期限",C18="未確認")),"期限種類を確認",IF(NOT(OR(D18="確認済",D18="未確認")),"期限日区分を確認",IF(AND(D18="確認済",NOT(IF(ISNUMBER(E18),AND(E18>=43831,E18<=73050,E18=INT(E18)),FALSE()))),"確認済期限日は2020〜2099年/時刻なしで必須",IF(AND(D18="未確認",COUNTA(E18)>0),"未確認期限日は空欄",IF(NOT(OR(F18="未開封",F18="開封済",F18="未確認")),"開封状態を確認",IF(NOT(OR(G18="適合",G18="不適合",G18="未確認")),"保存条件を確認",IF(NOT(OR(H18="確認済",H18="未確認")),"在庫区分を確認",IF(AND(H18="確認済",NOT(IF(ISNUMBER(I18),AND(I18>=0,I18<=1000000,I18=INT(I18)),FALSE()))),"確認済数量は0〜100万個の整数で必須",IF(AND(H18="未確認",COUNTA(I18)>0),"未確認数量は空欄",IF(NOT(IF(ISNUMBER(J18),AND(J18>=43831,J18<=73050,J18=INT(J18)),FALSE())),"確認日は2020〜2099年/時刻なしで必須",IF(J18>期限の確認!$H$3,"確認日は確認基準日以下","確認済み"))))))))))))))),ISNUMBER(P18),P18=IF(O18="確認済み",0,1))),1,IF(P18<>0,0,IF(AND(IF(D18="未確認",ISTEXT(K18),ISNUMBER(K18)),K18=IF(D18="未確認","",E18-期限の確認!$B$3),ISTEXT(L18),L18=IF(D18="未確認","期限日未確認",IF(K18<0,"期限超過",IF(K18=0,"期限当日",IF(K18<=期限の確認!$E$3,"注意期間内","注意期間外")))),ISNUMBER(M18),M18=IF(OR(C18="未確認",D18="未確認",F18<>"未開封",G18<>"適合",H18="未確認"),1,0),ISNUMBER(N18),N18=IF(OR(F18="開封済",G18="不適合"),1,0)),0,1)))) -> 0
A19: LOT-0012 | B19: SKU-0011 | C19: 賞味期限 | D19: 確認済 | E19: 46315 | F19: 未開封 | G19: 適合 | H19: 確認済 | I19: 0 | J19: 46331 | K19: =IF(O19="","",IF(P19<>0,NA(),IF(D19="未確認","",E19-期限の確認!$B$3))) -> -11 | L19: =IF(O19="","",IF(P19<>0,NA(),IF(D19="未確認","期限日未確認",IF(K19<0,"期限超過",IF(K19=0,"期限当日",IF(K19<=期限の確認!$E$3,"注意期間内","注意期間外")))))) -> 期限超過 | M19: =IF(O19="","",IF(P19<>0,NA(),IF(OR(C19="未確認",D19="未確認",F19<>"未開封",G19<>"適合",H19="未確認"),1,0))) -> 0 | N19: =IF(O19="","",IF(P19<>0,NA(),IF(OR(F19="開封済",G19="不適合"),1,0))) -> 0 | O19: =IF(COUNTA(A19:J19)=0,"",IF(NOT(AND(ISTEXT(A19),LEN(A19)=8,EXACT(LEFT(A19,4),"LOT-"),ISNUMBER(FIND(MID(A19,5,1)&"x","0x1x2x3x4x5x6x7x8x9x")),ISNUMBER(FIND(MID(A19,6,1)&"x","0x1x2x3x4x5x6x7x8x9x")),ISNUMBER(FIND(MID(A19,7,1)&"x","0x1x2x3x4x5x6x7x8x9x")),ISNUMBER(FIND(MID(A19,8,1)&"x","0x1x2x3x4x5x6x7x8x9x")))),"管理IDはLOT-と半角数字4桁",IF(COUNTIFS($A$8:$A$57,A19)>1,"管理IDが重複",IF(NOT(AND(ISTEXT(B19),LEN(B19)=8,EXACT(LEFT(B19,4),"SKU-"),ISNUMBER(FIND(MID(B19,5,1)&"x","0x1x2x3x4x5x6x7x8x9x")),ISNUMBER(FIND(MID(B19,6,1)&"x","0x1x2x3x4x5x6x7x8x9x")),ISNUMBER(FIND(MID(B19,7,1)&"x","0x1x2x3x4x5x6x7x8x9x")),ISNUMBER(FIND(MID(B19,8,1)&"x","0x1x2x3x4x5x6x7x8x9x")))),"品目IDはSKU-と半角数字4桁",IF(NOT(OR(C19="賞味期限",C19="消費期限",C19="その他期限",C19="未確認")),"期限種類を確認",IF(NOT(OR(D19="確認済",D19="未確認")),"期限日区分を確認",IF(AND(D19="確認済",NOT(IF(ISNUMBER(E19),AND(E19>=43831,E19<=73050,E19=INT(E19)),FALSE()))),"確認済期限日は2020〜2099年/時刻なしで必須",IF(AND(D19="未確認",COUNTA(E19)>0),"未確認期限日は空欄",IF(NOT(OR(F19="未開封",F19="開封済",F19="未確認")),"開封状態を確認",IF(NOT(OR(G19="適合",G19="不適合",G19="未確認")),"保存条件を確認",IF(NOT(OR(H19="確認済",H19="未確認")),"在庫区分を確認",IF(AND(H19="確認済",NOT(IF(ISNUMBER(I19),AND(I19>=0,I19<=1000000,I19=INT(I19)),FALSE()))),"確認済数量は0〜100万個の整数で必須",IF(AND(H19="未確認",COUNTA(I19)>0),"未確認数量は空欄",IF(NOT(IF(ISNUMBER(J19),AND(J19>=43831,J19<=73050,J19=INT(J19)),FALSE())),"確認日は2020〜2099年/時刻なしで必須",IF(J19>期限の確認!$H$3,"確認日は確認基準日以下","確認済み"))))))))))))))) -> 確認済み | P19: =IF(O19="","",IF(O19="確認済み",0,1)) -> 0 | Q19: =IF(COUNTA(A19:J19)=0,IF(AND(O19="",P19="",K19="",L19="",M19="",N19=""),0,1),IF(NOT(AND(ISTEXT(O19),O19=IF(COUNTA(A19:J19)=0,"",IF(NOT(AND(ISTEXT(A19),LEN(A19)=8,EXACT(LEFT(A19,4),"LOT-"),ISNUMBER(FIND(MID(A19,5,1)&"x","0x1x2x3x4x5x6x7x8x9x")),ISNUMBER(FIND(MID(A19,6,1)&"x","0x1x2x3x4x5x6x7x8x9x")),ISNUMBER(FIND(MID(A19,7,1)&"x","0x1x2x3x4x5x6x7x8x9x")),ISNUMBER(FIND(MID(A19,8,1)&"x","0x1x2x3x4x5x6x7x8x9x")))),"管理IDはLOT-と半角数字4桁",IF(COUNTIFS($A$8:$A$57,A19)>1,"管理IDが重複",IF(NOT(AND(ISTEXT(B19),LEN(B19)=8,EXACT(LEFT(B19,4),"SKU-"),ISNUMBER(FIND(MID(B19,5,1)&"x","0x1x2x3x4x5x6x7x8x9x")),ISNUMBER(FIND(MID(B19,6,1)&"x","0x1x2x3x4x5x6x7x8x9x")),ISNUMBER(FIND(MID(B19,7,1)&"x","0x1x2x3x4x5x6x7x8x9x")),ISNUMBER(FIND(MID(B19,8,1)&"x","0x1x2x3x4x5x6x7x8x9x")))),"品目IDはSKU-と半角数字4桁",IF(NOT(OR(C19="賞味期限",C19="消費期限",C19="その他期限",C19="未確認")),"期限種類を確認",IF(NOT(OR(D19="確認済",D19="未確認")),"期限日区分を確認",IF(AND(D19="確認済",NOT(IF(ISNUMBER(E19),AND(E19>=43831,E19<=73050,E19=INT(E19)),FALSE()))),"確認済期限日は2020〜2099年/時刻なしで必須",IF(AND(D19="未確認",COUNTA(E19)>0),"未確認期限日は空欄",IF(NOT(OR(F19="未開封",F19="開封済",F19="未確認")),"開封状態を確認",IF(NOT(OR(G19="適合",G19="不適合",G19="未確認")),"保存条件を確認",IF(NOT(OR(H19="確認済",H19="未確認")),"在庫区分を確認",IF(AND(H19="確認済",NOT(IF(ISNUMBER(I19),AND(I19>=0,I19<=1000000,I19=INT(I19)),FALSE()))),"確認済数量は0〜100万個の整数で必須",IF(AND(H19="未確認",COUNTA(I19)>0),"未確認数量は空欄",IF(NOT(IF(ISNUMBER(J19),AND(J19>=43831,J19<=73050,J19=INT(J19)),FALSE())),"確認日は2020〜2099年/時刻なしで必須",IF(J19>期限の確認!$H$3,"確認日は確認基準日以下","確認済み"))))))))))))))),ISNUMBER(P19),P19=IF(O19="確認済み",0,1))),1,IF(P19<>0,0,IF(AND(IF(D19="未確認",ISTEXT(K19),ISNUMBER(K19)),K19=IF(D19="未確認","",E19-期限の確認!$B$3),ISTEXT(L19),L19=IF(D19="未確認","期限日未確認",IF(K19<0,"期限超過",IF(K19=0,"期限当日",IF(K19<=期限の確認!$E$3,"注意期間内","注意期間外")))),ISNUMBER(M19),M19=IF(OR(C19="未確認",D19="未確認",F19<>"未開封",G19<>"適合",H19="未確認"),1,0),ISNUMBER(N19),N19=IF(OR(F19="開封済",G19="不適合"),1,0)),0,1)))) -> 0
K20: =IF(O20="","",IF(P20<>0,NA(),IF(D20="未確認","",E20-期限の確認!$B$3))) | L20: =IF(O20="","",IF(P20<>0,NA(),IF(D20="未確認","期限日未確認",IF(K20<0,"期限超過",IF(K20=0,"期限当日",IF(K20<=期限の確認!$E$3,"注意期間内","注意期間外")))))) | M20: =IF(O20="","",IF(P20<>0,NA(),IF(OR(C20="未確認",D20="未確認",F20<>"未開封",G20<>"適合",H20="未確認"),1,0))) | N20: =IF(O20="","",IF(P20<>0,NA(),IF(OR(F20="開封済",G20="不適合"),1,0))) | O20: =IF(COUNTA(A20:J20)=0,"",IF(NOT(AND(ISTEXT(A20),LEN(A20)=8,EXACT(LEFT(A20,4),"LOT-"),ISNUMBER(FIND(MID(A20,5,1)&"x","0x1x2x3x4x5x6x7x8x9x")),ISNUMBER(FIND(MID(A20,6,1)&"x","0x1x2x3x4x5x6x7x8x9x")),ISNUMBER(FIND(MID(A20,7,1)&"x","0x1x2x3x4x5x6x7x8x9x")),ISNUMBER(FIND(MID(A20,8,1)&"x","0x1x2x3x4x5x6x7x8x9x")))),"管理IDはLOT-と半角数字4桁",IF(COUNTIFS($A$8:$A$57,A20)>1,"管理IDが重複",IF(NOT(AND(ISTEXT(B20),LEN(B20)=8,EXACT(LEFT(B20,4),"SKU-"),ISNUMBER(FIND(MID(B20,5,1)&"x","0x1x2x3x4x5x6x7x8x9x")),ISNUMBER(FIND(MID(B20,6,1)&"x","0x1x2x3x4x5x6x7x8x9x")),ISNUMBER(FIND(MID(B20,7,1)&"x","0x1x2x3x4x5x6x7x8x9x")),ISNUMBER(FIND(MID(B20,8,1)&"x","0x1x2x3x4x5x6x7x8x9x")))),"品目IDはSKU-と半角数字4桁",IF(NOT(OR(C20="賞味期限",C20="消費期限",C20="その他期限",C20="未確認")),"期限種類を確認",IF(NOT(OR(D20="確認済",D20="未確認")),"期限日区分を確認",IF(AND(D20="確認済",NOT(IF(ISNUMBER(E20),AND(E20>=43831,E20<=73050,E20=INT(E20)),FALSE()))),"確認済期限日は2020〜2099年/時刻なしで必須",IF(AND(D20="未確認",COUNTA(E20)>0),"未確認期限日は空欄",IF(NOT(OR(F20="未開封",F20="開封済",F20="未確認")),"開封状態を確認",IF(NOT(OR(G20="適合",G20="不適合",G20="未確認")),"保存条件を確認",IF(NOT(OR(H20="確認済",H20="未確認")),"在庫区分を確認",IF(AND(H20="確認済",NOT(IF(ISNUMBER(I20),AND(I20>=0,I20<=1000000,I20=INT(I20)),FALSE()))),"確認済数量は0〜100万個の整数で必須",IF(AND(H20="未確認",COUNTA(I20)>0),"未確認数量は空欄",IF(NOT(IF(ISNUMBER(J20),AND(J20>=43831,J20<=73050,J20=INT(J20)),FALSE())),"確認日は2020〜2099年/時刻なしで必須",IF(J20>期限の確認!$H$3,"確認日は確認基準日以下","確認済み"))))))))))))))) | P20: =IF(O20="","",IF(O20="確認済み",0,1)) | Q20: =IF(COUNTA(A20:J20)=0,IF(AND(O20="",P20="",K20="",L20="",M20="",N20=""),0,1),IF(NOT(AND(ISTEXT(O20),O20=IF(COUNTA(A20:J20)=0,"",IF(NOT(AND(ISTEXT(A20),LEN(A20)=8,EXACT(LEFT(A20,4),"LOT-"),ISNUMBER(FIND(MID(A20,5,1)&"x","0x1x2x3x4x5x6x7x8x9x")),ISNUMBER(FIND(MID(A20,6,1)&"x","0x1x2x3x4x5x6x7x8x9x")),ISNUMBER(FIND(MID(A20,7,1)&"x","0x1x2x3x4x5x6x7x8x9x")),ISNUMBER(FIND(MID(A20,8,1)&"x","0x1x2x3x4x5x6x7x8x9x")))),"管理IDはLOT-と半角数字4桁",IF(COUNTIFS($A$8:$A$57,A20)>1,"管理IDが重複",IF(NOT(AND(ISTEXT(B20),LEN(B20)=8,EXACT(LEFT(B20,4),"SKU-"),ISNUMBER(FIND(MID(B20,5,1)&"x","0x1x2x3x4x5x6x7x8x9x")),ISNUMBER(FIND(MID(B20,6,1)&"x","0x1x2x3x4x5x6x7x8x9x")),ISNUMBER(FIND(MID(B20,7,1)&"x","0x1x2x3x4x5x6x7x8x9x")),ISNUMBER(FIND(MID(B20,8,1)&"x","0x1x2x3x4x5x6x7x8x9x")))),"品目IDはSKU-と半角数字4桁",IF(NOT(OR(C20="賞味期限",C20="消費期限",C20="その他期限",C20="未確認")),"期限種類を確認",IF(NOT(OR(D20="確認済",D20="未確認")),"期限日区分を確認",IF(AND(D20="確認済",NOT(IF(ISNUMBER(E20),AND(E20>=43831,E20<=73050,E20=INT(E20)),FALSE()))),"確認済期限日は2020〜2099年/時刻なしで必須",IF(AND(D20="未確認",COUNTA(E20)>0),"未確認期限日は空欄",IF(NOT(OR(F20="未開封",F20="開封済",F20="未確認")),"開封状態を確認",IF(NOT(OR(G20="適合",G20="不適合",G20="未確認")),"保存条件を確認",IF(NOT(OR(H20="確認済",H20="未確認")),"在庫区分を確認",IF(AND(H20="確認済",NOT(IF(ISNUMBER(I20),AND(I20>=0,I20<=1000000,I20=INT(I20)),FALSE()))),"確認済数量は0〜100万個の整数で必須",IF(AND(H20="未確認",COUNTA(I20)>0),"未確認数量は空欄",IF(NOT(IF(ISNUMBER(J20),AND(J20>=43831,J20<=73050,J20=INT(J20)),FALSE())),"確認日は2020〜2099年/時刻なしで必須",IF(J20>期限の確認!$H$3,"確認日は確認基準日以下","確認済み"))))))))))))))),ISNUMBER(P20),P20=IF(O20="確認済み",0,1))),1,IF(P20<>0,0,IF(AND(IF(D20="未確認",ISTEXT(K20),ISNUMBER(K20)),K20=IF(D20="未確認","",E20-期限の確認!$B$3),ISTEXT(L20),L20=IF(D20="未確認","期限日未確認",IF(K20<0,"期限超過",IF(K20=0,"期限当日",IF(K20<=期限の確認!$E$3,"注意期間内","注意期間外")))),ISNUMBER(M20),M20=IF(OR(C20="未確認",D20="未確認",F20<>"未開封",G20<>"適合",H20="未確認"),1,0),ISNUMBER(N20),N20=IF(OR(F20="開封済",G20="不適合"),1,0)),0,1)))) -> 0
K21: =IF(O21="","",IF(P21<>0,NA(),IF(D21="未確認","",E21-期限の確認!$B$3))) | L21: =IF(O21="","",IF(P21<>0,NA(),IF(D21="未確認","期限日未確認",IF(K21<0,"期限超過",IF(K21=0,"期限当日",IF(K21<=期限の確認!$E$3,"注意期間内","注意期間外")))))) | M21: =IF(O21="","",IF(P21<>0,NA(),IF(OR(C21="未確認",D21="未確認",F21<>"未開封",G21<>"適合",H21="未確認"),1,0))) | N21: =IF(O21="","",IF(P21<>0,NA(),IF(OR(F21="開封済",G21="不適合"),1,0))) | O21: =IF(COUNTA(A21:J21)=0,"",IF(NOT(AND(ISTEXT(A21),LEN(A21)=8,EXACT(LEFT(A21,4),"LOT-"),ISNUMBER(FIND(MID(A21,5,1)&"x","0x1x2x3x4x5x6x7x8x9x")),ISNUMBER(FIND(MID(A21,6,1)&"x","0x1x2x3x4x5x6x7x8x9x")),ISNUMBER(FIND(MID(A21,7,1)&"x","0x1x2x3x4x5x6x7x8x9x")),ISNUMBER(FIND(MID(A21,8,1)&"x","0x1x2x3x4x5x6x7x8x9x")))),"管理IDはLOT-と半角数字4桁",IF(COUNTIFS($A$8:$A$57,A21)>1,"管理IDが重複",IF(NOT(AND(ISTEXT(B21),LEN(B21)=8,EXACT(LEFT(B21,4),"SKU-"),ISNUMBER(FIND(MID(B21,5,1)&"x","0x1x2x3x4x5x6x7x8x9x")),ISNUMBER(FIND(MID(B21,6,1)&"x","0x1x2x3x4x5x6x7x8x9x")),ISNUMBER(FIND(MID(B21,7,1)&"x","0x1x2x3x4x5x6x7x8x9x")),ISNUMBER(FIND(MID(B21,8,1)&"x","0x1x2x3x4x5x6x7x8x9x")))),"品目IDはSKU-と半角数字4桁",IF(NOT(OR(C21="賞味期限",C21="消費期限",C21="その他期限",C21="未確認")),"期限種類を確認",IF(NOT(OR(D21="確認済",D21="未確認")),"期限日区分を確認",IF(AND(D21="確認済",NOT(IF(ISNUMBER(E21),AND(E21>=43831,E21<=73050,E21=INT(E21)),FALSE()))),"確認済期限日は2020〜2099年/時刻なしで必須",IF(AND(D21="未確認",COUNTA(E21)>0),"未確認期限日は空欄",IF(NOT(OR(F21="未開封",F21="開封済",F21="未確認")),"開封状態を確認",IF(NOT(OR(G21="適合",G21="不適合",G21="未確認")),"保存条件を確認",IF(NOT(OR(H21="確認済",H21="未確認")),"在庫区分を確認",IF(AND(H21="確認済",NOT(IF(ISNUMBER(I21),AND(I21>=0,I21<=1000000,I21=INT(I21)),FALSE()))),"確認済数量は0〜100万個の整数で必須",IF(AND(H21="未確認",COUNTA(I21)>0),"未確認数量は空欄",IF(NOT(IF(ISNUMBER(J21),AND(J21>=43831,J21<=73050,J21=INT(J21)),FALSE())),"確認日は2020〜2099年/時刻なしで必須",IF(J21>期限の確認!$H$3,"確認日は確認基準日以下","確認済み"))))))))))))))) | P21: =IF(O21="","",IF(O21="確認済み",0,1)) | Q21: =IF(COUNTA(A21:J21)=0,IF(AND(O21="",P21="",K21="",L21="",M21="",N21=""),0,1),IF(NOT(AND(ISTEXT(O21),O21=IF(COUNTA(A21:J21)=0,"",IF(NOT(AND(ISTEXT(A21),LEN(A21)=8,EXACT(LEFT(A21,4),"LOT-"),ISNUMBER(FIND(MID(A21,5,1)&"x","0x1x2x3x4x5x6x7x8x9x")),ISNUMBER(FIND(MID(A21,6,1)&"x","0x1x2x3x4x5x6x7x8x9x")),ISNUMBER(FIND(MID(A21,7,1)&"x","0x1x2x3x4x5x6x7x8x9x")),ISNUMBER(FIND(MID(A21,8,1)&"x","0x1x2x3x4x5x6x7x8x9x")))),"管理IDはLOT-と半角数字4桁",IF(COUNTIFS($A$8:$A$57,A21)>1,"管理IDが重複",IF(NOT(AND(ISTEXT(B21),LEN(B21)=8,EXACT(LEFT(B21,4),"SKU-"),ISNUMBER(FIND(MID(B21,5,1)&"x","0x1x2x3x4x5x6x7x8x9x")),ISNUMBER(FIND(MID(B21,6,1)&"x","0x1x2x3x4x5x6x7x8x9x")),ISNUMBER(FIND(MID(B21,7,1)&"x","0x1x2x3x4x5x6x7x8x9x")),ISNUMBER(FIND(MID(B21,8,1)&"x","0x1x2x3x4x5x6x7x8x9x")))),"品目IDはSKU-と半角数字4桁",IF(NOT(OR(C21="賞味期限",C21="消費期限",C21="その他期限",C21="未確認")),"期限種類を確認",IF(NOT(OR(D21="確認済",D21="未確認")),"期限日区分を確認",IF(AND(D21="確認済",NOT(IF(ISNUMBER(E21),AND(E21>=43831,E21<=73050,E21=INT(E21)),FALSE()))),"確認済期限日は2020〜2099年/時刻なしで必須",IF(AND(D21="未確認",COUNTA(E21)>0),"未確認期限日は空欄",IF(NOT(OR(F21="未開封",F21="開封済",F21="未確認")),"開封状態を確認",IF(NOT(OR(G21="適合",G21="不適合",G21="未確認")),"保存条件を確認",IF(NOT(OR(H21="確認済",H21="未確認")),"在庫区分を確認",IF(AND(H21="確認済",NOT(IF(ISNUMBER(I21),AND(I21>=0,I21<=1000000,I21=INT(I21)),FALSE()))),"確認済数量は0〜100万個の整数で必須",IF(AND(H21="未確認",COUNTA(I21)>0),"未確認数量は空欄",IF(NOT(IF(ISNUMBER(J21),AND(J21>=43831,J21<=73050,J21=INT(J21)),FALSE())),"確認日は2020〜2099年/時刻なしで必須",IF(J21>期限の確認!$H$3,"確認日は確認基準日以下","確認済み"))))))))))))))),ISNUMBER(P21),P21=IF(O21="確認済み",0,1))),1,IF(P21<>0,0,IF(AND(IF(D21="未確認",ISTEXT(K21),ISNUMBER(K21)),K21=IF(D21="未確認","",E21-期限の確認!$B$3),ISTEXT(L21),L21=IF(D21="未確認","期限日未確認",IF(K21<0,"期限超過",IF(K21=0,"期限当日",IF(K21<=期限の確認!$E$3,"注意期間内","注意期間外")))),ISNUMBER(M21),M21=IF(OR(C21="未確認",D21="未確認",F21<>"未開封",G21<>"適合",H21="未確認"),1,0),ISNUMBER(N21),N21=IF(OR(F21="開封済",G21="不適合"),1,0)),0,1)))) -> 0
K22: =IF(O22="","",IF(P22<>0,NA(),IF(D22="未確認","",E22-期限の確認!$B$3))) | L22: =IF(O22="","",IF(P22<>0,NA(),IF(D22="未確認","期限日未確認",IF(K22<0,"期限超過",IF(K22=0,"期限当日",IF(K22<=期限の確認!$E$3,"注意期間内","注意期間外")))))) | M22: =IF(O22="","",IF(P22<>0,NA(),IF(OR(C22="未確認",D22="未確認",F22<>"未開封",G22<>"適合",H22="未確認"),1,0))) | N22: =IF(O22="","",IF(P22<>0,NA(),IF(OR(F22="開封済",G22="不適合"),1,0))) | O22: =IF(COUNTA(A22:J22)=0,"",IF(NOT(AND(ISTEXT(A22),LEN(A22)=8,EXACT(LEFT(A22,4),"LOT-"),ISNUMBER(FIND(MID(A22,5,1)&"x","0x1x2x3x4x5x6x7x8x9x")),ISNUMBER(FIND(MID(A22,6,1)&"x","0x1x2x3x4x5x6x7x8x9x")),ISNUMBER(FIND(MID(A22,7,1)&"x","0x1x2x3x4x5x6x7x8x9x")),ISNUMBER(FIND(MID(A22,8,1)&"x","0x1x2x3x4x5x6x7x8x9x")))),"管理IDはLOT-と半角数字4桁",IF(COUNTIFS($A$8:$A$57,A22)>1,"管理IDが重複",IF(NOT(AND(ISTEXT(B22),LEN(B22)=8,EXACT(LEFT(B22,4),"SKU-"),ISNUMBER(FIND(MID(B22,5,1)&"x","0x1x2x3x4x5x6x7x8x9x")),ISNUMBER(FIND(MID(B22,6,1)&"x","0x1x2x3x4x5x6x7x8x9x")),ISNUMBER(FIND(MID(B22,7,1)&"x","0x1x2x3x4x5x6x7x8x9x")),ISNUMBER(FIND(MID(B22,8,1)&"x","0x1x2x3x4x5x6x7x8x9x")))),"品目IDはSKU-と半角数字4桁",IF(NOT(OR(C22="賞味期限",C22="消費期限",C22="その他期限",C22="未確認")),"期限種類を確認",IF(NOT(OR(D22="確認済",D22="未確認")),"期限日区分を確認",IF(AND(D22="確認済",NOT(IF(ISNUMBER(E22),AND(E22>=43831,E22<=73050,E22=INT(E22)),FALSE()))),"確認済期限日は2020〜2099年/時刻なしで必須",IF(AND(D22="未確認",COUNTA(E22)>0),"未確認期限日は空欄",IF(NOT(OR(F22="未開封",F22="開封済",F22="未確認")),"開封状態を確認",IF(NOT(OR(G22="適合",G22="不適合",G22="未確認")),"保存条件を確認",IF(NOT(OR(H22="確認済",H22="未確認")),"在庫区分を確認",IF(AND(H22="確認済",NOT(IF(ISNUMBER(I22),AND(I22>=0,I22<=1000000,I22=INT(I22)),FALSE()))),"確認済数量は0〜100万個の整数で必須",IF(AND(H22="未確認",COUNTA(I22)>0),"未確認数量は空欄",IF(NOT(IF(ISNUMBER(J22),AND(J22>=43831,J22<=73050,J22=INT(J22)),FALSE())),"確認日は2020〜2099年/時刻なしで必須",IF(J22>期限の確認!$H$3,"確認日は確認基準日以下","確認済み"))))))))))))))) | P22: =IF(O22="","",IF(O22="確認済み",0,1)) | Q22: =IF(COUNTA(A22:J22)=0,IF(AND(O22="",P22="",K22="",L22="",M22="",N22=""),0,1),IF(NOT(AND(ISTEXT(O22),O22=IF(COUNTA(A22:J22)=0,"",IF(NOT(AND(ISTEXT(A22),LEN(A22)=8,EXACT(LEFT(A22,4),"LOT-"),ISNUMBER(FIND(MID(A22,5,1)&"x","0x1x2x3x4x5x6x7x8x9x")),ISNUMBER(FIND(MID(A22,6,1)&"x","0x1x2x3x4x5x6x7x8x9x")),ISNUMBER(FIND(MID(A22,7,1)&"x","0x1x2x3x4x5x6x7x8x9x")),ISNUMBER(FIND(MID(A22,8,1)&"x","0x1x2x3x4x5x6x7x8x9x")))),"管理IDはLOT-と半角数字4桁",IF(COUNTIFS($A$8:$A$57,A22)>1,"管理IDが重複",IF(NOT(AND(ISTEXT(B22),LEN(B22)=8,EXACT(LEFT(B22,4),"SKU-"),ISNUMBER(FIND(MID(B22,5,1)&"x","0x1x2x3x4x5x6x7x8x9x")),ISNUMBER(FIND(MID(B22,6,1)&"x","0x1x2x3x4x5x6x7x8x9x")),ISNUMBER(FIND(MID(B22,7,1)&"x","0x1x2x3x4x5x6x7x8x9x")),ISNUMBER(FIND(MID(B22,8,1)&"x","0x1x2x3x4x5x6x7x8x9x")))),"品目IDはSKU-と半角数字4桁",IF(NOT(OR(C22="賞味期限",C22="消費期限",C22="その他期限",C22="未確認")),"期限種類を確認",IF(NOT(OR(D22="確認済",D22="未確認")),"期限日区分を確認",IF(AND(D22="確認済",NOT(IF(ISNUMBER(E22),AND(E22>=43831,E22<=73050,E22=INT(E22)),FALSE()))),"確認済期限日は2020〜2099年/時刻なしで必須",IF(AND(D22="未確認",COUNTA(E22)>0),"未確認期限日は空欄",IF(NOT(OR(F22="未開封",F22="開封済",F22="未確認")),"開封状態を確認",IF(NOT(OR(G22="適合",G22="不適合",G22="未確認")),"保存条件を確認",IF(NOT(OR(H22="確認済",H22="未確認")),"在庫区分を確認",IF(AND(H22="確認済",NOT(IF(ISNUMBER(I22),AND(I22>=0,I22<=1000000,I22=INT(I22)),FALSE()))),"確認済数量は0〜100万個の整数で必須",IF(AND(H22="未確認",COUNTA(I22)>0),"未確認数量は空欄",IF(NOT(IF(ISNUMBER(J22),AND(J22>=43831,J22<=73050,J22=INT(J22)),FALSE())),"確認日は2020〜2099年/時刻なしで必須",IF(J22>期限の確認!$H$3,"確認日は確認基準日以下","確認済み"))))))))))))))),ISNUMBER(P22),P22=IF(O22="確認済み",0,1))),1,IF(P22<>0,0,IF(AND(IF(D22="未確認",ISTEXT(K22),ISNUMBER(K22)),K22=IF(D22="未確認","",E22-期限の確認!$B$3),ISTEXT(L22),L22=IF(D22="未確認","期限日未確認",IF(K22<0,"期限超過",IF(K22=0,"期限当日",IF(K22<=期限の確認!$E$3,"注意期間内","注意期間外")))),ISNUMBER(M22),M22=IF(OR(C22="未確認",D22="未確認",F22<>"未開封",G22<>"適合",H22="未確認"),1,0),ISNUMBER(N22),N22=IF(OR(F22="開封済",G22="不適合"),1,0)),0,1)))) -> 0
K23: =IF(O23="","",IF(P23<>0,NA(),IF(D23="未確認","",E23-期限の確認!$B$3))) | L23: =IF(O23="","",IF(P23<>0,NA(),IF(D23="未確認","期限日未確認",IF(K23<0,"期限超過",IF(K23=0,"期限当日",IF(K23<=期限の確認!$E$3,"注意期間内","注意期間外")))))) | M23: =IF(O23="","",IF(P23<>0,NA(),IF(OR(C23="未確認",D23="未確認",F23<>"未開封",G23<>"適合",H23="未確認"),1,0))) | N23: =IF(O23="","",IF(P23<>0,NA(),IF(OR(F23="開封済",G23="不適合"),1,0))) | O23: =IF(COUNTA(A23:J23)=0,"",IF(NOT(AND(ISTEXT(A23),LEN(A23)=8,EXACT(LEFT(A23,4),"LOT-"),ISNUMBER(FIND(MID(A23,5,1)&"x","0x1x2x3x4x5x6x7x8x9x")),ISNUMBER(FIND(MID(A23,6,1)&"x","0x1x2x3x4x5x6x7x8x9x")),ISNUMBER(FIND(MID(A23,7,1)&"x","0x1x2x3x4x5x6x7x8x9x")),ISNUMBER(FIND(MID(A23,8,1)&"x","0x1x2x3x4x5x6x7x8x9x")))),"管理IDはLOT-と半角数字4桁",IF(COUNTIFS($A$8:$A$57,A23)>1,"管理IDが重複",IF(NOT(AND(ISTEXT(B23),LEN(B23)=8,EXACT(LEFT(B23,4),"SKU-"),ISNUMBER(FIND(MID(B23,5,1)&"x","0x1x2x3x4x5x6x7x8x9x")),ISNUMBER(FIND(MID(B23,6,1)&"x","0x1x2x3x4x5x6x7x8x9x")),ISNUMBER(FIND(MID(B23,7,1)&"x","0x1x2x3x4x5x6x7x8x9x")),ISNUMBER(FIND(MID(B23,8,1)&"x","0x1x2x3x4x5x6x7x8x9x")))),"品目IDはSKU-と半角数字4桁",IF(NOT(OR(C23="賞味期限",C23="消費期限",C23="その他期限",C23="未確認")),"期限種類を確認",IF(NOT(OR(D23="確認済",D23="未確認")),"期限日区分を確認",IF(AND(D23="確認済",NOT(IF(ISNUMBER(E23),AND(E23>=43831,E23<=73050,E23=INT(E23)),FALSE()))),"確認済期限日は2020〜2099年/時刻なしで必須",IF(AND(D23="未確認",COUNTA(E23)>0),"未確認期限日は空欄",IF(NOT(OR(F23="未開封",F23="開封済",F23="未確認")),"開封状態を確認",IF(NOT(OR(G23="適合",G23="不適合",G23="未確認")),"保存条件を確認",IF(NOT(OR(H23="確認済",H23="未確認")),"在庫区分を確認",IF(AND(H23="確認済",NOT(IF(ISNUMBER(I23),AND(I23>=0,I23<=1000000,I23=INT(I23)),FALSE()))),"確認済数量は0〜100万個の整数で必須",IF(AND(H23="未確認",COUNTA(I23)>0),"未確認数量は空欄",IF(NOT(IF(ISNUMBER(J23),AND(J23>=43831,J23<=73050,J23=INT(J23)),FALSE())),"確認日は2020〜2099年/時刻なしで必須",IF(J23>期限の確認!$H$3,"確認日は確認基準日以下","確認済み"))))))))))))))) | P23: =IF(O23="","",IF(O23="確認済み",0,1)) | Q23: =IF(COUNTA(A23:J23)=0,IF(AND(O23="",P23="",K23="",L23="",M23="",N23=""),0,1),IF(NOT(AND(ISTEXT(O23),O23=IF(COUNTA(A23:J23)=0,"",IF(NOT(AND(ISTEXT(A23),LEN(A23)=8,EXACT(LEFT(A23,4),"LOT-"),ISNUMBER(FIND(MID(A23,5,1)&"x","0x1x2x3x4x5x6x7x8x9x")),ISNUMBER(FIND(MID(A23,6,1)&"x","0x1x2x3x4x5x6x7x8x9x")),ISNUMBER(FIND(MID(A23,7,1)&"x","0x1x2x3x4x5x6x7x8x9x")),ISNUMBER(FIND(MID(A23,8,1)&"x","0x1x2x3x4x5x6x7x8x9x")))),"管理IDはLOT-と半角数字4桁",IF(COUNTIFS($A$8:$A$57,A23)>1,"管理IDが重複",IF(NOT(AND(ISTEXT(B23),LEN(B23)=8,EXACT(LEFT(B23,4),"SKU-"),ISNUMBER(FIND(MID(B23,5,1)&"x","0x1x2x3x4x5x6x7x8x9x")),ISNUMBER(FIND(MID(B23,6,1)&"x","0x1x2x3x4x5x6x7x8x9x")),ISNUMBER(FIND(MID(B23,7,1)&"x","0x1x2x3x4x5x6x7x8x9x")),ISNUMBER(FIND(MID(B23,8,1)&"x","0x1x2x3x4x5x6x7x8x9x")))),"品目IDはSKU-と半角数字4桁",IF(NOT(OR(C23="賞味期限",C23="消費期限",C23="その他期限",C23="未確認")),"期限種類を確認",IF(NOT(OR(D23="確認済",D23="未確認")),"期限日区分を確認",IF(AND(D23="確認済",NOT(IF(ISNUMBER(E23),AND(E23>=43831,E23<=73050,E23=INT(E23)),FALSE()))),"確認済期限日は2020〜2099年/時刻なしで必須",IF(AND(D23="未確認",COUNTA(E23)>0),"未確認期限日は空欄",IF(NOT(OR(F23="未開封",F23="開封済",F23="未確認")),"開封状態を確認",IF(NOT(OR(G23="適合",G23="不適合",G23="未確認")),"保存条件を確認",IF(NOT(OR(H23="確認済",H23="未確認")),"在庫区分を確認",IF(AND(H23="確認済",NOT(IF(ISNUMBER(I23),AND(I23>=0,I23<=1000000,I23=INT(I23)),FALSE()))),"確認済数量は0〜100万個の整数で必須",IF(AND(H23="未確認",COUNTA(I23)>0),"未確認数量は空欄",IF(NOT(IF(ISNUMBER(J23),AND(J23>=43831,J23<=73050,J23=INT(J23)),FALSE())),"確認日は2020〜2099年/時刻なしで必須",IF(J23>期限の確認!$H$3,"確認日は確認基準日以下","確認済み"))))))))))))))),ISNUMBER(P23),P23=IF(O23="確認済み",0,1))),1,IF(P23<>0,0,IF(AND(IF(D23="未確認",ISTEXT(K23),ISNUMBER(K23)),K23=IF(D23="未確認","",E23-期限の確認!$B$3),ISTEXT(L23),L23=IF(D23="未確認","期限日未確認",IF(K23<0,"期限超過",IF(K23=0,"期限当日",IF(K23<=期限の確認!$E$3,"注意期間内","注意期間外")))),ISNUMBER(M23),M23=IF(OR(C23="未確認",D23="未確認",F23<>"未開封",G23<>"適合",H23="未確認"),1,0),ISNUMBER(N23),N23=IF(OR(F23="開封済",G23="不適合"),1,0)),0,1)))) -> 0
K24: =IF(O24="","",IF(P24<>0,NA(),IF(D24="未確認","",E24-期限の確認!$B$3))) | L24: =IF(O24="","",IF(P24<>0,NA(),IF(D24="未確認","期限日未確認",IF(K24<0,"期限超過",IF(K24=0,"期限当日",IF(K24<=期限の確認!$E$3,"注意期間内","注意期間外")))))) | M24: =IF(O24="","",IF(P24<>0,NA(),IF(OR(C24="未確認",D24="未確認",F24<>"未開封",G24<>"適合",H24="未確認"),1,0))) | N24: =IF(O24="","",IF(P24<>0,NA(),IF(OR(F24="開封済",G24="不適合"),1,0))) | O24: =IF(COUNTA(A24:J24)=0,"",IF(NOT(AND(ISTEXT(A24),LEN(A24)=8,EXACT(LEFT(A24,4),"LOT-"),ISNUMBER(FIND(MID(A24,5,1)&"x","0x1x2x3x4x5x6x7x8x9x")),ISNUMBER(FIND(MID(A24,6,1)&"x","0x1x2x3x4x5x6x7x8x9x")),ISNUMBER(FIND(MID(A24,7,1)&"x","0x1x2x3x4x5x6x7x8x9x")),ISNUMBER(FIND(MID(A24,8,1)&"x","0x1x2x3x4x5x6x7x8x9x")))),"管理IDはLOT-と半角数字4桁",IF(COUNTIFS($A$8:$A$57,A24)>1,"管理IDが重複",IF(NOT(AND(ISTEXT(B24),LEN(B24)=8,EXACT(LEFT(B24,4),"SKU-"),ISNUMBER(FIND(MID(B24,5,1)&"x","0x1x2x3x4x5x6x7x8x9x")),ISNUMBER(FIND(MID(B24,6,1)&"x","0x1x2x3x4x5x6x7x8x9x")),ISNUMBER(FIND(MID(B24,7,1)&"x","0x1x2x3x4x5x6x7x8x9x")),ISNUMBER(FIND(MID(B24,8,1)&"x","0x1x2x3x4x5x6x7x8x9x")))),"品目IDはSKU-と半角数字4桁",IF(NOT(OR(C24="賞味期限",C24="消費期限",C24="その他期限",C24="未確認")),"期限種類を確認",IF(NOT(OR(D24="確認済",D24="未確認")),"期限日区分を確認",IF(AND(D24="確認済",NOT(IF(ISNUMBER(E24),AND(E24>=43831,E24<=73050,E24=INT(E24)),FALSE()))),"確認済期限日は2020〜2099年/時刻なしで必須",IF(AND(D24="未確認",COUNTA(E24)>0),"未確認期限日は空欄",IF(NOT(OR(F24="未開封",F24="開封済",F24="未確認")),"開封状態を確認",IF(NOT(OR(G24="適合",G24="不適合",G24="未確認")),"保存条件を確認",IF(NOT(OR(H24="確認済",H24="未確認")),"在庫区分を確認",IF(AND(H24="確認済",NOT(IF(ISNUMBER(I24),AND(I24>=0,I24<=1000000,I24=INT(I24)),FALSE()))),"確認済数量は0〜100万個の整数で必須",IF(AND(H24="未確認",COUNTA(I24)>0),"未確認数量は空欄",IF(NOT(IF(ISNUMBER(J24),AND(J24>=43831,J24<=73050,J24=INT(J24)),FALSE())),"確認日は2020〜2099年/時刻なしで必須",IF(J24>期限の確認!$H$3,"確認日は確認基準日以下","確認済み"))))))))))))))) | P24: =IF(O24="","",IF(O24="確認済み",0,1)) | Q24: =IF(COUNTA(A24:J24)=0,IF(AND(O24="",P24="",K24="",L24="",M24="",N24=""),0,1),IF(NOT(AND(ISTEXT(O24),O24=IF(COUNTA(A24:J24)=0,"",IF(NOT(AND(ISTEXT(A24),LEN(A24)=8,EXACT(LEFT(A24,4),"LOT-"),ISNUMBER(FIND(MID(A24,5,1)&"x","0x1x2x3x4x5x6x7x8x9x")),ISNUMBER(FIND(MID(A24,6,1)&"x","0x1x2x3x4x5x6x7x8x9x")),ISNUMBER(FIND(MID(A24,7,1)&"x","0x1x2x3x4x5x6x7x8x9x")),ISNUMBER(FIND(MID(A24,8,1)&"x","0x1x2x3x4x5x6x7x8x9x")))),"管理IDはLOT-と半角数字4桁",IF(COUNTIFS($A$8:$A$57,A24)>1,"管理IDが重複",IF(NOT(AND(ISTEXT(B24),LEN(B24)=8,EXACT(LEFT(B24,4),"SKU-"),ISNUMBER(FIND(MID(B24,5,1)&"x","0x1x2x3x4x5x6x7x8x9x")),ISNUMBER(FIND(MID(B24,6,1)&"x","0x1x2x3x4x5x6x7x8x9x")),ISNUMBER(FIND(MID(B24,7,1)&"x","0x1x2x3x4x5x6x7x8x9x")),ISNUMBER(FIND(MID(B24,8,1)&"x","0x1x2x3x4x5x6x7x8x9x")))),"品目IDはSKU-と半角数字4桁",IF(NOT(OR(C24="賞味期限",C24="消費期限",C24="その他期限",C24="未確認")),"期限種類を確認",IF(NOT(OR(D24="確認済",D24="未確認")),"期限日区分を確認",IF(AND(D24="確認済",NOT(IF(ISNUMBER(E24),AND(E24>=43831,E24<=73050,E24=INT(E24)),FALSE()))),"確認済期限日は2020〜2099年/時刻なしで必須",IF(AND(D24="未確認",COUNTA(E24)>0),"未確認期限日は空欄",IF(NOT(OR(F24="未開封",F24="開封済",F24="未確認")),"開封状態を確認",IF(NOT(OR(G24="適合",G24="不適合",G24="未確認")),"保存条件を確認",IF(NOT(OR(H24="確認済",H24="未確認")),"在庫区分を確認",IF(AND(H24="確認済",NOT(IF(ISNUMBER(I24),AND(I24>=0,I24<=1000000,I24=INT(I24)),FALSE()))),"確認済数量は0〜100万個の整数で必須",IF(AND(H24="未確認",COUNTA(I24)>0),"未確認数量は空欄",IF(NOT(IF(ISNUMBER(J24),AND(J24>=43831,J24<=73050,J24=INT(J24)),FALSE())),"確認日は2020〜2099年/時刻なしで必須",IF(J24>期限の確認!$H$3,"確認日は確認基準日以下","確認済み"))))))))))))))),ISNUMBER(P24),P24=IF(O24="確認済み",0,1))),1,IF(P24<>0,0,IF(AND(IF(D24="未確認",ISTEXT(K24),ISNUMBER(K24)),K24=IF(D24="未確認","",E24-期限の確認!$B$3),ISTEXT(L24),L24=IF(D24="未確認","期限日未確認",IF(K24<0,"期限超過",IF(K24=0,"期限当日",IF(K24<=期限の確認!$E$3,"注意期間内","注意期間外")))),ISNUMBER(M24),M24=IF(OR(C24="未確認",D24="未確認",F24<>"未開封",G24<>"適合",H24="未確認"),1,0),ISNUMBER(N24),N24=IF(OR(F24="開封済",G24="不適合"),1,0)),0,1)))) -> 0
K25: =IF(O25="","",IF(P25<>0,NA(),IF(D25="未確認","",E25-期限の確認!$B$3))) | L25: =IF(O25="","",IF(P25<>0,NA(),IF(D25="未確認","期限日未確認",IF(K25<0,"期限超過",IF(K25=0,"期限当日",IF(K25<=期限の確認!$E$3,"注意期間内","注意期間外")))))) | M25: =IF(O25="","",IF(P25<>0,NA(),IF(OR(C25="未確認",D25="未確認",F25<>"未開封",G25<>"適合",H25="未確認"),1,0))) | N25: =IF(O25="","",IF(P25<>0,NA(),IF(OR(F25="開封済",G25="不適合"),1,0))) | O25: =IF(COUNTA(A25:J25)=0,"",IF(NOT(AND(ISTEXT(A25),LEN(A25)=8,EXACT(LEFT(A25,4),"LOT-"),ISNUMBER(FIND(MID(A25,5,1)&"x","0x1x2x3x4x5x6x7x8x9x")),ISNUMBER(FIND(MID(A25,6,1)&"x","0x1x2x3x4x5x6x7x8x9x")),ISNUMBER(FIND(MID(A25,7,1)&"x","0x1x2x3x4x5x6x7x8x9x")),ISNUMBER(FIND(MID(A25,8,1)&"x","0x1x2x3x4x5x6x7x8x9x")))),"管理IDはLOT-と半角数字4桁",IF(COUNTIFS($A$8:$A$57,A25)>1,"管理IDが重複",IF(NOT(AND(ISTEXT(B25),LEN(B25)=8,EXACT(LEFT(B25,4),"SKU-"),ISNUMBER(FIND(MID(B25,5,1)&"x","0x1x2x3x4x5x6x7x8x9x")),ISNUMBER(FIND(MID(B25,6,1)&"x","0x1x2x3x4x5x6x7x8x9x")),ISNUMBER(FIND(MID(B25,7,1)&"x","0x1x2x3x4x5x6x7x8x9x")),ISNUMBER(FIND(MID(B25,8,1)&"x","0x1x2x3x4x5x6x7x8x9x")))),"品目IDはSKU-と半角数字4桁",IF(NOT(OR(C25="賞味期限",C25="消費期限",C25="その他期限",C25="未確認")),"期限種類を確認",IF(NOT(OR(D25="確認済",D25="未確認")),"期限日区分を確認",IF(AND(D25="確認済",NOT(IF(ISNUMBER(E25),AND(E25>=43831,E25<=73050,E25=INT(E25)),FALSE()))),"確認済期限日は2020〜2099年/時刻なしで必須",IF(AND(D25="未確認",COUNTA(E25)>0),"未確認期限日は空欄",IF(NOT(OR(F25="未開封",F25="開封済",F25="未確認")),"開封状態を確認",IF(NOT(OR(G25="適合",G25="不適合",G25="未確認")),"保存条件を確認",IF(NOT(OR(H25="確認済",H25="未確認")),"在庫区分を確認",IF(AND(H25="確認済",NOT(IF(ISNUMBER(I25),AND(I25>=0,I25<=1000000,I25=INT(I25)),FALSE()))),"確認済数量は0〜100万個の整数で必須",IF(AND(H25="未確認",COUNTA(I25)>0),"未確認数量は空欄",IF(NOT(IF(ISNUMBER(J25),AND(J25>=43831,J25<=73050,J25=INT(J25)),FALSE())),"確認日は2020〜2099年/時刻なしで必須",IF(J25>期限の確認!$H$3,"確認日は確認基準日以下","確認済み"))))))))))))))) | P25: =IF(O25="","",IF(O25="確認済み",0,1)) | Q25: =IF(COUNTA(A25:J25)=0,IF(AND(O25="",P25="",K25="",L25="",M25="",N25=""),0,1),IF(NOT(AND(ISTEXT(O25),O25=IF(COUNTA(A25:J25)=0,"",IF(NOT(AND(ISTEXT(A25),LEN(A25)=8,EXACT(LEFT(A25,4),"LOT-"),ISNUMBER(FIND(MID(A25,5,1)&"x","0x1x2x3x4x5x6x7x8x9x")),ISNUMBER(FIND(MID(A25,6,1)&"x","0x1x2x3x4x5x6x7x8x9x")),ISNUMBER(FIND(MID(A25,7,1)&"x","0x1x2x3x4x5x6x7x8x9x")),ISNUMBER(FIND(MID(A25,8,1)&"x","0x1x2x3x4x5x6x7x8x9x")))),"管理IDはLOT-と半角数字4桁",IF(COUNTIFS($A$8:$A$57,A25)>1,"管理IDが重複",IF(NOT(AND(ISTEXT(B25),LEN(B25)=8,EXACT(LEFT(B25,4),"SKU-"),ISNUMBER(FIND(MID(B25,5,1)&"x","0x1x2x3x4x5x6x7x8x9x")),ISNUMBER(FIND(MID(B25,6,1)&"x","0x1x2x3x4x5x6x7x8x9x")),ISNUMBER(FIND(MID(B25,7,1)&"x","0x1x2x3x4x5x6x7x8x9x")),ISNUMBER(FIND(MID(B25,8,1)&"x","0x1x2x3x4x5x6x7x8x9x")))),"品目IDはSKU-と半角数字4桁",IF(NOT(OR(C25="賞味期限",C25="消費期限",C25="その他期限",C25="未確認")),"期限種類を確認",IF(NOT(OR(D25="確認済",D25="未確認")),"期限日区分を確認",IF(AND(D25="確認済",NOT(IF(ISNUMBER(E25),AND(E25>=43831,E25<=73050,E25=INT(E25)),FALSE()))),"確認済期限日は2020〜2099年/時刻なしで必須",IF(AND(D25="未確認",COUNTA(E25)>0),"未確認期限日は空欄",IF(NOT(OR(F25="未開封",F25="開封済",F25="未確認")),"開封状態を確認",IF(NOT(OR(G25="適合",G25="不適合",G25="未確認")),"保存条件を確認",IF(NOT(OR(H25="確認済",H25="未確認")),"在庫区分を確認",IF(AND(H25="確認済",NOT(IF(ISNUMBER(I25),AND(I25>=0,I25<=1000000,I25=INT(I25)),FALSE()))),"確認済数量は0〜100万個の整数で必須",IF(AND(H25="未確認",COUNTA(I25)>0),"未確認数量は空欄",IF(NOT(IF(ISNUMBER(J25),AND(J25>=43831,J25<=73050,J25=INT(J25)),FALSE())),"確認日は2020〜2099年/時刻なしで必須",IF(J25>期限の確認!$H$3,"確認日は確認基準日以下","確認済み"))))))))))))))),ISNUMBER(P25),P25=IF(O25="確認済み",0,1))),1,IF(P25<>0,0,IF(AND(IF(D25="未確認",ISTEXT(K25),ISNUMBER(K25)),K25=IF(D25="未確認","",E25-期限の確認!$B$3),ISTEXT(L25),L25=IF(D25="未確認","期限日未確認",IF(K25<0,"期限超過",IF(K25=0,"期限当日",IF(K25<=期限の確認!$E$3,"注意期間内","注意期間外")))),ISNUMBER(M25),M25=IF(OR(C25="未確認",D25="未確認",F25<>"未開封",G25<>"適合",H25="未確認"),1,0),ISNUMBER(N25),N25=IF(OR(F25="開封済",G25="不適合"),1,0)),0,1)))) -> 0
K26: =IF(O26="","",IF(P26<>0,NA(),IF(D26="未確認","",E26-期限の確認!$B$3))) | L26: =IF(O26="","",IF(P26<>0,NA(),IF(D26="未確認","期限日未確認",IF(K26<0,"期限超過",IF(K26=0,"期限当日",IF(K26<=期限の確認!$E$3,"注意期間内","注意期間外")))))) | M26: =IF(O26="","",IF(P26<>0,NA(),IF(OR(C26="未確認",D26="未確認",F26<>"未開封",G26<>"適合",H26="未確認"),1,0))) | N26: =IF(O26="","",IF(P26<>0,NA(),IF(OR(F26="開封済",G26="不適合"),1,0))) | O26: =IF(COUNTA(A26:J26)=0,"",IF(NOT(AND(ISTEXT(A26),LEN(A26)=8,EXACT(LEFT(A26,4),"LOT-"),ISNUMBER(FIND(MID(A26,5,1)&"x","0x1x2x3x4x5x6x7x8x9x")),ISNUMBER(FIND(MID(A26,6,1)&"x","0x1x2x3x4x5x6x7x8x9x")),ISNUMBER(FIND(MID(A26,7,1)&"x","0x1x2x3x4x5x6x7x8x9x")),ISNUMBER(FIND(MID(A26,8,1)&"x","0x1x2x3x4x5x6x7x8x9x")))),"管理IDはLOT-と半角数字4桁",IF(COUNTIFS($A$8:$A$57,A26)>1,"管理IDが重複",IF(NOT(AND(ISTEXT(B26),LEN(B26)=8,EXACT(LEFT(B26,4),"SKU-"),ISNUMBER(FIND(MID(B26,5,1)&"x","0x1x2x3x4x5x6x7x8x9x")),ISNUMBER(FIND(MID(B26,6,1)&"x","0x1x2x3x4x5x6x7x8x9x")),ISNUMBER(FIND(MID(B26,7,1)&"x","0x1x2x3x4x5x6x7x8x9x")),ISNUMBER(FIND(MID(B26,8,1)&"x","0x1x2x3x4x5x6x7x8x9x")))),"品目IDはSKU-と半角数字4桁",IF(NOT(OR(C26="賞味期限",C26="消費期限",C26="その他期限",C26="未確認")),"期限種類を確認",IF(NOT(OR(D26="確認済",D26="未確認")),"期限日区分を確認",IF(AND(D26="確認済",NOT(IF(ISNUMBER(E26),AND(E26>=43831,E26<=73050,E26=INT(E26)),FALSE()))),"確認済期限日は2020〜2099年/時刻なしで必須",IF(AND(D26="未確認",COUNTA(E26)>0),"未確認期限日は空欄",IF(NOT(OR(F26="未開封",F26="開封済",F26="未確認")),"開封状態を確認",IF(NOT(OR(G26="適合",G26="不適合",G26="未確認")),"保存条件を確認",IF(NOT(OR(H26="確認済",H26="未確認")),"在庫区分を確認",IF(AND(H26="確認済",NOT(IF(ISNUMBER(I26),AND(I26>=0,I26<=1000000,I26=INT(I26)),FALSE()))),"確認済数量は0〜100万個の整数で必須",IF(AND(H26="未確認",COUNTA(I26)>0),"未確認数量は空欄",IF(NOT(IF(ISNUMBER(J26),AND(J26>=43831,J26<=73050,J26=INT(J26)),FALSE())),"確認日は2020〜2099年/時刻なしで必須",IF(J26>期限の確認!$H$3,"確認日は確認基準日以下","確認済み"))))))))))))))) | P26: =IF(O26="","",IF(O26="確認済み",0,1)) | Q26: =IF(COUNTA(A26:J26)=0,IF(AND(O26="",P26="",K26="",L26="",M26="",N26=""),0,1),IF(NOT(AND(ISTEXT(O26),O26=IF(COUNTA(A26:J26)=0,"",IF(NOT(AND(ISTEXT(A26),LEN(A26)=8,EXACT(LEFT(A26,4),"LOT-"),ISNUMBER(FIND(MID(A26,5,1)&"x","0x1x2x3x4x5x6x7x8x9x")),ISNUMBER(FIND(MID(A26,6,1)&"x","0x1x2x3x4x5x6x7x8x9x")),ISNUMBER(FIND(MID(A26,7,1)&"x","0x1x2x3x4x5x6x7x8x9x")),ISNUMBER(FIND(MID(A26,8,1)&"x","0x1x2x3x4x5x6x7x8x9x")))),"管理IDはLOT-と半角数字4桁",IF(COUNTIFS($A$8:$A$57,A26)>1,"管理IDが重複",IF(NOT(AND(ISTEXT(B26),LEN(B26)=8,EXACT(LEFT(B26,4),"SKU-"),ISNUMBER(FIND(MID(B26,5,1)&"x","0x1x2x3x4x5x6x7x8x9x")),ISNUMBER(FIND(MID(B26,6,1)&"x","0x1x2x3x4x5x6x7x8x9x")),ISNUMBER(FIND(MID(B26,7,1)&"x","0x1x2x3x4x5x6x7x8x9x")),ISNUMBER(FIND(MID(B26,8,1)&"x","0x1x2x3x4x5x6x7x8x9x")))),"品目IDはSKU-と半角数字4桁",IF(NOT(OR(C26="賞味期限",C26="消費期限",C26="その他期限",C26="未確認")),"期限種類を確認",IF(NOT(OR(D26="確認済",D26="未確認")),"期限日区分を確認",IF(AND(D26="確認済",NOT(IF(ISNUMBER(E26),AND(E26>=43831,E26<=73050,E26=INT(E26)),FALSE()))),"確認済期限日は2020〜2099年/時刻なしで必須",IF(AND(D26="未確認",COUNTA(E26)>0),"未確認期限日は空欄",IF(NOT(OR(F26="未開封",F26="開封済",F26="未確認")),"開封状態を確認",IF(NOT(OR(G26="適合",G26="不適合",G26="未確認")),"保存条件を確認",IF(NOT(OR(H26="確認済",H26="未確認")),"在庫区分を確認",IF(AND(H26="確認済",NOT(IF(ISNUMBER(I26),AND(I26>=0,I26<=1000000,I26=INT(I26)),FALSE()))),"確認済数量は0〜100万個の整数で必須",IF(AND(H26="未確認",COUNTA(I26)>0),"未確認数量は空欄",IF(NOT(IF(ISNUMBER(J26),AND(J26>=43831,J26<=73050,J26=INT(J26)),FALSE())),"確認日は2020〜2099年/時刻なしで必須",IF(J26>期限の確認!$H$3,"確認日は確認基準日以下","確認済み"))))))))))))))),ISNUMBER(P26),P26=IF(O26="確認済み",0,1))),1,IF(P26<>0,0,IF(AND(IF(D26="未確認",ISTEXT(K26),ISNUMBER(K26)),K26=IF(D26="未確認","",E26-期限の確認!$B$3),ISTEXT(L26),L26=IF(D26="未確認","期限日未確認",IF(K26<0,"期限超過",IF(K26=0,"期限当日",IF(K26<=期限の確認!$E$3,"注意期間内","注意期間外")))),ISNUMBER(M26),M26=IF(OR(C26="未確認",D26="未確認",F26<>"未開封",G26<>"適合",H26="未確認"),1,0),ISNUMBER(N26),N26=IF(OR(F26="開封済",G26="不適合"),1,0)),0,1)))) -> 0
K27: =IF(O27="","",IF(P27<>0,NA(),IF(D27="未確認","",E27-期限の確認!$B$3))) | L27: =IF(O27="","",IF(P27<>0,NA(),IF(D27="未確認","期限日未確認",IF(K27<0,"期限超過",IF(K27=0,"期限当日",IF(K27<=期限の確認!$E$3,"注意期間内","注意期間外")))))) | M27: =IF(O27="","",IF(P27<>0,NA(),IF(OR(C27="未確認",D27="未確認",F27<>"未開封",G27<>"適合",H27="未確認"),1,0))) | N27: =IF(O27="","",IF(P27<>0,NA(),IF(OR(F27="開封済",G27="不適合"),1,0))) | O27: =IF(COUNTA(A27:J27)=0,"",IF(NOT(AND(ISTEXT(A27),LEN(A27)=8,EXACT(LEFT(A27,4),"LOT-"),ISNUMBER(FIND(MID(A27,5,1)&"x","0x1x2x3x4x5x6x7x8x9x")),ISNUMBER(FIND(MID(A27,6,1)&"x","0x1x2x3x4x5x6x7x8x9x")),ISNUMBER(FIND(MID(A27,7,1)&"x","0x1x2x3x4x5x6x7x8x9x")),ISNUMBER(FIND(MID(A27,8,1)&"x","0x1x2x3x4x5x6x7x8x9x")))),"管理IDはLOT-と半角数字4桁",IF(COUNTIFS($A$8:$A$57,A27)>1,"管理IDが重複",IF(NOT(AND(ISTEXT(B27),LEN(B27)=8,EXACT(LEFT(B27,4),"SKU-"),ISNUMBER(FIND(MID(B27,5,1)&"x","0x1x2x3x4x5x6x7x8x9x")),ISNUMBER(FIND(MID(B27,6,1)&"x","0x1x2x3x4x5x6x7x8x9x")),ISNUMBER(FIND(MID(B27,7,1)&"x","0x1x2x3x4x5x6x7x8x9x")),ISNUMBER(FIND(MID(B27,8,1)&"x","0x1x2x3x4x5x6x7x8x9x")))),"品目IDはSKU-と半角数字4桁",IF(NOT(OR(C27="賞味期限",C27="消費期限",C27="その他期限",C27="未確認")),"期限種類を確認",IF(NOT(OR(D27="確認済",D27="未確認")),"期限日区分を確認",IF(AND(D27="確認済",NOT(IF(ISNUMBER(E27),AND(E27>=43831,E27<=73050,E27=INT(E27)),FALSE()))),"確認済期限日は2020〜2099年/時刻なしで必須",IF(AND(D27="未確認",COUNTA(E27)>0),"未確認期限日は空欄",IF(NOT(OR(F27="未開封",F27="開封済",F27="未確認")),"開封状態を確認",IF(NOT(OR(G27="適合",G27="不適合",G27="未確認")),"保存条件を確認",IF(NOT(OR(H27="確認済",H27="未確認")),"在庫区分を確認",IF(AND(H27="確認済",NOT(IF(ISNUMBER(I27),AND(I27>=0,I27<=1000000,I27=INT(I27)),FALSE()))),"確認済数量は0〜100万個の整数で必須",IF(AND(H27="未確認",COUNTA(I27)>0),"未確認数量は空欄",IF(NOT(IF(ISNUMBER(J27),AND(J27>=43831,J27<=73050,J27=INT(J27)),FALSE())),"確認日は2020〜2099年/時刻なしで必須",IF(J27>期限の確認!$H$3,"確認日は確認基準日以下","確認済み"))))))))))))))) | P27: =IF(O27="","",IF(O27="確認済み",0,1)) | Q27: =IF(COUNTA(A27:J27)=0,IF(AND(O27="",P27="",K27="",L27="",M27="",N27=""),0,1),IF(NOT(AND(ISTEXT(O27),O27=IF(COUNTA(A27:J27)=0,"",IF(NOT(AND(ISTEXT(A27),LEN(A27)=8,EXACT(LEFT(A27,4),"LOT-"),ISNUMBER(FIND(MID(A27,5,1)&"x","0x1x2x3x4x5x6x7x8x9x")),ISNUMBER(FIND(MID(A27,6,1)&"x","0x1x2x3x4x5x6x7x8x9x")),ISNUMBER(FIND(MID(A27,7,1)&"x","0x1x2x3x4x5x6x7x8x9x")),ISNUMBER(FIND(MID(A27,8,1)&"x","0x1x2x3x4x5x6x7x8x9x")))),"管理IDはLOT-と半角数字4桁",IF(COUNTIFS($A$8:$A$57,A27)>1,"管理IDが重複",IF(NOT(AND(ISTEXT(B27),LEN(B27)=8,EXACT(LEFT(B27,4),"SKU-"),ISNUMBER(FIND(MID(B27,5,1)&"x","0x1x2x3x4x5x6x7x8x9x")),ISNUMBER(FIND(MID(B27,6,1)&"x","0x1x2x3x4x5x6x7x8x9x")),ISNUMBER(FIND(MID(B27,7,1)&"x","0x1x2x3x4x5x6x7x8x9x")),ISNUMBER(FIND(MID(B27,8,1)&"x","0x1x2x3x4x5x6x7x8x9x")))),"品目IDはSKU-と半角数字4桁",IF(NOT(OR(C27="賞味期限",C27="消費期限",C27="その他期限",C27="未確認")),"期限種類を確認",IF(NOT(OR(D27="確認済",D27="未確認")),"期限日区分を確認",IF(AND(D27="確認済",NOT(IF(ISNUMBER(E27),AND(E27>=43831,E27<=73050,E27=INT(E27)),FALSE()))),"確認済期限日は2020〜2099年/時刻なしで必須",IF(AND(D27="未確認",COUNTA(E27)>0),"未確認期限日は空欄",IF(NOT(OR(F27="未開封",F27="開封済",F27="未確認")),"開封状態を確認",IF(NOT(OR(G27="適合",G27="不適合",G27="未確認")),"保存条件を確認",IF(NOT(OR(H27="確認済",H27="未確認")),"在庫区分を確認",IF(AND(H27="確認済",NOT(IF(ISNUMBER(I27),AND(I27>=0,I27<=1000000,I27=INT(I27)),FALSE()))),"確認済数量は0〜100万個の整数で必須",IF(AND(H27="未確認",COUNTA(I27)>0),"未確認数量は空欄",IF(NOT(IF(ISNUMBER(J27),AND(J27>=43831,J27<=73050,J27=INT(J27)),FALSE())),"確認日は2020〜2099年/時刻なしで必須",IF(J27>期限の確認!$H$3,"確認日は確認基準日以下","確認済み"))))))))))))))),ISNUMBER(P27),P27=IF(O27="確認済み",0,1))),1,IF(P27<>0,0,IF(AND(IF(D27="未確認",ISTEXT(K27),ISNUMBER(K27)),K27=IF(D27="未確認","",E27-期限の確認!$B$3),ISTEXT(L27),L27=IF(D27="未確認","期限日未確認",IF(K27<0,"期限超過",IF(K27=0,"期限当日",IF(K27<=期限の確認!$E$3,"注意期間内","注意期間外")))),ISNUMBER(M27),M27=IF(OR(C27="未確認",D27="未確認",F27<>"未開封",G27<>"適合",H27="未確認"),1,0),ISNUMBER(N27),N27=IF(OR(F27="開封済",G27="不適合"),1,0)),0,1)))) -> 0
K28: =IF(O28="","",IF(P28<>0,NA(),IF(D28="未確認","",E28-期限の確認!$B$3))) | L28: =IF(O28="","",IF(P28<>0,NA(),IF(D28="未確認","期限日未確認",IF(K28<0,"期限超過",IF(K28=0,"期限当日",IF(K28<=期限の確認!$E$3,"注意期間内","注意期間外")))))) | M28: =IF(O28="","",IF(P28<>0,NA(),IF(OR(C28="未確認",D28="未確認",F28<>"未開封",G28<>"適合",H28="未確認"),1,0))) | N28: =IF(O28="","",IF(P28<>0,NA(),IF(OR(F28="開封済",G28="不適合"),1,0))) | O28: =IF(COUNTA(A28:J28)=0,"",IF(NOT(AND(ISTEXT(A28),LEN(A28)=8,EXACT(LEFT(A28,4),"LOT-"),ISNUMBER(FIND(MID(A28,5,1)&"x","0x1x2x3x4x5x6x7x8x9x")),ISNUMBER(FIND(MID(A28,6,1)&"x","0x1x2x3x4x5x6x7x8x9x")),ISNUMBER(FIND(MID(A28,7,1)&"x","0x1x2x3x4x5x6x7x8x9x")),ISNUMBER(FIND(MID(A28,8,1)&"x","0x1x2x3x4x5x6x7x8x9x")))),"管理IDはLOT-と半角数字4桁",IF(COUNTIFS($A$8:$A$57,A28)>1,"管理IDが重複",IF(NOT(AND(ISTEXT(B28),LEN(B28)=8,EXACT(LEFT(B28,4),"SKU-"),ISNUMBER(FIND(MID(B28,5,1)&"x","0x1x2x3x4x5x6x7x8x9x")),ISNUMBER(FIND(MID(B28,6,1)&"x","0x1x2x3x4x5x6x7x8x9x")),ISNUMBER(FIND(MID(B28,7,1)&"x","0x1x2x3x4x5x6x7x8x9x")),ISNUMBER(FIND(MID(B28,8,1)&"x","0x1x2x3x4x5x6x7x8x9x")))),"品目IDはSKU-と半角数字4桁",IF(NOT(OR(C28="賞味期限",C28="消費期限",C28="その他期限",C28="未確認")),"期限種類を確認",IF(NOT(OR(D28="確認済",D28="未確認")),"期限日区分を確認",IF(AND(D28="確認済",NOT(IF(ISNUMBER(E28),AND(E28>=43831,E28<=73050,E28=INT(E28)),FALSE()))),"確認済期限日は2020〜2099年/時刻なしで必須",IF(AND(D28="未確認",COUNTA(E28)>0),"未確認期限日は空欄",IF(NOT(OR(F28="未開封",F28="開封済",F28="未確認")),"開封状態を確認",IF(NOT(OR(G28="適合",G28="不適合",G28="未確認")),"保存条件を確認",IF(NOT(OR(H28="確認済",H28="未確認")),"在庫区分を確認",IF(AND(H28="確認済",NOT(IF(ISNUMBER(I28),AND(I28>=0,I28<=1000000,I28=INT(I28)),FALSE()))),"確認済数量は0〜100万個の整数で必須",IF(AND(H28="未確認",COUNTA(I28)>0),"未確認数量は空欄",IF(NOT(IF(ISNUMBER(J28),AND(J28>=43831,J28<=73050,J28=INT(J28)),FALSE())),"確認日は2020〜2099年/時刻なしで必須",IF(J28>期限の確認!$H$3,"確認日は確認基準日以下","確認済み"))))))))))))))) | P28: =IF(O28="","",IF(O28="確認済み",0,1)) | Q28: =IF(COUNTA(A28:J28)=0,IF(AND(O28="",P28="",K28="",L28="",M28="",N28=""),0,1),IF(NOT(AND(ISTEXT(O28),O28=IF(COUNTA(A28:J28)=0,"",IF(NOT(AND(ISTEXT(A28),LEN(A28)=8,EXACT(LEFT(A28,4),"LOT-"),ISNUMBER(FIND(MID(A28,5,1)&"x","0x1x2x3x4x5x6x7x8x9x")),ISNUMBER(FIND(MID(A28,6,1)&"x","0x1x2x3x4x5x6x7x8x9x")),ISNUMBER(FIND(MID(A28,7,1)&"x","0x1x2x3x4x5x6x7x8x9x")),ISNUMBER(FIND(MID(A28,8,1)&"x","0x1x2x3x4x5x6x7x8x9x")))),"管理IDはLOT-と半角数字4桁",IF(COUNTIFS($A$8:$A$57,A28)>1,"管理IDが重複",IF(NOT(AND(ISTEXT(B28),LEN(B28)=8,EXACT(LEFT(B28,4),"SKU-"),ISNUMBER(FIND(MID(B28,5,1)&"x","0x1x2x3x4x5x6x7x8x9x")),ISNUMBER(FIND(MID(B28,6,1)&"x","0x1x2x3x4x5x6x7x8x9x")),ISNUMBER(FIND(MID(B28,7,1)&"x","0x1x2x3x4x5x6x7x8x9x")),ISNUMBER(FIND(MID(B28,8,1)&"x","0x1x2x3x4x5x6x7x8x9x")))),"品目IDはSKU-と半角数字4桁",IF(NOT(OR(C28="賞味期限",C28="消費期限",C28="その他期限",C28="未確認")),"期限種類を確認",IF(NOT(OR(D28="確認済",D28="未確認")),"期限日区分を確認",IF(AND(D28="確認済",NOT(IF(ISNUMBER(E28),AND(E28>=43831,E28<=73050,E28=INT(E28)),FALSE()))),"確認済期限日は2020〜2099年/時刻なしで必須",IF(AND(D28="未確認",COUNTA(E28)>0),"未確認期限日は空欄",IF(NOT(OR(F28="未開封",F28="開封済",F28="未確認")),"開封状態を確認",IF(NOT(OR(G28="適合",G28="不適合",G28="未確認")),"保存条件を確認",IF(NOT(OR(H28="確認済",H28="未確認")),"在庫区分を確認",IF(AND(H28="確認済",NOT(IF(ISNUMBER(I28),AND(I28>=0,I28<=1000000,I28=INT(I28)),FALSE()))),"確認済数量は0〜100万個の整数で必須",IF(AND(H28="未確認",COUNTA(I28)>0),"未確認数量は空欄",IF(NOT(IF(ISNUMBER(J28),AND(J28>=43831,J28<=73050,J28=INT(J28)),FALSE())),"確認日は2020〜2099年/時刻なしで必須",IF(J28>期限の確認!$H$3,"確認日は確認基準日以下","確認済み"))))))))))))))),ISNUMBER(P28),P28=IF(O28="確認済み",0,1))),1,IF(P28<>0,0,IF(AND(IF(D28="未確認",ISTEXT(K28),ISNUMBER(K28)),K28=IF(D28="未確認","",E28-期限の確認!$B$3),ISTEXT(L28),L28=IF(D28="未確認","期限日未確認",IF(K28<0,"期限超過",IF(K28=0,"期限当日",IF(K28<=期限の確認!$E$3,"注意期間内","注意期間外")))),ISNUMBER(M28),M28=IF(OR(C28="未確認",D28="未確認",F28<>"未開封",G28<>"適合",H28="未確認"),1,0),ISNUMBER(N28),N28=IF(OR(F28="開封済",G28="不適合"),1,0)),0,1)))) -> 0
K29: =IF(O29="","",IF(P29<>0,NA(),IF(D29="未確認","",E29-期限の確認!$B$3))) | L29: =IF(O29="","",IF(P29<>0,NA(),IF(D29="未確認","期限日未確認",IF(K29<0,"期限超過",IF(K29=0,"期限当日",IF(K29<=期限の確認!$E$3,"注意期間内","注意期間外")))))) | M29: =IF(O29="","",IF(P29<>0,NA(),IF(OR(C29="未確認",D29="未確認",F29<>"未開封",G29<>"適合",H29="未確認"),1,0))) | N29: =IF(O29="","",IF(P29<>0,NA(),IF(OR(F29="開封済",G29="不適合"),1,0))) | O29: =IF(COUNTA(A29:J29)=0,"",IF(NOT(AND(ISTEXT(A29),LEN(A29)=8,EXACT(LEFT(A29,4),"LOT-"),ISNUMBER(FIND(MID(A29,5,1)&"x","0x1x2x3x4x5x6x7x8x9x")),ISNUMBER(FIND(MID(A29,6,1)&"x","0x1x2x3x4x5x6x7x8x9x")),ISNUMBER(FIND(MID(A29,7,1)&"x","0x1x2x3x4x5x6x7x8x9x")),ISNUMBER(FIND(MID(A29,8,1)&"x","0x1x2x3x4x5x6x7x8x9x")))),"管理IDはLOT-と半角数字4桁",IF(COUNTIFS($A$8:$A$57,A29)>1,"管理IDが重複",IF(NOT(AND(ISTEXT(B29),LEN(B29)=8,EXACT(LEFT(B29,4),"SKU-"),ISNUMBER(FIND(MID(B29,5,1)&"x","0x1x2x3x4x5x6x7x8x9x")),ISNUMBER(FIND(MID(B29,6,1)&"x","0x1x2x3x4x5x6x7x8x9x")),ISNUMBER(FIND(MID(B29,7,1)&"x","0x1x2x3x4x5x6x7x8x9x")),ISNUMBER(FIND(MID(B29,8,1)&"x","0x1x2x3x4x5x6x7x8x9x")))),"品目IDはSKU-と半角数字4桁",IF(NOT(OR(C29="賞味期限",C29="消費期限",C29="その他期限",C29="未確認")),"期限種類を確認",IF(NOT(OR(D29="確認済",D29="未確認")),"期限日区分を確認",IF(AND(D29="確認済",NOT(IF(ISNUMBER(E29),AND(E29>=43831,E29<=73050,E29=INT(E29)),FALSE()))),"確認済期限日は2020〜2099年/時刻なしで必須",IF(AND(D29="未確認",COUNTA(E29)>0),"未確認期限日は空欄",IF(NOT(OR(F29="未開封",F29="開封済",F29="未確認")),"開封状態を確認",IF(NOT(OR(G29="適合",G29="不適合",G29="未確認")),"保存条件を確認",IF(NOT(OR(H29="確認済",H29="未確認")),"在庫区分を確認",IF(AND(H29="確認済",NOT(IF(ISNUMBER(I29),AND(I29>=0,I29<=1000000,I29=INT(I29)),FALSE()))),"確認済数量は0〜100万個の整数で必須",IF(AND(H29="未確認",COUNTA(I29)>0),"未確認数量は空欄",IF(NOT(IF(ISNUMBER(J29),AND(J29>=43831,J29<=73050,J29=INT(J29)),FALSE())),"確認日は2020〜2099年/時刻なしで必須",IF(J29>期限の確認!$H$3,"確認日は確認基準日以下","確認済み"))))))))))))))) | P29: =IF(O29="","",IF(O29="確認済み",0,1)) | Q29: =IF(COUNTA(A29:J29)=0,IF(AND(O29="",P29="",K29="",L29="",M29="",N29=""),0,1),IF(NOT(AND(ISTEXT(O29),O29=IF(COUNTA(A29:J29)=0,"",IF(NOT(AND(ISTEXT(A29),LEN(A29)=8,EXACT(LEFT(A29,4),"LOT-"),ISNUMBER(FIND(MID(A29,5,1)&"x","0x1x2x3x4x5x6x7x8x9x")),ISNUMBER(FIND(MID(A29,6,1)&"x","0x1x2x3x4x5x6x7x8x9x")),ISNUMBER(FIND(MID(A29,7,1)&"x","0x1x2x3x4x5x6x7x8x9x")),ISNUMBER(FIND(MID(A29,8,1)&"x","0x1x2x3x4x5x6x7x8x9x")))),"管理IDはLOT-と半角数字4桁",IF(COUNTIFS($A$8:$A$57,A29)>1,"管理IDが重複",IF(NOT(AND(ISTEXT(B29),LEN(B29)=8,EXACT(LEFT(B29,4),"SKU-"),ISNUMBER(FIND(MID(B29,5,1)&"x","0x1x2x3x4x5x6x7x8x9x")),ISNUMBER(FIND(MID(B29,6,1)&"x","0x1x2x3x4x5x6x7x8x9x")),ISNUMBER(FIND(MID(B29,7,1)&"x","0x1x2x3x4x5x6x7x8x9x")),ISNUMBER(FIND(MID(B29,8,1)&"x","0x1x2x3x4x5x6x7x8x9x")))),"品目IDはSKU-と半角数字4桁",IF(NOT(OR(C29="賞味期限",C29="消費期限",C29="その他期限",C29="未確認")),"期限種類を確認",IF(NOT(OR(D29="確認済",D29="未確認")),"期限日区分を確認",IF(AND(D29="確認済",NOT(IF(ISNUMBER(E29),AND(E29>=43831,E29<=73050,E29=INT(E29)),FALSE()))),"確認済期限日は2020〜2099年/時刻なしで必須",IF(AND(D29="未確認",COUNTA(E29)>0),"未確認期限日は空欄",IF(NOT(OR(F29="未開封",F29="開封済",F29="未確認")),"開封状態を確認",IF(NOT(OR(G29="適合",G29="不適合",G29="未確認")),"保存条件を確認",IF(NOT(OR(H29="確認済",H29="未確認")),"在庫区分を確認",IF(AND(H29="確認済",NOT(IF(ISNUMBER(I29),AND(I29>=0,I29<=1000000,I29=INT(I29)),FALSE()))),"確認済数量は0〜100万個の整数で必須",IF(AND(H29="未確認",COUNTA(I29)>0),"未確認数量は空欄",IF(NOT(IF(ISNUMBER(J29),AND(J29>=43831,J29<=73050,J29=INT(J29)),FALSE())),"確認日は2020〜2099年/時刻なしで必須",IF(J29>期限の確認!$H$3,"確認日は確認基準日以下","確認済み"))))))))))))))),ISNUMBER(P29),P29=IF(O29="確認済み",0,1))),1,IF(P29<>0,0,IF(AND(IF(D29="未確認",ISTEXT(K29),ISNUMBER(K29)),K29=IF(D29="未確認","",E29-期限の確認!$B$3),ISTEXT(L29),L29=IF(D29="未確認","期限日未確認",IF(K29<0,"期限超過",IF(K29=0,"期限当日",IF(K29<=期限の確認!$E$3,"注意期間内","注意期間外")))),ISNUMBER(M29),M29=IF(OR(C29="未確認",D29="未確認",F29<>"未開封",G29<>"適合",H29="未確認"),1,0),ISNUMBER(N29),N29=IF(OR(F29="開封済",G29="不適合"),1,0)),0,1)))) -> 0
K30: =IF(O30="","",IF(P30<>0,NA(),IF(D30="未確認","",E30-期限の確認!$B$3))) | L30: =IF(O30="","",IF(P30<>0,NA(),IF(D30="未確認","期限日未確認",IF(K30<0,"期限超過",IF(K30=0,"期限当日",IF(K30<=期限の確認!$E$3,"注意期間内","注意期間外")))))) | M30: =IF(O30="","",IF(P30<>0,NA(),IF(OR(C30="未確認",D30="未確認",F30<>"未開封",G30<>"適合",H30="未確認"),1,0))) | N30: =IF(O30="","",IF(P30<>0,NA(),IF(OR(F30="開封済",G30="不適合"),1,0))) | O30: =IF(COUNTA(A30:J30)=0,"",IF(NOT(AND(ISTEXT(A30),LEN(A30)=8,EXACT(LEFT(A30,4),"LOT-"),ISNUMBER(FIND(MID(A30,5,1)&"x","0x1x2x3x4x5x6x7x8x9x")),ISNUMBER(FIND(MID(A30,6,1)&"x","0x1x2x3x4x5x6x7x8x9x")),ISNUMBER(FIND(MID(A30,7,1)&"x","0x1x2x3x4x5x6x7x8x9x")),ISNUMBER(FIND(MID(A30,8,1)&"x","0x1x2x3x4x5x6x7x8x9x")))),"管理IDはLOT-と半角数字4桁",IF(COUNTIFS($A$8:$A$57,A30)>1,"管理IDが重複",IF(NOT(AND(ISTEXT(B30),LEN(B30)=8,EXACT(LEFT(B30,4),"SKU-"),ISNUMBER(FIND(MID(B30,5,1)&"x","0x1x2x3x4x5x6x7x8x9x")),ISNUMBER(FIND(MID(B30,6,1)&"x","0x1x2x3x4x5x6x7x8x9x")),ISNUMBER(FIND(MID(B30,7,1)&"x","0x1x2x3x4x5x6x7x8x9x")),ISNUMBER(FIND(MID(B30,8,1)&"x","0x1x2x3x4x5x6x7x8x9x")))),"品目IDはSKU-と半角数字4桁",IF(NOT(OR(C30="賞味期限",C30="消費期限",C30="その他期限",C30="未確認")),"期限種類を確認",IF(NOT(OR(D30="確認済",D30="未確認")),"期限日区分を確認",IF(AND(D30="確認済",NOT(IF(ISNUMBER(E30),AND(E30>=43831,E30<=73050,E30=INT(E30)),FALSE()))),"確認済期限日は2020〜2099年/時刻なしで必須",IF(AND(D30="未確認",COUNTA(E30)>0),"未確認期限日は空欄",IF(NOT(OR(F30="未開封",F30="開封済",F30="未確認")),"開封状態を確認",IF(NOT(OR(G30="適合",G30="不適合",G30="未確認")),"保存条件を確認",IF(NOT(OR(H30="確認済",H30="未確認")),"在庫区分を確認",IF(AND(H30="確認済",NOT(IF(ISNUMBER(I30),AND(I30>=0,I30<=1000000,I30=INT(I30)),FALSE()))),"確認済数量は0〜100万個の整数で必須",IF(AND(H30="未確認",COUNTA(I30)>0),"未確認数量は空欄",IF(NOT(IF(ISNUMBER(J30),AND(J30>=43831,J30<=73050,J30=INT(J30)),FALSE())),"確認日は2020〜2099年/時刻なしで必須",IF(J30>期限の確認!$H$3,"確認日は確認基準日以下","確認済み"))))))))))))))) | P30: =IF(O30="","",IF(O30="確認済み",0,1)) | Q30: =IF(COUNTA(A30:J30)=0,IF(AND(O30="",P30="",K30="",L30="",M30="",N30=""),0,1),IF(NOT(AND(ISTEXT(O30),O30=IF(COUNTA(A30:J30)=0,"",IF(NOT(AND(ISTEXT(A30),LEN(A30)=8,EXACT(LEFT(A30,4),"LOT-"),ISNUMBER(FIND(MID(A30,5,1)&"x","0x1x2x3x4x5x6x7x8x9x")),ISNUMBER(FIND(MID(A30,6,1)&"x","0x1x2x3x4x5x6x7x8x9x")),ISNUMBER(FIND(MID(A30,7,1)&"x","0x1x2x3x4x5x6x7x8x9x")),ISNUMBER(FIND(MID(A30,8,1)&"x","0x1x2x3x4x5x6x7x8x9x")))),"管理IDはLOT-と半角数字4桁",IF(COUNTIFS($A$8:$A$57,A30)>1,"管理IDが重複",IF(NOT(AND(ISTEXT(B30),LEN(B30)=8,EXACT(LEFT(B30,4),"SKU-"),ISNUMBER(FIND(MID(B30,5,1)&"x","0x1x2x3x4x5x6x7x8x9x")),ISNUMBER(FIND(MID(B30,6,1)&"x","0x1x2x3x4x5x6x7x8x9x")),ISNUMBER(FIND(MID(B30,7,1)&"x","0x1x2x3x4x5x6x7x8x9x")),ISNUMBER(FIND(MID(B30,8,1)&"x","0x1x2x3x4x5x6x7x8x9x")))),"品目IDはSKU-と半角数字4桁",IF(NOT(OR(C30="賞味期限",C30="消費期限",C30="その他期限",C30="未確認")),"期限種類を確認",IF(NOT(OR(D30="確認済",D30="未確認")),"期限日区分を確認",IF(AND(D30="確認済",NOT(IF(ISNUMBER(E30),AND(E30>=43831,E30<=73050,E30=INT(E30)),FALSE()))),"確認済期限日は2020〜2099年/時刻なしで必須",IF(AND(D30="未確認",COUNTA(E30)>0),"未確認期限日は空欄",IF(NOT(OR(F30="未開封",F30="開封済",F30="未確認")),"開封状態を確認",IF(NOT(OR(G30="適合",G30="不適合",G30="未確認")),"保存条件を確認",IF(NOT(OR(H30="確認済",H30="未確認")),"在庫区分を確認",IF(AND(H30="確認済",NOT(IF(ISNUMBER(I30),AND(I30>=0,I30<=1000000,I30=INT(I30)),FALSE()))),"確認済数量は0〜100万個の整数で必須",IF(AND(H30="未確認",COUNTA(I30)>0),"未確認数量は空欄",IF(NOT(IF(ISNUMBER(J30),AND(J30>=43831,J30<=73050,J30=INT(J30)),FALSE())),"確認日は2020〜2099年/時刻なしで必須",IF(J30>期限の確認!$H$3,"確認日は確認基準日以下","確認済み"))))))))))))))),ISNUMBER(P30),P30=IF(O30="確認済み",0,1))),1,IF(P30<>0,0,IF(AND(IF(D30="未確認",ISTEXT(K30),ISNUMBER(K30)),K30=IF(D30="未確認","",E30-期限の確認!$B$3),ISTEXT(L30),L30=IF(D30="未確認","期限日未確認",IF(K30<0,"期限超過",IF(K30=0,"期限当日",IF(K30<=期限の確認!$E$3,"注意期間内","注意期間外")))),ISNUMBER(M30),M30=IF(OR(C30="未確認",D30="未確認",F30<>"未開封",G30<>"適合",H30="未確認"),1,0),ISNUMBER(N30),N30=IF(OR(F30="開封済",G30="不適合"),1,0)),0,1)))) -> 0
K31: =IF(O31="","",IF(P31<>0,NA(),IF(D31="未確認","",E31-期限の確認!$B$3))) | L31: =IF(O31="","",IF(P31<>0,NA(),IF(D31="未確認","期限日未確認",IF(K31<0,"期限超過",IF(K31=0,"期限当日",IF(K31<=期限の確認!$E$3,"注意期間内","注意期間外")))))) | M31: =IF(O31="","",IF(P31<>0,NA(),IF(OR(C31="未確認",D31="未確認",F31<>"未開封",G31<>"適合",H31="未確認"),1,0))) | N31: =IF(O31="","",IF(P31<>0,NA(),IF(OR(F31="開封済",G31="不適合"),1,0))) | O31: =IF(COUNTA(A31:J31)=0,"",IF(NOT(AND(ISTEXT(A31),LEN(A31)=8,EXACT(LEFT(A31,4),"LOT-"),ISNUMBER(FIND(MID(A31,5,1)&"x","0x1x2x3x4x5x6x7x8x9x")),ISNUMBER(FIND(MID(A31,6,1)&"x","0x1x2x3x4x5x6x7x8x9x")),ISNUMBER(FIND(MID(A31,7,1)&"x","0x1x2x3x4x5x6x7x8x9x")),ISNUMBER(FIND(MID(A31,8,1)&"x","0x1x2x3x4x5x6x7x8x9x")))),"管理IDはLOT-と半角数字4桁",IF(COUNTIFS($A$8:$A$57,A31)>1,"管理IDが重複",IF(NOT(AND(ISTEXT(B31),LEN(B31)=8,EXACT(LEFT(B31,4),"SKU-"),ISNUMBER(FIND(MID(B31,5,1)&"x","0x1x2x3x4x5x6x7x8x9x")),ISNUMBER(FIND(MID(B31,6,1)&"x","0x1x2x3x4x5x6x7x8x9x")),ISNUMBER(FIND(MID(B31,7,1)&"x","0x1x2x3x4x5x6x7x8x9x")),ISNUMBER(FIND(MID(B31,8,1)&"x","0x1x2x3x4x5x6x7x8x9x")))),"品目IDはSKU-と半角数字4桁",IF(NOT(OR(C31="賞味期限",C31="消費期限",C31="その他期限",C31="未確認")),"期限種類を確認",IF(NOT(OR(D31="確認済",D31="未確認")),"期限日区分を確認",IF(AND(D31="確認済",NOT(IF(ISNUMBER(E31),AND(E31>=43831,E31<=73050,E31=INT(E31)),FALSE()))),"確認済期限日は2020〜2099年/時刻なしで必須",IF(AND(D31="未確認",COUNTA(E31)>0),"未確認期限日は空欄",IF(NOT(OR(F31="未開封",F31="開封済",F31="未確認")),"開封状態を確認",IF(NOT(OR(G31="適合",G31="不適合",G31="未確認")),"保存条件を確認",IF(NOT(OR(H31="確認済",H31="未確認")),"在庫区分を確認",IF(AND(H31="確認済",NOT(IF(ISNUMBER(I31),AND(I31>=0,I31<=1000000,I31=INT(I31)),FALSE()))),"確認済数量は0〜100万個の整数で必須",IF(AND(H31="未確認",COUNTA(I31)>0),"未確認数量は空欄",IF(NOT(IF(ISNUMBER(J31),AND(J31>=43831,J31<=73050,J31=INT(J31)),FALSE())),"確認日は2020〜2099年/時刻なしで必須",IF(J31>期限の確認!$H$3,"確認日は確認基準日以下","確認済み"))))))))))))))) | P31: =IF(O31="","",IF(O31="確認済み",0,1)) | Q31: =IF(COUNTA(A31:J31)=0,IF(AND(O31="",P31="",K31="",L31="",M31="",N31=""),0,1),IF(NOT(AND(ISTEXT(O31),O31=IF(COUNTA(A31:J31)=0,"",IF(NOT(AND(ISTEXT(A31),LEN(A31)=8,EXACT(LEFT(A31,4),"LOT-"),ISNUMBER(FIND(MID(A31,5,1)&"x","0x1x2x3x4x5x6x7x8x9x")),ISNUMBER(FIND(MID(A31,6,1)&"x","0x1x2x3x4x5x6x7x8x9x")),ISNUMBER(FIND(MID(A31,7,1)&"x","0x1x2x3x4x5x6x7x8x9x")),ISNUMBER(FIND(MID(A31,8,1)&"x","0x1x2x3x4x5x6x7x8x9x")))),"管理IDはLOT-と半角数字4桁",IF(COUNTIFS($A$8:$A$57,A31)>1,"管理IDが重複",IF(NOT(AND(ISTEXT(B31),LEN(B31)=8,EXACT(LEFT(B31,4),"SKU-"),ISNUMBER(FIND(MID(B31,5,1)&"x","0x1x2x3x4x5x6x7x8x9x")),ISNUMBER(FIND(MID(B31,6,1)&"x","0x1x2x3x4x5x6x7x8x9x")),ISNUMBER(FIND(MID(B31,7,1)&"x","0x1x2x3x4x5x6x7x8x9x")),ISNUMBER(FIND(MID(B31,8,1)&"x","0x1x2x3x4x5x6x7x8x9x")))),"品目IDはSKU-と半角数字4桁",IF(NOT(OR(C31="賞味期限",C31="消費期限",C31="その他期限",C31="未確認")),"期限種類を確認",IF(NOT(OR(D31="確認済",D31="未確認")),"期限日区分を確認",IF(AND(D31="確認済",NOT(IF(ISNUMBER(E31),AND(E31>=43831,E31<=73050,E31=INT(E31)),FALSE()))),"確認済期限日は2020〜2099年/時刻なしで必須",IF(AND(D31="未確認",COUNTA(E31)>0),"未確認期限日は空欄",IF(NOT(OR(F31="未開封",F31="開封済",F31="未確認")),"開封状態を確認",IF(NOT(OR(G31="適合",G31="不適合",G31="未確認")),"保存条件を確認",IF(NOT(OR(H31="確認済",H31="未確認")),"在庫区分を確認",IF(AND(H31="確認済",NOT(IF(ISNUMBER(I31),AND(I31>=0,I31<=1000000,I31=INT(I31)),FALSE()))),"確認済数量は0〜100万個の整数で必須",IF(AND(H31="未確認",COUNTA(I31)>0),"未確認数量は空欄",IF(NOT(IF(ISNUMBER(J31),AND(J31>=43831,J31<=73050,J31=INT(J31)),FALSE())),"確認日は2020〜2099年/時刻なしで必須",IF(J31>期限の確認!$H$3,"確認日は確認基準日以下","確認済み"))))))))))))))),ISNUMBER(P31),P31=IF(O31="確認済み",0,1))),1,IF(P31<>0,0,IF(AND(IF(D31="未確認",ISTEXT(K31),ISNUMBER(K31)),K31=IF(D31="未確認","",E31-期限の確認!$B$3),ISTEXT(L31),L31=IF(D31="未確認","期限日未確認",IF(K31<0,"期限超過",IF(K31=0,"期限当日",IF(K31<=期限の確認!$E$3,"注意期間内","注意期間外")))),ISNUMBER(M31),M31=IF(OR(C31="未確認",D31="未確認",F31<>"未開封",G31<>"適合",H31="未確認"),1,0),ISNUMBER(N31),N31=IF(OR(F31="開封済",G31="不適合"),1,0)),0,1)))) -> 0
... K57: =IF(O57="","",IF(P57<>0,NA(),IF(D57="未確認","",E57-期限の確認!$B$3))) | L57: =IF(O57="","",IF(P57<>0,NA(),IF(D57="未確認","期限日未確認",IF(K57<0,"期限超過",IF(K57=0,"期限当日",IF(K57<=期限の確認!$E$3,"注意期間内","注意期間外")))))) | M57: =IF(O57="","",IF(P57<>0,NA(),IF(OR(C57="未確認",D57="未確認",F57<>"未開封",G57<>"適合",H57="未確認"),1,0))) | N57: =IF(O57="","",IF(P57<>0,NA(),IF(OR(F57="開封済",G57="不適合"),1,0))) | O57: =IF(COUNTA(A57:J57)=0,"",IF(NOT(AND(ISTEXT(A57),LEN(A57)=8,EXACT(LEFT(A57,4),"LOT-"),ISNUMBER(FIND(MID(A57,5,1)&"x","0x1x2x3x4x5x6x7x8x9x")),ISNUMBER(FIND(MID(A57,6,1)&"x","0x1x2x3x4x5x6x7x8x9x")),ISNUMBER(FIND(MID(A57,7,1)&"x","0x1x2x3x4x5x6x7x8x9x")),ISNUMBER(FIND(MID(A57,8,1)&"x","0x1x2x3x4x5x6x7x8x9x")))),"管理IDはLOT-と半角数字4桁",IF(COUNTIFS($A$8:$A$57,A57)>1,"管理IDが重複",IF(NOT(AND(ISTEXT(B57),LEN(B57)=8,EXACT(LEFT(B57,4),"SKU-"),ISNUMBER(FIND(MID(B57,5,1)&"x","0x1x2x3x4x5x6x7x8x9x")),ISNUMBER(FIND(MID(B57,6,1)&"x","0x1x2x3x4x5x6x7x8x9x")),ISNUMBER(FIND(MID(B57,7,1)&"x","0x1x2x3x4x5x6x7x8x9x")),ISNUMBER(FIND(MID(B57,8,1)&"x","0x1x2x3x4x5x6x7x8x9x")))),"品目IDはSKU-と半角数字4桁",IF(NOT(OR(C57="賞味期限",C57="消費期限",C57="その他期限",C57="未確認")),"期限種類を確認",IF(NOT(OR(D57="確認済",D57="未確認")),"期限日区分を確認",IF(AND(D57="確認済",NOT(IF(ISNUMBER(E57),AND(E57>=43831,E57<=73050,E57=INT(E57)),FALSE()))),"確認済期限日は2020〜2099年/時刻なしで必須",IF(AND(D57="未確認",COUNTA(E57)>0),"未確認期限日は空欄",IF(NOT(OR(F57="未開封",F57="開封済",F57="未確認")),"開封状態を確認",IF(NOT(OR(G57="適合",G57="不適合",G57="未確認")),"保存条件を確認",IF(NOT(OR(H57="確認済",H57="未確認")),"在庫区分を確認",IF(AND(H57="確認済",NOT(IF(ISNUMBER(I57),AND(I57>=0,I57<=1000000,I57=INT(I57)),FALSE()))),"確認済数量は0〜100万個の整数で必須",IF(AND(H57="未確認",COUNTA(I57)>0),"未確認数量は空欄",IF(NOT(IF(ISNUMBER(J57),AND(J57>=43831,J57<=73050,J57=INT(J57)),FALSE())),"確認日は2020〜2099年/時刻なしで必須",IF(J57>期限の確認!$H$3,"確認日は確認基準日以下","確認済み"))))))))))))))) | P57: =IF(O57="","",IF(O57="確認済み",0,1)) | Q57: =IF(COUNTA(A57:J57)=0,IF(AND(O57="",P57="",K57="",L57="",M57="",N57=""),0,1),IF(NOT(AND(ISTEXT(O57),O57=IF(COUNTA(A57:J57)=0,"",IF(NOT(AND(ISTEXT(A57),LEN(A57)=8,EXACT(LEFT(A57,4),"LOT-"),ISNUMBER(FIND(MID(A57,5,1)&"x","0x1x2x3x4x5x6x7x8x9x")),ISNUMBER(FIND(MID(A57,6,1)&"x","0x1x2x3x4x5x6x7x8x9x")),ISNUMBER(FIND(MID(A57,7,1)&"x","0x1x2x3x4x5x6x7x8x9x")),ISNUMBER(FIND(MID(A57,8,1)&"x","0x1x2x3x4x5x6x7x8x9x")))),"管理IDはLOT-と半角数字4桁",IF(COUNTIFS($A$8:$A$57,A57)>1,"管理IDが重複",IF(NOT(AND(ISTEXT(B57),LEN(B57)=8,EXACT(LEFT(B57,4),"SKU-"),ISNUMBER(FIND(MID(B57,5,1)&"x","0x1x2x3x4x5x6x7x8x9x")),ISNUMBER(FIND(MID(B57,6,1)&"x","0x1x2x3x4x5x6x7x8x9x")),ISNUMBER(FIND(MID(B57,7,1)&"x","0x1x2x3x4x5x6x7x8x9x")),ISNUMBER(FIND(MID(B57,8,1)&"x","0x1x2x3x4x5x6x7x8x9x")))),"品目IDはSKU-と半角数字4桁",IF(NOT(OR(C57="賞味期限",C57="消費期限",C57="その他期限",C57="未確認")),"期限種類を確認",IF(NOT(OR(D57="確認済",D57="未確認")),"期限日区分を確認",IF(AND(D57="確認済",NOT(IF(ISNUMBER(E57),AND(E57>=43831,E57<=73050,E57=INT(E57)),FALSE()))),"確認済期限日は2020〜2099年/時刻なしで必須",IF(AND(D57="未確認",COUNTA(E57)>0),"未確認期限日は空欄",IF(NOT(OR(F57="未開封",F57="開封済",F57="未確認")),"開封状態を確認",IF(NOT(OR(G57="適合",G57="不適合",G57="未確認")),"保存条件を確認",IF(NOT(OR(H57="確認済",H57="未確認")),"在庫区分を確認",IF(AND(H57="確認済",NOT(IF(ISNUMBER(I57),AND(I57>=0,I57<=1000000,I57=INT(I57)),FALSE()))),"確認済数量は0〜100万個の整数で必須",IF(AND(H57="未確認",COUNTA(I57)>0),"未確認数量は空欄",IF(NOT(IF(ISNUMBER(J57),AND(J57>=43831,J57<=73050,J57=INT(J57)),FALSE())),"確認日は2020〜2099年/時刻なしで必須",IF(J57>期限の確認!$H$3,"確認日は確認基準日以下","確認済み"))))))))))))))),ISNUMBER(P57),P57=IF(O57="確認済み",0,1))),1,IF(P57<>0,0,IF(AND(IF(D57="未確認",ISTEXT(K57),ISNUMBER(K57)),K57=IF(D57="未確認","",E57-期限の確認!$B$3),ISTEXT(L57),L57=IF(D57="未確認","期限日未確認",IF(K57<0,"期限超過",IF(K57=0,"期限当日",IF(K57<=期限の確認!$E$3,"注意期間内","注意期間外")))),ISNUMBER(M57),M57=IF(OR(C57="未確認",D57="未確認",F57<>"未開封",G57<>"適合",H57="未確認"),1,0),ISNUMBER(N57),N57=IF(OR(F57="開封済",G57="不適合"),1,0)),0,1)))) -> 0
A61: 架空教材。50管理行、数量は整数個。管理ID LOT-と半角数字4桁。品目ID SKU-は複数行へ登録できます。
A62: 1行は同じ期限/包装/条件で管理する単位。同品目でも期限や包装が違う分は別ID。製造ロットの真正性は別照合。
A63: 日付差＝確認済期限日−基準日。負なら期限超過、0は期限当日、1〜注意日数は注意期間内、それより後は期間外。
A64: 日付区分と集計は全登録行。数量0/在庫未確認、開封済/保存不適合、種類未確認でも確認済期限日を比較。
A65: 日付の超過/当日/内/外/日未確認の5区分は排他的。期限日確認済は前4区分の合計。
A66: 条件要確認は種類/期限日/開封/保存/在庫の未確認または開封済/保存不適合。1行1件、日付区分と重複。
A67: 表示条件外は開封済または保存不適合、1行1件。在庫なし/未確認/種類未確認も独立した重複集計。
A68: 開封済や保存条件不適合では元の期限表示の条件を満たすと扱いません。状態を元に戻して期限延長はしません。
A69: 賞味期限と消費期限を混同しません。食品の期限表示は未開封で表示どおり保存した場合を前提に確認。
A70: 日付差は食べられる/使用できる保証ではありません。安全性/品質/異常/温度履歴/メーカー指示は別途確認。
A71: その他期限は日付記録のみ。医薬品/医療材料・法定検査/資格の期限判定には使いません。
A72: 期限日区分が未確認なら期限日は空欄。種類未確認でも判読できた期限日だけ確認済として保持できます。
... A84: Microsoft COUNTIFS https://support.microsoft.com/en-us/excel/functions/countifs-function
