Workbook

Sheet 発注点チェック
A2: 発注点に達した品目を、発注前に照合する | K2: 日付の前提 | L2: 入力の前提
A3: 在庫基準日 | B3: 46326 | D3: 記録確認基準日 | E3: 46331 | H3: =IF(L3=0,"入力不備なし","入力を確認") -> 入力不備なし | K3: =IF(AND(IF(ISNUMBER(B3),AND(B3>=43831,B3<=73050,B3=INT(B3)),FALSE()),IF(ISNUMBER(E3),AND(E3>=43831,E3<=73050,E3=INT(E3)),FALSE()),B3<=E3),0,1) -> 0 | L3: =IF(AND(ISNUMBER(K3),K3=IF(AND(IF(ISNUMBER(B3),AND(B3>=43831,B3<=73050,B3=INT(B3)),FALSE()),IF(ISNUMBER(E3),AND(E3>=43831,E3<=73050,E3=INT(E3)),FALSE()),B3<=E3),0,1)),K3,1)+SUM(在庫と条件!O8:P57)+IF(COUNT(在庫と条件!P8:P57)=50,0,1) -> 0
A4: 手元在庫の注意表示。発注済数量は加算せず、納期・引当を人が照合。自動発注・送信なし。
A5: 登録品目（件） | B5: =IF($L$3<>0,NA(),COUNTIFS(在庫と条件!N8:N57,"確認済み")) -> 8 | D5: 発注点以下（件） | E5: =IF($L$3<>0,NA(),COUNTIFS(在庫と条件!L8:L57,"発注点以下")) -> 3 | G5: 発注点超（件） | H5: =IF($L$3<>0,NA(),COUNTIFS(在庫と条件!L8:L57,"発注点超")) -> 2
A6: 在庫未確認（件） | B6: =IF($L$3<>0,NA(),COUNTIFS(在庫と条件!L8:L57,"在庫未確認")) -> 1 | D6: 条件未確認（件） | E6: =IF($L$3<>0,NA(),COUNTIFS(在庫と条件!L8:L57,"条件未確認")) -> 1 | G6: 帳簿負数（件） | H6: =IF($L$3<>0,NA(),COUNTIFS(在庫と条件!L8:L57,"帳簿負数")) -> 1
A7: 発注残未確認（件） | B7: =IF($L$3<>0,NA(),COUNTIFS(在庫と条件!H8:H57,"未確認")) -> 1 | D7: 発注残あり（件） | E7: =IF($L$3<>0,NA(),COUNTIFS(在庫と条件!H8:H57,"確認済",在庫と条件!I8:I57,">0")) -> 1 | G7: 比較できた品目（件） | H7: =IF($L$3<>0,NA(),E5+H5) -> 5
A8: 在庫・条件の確認は別々。発注点以下でも発注量は決まりません。黄色欄は「在庫と条件」へ。
A9: 品目ID | B9: 手元在庫（個） | C9: 想定需要（個/日） | D9: 調達日数（日） | E9: 安全在庫（個） | F9: 発注点（個） | G9: 発注残（個） | H9: 注意表示 | I9: 次に確認
A10: =IF($L$3<>0,NA(),IF(COUNTA(在庫と条件!A8:J8)=0,"",在庫と条件!A8)) -> SKU-0001 | B10: =IF($L$3<>0,NA(),IF(COUNTA(在庫と条件!A8:J8)=0,"",IF(COUNTA(在庫と条件!C8)=0,"",在庫と条件!C8))) -> 50 | C10: =IF($L$3<>0,NA(),IF(COUNTA(在庫と条件!A8:J8)=0,"",IF(COUNTA(在庫と条件!E8)=0,"",在庫と条件!E8))) -> 10 | D10: =IF($L$3<>0,NA(),IF(COUNTA(在庫と条件!A8:J8)=0,"",IF(COUNTA(在庫と条件!F8)=0,"",在庫と条件!F8))) -> 4 | E10: =IF($L$3<>0,NA(),IF(COUNTA(在庫と条件!A8:J8)=0,"",IF(COUNTA(在庫と条件!G8)=0,"",在庫と条件!G8))) -> 10 | F10: =IF($L$3<>0,NA(),IF(COUNTA(在庫と条件!A8:J8)=0,"",在庫と条件!K8)) -> 50 | G10: =IF($L$3<>0,NA(),IF(COUNTA(在庫と条件!A8:J8)=0,"",IF(COUNTA(在庫と条件!I8)=0,"",在庫と条件!I8))) -> 0 | H10: =IF($L$3<>0,NA(),IF(COUNTA(在庫と条件!A8:J8)=0,"",在庫と条件!L8)) -> 発注点以下 | I10: =IF($L$3<>0,NA(),IF(COUNTA(在庫と条件!A8:J8)=0,"",在庫と条件!M8)) -> 発注条件を照合
A11: =IF($L$3<>0,NA(),IF(COUNTA(在庫と条件!A9:J9)=0,"",在庫と条件!A9)) -> SKU-0002 | B11: =IF($L$3<>0,NA(),IF(COUNTA(在庫と条件!A9:J9)=0,"",IF(COUNTA(在庫と条件!C9)=0,"",在庫と条件!C9))) -> 20 | C11: =IF($L$3<>0,NA(),IF(COUNTA(在庫と条件!A9:J9)=0,"",IF(COUNTA(在庫と条件!E9)=0,"",在庫と条件!E9))) -> 10 | D11: =IF($L$3<>0,NA(),IF(COUNTA(在庫と条件!A9:J9)=0,"",IF(COUNTA(在庫と条件!F9)=0,"",在庫と条件!F9))) -> 4 | E11: =IF($L$3<>0,NA(),IF(COUNTA(在庫と条件!A9:J9)=0,"",IF(COUNTA(在庫と条件!G9)=0,"",在庫と条件!G9))) -> 10 | F11: =IF($L$3<>0,NA(),IF(COUNTA(在庫と条件!A9:J9)=0,"",在庫と条件!K9)) -> 50 | G11: =IF($L$3<>0,NA(),IF(COUNTA(在庫と条件!A9:J9)=0,"",IF(COUNTA(在庫と条件!I9)=0,"",在庫と条件!I9))) -> 80 | H11: =IF($L$3<>0,NA(),IF(COUNTA(在庫と条件!A9:J9)=0,"",在庫と条件!L9)) -> 発注点以下 | I11: =IF($L$3<>0,NA(),IF(COUNTA(在庫と条件!A9:J9)=0,"",在庫と条件!M9)) -> 納期・引当を照合
A12: =IF($L$3<>0,NA(),IF(COUNTA(在庫と条件!A10:J10)=0,"",在庫と条件!A10)) -> SKU-0003 | B12: =IF($L$3<>0,NA(),IF(COUNTA(在庫と条件!A10:J10)=0,"",IF(COUNTA(在庫と条件!C10)=0,"",在庫と条件!C10))) -> 60 | C12: =IF($L$3<>0,NA(),IF(COUNTA(在庫と条件!A10:J10)=0,"",IF(COUNTA(在庫と条件!E10)=0,"",在庫と条件!E10))) -> 10 | D12: =IF($L$3<>0,NA(),IF(COUNTA(在庫と条件!A10:J10)=0,"",IF(COUNTA(在庫と条件!F10)=0,"",在庫と条件!F10))) -> 4 | E12: =IF($L$3<>0,NA(),IF(COUNTA(在庫と条件!A10:J10)=0,"",IF(COUNTA(在庫と条件!G10)=0,"",在庫と条件!G10))) -> 10 | F12: =IF($L$3<>0,NA(),IF(COUNTA(在庫と条件!A10:J10)=0,"",在庫と条件!K10)) -> 50 | G12: =IF($L$3<>0,NA(),IF(COUNTA(在庫と条件!A10:J10)=0,"",IF(COUNTA(在庫と条件!I10)=0,"",在庫と条件!I10))) -> 0 | H12: =IF($L$3<>0,NA(),IF(COUNTA(在庫と条件!A10:J10)=0,"",在庫と条件!L10)) -> 発注点超 | I12: =IF($L$3<>0,NA(),IF(COUNTA(在庫と条件!A10:J10)=0,"",在庫と条件!M10)) -> 継続確認
A13: =IF($L$3<>0,NA(),IF(COUNTA(在庫と条件!A11:J11)=0,"",在庫と条件!A11)) -> SKU-0004 | B13: =IF($L$3<>0,NA(),IF(COUNTA(在庫と条件!A11:J11)=0,"",IF(COUNTA(在庫と条件!C11)=0,"",在庫と条件!C11))) | C13: =IF($L$3<>0,NA(),IF(COUNTA(在庫と条件!A11:J11)=0,"",IF(COUNTA(在庫と条件!E11)=0,"",在庫と条件!E11))) -> 5 | D13: =IF($L$3<>0,NA(),IF(COUNTA(在庫と条件!A11:J11)=0,"",IF(COUNTA(在庫と条件!F11)=0,"",在庫と条件!F11))) -> 3 | E13: =IF($L$3<>0,NA(),IF(COUNTA(在庫と条件!A11:J11)=0,"",IF(COUNTA(在庫と条件!G11)=0,"",在庫と条件!G11))) -> 5 | F13: =IF($L$3<>0,NA(),IF(COUNTA(在庫と条件!A11:J11)=0,"",在庫と条件!K11)) -> 20 | G13: =IF($L$3<>0,NA(),IF(COUNTA(在庫と条件!A11:J11)=0,"",IF(COUNTA(在庫と条件!I11)=0,"",在庫と条件!I11))) -> 0 | H13: =IF($L$3<>0,NA(),IF(COUNTA(在庫と条件!A11:J11)=0,"",在庫と条件!L11)) -> 在庫未確認 | I13: =IF($L$3<>0,NA(),IF(COUNTA(在庫と条件!A11:J11)=0,"",在庫と条件!M11)) -> 在庫を確認
A14: =IF($L$3<>0,NA(),IF(COUNTA(在庫と条件!A12:J12)=0,"",在庫と条件!A12)) -> SKU-0005 | B14: =IF($L$3<>0,NA(),IF(COUNTA(在庫と条件!A12:J12)=0,"",IF(COUNTA(在庫と条件!C12)=0,"",在庫と条件!C12))) -> -5 | C14: =IF($L$3<>0,NA(),IF(COUNTA(在庫と条件!A12:J12)=0,"",IF(COUNTA(在庫と条件!E12)=0,"",在庫と条件!E12))) -> 5 | D14: =IF($L$3<>0,NA(),IF(COUNTA(在庫と条件!A12:J12)=0,"",IF(COUNTA(在庫と条件!F12)=0,"",在庫と条件!F12))) -> 3 | E14: =IF($L$3<>0,NA(),IF(COUNTA(在庫と条件!A12:J12)=0,"",IF(COUNTA(在庫と条件!G12)=0,"",在庫と条件!G12))) -> 5 | F14: =IF($L$3<>0,NA(),IF(COUNTA(在庫と条件!A12:J12)=0,"",在庫と条件!K12)) -> 20 | G14: =IF($L$3<>0,NA(),IF(COUNTA(在庫と条件!A12:J12)=0,"",IF(COUNTA(在庫と条件!I12)=0,"",在庫と条件!I12))) -> 0 | H14: =IF($L$3<>0,NA(),IF(COUNTA(在庫と条件!A12:J12)=0,"",在庫と条件!L12)) -> 帳簿負数 | I14: =IF($L$3<>0,NA(),IF(COUNTA(在庫と条件!A12:J12)=0,"",在庫と条件!M12)) -> 原記録を照合
A15: =IF($L$3<>0,NA(),IF(COUNTA(在庫と条件!A13:J13)=0,"",在庫と条件!A13)) -> SKU-0006 | B15: =IF($L$3<>0,NA(),IF(COUNTA(在庫と条件!A13:J13)=0,"",IF(COUNTA(在庫と条件!C13)=0,"",在庫と条件!C13))) -> 10 | C15: =IF($L$3<>0,NA(),IF(COUNTA(在庫と条件!A13:J13)=0,"",IF(COUNTA(在庫と条件!E13)=0,"",在庫と条件!E13))) | D15: =IF($L$3<>0,NA(),IF(COUNTA(在庫と条件!A13:J13)=0,"",IF(COUNTA(在庫と条件!F13)=0,"",在庫と条件!F13))) | E15: =IF($L$3<>0,NA(),IF(COUNTA(在庫と条件!A13:J13)=0,"",IF(COUNTA(在庫と条件!G13)=0,"",在庫と条件!G13))) | F15: =IF($L$3<>0,NA(),IF(COUNTA(在庫と条件!A13:J13)=0,"",在庫と条件!K13)) | G15: =IF($L$3<>0,NA(),IF(COUNTA(在庫と条件!A13:J13)=0,"",IF(COUNTA(在庫と条件!I13)=0,"",在庫と条件!I13))) -> 0 | H15: =IF($L$3<>0,NA(),IF(COUNTA(在庫と条件!A13:J13)=0,"",在庫と条件!L13)) -> 条件未確認 | I15: =IF($L$3<>0,NA(),IF(COUNTA(在庫と条件!A13:J13)=0,"",在庫と条件!M13)) -> 計算条件を確認
A16: =IF($L$3<>0,NA(),IF(COUNTA(在庫と条件!A14:J14)=0,"",在庫と条件!A14)) -> SKU-0007 | B16: =IF($L$3<>0,NA(),IF(COUNTA(在庫と条件!A14:J14)=0,"",IF(COUNTA(在庫と条件!C14)=0,"",在庫と条件!C14))) -> 0 | C16: =IF($L$3<>0,NA(),IF(COUNTA(在庫と条件!A14:J14)=0,"",IF(COUNTA(在庫と条件!E14)=0,"",在庫と条件!E14))) -> 0 | D16: =IF($L$3<>0,NA(),IF(COUNTA(在庫と条件!A14:J14)=0,"",IF(COUNTA(在庫と条件!F14)=0,"",在庫と条件!F14))) -> 1 | E16: =IF($L$3<>0,NA(),IF(COUNTA(在庫と条件!A14:J14)=0,"",IF(COUNTA(在庫と条件!G14)=0,"",在庫と条件!G14))) -> 0 | F16: =IF($L$3<>0,NA(),IF(COUNTA(在庫と条件!A14:J14)=0,"",在庫と条件!K14)) -> 0 | G16: =IF($L$3<>0,NA(),IF(COUNTA(在庫と条件!A14:J14)=0,"",IF(COUNTA(在庫と条件!I14)=0,"",在庫と条件!I14))) | H16: =IF($L$3<>0,NA(),IF(COUNTA(在庫と条件!A14:J14)=0,"",在庫と条件!L14)) -> 発注点以下 | I16: =IF($L$3<>0,NA(),IF(COUNTA(在庫と条件!A14:J14)=0,"",在庫と条件!M14)) -> 発注残を確認
A17: =IF($L$3<>0,NA(),IF(COUNTA(在庫と条件!A15:J15)=0,"",在庫と条件!A15)) -> SKU-0008 | B17: =IF($L$3<>0,NA(),IF(COUNTA(在庫と条件!A15:J15)=0,"",IF(COUNTA(在庫と条件!C15)=0,"",在庫と条件!C15))) -> 5 | C17: =IF($L$3<>0,NA(),IF(COUNTA(在庫と条件!A15:J15)=0,"",IF(COUNTA(在庫と条件!E15)=0,"",在庫と条件!E15))) -> 2 | D17: =IF($L$3<>0,NA(),IF(COUNTA(在庫と条件!A15:J15)=0,"",IF(COUNTA(在庫と条件!F15)=0,"",在庫と条件!F15))) -> 2 | E17: =IF($L$3<>0,NA(),IF(COUNTA(在庫と条件!A15:J15)=0,"",IF(COUNTA(在庫と条件!G15)=0,"",在庫と条件!G15))) -> 0 | F17: =IF($L$3<>0,NA(),IF(COUNTA(在庫と条件!A15:J15)=0,"",在庫と条件!K15)) -> 4 | G17: =IF($L$3<>0,NA(),IF(COUNTA(在庫と条件!A15:J15)=0,"",IF(COUNTA(在庫と条件!I15)=0,"",在庫と条件!I15))) -> 0 | H17: =IF($L$3<>0,NA(),IF(COUNTA(在庫と条件!A15:J15)=0,"",在庫と条件!L15)) -> 発注点超 | I17: =IF($L$3<>0,NA(),IF(COUNTA(在庫と条件!A15:J15)=0,"",在庫と条件!M15)) -> 継続確認
A18: =IF($L$3<>0,NA(),IF(COUNTA(在庫と条件!A16:J16)=0,"",在庫と条件!A16)) | B18: =IF($L$3<>0,NA(),IF(COUNTA(在庫と条件!A16:J16)=0,"",IF(COUNTA(在庫と条件!C16)=0,"",在庫と条件!C16))) | C18: =IF($L$3<>0,NA(),IF(COUNTA(在庫と条件!A16:J16)=0,"",IF(COUNTA(在庫と条件!E16)=0,"",在庫と条件!E16))) | D18: =IF($L$3<>0,NA(),IF(COUNTA(在庫と条件!A16:J16)=0,"",IF(COUNTA(在庫と条件!F16)=0,"",在庫と条件!F16))) | E18: =IF($L$3<>0,NA(),IF(COUNTA(在庫と条件!A16:J16)=0,"",IF(COUNTA(在庫と条件!G16)=0,"",在庫と条件!G16))) | F18: =IF($L$3<>0,NA(),IF(COUNTA(在庫と条件!A16:J16)=0,"",在庫と条件!K16)) | G18: =IF($L$3<>0,NA(),IF(COUNTA(在庫と条件!A16:J16)=0,"",IF(COUNTA(在庫と条件!I16)=0,"",在庫と条件!I16))) | H18: =IF($L$3<>0,NA(),IF(COUNTA(在庫と条件!A16:J16)=0,"",在庫と条件!L16)) | I18: =IF($L$3<>0,NA(),IF(COUNTA(在庫と条件!A16:J16)=0,"",在庫と条件!M16))
A19: =IF($L$3<>0,NA(),IF(COUNTA(在庫と条件!A17:J17)=0,"",在庫と条件!A17)) | B19: =IF($L$3<>0,NA(),IF(COUNTA(在庫と条件!A17:J17)=0,"",IF(COUNTA(在庫と条件!C17)=0,"",在庫と条件!C17))) | C19: =IF($L$3<>0,NA(),IF(COUNTA(在庫と条件!A17:J17)=0,"",IF(COUNTA(在庫と条件!E17)=0,"",在庫と条件!E17))) | D19: =IF($L$3<>0,NA(),IF(COUNTA(在庫と条件!A17:J17)=0,"",IF(COUNTA(在庫と条件!F17)=0,"",在庫と条件!F17))) | E19: =IF($L$3<>0,NA(),IF(COUNTA(在庫と条件!A17:J17)=0,"",IF(COUNTA(在庫と条件!G17)=0,"",在庫と条件!G17))) | F19: =IF($L$3<>0,NA(),IF(COUNTA(在庫と条件!A17:J17)=0,"",在庫と条件!K17)) | G19: =IF($L$3<>0,NA(),IF(COUNTA(在庫と条件!A17:J17)=0,"",IF(COUNTA(在庫と条件!I17)=0,"",在庫と条件!I17))) | H19: =IF($L$3<>0,NA(),IF(COUNTA(在庫と条件!A17:J17)=0,"",在庫と条件!L17)) | I19: =IF($L$3<>0,NA(),IF(COUNTA(在庫と条件!A17:J17)=0,"",在庫と条件!M17))
A20: =IF($L$3<>0,NA(),IF(COUNTA(在庫と条件!A18:J18)=0,"",在庫と条件!A18)) | B20: =IF($L$3<>0,NA(),IF(COUNTA(在庫と条件!A18:J18)=0,"",IF(COUNTA(在庫と条件!C18)=0,"",在庫と条件!C18))) | C20: =IF($L$3<>0,NA(),IF(COUNTA(在庫と条件!A18:J18)=0,"",IF(COUNTA(在庫と条件!E18)=0,"",在庫と条件!E18))) | D20: =IF($L$3<>0,NA(),IF(COUNTA(在庫と条件!A18:J18)=0,"",IF(COUNTA(在庫と条件!F18)=0,"",在庫と条件!F18))) | E20: =IF($L$3<>0,NA(),IF(COUNTA(在庫と条件!A18:J18)=0,"",IF(COUNTA(在庫と条件!G18)=0,"",在庫と条件!G18))) | F20: =IF($L$3<>0,NA(),IF(COUNTA(在庫と条件!A18:J18)=0,"",在庫と条件!K18)) | G20: =IF($L$3<>0,NA(),IF(COUNTA(在庫と条件!A18:J18)=0,"",IF(COUNTA(在庫と条件!I18)=0,"",在庫と条件!I18))) | H20: =IF($L$3<>0,NA(),IF(COUNTA(在庫と条件!A18:J18)=0,"",在庫と条件!L18)) | I20: =IF($L$3<>0,NA(),IF(COUNTA(在庫と条件!A18:J18)=0,"",在庫と条件!M18))
A21: =IF($L$3<>0,NA(),IF(COUNTA(在庫と条件!A19:J19)=0,"",在庫と条件!A19)) | B21: =IF($L$3<>0,NA(),IF(COUNTA(在庫と条件!A19:J19)=0,"",IF(COUNTA(在庫と条件!C19)=0,"",在庫と条件!C19))) | C21: =IF($L$3<>0,NA(),IF(COUNTA(在庫と条件!A19:J19)=0,"",IF(COUNTA(在庫と条件!E19)=0,"",在庫と条件!E19))) | D21: =IF($L$3<>0,NA(),IF(COUNTA(在庫と条件!A19:J19)=0,"",IF(COUNTA(在庫と条件!F19)=0,"",在庫と条件!F19))) | E21: =IF($L$3<>0,NA(),IF(COUNTA(在庫と条件!A19:J19)=0,"",IF(COUNTA(在庫と条件!G19)=0,"",在庫と条件!G19))) | F21: =IF($L$3<>0,NA(),IF(COUNTA(在庫と条件!A19:J19)=0,"",在庫と条件!K19)) | G21: =IF($L$3<>0,NA(),IF(COUNTA(在庫と条件!A19:J19)=0,"",IF(COUNTA(在庫と条件!I19)=0,"",在庫と条件!I19))) | H21: =IF($L$3<>0,NA(),IF(COUNTA(在庫と条件!A19:J19)=0,"",在庫と条件!L19)) | I21: =IF($L$3<>0,NA(),IF(COUNTA(在庫と条件!A19:J19)=0,"",在庫と条件!M19))
... A59: =IF($L$3<>0,NA(),IF(COUNTA(在庫と条件!A57:J57)=0,"",在庫と条件!A57)) | B59: =IF($L$3<>0,NA(),IF(COUNTA(在庫と条件!A57:J57)=0,"",IF(COUNTA(在庫と条件!C57)=0,"",在庫と条件!C57))) | C59: =IF($L$3<>0,NA(),IF(COUNTA(在庫と条件!A57:J57)=0,"",IF(COUNTA(在庫と条件!E57)=0,"",在庫と条件!E57))) | D59: =IF($L$3<>0,NA(),IF(COUNTA(在庫と条件!A57:J57)=0,"",IF(COUNTA(在庫と条件!F57)=0,"",在庫と条件!F57))) | E59: =IF($L$3<>0,NA(),IF(COUNTA(在庫と条件!A57:J57)=0,"",IF(COUNTA(在庫と条件!G57)=0,"",在庫と条件!G57))) | F59: =IF($L$3<>0,NA(),IF(COUNTA(在庫と条件!A57:J57)=0,"",在庫と条件!K57)) | G59: =IF($L$3<>0,NA(),IF(COUNTA(在庫と条件!A57:J57)=0,"",IF(COUNTA(在庫と条件!I57)=0,"",在庫と条件!I57))) | H59: =IF($L$3<>0,NA(),IF(COUNTA(在庫と条件!A57:J57)=0,"",在庫と条件!L57)) | I59: =IF($L$3<>0,NA(),IF(COUNTA(在庫と条件!A57:J57)=0,"",在庫と条件!M57))

Sheet 在庫と条件
A2: 同じ基準日の在庫・条件・発注残を残す
A3: 黄色A〜Jへ50品目。1行1品目、単一場所・単位は個。確認済0は数値0、未確認は対応数量を空欄。
A5: 想定需要は整数個/暦日・一定。調達は1〜365暦日、実際の納期と安全在庫の根拠は別途確認。
A7: 品目ID | B7: 在庫区分 | C7: 手元在庫（個） | D7: 条件区分 | E7: 需要（個/日） | F7: 調達日数（日） | G7: 安全在庫（個） | H7: 発注残区分 | I7: 発注残（個） | J7: 記録確認日 | K7: 発注点（個） | L7: 注意表示 | M7: 次に確認 | N7: 入力の確認 | O7: 入力不備 | P7: 計算の前提
A8: SKU-0001 | B8: 確認済 | C8: 50 | D8: 確認済 | E8: 10 | F8: 4 | G8: 10 | H8: 確認済 | I8: 0 | J8: 46327 | K8: =IF(N8="","",IF(O8<>0,NA(),IF(D8="未確認","",E8*F8+G8))) -> 50 | L8: =IF(N8="","",IF(O8<>0,NA(),IF(B8="未確認","在庫未確認",IF(C8<0,"帳簿負数",IF(D8="未確認","条件未確認",IF(C8<=K8,"発注点以下","発注点超")))))) -> 発注点以下 | M8: =IF(N8="","",IF(O8<>0,NA(),IF(L8="在庫未確認","在庫を確認",IF(L8="帳簿負数","原記録を照合",IF(L8="条件未確認","計算条件を確認",IF(H8="未確認","発注残を確認",IF(I8>0,"納期・引当を照合",IF(L8="発注点以下","発注条件を照合","継続確認")))))))) -> 発注条件を照合 | N8: =IF(COUNTA(A8:J8)=0,"",IF(NOT(AND(ISTEXT(A8),LEN(A8)=8,EXACT(LEFT(A8,4),"SKU-"),ISNUMBER(FIND(MID(A8,5,1)&"x","0x1x2x3x4x5x6x7x8x9x")),ISNUMBER(FIND(MID(A8,6,1)&"x","0x1x2x3x4x5x6x7x8x9x")),ISNUMBER(FIND(MID(A8,7,1)&"x","0x1x2x3x4x5x6x7x8x9x")),ISNUMBER(FIND(MID(A8,8,1)&"x","0x1x2x3x4x5x6x7x8x9x")))),"IDはSKU-と半角数字4桁",IF(COUNTIFS($A$8:$A$57,A8)>1,"品目IDが重複",IF(NOT(OR(B8="確認済",B8="未確認")),"在庫区分を確認",IF(AND(B8="確認済",NOT(IF(ISNUMBER(C8),AND(C8>=-1000000,C8<=1000000,C8=INT(C8)),FALSE()))),"確認済在庫は±100万個の整数で必須",IF(AND(B8="未確認",COUNTA(C8)>0),"未確認在庫は空欄",IF(NOT(OR(D8="確認済",D8="未確認")),"条件区分を確認",IF(AND(D8="確認済",NOT(AND(IF(ISNUMBER(E8),AND(E8>=0,E8<=1000000,E8=INT(E8)),FALSE()),IF(ISNUMBER(F8),AND(F8>=1,F8<=365,F8=INT(F8)),FALSE()),IF(ISNUMBER(G8),AND(G8>=0,G8<=1000000,G8=INT(G8)),FALSE())))),"確認済需要/日数/安全在庫を確認",IF(AND(D8="未確認",COUNTA(E8:G8)>0),"未確認条件の3値はすべて空欄",IF(NOT(OR(H8="確認済",H8="未確認")),"発注残区分を確認",IF(AND(H8="確認済",NOT(IF(ISNUMBER(I8),AND(I8>=0,I8<=1000000,I8=INT(I8)),FALSE()))),"確認済発注残は0〜100万個の整数で必須",IF(AND(H8="未確認",COUNTA(I8)>0),"未確認発注残は空欄",IF(NOT(IF(ISNUMBER(J8),AND(J8>=43831,J8<=73050,J8=INT(J8)),FALSE())),"確認日は時刻なしで必須",IF(OR(J8<発注点チェック!$B$3,J8>発注点チェック!$E$3),"在庫基準日≦確認日≦確認基準日","確認済み")))))))))))))) -> 確認済み | O8: =IF(N8="","",IF(N8="確認済み",0,1)) -> 0 | P8: =IF(COUNTA(A8:J8)=0,IF(AND(N8="",O8="",K8="",L8="",M8=""),0,1),IF(NOT(AND(ISTEXT(N8),N8=IF(COUNTA(A8:J8)=0,"",IF(NOT(AND(ISTEXT(A8),LEN(A8)=8,EXACT(LEFT(A8,4),"SKU-"),ISNUMBER(FIND(MID(A8,5,1)&"x","0x1x2x3x4x5x6x7x8x9x")),ISNUMBER(FIND(MID(A8,6,1)&"x","0x1x2x3x4x5x6x7x8x9x")),ISNUMBER(FIND(MID(A8,7,1)&"x","0x1x2x3x4x5x6x7x8x9x")),ISNUMBER(FIND(MID(A8,8,1)&"x","0x1x2x3x4x5x6x7x8x9x")))),"IDはSKU-と半角数字4桁",IF(COUNTIFS($A$8:$A$57,A8)>1,"品目IDが重複",IF(NOT(OR(B8="確認済",B8="未確認")),"在庫区分を確認",IF(AND(B8="確認済",NOT(IF(ISNUMBER(C8),AND(C8>=-1000000,C8<=1000000,C8=INT(C8)),FALSE()))),"確認済在庫は±100万個の整数で必須",IF(AND(B8="未確認",COUNTA(C8)>0),"未確認在庫は空欄",IF(NOT(OR(D8="確認済",D8="未確認")),"条件区分を確認",IF(AND(D8="確認済",NOT(AND(IF(ISNUMBER(E8),AND(E8>=0,E8<=1000000,E8=INT(E8)),FALSE()),IF(ISNUMBER(F8),AND(F8>=1,F8<=365,F8=INT(F8)),FALSE()),IF(ISNUMBER(G8),AND(G8>=0,G8<=1000000,G8=INT(G8)),FALSE())))),"確認済需要/日数/安全在庫を確認",IF(AND(D8="未確認",COUNTA(E8:G8)>0),"未確認条件の3値はすべて空欄",IF(NOT(OR(H8="確認済",H8="未確認")),"発注残区分を確認",IF(AND(H8="確認済",NOT(IF(ISNUMBER(I8),AND(I8>=0,I8<=1000000,I8=INT(I8)),FALSE()))),"確認済発注残は0〜100万個の整数で必須",IF(AND(H8="未確認",COUNTA(I8)>0),"未確認発注残は空欄",IF(NOT(IF(ISNUMBER(J8),AND(J8>=43831,J8<=73050,J8=INT(J8)),FALSE())),"確認日は時刻なしで必須",IF(OR(J8<発注点チェック!$B$3,J8>発注点チェック!$E$3),"在庫基準日≦確認日≦確認基準日","確認済み")))))))))))))),ISNUMBER(O8),O8=IF(N8="確認済み",0,1))),1,IF(O8<>0,0,IF(AND(IF(D8="未確認",ISTEXT(K8),ISNUMBER(K8)),K8=IF(D8="未確認","",E8*F8+G8),ISTEXT(L8),L8=IF(B8="未確認","在庫未確認",IF(C8<0,"帳簿負数",IF(D8="未確認","条件未確認",IF(C8<=K8,"発注点以下","発注点超")))),ISTEXT(M8),M8=IF(L8="在庫未確認","在庫を確認",IF(L8="帳簿負数","原記録を照合",IF(L8="条件未確認","計算条件を確認",IF(H8="未確認","発注残を確認",IF(I8>0,"納期・引当を照合",IF(L8="発注点以下","発注条件を照合","継続確認"))))))),0,1)))) -> 0
A9: SKU-0002 | B9: 確認済 | C9: 20 | D9: 確認済 | E9: 10 | F9: 4 | G9: 10 | H9: 確認済 | I9: 80 | J9: 46327 | K9: =IF(N9="","",IF(O9<>0,NA(),IF(D9="未確認","",E9*F9+G9))) -> 50 | L9: =IF(N9="","",IF(O9<>0,NA(),IF(B9="未確認","在庫未確認",IF(C9<0,"帳簿負数",IF(D9="未確認","条件未確認",IF(C9<=K9,"発注点以下","発注点超")))))) -> 発注点以下 | M9: =IF(N9="","",IF(O9<>0,NA(),IF(L9="在庫未確認","在庫を確認",IF(L9="帳簿負数","原記録を照合",IF(L9="条件未確認","計算条件を確認",IF(H9="未確認","発注残を確認",IF(I9>0,"納期・引当を照合",IF(L9="発注点以下","発注条件を照合","継続確認")))))))) -> 納期・引当を照合 | N9: =IF(COUNTA(A9:J9)=0,"",IF(NOT(AND(ISTEXT(A9),LEN(A9)=8,EXACT(LEFT(A9,4),"SKU-"),ISNUMBER(FIND(MID(A9,5,1)&"x","0x1x2x3x4x5x6x7x8x9x")),ISNUMBER(FIND(MID(A9,6,1)&"x","0x1x2x3x4x5x6x7x8x9x")),ISNUMBER(FIND(MID(A9,7,1)&"x","0x1x2x3x4x5x6x7x8x9x")),ISNUMBER(FIND(MID(A9,8,1)&"x","0x1x2x3x4x5x6x7x8x9x")))),"IDはSKU-と半角数字4桁",IF(COUNTIFS($A$8:$A$57,A9)>1,"品目IDが重複",IF(NOT(OR(B9="確認済",B9="未確認")),"在庫区分を確認",IF(AND(B9="確認済",NOT(IF(ISNUMBER(C9),AND(C9>=-1000000,C9<=1000000,C9=INT(C9)),FALSE()))),"確認済在庫は±100万個の整数で必須",IF(AND(B9="未確認",COUNTA(C9)>0),"未確認在庫は空欄",IF(NOT(OR(D9="確認済",D9="未確認")),"条件区分を確認",IF(AND(D9="確認済",NOT(AND(IF(ISNUMBER(E9),AND(E9>=0,E9<=1000000,E9=INT(E9)),FALSE()),IF(ISNUMBER(F9),AND(F9>=1,F9<=365,F9=INT(F9)),FALSE()),IF(ISNUMBER(G9),AND(G9>=0,G9<=1000000,G9=INT(G9)),FALSE())))),"確認済需要/日数/安全在庫を確認",IF(AND(D9="未確認",COUNTA(E9:G9)>0),"未確認条件の3値はすべて空欄",IF(NOT(OR(H9="確認済",H9="未確認")),"発注残区分を確認",IF(AND(H9="確認済",NOT(IF(ISNUMBER(I9),AND(I9>=0,I9<=1000000,I9=INT(I9)),FALSE()))),"確認済発注残は0〜100万個の整数で必須",IF(AND(H9="未確認",COUNTA(I9)>0),"未確認発注残は空欄",IF(NOT(IF(ISNUMBER(J9),AND(J9>=43831,J9<=73050,J9=INT(J9)),FALSE())),"確認日は時刻なしで必須",IF(OR(J9<発注点チェック!$B$3,J9>発注点チェック!$E$3),"在庫基準日≦確認日≦確認基準日","確認済み")))))))))))))) -> 確認済み | O9: =IF(N9="","",IF(N9="確認済み",0,1)) -> 0 | P9: =IF(COUNTA(A9:J9)=0,IF(AND(N9="",O9="",K9="",L9="",M9=""),0,1),IF(NOT(AND(ISTEXT(N9),N9=IF(COUNTA(A9:J9)=0,"",IF(NOT(AND(ISTEXT(A9),LEN(A9)=8,EXACT(LEFT(A9,4),"SKU-"),ISNUMBER(FIND(MID(A9,5,1)&"x","0x1x2x3x4x5x6x7x8x9x")),ISNUMBER(FIND(MID(A9,6,1)&"x","0x1x2x3x4x5x6x7x8x9x")),ISNUMBER(FIND(MID(A9,7,1)&"x","0x1x2x3x4x5x6x7x8x9x")),ISNUMBER(FIND(MID(A9,8,1)&"x","0x1x2x3x4x5x6x7x8x9x")))),"IDはSKU-と半角数字4桁",IF(COUNTIFS($A$8:$A$57,A9)>1,"品目IDが重複",IF(NOT(OR(B9="確認済",B9="未確認")),"在庫区分を確認",IF(AND(B9="確認済",NOT(IF(ISNUMBER(C9),AND(C9>=-1000000,C9<=1000000,C9=INT(C9)),FALSE()))),"確認済在庫は±100万個の整数で必須",IF(AND(B9="未確認",COUNTA(C9)>0),"未確認在庫は空欄",IF(NOT(OR(D9="確認済",D9="未確認")),"条件区分を確認",IF(AND(D9="確認済",NOT(AND(IF(ISNUMBER(E9),AND(E9>=0,E9<=1000000,E9=INT(E9)),FALSE()),IF(ISNUMBER(F9),AND(F9>=1,F9<=365,F9=INT(F9)),FALSE()),IF(ISNUMBER(G9),AND(G9>=0,G9<=1000000,G9=INT(G9)),FALSE())))),"確認済需要/日数/安全在庫を確認",IF(AND(D9="未確認",COUNTA(E9:G9)>0),"未確認条件の3値はすべて空欄",IF(NOT(OR(H9="確認済",H9="未確認")),"発注残区分を確認",IF(AND(H9="確認済",NOT(IF(ISNUMBER(I9),AND(I9>=0,I9<=1000000,I9=INT(I9)),FALSE()))),"確認済発注残は0〜100万個の整数で必須",IF(AND(H9="未確認",COUNTA(I9)>0),"未確認発注残は空欄",IF(NOT(IF(ISNUMBER(J9),AND(J9>=43831,J9<=73050,J9=INT(J9)),FALSE())),"確認日は時刻なしで必須",IF(OR(J9<発注点チェック!$B$3,J9>発注点チェック!$E$3),"在庫基準日≦確認日≦確認基準日","確認済み")))))))))))))),ISNUMBER(O9),O9=IF(N9="確認済み",0,1))),1,IF(O9<>0,0,IF(AND(IF(D9="未確認",ISTEXT(K9),ISNUMBER(K9)),K9=IF(D9="未確認","",E9*F9+G9),ISTEXT(L9),L9=IF(B9="未確認","在庫未確認",IF(C9<0,"帳簿負数",IF(D9="未確認","条件未確認",IF(C9<=K9,"発注点以下","発注点超")))),ISTEXT(M9),M9=IF(L9="在庫未確認","在庫を確認",IF(L9="帳簿負数","原記録を照合",IF(L9="条件未確認","計算条件を確認",IF(H9="未確認","発注残を確認",IF(I9>0,"納期・引当を照合",IF(L9="発注点以下","発注条件を照合","継続確認"))))))),0,1)))) -> 0
A10: SKU-0003 | B10: 確認済 | C10: 60 | D10: 確認済 | E10: 10 | F10: 4 | G10: 10 | H10: 確認済 | I10: 0 | J10: 46328 | K10: =IF(N10="","",IF(O10<>0,NA(),IF(D10="未確認","",E10*F10+G10))) -> 50 | L10: =IF(N10="","",IF(O10<>0,NA(),IF(B10="未確認","在庫未確認",IF(C10<0,"帳簿負数",IF(D10="未確認","条件未確認",IF(C10<=K10,"発注点以下","発注点超")))))) -> 発注点超 | M10: =IF(N10="","",IF(O10<>0,NA(),IF(L10="在庫未確認","在庫を確認",IF(L10="帳簿負数","原記録を照合",IF(L10="条件未確認","計算条件を確認",IF(H10="未確認","発注残を確認",IF(I10>0,"納期・引当を照合",IF(L10="発注点以下","発注条件を照合","継続確認")))))))) -> 継続確認 | N10: =IF(COUNTA(A10:J10)=0,"",IF(NOT(AND(ISTEXT(A10),LEN(A10)=8,EXACT(LEFT(A10,4),"SKU-"),ISNUMBER(FIND(MID(A10,5,1)&"x","0x1x2x3x4x5x6x7x8x9x")),ISNUMBER(FIND(MID(A10,6,1)&"x","0x1x2x3x4x5x6x7x8x9x")),ISNUMBER(FIND(MID(A10,7,1)&"x","0x1x2x3x4x5x6x7x8x9x")),ISNUMBER(FIND(MID(A10,8,1)&"x","0x1x2x3x4x5x6x7x8x9x")))),"IDはSKU-と半角数字4桁",IF(COUNTIFS($A$8:$A$57,A10)>1,"品目IDが重複",IF(NOT(OR(B10="確認済",B10="未確認")),"在庫区分を確認",IF(AND(B10="確認済",NOT(IF(ISNUMBER(C10),AND(C10>=-1000000,C10<=1000000,C10=INT(C10)),FALSE()))),"確認済在庫は±100万個の整数で必須",IF(AND(B10="未確認",COUNTA(C10)>0),"未確認在庫は空欄",IF(NOT(OR(D10="確認済",D10="未確認")),"条件区分を確認",IF(AND(D10="確認済",NOT(AND(IF(ISNUMBER(E10),AND(E10>=0,E10<=1000000,E10=INT(E10)),FALSE()),IF(ISNUMBER(F10),AND(F10>=1,F10<=365,F10=INT(F10)),FALSE()),IF(ISNUMBER(G10),AND(G10>=0,G10<=1000000,G10=INT(G10)),FALSE())))),"確認済需要/日数/安全在庫を確認",IF(AND(D10="未確認",COUNTA(E10:G10)>0),"未確認条件の3値はすべて空欄",IF(NOT(OR(H10="確認済",H10="未確認")),"発注残区分を確認",IF(AND(H10="確認済",NOT(IF(ISNUMBER(I10),AND(I10>=0,I10<=1000000,I10=INT(I10)),FALSE()))),"確認済発注残は0〜100万個の整数で必須",IF(AND(H10="未確認",COUNTA(I10)>0),"未確認発注残は空欄",IF(NOT(IF(ISNUMBER(J10),AND(J10>=43831,J10<=73050,J10=INT(J10)),FALSE())),"確認日は時刻なしで必須",IF(OR(J10<発注点チェック!$B$3,J10>発注点チェック!$E$3),"在庫基準日≦確認日≦確認基準日","確認済み")))))))))))))) -> 確認済み | O10: =IF(N10="","",IF(N10="確認済み",0,1)) -> 0 | P10: =IF(COUNTA(A10:J10)=0,IF(AND(N10="",O10="",K10="",L10="",M10=""),0,1),IF(NOT(AND(ISTEXT(N10),N10=IF(COUNTA(A10:J10)=0,"",IF(NOT(AND(ISTEXT(A10),LEN(A10)=8,EXACT(LEFT(A10,4),"SKU-"),ISNUMBER(FIND(MID(A10,5,1)&"x","0x1x2x3x4x5x6x7x8x9x")),ISNUMBER(FIND(MID(A10,6,1)&"x","0x1x2x3x4x5x6x7x8x9x")),ISNUMBER(FIND(MID(A10,7,1)&"x","0x1x2x3x4x5x6x7x8x9x")),ISNUMBER(FIND(MID(A10,8,1)&"x","0x1x2x3x4x5x6x7x8x9x")))),"IDはSKU-と半角数字4桁",IF(COUNTIFS($A$8:$A$57,A10)>1,"品目IDが重複",IF(NOT(OR(B10="確認済",B10="未確認")),"在庫区分を確認",IF(AND(B10="確認済",NOT(IF(ISNUMBER(C10),AND(C10>=-1000000,C10<=1000000,C10=INT(C10)),FALSE()))),"確認済在庫は±100万個の整数で必須",IF(AND(B10="未確認",COUNTA(C10)>0),"未確認在庫は空欄",IF(NOT(OR(D10="確認済",D10="未確認")),"条件区分を確認",IF(AND(D10="確認済",NOT(AND(IF(ISNUMBER(E10),AND(E10>=0,E10<=1000000,E10=INT(E10)),FALSE()),IF(ISNUMBER(F10),AND(F10>=1,F10<=365,F10=INT(F10)),FALSE()),IF(ISNUMBER(G10),AND(G10>=0,G10<=1000000,G10=INT(G10)),FALSE())))),"確認済需要/日数/安全在庫を確認",IF(AND(D10="未確認",COUNTA(E10:G10)>0),"未確認条件の3値はすべて空欄",IF(NOT(OR(H10="確認済",H10="未確認")),"発注残区分を確認",IF(AND(H10="確認済",NOT(IF(ISNUMBER(I10),AND(I10>=0,I10<=1000000,I10=INT(I10)),FALSE()))),"確認済発注残は0〜100万個の整数で必須",IF(AND(H10="未確認",COUNTA(I10)>0),"未確認発注残は空欄",IF(NOT(IF(ISNUMBER(J10),AND(J10>=43831,J10<=73050,J10=INT(J10)),FALSE())),"確認日は時刻なしで必須",IF(OR(J10<発注点チェック!$B$3,J10>発注点チェック!$E$3),"在庫基準日≦確認日≦確認基準日","確認済み")))))))))))))),ISNUMBER(O10),O10=IF(N10="確認済み",0,1))),1,IF(O10<>0,0,IF(AND(IF(D10="未確認",ISTEXT(K10),ISNUMBER(K10)),K10=IF(D10="未確認","",E10*F10+G10),ISTEXT(L10),L10=IF(B10="未確認","在庫未確認",IF(C10<0,"帳簿負数",IF(D10="未確認","条件未確認",IF(C10<=K10,"発注点以下","発注点超")))),ISTEXT(M10),M10=IF(L10="在庫未確認","在庫を確認",IF(L10="帳簿負数","原記録を照合",IF(L10="条件未確認","計算条件を確認",IF(H10="未確認","発注残を確認",IF(I10>0,"納期・引当を照合",IF(L10="発注点以下","発注条件を照合","継続確認"))))))),0,1)))) -> 0
A11: SKU-0004 | B11: 未確認 | D11: 確認済 | E11: 5 | F11: 3 | G11: 5 | H11: 確認済 | I11: 0 | J11: 46328 | K11: =IF(N11="","",IF(O11<>0,NA(),IF(D11="未確認","",E11*F11+G11))) -> 20 | L11: =IF(N11="","",IF(O11<>0,NA(),IF(B11="未確認","在庫未確認",IF(C11<0,"帳簿負数",IF(D11="未確認","条件未確認",IF(C11<=K11,"発注点以下","発注点超")))))) -> 在庫未確認 | M11: =IF(N11="","",IF(O11<>0,NA(),IF(L11="在庫未確認","在庫を確認",IF(L11="帳簿負数","原記録を照合",IF(L11="条件未確認","計算条件を確認",IF(H11="未確認","発注残を確認",IF(I11>0,"納期・引当を照合",IF(L11="発注点以下","発注条件を照合","継続確認")))))))) -> 在庫を確認 | N11: =IF(COUNTA(A11:J11)=0,"",IF(NOT(AND(ISTEXT(A11),LEN(A11)=8,EXACT(LEFT(A11,4),"SKU-"),ISNUMBER(FIND(MID(A11,5,1)&"x","0x1x2x3x4x5x6x7x8x9x")),ISNUMBER(FIND(MID(A11,6,1)&"x","0x1x2x3x4x5x6x7x8x9x")),ISNUMBER(FIND(MID(A11,7,1)&"x","0x1x2x3x4x5x6x7x8x9x")),ISNUMBER(FIND(MID(A11,8,1)&"x","0x1x2x3x4x5x6x7x8x9x")))),"IDはSKU-と半角数字4桁",IF(COUNTIFS($A$8:$A$57,A11)>1,"品目IDが重複",IF(NOT(OR(B11="確認済",B11="未確認")),"在庫区分を確認",IF(AND(B11="確認済",NOT(IF(ISNUMBER(C11),AND(C11>=-1000000,C11<=1000000,C11=INT(C11)),FALSE()))),"確認済在庫は±100万個の整数で必須",IF(AND(B11="未確認",COUNTA(C11)>0),"未確認在庫は空欄",IF(NOT(OR(D11="確認済",D11="未確認")),"条件区分を確認",IF(AND(D11="確認済",NOT(AND(IF(ISNUMBER(E11),AND(E11>=0,E11<=1000000,E11=INT(E11)),FALSE()),IF(ISNUMBER(F11),AND(F11>=1,F11<=365,F11=INT(F11)),FALSE()),IF(ISNUMBER(G11),AND(G11>=0,G11<=1000000,G11=INT(G11)),FALSE())))),"確認済需要/日数/安全在庫を確認",IF(AND(D11="未確認",COUNTA(E11:G11)>0),"未確認条件の3値はすべて空欄",IF(NOT(OR(H11="確認済",H11="未確認")),"発注残区分を確認",IF(AND(H11="確認済",NOT(IF(ISNUMBER(I11),AND(I11>=0,I11<=1000000,I11=INT(I11)),FALSE()))),"確認済発注残は0〜100万個の整数で必須",IF(AND(H11="未確認",COUNTA(I11)>0),"未確認発注残は空欄",IF(NOT(IF(ISNUMBER(J11),AND(J11>=43831,J11<=73050,J11=INT(J11)),FALSE())),"確認日は時刻なしで必須",IF(OR(J11<発注点チェック!$B$3,J11>発注点チェック!$E$3),"在庫基準日≦確認日≦確認基準日","確認済み")))))))))))))) -> 確認済み | O11: =IF(N11="","",IF(N11="確認済み",0,1)) -> 0 | P11: =IF(COUNTA(A11:J11)=0,IF(AND(N11="",O11="",K11="",L11="",M11=""),0,1),IF(NOT(AND(ISTEXT(N11),N11=IF(COUNTA(A11:J11)=0,"",IF(NOT(AND(ISTEXT(A11),LEN(A11)=8,EXACT(LEFT(A11,4),"SKU-"),ISNUMBER(FIND(MID(A11,5,1)&"x","0x1x2x3x4x5x6x7x8x9x")),ISNUMBER(FIND(MID(A11,6,1)&"x","0x1x2x3x4x5x6x7x8x9x")),ISNUMBER(FIND(MID(A11,7,1)&"x","0x1x2x3x4x5x6x7x8x9x")),ISNUMBER(FIND(MID(A11,8,1)&"x","0x1x2x3x4x5x6x7x8x9x")))),"IDはSKU-と半角数字4桁",IF(COUNTIFS($A$8:$A$57,A11)>1,"品目IDが重複",IF(NOT(OR(B11="確認済",B11="未確認")),"在庫区分を確認",IF(AND(B11="確認済",NOT(IF(ISNUMBER(C11),AND(C11>=-1000000,C11<=1000000,C11=INT(C11)),FALSE()))),"確認済在庫は±100万個の整数で必須",IF(AND(B11="未確認",COUNTA(C11)>0),"未確認在庫は空欄",IF(NOT(OR(D11="確認済",D11="未確認")),"条件区分を確認",IF(AND(D11="確認済",NOT(AND(IF(ISNUMBER(E11),AND(E11>=0,E11<=1000000,E11=INT(E11)),FALSE()),IF(ISNUMBER(F11),AND(F11>=1,F11<=365,F11=INT(F11)),FALSE()),IF(ISNUMBER(G11),AND(G11>=0,G11<=1000000,G11=INT(G11)),FALSE())))),"確認済需要/日数/安全在庫を確認",IF(AND(D11="未確認",COUNTA(E11:G11)>0),"未確認条件の3値はすべて空欄",IF(NOT(OR(H11="確認済",H11="未確認")),"発注残区分を確認",IF(AND(H11="確認済",NOT(IF(ISNUMBER(I11),AND(I11>=0,I11<=1000000,I11=INT(I11)),FALSE()))),"確認済発注残は0〜100万個の整数で必須",IF(AND(H11="未確認",COUNTA(I11)>0),"未確認発注残は空欄",IF(NOT(IF(ISNUMBER(J11),AND(J11>=43831,J11<=73050,J11=INT(J11)),FALSE())),"確認日は時刻なしで必須",IF(OR(J11<発注点チェック!$B$3,J11>発注点チェック!$E$3),"在庫基準日≦確認日≦確認基準日","確認済み")))))))))))))),ISNUMBER(O11),O11=IF(N11="確認済み",0,1))),1,IF(O11<>0,0,IF(AND(IF(D11="未確認",ISTEXT(K11),ISNUMBER(K11)),K11=IF(D11="未確認","",E11*F11+G11),ISTEXT(L11),L11=IF(B11="未確認","在庫未確認",IF(C11<0,"帳簿負数",IF(D11="未確認","条件未確認",IF(C11<=K11,"発注点以下","発注点超")))),ISTEXT(M11),M11=IF(L11="在庫未確認","在庫を確認",IF(L11="帳簿負数","原記録を照合",IF(L11="条件未確認","計算条件を確認",IF(H11="未確認","発注残を確認",IF(I11>0,"納期・引当を照合",IF(L11="発注点以下","発注条件を照合","継続確認"))))))),0,1)))) -> 0
A12: SKU-0005 | B12: 確認済 | C12: -5 | D12: 確認済 | E12: 5 | F12: 3 | G12: 5 | H12: 確認済 | I12: 0 | J12: 46329 | K12: =IF(N12="","",IF(O12<>0,NA(),IF(D12="未確認","",E12*F12+G12))) -> 20 | L12: =IF(N12="","",IF(O12<>0,NA(),IF(B12="未確認","在庫未確認",IF(C12<0,"帳簿負数",IF(D12="未確認","条件未確認",IF(C12<=K12,"発注点以下","発注点超")))))) -> 帳簿負数 | M12: =IF(N12="","",IF(O12<>0,NA(),IF(L12="在庫未確認","在庫を確認",IF(L12="帳簿負数","原記録を照合",IF(L12="条件未確認","計算条件を確認",IF(H12="未確認","発注残を確認",IF(I12>0,"納期・引当を照合",IF(L12="発注点以下","発注条件を照合","継続確認")))))))) -> 原記録を照合 | N12: =IF(COUNTA(A12:J12)=0,"",IF(NOT(AND(ISTEXT(A12),LEN(A12)=8,EXACT(LEFT(A12,4),"SKU-"),ISNUMBER(FIND(MID(A12,5,1)&"x","0x1x2x3x4x5x6x7x8x9x")),ISNUMBER(FIND(MID(A12,6,1)&"x","0x1x2x3x4x5x6x7x8x9x")),ISNUMBER(FIND(MID(A12,7,1)&"x","0x1x2x3x4x5x6x7x8x9x")),ISNUMBER(FIND(MID(A12,8,1)&"x","0x1x2x3x4x5x6x7x8x9x")))),"IDはSKU-と半角数字4桁",IF(COUNTIFS($A$8:$A$57,A12)>1,"品目IDが重複",IF(NOT(OR(B12="確認済",B12="未確認")),"在庫区分を確認",IF(AND(B12="確認済",NOT(IF(ISNUMBER(C12),AND(C12>=-1000000,C12<=1000000,C12=INT(C12)),FALSE()))),"確認済在庫は±100万個の整数で必須",IF(AND(B12="未確認",COUNTA(C12)>0),"未確認在庫は空欄",IF(NOT(OR(D12="確認済",D12="未確認")),"条件区分を確認",IF(AND(D12="確認済",NOT(AND(IF(ISNUMBER(E12),AND(E12>=0,E12<=1000000,E12=INT(E12)),FALSE()),IF(ISNUMBER(F12),AND(F12>=1,F12<=365,F12=INT(F12)),FALSE()),IF(ISNUMBER(G12),AND(G12>=0,G12<=1000000,G12=INT(G12)),FALSE())))),"確認済需要/日数/安全在庫を確認",IF(AND(D12="未確認",COUNTA(E12:G12)>0),"未確認条件の3値はすべて空欄",IF(NOT(OR(H12="確認済",H12="未確認")),"発注残区分を確認",IF(AND(H12="確認済",NOT(IF(ISNUMBER(I12),AND(I12>=0,I12<=1000000,I12=INT(I12)),FALSE()))),"確認済発注残は0〜100万個の整数で必須",IF(AND(H12="未確認",COUNTA(I12)>0),"未確認発注残は空欄",IF(NOT(IF(ISNUMBER(J12),AND(J12>=43831,J12<=73050,J12=INT(J12)),FALSE())),"確認日は時刻なしで必須",IF(OR(J12<発注点チェック!$B$3,J12>発注点チェック!$E$3),"在庫基準日≦確認日≦確認基準日","確認済み")))))))))))))) -> 確認済み | O12: =IF(N12="","",IF(N12="確認済み",0,1)) -> 0 | P12: =IF(COUNTA(A12:J12)=0,IF(AND(N12="",O12="",K12="",L12="",M12=""),0,1),IF(NOT(AND(ISTEXT(N12),N12=IF(COUNTA(A12:J12)=0,"",IF(NOT(AND(ISTEXT(A12),LEN(A12)=8,EXACT(LEFT(A12,4),"SKU-"),ISNUMBER(FIND(MID(A12,5,1)&"x","0x1x2x3x4x5x6x7x8x9x")),ISNUMBER(FIND(MID(A12,6,1)&"x","0x1x2x3x4x5x6x7x8x9x")),ISNUMBER(FIND(MID(A12,7,1)&"x","0x1x2x3x4x5x6x7x8x9x")),ISNUMBER(FIND(MID(A12,8,1)&"x","0x1x2x3x4x5x6x7x8x9x")))),"IDはSKU-と半角数字4桁",IF(COUNTIFS($A$8:$A$57,A12)>1,"品目IDが重複",IF(NOT(OR(B12="確認済",B12="未確認")),"在庫区分を確認",IF(AND(B12="確認済",NOT(IF(ISNUMBER(C12),AND(C12>=-1000000,C12<=1000000,C12=INT(C12)),FALSE()))),"確認済在庫は±100万個の整数で必須",IF(AND(B12="未確認",COUNTA(C12)>0),"未確認在庫は空欄",IF(NOT(OR(D12="確認済",D12="未確認")),"条件区分を確認",IF(AND(D12="確認済",NOT(AND(IF(ISNUMBER(E12),AND(E12>=0,E12<=1000000,E12=INT(E12)),FALSE()),IF(ISNUMBER(F12),AND(F12>=1,F12<=365,F12=INT(F12)),FALSE()),IF(ISNUMBER(G12),AND(G12>=0,G12<=1000000,G12=INT(G12)),FALSE())))),"確認済需要/日数/安全在庫を確認",IF(AND(D12="未確認",COUNTA(E12:G12)>0),"未確認条件の3値はすべて空欄",IF(NOT(OR(H12="確認済",H12="未確認")),"発注残区分を確認",IF(AND(H12="確認済",NOT(IF(ISNUMBER(I12),AND(I12>=0,I12<=1000000,I12=INT(I12)),FALSE()))),"確認済発注残は0〜100万個の整数で必須",IF(AND(H12="未確認",COUNTA(I12)>0),"未確認発注残は空欄",IF(NOT(IF(ISNUMBER(J12),AND(J12>=43831,J12<=73050,J12=INT(J12)),FALSE())),"確認日は時刻なしで必須",IF(OR(J12<発注点チェック!$B$3,J12>発注点チェック!$E$3),"在庫基準日≦確認日≦確認基準日","確認済み")))))))))))))),ISNUMBER(O12),O12=IF(N12="確認済み",0,1))),1,IF(O12<>0,0,IF(AND(IF(D12="未確認",ISTEXT(K12),ISNUMBER(K12)),K12=IF(D12="未確認","",E12*F12+G12),ISTEXT(L12),L12=IF(B12="未確認","在庫未確認",IF(C12<0,"帳簿負数",IF(D12="未確認","条件未確認",IF(C12<=K12,"発注点以下","発注点超")))),ISTEXT(M12),M12=IF(L12="在庫未確認","在庫を確認",IF(L12="帳簿負数","原記録を照合",IF(L12="条件未確認","計算条件を確認",IF(H12="未確認","発注残を確認",IF(I12>0,"納期・引当を照合",IF(L12="発注点以下","発注条件を照合","継続確認"))))))),0,1)))) -> 0
A13: SKU-0006 | B13: 確認済 | C13: 10 | D13: 未確認 | H13: 確認済 | I13: 0 | J13: 46329 | K13: =IF(N13="","",IF(O13<>0,NA(),IF(D13="未確認","",E13*F13+G13))) | L13: =IF(N13="","",IF(O13<>0,NA(),IF(B13="未確認","在庫未確認",IF(C13<0,"帳簿負数",IF(D13="未確認","条件未確認",IF(C13<=K13,"発注点以下","発注点超")))))) -> 条件未確認 | M13: =IF(N13="","",IF(O13<>0,NA(),IF(L13="在庫未確認","在庫を確認",IF(L13="帳簿負数","原記録を照合",IF(L13="条件未確認","計算条件を確認",IF(H13="未確認","発注残を確認",IF(I13>0,"納期・引当を照合",IF(L13="発注点以下","発注条件を照合","継続確認")))))))) -> 計算条件を確認 | N13: =IF(COUNTA(A13:J13)=0,"",IF(NOT(AND(ISTEXT(A13),LEN(A13)=8,EXACT(LEFT(A13,4),"SKU-"),ISNUMBER(FIND(MID(A13,5,1)&"x","0x1x2x3x4x5x6x7x8x9x")),ISNUMBER(FIND(MID(A13,6,1)&"x","0x1x2x3x4x5x6x7x8x9x")),ISNUMBER(FIND(MID(A13,7,1)&"x","0x1x2x3x4x5x6x7x8x9x")),ISNUMBER(FIND(MID(A13,8,1)&"x","0x1x2x3x4x5x6x7x8x9x")))),"IDはSKU-と半角数字4桁",IF(COUNTIFS($A$8:$A$57,A13)>1,"品目IDが重複",IF(NOT(OR(B13="確認済",B13="未確認")),"在庫区分を確認",IF(AND(B13="確認済",NOT(IF(ISNUMBER(C13),AND(C13>=-1000000,C13<=1000000,C13=INT(C13)),FALSE()))),"確認済在庫は±100万個の整数で必須",IF(AND(B13="未確認",COUNTA(C13)>0),"未確認在庫は空欄",IF(NOT(OR(D13="確認済",D13="未確認")),"条件区分を確認",IF(AND(D13="確認済",NOT(AND(IF(ISNUMBER(E13),AND(E13>=0,E13<=1000000,E13=INT(E13)),FALSE()),IF(ISNUMBER(F13),AND(F13>=1,F13<=365,F13=INT(F13)),FALSE()),IF(ISNUMBER(G13),AND(G13>=0,G13<=1000000,G13=INT(G13)),FALSE())))),"確認済需要/日数/安全在庫を確認",IF(AND(D13="未確認",COUNTA(E13:G13)>0),"未確認条件の3値はすべて空欄",IF(NOT(OR(H13="確認済",H13="未確認")),"発注残区分を確認",IF(AND(H13="確認済",NOT(IF(ISNUMBER(I13),AND(I13>=0,I13<=1000000,I13=INT(I13)),FALSE()))),"確認済発注残は0〜100万個の整数で必須",IF(AND(H13="未確認",COUNTA(I13)>0),"未確認発注残は空欄",IF(NOT(IF(ISNUMBER(J13),AND(J13>=43831,J13<=73050,J13=INT(J13)),FALSE())),"確認日は時刻なしで必須",IF(OR(J13<発注点チェック!$B$3,J13>発注点チェック!$E$3),"在庫基準日≦確認日≦確認基準日","確認済み")))))))))))))) -> 確認済み | O13: =IF(N13="","",IF(N13="確認済み",0,1)) -> 0 | P13: =IF(COUNTA(A13:J13)=0,IF(AND(N13="",O13="",K13="",L13="",M13=""),0,1),IF(NOT(AND(ISTEXT(N13),N13=IF(COUNTA(A13:J13)=0,"",IF(NOT(AND(ISTEXT(A13),LEN(A13)=8,EXACT(LEFT(A13,4),"SKU-"),ISNUMBER(FIND(MID(A13,5,1)&"x","0x1x2x3x4x5x6x7x8x9x")),ISNUMBER(FIND(MID(A13,6,1)&"x","0x1x2x3x4x5x6x7x8x9x")),ISNUMBER(FIND(MID(A13,7,1)&"x","0x1x2x3x4x5x6x7x8x9x")),ISNUMBER(FIND(MID(A13,8,1)&"x","0x1x2x3x4x5x6x7x8x9x")))),"IDはSKU-と半角数字4桁",IF(COUNTIFS($A$8:$A$57,A13)>1,"品目IDが重複",IF(NOT(OR(B13="確認済",B13="未確認")),"在庫区分を確認",IF(AND(B13="確認済",NOT(IF(ISNUMBER(C13),AND(C13>=-1000000,C13<=1000000,C13=INT(C13)),FALSE()))),"確認済在庫は±100万個の整数で必須",IF(AND(B13="未確認",COUNTA(C13)>0),"未確認在庫は空欄",IF(NOT(OR(D13="確認済",D13="未確認")),"条件区分を確認",IF(AND(D13="確認済",NOT(AND(IF(ISNUMBER(E13),AND(E13>=0,E13<=1000000,E13=INT(E13)),FALSE()),IF(ISNUMBER(F13),AND(F13>=1,F13<=365,F13=INT(F13)),FALSE()),IF(ISNUMBER(G13),AND(G13>=0,G13<=1000000,G13=INT(G13)),FALSE())))),"確認済需要/日数/安全在庫を確認",IF(AND(D13="未確認",COUNTA(E13:G13)>0),"未確認条件の3値はすべて空欄",IF(NOT(OR(H13="確認済",H13="未確認")),"発注残区分を確認",IF(AND(H13="確認済",NOT(IF(ISNUMBER(I13),AND(I13>=0,I13<=1000000,I13=INT(I13)),FALSE()))),"確認済発注残は0〜100万個の整数で必須",IF(AND(H13="未確認",COUNTA(I13)>0),"未確認発注残は空欄",IF(NOT(IF(ISNUMBER(J13),AND(J13>=43831,J13<=73050,J13=INT(J13)),FALSE())),"確認日は時刻なしで必須",IF(OR(J13<発注点チェック!$B$3,J13>発注点チェック!$E$3),"在庫基準日≦確認日≦確認基準日","確認済み")))))))))))))),ISNUMBER(O13),O13=IF(N13="確認済み",0,1))),1,IF(O13<>0,0,IF(AND(IF(D13="未確認",ISTEXT(K13),ISNUMBER(K13)),K13=IF(D13="未確認","",E13*F13+G13),ISTEXT(L13),L13=IF(B13="未確認","在庫未確認",IF(C13<0,"帳簿負数",IF(D13="未確認","条件未確認",IF(C13<=K13,"発注点以下","発注点超")))),ISTEXT(M13),M13=IF(L13="在庫未確認","在庫を確認",IF(L13="帳簿負数","原記録を照合",IF(L13="条件未確認","計算条件を確認",IF(H13="未確認","発注残を確認",IF(I13>0,"納期・引当を照合",IF(L13="発注点以下","発注条件を照合","継続確認"))))))),0,1)))) -> 0
A14: SKU-0007 | B14: 確認済 | C14: 0 | D14: 確認済 | E14: 0 | F14: 1 | G14: 0 | H14: 未確認 | J14: 46330 | K14: =IF(N14="","",IF(O14<>0,NA(),IF(D14="未確認","",E14*F14+G14))) -> 0 | L14: =IF(N14="","",IF(O14<>0,NA(),IF(B14="未確認","在庫未確認",IF(C14<0,"帳簿負数",IF(D14="未確認","条件未確認",IF(C14<=K14,"発注点以下","発注点超")))))) -> 発注点以下 | M14: =IF(N14="","",IF(O14<>0,NA(),IF(L14="在庫未確認","在庫を確認",IF(L14="帳簿負数","原記録を照合",IF(L14="条件未確認","計算条件を確認",IF(H14="未確認","発注残を確認",IF(I14>0,"納期・引当を照合",IF(L14="発注点以下","発注条件を照合","継続確認")))))))) -> 発注残を確認 | N14: =IF(COUNTA(A14:J14)=0,"",IF(NOT(AND(ISTEXT(A14),LEN(A14)=8,EXACT(LEFT(A14,4),"SKU-"),ISNUMBER(FIND(MID(A14,5,1)&"x","0x1x2x3x4x5x6x7x8x9x")),ISNUMBER(FIND(MID(A14,6,1)&"x","0x1x2x3x4x5x6x7x8x9x")),ISNUMBER(FIND(MID(A14,7,1)&"x","0x1x2x3x4x5x6x7x8x9x")),ISNUMBER(FIND(MID(A14,8,1)&"x","0x1x2x3x4x5x6x7x8x9x")))),"IDはSKU-と半角数字4桁",IF(COUNTIFS($A$8:$A$57,A14)>1,"品目IDが重複",IF(NOT(OR(B14="確認済",B14="未確認")),"在庫区分を確認",IF(AND(B14="確認済",NOT(IF(ISNUMBER(C14),AND(C14>=-1000000,C14<=1000000,C14=INT(C14)),FALSE()))),"確認済在庫は±100万個の整数で必須",IF(AND(B14="未確認",COUNTA(C14)>0),"未確認在庫は空欄",IF(NOT(OR(D14="確認済",D14="未確認")),"条件区分を確認",IF(AND(D14="確認済",NOT(AND(IF(ISNUMBER(E14),AND(E14>=0,E14<=1000000,E14=INT(E14)),FALSE()),IF(ISNUMBER(F14),AND(F14>=1,F14<=365,F14=INT(F14)),FALSE()),IF(ISNUMBER(G14),AND(G14>=0,G14<=1000000,G14=INT(G14)),FALSE())))),"確認済需要/日数/安全在庫を確認",IF(AND(D14="未確認",COUNTA(E14:G14)>0),"未確認条件の3値はすべて空欄",IF(NOT(OR(H14="確認済",H14="未確認")),"発注残区分を確認",IF(AND(H14="確認済",NOT(IF(ISNUMBER(I14),AND(I14>=0,I14<=1000000,I14=INT(I14)),FALSE()))),"確認済発注残は0〜100万個の整数で必須",IF(AND(H14="未確認",COUNTA(I14)>0),"未確認発注残は空欄",IF(NOT(IF(ISNUMBER(J14),AND(J14>=43831,J14<=73050,J14=INT(J14)),FALSE())),"確認日は時刻なしで必須",IF(OR(J14<発注点チェック!$B$3,J14>発注点チェック!$E$3),"在庫基準日≦確認日≦確認基準日","確認済み")))))))))))))) -> 確認済み | O14: =IF(N14="","",IF(N14="確認済み",0,1)) -> 0 | P14: =IF(COUNTA(A14:J14)=0,IF(AND(N14="",O14="",K14="",L14="",M14=""),0,1),IF(NOT(AND(ISTEXT(N14),N14=IF(COUNTA(A14:J14)=0,"",IF(NOT(AND(ISTEXT(A14),LEN(A14)=8,EXACT(LEFT(A14,4),"SKU-"),ISNUMBER(FIND(MID(A14,5,1)&"x","0x1x2x3x4x5x6x7x8x9x")),ISNUMBER(FIND(MID(A14,6,1)&"x","0x1x2x3x4x5x6x7x8x9x")),ISNUMBER(FIND(MID(A14,7,1)&"x","0x1x2x3x4x5x6x7x8x9x")),ISNUMBER(FIND(MID(A14,8,1)&"x","0x1x2x3x4x5x6x7x8x9x")))),"IDはSKU-と半角数字4桁",IF(COUNTIFS($A$8:$A$57,A14)>1,"品目IDが重複",IF(NOT(OR(B14="確認済",B14="未確認")),"在庫区分を確認",IF(AND(B14="確認済",NOT(IF(ISNUMBER(C14),AND(C14>=-1000000,C14<=1000000,C14=INT(C14)),FALSE()))),"確認済在庫は±100万個の整数で必須",IF(AND(B14="未確認",COUNTA(C14)>0),"未確認在庫は空欄",IF(NOT(OR(D14="確認済",D14="未確認")),"条件区分を確認",IF(AND(D14="確認済",NOT(AND(IF(ISNUMBER(E14),AND(E14>=0,E14<=1000000,E14=INT(E14)),FALSE()),IF(ISNUMBER(F14),AND(F14>=1,F14<=365,F14=INT(F14)),FALSE()),IF(ISNUMBER(G14),AND(G14>=0,G14<=1000000,G14=INT(G14)),FALSE())))),"確認済需要/日数/安全在庫を確認",IF(AND(D14="未確認",COUNTA(E14:G14)>0),"未確認条件の3値はすべて空欄",IF(NOT(OR(H14="確認済",H14="未確認")),"発注残区分を確認",IF(AND(H14="確認済",NOT(IF(ISNUMBER(I14),AND(I14>=0,I14<=1000000,I14=INT(I14)),FALSE()))),"確認済発注残は0〜100万個の整数で必須",IF(AND(H14="未確認",COUNTA(I14)>0),"未確認発注残は空欄",IF(NOT(IF(ISNUMBER(J14),AND(J14>=43831,J14<=73050,J14=INT(J14)),FALSE())),"確認日は時刻なしで必須",IF(OR(J14<発注点チェック!$B$3,J14>発注点チェック!$E$3),"在庫基準日≦確認日≦確認基準日","確認済み")))))))))))))),ISNUMBER(O14),O14=IF(N14="確認済み",0,1))),1,IF(O14<>0,0,IF(AND(IF(D14="未確認",ISTEXT(K14),ISNUMBER(K14)),K14=IF(D14="未確認","",E14*F14+G14),ISTEXT(L14),L14=IF(B14="未確認","在庫未確認",IF(C14<0,"帳簿負数",IF(D14="未確認","条件未確認",IF(C14<=K14,"発注点以下","発注点超")))),ISTEXT(M14),M14=IF(L14="在庫未確認","在庫を確認",IF(L14="帳簿負数","原記録を照合",IF(L14="条件未確認","計算条件を確認",IF(H14="未確認","発注残を確認",IF(I14>0,"納期・引当を照合",IF(L14="発注点以下","発注条件を照合","継続確認"))))))),0,1)))) -> 0
A15: SKU-0008 | B15: 確認済 | C15: 5 | D15: 確認済 | E15: 2 | F15: 2 | G15: 0 | H15: 確認済 | I15: 0 | J15: 46331 | K15: =IF(N15="","",IF(O15<>0,NA(),IF(D15="未確認","",E15*F15+G15))) -> 4 | L15: =IF(N15="","",IF(O15<>0,NA(),IF(B15="未確認","在庫未確認",IF(C15<0,"帳簿負数",IF(D15="未確認","条件未確認",IF(C15<=K15,"発注点以下","発注点超")))))) -> 発注点超 | M15: =IF(N15="","",IF(O15<>0,NA(),IF(L15="在庫未確認","在庫を確認",IF(L15="帳簿負数","原記録を照合",IF(L15="条件未確認","計算条件を確認",IF(H15="未確認","発注残を確認",IF(I15>0,"納期・引当を照合",IF(L15="発注点以下","発注条件を照合","継続確認")))))))) -> 継続確認 | N15: =IF(COUNTA(A15:J15)=0,"",IF(NOT(AND(ISTEXT(A15),LEN(A15)=8,EXACT(LEFT(A15,4),"SKU-"),ISNUMBER(FIND(MID(A15,5,1)&"x","0x1x2x3x4x5x6x7x8x9x")),ISNUMBER(FIND(MID(A15,6,1)&"x","0x1x2x3x4x5x6x7x8x9x")),ISNUMBER(FIND(MID(A15,7,1)&"x","0x1x2x3x4x5x6x7x8x9x")),ISNUMBER(FIND(MID(A15,8,1)&"x","0x1x2x3x4x5x6x7x8x9x")))),"IDはSKU-と半角数字4桁",IF(COUNTIFS($A$8:$A$57,A15)>1,"品目IDが重複",IF(NOT(OR(B15="確認済",B15="未確認")),"在庫区分を確認",IF(AND(B15="確認済",NOT(IF(ISNUMBER(C15),AND(C15>=-1000000,C15<=1000000,C15=INT(C15)),FALSE()))),"確認済在庫は±100万個の整数で必須",IF(AND(B15="未確認",COUNTA(C15)>0),"未確認在庫は空欄",IF(NOT(OR(D15="確認済",D15="未確認")),"条件区分を確認",IF(AND(D15="確認済",NOT(AND(IF(ISNUMBER(E15),AND(E15>=0,E15<=1000000,E15=INT(E15)),FALSE()),IF(ISNUMBER(F15),AND(F15>=1,F15<=365,F15=INT(F15)),FALSE()),IF(ISNUMBER(G15),AND(G15>=0,G15<=1000000,G15=INT(G15)),FALSE())))),"確認済需要/日数/安全在庫を確認",IF(AND(D15="未確認",COUNTA(E15:G15)>0),"未確認条件の3値はすべて空欄",IF(NOT(OR(H15="確認済",H15="未確認")),"発注残区分を確認",IF(AND(H15="確認済",NOT(IF(ISNUMBER(I15),AND(I15>=0,I15<=1000000,I15=INT(I15)),FALSE()))),"確認済発注残は0〜100万個の整数で必須",IF(AND(H15="未確認",COUNTA(I15)>0),"未確認発注残は空欄",IF(NOT(IF(ISNUMBER(J15),AND(J15>=43831,J15<=73050,J15=INT(J15)),FALSE())),"確認日は時刻なしで必須",IF(OR(J15<発注点チェック!$B$3,J15>発注点チェック!$E$3),"在庫基準日≦確認日≦確認基準日","確認済み")))))))))))))) -> 確認済み | O15: =IF(N15="","",IF(N15="確認済み",0,1)) -> 0 | P15: =IF(COUNTA(A15:J15)=0,IF(AND(N15="",O15="",K15="",L15="",M15=""),0,1),IF(NOT(AND(ISTEXT(N15),N15=IF(COUNTA(A15:J15)=0,"",IF(NOT(AND(ISTEXT(A15),LEN(A15)=8,EXACT(LEFT(A15,4),"SKU-"),ISNUMBER(FIND(MID(A15,5,1)&"x","0x1x2x3x4x5x6x7x8x9x")),ISNUMBER(FIND(MID(A15,6,1)&"x","0x1x2x3x4x5x6x7x8x9x")),ISNUMBER(FIND(MID(A15,7,1)&"x","0x1x2x3x4x5x6x7x8x9x")),ISNUMBER(FIND(MID(A15,8,1)&"x","0x1x2x3x4x5x6x7x8x9x")))),"IDはSKU-と半角数字4桁",IF(COUNTIFS($A$8:$A$57,A15)>1,"品目IDが重複",IF(NOT(OR(B15="確認済",B15="未確認")),"在庫区分を確認",IF(AND(B15="確認済",NOT(IF(ISNUMBER(C15),AND(C15>=-1000000,C15<=1000000,C15=INT(C15)),FALSE()))),"確認済在庫は±100万個の整数で必須",IF(AND(B15="未確認",COUNTA(C15)>0),"未確認在庫は空欄",IF(NOT(OR(D15="確認済",D15="未確認")),"条件区分を確認",IF(AND(D15="確認済",NOT(AND(IF(ISNUMBER(E15),AND(E15>=0,E15<=1000000,E15=INT(E15)),FALSE()),IF(ISNUMBER(F15),AND(F15>=1,F15<=365,F15=INT(F15)),FALSE()),IF(ISNUMBER(G15),AND(G15>=0,G15<=1000000,G15=INT(G15)),FALSE())))),"確認済需要/日数/安全在庫を確認",IF(AND(D15="未確認",COUNTA(E15:G15)>0),"未確認条件の3値はすべて空欄",IF(NOT(OR(H15="確認済",H15="未確認")),"発注残区分を確認",IF(AND(H15="確認済",NOT(IF(ISNUMBER(I15),AND(I15>=0,I15<=1000000,I15=INT(I15)),FALSE()))),"確認済発注残は0〜100万個の整数で必須",IF(AND(H15="未確認",COUNTA(I15)>0),"未確認発注残は空欄",IF(NOT(IF(ISNUMBER(J15),AND(J15>=43831,J15<=73050,J15=INT(J15)),FALSE())),"確認日は時刻なしで必須",IF(OR(J15<発注点チェック!$B$3,J15>発注点チェック!$E$3),"在庫基準日≦確認日≦確認基準日","確認済み")))))))))))))),ISNUMBER(O15),O15=IF(N15="確認済み",0,1))),1,IF(O15<>0,0,IF(AND(IF(D15="未確認",ISTEXT(K15),ISNUMBER(K15)),K15=IF(D15="未確認","",E15*F15+G15),ISTEXT(L15),L15=IF(B15="未確認","在庫未確認",IF(C15<0,"帳簿負数",IF(D15="未確認","条件未確認",IF(C15<=K15,"発注点以下","発注点超")))),ISTEXT(M15),M15=IF(L15="在庫未確認","在庫を確認",IF(L15="帳簿負数","原記録を照合",IF(L15="条件未確認","計算条件を確認",IF(H15="未確認","発注残を確認",IF(I15>0,"納期・引当を照合",IF(L15="発注点以下","発注条件を照合","継続確認"))))))),0,1)))) -> 0
K16: =IF(N16="","",IF(O16<>0,NA(),IF(D16="未確認","",E16*F16+G16))) | L16: =IF(N16="","",IF(O16<>0,NA(),IF(B16="未確認","在庫未確認",IF(C16<0,"帳簿負数",IF(D16="未確認","条件未確認",IF(C16<=K16,"発注点以下","発注点超")))))) | M16: =IF(N16="","",IF(O16<>0,NA(),IF(L16="在庫未確認","在庫を確認",IF(L16="帳簿負数","原記録を照合",IF(L16="条件未確認","計算条件を確認",IF(H16="未確認","発注残を確認",IF(I16>0,"納期・引当を照合",IF(L16="発注点以下","発注条件を照合","継続確認")))))))) | N16: =IF(COUNTA(A16:J16)=0,"",IF(NOT(AND(ISTEXT(A16),LEN(A16)=8,EXACT(LEFT(A16,4),"SKU-"),ISNUMBER(FIND(MID(A16,5,1)&"x","0x1x2x3x4x5x6x7x8x9x")),ISNUMBER(FIND(MID(A16,6,1)&"x","0x1x2x3x4x5x6x7x8x9x")),ISNUMBER(FIND(MID(A16,7,1)&"x","0x1x2x3x4x5x6x7x8x9x")),ISNUMBER(FIND(MID(A16,8,1)&"x","0x1x2x3x4x5x6x7x8x9x")))),"IDはSKU-と半角数字4桁",IF(COUNTIFS($A$8:$A$57,A16)>1,"品目IDが重複",IF(NOT(OR(B16="確認済",B16="未確認")),"在庫区分を確認",IF(AND(B16="確認済",NOT(IF(ISNUMBER(C16),AND(C16>=-1000000,C16<=1000000,C16=INT(C16)),FALSE()))),"確認済在庫は±100万個の整数で必須",IF(AND(B16="未確認",COUNTA(C16)>0),"未確認在庫は空欄",IF(NOT(OR(D16="確認済",D16="未確認")),"条件区分を確認",IF(AND(D16="確認済",NOT(AND(IF(ISNUMBER(E16),AND(E16>=0,E16<=1000000,E16=INT(E16)),FALSE()),IF(ISNUMBER(F16),AND(F16>=1,F16<=365,F16=INT(F16)),FALSE()),IF(ISNUMBER(G16),AND(G16>=0,G16<=1000000,G16=INT(G16)),FALSE())))),"確認済需要/日数/安全在庫を確認",IF(AND(D16="未確認",COUNTA(E16:G16)>0),"未確認条件の3値はすべて空欄",IF(NOT(OR(H16="確認済",H16="未確認")),"発注残区分を確認",IF(AND(H16="確認済",NOT(IF(ISNUMBER(I16),AND(I16>=0,I16<=1000000,I16=INT(I16)),FALSE()))),"確認済発注残は0〜100万個の整数で必須",IF(AND(H16="未確認",COUNTA(I16)>0),"未確認発注残は空欄",IF(NOT(IF(ISNUMBER(J16),AND(J16>=43831,J16<=73050,J16=INT(J16)),FALSE())),"確認日は時刻なしで必須",IF(OR(J16<発注点チェック!$B$3,J16>発注点チェック!$E$3),"在庫基準日≦確認日≦確認基準日","確認済み")))))))))))))) | O16: =IF(N16="","",IF(N16="確認済み",0,1)) | P16: =IF(COUNTA(A16:J16)=0,IF(AND(N16="",O16="",K16="",L16="",M16=""),0,1),IF(NOT(AND(ISTEXT(N16),N16=IF(COUNTA(A16:J16)=0,"",IF(NOT(AND(ISTEXT(A16),LEN(A16)=8,EXACT(LEFT(A16,4),"SKU-"),ISNUMBER(FIND(MID(A16,5,1)&"x","0x1x2x3x4x5x6x7x8x9x")),ISNUMBER(FIND(MID(A16,6,1)&"x","0x1x2x3x4x5x6x7x8x9x")),ISNUMBER(FIND(MID(A16,7,1)&"x","0x1x2x3x4x5x6x7x8x9x")),ISNUMBER(FIND(MID(A16,8,1)&"x","0x1x2x3x4x5x6x7x8x9x")))),"IDはSKU-と半角数字4桁",IF(COUNTIFS($A$8:$A$57,A16)>1,"品目IDが重複",IF(NOT(OR(B16="確認済",B16="未確認")),"在庫区分を確認",IF(AND(B16="確認済",NOT(IF(ISNUMBER(C16),AND(C16>=-1000000,C16<=1000000,C16=INT(C16)),FALSE()))),"確認済在庫は±100万個の整数で必須",IF(AND(B16="未確認",COUNTA(C16)>0),"未確認在庫は空欄",IF(NOT(OR(D16="確認済",D16="未確認")),"条件区分を確認",IF(AND(D16="確認済",NOT(AND(IF(ISNUMBER(E16),AND(E16>=0,E16<=1000000,E16=INT(E16)),FALSE()),IF(ISNUMBER(F16),AND(F16>=1,F16<=365,F16=INT(F16)),FALSE()),IF(ISNUMBER(G16),AND(G16>=0,G16<=1000000,G16=INT(G16)),FALSE())))),"確認済需要/日数/安全在庫を確認",IF(AND(D16="未確認",COUNTA(E16:G16)>0),"未確認条件の3値はすべて空欄",IF(NOT(OR(H16="確認済",H16="未確認")),"発注残区分を確認",IF(AND(H16="確認済",NOT(IF(ISNUMBER(I16),AND(I16>=0,I16<=1000000,I16=INT(I16)),FALSE()))),"確認済発注残は0〜100万個の整数で必須",IF(AND(H16="未確認",COUNTA(I16)>0),"未確認発注残は空欄",IF(NOT(IF(ISNUMBER(J16),AND(J16>=43831,J16<=73050,J16=INT(J16)),FALSE())),"確認日は時刻なしで必須",IF(OR(J16<発注点チェック!$B$3,J16>発注点チェック!$E$3),"在庫基準日≦確認日≦確認基準日","確認済み")))))))))))))),ISNUMBER(O16),O16=IF(N16="確認済み",0,1))),1,IF(O16<>0,0,IF(AND(IF(D16="未確認",ISTEXT(K16),ISNUMBER(K16)),K16=IF(D16="未確認","",E16*F16+G16),ISTEXT(L16),L16=IF(B16="未確認","在庫未確認",IF(C16<0,"帳簿負数",IF(D16="未確認","条件未確認",IF(C16<=K16,"発注点以下","発注点超")))),ISTEXT(M16),M16=IF(L16="在庫未確認","在庫を確認",IF(L16="帳簿負数","原記録を照合",IF(L16="条件未確認","計算条件を確認",IF(H16="未確認","発注残を確認",IF(I16>0,"納期・引当を照合",IF(L16="発注点以下","発注条件を照合","継続確認"))))))),0,1)))) -> 0
K17: =IF(N17="","",IF(O17<>0,NA(),IF(D17="未確認","",E17*F17+G17))) | L17: =IF(N17="","",IF(O17<>0,NA(),IF(B17="未確認","在庫未確認",IF(C17<0,"帳簿負数",IF(D17="未確認","条件未確認",IF(C17<=K17,"発注点以下","発注点超")))))) | M17: =IF(N17="","",IF(O17<>0,NA(),IF(L17="在庫未確認","在庫を確認",IF(L17="帳簿負数","原記録を照合",IF(L17="条件未確認","計算条件を確認",IF(H17="未確認","発注残を確認",IF(I17>0,"納期・引当を照合",IF(L17="発注点以下","発注条件を照合","継続確認")))))))) | N17: =IF(COUNTA(A17:J17)=0,"",IF(NOT(AND(ISTEXT(A17),LEN(A17)=8,EXACT(LEFT(A17,4),"SKU-"),ISNUMBER(FIND(MID(A17,5,1)&"x","0x1x2x3x4x5x6x7x8x9x")),ISNUMBER(FIND(MID(A17,6,1)&"x","0x1x2x3x4x5x6x7x8x9x")),ISNUMBER(FIND(MID(A17,7,1)&"x","0x1x2x3x4x5x6x7x8x9x")),ISNUMBER(FIND(MID(A17,8,1)&"x","0x1x2x3x4x5x6x7x8x9x")))),"IDはSKU-と半角数字4桁",IF(COUNTIFS($A$8:$A$57,A17)>1,"品目IDが重複",IF(NOT(OR(B17="確認済",B17="未確認")),"在庫区分を確認",IF(AND(B17="確認済",NOT(IF(ISNUMBER(C17),AND(C17>=-1000000,C17<=1000000,C17=INT(C17)),FALSE()))),"確認済在庫は±100万個の整数で必須",IF(AND(B17="未確認",COUNTA(C17)>0),"未確認在庫は空欄",IF(NOT(OR(D17="確認済",D17="未確認")),"条件区分を確認",IF(AND(D17="確認済",NOT(AND(IF(ISNUMBER(E17),AND(E17>=0,E17<=1000000,E17=INT(E17)),FALSE()),IF(ISNUMBER(F17),AND(F17>=1,F17<=365,F17=INT(F17)),FALSE()),IF(ISNUMBER(G17),AND(G17>=0,G17<=1000000,G17=INT(G17)),FALSE())))),"確認済需要/日数/安全在庫を確認",IF(AND(D17="未確認",COUNTA(E17:G17)>0),"未確認条件の3値はすべて空欄",IF(NOT(OR(H17="確認済",H17="未確認")),"発注残区分を確認",IF(AND(H17="確認済",NOT(IF(ISNUMBER(I17),AND(I17>=0,I17<=1000000,I17=INT(I17)),FALSE()))),"確認済発注残は0〜100万個の整数で必須",IF(AND(H17="未確認",COUNTA(I17)>0),"未確認発注残は空欄",IF(NOT(IF(ISNUMBER(J17),AND(J17>=43831,J17<=73050,J17=INT(J17)),FALSE())),"確認日は時刻なしで必須",IF(OR(J17<発注点チェック!$B$3,J17>発注点チェック!$E$3),"在庫基準日≦確認日≦確認基準日","確認済み")))))))))))))) | O17: =IF(N17="","",IF(N17="確認済み",0,1)) | P17: =IF(COUNTA(A17:J17)=0,IF(AND(N17="",O17="",K17="",L17="",M17=""),0,1),IF(NOT(AND(ISTEXT(N17),N17=IF(COUNTA(A17:J17)=0,"",IF(NOT(AND(ISTEXT(A17),LEN(A17)=8,EXACT(LEFT(A17,4),"SKU-"),ISNUMBER(FIND(MID(A17,5,1)&"x","0x1x2x3x4x5x6x7x8x9x")),ISNUMBER(FIND(MID(A17,6,1)&"x","0x1x2x3x4x5x6x7x8x9x")),ISNUMBER(FIND(MID(A17,7,1)&"x","0x1x2x3x4x5x6x7x8x9x")),ISNUMBER(FIND(MID(A17,8,1)&"x","0x1x2x3x4x5x6x7x8x9x")))),"IDはSKU-と半角数字4桁",IF(COUNTIFS($A$8:$A$57,A17)>1,"品目IDが重複",IF(NOT(OR(B17="確認済",B17="未確認")),"在庫区分を確認",IF(AND(B17="確認済",NOT(IF(ISNUMBER(C17),AND(C17>=-1000000,C17<=1000000,C17=INT(C17)),FALSE()))),"確認済在庫は±100万個の整数で必須",IF(AND(B17="未確認",COUNTA(C17)>0),"未確認在庫は空欄",IF(NOT(OR(D17="確認済",D17="未確認")),"条件区分を確認",IF(AND(D17="確認済",NOT(AND(IF(ISNUMBER(E17),AND(E17>=0,E17<=1000000,E17=INT(E17)),FALSE()),IF(ISNUMBER(F17),AND(F17>=1,F17<=365,F17=INT(F17)),FALSE()),IF(ISNUMBER(G17),AND(G17>=0,G17<=1000000,G17=INT(G17)),FALSE())))),"確認済需要/日数/安全在庫を確認",IF(AND(D17="未確認",COUNTA(E17:G17)>0),"未確認条件の3値はすべて空欄",IF(NOT(OR(H17="確認済",H17="未確認")),"発注残区分を確認",IF(AND(H17="確認済",NOT(IF(ISNUMBER(I17),AND(I17>=0,I17<=1000000,I17=INT(I17)),FALSE()))),"確認済発注残は0〜100万個の整数で必須",IF(AND(H17="未確認",COUNTA(I17)>0),"未確認発注残は空欄",IF(NOT(IF(ISNUMBER(J17),AND(J17>=43831,J17<=73050,J17=INT(J17)),FALSE())),"確認日は時刻なしで必須",IF(OR(J17<発注点チェック!$B$3,J17>発注点チェック!$E$3),"在庫基準日≦確認日≦確認基準日","確認済み")))))))))))))),ISNUMBER(O17),O17=IF(N17="確認済み",0,1))),1,IF(O17<>0,0,IF(AND(IF(D17="未確認",ISTEXT(K17),ISNUMBER(K17)),K17=IF(D17="未確認","",E17*F17+G17),ISTEXT(L17),L17=IF(B17="未確認","在庫未確認",IF(C17<0,"帳簿負数",IF(D17="未確認","条件未確認",IF(C17<=K17,"発注点以下","発注点超")))),ISTEXT(M17),M17=IF(L17="在庫未確認","在庫を確認",IF(L17="帳簿負数","原記録を照合",IF(L17="条件未確認","計算条件を確認",IF(H17="未確認","発注残を確認",IF(I17>0,"納期・引当を照合",IF(L17="発注点以下","発注条件を照合","継続確認"))))))),0,1)))) -> 0
K18: =IF(N18="","",IF(O18<>0,NA(),IF(D18="未確認","",E18*F18+G18))) | L18: =IF(N18="","",IF(O18<>0,NA(),IF(B18="未確認","在庫未確認",IF(C18<0,"帳簿負数",IF(D18="未確認","条件未確認",IF(C18<=K18,"発注点以下","発注点超")))))) | M18: =IF(N18="","",IF(O18<>0,NA(),IF(L18="在庫未確認","在庫を確認",IF(L18="帳簿負数","原記録を照合",IF(L18="条件未確認","計算条件を確認",IF(H18="未確認","発注残を確認",IF(I18>0,"納期・引当を照合",IF(L18="発注点以下","発注条件を照合","継続確認")))))))) | N18: =IF(COUNTA(A18:J18)=0,"",IF(NOT(AND(ISTEXT(A18),LEN(A18)=8,EXACT(LEFT(A18,4),"SKU-"),ISNUMBER(FIND(MID(A18,5,1)&"x","0x1x2x3x4x5x6x7x8x9x")),ISNUMBER(FIND(MID(A18,6,1)&"x","0x1x2x3x4x5x6x7x8x9x")),ISNUMBER(FIND(MID(A18,7,1)&"x","0x1x2x3x4x5x6x7x8x9x")),ISNUMBER(FIND(MID(A18,8,1)&"x","0x1x2x3x4x5x6x7x8x9x")))),"IDはSKU-と半角数字4桁",IF(COUNTIFS($A$8:$A$57,A18)>1,"品目IDが重複",IF(NOT(OR(B18="確認済",B18="未確認")),"在庫区分を確認",IF(AND(B18="確認済",NOT(IF(ISNUMBER(C18),AND(C18>=-1000000,C18<=1000000,C18=INT(C18)),FALSE()))),"確認済在庫は±100万個の整数で必須",IF(AND(B18="未確認",COUNTA(C18)>0),"未確認在庫は空欄",IF(NOT(OR(D18="確認済",D18="未確認")),"条件区分を確認",IF(AND(D18="確認済",NOT(AND(IF(ISNUMBER(E18),AND(E18>=0,E18<=1000000,E18=INT(E18)),FALSE()),IF(ISNUMBER(F18),AND(F18>=1,F18<=365,F18=INT(F18)),FALSE()),IF(ISNUMBER(G18),AND(G18>=0,G18<=1000000,G18=INT(G18)),FALSE())))),"確認済需要/日数/安全在庫を確認",IF(AND(D18="未確認",COUNTA(E18:G18)>0),"未確認条件の3値はすべて空欄",IF(NOT(OR(H18="確認済",H18="未確認")),"発注残区分を確認",IF(AND(H18="確認済",NOT(IF(ISNUMBER(I18),AND(I18>=0,I18<=1000000,I18=INT(I18)),FALSE()))),"確認済発注残は0〜100万個の整数で必須",IF(AND(H18="未確認",COUNTA(I18)>0),"未確認発注残は空欄",IF(NOT(IF(ISNUMBER(J18),AND(J18>=43831,J18<=73050,J18=INT(J18)),FALSE())),"確認日は時刻なしで必須",IF(OR(J18<発注点チェック!$B$3,J18>発注点チェック!$E$3),"在庫基準日≦確認日≦確認基準日","確認済み")))))))))))))) | O18: =IF(N18="","",IF(N18="確認済み",0,1)) | P18: =IF(COUNTA(A18:J18)=0,IF(AND(N18="",O18="",K18="",L18="",M18=""),0,1),IF(NOT(AND(ISTEXT(N18),N18=IF(COUNTA(A18:J18)=0,"",IF(NOT(AND(ISTEXT(A18),LEN(A18)=8,EXACT(LEFT(A18,4),"SKU-"),ISNUMBER(FIND(MID(A18,5,1)&"x","0x1x2x3x4x5x6x7x8x9x")),ISNUMBER(FIND(MID(A18,6,1)&"x","0x1x2x3x4x5x6x7x8x9x")),ISNUMBER(FIND(MID(A18,7,1)&"x","0x1x2x3x4x5x6x7x8x9x")),ISNUMBER(FIND(MID(A18,8,1)&"x","0x1x2x3x4x5x6x7x8x9x")))),"IDはSKU-と半角数字4桁",IF(COUNTIFS($A$8:$A$57,A18)>1,"品目IDが重複",IF(NOT(OR(B18="確認済",B18="未確認")),"在庫区分を確認",IF(AND(B18="確認済",NOT(IF(ISNUMBER(C18),AND(C18>=-1000000,C18<=1000000,C18=INT(C18)),FALSE()))),"確認済在庫は±100万個の整数で必須",IF(AND(B18="未確認",COUNTA(C18)>0),"未確認在庫は空欄",IF(NOT(OR(D18="確認済",D18="未確認")),"条件区分を確認",IF(AND(D18="確認済",NOT(AND(IF(ISNUMBER(E18),AND(E18>=0,E18<=1000000,E18=INT(E18)),FALSE()),IF(ISNUMBER(F18),AND(F18>=1,F18<=365,F18=INT(F18)),FALSE()),IF(ISNUMBER(G18),AND(G18>=0,G18<=1000000,G18=INT(G18)),FALSE())))),"確認済需要/日数/安全在庫を確認",IF(AND(D18="未確認",COUNTA(E18:G18)>0),"未確認条件の3値はすべて空欄",IF(NOT(OR(H18="確認済",H18="未確認")),"発注残区分を確認",IF(AND(H18="確認済",NOT(IF(ISNUMBER(I18),AND(I18>=0,I18<=1000000,I18=INT(I18)),FALSE()))),"確認済発注残は0〜100万個の整数で必須",IF(AND(H18="未確認",COUNTA(I18)>0),"未確認発注残は空欄",IF(NOT(IF(ISNUMBER(J18),AND(J18>=43831,J18<=73050,J18=INT(J18)),FALSE())),"確認日は時刻なしで必須",IF(OR(J18<発注点チェック!$B$3,J18>発注点チェック!$E$3),"在庫基準日≦確認日≦確認基準日","確認済み")))))))))))))),ISNUMBER(O18),O18=IF(N18="確認済み",0,1))),1,IF(O18<>0,0,IF(AND(IF(D18="未確認",ISTEXT(K18),ISNUMBER(K18)),K18=IF(D18="未確認","",E18*F18+G18),ISTEXT(L18),L18=IF(B18="未確認","在庫未確認",IF(C18<0,"帳簿負数",IF(D18="未確認","条件未確認",IF(C18<=K18,"発注点以下","発注点超")))),ISTEXT(M18),M18=IF(L18="在庫未確認","在庫を確認",IF(L18="帳簿負数","原記録を照合",IF(L18="条件未確認","計算条件を確認",IF(H18="未確認","発注残を確認",IF(I18>0,"納期・引当を照合",IF(L18="発注点以下","発注条件を照合","継続確認"))))))),0,1)))) -> 0
K19: =IF(N19="","",IF(O19<>0,NA(),IF(D19="未確認","",E19*F19+G19))) | L19: =IF(N19="","",IF(O19<>0,NA(),IF(B19="未確認","在庫未確認",IF(C19<0,"帳簿負数",IF(D19="未確認","条件未確認",IF(C19<=K19,"発注点以下","発注点超")))))) | M19: =IF(N19="","",IF(O19<>0,NA(),IF(L19="在庫未確認","在庫を確認",IF(L19="帳簿負数","原記録を照合",IF(L19="条件未確認","計算条件を確認",IF(H19="未確認","発注残を確認",IF(I19>0,"納期・引当を照合",IF(L19="発注点以下","発注条件を照合","継続確認")))))))) | N19: =IF(COUNTA(A19:J19)=0,"",IF(NOT(AND(ISTEXT(A19),LEN(A19)=8,EXACT(LEFT(A19,4),"SKU-"),ISNUMBER(FIND(MID(A19,5,1)&"x","0x1x2x3x4x5x6x7x8x9x")),ISNUMBER(FIND(MID(A19,6,1)&"x","0x1x2x3x4x5x6x7x8x9x")),ISNUMBER(FIND(MID(A19,7,1)&"x","0x1x2x3x4x5x6x7x8x9x")),ISNUMBER(FIND(MID(A19,8,1)&"x","0x1x2x3x4x5x6x7x8x9x")))),"IDはSKU-と半角数字4桁",IF(COUNTIFS($A$8:$A$57,A19)>1,"品目IDが重複",IF(NOT(OR(B19="確認済",B19="未確認")),"在庫区分を確認",IF(AND(B19="確認済",NOT(IF(ISNUMBER(C19),AND(C19>=-1000000,C19<=1000000,C19=INT(C19)),FALSE()))),"確認済在庫は±100万個の整数で必須",IF(AND(B19="未確認",COUNTA(C19)>0),"未確認在庫は空欄",IF(NOT(OR(D19="確認済",D19="未確認")),"条件区分を確認",IF(AND(D19="確認済",NOT(AND(IF(ISNUMBER(E19),AND(E19>=0,E19<=1000000,E19=INT(E19)),FALSE()),IF(ISNUMBER(F19),AND(F19>=1,F19<=365,F19=INT(F19)),FALSE()),IF(ISNUMBER(G19),AND(G19>=0,G19<=1000000,G19=INT(G19)),FALSE())))),"確認済需要/日数/安全在庫を確認",IF(AND(D19="未確認",COUNTA(E19:G19)>0),"未確認条件の3値はすべて空欄",IF(NOT(OR(H19="確認済",H19="未確認")),"発注残区分を確認",IF(AND(H19="確認済",NOT(IF(ISNUMBER(I19),AND(I19>=0,I19<=1000000,I19=INT(I19)),FALSE()))),"確認済発注残は0〜100万個の整数で必須",IF(AND(H19="未確認",COUNTA(I19)>0),"未確認発注残は空欄",IF(NOT(IF(ISNUMBER(J19),AND(J19>=43831,J19<=73050,J19=INT(J19)),FALSE())),"確認日は時刻なしで必須",IF(OR(J19<発注点チェック!$B$3,J19>発注点チェック!$E$3),"在庫基準日≦確認日≦確認基準日","確認済み")))))))))))))) | O19: =IF(N19="","",IF(N19="確認済み",0,1)) | P19: =IF(COUNTA(A19:J19)=0,IF(AND(N19="",O19="",K19="",L19="",M19=""),0,1),IF(NOT(AND(ISTEXT(N19),N19=IF(COUNTA(A19:J19)=0,"",IF(NOT(AND(ISTEXT(A19),LEN(A19)=8,EXACT(LEFT(A19,4),"SKU-"),ISNUMBER(FIND(MID(A19,5,1)&"x","0x1x2x3x4x5x6x7x8x9x")),ISNUMBER(FIND(MID(A19,6,1)&"x","0x1x2x3x4x5x6x7x8x9x")),ISNUMBER(FIND(MID(A19,7,1)&"x","0x1x2x3x4x5x6x7x8x9x")),ISNUMBER(FIND(MID(A19,8,1)&"x","0x1x2x3x4x5x6x7x8x9x")))),"IDはSKU-と半角数字4桁",IF(COUNTIFS($A$8:$A$57,A19)>1,"品目IDが重複",IF(NOT(OR(B19="確認済",B19="未確認")),"在庫区分を確認",IF(AND(B19="確認済",NOT(IF(ISNUMBER(C19),AND(C19>=-1000000,C19<=1000000,C19=INT(C19)),FALSE()))),"確認済在庫は±100万個の整数で必須",IF(AND(B19="未確認",COUNTA(C19)>0),"未確認在庫は空欄",IF(NOT(OR(D19="確認済",D19="未確認")),"条件区分を確認",IF(AND(D19="確認済",NOT(AND(IF(ISNUMBER(E19),AND(E19>=0,E19<=1000000,E19=INT(E19)),FALSE()),IF(ISNUMBER(F19),AND(F19>=1,F19<=365,F19=INT(F19)),FALSE()),IF(ISNUMBER(G19),AND(G19>=0,G19<=1000000,G19=INT(G19)),FALSE())))),"確認済需要/日数/安全在庫を確認",IF(AND(D19="未確認",COUNTA(E19:G19)>0),"未確認条件の3値はすべて空欄",IF(NOT(OR(H19="確認済",H19="未確認")),"発注残区分を確認",IF(AND(H19="確認済",NOT(IF(ISNUMBER(I19),AND(I19>=0,I19<=1000000,I19=INT(I19)),FALSE()))),"確認済発注残は0〜100万個の整数で必須",IF(AND(H19="未確認",COUNTA(I19)>0),"未確認発注残は空欄",IF(NOT(IF(ISNUMBER(J19),AND(J19>=43831,J19<=73050,J19=INT(J19)),FALSE())),"確認日は時刻なしで必須",IF(OR(J19<発注点チェック!$B$3,J19>発注点チェック!$E$3),"在庫基準日≦確認日≦確認基準日","確認済み")))))))))))))),ISNUMBER(O19),O19=IF(N19="確認済み",0,1))),1,IF(O19<>0,0,IF(AND(IF(D19="未確認",ISTEXT(K19),ISNUMBER(K19)),K19=IF(D19="未確認","",E19*F19+G19),ISTEXT(L19),L19=IF(B19="未確認","在庫未確認",IF(C19<0,"帳簿負数",IF(D19="未確認","条件未確認",IF(C19<=K19,"発注点以下","発注点超")))),ISTEXT(M19),M19=IF(L19="在庫未確認","在庫を確認",IF(L19="帳簿負数","原記録を照合",IF(L19="条件未確認","計算条件を確認",IF(H19="未確認","発注残を確認",IF(I19>0,"納期・引当を照合",IF(L19="発注点以下","発注条件を照合","継続確認"))))))),0,1)))) -> 0
K20: =IF(N20="","",IF(O20<>0,NA(),IF(D20="未確認","",E20*F20+G20))) | L20: =IF(N20="","",IF(O20<>0,NA(),IF(B20="未確認","在庫未確認",IF(C20<0,"帳簿負数",IF(D20="未確認","条件未確認",IF(C20<=K20,"発注点以下","発注点超")))))) | M20: =IF(N20="","",IF(O20<>0,NA(),IF(L20="在庫未確認","在庫を確認",IF(L20="帳簿負数","原記録を照合",IF(L20="条件未確認","計算条件を確認",IF(H20="未確認","発注残を確認",IF(I20>0,"納期・引当を照合",IF(L20="発注点以下","発注条件を照合","継続確認")))))))) | N20: =IF(COUNTA(A20:J20)=0,"",IF(NOT(AND(ISTEXT(A20),LEN(A20)=8,EXACT(LEFT(A20,4),"SKU-"),ISNUMBER(FIND(MID(A20,5,1)&"x","0x1x2x3x4x5x6x7x8x9x")),ISNUMBER(FIND(MID(A20,6,1)&"x","0x1x2x3x4x5x6x7x8x9x")),ISNUMBER(FIND(MID(A20,7,1)&"x","0x1x2x3x4x5x6x7x8x9x")),ISNUMBER(FIND(MID(A20,8,1)&"x","0x1x2x3x4x5x6x7x8x9x")))),"IDはSKU-と半角数字4桁",IF(COUNTIFS($A$8:$A$57,A20)>1,"品目IDが重複",IF(NOT(OR(B20="確認済",B20="未確認")),"在庫区分を確認",IF(AND(B20="確認済",NOT(IF(ISNUMBER(C20),AND(C20>=-1000000,C20<=1000000,C20=INT(C20)),FALSE()))),"確認済在庫は±100万個の整数で必須",IF(AND(B20="未確認",COUNTA(C20)>0),"未確認在庫は空欄",IF(NOT(OR(D20="確認済",D20="未確認")),"条件区分を確認",IF(AND(D20="確認済",NOT(AND(IF(ISNUMBER(E20),AND(E20>=0,E20<=1000000,E20=INT(E20)),FALSE()),IF(ISNUMBER(F20),AND(F20>=1,F20<=365,F20=INT(F20)),FALSE()),IF(ISNUMBER(G20),AND(G20>=0,G20<=1000000,G20=INT(G20)),FALSE())))),"確認済需要/日数/安全在庫を確認",IF(AND(D20="未確認",COUNTA(E20:G20)>0),"未確認条件の3値はすべて空欄",IF(NOT(OR(H20="確認済",H20="未確認")),"発注残区分を確認",IF(AND(H20="確認済",NOT(IF(ISNUMBER(I20),AND(I20>=0,I20<=1000000,I20=INT(I20)),FALSE()))),"確認済発注残は0〜100万個の整数で必須",IF(AND(H20="未確認",COUNTA(I20)>0),"未確認発注残は空欄",IF(NOT(IF(ISNUMBER(J20),AND(J20>=43831,J20<=73050,J20=INT(J20)),FALSE())),"確認日は時刻なしで必須",IF(OR(J20<発注点チェック!$B$3,J20>発注点チェック!$E$3),"在庫基準日≦確認日≦確認基準日","確認済み")))))))))))))) | O20: =IF(N20="","",IF(N20="確認済み",0,1)) | P20: =IF(COUNTA(A20:J20)=0,IF(AND(N20="",O20="",K20="",L20="",M20=""),0,1),IF(NOT(AND(ISTEXT(N20),N20=IF(COUNTA(A20:J20)=0,"",IF(NOT(AND(ISTEXT(A20),LEN(A20)=8,EXACT(LEFT(A20,4),"SKU-"),ISNUMBER(FIND(MID(A20,5,1)&"x","0x1x2x3x4x5x6x7x8x9x")),ISNUMBER(FIND(MID(A20,6,1)&"x","0x1x2x3x4x5x6x7x8x9x")),ISNUMBER(FIND(MID(A20,7,1)&"x","0x1x2x3x4x5x6x7x8x9x")),ISNUMBER(FIND(MID(A20,8,1)&"x","0x1x2x3x4x5x6x7x8x9x")))),"IDはSKU-と半角数字4桁",IF(COUNTIFS($A$8:$A$57,A20)>1,"品目IDが重複",IF(NOT(OR(B20="確認済",B20="未確認")),"在庫区分を確認",IF(AND(B20="確認済",NOT(IF(ISNUMBER(C20),AND(C20>=-1000000,C20<=1000000,C20=INT(C20)),FALSE()))),"確認済在庫は±100万個の整数で必須",IF(AND(B20="未確認",COUNTA(C20)>0),"未確認在庫は空欄",IF(NOT(OR(D20="確認済",D20="未確認")),"条件区分を確認",IF(AND(D20="確認済",NOT(AND(IF(ISNUMBER(E20),AND(E20>=0,E20<=1000000,E20=INT(E20)),FALSE()),IF(ISNUMBER(F20),AND(F20>=1,F20<=365,F20=INT(F20)),FALSE()),IF(ISNUMBER(G20),AND(G20>=0,G20<=1000000,G20=INT(G20)),FALSE())))),"確認済需要/日数/安全在庫を確認",IF(AND(D20="未確認",COUNTA(E20:G20)>0),"未確認条件の3値はすべて空欄",IF(NOT(OR(H20="確認済",H20="未確認")),"発注残区分を確認",IF(AND(H20="確認済",NOT(IF(ISNUMBER(I20),AND(I20>=0,I20<=1000000,I20=INT(I20)),FALSE()))),"確認済発注残は0〜100万個の整数で必須",IF(AND(H20="未確認",COUNTA(I20)>0),"未確認発注残は空欄",IF(NOT(IF(ISNUMBER(J20),AND(J20>=43831,J20<=73050,J20=INT(J20)),FALSE())),"確認日は時刻なしで必須",IF(OR(J20<発注点チェック!$B$3,J20>発注点チェック!$E$3),"在庫基準日≦確認日≦確認基準日","確認済み")))))))))))))),ISNUMBER(O20),O20=IF(N20="確認済み",0,1))),1,IF(O20<>0,0,IF(AND(IF(D20="未確認",ISTEXT(K20),ISNUMBER(K20)),K20=IF(D20="未確認","",E20*F20+G20),ISTEXT(L20),L20=IF(B20="未確認","在庫未確認",IF(C20<0,"帳簿負数",IF(D20="未確認","条件未確認",IF(C20<=K20,"発注点以下","発注点超")))),ISTEXT(M20),M20=IF(L20="在庫未確認","在庫を確認",IF(L20="帳簿負数","原記録を照合",IF(L20="条件未確認","計算条件を確認",IF(H20="未確認","発注残を確認",IF(I20>0,"納期・引当を照合",IF(L20="発注点以下","発注条件を照合","継続確認"))))))),0,1)))) -> 0
K21: =IF(N21="","",IF(O21<>0,NA(),IF(D21="未確認","",E21*F21+G21))) | L21: =IF(N21="","",IF(O21<>0,NA(),IF(B21="未確認","在庫未確認",IF(C21<0,"帳簿負数",IF(D21="未確認","条件未確認",IF(C21<=K21,"発注点以下","発注点超")))))) | M21: =IF(N21="","",IF(O21<>0,NA(),IF(L21="在庫未確認","在庫を確認",IF(L21="帳簿負数","原記録を照合",IF(L21="条件未確認","計算条件を確認",IF(H21="未確認","発注残を確認",IF(I21>0,"納期・引当を照合",IF(L21="発注点以下","発注条件を照合","継続確認")))))))) | N21: =IF(COUNTA(A21:J21)=0,"",IF(NOT(AND(ISTEXT(A21),LEN(A21)=8,EXACT(LEFT(A21,4),"SKU-"),ISNUMBER(FIND(MID(A21,5,1)&"x","0x1x2x3x4x5x6x7x8x9x")),ISNUMBER(FIND(MID(A21,6,1)&"x","0x1x2x3x4x5x6x7x8x9x")),ISNUMBER(FIND(MID(A21,7,1)&"x","0x1x2x3x4x5x6x7x8x9x")),ISNUMBER(FIND(MID(A21,8,1)&"x","0x1x2x3x4x5x6x7x8x9x")))),"IDはSKU-と半角数字4桁",IF(COUNTIFS($A$8:$A$57,A21)>1,"品目IDが重複",IF(NOT(OR(B21="確認済",B21="未確認")),"在庫区分を確認",IF(AND(B21="確認済",NOT(IF(ISNUMBER(C21),AND(C21>=-1000000,C21<=1000000,C21=INT(C21)),FALSE()))),"確認済在庫は±100万個の整数で必須",IF(AND(B21="未確認",COUNTA(C21)>0),"未確認在庫は空欄",IF(NOT(OR(D21="確認済",D21="未確認")),"条件区分を確認",IF(AND(D21="確認済",NOT(AND(IF(ISNUMBER(E21),AND(E21>=0,E21<=1000000,E21=INT(E21)),FALSE()),IF(ISNUMBER(F21),AND(F21>=1,F21<=365,F21=INT(F21)),FALSE()),IF(ISNUMBER(G21),AND(G21>=0,G21<=1000000,G21=INT(G21)),FALSE())))),"確認済需要/日数/安全在庫を確認",IF(AND(D21="未確認",COUNTA(E21:G21)>0),"未確認条件の3値はすべて空欄",IF(NOT(OR(H21="確認済",H21="未確認")),"発注残区分を確認",IF(AND(H21="確認済",NOT(IF(ISNUMBER(I21),AND(I21>=0,I21<=1000000,I21=INT(I21)),FALSE()))),"確認済発注残は0〜100万個の整数で必須",IF(AND(H21="未確認",COUNTA(I21)>0),"未確認発注残は空欄",IF(NOT(IF(ISNUMBER(J21),AND(J21>=43831,J21<=73050,J21=INT(J21)),FALSE())),"確認日は時刻なしで必須",IF(OR(J21<発注点チェック!$B$3,J21>発注点チェック!$E$3),"在庫基準日≦確認日≦確認基準日","確認済み")))))))))))))) | O21: =IF(N21="","",IF(N21="確認済み",0,1)) | P21: =IF(COUNTA(A21:J21)=0,IF(AND(N21="",O21="",K21="",L21="",M21=""),0,1),IF(NOT(AND(ISTEXT(N21),N21=IF(COUNTA(A21:J21)=0,"",IF(NOT(AND(ISTEXT(A21),LEN(A21)=8,EXACT(LEFT(A21,4),"SKU-"),ISNUMBER(FIND(MID(A21,5,1)&"x","0x1x2x3x4x5x6x7x8x9x")),ISNUMBER(FIND(MID(A21,6,1)&"x","0x1x2x3x4x5x6x7x8x9x")),ISNUMBER(FIND(MID(A21,7,1)&"x","0x1x2x3x4x5x6x7x8x9x")),ISNUMBER(FIND(MID(A21,8,1)&"x","0x1x2x3x4x5x6x7x8x9x")))),"IDはSKU-と半角数字4桁",IF(COUNTIFS($A$8:$A$57,A21)>1,"品目IDが重複",IF(NOT(OR(B21="確認済",B21="未確認")),"在庫区分を確認",IF(AND(B21="確認済",NOT(IF(ISNUMBER(C21),AND(C21>=-1000000,C21<=1000000,C21=INT(C21)),FALSE()))),"確認済在庫は±100万個の整数で必須",IF(AND(B21="未確認",COUNTA(C21)>0),"未確認在庫は空欄",IF(NOT(OR(D21="確認済",D21="未確認")),"条件区分を確認",IF(AND(D21="確認済",NOT(AND(IF(ISNUMBER(E21),AND(E21>=0,E21<=1000000,E21=INT(E21)),FALSE()),IF(ISNUMBER(F21),AND(F21>=1,F21<=365,F21=INT(F21)),FALSE()),IF(ISNUMBER(G21),AND(G21>=0,G21<=1000000,G21=INT(G21)),FALSE())))),"確認済需要/日数/安全在庫を確認",IF(AND(D21="未確認",COUNTA(E21:G21)>0),"未確認条件の3値はすべて空欄",IF(NOT(OR(H21="確認済",H21="未確認")),"発注残区分を確認",IF(AND(H21="確認済",NOT(IF(ISNUMBER(I21),AND(I21>=0,I21<=1000000,I21=INT(I21)),FALSE()))),"確認済発注残は0〜100万個の整数で必須",IF(AND(H21="未確認",COUNTA(I21)>0),"未確認発注残は空欄",IF(NOT(IF(ISNUMBER(J21),AND(J21>=43831,J21<=73050,J21=INT(J21)),FALSE())),"確認日は時刻なしで必須",IF(OR(J21<発注点チェック!$B$3,J21>発注点チェック!$E$3),"在庫基準日≦確認日≦確認基準日","確認済み")))))))))))))),ISNUMBER(O21),O21=IF(N21="確認済み",0,1))),1,IF(O21<>0,0,IF(AND(IF(D21="未確認",ISTEXT(K21),ISNUMBER(K21)),K21=IF(D21="未確認","",E21*F21+G21),ISTEXT(L21),L21=IF(B21="未確認","在庫未確認",IF(C21<0,"帳簿負数",IF(D21="未確認","条件未確認",IF(C21<=K21,"発注点以下","発注点超")))),ISTEXT(M21),M21=IF(L21="在庫未確認","在庫を確認",IF(L21="帳簿負数","原記録を照合",IF(L21="条件未確認","計算条件を確認",IF(H21="未確認","発注残を確認",IF(I21>0,"納期・引当を照合",IF(L21="発注点以下","発注条件を照合","継続確認"))))))),0,1)))) -> 0
K22: =IF(N22="","",IF(O22<>0,NA(),IF(D22="未確認","",E22*F22+G22))) | L22: =IF(N22="","",IF(O22<>0,NA(),IF(B22="未確認","在庫未確認",IF(C22<0,"帳簿負数",IF(D22="未確認","条件未確認",IF(C22<=K22,"発注点以下","発注点超")))))) | M22: =IF(N22="","",IF(O22<>0,NA(),IF(L22="在庫未確認","在庫を確認",IF(L22="帳簿負数","原記録を照合",IF(L22="条件未確認","計算条件を確認",IF(H22="未確認","発注残を確認",IF(I22>0,"納期・引当を照合",IF(L22="発注点以下","発注条件を照合","継続確認")))))))) | N22: =IF(COUNTA(A22:J22)=0,"",IF(NOT(AND(ISTEXT(A22),LEN(A22)=8,EXACT(LEFT(A22,4),"SKU-"),ISNUMBER(FIND(MID(A22,5,1)&"x","0x1x2x3x4x5x6x7x8x9x")),ISNUMBER(FIND(MID(A22,6,1)&"x","0x1x2x3x4x5x6x7x8x9x")),ISNUMBER(FIND(MID(A22,7,1)&"x","0x1x2x3x4x5x6x7x8x9x")),ISNUMBER(FIND(MID(A22,8,1)&"x","0x1x2x3x4x5x6x7x8x9x")))),"IDはSKU-と半角数字4桁",IF(COUNTIFS($A$8:$A$57,A22)>1,"品目IDが重複",IF(NOT(OR(B22="確認済",B22="未確認")),"在庫区分を確認",IF(AND(B22="確認済",NOT(IF(ISNUMBER(C22),AND(C22>=-1000000,C22<=1000000,C22=INT(C22)),FALSE()))),"確認済在庫は±100万個の整数で必須",IF(AND(B22="未確認",COUNTA(C22)>0),"未確認在庫は空欄",IF(NOT(OR(D22="確認済",D22="未確認")),"条件区分を確認",IF(AND(D22="確認済",NOT(AND(IF(ISNUMBER(E22),AND(E22>=0,E22<=1000000,E22=INT(E22)),FALSE()),IF(ISNUMBER(F22),AND(F22>=1,F22<=365,F22=INT(F22)),FALSE()),IF(ISNUMBER(G22),AND(G22>=0,G22<=1000000,G22=INT(G22)),FALSE())))),"確認済需要/日数/安全在庫を確認",IF(AND(D22="未確認",COUNTA(E22:G22)>0),"未確認条件の3値はすべて空欄",IF(NOT(OR(H22="確認済",H22="未確認")),"発注残区分を確認",IF(AND(H22="確認済",NOT(IF(ISNUMBER(I22),AND(I22>=0,I22<=1000000,I22=INT(I22)),FALSE()))),"確認済発注残は0〜100万個の整数で必須",IF(AND(H22="未確認",COUNTA(I22)>0),"未確認発注残は空欄",IF(NOT(IF(ISNUMBER(J22),AND(J22>=43831,J22<=73050,J22=INT(J22)),FALSE())),"確認日は時刻なしで必須",IF(OR(J22<発注点チェック!$B$3,J22>発注点チェック!$E$3),"在庫基準日≦確認日≦確認基準日","確認済み")))))))))))))) | O22: =IF(N22="","",IF(N22="確認済み",0,1)) | P22: =IF(COUNTA(A22:J22)=0,IF(AND(N22="",O22="",K22="",L22="",M22=""),0,1),IF(NOT(AND(ISTEXT(N22),N22=IF(COUNTA(A22:J22)=0,"",IF(NOT(AND(ISTEXT(A22),LEN(A22)=8,EXACT(LEFT(A22,4),"SKU-"),ISNUMBER(FIND(MID(A22,5,1)&"x","0x1x2x3x4x5x6x7x8x9x")),ISNUMBER(FIND(MID(A22,6,1)&"x","0x1x2x3x4x5x6x7x8x9x")),ISNUMBER(FIND(MID(A22,7,1)&"x","0x1x2x3x4x5x6x7x8x9x")),ISNUMBER(FIND(MID(A22,8,1)&"x","0x1x2x3x4x5x6x7x8x9x")))),"IDはSKU-と半角数字4桁",IF(COUNTIFS($A$8:$A$57,A22)>1,"品目IDが重複",IF(NOT(OR(B22="確認済",B22="未確認")),"在庫区分を確認",IF(AND(B22="確認済",NOT(IF(ISNUMBER(C22),AND(C22>=-1000000,C22<=1000000,C22=INT(C22)),FALSE()))),"確認済在庫は±100万個の整数で必須",IF(AND(B22="未確認",COUNTA(C22)>0),"未確認在庫は空欄",IF(NOT(OR(D22="確認済",D22="未確認")),"条件区分を確認",IF(AND(D22="確認済",NOT(AND(IF(ISNUMBER(E22),AND(E22>=0,E22<=1000000,E22=INT(E22)),FALSE()),IF(ISNUMBER(F22),AND(F22>=1,F22<=365,F22=INT(F22)),FALSE()),IF(ISNUMBER(G22),AND(G22>=0,G22<=1000000,G22=INT(G22)),FALSE())))),"確認済需要/日数/安全在庫を確認",IF(AND(D22="未確認",COUNTA(E22:G22)>0),"未確認条件の3値はすべて空欄",IF(NOT(OR(H22="確認済",H22="未確認")),"発注残区分を確認",IF(AND(H22="確認済",NOT(IF(ISNUMBER(I22),AND(I22>=0,I22<=1000000,I22=INT(I22)),FALSE()))),"確認済発注残は0〜100万個の整数で必須",IF(AND(H22="未確認",COUNTA(I22)>0),"未確認発注残は空欄",IF(NOT(IF(ISNUMBER(J22),AND(J22>=43831,J22<=73050,J22=INT(J22)),FALSE())),"確認日は時刻なしで必須",IF(OR(J22<発注点チェック!$B$3,J22>発注点チェック!$E$3),"在庫基準日≦確認日≦確認基準日","確認済み")))))))))))))),ISNUMBER(O22),O22=IF(N22="確認済み",0,1))),1,IF(O22<>0,0,IF(AND(IF(D22="未確認",ISTEXT(K22),ISNUMBER(K22)),K22=IF(D22="未確認","",E22*F22+G22),ISTEXT(L22),L22=IF(B22="未確認","在庫未確認",IF(C22<0,"帳簿負数",IF(D22="未確認","条件未確認",IF(C22<=K22,"発注点以下","発注点超")))),ISTEXT(M22),M22=IF(L22="在庫未確認","在庫を確認",IF(L22="帳簿負数","原記録を照合",IF(L22="条件未確認","計算条件を確認",IF(H22="未確認","発注残を確認",IF(I22>0,"納期・引当を照合",IF(L22="発注点以下","発注条件を照合","継続確認"))))))),0,1)))) -> 0
K23: =IF(N23="","",IF(O23<>0,NA(),IF(D23="未確認","",E23*F23+G23))) | L23: =IF(N23="","",IF(O23<>0,NA(),IF(B23="未確認","在庫未確認",IF(C23<0,"帳簿負数",IF(D23="未確認","条件未確認",IF(C23<=K23,"発注点以下","発注点超")))))) | M23: =IF(N23="","",IF(O23<>0,NA(),IF(L23="在庫未確認","在庫を確認",IF(L23="帳簿負数","原記録を照合",IF(L23="条件未確認","計算条件を確認",IF(H23="未確認","発注残を確認",IF(I23>0,"納期・引当を照合",IF(L23="発注点以下","発注条件を照合","継続確認")))))))) | N23: =IF(COUNTA(A23:J23)=0,"",IF(NOT(AND(ISTEXT(A23),LEN(A23)=8,EXACT(LEFT(A23,4),"SKU-"),ISNUMBER(FIND(MID(A23,5,1)&"x","0x1x2x3x4x5x6x7x8x9x")),ISNUMBER(FIND(MID(A23,6,1)&"x","0x1x2x3x4x5x6x7x8x9x")),ISNUMBER(FIND(MID(A23,7,1)&"x","0x1x2x3x4x5x6x7x8x9x")),ISNUMBER(FIND(MID(A23,8,1)&"x","0x1x2x3x4x5x6x7x8x9x")))),"IDはSKU-と半角数字4桁",IF(COUNTIFS($A$8:$A$57,A23)>1,"品目IDが重複",IF(NOT(OR(B23="確認済",B23="未確認")),"在庫区分を確認",IF(AND(B23="確認済",NOT(IF(ISNUMBER(C23),AND(C23>=-1000000,C23<=1000000,C23=INT(C23)),FALSE()))),"確認済在庫は±100万個の整数で必須",IF(AND(B23="未確認",COUNTA(C23)>0),"未確認在庫は空欄",IF(NOT(OR(D23="確認済",D23="未確認")),"条件区分を確認",IF(AND(D23="確認済",NOT(AND(IF(ISNUMBER(E23),AND(E23>=0,E23<=1000000,E23=INT(E23)),FALSE()),IF(ISNUMBER(F23),AND(F23>=1,F23<=365,F23=INT(F23)),FALSE()),IF(ISNUMBER(G23),AND(G23>=0,G23<=1000000,G23=INT(G23)),FALSE())))),"確認済需要/日数/安全在庫を確認",IF(AND(D23="未確認",COUNTA(E23:G23)>0),"未確認条件の3値はすべて空欄",IF(NOT(OR(H23="確認済",H23="未確認")),"発注残区分を確認",IF(AND(H23="確認済",NOT(IF(ISNUMBER(I23),AND(I23>=0,I23<=1000000,I23=INT(I23)),FALSE()))),"確認済発注残は0〜100万個の整数で必須",IF(AND(H23="未確認",COUNTA(I23)>0),"未確認発注残は空欄",IF(NOT(IF(ISNUMBER(J23),AND(J23>=43831,J23<=73050,J23=INT(J23)),FALSE())),"確認日は時刻なしで必須",IF(OR(J23<発注点チェック!$B$3,J23>発注点チェック!$E$3),"在庫基準日≦確認日≦確認基準日","確認済み")))))))))))))) | O23: =IF(N23="","",IF(N23="確認済み",0,1)) | P23: =IF(COUNTA(A23:J23)=0,IF(AND(N23="",O23="",K23="",L23="",M23=""),0,1),IF(NOT(AND(ISTEXT(N23),N23=IF(COUNTA(A23:J23)=0,"",IF(NOT(AND(ISTEXT(A23),LEN(A23)=8,EXACT(LEFT(A23,4),"SKU-"),ISNUMBER(FIND(MID(A23,5,1)&"x","0x1x2x3x4x5x6x7x8x9x")),ISNUMBER(FIND(MID(A23,6,1)&"x","0x1x2x3x4x5x6x7x8x9x")),ISNUMBER(FIND(MID(A23,7,1)&"x","0x1x2x3x4x5x6x7x8x9x")),ISNUMBER(FIND(MID(A23,8,1)&"x","0x1x2x3x4x5x6x7x8x9x")))),"IDはSKU-と半角数字4桁",IF(COUNTIFS($A$8:$A$57,A23)>1,"品目IDが重複",IF(NOT(OR(B23="確認済",B23="未確認")),"在庫区分を確認",IF(AND(B23="確認済",NOT(IF(ISNUMBER(C23),AND(C23>=-1000000,C23<=1000000,C23=INT(C23)),FALSE()))),"確認済在庫は±100万個の整数で必須",IF(AND(B23="未確認",COUNTA(C23)>0),"未確認在庫は空欄",IF(NOT(OR(D23="確認済",D23="未確認")),"条件区分を確認",IF(AND(D23="確認済",NOT(AND(IF(ISNUMBER(E23),AND(E23>=0,E23<=1000000,E23=INT(E23)),FALSE()),IF(ISNUMBER(F23),AND(F23>=1,F23<=365,F23=INT(F23)),FALSE()),IF(ISNUMBER(G23),AND(G23>=0,G23<=1000000,G23=INT(G23)),FALSE())))),"確認済需要/日数/安全在庫を確認",IF(AND(D23="未確認",COUNTA(E23:G23)>0),"未確認条件の3値はすべて空欄",IF(NOT(OR(H23="確認済",H23="未確認")),"発注残区分を確認",IF(AND(H23="確認済",NOT(IF(ISNUMBER(I23),AND(I23>=0,I23<=1000000,I23=INT(I23)),FALSE()))),"確認済発注残は0〜100万個の整数で必須",IF(AND(H23="未確認",COUNTA(I23)>0),"未確認発注残は空欄",IF(NOT(IF(ISNUMBER(J23),AND(J23>=43831,J23<=73050,J23=INT(J23)),FALSE())),"確認日は時刻なしで必須",IF(OR(J23<発注点チェック!$B$3,J23>発注点チェック!$E$3),"在庫基準日≦確認日≦確認基準日","確認済み")))))))))))))),ISNUMBER(O23),O23=IF(N23="確認済み",0,1))),1,IF(O23<>0,0,IF(AND(IF(D23="未確認",ISTEXT(K23),ISNUMBER(K23)),K23=IF(D23="未確認","",E23*F23+G23),ISTEXT(L23),L23=IF(B23="未確認","在庫未確認",IF(C23<0,"帳簿負数",IF(D23="未確認","条件未確認",IF(C23<=K23,"発注点以下","発注点超")))),ISTEXT(M23),M23=IF(L23="在庫未確認","在庫を確認",IF(L23="帳簿負数","原記録を照合",IF(L23="条件未確認","計算条件を確認",IF(H23="未確認","発注残を確認",IF(I23>0,"納期・引当を照合",IF(L23="発注点以下","発注条件を照合","継続確認"))))))),0,1)))) -> 0
K24: =IF(N24="","",IF(O24<>0,NA(),IF(D24="未確認","",E24*F24+G24))) | L24: =IF(N24="","",IF(O24<>0,NA(),IF(B24="未確認","在庫未確認",IF(C24<0,"帳簿負数",IF(D24="未確認","条件未確認",IF(C24<=K24,"発注点以下","発注点超")))))) | M24: =IF(N24="","",IF(O24<>0,NA(),IF(L24="在庫未確認","在庫を確認",IF(L24="帳簿負数","原記録を照合",IF(L24="条件未確認","計算条件を確認",IF(H24="未確認","発注残を確認",IF(I24>0,"納期・引当を照合",IF(L24="発注点以下","発注条件を照合","継続確認")))))))) | N24: =IF(COUNTA(A24:J24)=0,"",IF(NOT(AND(ISTEXT(A24),LEN(A24)=8,EXACT(LEFT(A24,4),"SKU-"),ISNUMBER(FIND(MID(A24,5,1)&"x","0x1x2x3x4x5x6x7x8x9x")),ISNUMBER(FIND(MID(A24,6,1)&"x","0x1x2x3x4x5x6x7x8x9x")),ISNUMBER(FIND(MID(A24,7,1)&"x","0x1x2x3x4x5x6x7x8x9x")),ISNUMBER(FIND(MID(A24,8,1)&"x","0x1x2x3x4x5x6x7x8x9x")))),"IDはSKU-と半角数字4桁",IF(COUNTIFS($A$8:$A$57,A24)>1,"品目IDが重複",IF(NOT(OR(B24="確認済",B24="未確認")),"在庫区分を確認",IF(AND(B24="確認済",NOT(IF(ISNUMBER(C24),AND(C24>=-1000000,C24<=1000000,C24=INT(C24)),FALSE()))),"確認済在庫は±100万個の整数で必須",IF(AND(B24="未確認",COUNTA(C24)>0),"未確認在庫は空欄",IF(NOT(OR(D24="確認済",D24="未確認")),"条件区分を確認",IF(AND(D24="確認済",NOT(AND(IF(ISNUMBER(E24),AND(E24>=0,E24<=1000000,E24=INT(E24)),FALSE()),IF(ISNUMBER(F24),AND(F24>=1,F24<=365,F24=INT(F24)),FALSE()),IF(ISNUMBER(G24),AND(G24>=0,G24<=1000000,G24=INT(G24)),FALSE())))),"確認済需要/日数/安全在庫を確認",IF(AND(D24="未確認",COUNTA(E24:G24)>0),"未確認条件の3値はすべて空欄",IF(NOT(OR(H24="確認済",H24="未確認")),"発注残区分を確認",IF(AND(H24="確認済",NOT(IF(ISNUMBER(I24),AND(I24>=0,I24<=1000000,I24=INT(I24)),FALSE()))),"確認済発注残は0〜100万個の整数で必須",IF(AND(H24="未確認",COUNTA(I24)>0),"未確認発注残は空欄",IF(NOT(IF(ISNUMBER(J24),AND(J24>=43831,J24<=73050,J24=INT(J24)),FALSE())),"確認日は時刻なしで必須",IF(OR(J24<発注点チェック!$B$3,J24>発注点チェック!$E$3),"在庫基準日≦確認日≦確認基準日","確認済み")))))))))))))) | O24: =IF(N24="","",IF(N24="確認済み",0,1)) | P24: =IF(COUNTA(A24:J24)=0,IF(AND(N24="",O24="",K24="",L24="",M24=""),0,1),IF(NOT(AND(ISTEXT(N24),N24=IF(COUNTA(A24:J24)=0,"",IF(NOT(AND(ISTEXT(A24),LEN(A24)=8,EXACT(LEFT(A24,4),"SKU-"),ISNUMBER(FIND(MID(A24,5,1)&"x","0x1x2x3x4x5x6x7x8x9x")),ISNUMBER(FIND(MID(A24,6,1)&"x","0x1x2x3x4x5x6x7x8x9x")),ISNUMBER(FIND(MID(A24,7,1)&"x","0x1x2x3x4x5x6x7x8x9x")),ISNUMBER(FIND(MID(A24,8,1)&"x","0x1x2x3x4x5x6x7x8x9x")))),"IDはSKU-と半角数字4桁",IF(COUNTIFS($A$8:$A$57,A24)>1,"品目IDが重複",IF(NOT(OR(B24="確認済",B24="未確認")),"在庫区分を確認",IF(AND(B24="確認済",NOT(IF(ISNUMBER(C24),AND(C24>=-1000000,C24<=1000000,C24=INT(C24)),FALSE()))),"確認済在庫は±100万個の整数で必須",IF(AND(B24="未確認",COUNTA(C24)>0),"未確認在庫は空欄",IF(NOT(OR(D24="確認済",D24="未確認")),"条件区分を確認",IF(AND(D24="確認済",NOT(AND(IF(ISNUMBER(E24),AND(E24>=0,E24<=1000000,E24=INT(E24)),FALSE()),IF(ISNUMBER(F24),AND(F24>=1,F24<=365,F24=INT(F24)),FALSE()),IF(ISNUMBER(G24),AND(G24>=0,G24<=1000000,G24=INT(G24)),FALSE())))),"確認済需要/日数/安全在庫を確認",IF(AND(D24="未確認",COUNTA(E24:G24)>0),"未確認条件の3値はすべて空欄",IF(NOT(OR(H24="確認済",H24="未確認")),"発注残区分を確認",IF(AND(H24="確認済",NOT(IF(ISNUMBER(I24),AND(I24>=0,I24<=1000000,I24=INT(I24)),FALSE()))),"確認済発注残は0〜100万個の整数で必須",IF(AND(H24="未確認",COUNTA(I24)>0),"未確認発注残は空欄",IF(NOT(IF(ISNUMBER(J24),AND(J24>=43831,J24<=73050,J24=INT(J24)),FALSE())),"確認日は時刻なしで必須",IF(OR(J24<発注点チェック!$B$3,J24>発注点チェック!$E$3),"在庫基準日≦確認日≦確認基準日","確認済み")))))))))))))),ISNUMBER(O24),O24=IF(N24="確認済み",0,1))),1,IF(O24<>0,0,IF(AND(IF(D24="未確認",ISTEXT(K24),ISNUMBER(K24)),K24=IF(D24="未確認","",E24*F24+G24),ISTEXT(L24),L24=IF(B24="未確認","在庫未確認",IF(C24<0,"帳簿負数",IF(D24="未確認","条件未確認",IF(C24<=K24,"発注点以下","発注点超")))),ISTEXT(M24),M24=IF(L24="在庫未確認","在庫を確認",IF(L24="帳簿負数","原記録を照合",IF(L24="条件未確認","計算条件を確認",IF(H24="未確認","発注残を確認",IF(I24>0,"納期・引当を照合",IF(L24="発注点以下","発注条件を照合","継続確認"))))))),0,1)))) -> 0
K25: =IF(N25="","",IF(O25<>0,NA(),IF(D25="未確認","",E25*F25+G25))) | L25: =IF(N25="","",IF(O25<>0,NA(),IF(B25="未確認","在庫未確認",IF(C25<0,"帳簿負数",IF(D25="未確認","条件未確認",IF(C25<=K25,"発注点以下","発注点超")))))) | M25: =IF(N25="","",IF(O25<>0,NA(),IF(L25="在庫未確認","在庫を確認",IF(L25="帳簿負数","原記録を照合",IF(L25="条件未確認","計算条件を確認",IF(H25="未確認","発注残を確認",IF(I25>0,"納期・引当を照合",IF(L25="発注点以下","発注条件を照合","継続確認")))))))) | N25: =IF(COUNTA(A25:J25)=0,"",IF(NOT(AND(ISTEXT(A25),LEN(A25)=8,EXACT(LEFT(A25,4),"SKU-"),ISNUMBER(FIND(MID(A25,5,1)&"x","0x1x2x3x4x5x6x7x8x9x")),ISNUMBER(FIND(MID(A25,6,1)&"x","0x1x2x3x4x5x6x7x8x9x")),ISNUMBER(FIND(MID(A25,7,1)&"x","0x1x2x3x4x5x6x7x8x9x")),ISNUMBER(FIND(MID(A25,8,1)&"x","0x1x2x3x4x5x6x7x8x9x")))),"IDはSKU-と半角数字4桁",IF(COUNTIFS($A$8:$A$57,A25)>1,"品目IDが重複",IF(NOT(OR(B25="確認済",B25="未確認")),"在庫区分を確認",IF(AND(B25="確認済",NOT(IF(ISNUMBER(C25),AND(C25>=-1000000,C25<=1000000,C25=INT(C25)),FALSE()))),"確認済在庫は±100万個の整数で必須",IF(AND(B25="未確認",COUNTA(C25)>0),"未確認在庫は空欄",IF(NOT(OR(D25="確認済",D25="未確認")),"条件区分を確認",IF(AND(D25="確認済",NOT(AND(IF(ISNUMBER(E25),AND(E25>=0,E25<=1000000,E25=INT(E25)),FALSE()),IF(ISNUMBER(F25),AND(F25>=1,F25<=365,F25=INT(F25)),FALSE()),IF(ISNUMBER(G25),AND(G25>=0,G25<=1000000,G25=INT(G25)),FALSE())))),"確認済需要/日数/安全在庫を確認",IF(AND(D25="未確認",COUNTA(E25:G25)>0),"未確認条件の3値はすべて空欄",IF(NOT(OR(H25="確認済",H25="未確認")),"発注残区分を確認",IF(AND(H25="確認済",NOT(IF(ISNUMBER(I25),AND(I25>=0,I25<=1000000,I25=INT(I25)),FALSE()))),"確認済発注残は0〜100万個の整数で必須",IF(AND(H25="未確認",COUNTA(I25)>0),"未確認発注残は空欄",IF(NOT(IF(ISNUMBER(J25),AND(J25>=43831,J25<=73050,J25=INT(J25)),FALSE())),"確認日は時刻なしで必須",IF(OR(J25<発注点チェック!$B$3,J25>発注点チェック!$E$3),"在庫基準日≦確認日≦確認基準日","確認済み")))))))))))))) | O25: =IF(N25="","",IF(N25="確認済み",0,1)) | P25: =IF(COUNTA(A25:J25)=0,IF(AND(N25="",O25="",K25="",L25="",M25=""),0,1),IF(NOT(AND(ISTEXT(N25),N25=IF(COUNTA(A25:J25)=0,"",IF(NOT(AND(ISTEXT(A25),LEN(A25)=8,EXACT(LEFT(A25,4),"SKU-"),ISNUMBER(FIND(MID(A25,5,1)&"x","0x1x2x3x4x5x6x7x8x9x")),ISNUMBER(FIND(MID(A25,6,1)&"x","0x1x2x3x4x5x6x7x8x9x")),ISNUMBER(FIND(MID(A25,7,1)&"x","0x1x2x3x4x5x6x7x8x9x")),ISNUMBER(FIND(MID(A25,8,1)&"x","0x1x2x3x4x5x6x7x8x9x")))),"IDはSKU-と半角数字4桁",IF(COUNTIFS($A$8:$A$57,A25)>1,"品目IDが重複",IF(NOT(OR(B25="確認済",B25="未確認")),"在庫区分を確認",IF(AND(B25="確認済",NOT(IF(ISNUMBER(C25),AND(C25>=-1000000,C25<=1000000,C25=INT(C25)),FALSE()))),"確認済在庫は±100万個の整数で必須",IF(AND(B25="未確認",COUNTA(C25)>0),"未確認在庫は空欄",IF(NOT(OR(D25="確認済",D25="未確認")),"条件区分を確認",IF(AND(D25="確認済",NOT(AND(IF(ISNUMBER(E25),AND(E25>=0,E25<=1000000,E25=INT(E25)),FALSE()),IF(ISNUMBER(F25),AND(F25>=1,F25<=365,F25=INT(F25)),FALSE()),IF(ISNUMBER(G25),AND(G25>=0,G25<=1000000,G25=INT(G25)),FALSE())))),"確認済需要/日数/安全在庫を確認",IF(AND(D25="未確認",COUNTA(E25:G25)>0),"未確認条件の3値はすべて空欄",IF(NOT(OR(H25="確認済",H25="未確認")),"発注残区分を確認",IF(AND(H25="確認済",NOT(IF(ISNUMBER(I25),AND(I25>=0,I25<=1000000,I25=INT(I25)),FALSE()))),"確認済発注残は0〜100万個の整数で必須",IF(AND(H25="未確認",COUNTA(I25)>0),"未確認発注残は空欄",IF(NOT(IF(ISNUMBER(J25),AND(J25>=43831,J25<=73050,J25=INT(J25)),FALSE())),"確認日は時刻なしで必須",IF(OR(J25<発注点チェック!$B$3,J25>発注点チェック!$E$3),"在庫基準日≦確認日≦確認基準日","確認済み")))))))))))))),ISNUMBER(O25),O25=IF(N25="確認済み",0,1))),1,IF(O25<>0,0,IF(AND(IF(D25="未確認",ISTEXT(K25),ISNUMBER(K25)),K25=IF(D25="未確認","",E25*F25+G25),ISTEXT(L25),L25=IF(B25="未確認","在庫未確認",IF(C25<0,"帳簿負数",IF(D25="未確認","条件未確認",IF(C25<=K25,"発注点以下","発注点超")))),ISTEXT(M25),M25=IF(L25="在庫未確認","在庫を確認",IF(L25="帳簿負数","原記録を照合",IF(L25="条件未確認","計算条件を確認",IF(H25="未確認","発注残を確認",IF(I25>0,"納期・引当を照合",IF(L25="発注点以下","発注条件を照合","継続確認"))))))),0,1)))) -> 0
K26: =IF(N26="","",IF(O26<>0,NA(),IF(D26="未確認","",E26*F26+G26))) | L26: =IF(N26="","",IF(O26<>0,NA(),IF(B26="未確認","在庫未確認",IF(C26<0,"帳簿負数",IF(D26="未確認","条件未確認",IF(C26<=K26,"発注点以下","発注点超")))))) | M26: =IF(N26="","",IF(O26<>0,NA(),IF(L26="在庫未確認","在庫を確認",IF(L26="帳簿負数","原記録を照合",IF(L26="条件未確認","計算条件を確認",IF(H26="未確認","発注残を確認",IF(I26>0,"納期・引当を照合",IF(L26="発注点以下","発注条件を照合","継続確認")))))))) | N26: =IF(COUNTA(A26:J26)=0,"",IF(NOT(AND(ISTEXT(A26),LEN(A26)=8,EXACT(LEFT(A26,4),"SKU-"),ISNUMBER(FIND(MID(A26,5,1)&"x","0x1x2x3x4x5x6x7x8x9x")),ISNUMBER(FIND(MID(A26,6,1)&"x","0x1x2x3x4x5x6x7x8x9x")),ISNUMBER(FIND(MID(A26,7,1)&"x","0x1x2x3x4x5x6x7x8x9x")),ISNUMBER(FIND(MID(A26,8,1)&"x","0x1x2x3x4x5x6x7x8x9x")))),"IDはSKU-と半角数字4桁",IF(COUNTIFS($A$8:$A$57,A26)>1,"品目IDが重複",IF(NOT(OR(B26="確認済",B26="未確認")),"在庫区分を確認",IF(AND(B26="確認済",NOT(IF(ISNUMBER(C26),AND(C26>=-1000000,C26<=1000000,C26=INT(C26)),FALSE()))),"確認済在庫は±100万個の整数で必須",IF(AND(B26="未確認",COUNTA(C26)>0),"未確認在庫は空欄",IF(NOT(OR(D26="確認済",D26="未確認")),"条件区分を確認",IF(AND(D26="確認済",NOT(AND(IF(ISNUMBER(E26),AND(E26>=0,E26<=1000000,E26=INT(E26)),FALSE()),IF(ISNUMBER(F26),AND(F26>=1,F26<=365,F26=INT(F26)),FALSE()),IF(ISNUMBER(G26),AND(G26>=0,G26<=1000000,G26=INT(G26)),FALSE())))),"確認済需要/日数/安全在庫を確認",IF(AND(D26="未確認",COUNTA(E26:G26)>0),"未確認条件の3値はすべて空欄",IF(NOT(OR(H26="確認済",H26="未確認")),"発注残区分を確認",IF(AND(H26="確認済",NOT(IF(ISNUMBER(I26),AND(I26>=0,I26<=1000000,I26=INT(I26)),FALSE()))),"確認済発注残は0〜100万個の整数で必須",IF(AND(H26="未確認",COUNTA(I26)>0),"未確認発注残は空欄",IF(NOT(IF(ISNUMBER(J26),AND(J26>=43831,J26<=73050,J26=INT(J26)),FALSE())),"確認日は時刻なしで必須",IF(OR(J26<発注点チェック!$B$3,J26>発注点チェック!$E$3),"在庫基準日≦確認日≦確認基準日","確認済み")))))))))))))) | O26: =IF(N26="","",IF(N26="確認済み",0,1)) | P26: =IF(COUNTA(A26:J26)=0,IF(AND(N26="",O26="",K26="",L26="",M26=""),0,1),IF(NOT(AND(ISTEXT(N26),N26=IF(COUNTA(A26:J26)=0,"",IF(NOT(AND(ISTEXT(A26),LEN(A26)=8,EXACT(LEFT(A26,4),"SKU-"),ISNUMBER(FIND(MID(A26,5,1)&"x","0x1x2x3x4x5x6x7x8x9x")),ISNUMBER(FIND(MID(A26,6,1)&"x","0x1x2x3x4x5x6x7x8x9x")),ISNUMBER(FIND(MID(A26,7,1)&"x","0x1x2x3x4x5x6x7x8x9x")),ISNUMBER(FIND(MID(A26,8,1)&"x","0x1x2x3x4x5x6x7x8x9x")))),"IDはSKU-と半角数字4桁",IF(COUNTIFS($A$8:$A$57,A26)>1,"品目IDが重複",IF(NOT(OR(B26="確認済",B26="未確認")),"在庫区分を確認",IF(AND(B26="確認済",NOT(IF(ISNUMBER(C26),AND(C26>=-1000000,C26<=1000000,C26=INT(C26)),FALSE()))),"確認済在庫は±100万個の整数で必須",IF(AND(B26="未確認",COUNTA(C26)>0),"未確認在庫は空欄",IF(NOT(OR(D26="確認済",D26="未確認")),"条件区分を確認",IF(AND(D26="確認済",NOT(AND(IF(ISNUMBER(E26),AND(E26>=0,E26<=1000000,E26=INT(E26)),FALSE()),IF(ISNUMBER(F26),AND(F26>=1,F26<=365,F26=INT(F26)),FALSE()),IF(ISNUMBER(G26),AND(G26>=0,G26<=1000000,G26=INT(G26)),FALSE())))),"確認済需要/日数/安全在庫を確認",IF(AND(D26="未確認",COUNTA(E26:G26)>0),"未確認条件の3値はすべて空欄",IF(NOT(OR(H26="確認済",H26="未確認")),"発注残区分を確認",IF(AND(H26="確認済",NOT(IF(ISNUMBER(I26),AND(I26>=0,I26<=1000000,I26=INT(I26)),FALSE()))),"確認済発注残は0〜100万個の整数で必須",IF(AND(H26="未確認",COUNTA(I26)>0),"未確認発注残は空欄",IF(NOT(IF(ISNUMBER(J26),AND(J26>=43831,J26<=73050,J26=INT(J26)),FALSE())),"確認日は時刻なしで必須",IF(OR(J26<発注点チェック!$B$3,J26>発注点チェック!$E$3),"在庫基準日≦確認日≦確認基準日","確認済み")))))))))))))),ISNUMBER(O26),O26=IF(N26="確認済み",0,1))),1,IF(O26<>0,0,IF(AND(IF(D26="未確認",ISTEXT(K26),ISNUMBER(K26)),K26=IF(D26="未確認","",E26*F26+G26),ISTEXT(L26),L26=IF(B26="未確認","在庫未確認",IF(C26<0,"帳簿負数",IF(D26="未確認","条件未確認",IF(C26<=K26,"発注点以下","発注点超")))),ISTEXT(M26),M26=IF(L26="在庫未確認","在庫を確認",IF(L26="帳簿負数","原記録を照合",IF(L26="条件未確認","計算条件を確認",IF(H26="未確認","発注残を確認",IF(I26>0,"納期・引当を照合",IF(L26="発注点以下","発注条件を照合","継続確認"))))))),0,1)))) -> 0
K27: =IF(N27="","",IF(O27<>0,NA(),IF(D27="未確認","",E27*F27+G27))) | L27: =IF(N27="","",IF(O27<>0,NA(),IF(B27="未確認","在庫未確認",IF(C27<0,"帳簿負数",IF(D27="未確認","条件未確認",IF(C27<=K27,"発注点以下","発注点超")))))) | M27: =IF(N27="","",IF(O27<>0,NA(),IF(L27="在庫未確認","在庫を確認",IF(L27="帳簿負数","原記録を照合",IF(L27="条件未確認","計算条件を確認",IF(H27="未確認","発注残を確認",IF(I27>0,"納期・引当を照合",IF(L27="発注点以下","発注条件を照合","継続確認")))))))) | N27: =IF(COUNTA(A27:J27)=0,"",IF(NOT(AND(ISTEXT(A27),LEN(A27)=8,EXACT(LEFT(A27,4),"SKU-"),ISNUMBER(FIND(MID(A27,5,1)&"x","0x1x2x3x4x5x6x7x8x9x")),ISNUMBER(FIND(MID(A27,6,1)&"x","0x1x2x3x4x5x6x7x8x9x")),ISNUMBER(FIND(MID(A27,7,1)&"x","0x1x2x3x4x5x6x7x8x9x")),ISNUMBER(FIND(MID(A27,8,1)&"x","0x1x2x3x4x5x6x7x8x9x")))),"IDはSKU-と半角数字4桁",IF(COUNTIFS($A$8:$A$57,A27)>1,"品目IDが重複",IF(NOT(OR(B27="確認済",B27="未確認")),"在庫区分を確認",IF(AND(B27="確認済",NOT(IF(ISNUMBER(C27),AND(C27>=-1000000,C27<=1000000,C27=INT(C27)),FALSE()))),"確認済在庫は±100万個の整数で必須",IF(AND(B27="未確認",COUNTA(C27)>0),"未確認在庫は空欄",IF(NOT(OR(D27="確認済",D27="未確認")),"条件区分を確認",IF(AND(D27="確認済",NOT(AND(IF(ISNUMBER(E27),AND(E27>=0,E27<=1000000,E27=INT(E27)),FALSE()),IF(ISNUMBER(F27),AND(F27>=1,F27<=365,F27=INT(F27)),FALSE()),IF(ISNUMBER(G27),AND(G27>=0,G27<=1000000,G27=INT(G27)),FALSE())))),"確認済需要/日数/安全在庫を確認",IF(AND(D27="未確認",COUNTA(E27:G27)>0),"未確認条件の3値はすべて空欄",IF(NOT(OR(H27="確認済",H27="未確認")),"発注残区分を確認",IF(AND(H27="確認済",NOT(IF(ISNUMBER(I27),AND(I27>=0,I27<=1000000,I27=INT(I27)),FALSE()))),"確認済発注残は0〜100万個の整数で必須",IF(AND(H27="未確認",COUNTA(I27)>0),"未確認発注残は空欄",IF(NOT(IF(ISNUMBER(J27),AND(J27>=43831,J27<=73050,J27=INT(J27)),FALSE())),"確認日は時刻なしで必須",IF(OR(J27<発注点チェック!$B$3,J27>発注点チェック!$E$3),"在庫基準日≦確認日≦確認基準日","確認済み")))))))))))))) | O27: =IF(N27="","",IF(N27="確認済み",0,1)) | P27: =IF(COUNTA(A27:J27)=0,IF(AND(N27="",O27="",K27="",L27="",M27=""),0,1),IF(NOT(AND(ISTEXT(N27),N27=IF(COUNTA(A27:J27)=0,"",IF(NOT(AND(ISTEXT(A27),LEN(A27)=8,EXACT(LEFT(A27,4),"SKU-"),ISNUMBER(FIND(MID(A27,5,1)&"x","0x1x2x3x4x5x6x7x8x9x")),ISNUMBER(FIND(MID(A27,6,1)&"x","0x1x2x3x4x5x6x7x8x9x")),ISNUMBER(FIND(MID(A27,7,1)&"x","0x1x2x3x4x5x6x7x8x9x")),ISNUMBER(FIND(MID(A27,8,1)&"x","0x1x2x3x4x5x6x7x8x9x")))),"IDはSKU-と半角数字4桁",IF(COUNTIFS($A$8:$A$57,A27)>1,"品目IDが重複",IF(NOT(OR(B27="確認済",B27="未確認")),"在庫区分を確認",IF(AND(B27="確認済",NOT(IF(ISNUMBER(C27),AND(C27>=-1000000,C27<=1000000,C27=INT(C27)),FALSE()))),"確認済在庫は±100万個の整数で必須",IF(AND(B27="未確認",COUNTA(C27)>0),"未確認在庫は空欄",IF(NOT(OR(D27="確認済",D27="未確認")),"条件区分を確認",IF(AND(D27="確認済",NOT(AND(IF(ISNUMBER(E27),AND(E27>=0,E27<=1000000,E27=INT(E27)),FALSE()),IF(ISNUMBER(F27),AND(F27>=1,F27<=365,F27=INT(F27)),FALSE()),IF(ISNUMBER(G27),AND(G27>=0,G27<=1000000,G27=INT(G27)),FALSE())))),"確認済需要/日数/安全在庫を確認",IF(AND(D27="未確認",COUNTA(E27:G27)>0),"未確認条件の3値はすべて空欄",IF(NOT(OR(H27="確認済",H27="未確認")),"発注残区分を確認",IF(AND(H27="確認済",NOT(IF(ISNUMBER(I27),AND(I27>=0,I27<=1000000,I27=INT(I27)),FALSE()))),"確認済発注残は0〜100万個の整数で必須",IF(AND(H27="未確認",COUNTA(I27)>0),"未確認発注残は空欄",IF(NOT(IF(ISNUMBER(J27),AND(J27>=43831,J27<=73050,J27=INT(J27)),FALSE())),"確認日は時刻なしで必須",IF(OR(J27<発注点チェック!$B$3,J27>発注点チェック!$E$3),"在庫基準日≦確認日≦確認基準日","確認済み")))))))))))))),ISNUMBER(O27),O27=IF(N27="確認済み",0,1))),1,IF(O27<>0,0,IF(AND(IF(D27="未確認",ISTEXT(K27),ISNUMBER(K27)),K27=IF(D27="未確認","",E27*F27+G27),ISTEXT(L27),L27=IF(B27="未確認","在庫未確認",IF(C27<0,"帳簿負数",IF(D27="未確認","条件未確認",IF(C27<=K27,"発注点以下","発注点超")))),ISTEXT(M27),M27=IF(L27="在庫未確認","在庫を確認",IF(L27="帳簿負数","原記録を照合",IF(L27="条件未確認","計算条件を確認",IF(H27="未確認","発注残を確認",IF(I27>0,"納期・引当を照合",IF(L27="発注点以下","発注条件を照合","継続確認"))))))),0,1)))) -> 0
... K57: =IF(N57="","",IF(O57<>0,NA(),IF(D57="未確認","",E57*F57+G57))) | L57: =IF(N57="","",IF(O57<>0,NA(),IF(B57="未確認","在庫未確認",IF(C57<0,"帳簿負数",IF(D57="未確認","条件未確認",IF(C57<=K57,"発注点以下","発注点超")))))) | M57: =IF(N57="","",IF(O57<>0,NA(),IF(L57="在庫未確認","在庫を確認",IF(L57="帳簿負数","原記録を照合",IF(L57="条件未確認","計算条件を確認",IF(H57="未確認","発注残を確認",IF(I57>0,"納期・引当を照合",IF(L57="発注点以下","発注条件を照合","継続確認")))))))) | N57: =IF(COUNTA(A57:J57)=0,"",IF(NOT(AND(ISTEXT(A57),LEN(A57)=8,EXACT(LEFT(A57,4),"SKU-"),ISNUMBER(FIND(MID(A57,5,1)&"x","0x1x2x3x4x5x6x7x8x9x")),ISNUMBER(FIND(MID(A57,6,1)&"x","0x1x2x3x4x5x6x7x8x9x")),ISNUMBER(FIND(MID(A57,7,1)&"x","0x1x2x3x4x5x6x7x8x9x")),ISNUMBER(FIND(MID(A57,8,1)&"x","0x1x2x3x4x5x6x7x8x9x")))),"IDはSKU-と半角数字4桁",IF(COUNTIFS($A$8:$A$57,A57)>1,"品目IDが重複",IF(NOT(OR(B57="確認済",B57="未確認")),"在庫区分を確認",IF(AND(B57="確認済",NOT(IF(ISNUMBER(C57),AND(C57>=-1000000,C57<=1000000,C57=INT(C57)),FALSE()))),"確認済在庫は±100万個の整数で必須",IF(AND(B57="未確認",COUNTA(C57)>0),"未確認在庫は空欄",IF(NOT(OR(D57="確認済",D57="未確認")),"条件区分を確認",IF(AND(D57="確認済",NOT(AND(IF(ISNUMBER(E57),AND(E57>=0,E57<=1000000,E57=INT(E57)),FALSE()),IF(ISNUMBER(F57),AND(F57>=1,F57<=365,F57=INT(F57)),FALSE()),IF(ISNUMBER(G57),AND(G57>=0,G57<=1000000,G57=INT(G57)),FALSE())))),"確認済需要/日数/安全在庫を確認",IF(AND(D57="未確認",COUNTA(E57:G57)>0),"未確認条件の3値はすべて空欄",IF(NOT(OR(H57="確認済",H57="未確認")),"発注残区分を確認",IF(AND(H57="確認済",NOT(IF(ISNUMBER(I57),AND(I57>=0,I57<=1000000,I57=INT(I57)),FALSE()))),"確認済発注残は0〜100万個の整数で必須",IF(AND(H57="未確認",COUNTA(I57)>0),"未確認発注残は空欄",IF(NOT(IF(ISNUMBER(J57),AND(J57>=43831,J57<=73050,J57=INT(J57)),FALSE())),"確認日は時刻なしで必須",IF(OR(J57<発注点チェック!$B$3,J57>発注点チェック!$E$3),"在庫基準日≦確認日≦確認基準日","確認済み")))))))))))))) | O57: =IF(N57="","",IF(N57="確認済み",0,1)) | P57: =IF(COUNTA(A57:J57)=0,IF(AND(N57="",O57="",K57="",L57="",M57=""),0,1),IF(NOT(AND(ISTEXT(N57),N57=IF(COUNTA(A57:J57)=0,"",IF(NOT(AND(ISTEXT(A57),LEN(A57)=8,EXACT(LEFT(A57,4),"SKU-"),ISNUMBER(FIND(MID(A57,5,1)&"x","0x1x2x3x4x5x6x7x8x9x")),ISNUMBER(FIND(MID(A57,6,1)&"x","0x1x2x3x4x5x6x7x8x9x")),ISNUMBER(FIND(MID(A57,7,1)&"x","0x1x2x3x4x5x6x7x8x9x")),ISNUMBER(FIND(MID(A57,8,1)&"x","0x1x2x3x4x5x6x7x8x9x")))),"IDはSKU-と半角数字4桁",IF(COUNTIFS($A$8:$A$57,A57)>1,"品目IDが重複",IF(NOT(OR(B57="確認済",B57="未確認")),"在庫区分を確認",IF(AND(B57="確認済",NOT(IF(ISNUMBER(C57),AND(C57>=-1000000,C57<=1000000,C57=INT(C57)),FALSE()))),"確認済在庫は±100万個の整数で必須",IF(AND(B57="未確認",COUNTA(C57)>0),"未確認在庫は空欄",IF(NOT(OR(D57="確認済",D57="未確認")),"条件区分を確認",IF(AND(D57="確認済",NOT(AND(IF(ISNUMBER(E57),AND(E57>=0,E57<=1000000,E57=INT(E57)),FALSE()),IF(ISNUMBER(F57),AND(F57>=1,F57<=365,F57=INT(F57)),FALSE()),IF(ISNUMBER(G57),AND(G57>=0,G57<=1000000,G57=INT(G57)),FALSE())))),"確認済需要/日数/安全在庫を確認",IF(AND(D57="未確認",COUNTA(E57:G57)>0),"未確認条件の3値はすべて空欄",IF(NOT(OR(H57="確認済",H57="未確認")),"発注残区分を確認",IF(AND(H57="確認済",NOT(IF(ISNUMBER(I57),AND(I57>=0,I57<=1000000,I57=INT(I57)),FALSE()))),"確認済発注残は0〜100万個の整数で必須",IF(AND(H57="未確認",COUNTA(I57)>0),"未確認発注残は空欄",IF(NOT(IF(ISNUMBER(J57),AND(J57>=43831,J57<=73050,J57=INT(J57)),FALSE())),"確認日は時刻なしで必須",IF(OR(J57<発注点チェック!$B$3,J57>発注点チェック!$E$3),"在庫基準日≦確認日≦確認基準日","確認済み")))))))))))))),ISNUMBER(O57),O57=IF(N57="確認済み",0,1))),1,IF(O57<>0,0,IF(AND(IF(D57="未確認",ISTEXT(K57),ISNUMBER(K57)),K57=IF(D57="未確認","",E57*F57+G57),ISTEXT(L57),L57=IF(B57="未確認","在庫未確認",IF(C57<0,"帳簿負数",IF(D57="未確認","条件未確認",IF(C57<=K57,"発注点以下","発注点超")))),ISTEXT(M57),M57=IF(L57="在庫未確認","在庫を確認",IF(L57="帳簿負数","原記録を照合",IF(L57="条件未確認","計算条件を確認",IF(H57="未確認","発注残を確認",IF(I57>0,"納期・引当を照合",IF(L57="発注点以下","発注条件を照合","継続確認"))))))),0,1)))) -> 0
A61: 架空教材。50品目・単一保管場所・単位は整数個。SKU-と半角数字4桁、品目の対応と根拠は別管理。
A62: 発注点＝想定需要（個/暦日）×調達日数（暦日）＋安全在庫（個）。整数の一定需要だけを想定。
A63: 想定需要と安全在庫は0〜100万、調達1〜365日。需要0と安全在庫0は有効で、空欄とは別。
A64: 確認済在庫は−100万〜100万個。負数は原記録を照合し、通常の発注点比較へ入れません。
A65: 在庫・条件・発注残は確認済/未確認を別々に指定。未確認の対応値は空欄、既知0は数値0。
A66: 条件未確認なら需要/調達日数/安全在庫の3欄をすべて空欄。在庫未確認を先に表示し、次に負数/条件を確認。
A67: 手元在庫が発注点以下（同数を含む）なら注意表示。発注残は在庫へ足さず、注意表示を消しません。
A68: 発注残は未入荷の既発注数量。納期/引当/入荷確度/重複発注と不足時期は人が別資料で照合。
A69: 発注点は発注量ではありません。発注点との差を注文数量とせず、最小ロット/予算/承認を別途確認。
A70: 在庫基準日≦記録確認日≦記録確認基準日、2020〜2099年/時刻なし。基準日を変えて過去状態を復元しません。
A71: 登録＝在庫未確認＋帳簿負数＋条件未確認＋発注点以下＋発注点超。発注残の件数は重複する別集計。
A72: 通知はこの表の文字と色だけ。メール/プッシュ/自動発注/外部通信/サイトへのアップロードはありません。
... A80: Microsoft COUNTIFS https://support.microsoft.com/en-us/excel/functions/countifs-function
