Workbook

Sheet 担当状況
A2: 主担当・補助と引継ぎを確認 | I2: 基準日の前提 | J2: 入力の前提
A3: 照合基準日 | B3: 46311 | H3: =IF(J3=0,"入力不備なし","入力を確認") -> 入力不備なし | I3: =IF(AND(ISNUMBER(B3),B3>=43831,B3<73051,B3=INT(B3)),0,1) -> 0 | J3: =I3+SUM(担当入力!P8:P38)+SUM(担当入力!Q8:Q38)+SUM(担当者ID!C8:C27) -> 0
A4: 期間内（件） | B4: =IF($J$3=0,COUNTIFS(担当入力!$N$8:$N$38,"期間内"),NA()) -> 6 | D4: 主未割当（件） | E4: =IF($J$3=0,COUNTIFS(担当入力!$N$8:$N$38,"期間内",担当入力!I8:I38,1),NA()) -> 2 | G4: 補助未割当（件） | H4: =IF($J$3=0,COUNTIFS(担当入力!$N$8:$N$38,"期間内",担当入力!J8:J38,1),NA()) -> 2
A5: 主補助同一（件） | B5: =IF($J$3=0,COUNTIFS(担当入力!$N$8:$N$38,"期間内",担当入力!K8:K38,1),NA()) -> 1 | D5: 引継未確認（件） | E5: =IF($J$3=0,COUNTIFS(担当入力!$N$8:$N$38,"期間内",担当入力!L8:L38,1),NA()) -> 3 | G5: 要確認の仕事（件） | H5: =IF($J$3=0,COUNTIFS(担当入力!$N$8:$N$38,"期間内",担当入力!M8:M38,"<>割当あり")+COUNTIFS(担当入力!$N$8:$N$38,"期間内",担当入力!M8:M38,"割当あり",担当入力!L8:L38,1),NA()) -> 4
A6: 開始前（件） | B6: =IF($J$3=0,COUNTIFS(担当入力!N8:N38,"開始前"),NA()) -> 1 | D6: 終了後（件） | E6: =IF($J$3=0,COUNTIFS(担当入力!N8:N38,"終了後"),NA()) -> 1 | G6: 確認事項なし（件） | H6: =IF($J$3=0,COUNTIFS(担当入力!$N$8:$N$38,"期間内",担当入力!M8:M38,"割当あり",担当入力!L8:L38,0),NA()) -> 2
A7: 全記録（件） | B7: =IF($J$3=0,COUNTIFS(担当入力!O8:O38,"確認済み"),NA()) -> 8 | G7: 照合差額（件） | H7: =B7-B4-B6-E6 -> 0
A8: 合計は期間内、明細は全行。問題別の件数は重複あり。「要確認の仕事」は1行1件です。
A9: 仕事ID | B9: 開始日 | C9: 終了日 | D9: 主担当ID | E9: 補助ID | F9: 割当確認 | G9: 引継ぎ | H9: 期間区分
A10: =IF(COUNTA(担当入力!A8:H8)=0,"",担当入力!A8) -> WRK-0001 | B10: =IF(COUNTA(担当入力!A8:H8)=0,"",担当入力!B8) -> 46296 | C10: =IF(COUNTA(担当入力!A8:H8)=0,"",担当入力!C8) -> 46326 | D10: =IF(COUNTA(担当入力!A8:H8)=0,"",IF(担当入力!D8="","",担当入力!D8)) -> STF-0001 | E10: =IF(COUNTA(担当入力!A8:H8)=0,"",IF(担当入力!E8="","",担当入力!E8)) -> STF-0002 | F10: =IF(COUNTA(担当入力!A8:H8)=0,"",担当入力!M8) -> 割当あり | G10: =IF(COUNTA(担当入力!A8:H8)=0,"",担当入力!G8) -> 確認済 | H10: =IF(COUNTA(担当入力!A8:H8)=0,"",担当入力!N8) -> 期間内
A11: =IF(COUNTA(担当入力!A9:H9)=0,"",担当入力!A9) -> WRK-0002 | B11: =IF(COUNTA(担当入力!A9:H9)=0,"",担当入力!B9) -> 46296 | C11: =IF(COUNTA(担当入力!A9:H9)=0,"",担当入力!C9) -> 46326 | D11: =IF(COUNTA(担当入力!A9:H9)=0,"",IF(担当入力!D9="","",担当入力!D9)) | E11: =IF(COUNTA(担当入力!A9:H9)=0,"",IF(担当入力!E9="","",担当入力!E9)) -> STF-0002 | F11: =IF(COUNTA(担当入力!A9:H9)=0,"",担当入力!M9) -> 主未割当 | G11: =IF(COUNTA(担当入力!A9:H9)=0,"",担当入力!G9) -> 未確認 | H11: =IF(COUNTA(担当入力!A9:H9)=0,"",担当入力!N9) -> 期間内
A12: =IF(COUNTA(担当入力!A10:H10)=0,"",担当入力!A10) -> WRK-0003 | B12: =IF(COUNTA(担当入力!A10:H10)=0,"",担当入力!B10) -> 46296 | C12: =IF(COUNTA(担当入力!A10:H10)=0,"",担当入力!C10) -> 46326 | D12: =IF(COUNTA(担当入力!A10:H10)=0,"",IF(担当入力!D10="","",担当入力!D10)) -> STF-0002 | E12: =IF(COUNTA(担当入力!A10:H10)=0,"",IF(担当入力!E10="","",担当入力!E10)) | F12: =IF(COUNTA(担当入力!A10:H10)=0,"",担当入力!M10) -> 補助未割当 | G12: =IF(COUNTA(担当入力!A10:H10)=0,"",担当入力!G10) -> 不要 | H12: =IF(COUNTA(担当入力!A10:H10)=0,"",担当入力!N10) -> 期間内
A13: =IF(COUNTA(担当入力!A11:H11)=0,"",担当入力!A11) -> WRK-0004 | B13: =IF(COUNTA(担当入力!A11:H11)=0,"",担当入力!B11) -> 46296 | C13: =IF(COUNTA(担当入力!A11:H11)=0,"",担当入力!C11) -> 46326 | D13: =IF(COUNTA(担当入力!A11:H11)=0,"",IF(担当入力!D11="","",担当入力!D11)) -> STF-0003 | E13: =IF(COUNTA(担当入力!A11:H11)=0,"",IF(担当入力!E11="","",担当入力!E11)) -> STF-0003 | F13: =IF(COUNTA(担当入力!A11:H11)=0,"",担当入力!M11) -> 主補助同一 | G13: =IF(COUNTA(担当入力!A11:H11)=0,"",担当入力!G11) -> 未確認 | H13: =IF(COUNTA(担当入力!A11:H11)=0,"",担当入力!N11) -> 期間内
A14: =IF(COUNTA(担当入力!A12:H12)=0,"",担当入力!A12) -> WRK-0005 | B14: =IF(COUNTA(担当入力!A12:H12)=0,"",担当入力!B12) -> 46296 | C14: =IF(COUNTA(担当入力!A12:H12)=0,"",担当入力!C12) -> 46326 | D14: =IF(COUNTA(担当入力!A12:H12)=0,"",IF(担当入力!D12="","",担当入力!D12)) -> STF-0004 | E14: =IF(COUNTA(担当入力!A12:H12)=0,"",IF(担当入力!E12="","",担当入力!E12)) | F14: =IF(COUNTA(担当入力!A12:H12)=0,"",担当入力!M12) -> 割当あり | G14: =IF(COUNTA(担当入力!A12:H12)=0,"",担当入力!G12) -> 不要 | H14: =IF(COUNTA(担当入力!A12:H12)=0,"",担当入力!N12) -> 期間内
A15: =IF(COUNTA(担当入力!A13:H13)=0,"",担当入力!A13) -> WRK-0006 | B15: =IF(COUNTA(担当入力!A13:H13)=0,"",担当入力!B13) -> 46315 | C15: =IF(COUNTA(担当入力!A13:H13)=0,"",担当入力!C13) -> 46326 | D15: =IF(COUNTA(担当入力!A13:H13)=0,"",IF(担当入力!D13="","",担当入力!D13)) | E15: =IF(COUNTA(担当入力!A13:H13)=0,"",IF(担当入力!E13="","",担当入力!E13)) | F15: =IF(COUNTA(担当入力!A13:H13)=0,"",担当入力!M13) -> 主・補助未割当 | G15: =IF(COUNTA(担当入力!A13:H13)=0,"",担当入力!G13) -> 未確認 | H15: =IF(COUNTA(担当入力!A13:H13)=0,"",担当入力!N13) -> 開始前
A16: =IF(COUNTA(担当入力!A14:H14)=0,"",担当入力!A14) -> WRK-0007 | B16: =IF(COUNTA(担当入力!A14:H14)=0,"",担当入力!B14) -> 46266 | C16: =IF(COUNTA(担当入力!A14:H14)=0,"",担当入力!C14) -> 46295 | D16: =IF(COUNTA(担当入力!A14:H14)=0,"",IF(担当入力!D14="","",担当入力!D14)) -> STF-0001 | E16: =IF(COUNTA(担当入力!A14:H14)=0,"",IF(担当入力!E14="","",担当入力!E14)) -> STF-0002 | F16: =IF(COUNTA(担当入力!A14:H14)=0,"",担当入力!M14) -> 割当あり | G16: =IF(COUNTA(担当入力!A14:H14)=0,"",担当入力!G14) -> 確認済 | H16: =IF(COUNTA(担当入力!A14:H14)=0,"",担当入力!N14) -> 終了後
A17: =IF(COUNTA(担当入力!A15:H15)=0,"",担当入力!A15) -> WRK-0008 | B17: =IF(COUNTA(担当入力!A15:H15)=0,"",担当入力!B15) -> 46296 | C17: =IF(COUNTA(担当入力!A15:H15)=0,"",担当入力!C15) -> 46326 | D17: =IF(COUNTA(担当入力!A15:H15)=0,"",IF(担当入力!D15="","",担当入力!D15)) | E17: =IF(COUNTA(担当入力!A15:H15)=0,"",IF(担当入力!E15="","",担当入力!E15)) | F17: =IF(COUNTA(担当入力!A15:H15)=0,"",担当入力!M15) -> 主・補助未割当 | G17: =IF(COUNTA(担当入力!A15:H15)=0,"",担当入力!G15) -> 未確認 | H17: =IF(COUNTA(担当入力!A15:H15)=0,"",担当入力!N15) -> 期間内
A18: =IF(COUNTA(担当入力!A16:H16)=0,"",担当入力!A16) | B18: =IF(COUNTA(担当入力!A16:H16)=0,"",担当入力!B16) | C18: =IF(COUNTA(担当入力!A16:H16)=0,"",担当入力!C16) | D18: =IF(COUNTA(担当入力!A16:H16)=0,"",IF(担当入力!D16="","",担当入力!D16)) | E18: =IF(COUNTA(担当入力!A16:H16)=0,"",IF(担当入力!E16="","",担当入力!E16)) | F18: =IF(COUNTA(担当入力!A16:H16)=0,"",担当入力!M16) | G18: =IF(COUNTA(担当入力!A16:H16)=0,"",担当入力!G16) | H18: =IF(COUNTA(担当入力!A16:H16)=0,"",担当入力!N16)
A19: =IF(COUNTA(担当入力!A17:H17)=0,"",担当入力!A17) | B19: =IF(COUNTA(担当入力!A17:H17)=0,"",担当入力!B17) | C19: =IF(COUNTA(担当入力!A17:H17)=0,"",担当入力!C17) | D19: =IF(COUNTA(担当入力!A17:H17)=0,"",IF(担当入力!D17="","",担当入力!D17)) | E19: =IF(COUNTA(担当入力!A17:H17)=0,"",IF(担当入力!E17="","",担当入力!E17)) | F19: =IF(COUNTA(担当入力!A17:H17)=0,"",担当入力!M17) | G19: =IF(COUNTA(担当入力!A17:H17)=0,"",担当入力!G17) | H19: =IF(COUNTA(担当入力!A17:H17)=0,"",担当入力!N17)
A20: =IF(COUNTA(担当入力!A18:H18)=0,"",担当入力!A18) | B20: =IF(COUNTA(担当入力!A18:H18)=0,"",担当入力!B18) | C20: =IF(COUNTA(担当入力!A18:H18)=0,"",担当入力!C18) | D20: =IF(COUNTA(担当入力!A18:H18)=0,"",IF(担当入力!D18="","",担当入力!D18)) | E20: =IF(COUNTA(担当入力!A18:H18)=0,"",IF(担当入力!E18="","",担当入力!E18)) | F20: =IF(COUNTA(担当入力!A18:H18)=0,"",担当入力!M18) | G20: =IF(COUNTA(担当入力!A18:H18)=0,"",担当入力!G18) | H20: =IF(COUNTA(担当入力!A18:H18)=0,"",担当入力!N18)
A21: =IF(COUNTA(担当入力!A19:H19)=0,"",担当入力!A19) | B21: =IF(COUNTA(担当入力!A19:H19)=0,"",担当入力!B19) | C21: =IF(COUNTA(担当入力!A19:H19)=0,"",担当入力!C19) | D21: =IF(COUNTA(担当入力!A19:H19)=0,"",IF(担当入力!D19="","",担当入力!D19)) | E21: =IF(COUNTA(担当入力!A19:H19)=0,"",IF(担当入力!E19="","",担当入力!E19)) | F21: =IF(COUNTA(担当入力!A19:H19)=0,"",担当入力!M19) | G21: =IF(COUNTA(担当入力!A19:H19)=0,"",担当入力!G19) | H21: =IF(COUNTA(担当入力!A19:H19)=0,"",担当入力!N19)
... A40: =IF(COUNTA(担当入力!A38:H38)=0,"",担当入力!A38) | B40: =IF(COUNTA(担当入力!A38:H38)=0,"",担当入力!B38) | C40: =IF(COUNTA(担当入力!A38:H38)=0,"",担当入力!C38) | D40: =IF(COUNTA(担当入力!A38:H38)=0,"",IF(担当入力!D38="","",担当入力!D38)) | E40: =IF(COUNTA(担当入力!A38:H38)=0,"",IF(担当入力!E38="","",担当入力!E38)) | F40: =IF(COUNTA(担当入力!A38:H38)=0,"",担当入力!M38) | G40: =IF(COUNTA(担当入力!A38:H38)=0,"",担当入力!G38) | H40: =IF(COUNTA(担当入力!A38:H38)=0,"",担当入力!N38)

Sheet 担当入力
A2: 仕事・役割・期間ごとの担当入力
A3: 黄色のA〜Hへ。31管理行、1行1主担当・1補助。氏名/仕事内容/役割との対応は別資料で確認。
A5: 主担当の空欄は未割当。補助が必要かは要/不要で明示。引継ぎ確認は元記録を確認して入力。
A7: 仕事ID | B7: 開始日 | C7: 終了日 | D7: 主担当ID | E7: 補助ID | F7: 補助必要 | G7: 引継ぎ | H7: 引継確認日 | I7: 主未割当 | J7: 補助未割当 | K7: 主補助同一 | L7: 引継未確認 | M7: 割当確認 | N7: 期間区分 | O7: 入力の確認 | P7: 入力不備 | Q7: 計算の前提
A8: WRK-0001 | B8: 46296 | C8: 46326 | D8: STF-0001 | E8: STF-0002 | F8: 要 | G8: 確認済 | H8: 46310 | I8: =IF(O8="","",IF(P8<>0,NA(),IF(D8="",1,0))) -> 0 | J8: =IF(O8="","",IF(P8<>0,NA(),IF(AND(F8="要",E8=""),1,0))) -> 0 | K8: =IF(O8="","",IF(P8<>0,NA(),IF(AND(D8<>"",E8<>"",D8=E8),1,0))) -> 0 | L8: =IF(O8="","",IF(P8<>0,NA(),IF(G8="未確認",1,0))) -> 0 | M8: =IF(O8="","",IF(P8<>0,NA(),IF(AND(I8=1,J8=1),"主・補助未割当",IF(I8=1,"主未割当",IF(J8=1,"補助未割当",IF(K8=1,"主補助同一","割当あり")))))) -> 割当あり | N8: =IF(O8="","",IF(P8<>0,NA(),IF(B8>担当状況!$B$3,"開始前",IF(C8<担当状況!$B$3,"終了後","期間内")))) -> 期間内 | O8: =IF(COUNTA(A8:H8)=0,"",IF(NOT(AND(ISTEXT(A8),LEN(A8)=8,EXACT(LEFT(A8,4),"WRK-"),ISNUMBER(FIND(MID(A8,5,1)&"x","0x1x2x3x4x5x6x7x8x9x")),ISNUMBER(FIND(MID(A8,6,1)&"x","0x1x2x3x4x5x6x7x8x9x")),ISNUMBER(FIND(MID(A8,7,1)&"x","0x1x2x3x4x5x6x7x8x9x")),ISNUMBER(FIND(MID(A8,8,1)&"x","0x1x2x3x4x5x6x7x8x9x")))),"IDはWRK-と半角数字4桁",IF(COUNTIFS($A$8:$A$38,A8)>1,"仕事IDが重複",IF(NOT(AND(AND(ISNUMBER(B8),B8>=43831,B8<73051,B8=INT(B8)),AND(ISNUMBER(C8),C8>=43831,C8<73051,C8=INT(C8)))),"開始/終了は時刻なしの日付",IF(C8<B8,"期間の逆転",IF(AND(D8<>"",NOT(AND(ISTEXT(D8),LEN(D8)=8,EXACT(LEFT(D8,4),"STF-"),ISNUMBER(FIND(MID(D8,5,1)&"x","0x1x2x3x4x5x6x7x8x9x")),ISNUMBER(FIND(MID(D8,6,1)&"x","0x1x2x3x4x5x6x7x8x9x")),ISNUMBER(FIND(MID(D8,7,1)&"x","0x1x2x3x4x5x6x7x8x9x")),ISNUMBER(FIND(MID(D8,8,1)&"x","0x1x2x3x4x5x6x7x8x9x"))))),"主担当IDの形式を確認",IF(AND(D8<>"",COUNTIFS(担当者ID!$A$8:$A$27,D8)<>1),"主担当が未登録/重複",IF(AND(E8<>"",NOT(AND(ISTEXT(E8),LEN(E8)=8,EXACT(LEFT(E8,4),"STF-"),ISNUMBER(FIND(MID(E8,5,1)&"x","0x1x2x3x4x5x6x7x8x9x")),ISNUMBER(FIND(MID(E8,6,1)&"x","0x1x2x3x4x5x6x7x8x9x")),ISNUMBER(FIND(MID(E8,7,1)&"x","0x1x2x3x4x5x6x7x8x9x")),ISNUMBER(FIND(MID(E8,8,1)&"x","0x1x2x3x4x5x6x7x8x9x"))))),"補助IDの形式を確認",IF(AND(E8<>"",COUNTIFS(担当者ID!$A$8:$A$27,E8)<>1),"補助が未登録/重複",IF(NOT(OR(F8="要",F8="不要")),"補助必要は要/不要",IF(NOT(OR(G8="確認済",G8="未確認",G8="不要")),"引継ぎの区分を確認",IF(AND(G8="確認済",D8=""),"主担当なしの引継確認済",IF(AND(G8="確認済",NOT(AND(ISNUMBER(H8),H8>=43831,H8<73051,H8=INT(H8)))),"引継確認日は日付で必須",IF(AND(G8="確認済",H8>担当状況!$B$3),"確認日が基準日より後",IF(AND(G8<>"確認済",H8<>""),"確認済以外は確認日を空欄","確認済み"))))))))))))))) -> 確認済み | P8: =IF(O8="","",IF(O8="確認済み",0,1)) -> 0 | Q8: =IF(O8="","",IF(NOT(AND(ISNUMBER(P8),P8=IF(O8="確認済み",0,1))),1,IF(P8<>0,0,IF(AND(ISNUMBER(I8),I8=IF(D8="",1,0),ISNUMBER(J8),J8=IF(AND(F8="要",E8=""),1,0),ISNUMBER(K8),K8=IF(AND(D8<>"",E8<>"",D8=E8),1,0),ISNUMBER(L8),L8=IF(G8="未確認",1,0),ISTEXT(M8),M8=IF(AND(I8=1,J8=1),"主・補助未割当",IF(I8=1,"主未割当",IF(J8=1,"補助未割当",IF(K8=1,"主補助同一","割当あり")))),ISTEXT(N8),N8=IF(B8>担当状況!$B$3,"開始前",IF(C8<担当状況!$B$3,"終了後","期間内"))),0,1)))) -> 0
A9: WRK-0002 | B9: 46296 | C9: 46326 | E9: STF-0002 | F9: 要 | G9: 未確認 | I9: =IF(O9="","",IF(P9<>0,NA(),IF(D9="",1,0))) -> 1 | J9: =IF(O9="","",IF(P9<>0,NA(),IF(AND(F9="要",E9=""),1,0))) -> 0 | K9: =IF(O9="","",IF(P9<>0,NA(),IF(AND(D9<>"",E9<>"",D9=E9),1,0))) -> 0 | L9: =IF(O9="","",IF(P9<>0,NA(),IF(G9="未確認",1,0))) -> 1 | M9: =IF(O9="","",IF(P9<>0,NA(),IF(AND(I9=1,J9=1),"主・補助未割当",IF(I9=1,"主未割当",IF(J9=1,"補助未割当",IF(K9=1,"主補助同一","割当あり")))))) -> 主未割当 | N9: =IF(O9="","",IF(P9<>0,NA(),IF(B9>担当状況!$B$3,"開始前",IF(C9<担当状況!$B$3,"終了後","期間内")))) -> 期間内 | O9: =IF(COUNTA(A9:H9)=0,"",IF(NOT(AND(ISTEXT(A9),LEN(A9)=8,EXACT(LEFT(A9,4),"WRK-"),ISNUMBER(FIND(MID(A9,5,1)&"x","0x1x2x3x4x5x6x7x8x9x")),ISNUMBER(FIND(MID(A9,6,1)&"x","0x1x2x3x4x5x6x7x8x9x")),ISNUMBER(FIND(MID(A9,7,1)&"x","0x1x2x3x4x5x6x7x8x9x")),ISNUMBER(FIND(MID(A9,8,1)&"x","0x1x2x3x4x5x6x7x8x9x")))),"IDはWRK-と半角数字4桁",IF(COUNTIFS($A$8:$A$38,A9)>1,"仕事IDが重複",IF(NOT(AND(AND(ISNUMBER(B9),B9>=43831,B9<73051,B9=INT(B9)),AND(ISNUMBER(C9),C9>=43831,C9<73051,C9=INT(C9)))),"開始/終了は時刻なしの日付",IF(C9<B9,"期間の逆転",IF(AND(D9<>"",NOT(AND(ISTEXT(D9),LEN(D9)=8,EXACT(LEFT(D9,4),"STF-"),ISNUMBER(FIND(MID(D9,5,1)&"x","0x1x2x3x4x5x6x7x8x9x")),ISNUMBER(FIND(MID(D9,6,1)&"x","0x1x2x3x4x5x6x7x8x9x")),ISNUMBER(FIND(MID(D9,7,1)&"x","0x1x2x3x4x5x6x7x8x9x")),ISNUMBER(FIND(MID(D9,8,1)&"x","0x1x2x3x4x5x6x7x8x9x"))))),"主担当IDの形式を確認",IF(AND(D9<>"",COUNTIFS(担当者ID!$A$8:$A$27,D9)<>1),"主担当が未登録/重複",IF(AND(E9<>"",NOT(AND(ISTEXT(E9),LEN(E9)=8,EXACT(LEFT(E9,4),"STF-"),ISNUMBER(FIND(MID(E9,5,1)&"x","0x1x2x3x4x5x6x7x8x9x")),ISNUMBER(FIND(MID(E9,6,1)&"x","0x1x2x3x4x5x6x7x8x9x")),ISNUMBER(FIND(MID(E9,7,1)&"x","0x1x2x3x4x5x6x7x8x9x")),ISNUMBER(FIND(MID(E9,8,1)&"x","0x1x2x3x4x5x6x7x8x9x"))))),"補助IDの形式を確認",IF(AND(E9<>"",COUNTIFS(担当者ID!$A$8:$A$27,E9)<>1),"補助が未登録/重複",IF(NOT(OR(F9="要",F9="不要")),"補助必要は要/不要",IF(NOT(OR(G9="確認済",G9="未確認",G9="不要")),"引継ぎの区分を確認",IF(AND(G9="確認済",D9=""),"主担当なしの引継確認済",IF(AND(G9="確認済",NOT(AND(ISNUMBER(H9),H9>=43831,H9<73051,H9=INT(H9)))),"引継確認日は日付で必須",IF(AND(G9="確認済",H9>担当状況!$B$3),"確認日が基準日より後",IF(AND(G9<>"確認済",H9<>""),"確認済以外は確認日を空欄","確認済み"))))))))))))))) -> 確認済み | P9: =IF(O9="","",IF(O9="確認済み",0,1)) -> 0 | Q9: =IF(O9="","",IF(NOT(AND(ISNUMBER(P9),P9=IF(O9="確認済み",0,1))),1,IF(P9<>0,0,IF(AND(ISNUMBER(I9),I9=IF(D9="",1,0),ISNUMBER(J9),J9=IF(AND(F9="要",E9=""),1,0),ISNUMBER(K9),K9=IF(AND(D9<>"",E9<>"",D9=E9),1,0),ISNUMBER(L9),L9=IF(G9="未確認",1,0),ISTEXT(M9),M9=IF(AND(I9=1,J9=1),"主・補助未割当",IF(I9=1,"主未割当",IF(J9=1,"補助未割当",IF(K9=1,"主補助同一","割当あり")))),ISTEXT(N9),N9=IF(B9>担当状況!$B$3,"開始前",IF(C9<担当状況!$B$3,"終了後","期間内"))),0,1)))) -> 0
A10: WRK-0003 | B10: 46296 | C10: 46326 | D10: STF-0002 | F10: 要 | G10: 不要 | I10: =IF(O10="","",IF(P10<>0,NA(),IF(D10="",1,0))) -> 0 | J10: =IF(O10="","",IF(P10<>0,NA(),IF(AND(F10="要",E10=""),1,0))) -> 1 | K10: =IF(O10="","",IF(P10<>0,NA(),IF(AND(D10<>"",E10<>"",D10=E10),1,0))) -> 0 | L10: =IF(O10="","",IF(P10<>0,NA(),IF(G10="未確認",1,0))) -> 0 | M10: =IF(O10="","",IF(P10<>0,NA(),IF(AND(I10=1,J10=1),"主・補助未割当",IF(I10=1,"主未割当",IF(J10=1,"補助未割当",IF(K10=1,"主補助同一","割当あり")))))) -> 補助未割当 | N10: =IF(O10="","",IF(P10<>0,NA(),IF(B10>担当状況!$B$3,"開始前",IF(C10<担当状況!$B$3,"終了後","期間内")))) -> 期間内 | O10: =IF(COUNTA(A10:H10)=0,"",IF(NOT(AND(ISTEXT(A10),LEN(A10)=8,EXACT(LEFT(A10,4),"WRK-"),ISNUMBER(FIND(MID(A10,5,1)&"x","0x1x2x3x4x5x6x7x8x9x")),ISNUMBER(FIND(MID(A10,6,1)&"x","0x1x2x3x4x5x6x7x8x9x")),ISNUMBER(FIND(MID(A10,7,1)&"x","0x1x2x3x4x5x6x7x8x9x")),ISNUMBER(FIND(MID(A10,8,1)&"x","0x1x2x3x4x5x6x7x8x9x")))),"IDはWRK-と半角数字4桁",IF(COUNTIFS($A$8:$A$38,A10)>1,"仕事IDが重複",IF(NOT(AND(AND(ISNUMBER(B10),B10>=43831,B10<73051,B10=INT(B10)),AND(ISNUMBER(C10),C10>=43831,C10<73051,C10=INT(C10)))),"開始/終了は時刻なしの日付",IF(C10<B10,"期間の逆転",IF(AND(D10<>"",NOT(AND(ISTEXT(D10),LEN(D10)=8,EXACT(LEFT(D10,4),"STF-"),ISNUMBER(FIND(MID(D10,5,1)&"x","0x1x2x3x4x5x6x7x8x9x")),ISNUMBER(FIND(MID(D10,6,1)&"x","0x1x2x3x4x5x6x7x8x9x")),ISNUMBER(FIND(MID(D10,7,1)&"x","0x1x2x3x4x5x6x7x8x9x")),ISNUMBER(FIND(MID(D10,8,1)&"x","0x1x2x3x4x5x6x7x8x9x"))))),"主担当IDの形式を確認",IF(AND(D10<>"",COUNTIFS(担当者ID!$A$8:$A$27,D10)<>1),"主担当が未登録/重複",IF(AND(E10<>"",NOT(AND(ISTEXT(E10),LEN(E10)=8,EXACT(LEFT(E10,4),"STF-"),ISNUMBER(FIND(MID(E10,5,1)&"x","0x1x2x3x4x5x6x7x8x9x")),ISNUMBER(FIND(MID(E10,6,1)&"x","0x1x2x3x4x5x6x7x8x9x")),ISNUMBER(FIND(MID(E10,7,1)&"x","0x1x2x3x4x5x6x7x8x9x")),ISNUMBER(FIND(MID(E10,8,1)&"x","0x1x2x3x4x5x6x7x8x9x"))))),"補助IDの形式を確認",IF(AND(E10<>"",COUNTIFS(担当者ID!$A$8:$A$27,E10)<>1),"補助が未登録/重複",IF(NOT(OR(F10="要",F10="不要")),"補助必要は要/不要",IF(NOT(OR(G10="確認済",G10="未確認",G10="不要")),"引継ぎの区分を確認",IF(AND(G10="確認済",D10=""),"主担当なしの引継確認済",IF(AND(G10="確認済",NOT(AND(ISNUMBER(H10),H10>=43831,H10<73051,H10=INT(H10)))),"引継確認日は日付で必須",IF(AND(G10="確認済",H10>担当状況!$B$3),"確認日が基準日より後",IF(AND(G10<>"確認済",H10<>""),"確認済以外は確認日を空欄","確認済み"))))))))))))))) -> 確認済み | P10: =IF(O10="","",IF(O10="確認済み",0,1)) -> 0 | Q10: =IF(O10="","",IF(NOT(AND(ISNUMBER(P10),P10=IF(O10="確認済み",0,1))),1,IF(P10<>0,0,IF(AND(ISNUMBER(I10),I10=IF(D10="",1,0),ISNUMBER(J10),J10=IF(AND(F10="要",E10=""),1,0),ISNUMBER(K10),K10=IF(AND(D10<>"",E10<>"",D10=E10),1,0),ISNUMBER(L10),L10=IF(G10="未確認",1,0),ISTEXT(M10),M10=IF(AND(I10=1,J10=1),"主・補助未割当",IF(I10=1,"主未割当",IF(J10=1,"補助未割当",IF(K10=1,"主補助同一","割当あり")))),ISTEXT(N10),N10=IF(B10>担当状況!$B$3,"開始前",IF(C10<担当状況!$B$3,"終了後","期間内"))),0,1)))) -> 0
A11: WRK-0004 | B11: 46296 | C11: 46326 | D11: STF-0003 | E11: STF-0003 | F11: 要 | G11: 未確認 | I11: =IF(O11="","",IF(P11<>0,NA(),IF(D11="",1,0))) -> 0 | J11: =IF(O11="","",IF(P11<>0,NA(),IF(AND(F11="要",E11=""),1,0))) -> 0 | K11: =IF(O11="","",IF(P11<>0,NA(),IF(AND(D11<>"",E11<>"",D11=E11),1,0))) -> 1 | L11: =IF(O11="","",IF(P11<>0,NA(),IF(G11="未確認",1,0))) -> 1 | M11: =IF(O11="","",IF(P11<>0,NA(),IF(AND(I11=1,J11=1),"主・補助未割当",IF(I11=1,"主未割当",IF(J11=1,"補助未割当",IF(K11=1,"主補助同一","割当あり")))))) -> 主補助同一 | N11: =IF(O11="","",IF(P11<>0,NA(),IF(B11>担当状況!$B$3,"開始前",IF(C11<担当状況!$B$3,"終了後","期間内")))) -> 期間内 | O11: =IF(COUNTA(A11:H11)=0,"",IF(NOT(AND(ISTEXT(A11),LEN(A11)=8,EXACT(LEFT(A11,4),"WRK-"),ISNUMBER(FIND(MID(A11,5,1)&"x","0x1x2x3x4x5x6x7x8x9x")),ISNUMBER(FIND(MID(A11,6,1)&"x","0x1x2x3x4x5x6x7x8x9x")),ISNUMBER(FIND(MID(A11,7,1)&"x","0x1x2x3x4x5x6x7x8x9x")),ISNUMBER(FIND(MID(A11,8,1)&"x","0x1x2x3x4x5x6x7x8x9x")))),"IDはWRK-と半角数字4桁",IF(COUNTIFS($A$8:$A$38,A11)>1,"仕事IDが重複",IF(NOT(AND(AND(ISNUMBER(B11),B11>=43831,B11<73051,B11=INT(B11)),AND(ISNUMBER(C11),C11>=43831,C11<73051,C11=INT(C11)))),"開始/終了は時刻なしの日付",IF(C11<B11,"期間の逆転",IF(AND(D11<>"",NOT(AND(ISTEXT(D11),LEN(D11)=8,EXACT(LEFT(D11,4),"STF-"),ISNUMBER(FIND(MID(D11,5,1)&"x","0x1x2x3x4x5x6x7x8x9x")),ISNUMBER(FIND(MID(D11,6,1)&"x","0x1x2x3x4x5x6x7x8x9x")),ISNUMBER(FIND(MID(D11,7,1)&"x","0x1x2x3x4x5x6x7x8x9x")),ISNUMBER(FIND(MID(D11,8,1)&"x","0x1x2x3x4x5x6x7x8x9x"))))),"主担当IDの形式を確認",IF(AND(D11<>"",COUNTIFS(担当者ID!$A$8:$A$27,D11)<>1),"主担当が未登録/重複",IF(AND(E11<>"",NOT(AND(ISTEXT(E11),LEN(E11)=8,EXACT(LEFT(E11,4),"STF-"),ISNUMBER(FIND(MID(E11,5,1)&"x","0x1x2x3x4x5x6x7x8x9x")),ISNUMBER(FIND(MID(E11,6,1)&"x","0x1x2x3x4x5x6x7x8x9x")),ISNUMBER(FIND(MID(E11,7,1)&"x","0x1x2x3x4x5x6x7x8x9x")),ISNUMBER(FIND(MID(E11,8,1)&"x","0x1x2x3x4x5x6x7x8x9x"))))),"補助IDの形式を確認",IF(AND(E11<>"",COUNTIFS(担当者ID!$A$8:$A$27,E11)<>1),"補助が未登録/重複",IF(NOT(OR(F11="要",F11="不要")),"補助必要は要/不要",IF(NOT(OR(G11="確認済",G11="未確認",G11="不要")),"引継ぎの区分を確認",IF(AND(G11="確認済",D11=""),"主担当なしの引継確認済",IF(AND(G11="確認済",NOT(AND(ISNUMBER(H11),H11>=43831,H11<73051,H11=INT(H11)))),"引継確認日は日付で必須",IF(AND(G11="確認済",H11>担当状況!$B$3),"確認日が基準日より後",IF(AND(G11<>"確認済",H11<>""),"確認済以外は確認日を空欄","確認済み"))))))))))))))) -> 確認済み | P11: =IF(O11="","",IF(O11="確認済み",0,1)) -> 0 | Q11: =IF(O11="","",IF(NOT(AND(ISNUMBER(P11),P11=IF(O11="確認済み",0,1))),1,IF(P11<>0,0,IF(AND(ISNUMBER(I11),I11=IF(D11="",1,0),ISNUMBER(J11),J11=IF(AND(F11="要",E11=""),1,0),ISNUMBER(K11),K11=IF(AND(D11<>"",E11<>"",D11=E11),1,0),ISNUMBER(L11),L11=IF(G11="未確認",1,0),ISTEXT(M11),M11=IF(AND(I11=1,J11=1),"主・補助未割当",IF(I11=1,"主未割当",IF(J11=1,"補助未割当",IF(K11=1,"主補助同一","割当あり")))),ISTEXT(N11),N11=IF(B11>担当状況!$B$3,"開始前",IF(C11<担当状況!$B$3,"終了後","期間内"))),0,1)))) -> 0
A12: WRK-0005 | B12: 46296 | C12: 46326 | D12: STF-0004 | F12: 不要 | G12: 不要 | I12: =IF(O12="","",IF(P12<>0,NA(),IF(D12="",1,0))) -> 0 | J12: =IF(O12="","",IF(P12<>0,NA(),IF(AND(F12="要",E12=""),1,0))) -> 0 | K12: =IF(O12="","",IF(P12<>0,NA(),IF(AND(D12<>"",E12<>"",D12=E12),1,0))) -> 0 | L12: =IF(O12="","",IF(P12<>0,NA(),IF(G12="未確認",1,0))) -> 0 | M12: =IF(O12="","",IF(P12<>0,NA(),IF(AND(I12=1,J12=1),"主・補助未割当",IF(I12=1,"主未割当",IF(J12=1,"補助未割当",IF(K12=1,"主補助同一","割当あり")))))) -> 割当あり | N12: =IF(O12="","",IF(P12<>0,NA(),IF(B12>担当状況!$B$3,"開始前",IF(C12<担当状況!$B$3,"終了後","期間内")))) -> 期間内 | O12: =IF(COUNTA(A12:H12)=0,"",IF(NOT(AND(ISTEXT(A12),LEN(A12)=8,EXACT(LEFT(A12,4),"WRK-"),ISNUMBER(FIND(MID(A12,5,1)&"x","0x1x2x3x4x5x6x7x8x9x")),ISNUMBER(FIND(MID(A12,6,1)&"x","0x1x2x3x4x5x6x7x8x9x")),ISNUMBER(FIND(MID(A12,7,1)&"x","0x1x2x3x4x5x6x7x8x9x")),ISNUMBER(FIND(MID(A12,8,1)&"x","0x1x2x3x4x5x6x7x8x9x")))),"IDはWRK-と半角数字4桁",IF(COUNTIFS($A$8:$A$38,A12)>1,"仕事IDが重複",IF(NOT(AND(AND(ISNUMBER(B12),B12>=43831,B12<73051,B12=INT(B12)),AND(ISNUMBER(C12),C12>=43831,C12<73051,C12=INT(C12)))),"開始/終了は時刻なしの日付",IF(C12<B12,"期間の逆転",IF(AND(D12<>"",NOT(AND(ISTEXT(D12),LEN(D12)=8,EXACT(LEFT(D12,4),"STF-"),ISNUMBER(FIND(MID(D12,5,1)&"x","0x1x2x3x4x5x6x7x8x9x")),ISNUMBER(FIND(MID(D12,6,1)&"x","0x1x2x3x4x5x6x7x8x9x")),ISNUMBER(FIND(MID(D12,7,1)&"x","0x1x2x3x4x5x6x7x8x9x")),ISNUMBER(FIND(MID(D12,8,1)&"x","0x1x2x3x4x5x6x7x8x9x"))))),"主担当IDの形式を確認",IF(AND(D12<>"",COUNTIFS(担当者ID!$A$8:$A$27,D12)<>1),"主担当が未登録/重複",IF(AND(E12<>"",NOT(AND(ISTEXT(E12),LEN(E12)=8,EXACT(LEFT(E12,4),"STF-"),ISNUMBER(FIND(MID(E12,5,1)&"x","0x1x2x3x4x5x6x7x8x9x")),ISNUMBER(FIND(MID(E12,6,1)&"x","0x1x2x3x4x5x6x7x8x9x")),ISNUMBER(FIND(MID(E12,7,1)&"x","0x1x2x3x4x5x6x7x8x9x")),ISNUMBER(FIND(MID(E12,8,1)&"x","0x1x2x3x4x5x6x7x8x9x"))))),"補助IDの形式を確認",IF(AND(E12<>"",COUNTIFS(担当者ID!$A$8:$A$27,E12)<>1),"補助が未登録/重複",IF(NOT(OR(F12="要",F12="不要")),"補助必要は要/不要",IF(NOT(OR(G12="確認済",G12="未確認",G12="不要")),"引継ぎの区分を確認",IF(AND(G12="確認済",D12=""),"主担当なしの引継確認済",IF(AND(G12="確認済",NOT(AND(ISNUMBER(H12),H12>=43831,H12<73051,H12=INT(H12)))),"引継確認日は日付で必須",IF(AND(G12="確認済",H12>担当状況!$B$3),"確認日が基準日より後",IF(AND(G12<>"確認済",H12<>""),"確認済以外は確認日を空欄","確認済み"))))))))))))))) -> 確認済み | P12: =IF(O12="","",IF(O12="確認済み",0,1)) -> 0 | Q12: =IF(O12="","",IF(NOT(AND(ISNUMBER(P12),P12=IF(O12="確認済み",0,1))),1,IF(P12<>0,0,IF(AND(ISNUMBER(I12),I12=IF(D12="",1,0),ISNUMBER(J12),J12=IF(AND(F12="要",E12=""),1,0),ISNUMBER(K12),K12=IF(AND(D12<>"",E12<>"",D12=E12),1,0),ISNUMBER(L12),L12=IF(G12="未確認",1,0),ISTEXT(M12),M12=IF(AND(I12=1,J12=1),"主・補助未割当",IF(I12=1,"主未割当",IF(J12=1,"補助未割当",IF(K12=1,"主補助同一","割当あり")))),ISTEXT(N12),N12=IF(B12>担当状況!$B$3,"開始前",IF(C12<担当状況!$B$3,"終了後","期間内"))),0,1)))) -> 0
A13: WRK-0006 | B13: 46315 | C13: 46326 | F13: 要 | G13: 未確認 | I13: =IF(O13="","",IF(P13<>0,NA(),IF(D13="",1,0))) -> 1 | J13: =IF(O13="","",IF(P13<>0,NA(),IF(AND(F13="要",E13=""),1,0))) -> 1 | K13: =IF(O13="","",IF(P13<>0,NA(),IF(AND(D13<>"",E13<>"",D13=E13),1,0))) -> 0 | L13: =IF(O13="","",IF(P13<>0,NA(),IF(G13="未確認",1,0))) -> 1 | M13: =IF(O13="","",IF(P13<>0,NA(),IF(AND(I13=1,J13=1),"主・補助未割当",IF(I13=1,"主未割当",IF(J13=1,"補助未割当",IF(K13=1,"主補助同一","割当あり")))))) -> 主・補助未割当 | N13: =IF(O13="","",IF(P13<>0,NA(),IF(B13>担当状況!$B$3,"開始前",IF(C13<担当状況!$B$3,"終了後","期間内")))) -> 開始前 | O13: =IF(COUNTA(A13:H13)=0,"",IF(NOT(AND(ISTEXT(A13),LEN(A13)=8,EXACT(LEFT(A13,4),"WRK-"),ISNUMBER(FIND(MID(A13,5,1)&"x","0x1x2x3x4x5x6x7x8x9x")),ISNUMBER(FIND(MID(A13,6,1)&"x","0x1x2x3x4x5x6x7x8x9x")),ISNUMBER(FIND(MID(A13,7,1)&"x","0x1x2x3x4x5x6x7x8x9x")),ISNUMBER(FIND(MID(A13,8,1)&"x","0x1x2x3x4x5x6x7x8x9x")))),"IDはWRK-と半角数字4桁",IF(COUNTIFS($A$8:$A$38,A13)>1,"仕事IDが重複",IF(NOT(AND(AND(ISNUMBER(B13),B13>=43831,B13<73051,B13=INT(B13)),AND(ISNUMBER(C13),C13>=43831,C13<73051,C13=INT(C13)))),"開始/終了は時刻なしの日付",IF(C13<B13,"期間の逆転",IF(AND(D13<>"",NOT(AND(ISTEXT(D13),LEN(D13)=8,EXACT(LEFT(D13,4),"STF-"),ISNUMBER(FIND(MID(D13,5,1)&"x","0x1x2x3x4x5x6x7x8x9x")),ISNUMBER(FIND(MID(D13,6,1)&"x","0x1x2x3x4x5x6x7x8x9x")),ISNUMBER(FIND(MID(D13,7,1)&"x","0x1x2x3x4x5x6x7x8x9x")),ISNUMBER(FIND(MID(D13,8,1)&"x","0x1x2x3x4x5x6x7x8x9x"))))),"主担当IDの形式を確認",IF(AND(D13<>"",COUNTIFS(担当者ID!$A$8:$A$27,D13)<>1),"主担当が未登録/重複",IF(AND(E13<>"",NOT(AND(ISTEXT(E13),LEN(E13)=8,EXACT(LEFT(E13,4),"STF-"),ISNUMBER(FIND(MID(E13,5,1)&"x","0x1x2x3x4x5x6x7x8x9x")),ISNUMBER(FIND(MID(E13,6,1)&"x","0x1x2x3x4x5x6x7x8x9x")),ISNUMBER(FIND(MID(E13,7,1)&"x","0x1x2x3x4x5x6x7x8x9x")),ISNUMBER(FIND(MID(E13,8,1)&"x","0x1x2x3x4x5x6x7x8x9x"))))),"補助IDの形式を確認",IF(AND(E13<>"",COUNTIFS(担当者ID!$A$8:$A$27,E13)<>1),"補助が未登録/重複",IF(NOT(OR(F13="要",F13="不要")),"補助必要は要/不要",IF(NOT(OR(G13="確認済",G13="未確認",G13="不要")),"引継ぎの区分を確認",IF(AND(G13="確認済",D13=""),"主担当なしの引継確認済",IF(AND(G13="確認済",NOT(AND(ISNUMBER(H13),H13>=43831,H13<73051,H13=INT(H13)))),"引継確認日は日付で必須",IF(AND(G13="確認済",H13>担当状況!$B$3),"確認日が基準日より後",IF(AND(G13<>"確認済",H13<>""),"確認済以外は確認日を空欄","確認済み"))))))))))))))) -> 確認済み | P13: =IF(O13="","",IF(O13="確認済み",0,1)) -> 0 | Q13: =IF(O13="","",IF(NOT(AND(ISNUMBER(P13),P13=IF(O13="確認済み",0,1))),1,IF(P13<>0,0,IF(AND(ISNUMBER(I13),I13=IF(D13="",1,0),ISNUMBER(J13),J13=IF(AND(F13="要",E13=""),1,0),ISNUMBER(K13),K13=IF(AND(D13<>"",E13<>"",D13=E13),1,0),ISNUMBER(L13),L13=IF(G13="未確認",1,0),ISTEXT(M13),M13=IF(AND(I13=1,J13=1),"主・補助未割当",IF(I13=1,"主未割当",IF(J13=1,"補助未割当",IF(K13=1,"主補助同一","割当あり")))),ISTEXT(N13),N13=IF(B13>担当状況!$B$3,"開始前",IF(C13<担当状況!$B$3,"終了後","期間内"))),0,1)))) -> 0
A14: WRK-0007 | B14: 46266 | C14: 46295 | D14: STF-0001 | E14: STF-0002 | F14: 要 | G14: 確認済 | H14: 46266 | I14: =IF(O14="","",IF(P14<>0,NA(),IF(D14="",1,0))) -> 0 | J14: =IF(O14="","",IF(P14<>0,NA(),IF(AND(F14="要",E14=""),1,0))) -> 0 | K14: =IF(O14="","",IF(P14<>0,NA(),IF(AND(D14<>"",E14<>"",D14=E14),1,0))) -> 0 | L14: =IF(O14="","",IF(P14<>0,NA(),IF(G14="未確認",1,0))) -> 0 | M14: =IF(O14="","",IF(P14<>0,NA(),IF(AND(I14=1,J14=1),"主・補助未割当",IF(I14=1,"主未割当",IF(J14=1,"補助未割当",IF(K14=1,"主補助同一","割当あり")))))) -> 割当あり | N14: =IF(O14="","",IF(P14<>0,NA(),IF(B14>担当状況!$B$3,"開始前",IF(C14<担当状況!$B$3,"終了後","期間内")))) -> 終了後 | O14: =IF(COUNTA(A14:H14)=0,"",IF(NOT(AND(ISTEXT(A14),LEN(A14)=8,EXACT(LEFT(A14,4),"WRK-"),ISNUMBER(FIND(MID(A14,5,1)&"x","0x1x2x3x4x5x6x7x8x9x")),ISNUMBER(FIND(MID(A14,6,1)&"x","0x1x2x3x4x5x6x7x8x9x")),ISNUMBER(FIND(MID(A14,7,1)&"x","0x1x2x3x4x5x6x7x8x9x")),ISNUMBER(FIND(MID(A14,8,1)&"x","0x1x2x3x4x5x6x7x8x9x")))),"IDはWRK-と半角数字4桁",IF(COUNTIFS($A$8:$A$38,A14)>1,"仕事IDが重複",IF(NOT(AND(AND(ISNUMBER(B14),B14>=43831,B14<73051,B14=INT(B14)),AND(ISNUMBER(C14),C14>=43831,C14<73051,C14=INT(C14)))),"開始/終了は時刻なしの日付",IF(C14<B14,"期間の逆転",IF(AND(D14<>"",NOT(AND(ISTEXT(D14),LEN(D14)=8,EXACT(LEFT(D14,4),"STF-"),ISNUMBER(FIND(MID(D14,5,1)&"x","0x1x2x3x4x5x6x7x8x9x")),ISNUMBER(FIND(MID(D14,6,1)&"x","0x1x2x3x4x5x6x7x8x9x")),ISNUMBER(FIND(MID(D14,7,1)&"x","0x1x2x3x4x5x6x7x8x9x")),ISNUMBER(FIND(MID(D14,8,1)&"x","0x1x2x3x4x5x6x7x8x9x"))))),"主担当IDの形式を確認",IF(AND(D14<>"",COUNTIFS(担当者ID!$A$8:$A$27,D14)<>1),"主担当が未登録/重複",IF(AND(E14<>"",NOT(AND(ISTEXT(E14),LEN(E14)=8,EXACT(LEFT(E14,4),"STF-"),ISNUMBER(FIND(MID(E14,5,1)&"x","0x1x2x3x4x5x6x7x8x9x")),ISNUMBER(FIND(MID(E14,6,1)&"x","0x1x2x3x4x5x6x7x8x9x")),ISNUMBER(FIND(MID(E14,7,1)&"x","0x1x2x3x4x5x6x7x8x9x")),ISNUMBER(FIND(MID(E14,8,1)&"x","0x1x2x3x4x5x6x7x8x9x"))))),"補助IDの形式を確認",IF(AND(E14<>"",COUNTIFS(担当者ID!$A$8:$A$27,E14)<>1),"補助が未登録/重複",IF(NOT(OR(F14="要",F14="不要")),"補助必要は要/不要",IF(NOT(OR(G14="確認済",G14="未確認",G14="不要")),"引継ぎの区分を確認",IF(AND(G14="確認済",D14=""),"主担当なしの引継確認済",IF(AND(G14="確認済",NOT(AND(ISNUMBER(H14),H14>=43831,H14<73051,H14=INT(H14)))),"引継確認日は日付で必須",IF(AND(G14="確認済",H14>担当状況!$B$3),"確認日が基準日より後",IF(AND(G14<>"確認済",H14<>""),"確認済以外は確認日を空欄","確認済み"))))))))))))))) -> 確認済み | P14: =IF(O14="","",IF(O14="確認済み",0,1)) -> 0 | Q14: =IF(O14="","",IF(NOT(AND(ISNUMBER(P14),P14=IF(O14="確認済み",0,1))),1,IF(P14<>0,0,IF(AND(ISNUMBER(I14),I14=IF(D14="",1,0),ISNUMBER(J14),J14=IF(AND(F14="要",E14=""),1,0),ISNUMBER(K14),K14=IF(AND(D14<>"",E14<>"",D14=E14),1,0),ISNUMBER(L14),L14=IF(G14="未確認",1,0),ISTEXT(M14),M14=IF(AND(I14=1,J14=1),"主・補助未割当",IF(I14=1,"主未割当",IF(J14=1,"補助未割当",IF(K14=1,"主補助同一","割当あり")))),ISTEXT(N14),N14=IF(B14>担当状況!$B$3,"開始前",IF(C14<担当状況!$B$3,"終了後","期間内"))),0,1)))) -> 0
A15: WRK-0008 | B15: 46296 | C15: 46326 | F15: 要 | G15: 未確認 | I15: =IF(O15="","",IF(P15<>0,NA(),IF(D15="",1,0))) -> 1 | J15: =IF(O15="","",IF(P15<>0,NA(),IF(AND(F15="要",E15=""),1,0))) -> 1 | K15: =IF(O15="","",IF(P15<>0,NA(),IF(AND(D15<>"",E15<>"",D15=E15),1,0))) -> 0 | L15: =IF(O15="","",IF(P15<>0,NA(),IF(G15="未確認",1,0))) -> 1 | M15: =IF(O15="","",IF(P15<>0,NA(),IF(AND(I15=1,J15=1),"主・補助未割当",IF(I15=1,"主未割当",IF(J15=1,"補助未割当",IF(K15=1,"主補助同一","割当あり")))))) -> 主・補助未割当 | N15: =IF(O15="","",IF(P15<>0,NA(),IF(B15>担当状況!$B$3,"開始前",IF(C15<担当状況!$B$3,"終了後","期間内")))) -> 期間内 | O15: =IF(COUNTA(A15:H15)=0,"",IF(NOT(AND(ISTEXT(A15),LEN(A15)=8,EXACT(LEFT(A15,4),"WRK-"),ISNUMBER(FIND(MID(A15,5,1)&"x","0x1x2x3x4x5x6x7x8x9x")),ISNUMBER(FIND(MID(A15,6,1)&"x","0x1x2x3x4x5x6x7x8x9x")),ISNUMBER(FIND(MID(A15,7,1)&"x","0x1x2x3x4x5x6x7x8x9x")),ISNUMBER(FIND(MID(A15,8,1)&"x","0x1x2x3x4x5x6x7x8x9x")))),"IDはWRK-と半角数字4桁",IF(COUNTIFS($A$8:$A$38,A15)>1,"仕事IDが重複",IF(NOT(AND(AND(ISNUMBER(B15),B15>=43831,B15<73051,B15=INT(B15)),AND(ISNUMBER(C15),C15>=43831,C15<73051,C15=INT(C15)))),"開始/終了は時刻なしの日付",IF(C15<B15,"期間の逆転",IF(AND(D15<>"",NOT(AND(ISTEXT(D15),LEN(D15)=8,EXACT(LEFT(D15,4),"STF-"),ISNUMBER(FIND(MID(D15,5,1)&"x","0x1x2x3x4x5x6x7x8x9x")),ISNUMBER(FIND(MID(D15,6,1)&"x","0x1x2x3x4x5x6x7x8x9x")),ISNUMBER(FIND(MID(D15,7,1)&"x","0x1x2x3x4x5x6x7x8x9x")),ISNUMBER(FIND(MID(D15,8,1)&"x","0x1x2x3x4x5x6x7x8x9x"))))),"主担当IDの形式を確認",IF(AND(D15<>"",COUNTIFS(担当者ID!$A$8:$A$27,D15)<>1),"主担当が未登録/重複",IF(AND(E15<>"",NOT(AND(ISTEXT(E15),LEN(E15)=8,EXACT(LEFT(E15,4),"STF-"),ISNUMBER(FIND(MID(E15,5,1)&"x","0x1x2x3x4x5x6x7x8x9x")),ISNUMBER(FIND(MID(E15,6,1)&"x","0x1x2x3x4x5x6x7x8x9x")),ISNUMBER(FIND(MID(E15,7,1)&"x","0x1x2x3x4x5x6x7x8x9x")),ISNUMBER(FIND(MID(E15,8,1)&"x","0x1x2x3x4x5x6x7x8x9x"))))),"補助IDの形式を確認",IF(AND(E15<>"",COUNTIFS(担当者ID!$A$8:$A$27,E15)<>1),"補助が未登録/重複",IF(NOT(OR(F15="要",F15="不要")),"補助必要は要/不要",IF(NOT(OR(G15="確認済",G15="未確認",G15="不要")),"引継ぎの区分を確認",IF(AND(G15="確認済",D15=""),"主担当なしの引継確認済",IF(AND(G15="確認済",NOT(AND(ISNUMBER(H15),H15>=43831,H15<73051,H15=INT(H15)))),"引継確認日は日付で必須",IF(AND(G15="確認済",H15>担当状況!$B$3),"確認日が基準日より後",IF(AND(G15<>"確認済",H15<>""),"確認済以外は確認日を空欄","確認済み"))))))))))))))) -> 確認済み | P15: =IF(O15="","",IF(O15="確認済み",0,1)) -> 0 | Q15: =IF(O15="","",IF(NOT(AND(ISNUMBER(P15),P15=IF(O15="確認済み",0,1))),1,IF(P15<>0,0,IF(AND(ISNUMBER(I15),I15=IF(D15="",1,0),ISNUMBER(J15),J15=IF(AND(F15="要",E15=""),1,0),ISNUMBER(K15),K15=IF(AND(D15<>"",E15<>"",D15=E15),1,0),ISNUMBER(L15),L15=IF(G15="未確認",1,0),ISTEXT(M15),M15=IF(AND(I15=1,J15=1),"主・補助未割当",IF(I15=1,"主未割当",IF(J15=1,"補助未割当",IF(K15=1,"主補助同一","割当あり")))),ISTEXT(N15),N15=IF(B15>担当状況!$B$3,"開始前",IF(C15<担当状況!$B$3,"終了後","期間内"))),0,1)))) -> 0
I16: =IF(O16="","",IF(P16<>0,NA(),IF(D16="",1,0))) | J16: =IF(O16="","",IF(P16<>0,NA(),IF(AND(F16="要",E16=""),1,0))) | K16: =IF(O16="","",IF(P16<>0,NA(),IF(AND(D16<>"",E16<>"",D16=E16),1,0))) | L16: =IF(O16="","",IF(P16<>0,NA(),IF(G16="未確認",1,0))) | M16: =IF(O16="","",IF(P16<>0,NA(),IF(AND(I16=1,J16=1),"主・補助未割当",IF(I16=1,"主未割当",IF(J16=1,"補助未割当",IF(K16=1,"主補助同一","割当あり")))))) | N16: =IF(O16="","",IF(P16<>0,NA(),IF(B16>担当状況!$B$3,"開始前",IF(C16<担当状況!$B$3,"終了後","期間内")))) | O16: =IF(COUNTA(A16:H16)=0,"",IF(NOT(AND(ISTEXT(A16),LEN(A16)=8,EXACT(LEFT(A16,4),"WRK-"),ISNUMBER(FIND(MID(A16,5,1)&"x","0x1x2x3x4x5x6x7x8x9x")),ISNUMBER(FIND(MID(A16,6,1)&"x","0x1x2x3x4x5x6x7x8x9x")),ISNUMBER(FIND(MID(A16,7,1)&"x","0x1x2x3x4x5x6x7x8x9x")),ISNUMBER(FIND(MID(A16,8,1)&"x","0x1x2x3x4x5x6x7x8x9x")))),"IDはWRK-と半角数字4桁",IF(COUNTIFS($A$8:$A$38,A16)>1,"仕事IDが重複",IF(NOT(AND(AND(ISNUMBER(B16),B16>=43831,B16<73051,B16=INT(B16)),AND(ISNUMBER(C16),C16>=43831,C16<73051,C16=INT(C16)))),"開始/終了は時刻なしの日付",IF(C16<B16,"期間の逆転",IF(AND(D16<>"",NOT(AND(ISTEXT(D16),LEN(D16)=8,EXACT(LEFT(D16,4),"STF-"),ISNUMBER(FIND(MID(D16,5,1)&"x","0x1x2x3x4x5x6x7x8x9x")),ISNUMBER(FIND(MID(D16,6,1)&"x","0x1x2x3x4x5x6x7x8x9x")),ISNUMBER(FIND(MID(D16,7,1)&"x","0x1x2x3x4x5x6x7x8x9x")),ISNUMBER(FIND(MID(D16,8,1)&"x","0x1x2x3x4x5x6x7x8x9x"))))),"主担当IDの形式を確認",IF(AND(D16<>"",COUNTIFS(担当者ID!$A$8:$A$27,D16)<>1),"主担当が未登録/重複",IF(AND(E16<>"",NOT(AND(ISTEXT(E16),LEN(E16)=8,EXACT(LEFT(E16,4),"STF-"),ISNUMBER(FIND(MID(E16,5,1)&"x","0x1x2x3x4x5x6x7x8x9x")),ISNUMBER(FIND(MID(E16,6,1)&"x","0x1x2x3x4x5x6x7x8x9x")),ISNUMBER(FIND(MID(E16,7,1)&"x","0x1x2x3x4x5x6x7x8x9x")),ISNUMBER(FIND(MID(E16,8,1)&"x","0x1x2x3x4x5x6x7x8x9x"))))),"補助IDの形式を確認",IF(AND(E16<>"",COUNTIFS(担当者ID!$A$8:$A$27,E16)<>1),"補助が未登録/重複",IF(NOT(OR(F16="要",F16="不要")),"補助必要は要/不要",IF(NOT(OR(G16="確認済",G16="未確認",G16="不要")),"引継ぎの区分を確認",IF(AND(G16="確認済",D16=""),"主担当なしの引継確認済",IF(AND(G16="確認済",NOT(AND(ISNUMBER(H16),H16>=43831,H16<73051,H16=INT(H16)))),"引継確認日は日付で必須",IF(AND(G16="確認済",H16>担当状況!$B$3),"確認日が基準日より後",IF(AND(G16<>"確認済",H16<>""),"確認済以外は確認日を空欄","確認済み"))))))))))))))) | P16: =IF(O16="","",IF(O16="確認済み",0,1)) | Q16: =IF(O16="","",IF(NOT(AND(ISNUMBER(P16),P16=IF(O16="確認済み",0,1))),1,IF(P16<>0,0,IF(AND(ISNUMBER(I16),I16=IF(D16="",1,0),ISNUMBER(J16),J16=IF(AND(F16="要",E16=""),1,0),ISNUMBER(K16),K16=IF(AND(D16<>"",E16<>"",D16=E16),1,0),ISNUMBER(L16),L16=IF(G16="未確認",1,0),ISTEXT(M16),M16=IF(AND(I16=1,J16=1),"主・補助未割当",IF(I16=1,"主未割当",IF(J16=1,"補助未割当",IF(K16=1,"主補助同一","割当あり")))),ISTEXT(N16),N16=IF(B16>担当状況!$B$3,"開始前",IF(C16<担当状況!$B$3,"終了後","期間内"))),0,1))))
I17: =IF(O17="","",IF(P17<>0,NA(),IF(D17="",1,0))) | J17: =IF(O17="","",IF(P17<>0,NA(),IF(AND(F17="要",E17=""),1,0))) | K17: =IF(O17="","",IF(P17<>0,NA(),IF(AND(D17<>"",E17<>"",D17=E17),1,0))) | L17: =IF(O17="","",IF(P17<>0,NA(),IF(G17="未確認",1,0))) | M17: =IF(O17="","",IF(P17<>0,NA(),IF(AND(I17=1,J17=1),"主・補助未割当",IF(I17=1,"主未割当",IF(J17=1,"補助未割当",IF(K17=1,"主補助同一","割当あり")))))) | N17: =IF(O17="","",IF(P17<>0,NA(),IF(B17>担当状況!$B$3,"開始前",IF(C17<担当状況!$B$3,"終了後","期間内")))) | O17: =IF(COUNTA(A17:H17)=0,"",IF(NOT(AND(ISTEXT(A17),LEN(A17)=8,EXACT(LEFT(A17,4),"WRK-"),ISNUMBER(FIND(MID(A17,5,1)&"x","0x1x2x3x4x5x6x7x8x9x")),ISNUMBER(FIND(MID(A17,6,1)&"x","0x1x2x3x4x5x6x7x8x9x")),ISNUMBER(FIND(MID(A17,7,1)&"x","0x1x2x3x4x5x6x7x8x9x")),ISNUMBER(FIND(MID(A17,8,1)&"x","0x1x2x3x4x5x6x7x8x9x")))),"IDはWRK-と半角数字4桁",IF(COUNTIFS($A$8:$A$38,A17)>1,"仕事IDが重複",IF(NOT(AND(AND(ISNUMBER(B17),B17>=43831,B17<73051,B17=INT(B17)),AND(ISNUMBER(C17),C17>=43831,C17<73051,C17=INT(C17)))),"開始/終了は時刻なしの日付",IF(C17<B17,"期間の逆転",IF(AND(D17<>"",NOT(AND(ISTEXT(D17),LEN(D17)=8,EXACT(LEFT(D17,4),"STF-"),ISNUMBER(FIND(MID(D17,5,1)&"x","0x1x2x3x4x5x6x7x8x9x")),ISNUMBER(FIND(MID(D17,6,1)&"x","0x1x2x3x4x5x6x7x8x9x")),ISNUMBER(FIND(MID(D17,7,1)&"x","0x1x2x3x4x5x6x7x8x9x")),ISNUMBER(FIND(MID(D17,8,1)&"x","0x1x2x3x4x5x6x7x8x9x"))))),"主担当IDの形式を確認",IF(AND(D17<>"",COUNTIFS(担当者ID!$A$8:$A$27,D17)<>1),"主担当が未登録/重複",IF(AND(E17<>"",NOT(AND(ISTEXT(E17),LEN(E17)=8,EXACT(LEFT(E17,4),"STF-"),ISNUMBER(FIND(MID(E17,5,1)&"x","0x1x2x3x4x5x6x7x8x9x")),ISNUMBER(FIND(MID(E17,6,1)&"x","0x1x2x3x4x5x6x7x8x9x")),ISNUMBER(FIND(MID(E17,7,1)&"x","0x1x2x3x4x5x6x7x8x9x")),ISNUMBER(FIND(MID(E17,8,1)&"x","0x1x2x3x4x5x6x7x8x9x"))))),"補助IDの形式を確認",IF(AND(E17<>"",COUNTIFS(担当者ID!$A$8:$A$27,E17)<>1),"補助が未登録/重複",IF(NOT(OR(F17="要",F17="不要")),"補助必要は要/不要",IF(NOT(OR(G17="確認済",G17="未確認",G17="不要")),"引継ぎの区分を確認",IF(AND(G17="確認済",D17=""),"主担当なしの引継確認済",IF(AND(G17="確認済",NOT(AND(ISNUMBER(H17),H17>=43831,H17<73051,H17=INT(H17)))),"引継確認日は日付で必須",IF(AND(G17="確認済",H17>担当状況!$B$3),"確認日が基準日より後",IF(AND(G17<>"確認済",H17<>""),"確認済以外は確認日を空欄","確認済み"))))))))))))))) | P17: =IF(O17="","",IF(O17="確認済み",0,1)) | Q17: =IF(O17="","",IF(NOT(AND(ISNUMBER(P17),P17=IF(O17="確認済み",0,1))),1,IF(P17<>0,0,IF(AND(ISNUMBER(I17),I17=IF(D17="",1,0),ISNUMBER(J17),J17=IF(AND(F17="要",E17=""),1,0),ISNUMBER(K17),K17=IF(AND(D17<>"",E17<>"",D17=E17),1,0),ISNUMBER(L17),L17=IF(G17="未確認",1,0),ISTEXT(M17),M17=IF(AND(I17=1,J17=1),"主・補助未割当",IF(I17=1,"主未割当",IF(J17=1,"補助未割当",IF(K17=1,"主補助同一","割当あり")))),ISTEXT(N17),N17=IF(B17>担当状況!$B$3,"開始前",IF(C17<担当状況!$B$3,"終了後","期間内"))),0,1))))
I18: =IF(O18="","",IF(P18<>0,NA(),IF(D18="",1,0))) | J18: =IF(O18="","",IF(P18<>0,NA(),IF(AND(F18="要",E18=""),1,0))) | K18: =IF(O18="","",IF(P18<>0,NA(),IF(AND(D18<>"",E18<>"",D18=E18),1,0))) | L18: =IF(O18="","",IF(P18<>0,NA(),IF(G18="未確認",1,0))) | M18: =IF(O18="","",IF(P18<>0,NA(),IF(AND(I18=1,J18=1),"主・補助未割当",IF(I18=1,"主未割当",IF(J18=1,"補助未割当",IF(K18=1,"主補助同一","割当あり")))))) | N18: =IF(O18="","",IF(P18<>0,NA(),IF(B18>担当状況!$B$3,"開始前",IF(C18<担当状況!$B$3,"終了後","期間内")))) | O18: =IF(COUNTA(A18:H18)=0,"",IF(NOT(AND(ISTEXT(A18),LEN(A18)=8,EXACT(LEFT(A18,4),"WRK-"),ISNUMBER(FIND(MID(A18,5,1)&"x","0x1x2x3x4x5x6x7x8x9x")),ISNUMBER(FIND(MID(A18,6,1)&"x","0x1x2x3x4x5x6x7x8x9x")),ISNUMBER(FIND(MID(A18,7,1)&"x","0x1x2x3x4x5x6x7x8x9x")),ISNUMBER(FIND(MID(A18,8,1)&"x","0x1x2x3x4x5x6x7x8x9x")))),"IDはWRK-と半角数字4桁",IF(COUNTIFS($A$8:$A$38,A18)>1,"仕事IDが重複",IF(NOT(AND(AND(ISNUMBER(B18),B18>=43831,B18<73051,B18=INT(B18)),AND(ISNUMBER(C18),C18>=43831,C18<73051,C18=INT(C18)))),"開始/終了は時刻なしの日付",IF(C18<B18,"期間の逆転",IF(AND(D18<>"",NOT(AND(ISTEXT(D18),LEN(D18)=8,EXACT(LEFT(D18,4),"STF-"),ISNUMBER(FIND(MID(D18,5,1)&"x","0x1x2x3x4x5x6x7x8x9x")),ISNUMBER(FIND(MID(D18,6,1)&"x","0x1x2x3x4x5x6x7x8x9x")),ISNUMBER(FIND(MID(D18,7,1)&"x","0x1x2x3x4x5x6x7x8x9x")),ISNUMBER(FIND(MID(D18,8,1)&"x","0x1x2x3x4x5x6x7x8x9x"))))),"主担当IDの形式を確認",IF(AND(D18<>"",COUNTIFS(担当者ID!$A$8:$A$27,D18)<>1),"主担当が未登録/重複",IF(AND(E18<>"",NOT(AND(ISTEXT(E18),LEN(E18)=8,EXACT(LEFT(E18,4),"STF-"),ISNUMBER(FIND(MID(E18,5,1)&"x","0x1x2x3x4x5x6x7x8x9x")),ISNUMBER(FIND(MID(E18,6,1)&"x","0x1x2x3x4x5x6x7x8x9x")),ISNUMBER(FIND(MID(E18,7,1)&"x","0x1x2x3x4x5x6x7x8x9x")),ISNUMBER(FIND(MID(E18,8,1)&"x","0x1x2x3x4x5x6x7x8x9x"))))),"補助IDの形式を確認",IF(AND(E18<>"",COUNTIFS(担当者ID!$A$8:$A$27,E18)<>1),"補助が未登録/重複",IF(NOT(OR(F18="要",F18="不要")),"補助必要は要/不要",IF(NOT(OR(G18="確認済",G18="未確認",G18="不要")),"引継ぎの区分を確認",IF(AND(G18="確認済",D18=""),"主担当なしの引継確認済",IF(AND(G18="確認済",NOT(AND(ISNUMBER(H18),H18>=43831,H18<73051,H18=INT(H18)))),"引継確認日は日付で必須",IF(AND(G18="確認済",H18>担当状況!$B$3),"確認日が基準日より後",IF(AND(G18<>"確認済",H18<>""),"確認済以外は確認日を空欄","確認済み"))))))))))))))) | P18: =IF(O18="","",IF(O18="確認済み",0,1)) | Q18: =IF(O18="","",IF(NOT(AND(ISNUMBER(P18),P18=IF(O18="確認済み",0,1))),1,IF(P18<>0,0,IF(AND(ISNUMBER(I18),I18=IF(D18="",1,0),ISNUMBER(J18),J18=IF(AND(F18="要",E18=""),1,0),ISNUMBER(K18),K18=IF(AND(D18<>"",E18<>"",D18=E18),1,0),ISNUMBER(L18),L18=IF(G18="未確認",1,0),ISTEXT(M18),M18=IF(AND(I18=1,J18=1),"主・補助未割当",IF(I18=1,"主未割当",IF(J18=1,"補助未割当",IF(K18=1,"主補助同一","割当あり")))),ISTEXT(N18),N18=IF(B18>担当状況!$B$3,"開始前",IF(C18<担当状況!$B$3,"終了後","期間内"))),0,1))))
I19: =IF(O19="","",IF(P19<>0,NA(),IF(D19="",1,0))) | J19: =IF(O19="","",IF(P19<>0,NA(),IF(AND(F19="要",E19=""),1,0))) | K19: =IF(O19="","",IF(P19<>0,NA(),IF(AND(D19<>"",E19<>"",D19=E19),1,0))) | L19: =IF(O19="","",IF(P19<>0,NA(),IF(G19="未確認",1,0))) | M19: =IF(O19="","",IF(P19<>0,NA(),IF(AND(I19=1,J19=1),"主・補助未割当",IF(I19=1,"主未割当",IF(J19=1,"補助未割当",IF(K19=1,"主補助同一","割当あり")))))) | N19: =IF(O19="","",IF(P19<>0,NA(),IF(B19>担当状況!$B$3,"開始前",IF(C19<担当状況!$B$3,"終了後","期間内")))) | O19: =IF(COUNTA(A19:H19)=0,"",IF(NOT(AND(ISTEXT(A19),LEN(A19)=8,EXACT(LEFT(A19,4),"WRK-"),ISNUMBER(FIND(MID(A19,5,1)&"x","0x1x2x3x4x5x6x7x8x9x")),ISNUMBER(FIND(MID(A19,6,1)&"x","0x1x2x3x4x5x6x7x8x9x")),ISNUMBER(FIND(MID(A19,7,1)&"x","0x1x2x3x4x5x6x7x8x9x")),ISNUMBER(FIND(MID(A19,8,1)&"x","0x1x2x3x4x5x6x7x8x9x")))),"IDはWRK-と半角数字4桁",IF(COUNTIFS($A$8:$A$38,A19)>1,"仕事IDが重複",IF(NOT(AND(AND(ISNUMBER(B19),B19>=43831,B19<73051,B19=INT(B19)),AND(ISNUMBER(C19),C19>=43831,C19<73051,C19=INT(C19)))),"開始/終了は時刻なしの日付",IF(C19<B19,"期間の逆転",IF(AND(D19<>"",NOT(AND(ISTEXT(D19),LEN(D19)=8,EXACT(LEFT(D19,4),"STF-"),ISNUMBER(FIND(MID(D19,5,1)&"x","0x1x2x3x4x5x6x7x8x9x")),ISNUMBER(FIND(MID(D19,6,1)&"x","0x1x2x3x4x5x6x7x8x9x")),ISNUMBER(FIND(MID(D19,7,1)&"x","0x1x2x3x4x5x6x7x8x9x")),ISNUMBER(FIND(MID(D19,8,1)&"x","0x1x2x3x4x5x6x7x8x9x"))))),"主担当IDの形式を確認",IF(AND(D19<>"",COUNTIFS(担当者ID!$A$8:$A$27,D19)<>1),"主担当が未登録/重複",IF(AND(E19<>"",NOT(AND(ISTEXT(E19),LEN(E19)=8,EXACT(LEFT(E19,4),"STF-"),ISNUMBER(FIND(MID(E19,5,1)&"x","0x1x2x3x4x5x6x7x8x9x")),ISNUMBER(FIND(MID(E19,6,1)&"x","0x1x2x3x4x5x6x7x8x9x")),ISNUMBER(FIND(MID(E19,7,1)&"x","0x1x2x3x4x5x6x7x8x9x")),ISNUMBER(FIND(MID(E19,8,1)&"x","0x1x2x3x4x5x6x7x8x9x"))))),"補助IDの形式を確認",IF(AND(E19<>"",COUNTIFS(担当者ID!$A$8:$A$27,E19)<>1),"補助が未登録/重複",IF(NOT(OR(F19="要",F19="不要")),"補助必要は要/不要",IF(NOT(OR(G19="確認済",G19="未確認",G19="不要")),"引継ぎの区分を確認",IF(AND(G19="確認済",D19=""),"主担当なしの引継確認済",IF(AND(G19="確認済",NOT(AND(ISNUMBER(H19),H19>=43831,H19<73051,H19=INT(H19)))),"引継確認日は日付で必須",IF(AND(G19="確認済",H19>担当状況!$B$3),"確認日が基準日より後",IF(AND(G19<>"確認済",H19<>""),"確認済以外は確認日を空欄","確認済み"))))))))))))))) | P19: =IF(O19="","",IF(O19="確認済み",0,1)) | Q19: =IF(O19="","",IF(NOT(AND(ISNUMBER(P19),P19=IF(O19="確認済み",0,1))),1,IF(P19<>0,0,IF(AND(ISNUMBER(I19),I19=IF(D19="",1,0),ISNUMBER(J19),J19=IF(AND(F19="要",E19=""),1,0),ISNUMBER(K19),K19=IF(AND(D19<>"",E19<>"",D19=E19),1,0),ISNUMBER(L19),L19=IF(G19="未確認",1,0),ISTEXT(M19),M19=IF(AND(I19=1,J19=1),"主・補助未割当",IF(I19=1,"主未割当",IF(J19=1,"補助未割当",IF(K19=1,"主補助同一","割当あり")))),ISTEXT(N19),N19=IF(B19>担当状況!$B$3,"開始前",IF(C19<担当状況!$B$3,"終了後","期間内"))),0,1))))
I20: =IF(O20="","",IF(P20<>0,NA(),IF(D20="",1,0))) | J20: =IF(O20="","",IF(P20<>0,NA(),IF(AND(F20="要",E20=""),1,0))) | K20: =IF(O20="","",IF(P20<>0,NA(),IF(AND(D20<>"",E20<>"",D20=E20),1,0))) | L20: =IF(O20="","",IF(P20<>0,NA(),IF(G20="未確認",1,0))) | M20: =IF(O20="","",IF(P20<>0,NA(),IF(AND(I20=1,J20=1),"主・補助未割当",IF(I20=1,"主未割当",IF(J20=1,"補助未割当",IF(K20=1,"主補助同一","割当あり")))))) | N20: =IF(O20="","",IF(P20<>0,NA(),IF(B20>担当状況!$B$3,"開始前",IF(C20<担当状況!$B$3,"終了後","期間内")))) | O20: =IF(COUNTA(A20:H20)=0,"",IF(NOT(AND(ISTEXT(A20),LEN(A20)=8,EXACT(LEFT(A20,4),"WRK-"),ISNUMBER(FIND(MID(A20,5,1)&"x","0x1x2x3x4x5x6x7x8x9x")),ISNUMBER(FIND(MID(A20,6,1)&"x","0x1x2x3x4x5x6x7x8x9x")),ISNUMBER(FIND(MID(A20,7,1)&"x","0x1x2x3x4x5x6x7x8x9x")),ISNUMBER(FIND(MID(A20,8,1)&"x","0x1x2x3x4x5x6x7x8x9x")))),"IDはWRK-と半角数字4桁",IF(COUNTIFS($A$8:$A$38,A20)>1,"仕事IDが重複",IF(NOT(AND(AND(ISNUMBER(B20),B20>=43831,B20<73051,B20=INT(B20)),AND(ISNUMBER(C20),C20>=43831,C20<73051,C20=INT(C20)))),"開始/終了は時刻なしの日付",IF(C20<B20,"期間の逆転",IF(AND(D20<>"",NOT(AND(ISTEXT(D20),LEN(D20)=8,EXACT(LEFT(D20,4),"STF-"),ISNUMBER(FIND(MID(D20,5,1)&"x","0x1x2x3x4x5x6x7x8x9x")),ISNUMBER(FIND(MID(D20,6,1)&"x","0x1x2x3x4x5x6x7x8x9x")),ISNUMBER(FIND(MID(D20,7,1)&"x","0x1x2x3x4x5x6x7x8x9x")),ISNUMBER(FIND(MID(D20,8,1)&"x","0x1x2x3x4x5x6x7x8x9x"))))),"主担当IDの形式を確認",IF(AND(D20<>"",COUNTIFS(担当者ID!$A$8:$A$27,D20)<>1),"主担当が未登録/重複",IF(AND(E20<>"",NOT(AND(ISTEXT(E20),LEN(E20)=8,EXACT(LEFT(E20,4),"STF-"),ISNUMBER(FIND(MID(E20,5,1)&"x","0x1x2x3x4x5x6x7x8x9x")),ISNUMBER(FIND(MID(E20,6,1)&"x","0x1x2x3x4x5x6x7x8x9x")),ISNUMBER(FIND(MID(E20,7,1)&"x","0x1x2x3x4x5x6x7x8x9x")),ISNUMBER(FIND(MID(E20,8,1)&"x","0x1x2x3x4x5x6x7x8x9x"))))),"補助IDの形式を確認",IF(AND(E20<>"",COUNTIFS(担当者ID!$A$8:$A$27,E20)<>1),"補助が未登録/重複",IF(NOT(OR(F20="要",F20="不要")),"補助必要は要/不要",IF(NOT(OR(G20="確認済",G20="未確認",G20="不要")),"引継ぎの区分を確認",IF(AND(G20="確認済",D20=""),"主担当なしの引継確認済",IF(AND(G20="確認済",NOT(AND(ISNUMBER(H20),H20>=43831,H20<73051,H20=INT(H20)))),"引継確認日は日付で必須",IF(AND(G20="確認済",H20>担当状況!$B$3),"確認日が基準日より後",IF(AND(G20<>"確認済",H20<>""),"確認済以外は確認日を空欄","確認済み"))))))))))))))) | P20: =IF(O20="","",IF(O20="確認済み",0,1)) | Q20: =IF(O20="","",IF(NOT(AND(ISNUMBER(P20),P20=IF(O20="確認済み",0,1))),1,IF(P20<>0,0,IF(AND(ISNUMBER(I20),I20=IF(D20="",1,0),ISNUMBER(J20),J20=IF(AND(F20="要",E20=""),1,0),ISNUMBER(K20),K20=IF(AND(D20<>"",E20<>"",D20=E20),1,0),ISNUMBER(L20),L20=IF(G20="未確認",1,0),ISTEXT(M20),M20=IF(AND(I20=1,J20=1),"主・補助未割当",IF(I20=1,"主未割当",IF(J20=1,"補助未割当",IF(K20=1,"主補助同一","割当あり")))),ISTEXT(N20),N20=IF(B20>担当状況!$B$3,"開始前",IF(C20<担当状況!$B$3,"終了後","期間内"))),0,1))))
I21: =IF(O21="","",IF(P21<>0,NA(),IF(D21="",1,0))) | J21: =IF(O21="","",IF(P21<>0,NA(),IF(AND(F21="要",E21=""),1,0))) | K21: =IF(O21="","",IF(P21<>0,NA(),IF(AND(D21<>"",E21<>"",D21=E21),1,0))) | L21: =IF(O21="","",IF(P21<>0,NA(),IF(G21="未確認",1,0))) | M21: =IF(O21="","",IF(P21<>0,NA(),IF(AND(I21=1,J21=1),"主・補助未割当",IF(I21=1,"主未割当",IF(J21=1,"補助未割当",IF(K21=1,"主補助同一","割当あり")))))) | N21: =IF(O21="","",IF(P21<>0,NA(),IF(B21>担当状況!$B$3,"開始前",IF(C21<担当状況!$B$3,"終了後","期間内")))) | O21: =IF(COUNTA(A21:H21)=0,"",IF(NOT(AND(ISTEXT(A21),LEN(A21)=8,EXACT(LEFT(A21,4),"WRK-"),ISNUMBER(FIND(MID(A21,5,1)&"x","0x1x2x3x4x5x6x7x8x9x")),ISNUMBER(FIND(MID(A21,6,1)&"x","0x1x2x3x4x5x6x7x8x9x")),ISNUMBER(FIND(MID(A21,7,1)&"x","0x1x2x3x4x5x6x7x8x9x")),ISNUMBER(FIND(MID(A21,8,1)&"x","0x1x2x3x4x5x6x7x8x9x")))),"IDはWRK-と半角数字4桁",IF(COUNTIFS($A$8:$A$38,A21)>1,"仕事IDが重複",IF(NOT(AND(AND(ISNUMBER(B21),B21>=43831,B21<73051,B21=INT(B21)),AND(ISNUMBER(C21),C21>=43831,C21<73051,C21=INT(C21)))),"開始/終了は時刻なしの日付",IF(C21<B21,"期間の逆転",IF(AND(D21<>"",NOT(AND(ISTEXT(D21),LEN(D21)=8,EXACT(LEFT(D21,4),"STF-"),ISNUMBER(FIND(MID(D21,5,1)&"x","0x1x2x3x4x5x6x7x8x9x")),ISNUMBER(FIND(MID(D21,6,1)&"x","0x1x2x3x4x5x6x7x8x9x")),ISNUMBER(FIND(MID(D21,7,1)&"x","0x1x2x3x4x5x6x7x8x9x")),ISNUMBER(FIND(MID(D21,8,1)&"x","0x1x2x3x4x5x6x7x8x9x"))))),"主担当IDの形式を確認",IF(AND(D21<>"",COUNTIFS(担当者ID!$A$8:$A$27,D21)<>1),"主担当が未登録/重複",IF(AND(E21<>"",NOT(AND(ISTEXT(E21),LEN(E21)=8,EXACT(LEFT(E21,4),"STF-"),ISNUMBER(FIND(MID(E21,5,1)&"x","0x1x2x3x4x5x6x7x8x9x")),ISNUMBER(FIND(MID(E21,6,1)&"x","0x1x2x3x4x5x6x7x8x9x")),ISNUMBER(FIND(MID(E21,7,1)&"x","0x1x2x3x4x5x6x7x8x9x")),ISNUMBER(FIND(MID(E21,8,1)&"x","0x1x2x3x4x5x6x7x8x9x"))))),"補助IDの形式を確認",IF(AND(E21<>"",COUNTIFS(担当者ID!$A$8:$A$27,E21)<>1),"補助が未登録/重複",IF(NOT(OR(F21="要",F21="不要")),"補助必要は要/不要",IF(NOT(OR(G21="確認済",G21="未確認",G21="不要")),"引継ぎの区分を確認",IF(AND(G21="確認済",D21=""),"主担当なしの引継確認済",IF(AND(G21="確認済",NOT(AND(ISNUMBER(H21),H21>=43831,H21<73051,H21=INT(H21)))),"引継確認日は日付で必須",IF(AND(G21="確認済",H21>担当状況!$B$3),"確認日が基準日より後",IF(AND(G21<>"確認済",H21<>""),"確認済以外は確認日を空欄","確認済み"))))))))))))))) | P21: =IF(O21="","",IF(O21="確認済み",0,1)) | Q21: =IF(O21="","",IF(NOT(AND(ISNUMBER(P21),P21=IF(O21="確認済み",0,1))),1,IF(P21<>0,0,IF(AND(ISNUMBER(I21),I21=IF(D21="",1,0),ISNUMBER(J21),J21=IF(AND(F21="要",E21=""),1,0),ISNUMBER(K21),K21=IF(AND(D21<>"",E21<>"",D21=E21),1,0),ISNUMBER(L21),L21=IF(G21="未確認",1,0),ISTEXT(M21),M21=IF(AND(I21=1,J21=1),"主・補助未割当",IF(I21=1,"主未割当",IF(J21=1,"補助未割当",IF(K21=1,"主補助同一","割当あり")))),ISTEXT(N21),N21=IF(B21>担当状況!$B$3,"開始前",IF(C21<担当状況!$B$3,"終了後","期間内"))),0,1))))
I22: =IF(O22="","",IF(P22<>0,NA(),IF(D22="",1,0))) | J22: =IF(O22="","",IF(P22<>0,NA(),IF(AND(F22="要",E22=""),1,0))) | K22: =IF(O22="","",IF(P22<>0,NA(),IF(AND(D22<>"",E22<>"",D22=E22),1,0))) | L22: =IF(O22="","",IF(P22<>0,NA(),IF(G22="未確認",1,0))) | M22: =IF(O22="","",IF(P22<>0,NA(),IF(AND(I22=1,J22=1),"主・補助未割当",IF(I22=1,"主未割当",IF(J22=1,"補助未割当",IF(K22=1,"主補助同一","割当あり")))))) | N22: =IF(O22="","",IF(P22<>0,NA(),IF(B22>担当状況!$B$3,"開始前",IF(C22<担当状況!$B$3,"終了後","期間内")))) | O22: =IF(COUNTA(A22:H22)=0,"",IF(NOT(AND(ISTEXT(A22),LEN(A22)=8,EXACT(LEFT(A22,4),"WRK-"),ISNUMBER(FIND(MID(A22,5,1)&"x","0x1x2x3x4x5x6x7x8x9x")),ISNUMBER(FIND(MID(A22,6,1)&"x","0x1x2x3x4x5x6x7x8x9x")),ISNUMBER(FIND(MID(A22,7,1)&"x","0x1x2x3x4x5x6x7x8x9x")),ISNUMBER(FIND(MID(A22,8,1)&"x","0x1x2x3x4x5x6x7x8x9x")))),"IDはWRK-と半角数字4桁",IF(COUNTIFS($A$8:$A$38,A22)>1,"仕事IDが重複",IF(NOT(AND(AND(ISNUMBER(B22),B22>=43831,B22<73051,B22=INT(B22)),AND(ISNUMBER(C22),C22>=43831,C22<73051,C22=INT(C22)))),"開始/終了は時刻なしの日付",IF(C22<B22,"期間の逆転",IF(AND(D22<>"",NOT(AND(ISTEXT(D22),LEN(D22)=8,EXACT(LEFT(D22,4),"STF-"),ISNUMBER(FIND(MID(D22,5,1)&"x","0x1x2x3x4x5x6x7x8x9x")),ISNUMBER(FIND(MID(D22,6,1)&"x","0x1x2x3x4x5x6x7x8x9x")),ISNUMBER(FIND(MID(D22,7,1)&"x","0x1x2x3x4x5x6x7x8x9x")),ISNUMBER(FIND(MID(D22,8,1)&"x","0x1x2x3x4x5x6x7x8x9x"))))),"主担当IDの形式を確認",IF(AND(D22<>"",COUNTIFS(担当者ID!$A$8:$A$27,D22)<>1),"主担当が未登録/重複",IF(AND(E22<>"",NOT(AND(ISTEXT(E22),LEN(E22)=8,EXACT(LEFT(E22,4),"STF-"),ISNUMBER(FIND(MID(E22,5,1)&"x","0x1x2x3x4x5x6x7x8x9x")),ISNUMBER(FIND(MID(E22,6,1)&"x","0x1x2x3x4x5x6x7x8x9x")),ISNUMBER(FIND(MID(E22,7,1)&"x","0x1x2x3x4x5x6x7x8x9x")),ISNUMBER(FIND(MID(E22,8,1)&"x","0x1x2x3x4x5x6x7x8x9x"))))),"補助IDの形式を確認",IF(AND(E22<>"",COUNTIFS(担当者ID!$A$8:$A$27,E22)<>1),"補助が未登録/重複",IF(NOT(OR(F22="要",F22="不要")),"補助必要は要/不要",IF(NOT(OR(G22="確認済",G22="未確認",G22="不要")),"引継ぎの区分を確認",IF(AND(G22="確認済",D22=""),"主担当なしの引継確認済",IF(AND(G22="確認済",NOT(AND(ISNUMBER(H22),H22>=43831,H22<73051,H22=INT(H22)))),"引継確認日は日付で必須",IF(AND(G22="確認済",H22>担当状況!$B$3),"確認日が基準日より後",IF(AND(G22<>"確認済",H22<>""),"確認済以外は確認日を空欄","確認済み"))))))))))))))) | P22: =IF(O22="","",IF(O22="確認済み",0,1)) | Q22: =IF(O22="","",IF(NOT(AND(ISNUMBER(P22),P22=IF(O22="確認済み",0,1))),1,IF(P22<>0,0,IF(AND(ISNUMBER(I22),I22=IF(D22="",1,0),ISNUMBER(J22),J22=IF(AND(F22="要",E22=""),1,0),ISNUMBER(K22),K22=IF(AND(D22<>"",E22<>"",D22=E22),1,0),ISNUMBER(L22),L22=IF(G22="未確認",1,0),ISTEXT(M22),M22=IF(AND(I22=1,J22=1),"主・補助未割当",IF(I22=1,"主未割当",IF(J22=1,"補助未割当",IF(K22=1,"主補助同一","割当あり")))),ISTEXT(N22),N22=IF(B22>担当状況!$B$3,"開始前",IF(C22<担当状況!$B$3,"終了後","期間内"))),0,1))))
I23: =IF(O23="","",IF(P23<>0,NA(),IF(D23="",1,0))) | J23: =IF(O23="","",IF(P23<>0,NA(),IF(AND(F23="要",E23=""),1,0))) | K23: =IF(O23="","",IF(P23<>0,NA(),IF(AND(D23<>"",E23<>"",D23=E23),1,0))) | L23: =IF(O23="","",IF(P23<>0,NA(),IF(G23="未確認",1,0))) | M23: =IF(O23="","",IF(P23<>0,NA(),IF(AND(I23=1,J23=1),"主・補助未割当",IF(I23=1,"主未割当",IF(J23=1,"補助未割当",IF(K23=1,"主補助同一","割当あり")))))) | N23: =IF(O23="","",IF(P23<>0,NA(),IF(B23>担当状況!$B$3,"開始前",IF(C23<担当状況!$B$3,"終了後","期間内")))) | O23: =IF(COUNTA(A23:H23)=0,"",IF(NOT(AND(ISTEXT(A23),LEN(A23)=8,EXACT(LEFT(A23,4),"WRK-"),ISNUMBER(FIND(MID(A23,5,1)&"x","0x1x2x3x4x5x6x7x8x9x")),ISNUMBER(FIND(MID(A23,6,1)&"x","0x1x2x3x4x5x6x7x8x9x")),ISNUMBER(FIND(MID(A23,7,1)&"x","0x1x2x3x4x5x6x7x8x9x")),ISNUMBER(FIND(MID(A23,8,1)&"x","0x1x2x3x4x5x6x7x8x9x")))),"IDはWRK-と半角数字4桁",IF(COUNTIFS($A$8:$A$38,A23)>1,"仕事IDが重複",IF(NOT(AND(AND(ISNUMBER(B23),B23>=43831,B23<73051,B23=INT(B23)),AND(ISNUMBER(C23),C23>=43831,C23<73051,C23=INT(C23)))),"開始/終了は時刻なしの日付",IF(C23<B23,"期間の逆転",IF(AND(D23<>"",NOT(AND(ISTEXT(D23),LEN(D23)=8,EXACT(LEFT(D23,4),"STF-"),ISNUMBER(FIND(MID(D23,5,1)&"x","0x1x2x3x4x5x6x7x8x9x")),ISNUMBER(FIND(MID(D23,6,1)&"x","0x1x2x3x4x5x6x7x8x9x")),ISNUMBER(FIND(MID(D23,7,1)&"x","0x1x2x3x4x5x6x7x8x9x")),ISNUMBER(FIND(MID(D23,8,1)&"x","0x1x2x3x4x5x6x7x8x9x"))))),"主担当IDの形式を確認",IF(AND(D23<>"",COUNTIFS(担当者ID!$A$8:$A$27,D23)<>1),"主担当が未登録/重複",IF(AND(E23<>"",NOT(AND(ISTEXT(E23),LEN(E23)=8,EXACT(LEFT(E23,4),"STF-"),ISNUMBER(FIND(MID(E23,5,1)&"x","0x1x2x3x4x5x6x7x8x9x")),ISNUMBER(FIND(MID(E23,6,1)&"x","0x1x2x3x4x5x6x7x8x9x")),ISNUMBER(FIND(MID(E23,7,1)&"x","0x1x2x3x4x5x6x7x8x9x")),ISNUMBER(FIND(MID(E23,8,1)&"x","0x1x2x3x4x5x6x7x8x9x"))))),"補助IDの形式を確認",IF(AND(E23<>"",COUNTIFS(担当者ID!$A$8:$A$27,E23)<>1),"補助が未登録/重複",IF(NOT(OR(F23="要",F23="不要")),"補助必要は要/不要",IF(NOT(OR(G23="確認済",G23="未確認",G23="不要")),"引継ぎの区分を確認",IF(AND(G23="確認済",D23=""),"主担当なしの引継確認済",IF(AND(G23="確認済",NOT(AND(ISNUMBER(H23),H23>=43831,H23<73051,H23=INT(H23)))),"引継確認日は日付で必須",IF(AND(G23="確認済",H23>担当状況!$B$3),"確認日が基準日より後",IF(AND(G23<>"確認済",H23<>""),"確認済以外は確認日を空欄","確認済み"))))))))))))))) | P23: =IF(O23="","",IF(O23="確認済み",0,1)) | Q23: =IF(O23="","",IF(NOT(AND(ISNUMBER(P23),P23=IF(O23="確認済み",0,1))),1,IF(P23<>0,0,IF(AND(ISNUMBER(I23),I23=IF(D23="",1,0),ISNUMBER(J23),J23=IF(AND(F23="要",E23=""),1,0),ISNUMBER(K23),K23=IF(AND(D23<>"",E23<>"",D23=E23),1,0),ISNUMBER(L23),L23=IF(G23="未確認",1,0),ISTEXT(M23),M23=IF(AND(I23=1,J23=1),"主・補助未割当",IF(I23=1,"主未割当",IF(J23=1,"補助未割当",IF(K23=1,"主補助同一","割当あり")))),ISTEXT(N23),N23=IF(B23>担当状況!$B$3,"開始前",IF(C23<担当状況!$B$3,"終了後","期間内"))),0,1))))
I24: =IF(O24="","",IF(P24<>0,NA(),IF(D24="",1,0))) | J24: =IF(O24="","",IF(P24<>0,NA(),IF(AND(F24="要",E24=""),1,0))) | K24: =IF(O24="","",IF(P24<>0,NA(),IF(AND(D24<>"",E24<>"",D24=E24),1,0))) | L24: =IF(O24="","",IF(P24<>0,NA(),IF(G24="未確認",1,0))) | M24: =IF(O24="","",IF(P24<>0,NA(),IF(AND(I24=1,J24=1),"主・補助未割当",IF(I24=1,"主未割当",IF(J24=1,"補助未割当",IF(K24=1,"主補助同一","割当あり")))))) | N24: =IF(O24="","",IF(P24<>0,NA(),IF(B24>担当状況!$B$3,"開始前",IF(C24<担当状況!$B$3,"終了後","期間内")))) | O24: =IF(COUNTA(A24:H24)=0,"",IF(NOT(AND(ISTEXT(A24),LEN(A24)=8,EXACT(LEFT(A24,4),"WRK-"),ISNUMBER(FIND(MID(A24,5,1)&"x","0x1x2x3x4x5x6x7x8x9x")),ISNUMBER(FIND(MID(A24,6,1)&"x","0x1x2x3x4x5x6x7x8x9x")),ISNUMBER(FIND(MID(A24,7,1)&"x","0x1x2x3x4x5x6x7x8x9x")),ISNUMBER(FIND(MID(A24,8,1)&"x","0x1x2x3x4x5x6x7x8x9x")))),"IDはWRK-と半角数字4桁",IF(COUNTIFS($A$8:$A$38,A24)>1,"仕事IDが重複",IF(NOT(AND(AND(ISNUMBER(B24),B24>=43831,B24<73051,B24=INT(B24)),AND(ISNUMBER(C24),C24>=43831,C24<73051,C24=INT(C24)))),"開始/終了は時刻なしの日付",IF(C24<B24,"期間の逆転",IF(AND(D24<>"",NOT(AND(ISTEXT(D24),LEN(D24)=8,EXACT(LEFT(D24,4),"STF-"),ISNUMBER(FIND(MID(D24,5,1)&"x","0x1x2x3x4x5x6x7x8x9x")),ISNUMBER(FIND(MID(D24,6,1)&"x","0x1x2x3x4x5x6x7x8x9x")),ISNUMBER(FIND(MID(D24,7,1)&"x","0x1x2x3x4x5x6x7x8x9x")),ISNUMBER(FIND(MID(D24,8,1)&"x","0x1x2x3x4x5x6x7x8x9x"))))),"主担当IDの形式を確認",IF(AND(D24<>"",COUNTIFS(担当者ID!$A$8:$A$27,D24)<>1),"主担当が未登録/重複",IF(AND(E24<>"",NOT(AND(ISTEXT(E24),LEN(E24)=8,EXACT(LEFT(E24,4),"STF-"),ISNUMBER(FIND(MID(E24,5,1)&"x","0x1x2x3x4x5x6x7x8x9x")),ISNUMBER(FIND(MID(E24,6,1)&"x","0x1x2x3x4x5x6x7x8x9x")),ISNUMBER(FIND(MID(E24,7,1)&"x","0x1x2x3x4x5x6x7x8x9x")),ISNUMBER(FIND(MID(E24,8,1)&"x","0x1x2x3x4x5x6x7x8x9x"))))),"補助IDの形式を確認",IF(AND(E24<>"",COUNTIFS(担当者ID!$A$8:$A$27,E24)<>1),"補助が未登録/重複",IF(NOT(OR(F24="要",F24="不要")),"補助必要は要/不要",IF(NOT(OR(G24="確認済",G24="未確認",G24="不要")),"引継ぎの区分を確認",IF(AND(G24="確認済",D24=""),"主担当なしの引継確認済",IF(AND(G24="確認済",NOT(AND(ISNUMBER(H24),H24>=43831,H24<73051,H24=INT(H24)))),"引継確認日は日付で必須",IF(AND(G24="確認済",H24>担当状況!$B$3),"確認日が基準日より後",IF(AND(G24<>"確認済",H24<>""),"確認済以外は確認日を空欄","確認済み"))))))))))))))) | P24: =IF(O24="","",IF(O24="確認済み",0,1)) | Q24: =IF(O24="","",IF(NOT(AND(ISNUMBER(P24),P24=IF(O24="確認済み",0,1))),1,IF(P24<>0,0,IF(AND(ISNUMBER(I24),I24=IF(D24="",1,0),ISNUMBER(J24),J24=IF(AND(F24="要",E24=""),1,0),ISNUMBER(K24),K24=IF(AND(D24<>"",E24<>"",D24=E24),1,0),ISNUMBER(L24),L24=IF(G24="未確認",1,0),ISTEXT(M24),M24=IF(AND(I24=1,J24=1),"主・補助未割当",IF(I24=1,"主未割当",IF(J24=1,"補助未割当",IF(K24=1,"主補助同一","割当あり")))),ISTEXT(N24),N24=IF(B24>担当状況!$B$3,"開始前",IF(C24<担当状況!$B$3,"終了後","期間内"))),0,1))))
I25: =IF(O25="","",IF(P25<>0,NA(),IF(D25="",1,0))) | J25: =IF(O25="","",IF(P25<>0,NA(),IF(AND(F25="要",E25=""),1,0))) | K25: =IF(O25="","",IF(P25<>0,NA(),IF(AND(D25<>"",E25<>"",D25=E25),1,0))) | L25: =IF(O25="","",IF(P25<>0,NA(),IF(G25="未確認",1,0))) | M25: =IF(O25="","",IF(P25<>0,NA(),IF(AND(I25=1,J25=1),"主・補助未割当",IF(I25=1,"主未割当",IF(J25=1,"補助未割当",IF(K25=1,"主補助同一","割当あり")))))) | N25: =IF(O25="","",IF(P25<>0,NA(),IF(B25>担当状況!$B$3,"開始前",IF(C25<担当状況!$B$3,"終了後","期間内")))) | O25: =IF(COUNTA(A25:H25)=0,"",IF(NOT(AND(ISTEXT(A25),LEN(A25)=8,EXACT(LEFT(A25,4),"WRK-"),ISNUMBER(FIND(MID(A25,5,1)&"x","0x1x2x3x4x5x6x7x8x9x")),ISNUMBER(FIND(MID(A25,6,1)&"x","0x1x2x3x4x5x6x7x8x9x")),ISNUMBER(FIND(MID(A25,7,1)&"x","0x1x2x3x4x5x6x7x8x9x")),ISNUMBER(FIND(MID(A25,8,1)&"x","0x1x2x3x4x5x6x7x8x9x")))),"IDはWRK-と半角数字4桁",IF(COUNTIFS($A$8:$A$38,A25)>1,"仕事IDが重複",IF(NOT(AND(AND(ISNUMBER(B25),B25>=43831,B25<73051,B25=INT(B25)),AND(ISNUMBER(C25),C25>=43831,C25<73051,C25=INT(C25)))),"開始/終了は時刻なしの日付",IF(C25<B25,"期間の逆転",IF(AND(D25<>"",NOT(AND(ISTEXT(D25),LEN(D25)=8,EXACT(LEFT(D25,4),"STF-"),ISNUMBER(FIND(MID(D25,5,1)&"x","0x1x2x3x4x5x6x7x8x9x")),ISNUMBER(FIND(MID(D25,6,1)&"x","0x1x2x3x4x5x6x7x8x9x")),ISNUMBER(FIND(MID(D25,7,1)&"x","0x1x2x3x4x5x6x7x8x9x")),ISNUMBER(FIND(MID(D25,8,1)&"x","0x1x2x3x4x5x6x7x8x9x"))))),"主担当IDの形式を確認",IF(AND(D25<>"",COUNTIFS(担当者ID!$A$8:$A$27,D25)<>1),"主担当が未登録/重複",IF(AND(E25<>"",NOT(AND(ISTEXT(E25),LEN(E25)=8,EXACT(LEFT(E25,4),"STF-"),ISNUMBER(FIND(MID(E25,5,1)&"x","0x1x2x3x4x5x6x7x8x9x")),ISNUMBER(FIND(MID(E25,6,1)&"x","0x1x2x3x4x5x6x7x8x9x")),ISNUMBER(FIND(MID(E25,7,1)&"x","0x1x2x3x4x5x6x7x8x9x")),ISNUMBER(FIND(MID(E25,8,1)&"x","0x1x2x3x4x5x6x7x8x9x"))))),"補助IDの形式を確認",IF(AND(E25<>"",COUNTIFS(担当者ID!$A$8:$A$27,E25)<>1),"補助が未登録/重複",IF(NOT(OR(F25="要",F25="不要")),"補助必要は要/不要",IF(NOT(OR(G25="確認済",G25="未確認",G25="不要")),"引継ぎの区分を確認",IF(AND(G25="確認済",D25=""),"主担当なしの引継確認済",IF(AND(G25="確認済",NOT(AND(ISNUMBER(H25),H25>=43831,H25<73051,H25=INT(H25)))),"引継確認日は日付で必須",IF(AND(G25="確認済",H25>担当状況!$B$3),"確認日が基準日より後",IF(AND(G25<>"確認済",H25<>""),"確認済以外は確認日を空欄","確認済み"))))))))))))))) | P25: =IF(O25="","",IF(O25="確認済み",0,1)) | Q25: =IF(O25="","",IF(NOT(AND(ISNUMBER(P25),P25=IF(O25="確認済み",0,1))),1,IF(P25<>0,0,IF(AND(ISNUMBER(I25),I25=IF(D25="",1,0),ISNUMBER(J25),J25=IF(AND(F25="要",E25=""),1,0),ISNUMBER(K25),K25=IF(AND(D25<>"",E25<>"",D25=E25),1,0),ISNUMBER(L25),L25=IF(G25="未確認",1,0),ISTEXT(M25),M25=IF(AND(I25=1,J25=1),"主・補助未割当",IF(I25=1,"主未割当",IF(J25=1,"補助未割当",IF(K25=1,"主補助同一","割当あり")))),ISTEXT(N25),N25=IF(B25>担当状況!$B$3,"開始前",IF(C25<担当状況!$B$3,"終了後","期間内"))),0,1))))
I26: =IF(O26="","",IF(P26<>0,NA(),IF(D26="",1,0))) | J26: =IF(O26="","",IF(P26<>0,NA(),IF(AND(F26="要",E26=""),1,0))) | K26: =IF(O26="","",IF(P26<>0,NA(),IF(AND(D26<>"",E26<>"",D26=E26),1,0))) | L26: =IF(O26="","",IF(P26<>0,NA(),IF(G26="未確認",1,0))) | M26: =IF(O26="","",IF(P26<>0,NA(),IF(AND(I26=1,J26=1),"主・補助未割当",IF(I26=1,"主未割当",IF(J26=1,"補助未割当",IF(K26=1,"主補助同一","割当あり")))))) | N26: =IF(O26="","",IF(P26<>0,NA(),IF(B26>担当状況!$B$3,"開始前",IF(C26<担当状況!$B$3,"終了後","期間内")))) | O26: =IF(COUNTA(A26:H26)=0,"",IF(NOT(AND(ISTEXT(A26),LEN(A26)=8,EXACT(LEFT(A26,4),"WRK-"),ISNUMBER(FIND(MID(A26,5,1)&"x","0x1x2x3x4x5x6x7x8x9x")),ISNUMBER(FIND(MID(A26,6,1)&"x","0x1x2x3x4x5x6x7x8x9x")),ISNUMBER(FIND(MID(A26,7,1)&"x","0x1x2x3x4x5x6x7x8x9x")),ISNUMBER(FIND(MID(A26,8,1)&"x","0x1x2x3x4x5x6x7x8x9x")))),"IDはWRK-と半角数字4桁",IF(COUNTIFS($A$8:$A$38,A26)>1,"仕事IDが重複",IF(NOT(AND(AND(ISNUMBER(B26),B26>=43831,B26<73051,B26=INT(B26)),AND(ISNUMBER(C26),C26>=43831,C26<73051,C26=INT(C26)))),"開始/終了は時刻なしの日付",IF(C26<B26,"期間の逆転",IF(AND(D26<>"",NOT(AND(ISTEXT(D26),LEN(D26)=8,EXACT(LEFT(D26,4),"STF-"),ISNUMBER(FIND(MID(D26,5,1)&"x","0x1x2x3x4x5x6x7x8x9x")),ISNUMBER(FIND(MID(D26,6,1)&"x","0x1x2x3x4x5x6x7x8x9x")),ISNUMBER(FIND(MID(D26,7,1)&"x","0x1x2x3x4x5x6x7x8x9x")),ISNUMBER(FIND(MID(D26,8,1)&"x","0x1x2x3x4x5x6x7x8x9x"))))),"主担当IDの形式を確認",IF(AND(D26<>"",COUNTIFS(担当者ID!$A$8:$A$27,D26)<>1),"主担当が未登録/重複",IF(AND(E26<>"",NOT(AND(ISTEXT(E26),LEN(E26)=8,EXACT(LEFT(E26,4),"STF-"),ISNUMBER(FIND(MID(E26,5,1)&"x","0x1x2x3x4x5x6x7x8x9x")),ISNUMBER(FIND(MID(E26,6,1)&"x","0x1x2x3x4x5x6x7x8x9x")),ISNUMBER(FIND(MID(E26,7,1)&"x","0x1x2x3x4x5x6x7x8x9x")),ISNUMBER(FIND(MID(E26,8,1)&"x","0x1x2x3x4x5x6x7x8x9x"))))),"補助IDの形式を確認",IF(AND(E26<>"",COUNTIFS(担当者ID!$A$8:$A$27,E26)<>1),"補助が未登録/重複",IF(NOT(OR(F26="要",F26="不要")),"補助必要は要/不要",IF(NOT(OR(G26="確認済",G26="未確認",G26="不要")),"引継ぎの区分を確認",IF(AND(G26="確認済",D26=""),"主担当なしの引継確認済",IF(AND(G26="確認済",NOT(AND(ISNUMBER(H26),H26>=43831,H26<73051,H26=INT(H26)))),"引継確認日は日付で必須",IF(AND(G26="確認済",H26>担当状況!$B$3),"確認日が基準日より後",IF(AND(G26<>"確認済",H26<>""),"確認済以外は確認日を空欄","確認済み"))))))))))))))) | P26: =IF(O26="","",IF(O26="確認済み",0,1)) | Q26: =IF(O26="","",IF(NOT(AND(ISNUMBER(P26),P26=IF(O26="確認済み",0,1))),1,IF(P26<>0,0,IF(AND(ISNUMBER(I26),I26=IF(D26="",1,0),ISNUMBER(J26),J26=IF(AND(F26="要",E26=""),1,0),ISNUMBER(K26),K26=IF(AND(D26<>"",E26<>"",D26=E26),1,0),ISNUMBER(L26),L26=IF(G26="未確認",1,0),ISTEXT(M26),M26=IF(AND(I26=1,J26=1),"主・補助未割当",IF(I26=1,"主未割当",IF(J26=1,"補助未割当",IF(K26=1,"主補助同一","割当あり")))),ISTEXT(N26),N26=IF(B26>担当状況!$B$3,"開始前",IF(C26<担当状況!$B$3,"終了後","期間内"))),0,1))))
I27: =IF(O27="","",IF(P27<>0,NA(),IF(D27="",1,0))) | J27: =IF(O27="","",IF(P27<>0,NA(),IF(AND(F27="要",E27=""),1,0))) | K27: =IF(O27="","",IF(P27<>0,NA(),IF(AND(D27<>"",E27<>"",D27=E27),1,0))) | L27: =IF(O27="","",IF(P27<>0,NA(),IF(G27="未確認",1,0))) | M27: =IF(O27="","",IF(P27<>0,NA(),IF(AND(I27=1,J27=1),"主・補助未割当",IF(I27=1,"主未割当",IF(J27=1,"補助未割当",IF(K27=1,"主補助同一","割当あり")))))) | N27: =IF(O27="","",IF(P27<>0,NA(),IF(B27>担当状況!$B$3,"開始前",IF(C27<担当状況!$B$3,"終了後","期間内")))) | O27: =IF(COUNTA(A27:H27)=0,"",IF(NOT(AND(ISTEXT(A27),LEN(A27)=8,EXACT(LEFT(A27,4),"WRK-"),ISNUMBER(FIND(MID(A27,5,1)&"x","0x1x2x3x4x5x6x7x8x9x")),ISNUMBER(FIND(MID(A27,6,1)&"x","0x1x2x3x4x5x6x7x8x9x")),ISNUMBER(FIND(MID(A27,7,1)&"x","0x1x2x3x4x5x6x7x8x9x")),ISNUMBER(FIND(MID(A27,8,1)&"x","0x1x2x3x4x5x6x7x8x9x")))),"IDはWRK-と半角数字4桁",IF(COUNTIFS($A$8:$A$38,A27)>1,"仕事IDが重複",IF(NOT(AND(AND(ISNUMBER(B27),B27>=43831,B27<73051,B27=INT(B27)),AND(ISNUMBER(C27),C27>=43831,C27<73051,C27=INT(C27)))),"開始/終了は時刻なしの日付",IF(C27<B27,"期間の逆転",IF(AND(D27<>"",NOT(AND(ISTEXT(D27),LEN(D27)=8,EXACT(LEFT(D27,4),"STF-"),ISNUMBER(FIND(MID(D27,5,1)&"x","0x1x2x3x4x5x6x7x8x9x")),ISNUMBER(FIND(MID(D27,6,1)&"x","0x1x2x3x4x5x6x7x8x9x")),ISNUMBER(FIND(MID(D27,7,1)&"x","0x1x2x3x4x5x6x7x8x9x")),ISNUMBER(FIND(MID(D27,8,1)&"x","0x1x2x3x4x5x6x7x8x9x"))))),"主担当IDの形式を確認",IF(AND(D27<>"",COUNTIFS(担当者ID!$A$8:$A$27,D27)<>1),"主担当が未登録/重複",IF(AND(E27<>"",NOT(AND(ISTEXT(E27),LEN(E27)=8,EXACT(LEFT(E27,4),"STF-"),ISNUMBER(FIND(MID(E27,5,1)&"x","0x1x2x3x4x5x6x7x8x9x")),ISNUMBER(FIND(MID(E27,6,1)&"x","0x1x2x3x4x5x6x7x8x9x")),ISNUMBER(FIND(MID(E27,7,1)&"x","0x1x2x3x4x5x6x7x8x9x")),ISNUMBER(FIND(MID(E27,8,1)&"x","0x1x2x3x4x5x6x7x8x9x"))))),"補助IDの形式を確認",IF(AND(E27<>"",COUNTIFS(担当者ID!$A$8:$A$27,E27)<>1),"補助が未登録/重複",IF(NOT(OR(F27="要",F27="不要")),"補助必要は要/不要",IF(NOT(OR(G27="確認済",G27="未確認",G27="不要")),"引継ぎの区分を確認",IF(AND(G27="確認済",D27=""),"主担当なしの引継確認済",IF(AND(G27="確認済",NOT(AND(ISNUMBER(H27),H27>=43831,H27<73051,H27=INT(H27)))),"引継確認日は日付で必須",IF(AND(G27="確認済",H27>担当状況!$B$3),"確認日が基準日より後",IF(AND(G27<>"確認済",H27<>""),"確認済以外は確認日を空欄","確認済み"))))))))))))))) | P27: =IF(O27="","",IF(O27="確認済み",0,1)) | Q27: =IF(O27="","",IF(NOT(AND(ISNUMBER(P27),P27=IF(O27="確認済み",0,1))),1,IF(P27<>0,0,IF(AND(ISNUMBER(I27),I27=IF(D27="",1,0),ISNUMBER(J27),J27=IF(AND(F27="要",E27=""),1,0),ISNUMBER(K27),K27=IF(AND(D27<>"",E27<>"",D27=E27),1,0),ISNUMBER(L27),L27=IF(G27="未確認",1,0),ISTEXT(M27),M27=IF(AND(I27=1,J27=1),"主・補助未割当",IF(I27=1,"主未割当",IF(J27=1,"補助未割当",IF(K27=1,"主補助同一","割当あり")))),ISTEXT(N27),N27=IF(B27>担当状況!$B$3,"開始前",IF(C27<担当状況!$B$3,"終了後","期間内"))),0,1))))
