Workbook

Sheet 返品の確認
A2: 返品の確認 | K2: 日付の前提 | L2: 入力の前提
A3: 記録確認基準日 | B3: 46326 | D3: 整数個・日本円 | K3: =IF(IF(ISNUMBER(B3),AND(B3>=43831,B3<=73050,B3=INT(B3)),FALSE()),0,1) -> 0 | L3: =IF(AND(ISNUMBER(K3),K3=IF(IF(ISNUMBER(B3),AND(B3>=43831,B3<=73050,B3=INT(B3)),FALSE()),0,1)),K3,1)+SUM(返品記録!W8:X57)+IF(COUNT(返品記録!X8:X57)=50,0,1)+SUM(元出荷明細!G8:H57)+IF(COUNT(元出荷明細!H8:H57)=50,0,1) -> 0
A4: 照合済は入力した受取・検品・実物処理・返金記録の一致です。承認や業務完了を証明しません。
A5: 登録（件） | B5: =IF($L$3<>0,NA(),COUNTIFS(返品記録!V8:V57,"確認済み")) -> 12 | D5: 有効（件） | E5: =IF($L$3<>0,NA(),COUNTIFS(返品記録!E8:E57,"有効")) -> 11 | G5: 取消（件） | H5: =IF($L$3<>0,NA(),COUNTIFS(返品記録!E8:E57,"取消")) -> 1
A6: 受取未確認（件） | B6: =IF($L$3<>0,NA(),COUNTIFS(返品記録!E8:E57,"有効",返品記録!F8:F57,"未確認")) -> 1 | D6: 受取小計（個） | E6: =IF($L$3<>0,NA(),SUMIFS(返品記録!G8:G57,返品記録!E8:E57,"有効",返品記録!F8:F57,"確認済")) -> 18 | G6: 全受取数（個） | H6: =IF($L$3<>0,NA(),IF(E5=0,"対象なし",IF(B6>0,"判定保留",E6))) -> 判定保留
A7: 照合済（件） | B7: =IF($L$3<>0,NA(),COUNTIFS(返品記録!U8:U57,"照合済")) -> 4 | D7: 未照合（件） | E7: =IF($L$3<>0,NA(),E5-B7) -> 7 | G7: 過返金（件） | H7: =IF($L$3<>0,NA(),COUNTIFS(返品記録!E8:E57,"有効",返品記録!T8:T57,"<0")) -> 1
A8: 合意小計（円） | B8: =IF($L$3<>0,NA(),SUMIFS(返品記録!L8:L57,返品記録!E8:E57,"有効",返品記録!I8:I57,"返金",返品記録!K8:K57,"確認済")) -> 5100 | D8: 実績小計（円） | E8: =IF($L$3<>0,NA(),SUMIFS(返品記録!N8:N57,返品記録!E8:E57,"有効",返品記録!I8:I57,"返金",返品記録!M8:M57,"確認済")) -> 2600 | G8: 全返金差額（円） | H8: =IF($L$3<>0,NA(),IF(E5=0,"対象なし",IF(COUNTIFS(返品記録!E8:E57,"有効",返品記録!T8:T57,"判定保留")>0,"判定保留",B8-E8))) -> 判定保留
A9: 返品ID | B9: 元明細ID | C9: 受取数（個） | D9: 検品 | E9: 方針 | F9: 実物処理 | G9: 返金差額（円） | H9: 照合状況 | I9: 理由
A10: =IF($L$3<>0,NA(),IF(COUNTA(返品記録!A8:O8)=0,"",返品記録!A8)) -> RET-0001 | B10: =IF($L$3<>0,NA(),IF(COUNTA(返品記録!A8:O8)=0,"",返品記録!B8)) -> SAL-0001 | C10: =IF($L$3<>0,NA(),IF(COUNTA(返品記録!A8:O8)=0,"",IF(COUNTA(返品記録!G8)=0,"",返品記録!G8))) -> 2 | D10: =IF($L$3<>0,NA(),IF(COUNTA(返品記録!A8:O8)=0,"",返品記録!H8)) -> 確認済 | E10: =IF($L$3<>0,NA(),IF(COUNTA(返品記録!A8:O8)=0,"",返品記録!I8)) -> 返金 | F10: =IF($L$3<>0,NA(),IF(COUNTA(返品記録!A8:O8)=0,"",返品記録!J8)) -> 確認済 | G10: =IF($L$3<>0,NA(),IF(COUNTA(返品記録!A8:O8)=0,"",返品記録!T8)) -> 0 | H10: =IF($L$3<>0,NA(),IF(COUNTA(返品記録!A8:O8)=0,"",返品記録!U8)) -> 照合済 | I10: =IF($L$3<>0,NA(),IF(COUNTA(返品記録!A8:O8)=0,"",返品記録!D8)) -> 破損
A11: =IF($L$3<>0,NA(),IF(COUNTA(返品記録!A9:O9)=0,"",返品記録!A9)) -> RET-0002 | B11: =IF($L$3<>0,NA(),IF(COUNTA(返品記録!A9:O9)=0,"",返品記録!B9)) -> SAL-0001 | C11: =IF($L$3<>0,NA(),IF(COUNTA(返品記録!A9:O9)=0,"",IF(COUNTA(返品記録!G9)=0,"",返品記録!G9))) -> 1 | D11: =IF($L$3<>0,NA(),IF(COUNTA(返品記録!A9:O9)=0,"",返品記録!H9)) -> 確認済 | E11: =IF($L$3<>0,NA(),IF(COUNTA(返品記録!A9:O9)=0,"",返品記録!I9)) -> 返金 | F11: =IF($L$3<>0,NA(),IF(COUNTA(返品記録!A9:O9)=0,"",返品記録!J9)) -> 確認済 | G11: =IF($L$3<>0,NA(),IF(COUNTA(返品記録!A9:O9)=0,"",返品記録!T9)) -> 400 | H11: =IF($L$3<>0,NA(),IF(COUNTA(返品記録!A9:O9)=0,"",返品記録!U9)) -> 未返金 | I11: =IF($L$3<>0,NA(),IF(COUNTA(返品記録!A9:O9)=0,"",返品記録!D9)) -> 品違い
A12: =IF($L$3<>0,NA(),IF(COUNTA(返品記録!A10:O10)=0,"",返品記録!A10)) -> RET-0003 | B12: =IF($L$3<>0,NA(),IF(COUNTA(返品記録!A10:O10)=0,"",返品記録!B10)) -> SAL-0002 | C12: =IF($L$3<>0,NA(),IF(COUNTA(返品記録!A10:O10)=0,"",IF(COUNTA(返品記録!G10)=0,"",返品記録!G10))) | D12: =IF($L$3<>0,NA(),IF(COUNTA(返品記録!A10:O10)=0,"",返品記録!H10)) -> 未確認 | E12: =IF($L$3<>0,NA(),IF(COUNTA(返品記録!A10:O10)=0,"",返品記録!I10)) -> 未確認 | F12: =IF($L$3<>0,NA(),IF(COUNTA(返品記録!A10:O10)=0,"",返品記録!J10)) -> 未確認 | G12: =IF($L$3<>0,NA(),IF(COUNTA(返品記録!A10:O10)=0,"",返品記録!T10)) -> 判定保留 | H12: =IF($L$3<>0,NA(),IF(COUNTA(返品記録!A10:O10)=0,"",返品記録!U10)) -> 受取未確認 | I12: =IF($L$3<>0,NA(),IF(COUNTA(返品記録!A10:O10)=0,"",返品記録!D10)) -> 未確認
A13: =IF($L$3<>0,NA(),IF(COUNTA(返品記録!A11:O11)=0,"",返品記録!A11)) -> RET-0004 | B13: =IF($L$3<>0,NA(),IF(COUNTA(返品記録!A11:O11)=0,"",返品記録!B11)) -> SAL-0003 | C13: =IF($L$3<>0,NA(),IF(COUNTA(返品記録!A11:O11)=0,"",IF(COUNTA(返品記録!G11)=0,"",返品記録!G11))) -> 3 | D13: =IF($L$3<>0,NA(),IF(COUNTA(返品記録!A11:O11)=0,"",返品記録!H11)) -> 要対応 | E13: =IF($L$3<>0,NA(),IF(COUNTA(返品記録!A11:O11)=0,"",返品記録!I11)) -> 返金 | F13: =IF($L$3<>0,NA(),IF(COUNTA(返品記録!A11:O11)=0,"",返品記録!J11)) -> 未確認 | G13: =IF($L$3<>0,NA(),IF(COUNTA(返品記録!A11:O11)=0,"",返品記録!T11)) -> 1500 | H13: =IF($L$3<>0,NA(),IF(COUNTA(返品記録!A11:O11)=0,"",返品記録!U11)) -> 検品要対応 | I13: =IF($L$3<>0,NA(),IF(COUNTA(返品記録!A11:O11)=0,"",返品記録!D11)) -> 破損
A14: =IF($L$3<>0,NA(),IF(COUNTA(返品記録!A12:O12)=0,"",返品記録!A12)) -> RET-0005 | B14: =IF($L$3<>0,NA(),IF(COUNTA(返品記録!A12:O12)=0,"",返品記録!B12)) -> SAL-0004 | C14: =IF($L$3<>0,NA(),IF(COUNTA(返品記録!A12:O12)=0,"",IF(COUNTA(返品記録!G12)=0,"",返品記録!G12))) -> 2 | D14: =IF($L$3<>0,NA(),IF(COUNTA(返品記録!A12:O12)=0,"",返品記録!H12)) -> 確認済 | E14: =IF($L$3<>0,NA(),IF(COUNTA(返品記録!A12:O12)=0,"",返品記録!I12)) -> 交換 | F14: =IF($L$3<>0,NA(),IF(COUNTA(返品記録!A12:O12)=0,"",返品記録!J12)) -> 未確認 | G14: =IF($L$3<>0,NA(),IF(COUNTA(返品記録!A12:O12)=0,"",返品記録!T12)) -> 対象外 | H14: =IF($L$3<>0,NA(),IF(COUNTA(返品記録!A12:O12)=0,"",返品記録!U12)) -> 実物処理未確認 | I14: =IF($L$3<>0,NA(),IF(COUNTA(返品記録!A12:O12)=0,"",返品記録!D12)) -> 品違い
A15: =IF($L$3<>0,NA(),IF(COUNTA(返品記録!A13:O13)=0,"",返品記録!A13)) -> RET-0006 | B15: =IF($L$3<>0,NA(),IF(COUNTA(返品記録!A13:O13)=0,"",返品記録!B13)) -> SAL-0005 | C15: =IF($L$3<>0,NA(),IF(COUNTA(返品記録!A13:O13)=0,"",IF(COUNTA(返品記録!G13)=0,"",返品記録!G13))) -> 1 | D15: =IF($L$3<>0,NA(),IF(COUNTA(返品記録!A13:O13)=0,"",返品記録!H13)) -> 確認済 | E15: =IF($L$3<>0,NA(),IF(COUNTA(返品記録!A13:O13)=0,"",返品記録!I13)) -> 返金 | F15: =IF($L$3<>0,NA(),IF(COUNTA(返品記録!A13:O13)=0,"",返品記録!J13)) -> 確認済 | G15: =IF($L$3<>0,NA(),IF(COUNTA(返品記録!A13:O13)=0,"",返品記録!T13)) -> 0 | H15: =IF($L$3<>0,NA(),IF(COUNTA(返品記録!A13:O13)=0,"",返品記録!U13)) -> 照合済 | I15: =IF($L$3<>0,NA(),IF(COUNTA(返品記録!A13:O13)=0,"",返品記録!D13)) -> その他
A16: =IF($L$3<>0,NA(),IF(COUNTA(返品記録!A14:O14)=0,"",返品記録!A14)) -> RET-0007 | B16: =IF($L$3<>0,NA(),IF(COUNTA(返品記録!A14:O14)=0,"",返品記録!B14)) -> SAL-0006 | C16: =IF($L$3<>0,NA(),IF(COUNTA(返品記録!A14:O14)=0,"",IF(COUNTA(返品記録!G14)=0,"",返品記録!G14))) -> 1 | D16: =IF($L$3<>0,NA(),IF(COUNTA(返品記録!A14:O14)=0,"",返品記録!H14)) -> 確認済 | E16: =IF($L$3<>0,NA(),IF(COUNTA(返品記録!A14:O14)=0,"",返品記録!I14)) -> 返金 | F16: =IF($L$3<>0,NA(),IF(COUNTA(返品記録!A14:O14)=0,"",返品記録!J14)) -> 確認済 | G16: =IF($L$3<>0,NA(),IF(COUNTA(返品記録!A14:O14)=0,"",返品記録!T14)) -> -200 | H16: =IF($L$3<>0,NA(),IF(COUNTA(返品記録!A14:O14)=0,"",返品記録!U14)) -> 過返金 | I16: =IF($L$3<>0,NA(),IF(COUNTA(返品記録!A14:O14)=0,"",返品記録!D14)) -> 破損
A17: =IF($L$3<>0,NA(),IF(COUNTA(返品記録!A15:O15)=0,"",返品記録!A15)) -> RET-0008 | B17: =IF($L$3<>0,NA(),IF(COUNTA(返品記録!A15:O15)=0,"",返品記録!B15)) -> SAL-0007 | C17: =IF($L$3<>0,NA(),IF(COUNTA(返品記録!A15:O15)=0,"",IF(COUNTA(返品記録!G15)=0,"",返品記録!G15))) -> 5 | D17: =IF($L$3<>0,NA(),IF(COUNTA(返品記録!A15:O15)=0,"",返品記録!H15)) -> 未確認 | E17: =IF($L$3<>0,NA(),IF(COUNTA(返品記録!A15:O15)=0,"",返品記録!I15)) -> 未確認 | F17: =IF($L$3<>0,NA(),IF(COUNTA(返品記録!A15:O15)=0,"",返品記録!J15)) -> 未確認 | G17: =IF($L$3<>0,NA(),IF(COUNTA(返品記録!A15:O15)=0,"",返品記録!T15)) -> 取消 | H17: =IF($L$3<>0,NA(),IF(COUNTA(返品記録!A15:O15)=0,"",返品記録!U15)) -> 取消 | I17: =IF($L$3<>0,NA(),IF(COUNTA(返品記録!A15:O15)=0,"",返品記録!D15)) -> 数量違い
A18: =IF($L$3<>0,NA(),IF(COUNTA(返品記録!A16:O16)=0,"",返品記録!A16)) -> RET-0009 | B18: =IF($L$3<>0,NA(),IF(COUNTA(返品記録!A16:O16)=0,"",返品記録!B16)) -> SAL-0008 | C18: =IF($L$3<>0,NA(),IF(COUNTA(返品記録!A16:O16)=0,"",IF(COUNTA(返品記録!G16)=0,"",返品記録!G16))) -> 4 | D18: =IF($L$3<>0,NA(),IF(COUNTA(返品記録!A16:O16)=0,"",返品記録!H16)) -> 確認済 | E18: =IF($L$3<>0,NA(),IF(COUNTA(返品記録!A16:O16)=0,"",返品記録!I16)) -> 返却 | F18: =IF($L$3<>0,NA(),IF(COUNTA(返品記録!A16:O16)=0,"",返品記録!J16)) -> 確認済 | G18: =IF($L$3<>0,NA(),IF(COUNTA(返品記録!A16:O16)=0,"",返品記録!T16)) -> 対象外 | H18: =IF($L$3<>0,NA(),IF(COUNTA(返品記録!A16:O16)=0,"",返品記録!U16)) -> 照合済 | I18: =IF($L$3<>0,NA(),IF(COUNTA(返品記録!A16:O16)=0,"",返品記録!D16)) -> その他
A19: =IF($L$3<>0,NA(),IF(COUNTA(返品記録!A17:O17)=0,"",返品記録!A17)) -> RET-0010 | B19: =IF($L$3<>0,NA(),IF(COUNTA(返品記録!A17:O17)=0,"",返品記録!B17)) -> SAL-0009 | C19: =IF($L$3<>0,NA(),IF(COUNTA(返品記録!A17:O17)=0,"",IF(COUNTA(返品記録!G17)=0,"",返品記録!G17))) -> 1 | D19: =IF($L$3<>0,NA(),IF(COUNTA(返品記録!A17:O17)=0,"",返品記録!H17)) -> 確認済 | E19: =IF($L$3<>0,NA(),IF(COUNTA(返品記録!A17:O17)=0,"",返品記録!I17)) -> 返金 | F19: =IF($L$3<>0,NA(),IF(COUNTA(返品記録!A17:O17)=0,"",返品記録!J17)) -> 確認済 | G19: =IF($L$3<>0,NA(),IF(COUNTA(返品記録!A17:O17)=0,"",返品記録!T17)) -> 判定保留 | H19: =IF($L$3<>0,NA(),IF(COUNTA(返品記録!A17:O17)=0,"",返品記録!U17)) -> 合意未確認 | I19: =IF($L$3<>0,NA(),IF(COUNTA(返品記録!A17:O17)=0,"",返品記録!D17)) -> 数量違い
A20: =IF($L$3<>0,NA(),IF(COUNTA(返品記録!A18:O18)=0,"",返品記録!A18)) -> RET-0011 | B20: =IF($L$3<>0,NA(),IF(COUNTA(返品記録!A18:O18)=0,"",返品記録!B18)) -> SAL-0010 | C20: =IF($L$3<>0,NA(),IF(COUNTA(返品記録!A18:O18)=0,"",IF(COUNTA(返品記録!G18)=0,"",返品記録!G18))) -> 2 | D20: =IF($L$3<>0,NA(),IF(COUNTA(返品記録!A18:O18)=0,"",返品記録!H18)) -> 未確認 | E20: =IF($L$3<>0,NA(),IF(COUNTA(返品記録!A18:O18)=0,"",返品記録!I18)) -> 返金 | F20: =IF($L$3<>0,NA(),IF(COUNTA(返品記録!A18:O18)=0,"",返品記録!J18)) -> 未確認 | G20: =IF($L$3<>0,NA(),IF(COUNTA(返品記録!A18:O18)=0,"",返品記録!T18)) -> 判定保留 | H20: =IF($L$3<>0,NA(),IF(COUNTA(返品記録!A18:O18)=0,"",返品記録!U18)) -> 検品未確認 | I20: =IF($L$3<>0,NA(),IF(COUNTA(返品記録!A18:O18)=0,"",返品記録!D18)) -> 破損
A21: =IF($L$3<>0,NA(),IF(COUNTA(返品記録!A19:O19)=0,"",返品記録!A19)) -> RET-0012 | B21: =IF($L$3<>0,NA(),IF(COUNTA(返品記録!A19:O19)=0,"",返品記録!B19)) -> SAL-0011 | C21: =IF($L$3<>0,NA(),IF(COUNTA(返品記録!A19:O19)=0,"",IF(COUNTA(返品記録!G19)=0,"",返品記録!G19))) -> 1 | D21: =IF($L$3<>0,NA(),IF(COUNTA(返品記録!A19:O19)=0,"",返品記録!H19)) -> 確認済 | E21: =IF($L$3<>0,NA(),IF(COUNTA(返品記録!A19:O19)=0,"",返品記録!I19)) -> その他 | F21: =IF($L$3<>0,NA(),IF(COUNTA(返品記録!A19:O19)=0,"",返品記録!J19)) -> 確認済 | G21: =IF($L$3<>0,NA(),IF(COUNTA(返品記録!A19:O19)=0,"",返品記録!T19)) -> 対象外 | H21: =IF($L$3<>0,NA(),IF(COUNTA(返品記録!A19:O19)=0,"",返品記録!U19)) -> 照合済 | I21: =IF($L$3<>0,NA(),IF(COUNTA(返品記録!A19:O19)=0,"",返品記録!D19)) -> その他
... A59: =IF($L$3<>0,NA(),IF(COUNTA(返品記録!A57:O57)=0,"",返品記録!A57)) | B59: =IF($L$3<>0,NA(),IF(COUNTA(返品記録!A57:O57)=0,"",返品記録!B57)) | C59: =IF($L$3<>0,NA(),IF(COUNTA(返品記録!A57:O57)=0,"",IF(COUNTA(返品記録!G57)=0,"",返品記録!G57))) | D59: =IF($L$3<>0,NA(),IF(COUNTA(返品記録!A57:O57)=0,"",返品記録!H57)) | E59: =IF($L$3<>0,NA(),IF(COUNTA(返品記録!A57:O57)=0,"",返品記録!I57)) | F59: =IF($L$3<>0,NA(),IF(COUNTA(返品記録!A57:O57)=0,"",返品記録!J57)) | G59: =IF($L$3<>0,NA(),IF(COUNTA(返品記録!A57:O57)=0,"",返品記録!T57)) | H59: =IF($L$3<>0,NA(),IF(COUNTA(返品記録!A57:O57)=0,"",返品記録!U57)) | I59: =IF($L$3<>0,NA(),IF(COUNTA(返品記録!A57:O57)=0,"",返品記録!D57))

Sheet 返品記録
A2: 返品の記録
A3: 黄色A〜Oへ50返品。1行は1回の返品・1元出荷明細。取消は記録訂正であり、実物や返金の取消ではありません。
A5: 個/日本円の整数。返金合意と実績は別確認。未確認/対象外の数量・金額は空欄、既知0円は0。
A7: 返品ID | B7: 元明細ID | C7: 受付日 | D7: 理由 | E7: 記録状態 | F7: 受取区分 | G7: 受取数（個） | H7: 検品 | I7: 処理方針 | J7: 実物処理 | K7: 合意区分 | L7: 合意額（円） | M7: 実績区分 | N7: 実績額（円） | O7: 記録確認日 | P7: 元出荷数 | Q7: 全有効受取数 | R7: 受取未確認件 | S7: 未返品数目安 | T7: 返金差額（円） | U7: 照合状況 | V7: 入力の確認 | W7: 入力不備 | X7: 計算の前提
A8: RET-0001 | B8: SAL-0001 | C8: 46305 | D8: 破損 | E8: 有効 | F8: 確認済 | G8: 2 | H8: 確認済 | I8: 返金 | J8: 確認済 | K8: 確認済 | L8: 1200 | M8: 確認済 | N8: 1200 | O8: 46326 | P8: =IF(V8="","",IF(W8<>0,NA(),SUMIFS(元出荷明細!$D$8:$D$57,元出荷明細!$A$8:$A$57,B8))) -> 10 | Q8: =IF(V8="","",IF(W8<>0,NA(),SUMIFS($G$8:$G$57,$B$8:$B$57,B8,$E$8:$E$57,"有効",$F$8:$F$57,"確認済"))) -> 3 | R8: =IF(V8="","",IF(W8<>0,NA(),COUNTIFS($B$8:$B$57,B8,$E$8:$E$57,"有効",$F$8:$F$57,"未確認"))) -> 0 | S8: =IF(V8="","",IF(W8<>0,NA(),IF(R8>0,"判定保留",P8-Q8))) -> 7 | T8: =IF(V8="","",IF(W8<>0,NA(),IF(E8="取消","取消",IF(I8="未確認","判定保留",IF(I8<>"返金","対象外",IF(AND(K8="確認済",M8="確認済"),L8-N8,"判定保留")))))) -> 0 | U8: =IF(V8="","",IF(W8<>0,NA(),IF(E8="取消","取消",IF(F8="未確認","受取未確認",IF(H8="未確認","検品未確認",IF(H8="要対応","検品要対応",IF(D8="未確認","理由未確認",IF(I8="未確認","方針未確認",IF(J8="未確認","実物処理未確認",IF(I8<>"返金","照合済",IF(K8="未確認","合意未確認",IF(M8="未確認","実績未確認",IF(T8>0,"未返金",IF(T8<0,"過返金","照合済")))))))))))))) -> 照合済 | V8: =IF(COUNTA(A8:O8)=0,"",IF(NOT(AND(ISTEXT(A8),LEN(A8)=8,EXACT(LEFT(A8,4),"RET-"),ISNUMBER(FIND(MID(A8,5,1)&"x","0x1x2x3x4x5x6x7x8x9x")),ISNUMBER(FIND(MID(A8,6,1)&"x","0x1x2x3x4x5x6x7x8x9x")),ISNUMBER(FIND(MID(A8,7,1)&"x","0x1x2x3x4x5x6x7x8x9x")),ISNUMBER(FIND(MID(A8,8,1)&"x","0x1x2x3x4x5x6x7x8x9x")))),"返品IDはRET-と半角数字4桁",IF(COUNTIFS($A$8:$A$57,A8)>1,"返品IDが重複",IF(NOT(AND(ISTEXT(B8),LEN(B8)=8,EXACT(LEFT(B8,4),"SAL-"),ISNUMBER(FIND(MID(B8,5,1)&"x","0x1x2x3x4x5x6x7x8x9x")),ISNUMBER(FIND(MID(B8,6,1)&"x","0x1x2x3x4x5x6x7x8x9x")),ISNUMBER(FIND(MID(B8,7,1)&"x","0x1x2x3x4x5x6x7x8x9x")),ISNUMBER(FIND(MID(B8,8,1)&"x","0x1x2x3x4x5x6x7x8x9x")))),"元明細IDはSAL-と半角数字4桁",IF(COUNTIFS(元出荷明細!$A$8:$A$57,B8)<>1,"元明細が一意にありません",IF(NOT(IF(ISNUMBER(C8),AND(C8>=43831,C8<=73050,C8=INT(C8)),FALSE())),"受付日は時刻なしで必須",IF(C8<SUMIFS(元出荷明細!$C$8:$C$57,元出荷明細!$A$8:$A$57,B8),"受付日は元出荷日以上",IF(NOT(OR(D8="破損",D8="品違い",D8="数量違い",D8="その他",D8="未確認")),"理由を確認",IF(NOT(OR(E8="有効",E8="取消")),"記録状態を確認",IF(NOT(OR(F8="確認済",F8="未確認")),"受取区分を確認",IF(AND(F8="確認済",NOT(IF(ISNUMBER(G8),AND(G8>=1,G8<=1000000,G8=INT(G8)),FALSE()))),"受取数は1〜100万個整数で必須",IF(AND(F8="未確認",COUNTA(G8)>0),"受取未確認の数量は空欄",IF(NOT(OR(H8="確認済",H8="未確認",H8="要対応")),"検品を確認",IF(AND(H8<>"未確認",F8<>"確認済"),"検品前に受取数量を確認",IF(NOT(OR(I8="未確認",I8="返金",I8="交換",I8="返却",I8="その他")),"方針を確認",IF(NOT(OR(J8="確認済",J8="未確認")),"実物処理を確認",IF(AND(J8="確認済",OR(H8<>"確認済",I8="未確認")),"実物処理済は検品/方針が必要",IF(AND(I8="返金",NOT(AND(OR(K8="確認済",K8="未確認"),OR(M8="確認済",M8="未確認")))),"返金は合意/実績を別確認",IF(AND(I8="未確認",NOT(AND(K8="未確認",M8="未確認"))),"方針未確認の金額区分は未確認",IF(AND(OR(I8="交換",I8="返却",I8="その他"),NOT(AND(K8="対象外",M8="対象外"))),"返金以外は金額区分が対象外",IF(AND(K8="確認済",NOT(IF(ISNUMBER(L8),AND(L8>=0,L8<=1000000000,L8=INT(L8)),FALSE()))),"確認済金額は0〜10億円整数",IF(AND(K8<>"確認済",COUNTA(L8)>0),"未確認/対象外の金額は空欄",IF(AND(M8="確認済",NOT(IF(ISNUMBER(N8),AND(N8>=0,N8<=1000000000,N8=INT(N8)),FALSE()))),"確認済金額は0〜10億円整数",IF(AND(M8<>"確認済",COUNTA(N8)>0),"未確認/対象外の金額は空欄",IF(NOT(IF(ISNUMBER(O8),AND(O8>=43831,O8<=73050,O8=INT(O8)),FALSE())),"記録確認日は時刻なしで必須",IF(OR(C8>O8,O8>返品の確認!$B$3),"受付日≦確認日≦基準日",IF(AND(E8="有効",SUMIFS($G$8:$G$57,$B$8:$B$57,B8,$E$8:$E$57,"有効",$F$8:$F$57,"確認済")>SUMIFS(元出荷明細!$D$8:$D$57,元出荷明細!$A$8:$A$57,B8)),"全有効受取数が元出荷数を超過","確認済み"))))))))))))))))))))))))))) -> 確認済み | W8: =IF(V8="","",IF(V8="確認済み",0,1)) -> 0 | X8: =IF(COUNTA(A8:O8)=0,IF(AND(V8="",W8="",P8="",Q8="",R8="",S8="",T8="",U8=""),0,1),IF(NOT(AND(ISTEXT(V8),V8=IF(COUNTA(A8:O8)=0,"",IF(NOT(AND(ISTEXT(A8),LEN(A8)=8,EXACT(LEFT(A8,4),"RET-"),ISNUMBER(FIND(MID(A8,5,1)&"x","0x1x2x3x4x5x6x7x8x9x")),ISNUMBER(FIND(MID(A8,6,1)&"x","0x1x2x3x4x5x6x7x8x9x")),ISNUMBER(FIND(MID(A8,7,1)&"x","0x1x2x3x4x5x6x7x8x9x")),ISNUMBER(FIND(MID(A8,8,1)&"x","0x1x2x3x4x5x6x7x8x9x")))),"返品IDはRET-と半角数字4桁",IF(COUNTIFS($A$8:$A$57,A8)>1,"返品IDが重複",IF(NOT(AND(ISTEXT(B8),LEN(B8)=8,EXACT(LEFT(B8,4),"SAL-"),ISNUMBER(FIND(MID(B8,5,1)&"x","0x1x2x3x4x5x6x7x8x9x")),ISNUMBER(FIND(MID(B8,6,1)&"x","0x1x2x3x4x5x6x7x8x9x")),ISNUMBER(FIND(MID(B8,7,1)&"x","0x1x2x3x4x5x6x7x8x9x")),ISNUMBER(FIND(MID(B8,8,1)&"x","0x1x2x3x4x5x6x7x8x9x")))),"元明細IDはSAL-と半角数字4桁",IF(COUNTIFS(元出荷明細!$A$8:$A$57,B8)<>1,"元明細が一意にありません",IF(NOT(IF(ISNUMBER(C8),AND(C8>=43831,C8<=73050,C8=INT(C8)),FALSE())),"受付日は時刻なしで必須",IF(C8<SUMIFS(元出荷明細!$C$8:$C$57,元出荷明細!$A$8:$A$57,B8),"受付日は元出荷日以上",IF(NOT(OR(D8="破損",D8="品違い",D8="数量違い",D8="その他",D8="未確認")),"理由を確認",IF(NOT(OR(E8="有効",E8="取消")),"記録状態を確認",IF(NOT(OR(F8="確認済",F8="未確認")),"受取区分を確認",IF(AND(F8="確認済",NOT(IF(ISNUMBER(G8),AND(G8>=1,G8<=1000000,G8=INT(G8)),FALSE()))),"受取数は1〜100万個整数で必須",IF(AND(F8="未確認",COUNTA(G8)>0),"受取未確認の数量は空欄",IF(NOT(OR(H8="確認済",H8="未確認",H8="要対応")),"検品を確認",IF(AND(H8<>"未確認",F8<>"確認済"),"検品前に受取数量を確認",IF(NOT(OR(I8="未確認",I8="返金",I8="交換",I8="返却",I8="その他")),"方針を確認",IF(NOT(OR(J8="確認済",J8="未確認")),"実物処理を確認",IF(AND(J8="確認済",OR(H8<>"確認済",I8="未確認")),"実物処理済は検品/方針が必要",IF(AND(I8="返金",NOT(AND(OR(K8="確認済",K8="未確認"),OR(M8="確認済",M8="未確認")))),"返金は合意/実績を別確認",IF(AND(I8="未確認",NOT(AND(K8="未確認",M8="未確認"))),"方針未確認の金額区分は未確認",IF(AND(OR(I8="交換",I8="返却",I8="その他"),NOT(AND(K8="対象外",M8="対象外"))),"返金以外は金額区分が対象外",IF(AND(K8="確認済",NOT(IF(ISNUMBER(L8),AND(L8>=0,L8<=1000000000,L8=INT(L8)),FALSE()))),"確認済金額は0〜10億円整数",IF(AND(K8<>"確認済",COUNTA(L8)>0),"未確認/対象外の金額は空欄",IF(AND(M8="確認済",NOT(IF(ISNUMBER(N8),AND(N8>=0,N8<=1000000000,N8=INT(N8)),FALSE()))),"確認済金額は0〜10億円整数",IF(AND(M8<>"確認済",COUNTA(N8)>0),"未確認/対象外の金額は空欄",IF(NOT(IF(ISNUMBER(O8),AND(O8>=43831,O8<=73050,O8=INT(O8)),FALSE())),"記録確認日は時刻なしで必須",IF(OR(C8>O8,O8>返品の確認!$B$3),"受付日≦確認日≦基準日",IF(AND(E8="有効",SUMIFS($G$8:$G$57,$B$8:$B$57,B8,$E$8:$E$57,"有効",$F$8:$F$57,"確認済")>SUMIFS(元出荷明細!$D$8:$D$57,元出荷明細!$A$8:$A$57,B8)),"全有効受取数が元出荷数を超過","確認済み"))))))))))))))))))))))))))),ISNUMBER(W8),W8=IF(V8="確認済み",0,1))),1,IF(W8<>0,0,IF(AND(ISNUMBER(P8),P8=SUMIFS(元出荷明細!$D$8:$D$57,元出荷明細!$A$8:$A$57,B8),ISNUMBER(Q8),Q8=SUMIFS($G$8:$G$57,$B$8:$B$57,B8,$E$8:$E$57,"有効",$F$8:$F$57,"確認済"),ISNUMBER(R8),R8=COUNTIFS($B$8:$B$57,B8,$E$8:$E$57,"有効",$F$8:$F$57,"未確認"),IF(R8>0,ISTEXT(S8),ISNUMBER(S8)),S8=IF(R8>0,"判定保留",P8-Q8),IF(AND(E8="有効",I8="返金",K8="確認済",M8="確認済"),ISNUMBER(T8),ISTEXT(T8)),T8=IF(E8="取消","取消",IF(I8="未確認","判定保留",IF(I8<>"返金","対象外",IF(AND(K8="確認済",M8="確認済"),L8-N8,"判定保留")))),ISTEXT(U8),U8=IF(E8="取消","取消",IF(F8="未確認","受取未確認",IF(H8="未確認","検品未確認",IF(H8="要対応","検品要対応",IF(D8="未確認","理由未確認",IF(I8="未確認","方針未確認",IF(J8="未確認","実物処理未確認",IF(I8<>"返金","照合済",IF(K8="未確認","合意未確認",IF(M8="未確認","実績未確認",IF(T8>0,"未返金",IF(T8<0,"過返金","照合済"))))))))))))),0,1)))) -> 0
A9: RET-0002 | B9: SAL-0001 | C9: 46306 | D9: 品違い | E9: 有効 | F9: 確認済 | G9: 1 | H9: 確認済 | I9: 返金 | J9: 確認済 | K9: 確認済 | L9: 600 | M9: 確認済 | N9: 200 | O9: 46326 | P9: =IF(V9="","",IF(W9<>0,NA(),SUMIFS(元出荷明細!$D$8:$D$57,元出荷明細!$A$8:$A$57,B9))) -> 10 | Q9: =IF(V9="","",IF(W9<>0,NA(),SUMIFS($G$8:$G$57,$B$8:$B$57,B9,$E$8:$E$57,"有効",$F$8:$F$57,"確認済"))) -> 3 | R9: =IF(V9="","",IF(W9<>0,NA(),COUNTIFS($B$8:$B$57,B9,$E$8:$E$57,"有効",$F$8:$F$57,"未確認"))) -> 0 | S9: =IF(V9="","",IF(W9<>0,NA(),IF(R9>0,"判定保留",P9-Q9))) -> 7 | T9: =IF(V9="","",IF(W9<>0,NA(),IF(E9="取消","取消",IF(I9="未確認","判定保留",IF(I9<>"返金","対象外",IF(AND(K9="確認済",M9="確認済"),L9-N9,"判定保留")))))) -> 400 | U9: =IF(V9="","",IF(W9<>0,NA(),IF(E9="取消","取消",IF(F9="未確認","受取未確認",IF(H9="未確認","検品未確認",IF(H9="要対応","検品要対応",IF(D9="未確認","理由未確認",IF(I9="未確認","方針未確認",IF(J9="未確認","実物処理未確認",IF(I9<>"返金","照合済",IF(K9="未確認","合意未確認",IF(M9="未確認","実績未確認",IF(T9>0,"未返金",IF(T9<0,"過返金","照合済")))))))))))))) -> 未返金 | V9: =IF(COUNTA(A9:O9)=0,"",IF(NOT(AND(ISTEXT(A9),LEN(A9)=8,EXACT(LEFT(A9,4),"RET-"),ISNUMBER(FIND(MID(A9,5,1)&"x","0x1x2x3x4x5x6x7x8x9x")),ISNUMBER(FIND(MID(A9,6,1)&"x","0x1x2x3x4x5x6x7x8x9x")),ISNUMBER(FIND(MID(A9,7,1)&"x","0x1x2x3x4x5x6x7x8x9x")),ISNUMBER(FIND(MID(A9,8,1)&"x","0x1x2x3x4x5x6x7x8x9x")))),"返品IDはRET-と半角数字4桁",IF(COUNTIFS($A$8:$A$57,A9)>1,"返品IDが重複",IF(NOT(AND(ISTEXT(B9),LEN(B9)=8,EXACT(LEFT(B9,4),"SAL-"),ISNUMBER(FIND(MID(B9,5,1)&"x","0x1x2x3x4x5x6x7x8x9x")),ISNUMBER(FIND(MID(B9,6,1)&"x","0x1x2x3x4x5x6x7x8x9x")),ISNUMBER(FIND(MID(B9,7,1)&"x","0x1x2x3x4x5x6x7x8x9x")),ISNUMBER(FIND(MID(B9,8,1)&"x","0x1x2x3x4x5x6x7x8x9x")))),"元明細IDはSAL-と半角数字4桁",IF(COUNTIFS(元出荷明細!$A$8:$A$57,B9)<>1,"元明細が一意にありません",IF(NOT(IF(ISNUMBER(C9),AND(C9>=43831,C9<=73050,C9=INT(C9)),FALSE())),"受付日は時刻なしで必須",IF(C9<SUMIFS(元出荷明細!$C$8:$C$57,元出荷明細!$A$8:$A$57,B9),"受付日は元出荷日以上",IF(NOT(OR(D9="破損",D9="品違い",D9="数量違い",D9="その他",D9="未確認")),"理由を確認",IF(NOT(OR(E9="有効",E9="取消")),"記録状態を確認",IF(NOT(OR(F9="確認済",F9="未確認")),"受取区分を確認",IF(AND(F9="確認済",NOT(IF(ISNUMBER(G9),AND(G9>=1,G9<=1000000,G9=INT(G9)),FALSE()))),"受取数は1〜100万個整数で必須",IF(AND(F9="未確認",COUNTA(G9)>0),"受取未確認の数量は空欄",IF(NOT(OR(H9="確認済",H9="未確認",H9="要対応")),"検品を確認",IF(AND(H9<>"未確認",F9<>"確認済"),"検品前に受取数量を確認",IF(NOT(OR(I9="未確認",I9="返金",I9="交換",I9="返却",I9="その他")),"方針を確認",IF(NOT(OR(J9="確認済",J9="未確認")),"実物処理を確認",IF(AND(J9="確認済",OR(H9<>"確認済",I9="未確認")),"実物処理済は検品/方針が必要",IF(AND(I9="返金",NOT(AND(OR(K9="確認済",K9="未確認"),OR(M9="確認済",M9="未確認")))),"返金は合意/実績を別確認",IF(AND(I9="未確認",NOT(AND(K9="未確認",M9="未確認"))),"方針未確認の金額区分は未確認",IF(AND(OR(I9="交換",I9="返却",I9="その他"),NOT(AND(K9="対象外",M9="対象外"))),"返金以外は金額区分が対象外",IF(AND(K9="確認済",NOT(IF(ISNUMBER(L9),AND(L9>=0,L9<=1000000000,L9=INT(L9)),FALSE()))),"確認済金額は0〜10億円整数",IF(AND(K9<>"確認済",COUNTA(L9)>0),"未確認/対象外の金額は空欄",IF(AND(M9="確認済",NOT(IF(ISNUMBER(N9),AND(N9>=0,N9<=1000000000,N9=INT(N9)),FALSE()))),"確認済金額は0〜10億円整数",IF(AND(M9<>"確認済",COUNTA(N9)>0),"未確認/対象外の金額は空欄",IF(NOT(IF(ISNUMBER(O9),AND(O9>=43831,O9<=73050,O9=INT(O9)),FALSE())),"記録確認日は時刻なしで必須",IF(OR(C9>O9,O9>返品の確認!$B$3),"受付日≦確認日≦基準日",IF(AND(E9="有効",SUMIFS($G$8:$G$57,$B$8:$B$57,B9,$E$8:$E$57,"有効",$F$8:$F$57,"確認済")>SUMIFS(元出荷明細!$D$8:$D$57,元出荷明細!$A$8:$A$57,B9)),"全有効受取数が元出荷数を超過","確認済み"))))))))))))))))))))))))))) -> 確認済み | W9: =IF(V9="","",IF(V9="確認済み",0,1)) -> 0 | X9: =IF(COUNTA(A9:O9)=0,IF(AND(V9="",W9="",P9="",Q9="",R9="",S9="",T9="",U9=""),0,1),IF(NOT(AND(ISTEXT(V9),V9=IF(COUNTA(A9:O9)=0,"",IF(NOT(AND(ISTEXT(A9),LEN(A9)=8,EXACT(LEFT(A9,4),"RET-"),ISNUMBER(FIND(MID(A9,5,1)&"x","0x1x2x3x4x5x6x7x8x9x")),ISNUMBER(FIND(MID(A9,6,1)&"x","0x1x2x3x4x5x6x7x8x9x")),ISNUMBER(FIND(MID(A9,7,1)&"x","0x1x2x3x4x5x6x7x8x9x")),ISNUMBER(FIND(MID(A9,8,1)&"x","0x1x2x3x4x5x6x7x8x9x")))),"返品IDはRET-と半角数字4桁",IF(COUNTIFS($A$8:$A$57,A9)>1,"返品IDが重複",IF(NOT(AND(ISTEXT(B9),LEN(B9)=8,EXACT(LEFT(B9,4),"SAL-"),ISNUMBER(FIND(MID(B9,5,1)&"x","0x1x2x3x4x5x6x7x8x9x")),ISNUMBER(FIND(MID(B9,6,1)&"x","0x1x2x3x4x5x6x7x8x9x")),ISNUMBER(FIND(MID(B9,7,1)&"x","0x1x2x3x4x5x6x7x8x9x")),ISNUMBER(FIND(MID(B9,8,1)&"x","0x1x2x3x4x5x6x7x8x9x")))),"元明細IDはSAL-と半角数字4桁",IF(COUNTIFS(元出荷明細!$A$8:$A$57,B9)<>1,"元明細が一意にありません",IF(NOT(IF(ISNUMBER(C9),AND(C9>=43831,C9<=73050,C9=INT(C9)),FALSE())),"受付日は時刻なしで必須",IF(C9<SUMIFS(元出荷明細!$C$8:$C$57,元出荷明細!$A$8:$A$57,B9),"受付日は元出荷日以上",IF(NOT(OR(D9="破損",D9="品違い",D9="数量違い",D9="その他",D9="未確認")),"理由を確認",IF(NOT(OR(E9="有効",E9="取消")),"記録状態を確認",IF(NOT(OR(F9="確認済",F9="未確認")),"受取区分を確認",IF(AND(F9="確認済",NOT(IF(ISNUMBER(G9),AND(G9>=1,G9<=1000000,G9=INT(G9)),FALSE()))),"受取数は1〜100万個整数で必須",IF(AND(F9="未確認",COUNTA(G9)>0),"受取未確認の数量は空欄",IF(NOT(OR(H9="確認済",H9="未確認",H9="要対応")),"検品を確認",IF(AND(H9<>"未確認",F9<>"確認済"),"検品前に受取数量を確認",IF(NOT(OR(I9="未確認",I9="返金",I9="交換",I9="返却",I9="その他")),"方針を確認",IF(NOT(OR(J9="確認済",J9="未確認")),"実物処理を確認",IF(AND(J9="確認済",OR(H9<>"確認済",I9="未確認")),"実物処理済は検品/方針が必要",IF(AND(I9="返金",NOT(AND(OR(K9="確認済",K9="未確認"),OR(M9="確認済",M9="未確認")))),"返金は合意/実績を別確認",IF(AND(I9="未確認",NOT(AND(K9="未確認",M9="未確認"))),"方針未確認の金額区分は未確認",IF(AND(OR(I9="交換",I9="返却",I9="その他"),NOT(AND(K9="対象外",M9="対象外"))),"返金以外は金額区分が対象外",IF(AND(K9="確認済",NOT(IF(ISNUMBER(L9),AND(L9>=0,L9<=1000000000,L9=INT(L9)),FALSE()))),"確認済金額は0〜10億円整数",IF(AND(K9<>"確認済",COUNTA(L9)>0),"未確認/対象外の金額は空欄",IF(AND(M9="確認済",NOT(IF(ISNUMBER(N9),AND(N9>=0,N9<=1000000000,N9=INT(N9)),FALSE()))),"確認済金額は0〜10億円整数",IF(AND(M9<>"確認済",COUNTA(N9)>0),"未確認/対象外の金額は空欄",IF(NOT(IF(ISNUMBER(O9),AND(O9>=43831,O9<=73050,O9=INT(O9)),FALSE())),"記録確認日は時刻なしで必須",IF(OR(C9>O9,O9>返品の確認!$B$3),"受付日≦確認日≦基準日",IF(AND(E9="有効",SUMIFS($G$8:$G$57,$B$8:$B$57,B9,$E$8:$E$57,"有効",$F$8:$F$57,"確認済")>SUMIFS(元出荷明細!$D$8:$D$57,元出荷明細!$A$8:$A$57,B9)),"全有効受取数が元出荷数を超過","確認済み"))))))))))))))))))))))))))),ISNUMBER(W9),W9=IF(V9="確認済み",0,1))),1,IF(W9<>0,0,IF(AND(ISNUMBER(P9),P9=SUMIFS(元出荷明細!$D$8:$D$57,元出荷明細!$A$8:$A$57,B9),ISNUMBER(Q9),Q9=SUMIFS($G$8:$G$57,$B$8:$B$57,B9,$E$8:$E$57,"有効",$F$8:$F$57,"確認済"),ISNUMBER(R9),R9=COUNTIFS($B$8:$B$57,B9,$E$8:$E$57,"有効",$F$8:$F$57,"未確認"),IF(R9>0,ISTEXT(S9),ISNUMBER(S9)),S9=IF(R9>0,"判定保留",P9-Q9),IF(AND(E9="有効",I9="返金",K9="確認済",M9="確認済"),ISNUMBER(T9),ISTEXT(T9)),T9=IF(E9="取消","取消",IF(I9="未確認","判定保留",IF(I9<>"返金","対象外",IF(AND(K9="確認済",M9="確認済"),L9-N9,"判定保留")))),ISTEXT(U9),U9=IF(E9="取消","取消",IF(F9="未確認","受取未確認",IF(H9="未確認","検品未確認",IF(H9="要対応","検品要対応",IF(D9="未確認","理由未確認",IF(I9="未確認","方針未確認",IF(J9="未確認","実物処理未確認",IF(I9<>"返金","照合済",IF(K9="未確認","合意未確認",IF(M9="未確認","実績未確認",IF(T9>0,"未返金",IF(T9<0,"過返金","照合済"))))))))))))),0,1)))) -> 0
A10: RET-0003 | B10: SAL-0002 | C10: 46307 | D10: 未確認 | E10: 有効 | F10: 未確認 | H10: 未確認 | I10: 未確認 | J10: 未確認 | K10: 未確認 | M10: 未確認 | O10: 46326 | P10: =IF(V10="","",IF(W10<>0,NA(),SUMIFS(元出荷明細!$D$8:$D$57,元出荷明細!$A$8:$A$57,B10))) -> 10 | Q10: =IF(V10="","",IF(W10<>0,NA(),SUMIFS($G$8:$G$57,$B$8:$B$57,B10,$E$8:$E$57,"有効",$F$8:$F$57,"確認済"))) -> 0 | R10: =IF(V10="","",IF(W10<>0,NA(),COUNTIFS($B$8:$B$57,B10,$E$8:$E$57,"有効",$F$8:$F$57,"未確認"))) -> 1 | S10: =IF(V10="","",IF(W10<>0,NA(),IF(R10>0,"判定保留",P10-Q10))) -> 判定保留 | T10: =IF(V10="","",IF(W10<>0,NA(),IF(E10="取消","取消",IF(I10="未確認","判定保留",IF(I10<>"返金","対象外",IF(AND(K10="確認済",M10="確認済"),L10-N10,"判定保留")))))) -> 判定保留 | U10: =IF(V10="","",IF(W10<>0,NA(),IF(E10="取消","取消",IF(F10="未確認","受取未確認",IF(H10="未確認","検品未確認",IF(H10="要対応","検品要対応",IF(D10="未確認","理由未確認",IF(I10="未確認","方針未確認",IF(J10="未確認","実物処理未確認",IF(I10<>"返金","照合済",IF(K10="未確認","合意未確認",IF(M10="未確認","実績未確認",IF(T10>0,"未返金",IF(T10<0,"過返金","照合済")))))))))))))) -> 受取未確認 | V10: =IF(COUNTA(A10:O10)=0,"",IF(NOT(AND(ISTEXT(A10),LEN(A10)=8,EXACT(LEFT(A10,4),"RET-"),ISNUMBER(FIND(MID(A10,5,1)&"x","0x1x2x3x4x5x6x7x8x9x")),ISNUMBER(FIND(MID(A10,6,1)&"x","0x1x2x3x4x5x6x7x8x9x")),ISNUMBER(FIND(MID(A10,7,1)&"x","0x1x2x3x4x5x6x7x8x9x")),ISNUMBER(FIND(MID(A10,8,1)&"x","0x1x2x3x4x5x6x7x8x9x")))),"返品IDはRET-と半角数字4桁",IF(COUNTIFS($A$8:$A$57,A10)>1,"返品IDが重複",IF(NOT(AND(ISTEXT(B10),LEN(B10)=8,EXACT(LEFT(B10,4),"SAL-"),ISNUMBER(FIND(MID(B10,5,1)&"x","0x1x2x3x4x5x6x7x8x9x")),ISNUMBER(FIND(MID(B10,6,1)&"x","0x1x2x3x4x5x6x7x8x9x")),ISNUMBER(FIND(MID(B10,7,1)&"x","0x1x2x3x4x5x6x7x8x9x")),ISNUMBER(FIND(MID(B10,8,1)&"x","0x1x2x3x4x5x6x7x8x9x")))),"元明細IDはSAL-と半角数字4桁",IF(COUNTIFS(元出荷明細!$A$8:$A$57,B10)<>1,"元明細が一意にありません",IF(NOT(IF(ISNUMBER(C10),AND(C10>=43831,C10<=73050,C10=INT(C10)),FALSE())),"受付日は時刻なしで必須",IF(C10<SUMIFS(元出荷明細!$C$8:$C$57,元出荷明細!$A$8:$A$57,B10),"受付日は元出荷日以上",IF(NOT(OR(D10="破損",D10="品違い",D10="数量違い",D10="その他",D10="未確認")),"理由を確認",IF(NOT(OR(E10="有効",E10="取消")),"記録状態を確認",IF(NOT(OR(F10="確認済",F10="未確認")),"受取区分を確認",IF(AND(F10="確認済",NOT(IF(ISNUMBER(G10),AND(G10>=1,G10<=1000000,G10=INT(G10)),FALSE()))),"受取数は1〜100万個整数で必須",IF(AND(F10="未確認",COUNTA(G10)>0),"受取未確認の数量は空欄",IF(NOT(OR(H10="確認済",H10="未確認",H10="要対応")),"検品を確認",IF(AND(H10<>"未確認",F10<>"確認済"),"検品前に受取数量を確認",IF(NOT(OR(I10="未確認",I10="返金",I10="交換",I10="返却",I10="その他")),"方針を確認",IF(NOT(OR(J10="確認済",J10="未確認")),"実物処理を確認",IF(AND(J10="確認済",OR(H10<>"確認済",I10="未確認")),"実物処理済は検品/方針が必要",IF(AND(I10="返金",NOT(AND(OR(K10="確認済",K10="未確認"),OR(M10="確認済",M10="未確認")))),"返金は合意/実績を別確認",IF(AND(I10="未確認",NOT(AND(K10="未確認",M10="未確認"))),"方針未確認の金額区分は未確認",IF(AND(OR(I10="交換",I10="返却",I10="その他"),NOT(AND(K10="対象外",M10="対象外"))),"返金以外は金額区分が対象外",IF(AND(K10="確認済",NOT(IF(ISNUMBER(L10),AND(L10>=0,L10<=1000000000,L10=INT(L10)),FALSE()))),"確認済金額は0〜10億円整数",IF(AND(K10<>"確認済",COUNTA(L10)>0),"未確認/対象外の金額は空欄",IF(AND(M10="確認済",NOT(IF(ISNUMBER(N10),AND(N10>=0,N10<=1000000000,N10=INT(N10)),FALSE()))),"確認済金額は0〜10億円整数",IF(AND(M10<>"確認済",COUNTA(N10)>0),"未確認/対象外の金額は空欄",IF(NOT(IF(ISNUMBER(O10),AND(O10>=43831,O10<=73050,O10=INT(O10)),FALSE())),"記録確認日は時刻なしで必須",IF(OR(C10>O10,O10>返品の確認!$B$3),"受付日≦確認日≦基準日",IF(AND(E10="有効",SUMIFS($G$8:$G$57,$B$8:$B$57,B10,$E$8:$E$57,"有効",$F$8:$F$57,"確認済")>SUMIFS(元出荷明細!$D$8:$D$57,元出荷明細!$A$8:$A$57,B10)),"全有効受取数が元出荷数を超過","確認済み"))))))))))))))))))))))))))) -> 確認済み | W10: =IF(V10="","",IF(V10="確認済み",0,1)) -> 0 | X10: =IF(COUNTA(A10:O10)=0,IF(AND(V10="",W10="",P10="",Q10="",R10="",S10="",T10="",U10=""),0,1),IF(NOT(AND(ISTEXT(V10),V10=IF(COUNTA(A10:O10)=0,"",IF(NOT(AND(ISTEXT(A10),LEN(A10)=8,EXACT(LEFT(A10,4),"RET-"),ISNUMBER(FIND(MID(A10,5,1)&"x","0x1x2x3x4x5x6x7x8x9x")),ISNUMBER(FIND(MID(A10,6,1)&"x","0x1x2x3x4x5x6x7x8x9x")),ISNUMBER(FIND(MID(A10,7,1)&"x","0x1x2x3x4x5x6x7x8x9x")),ISNUMBER(FIND(MID(A10,8,1)&"x","0x1x2x3x4x5x6x7x8x9x")))),"返品IDはRET-と半角数字4桁",IF(COUNTIFS($A$8:$A$57,A10)>1,"返品IDが重複",IF(NOT(AND(ISTEXT(B10),LEN(B10)=8,EXACT(LEFT(B10,4),"SAL-"),ISNUMBER(FIND(MID(B10,5,1)&"x","0x1x2x3x4x5x6x7x8x9x")),ISNUMBER(FIND(MID(B10,6,1)&"x","0x1x2x3x4x5x6x7x8x9x")),ISNUMBER(FIND(MID(B10,7,1)&"x","0x1x2x3x4x5x6x7x8x9x")),ISNUMBER(FIND(MID(B10,8,1)&"x","0x1x2x3x4x5x6x7x8x9x")))),"元明細IDはSAL-と半角数字4桁",IF(COUNTIFS(元出荷明細!$A$8:$A$57,B10)<>1,"元明細が一意にありません",IF(NOT(IF(ISNUMBER(C10),AND(C10>=43831,C10<=73050,C10=INT(C10)),FALSE())),"受付日は時刻なしで必須",IF(C10<SUMIFS(元出荷明細!$C$8:$C$57,元出荷明細!$A$8:$A$57,B10),"受付日は元出荷日以上",IF(NOT(OR(D10="破損",D10="品違い",D10="数量違い",D10="その他",D10="未確認")),"理由を確認",IF(NOT(OR(E10="有効",E10="取消")),"記録状態を確認",IF(NOT(OR(F10="確認済",F10="未確認")),"受取区分を確認",IF(AND(F10="確認済",NOT(IF(ISNUMBER(G10),AND(G10>=1,G10<=1000000,G10=INT(G10)),FALSE()))),"受取数は1〜100万個整数で必須",IF(AND(F10="未確認",COUNTA(G10)>0),"受取未確認の数量は空欄",IF(NOT(OR(H10="確認済",H10="未確認",H10="要対応")),"検品を確認",IF(AND(H10<>"未確認",F10<>"確認済"),"検品前に受取数量を確認",IF(NOT(OR(I10="未確認",I10="返金",I10="交換",I10="返却",I10="その他")),"方針を確認",IF(NOT(OR(J10="確認済",J10="未確認")),"実物処理を確認",IF(AND(J10="確認済",OR(H10<>"確認済",I10="未確認")),"実物処理済は検品/方針が必要",IF(AND(I10="返金",NOT(AND(OR(K10="確認済",K10="未確認"),OR(M10="確認済",M10="未確認")))),"返金は合意/実績を別確認",IF(AND(I10="未確認",NOT(AND(K10="未確認",M10="未確認"))),"方針未確認の金額区分は未確認",IF(AND(OR(I10="交換",I10="返却",I10="その他"),NOT(AND(K10="対象外",M10="対象外"))),"返金以外は金額区分が対象外",IF(AND(K10="確認済",NOT(IF(ISNUMBER(L10),AND(L10>=0,L10<=1000000000,L10=INT(L10)),FALSE()))),"確認済金額は0〜10億円整数",IF(AND(K10<>"確認済",COUNTA(L10)>0),"未確認/対象外の金額は空欄",IF(AND(M10="確認済",NOT(IF(ISNUMBER(N10),AND(N10>=0,N10<=1000000000,N10=INT(N10)),FALSE()))),"確認済金額は0〜10億円整数",IF(AND(M10<>"確認済",COUNTA(N10)>0),"未確認/対象外の金額は空欄",IF(NOT(IF(ISNUMBER(O10),AND(O10>=43831,O10<=73050,O10=INT(O10)),FALSE())),"記録確認日は時刻なしで必須",IF(OR(C10>O10,O10>返品の確認!$B$3),"受付日≦確認日≦基準日",IF(AND(E10="有効",SUMIFS($G$8:$G$57,$B$8:$B$57,B10,$E$8:$E$57,"有効",$F$8:$F$57,"確認済")>SUMIFS(元出荷明細!$D$8:$D$57,元出荷明細!$A$8:$A$57,B10)),"全有効受取数が元出荷数を超過","確認済み"))))))))))))))))))))))))))),ISNUMBER(W10),W10=IF(V10="確認済み",0,1))),1,IF(W10<>0,0,IF(AND(ISNUMBER(P10),P10=SUMIFS(元出荷明細!$D$8:$D$57,元出荷明細!$A$8:$A$57,B10),ISNUMBER(Q10),Q10=SUMIFS($G$8:$G$57,$B$8:$B$57,B10,$E$8:$E$57,"有効",$F$8:$F$57,"確認済"),ISNUMBER(R10),R10=COUNTIFS($B$8:$B$57,B10,$E$8:$E$57,"有効",$F$8:$F$57,"未確認"),IF(R10>0,ISTEXT(S10),ISNUMBER(S10)),S10=IF(R10>0,"判定保留",P10-Q10),IF(AND(E10="有効",I10="返金",K10="確認済",M10="確認済"),ISNUMBER(T10),ISTEXT(T10)),T10=IF(E10="取消","取消",IF(I10="未確認","判定保留",IF(I10<>"返金","対象外",IF(AND(K10="確認済",M10="確認済"),L10-N10,"判定保留")))),ISTEXT(U10),U10=IF(E10="取消","取消",IF(F10="未確認","受取未確認",IF(H10="未確認","検品未確認",IF(H10="要対応","検品要対応",IF(D10="未確認","理由未確認",IF(I10="未確認","方針未確認",IF(J10="未確認","実物処理未確認",IF(I10<>"返金","照合済",IF(K10="未確認","合意未確認",IF(M10="未確認","実績未確認",IF(T10>0,"未返金",IF(T10<0,"過返金","照合済"))))))))))))),0,1)))) -> 0
A11: RET-0004 | B11: SAL-0003 | C11: 46308 | D11: 破損 | E11: 有効 | F11: 確認済 | G11: 3 | H11: 要対応 | I11: 返金 | J11: 未確認 | K11: 確認済 | L11: 1500 | M11: 確認済 | N11: 0 | O11: 46326 | P11: =IF(V11="","",IF(W11<>0,NA(),SUMIFS(元出荷明細!$D$8:$D$57,元出荷明細!$A$8:$A$57,B11))) -> 10 | Q11: =IF(V11="","",IF(W11<>0,NA(),SUMIFS($G$8:$G$57,$B$8:$B$57,B11,$E$8:$E$57,"有効",$F$8:$F$57,"確認済"))) -> 3 | R11: =IF(V11="","",IF(W11<>0,NA(),COUNTIFS($B$8:$B$57,B11,$E$8:$E$57,"有効",$F$8:$F$57,"未確認"))) -> 0 | S11: =IF(V11="","",IF(W11<>0,NA(),IF(R11>0,"判定保留",P11-Q11))) -> 7 | T11: =IF(V11="","",IF(W11<>0,NA(),IF(E11="取消","取消",IF(I11="未確認","判定保留",IF(I11<>"返金","対象外",IF(AND(K11="確認済",M11="確認済"),L11-N11,"判定保留")))))) -> 1500 | U11: =IF(V11="","",IF(W11<>0,NA(),IF(E11="取消","取消",IF(F11="未確認","受取未確認",IF(H11="未確認","検品未確認",IF(H11="要対応","検品要対応",IF(D11="未確認","理由未確認",IF(I11="未確認","方針未確認",IF(J11="未確認","実物処理未確認",IF(I11<>"返金","照合済",IF(K11="未確認","合意未確認",IF(M11="未確認","実績未確認",IF(T11>0,"未返金",IF(T11<0,"過返金","照合済")))))))))))))) -> 検品要対応 | V11: =IF(COUNTA(A11:O11)=0,"",IF(NOT(AND(ISTEXT(A11),LEN(A11)=8,EXACT(LEFT(A11,4),"RET-"),ISNUMBER(FIND(MID(A11,5,1)&"x","0x1x2x3x4x5x6x7x8x9x")),ISNUMBER(FIND(MID(A11,6,1)&"x","0x1x2x3x4x5x6x7x8x9x")),ISNUMBER(FIND(MID(A11,7,1)&"x","0x1x2x3x4x5x6x7x8x9x")),ISNUMBER(FIND(MID(A11,8,1)&"x","0x1x2x3x4x5x6x7x8x9x")))),"返品IDはRET-と半角数字4桁",IF(COUNTIFS($A$8:$A$57,A11)>1,"返品IDが重複",IF(NOT(AND(ISTEXT(B11),LEN(B11)=8,EXACT(LEFT(B11,4),"SAL-"),ISNUMBER(FIND(MID(B11,5,1)&"x","0x1x2x3x4x5x6x7x8x9x")),ISNUMBER(FIND(MID(B11,6,1)&"x","0x1x2x3x4x5x6x7x8x9x")),ISNUMBER(FIND(MID(B11,7,1)&"x","0x1x2x3x4x5x6x7x8x9x")),ISNUMBER(FIND(MID(B11,8,1)&"x","0x1x2x3x4x5x6x7x8x9x")))),"元明細IDはSAL-と半角数字4桁",IF(COUNTIFS(元出荷明細!$A$8:$A$57,B11)<>1,"元明細が一意にありません",IF(NOT(IF(ISNUMBER(C11),AND(C11>=43831,C11<=73050,C11=INT(C11)),FALSE())),"受付日は時刻なしで必須",IF(C11<SUMIFS(元出荷明細!$C$8:$C$57,元出荷明細!$A$8:$A$57,B11),"受付日は元出荷日以上",IF(NOT(OR(D11="破損",D11="品違い",D11="数量違い",D11="その他",D11="未確認")),"理由を確認",IF(NOT(OR(E11="有効",E11="取消")),"記録状態を確認",IF(NOT(OR(F11="確認済",F11="未確認")),"受取区分を確認",IF(AND(F11="確認済",NOT(IF(ISNUMBER(G11),AND(G11>=1,G11<=1000000,G11=INT(G11)),FALSE()))),"受取数は1〜100万個整数で必須",IF(AND(F11="未確認",COUNTA(G11)>0),"受取未確認の数量は空欄",IF(NOT(OR(H11="確認済",H11="未確認",H11="要対応")),"検品を確認",IF(AND(H11<>"未確認",F11<>"確認済"),"検品前に受取数量を確認",IF(NOT(OR(I11="未確認",I11="返金",I11="交換",I11="返却",I11="その他")),"方針を確認",IF(NOT(OR(J11="確認済",J11="未確認")),"実物処理を確認",IF(AND(J11="確認済",OR(H11<>"確認済",I11="未確認")),"実物処理済は検品/方針が必要",IF(AND(I11="返金",NOT(AND(OR(K11="確認済",K11="未確認"),OR(M11="確認済",M11="未確認")))),"返金は合意/実績を別確認",IF(AND(I11="未確認",NOT(AND(K11="未確認",M11="未確認"))),"方針未確認の金額区分は未確認",IF(AND(OR(I11="交換",I11="返却",I11="その他"),NOT(AND(K11="対象外",M11="対象外"))),"返金以外は金額区分が対象外",IF(AND(K11="確認済",NOT(IF(ISNUMBER(L11),AND(L11>=0,L11<=1000000000,L11=INT(L11)),FALSE()))),"確認済金額は0〜10億円整数",IF(AND(K11<>"確認済",COUNTA(L11)>0),"未確認/対象外の金額は空欄",IF(AND(M11="確認済",NOT(IF(ISNUMBER(N11),AND(N11>=0,N11<=1000000000,N11=INT(N11)),FALSE()))),"確認済金額は0〜10億円整数",IF(AND(M11<>"確認済",COUNTA(N11)>0),"未確認/対象外の金額は空欄",IF(NOT(IF(ISNUMBER(O11),AND(O11>=43831,O11<=73050,O11=INT(O11)),FALSE())),"記録確認日は時刻なしで必須",IF(OR(C11>O11,O11>返品の確認!$B$3),"受付日≦確認日≦基準日",IF(AND(E11="有効",SUMIFS($G$8:$G$57,$B$8:$B$57,B11,$E$8:$E$57,"有効",$F$8:$F$57,"確認済")>SUMIFS(元出荷明細!$D$8:$D$57,元出荷明細!$A$8:$A$57,B11)),"全有効受取数が元出荷数を超過","確認済み"))))))))))))))))))))))))))) -> 確認済み | W11: =IF(V11="","",IF(V11="確認済み",0,1)) -> 0 | X11: =IF(COUNTA(A11:O11)=0,IF(AND(V11="",W11="",P11="",Q11="",R11="",S11="",T11="",U11=""),0,1),IF(NOT(AND(ISTEXT(V11),V11=IF(COUNTA(A11:O11)=0,"",IF(NOT(AND(ISTEXT(A11),LEN(A11)=8,EXACT(LEFT(A11,4),"RET-"),ISNUMBER(FIND(MID(A11,5,1)&"x","0x1x2x3x4x5x6x7x8x9x")),ISNUMBER(FIND(MID(A11,6,1)&"x","0x1x2x3x4x5x6x7x8x9x")),ISNUMBER(FIND(MID(A11,7,1)&"x","0x1x2x3x4x5x6x7x8x9x")),ISNUMBER(FIND(MID(A11,8,1)&"x","0x1x2x3x4x5x6x7x8x9x")))),"返品IDはRET-と半角数字4桁",IF(COUNTIFS($A$8:$A$57,A11)>1,"返品IDが重複",IF(NOT(AND(ISTEXT(B11),LEN(B11)=8,EXACT(LEFT(B11,4),"SAL-"),ISNUMBER(FIND(MID(B11,5,1)&"x","0x1x2x3x4x5x6x7x8x9x")),ISNUMBER(FIND(MID(B11,6,1)&"x","0x1x2x3x4x5x6x7x8x9x")),ISNUMBER(FIND(MID(B11,7,1)&"x","0x1x2x3x4x5x6x7x8x9x")),ISNUMBER(FIND(MID(B11,8,1)&"x","0x1x2x3x4x5x6x7x8x9x")))),"元明細IDはSAL-と半角数字4桁",IF(COUNTIFS(元出荷明細!$A$8:$A$57,B11)<>1,"元明細が一意にありません",IF(NOT(IF(ISNUMBER(C11),AND(C11>=43831,C11<=73050,C11=INT(C11)),FALSE())),"受付日は時刻なしで必須",IF(C11<SUMIFS(元出荷明細!$C$8:$C$57,元出荷明細!$A$8:$A$57,B11),"受付日は元出荷日以上",IF(NOT(OR(D11="破損",D11="品違い",D11="数量違い",D11="その他",D11="未確認")),"理由を確認",IF(NOT(OR(E11="有効",E11="取消")),"記録状態を確認",IF(NOT(OR(F11="確認済",F11="未確認")),"受取区分を確認",IF(AND(F11="確認済",NOT(IF(ISNUMBER(G11),AND(G11>=1,G11<=1000000,G11=INT(G11)),FALSE()))),"受取数は1〜100万個整数で必須",IF(AND(F11="未確認",COUNTA(G11)>0),"受取未確認の数量は空欄",IF(NOT(OR(H11="確認済",H11="未確認",H11="要対応")),"検品を確認",IF(AND(H11<>"未確認",F11<>"確認済"),"検品前に受取数量を確認",IF(NOT(OR(I11="未確認",I11="返金",I11="交換",I11="返却",I11="その他")),"方針を確認",IF(NOT(OR(J11="確認済",J11="未確認")),"実物処理を確認",IF(AND(J11="確認済",OR(H11<>"確認済",I11="未確認")),"実物処理済は検品/方針が必要",IF(AND(I11="返金",NOT(AND(OR(K11="確認済",K11="未確認"),OR(M11="確認済",M11="未確認")))),"返金は合意/実績を別確認",IF(AND(I11="未確認",NOT(AND(K11="未確認",M11="未確認"))),"方針未確認の金額区分は未確認",IF(AND(OR(I11="交換",I11="返却",I11="その他"),NOT(AND(K11="対象外",M11="対象外"))),"返金以外は金額区分が対象外",IF(AND(K11="確認済",NOT(IF(ISNUMBER(L11),AND(L11>=0,L11<=1000000000,L11=INT(L11)),FALSE()))),"確認済金額は0〜10億円整数",IF(AND(K11<>"確認済",COUNTA(L11)>0),"未確認/対象外の金額は空欄",IF(AND(M11="確認済",NOT(IF(ISNUMBER(N11),AND(N11>=0,N11<=1000000000,N11=INT(N11)),FALSE()))),"確認済金額は0〜10億円整数",IF(AND(M11<>"確認済",COUNTA(N11)>0),"未確認/対象外の金額は空欄",IF(NOT(IF(ISNUMBER(O11),AND(O11>=43831,O11<=73050,O11=INT(O11)),FALSE())),"記録確認日は時刻なしで必須",IF(OR(C11>O11,O11>返品の確認!$B$3),"受付日≦確認日≦基準日",IF(AND(E11="有効",SUMIFS($G$8:$G$57,$B$8:$B$57,B11,$E$8:$E$57,"有効",$F$8:$F$57,"確認済")>SUMIFS(元出荷明細!$D$8:$D$57,元出荷明細!$A$8:$A$57,B11)),"全有効受取数が元出荷数を超過","確認済み"))))))))))))))))))))))))))),ISNUMBER(W11),W11=IF(V11="確認済み",0,1))),1,IF(W11<>0,0,IF(AND(ISNUMBER(P11),P11=SUMIFS(元出荷明細!$D$8:$D$57,元出荷明細!$A$8:$A$57,B11),ISNUMBER(Q11),Q11=SUMIFS($G$8:$G$57,$B$8:$B$57,B11,$E$8:$E$57,"有効",$F$8:$F$57,"確認済"),ISNUMBER(R11),R11=COUNTIFS($B$8:$B$57,B11,$E$8:$E$57,"有効",$F$8:$F$57,"未確認"),IF(R11>0,ISTEXT(S11),ISNUMBER(S11)),S11=IF(R11>0,"判定保留",P11-Q11),IF(AND(E11="有効",I11="返金",K11="確認済",M11="確認済"),ISNUMBER(T11),ISTEXT(T11)),T11=IF(E11="取消","取消",IF(I11="未確認","判定保留",IF(I11<>"返金","対象外",IF(AND(K11="確認済",M11="確認済"),L11-N11,"判定保留")))),ISTEXT(U11),U11=IF(E11="取消","取消",IF(F11="未確認","受取未確認",IF(H11="未確認","検品未確認",IF(H11="要対応","検品要対応",IF(D11="未確認","理由未確認",IF(I11="未確認","方針未確認",IF(J11="未確認","実物処理未確認",IF(I11<>"返金","照合済",IF(K11="未確認","合意未確認",IF(M11="未確認","実績未確認",IF(T11>0,"未返金",IF(T11<0,"過返金","照合済"))))))))))))),0,1)))) -> 0
A12: RET-0005 | B12: SAL-0004 | C12: 46309 | D12: 品違い | E12: 有効 | F12: 確認済 | G12: 2 | H12: 確認済 | I12: 交換 | J12: 未確認 | K12: 対象外 | M12: 対象外 | O12: 46326 | P12: =IF(V12="","",IF(W12<>0,NA(),SUMIFS(元出荷明細!$D$8:$D$57,元出荷明細!$A$8:$A$57,B12))) -> 10 | Q12: =IF(V12="","",IF(W12<>0,NA(),SUMIFS($G$8:$G$57,$B$8:$B$57,B12,$E$8:$E$57,"有効",$F$8:$F$57,"確認済"))) -> 2 | R12: =IF(V12="","",IF(W12<>0,NA(),COUNTIFS($B$8:$B$57,B12,$E$8:$E$57,"有効",$F$8:$F$57,"未確認"))) -> 0 | S12: =IF(V12="","",IF(W12<>0,NA(),IF(R12>0,"判定保留",P12-Q12))) -> 8 | T12: =IF(V12="","",IF(W12<>0,NA(),IF(E12="取消","取消",IF(I12="未確認","判定保留",IF(I12<>"返金","対象外",IF(AND(K12="確認済",M12="確認済"),L12-N12,"判定保留")))))) -> 対象外 | U12: =IF(V12="","",IF(W12<>0,NA(),IF(E12="取消","取消",IF(F12="未確認","受取未確認",IF(H12="未確認","検品未確認",IF(H12="要対応","検品要対応",IF(D12="未確認","理由未確認",IF(I12="未確認","方針未確認",IF(J12="未確認","実物処理未確認",IF(I12<>"返金","照合済",IF(K12="未確認","合意未確認",IF(M12="未確認","実績未確認",IF(T12>0,"未返金",IF(T12<0,"過返金","照合済")))))))))))))) -> 実物処理未確認 | V12: =IF(COUNTA(A12:O12)=0,"",IF(NOT(AND(ISTEXT(A12),LEN(A12)=8,EXACT(LEFT(A12,4),"RET-"),ISNUMBER(FIND(MID(A12,5,1)&"x","0x1x2x3x4x5x6x7x8x9x")),ISNUMBER(FIND(MID(A12,6,1)&"x","0x1x2x3x4x5x6x7x8x9x")),ISNUMBER(FIND(MID(A12,7,1)&"x","0x1x2x3x4x5x6x7x8x9x")),ISNUMBER(FIND(MID(A12,8,1)&"x","0x1x2x3x4x5x6x7x8x9x")))),"返品IDはRET-と半角数字4桁",IF(COUNTIFS($A$8:$A$57,A12)>1,"返品IDが重複",IF(NOT(AND(ISTEXT(B12),LEN(B12)=8,EXACT(LEFT(B12,4),"SAL-"),ISNUMBER(FIND(MID(B12,5,1)&"x","0x1x2x3x4x5x6x7x8x9x")),ISNUMBER(FIND(MID(B12,6,1)&"x","0x1x2x3x4x5x6x7x8x9x")),ISNUMBER(FIND(MID(B12,7,1)&"x","0x1x2x3x4x5x6x7x8x9x")),ISNUMBER(FIND(MID(B12,8,1)&"x","0x1x2x3x4x5x6x7x8x9x")))),"元明細IDはSAL-と半角数字4桁",IF(COUNTIFS(元出荷明細!$A$8:$A$57,B12)<>1,"元明細が一意にありません",IF(NOT(IF(ISNUMBER(C12),AND(C12>=43831,C12<=73050,C12=INT(C12)),FALSE())),"受付日は時刻なしで必須",IF(C12<SUMIFS(元出荷明細!$C$8:$C$57,元出荷明細!$A$8:$A$57,B12),"受付日は元出荷日以上",IF(NOT(OR(D12="破損",D12="品違い",D12="数量違い",D12="その他",D12="未確認")),"理由を確認",IF(NOT(OR(E12="有効",E12="取消")),"記録状態を確認",IF(NOT(OR(F12="確認済",F12="未確認")),"受取区分を確認",IF(AND(F12="確認済",NOT(IF(ISNUMBER(G12),AND(G12>=1,G12<=1000000,G12=INT(G12)),FALSE()))),"受取数は1〜100万個整数で必須",IF(AND(F12="未確認",COUNTA(G12)>0),"受取未確認の数量は空欄",IF(NOT(OR(H12="確認済",H12="未確認",H12="要対応")),"検品を確認",IF(AND(H12<>"未確認",F12<>"確認済"),"検品前に受取数量を確認",IF(NOT(OR(I12="未確認",I12="返金",I12="交換",I12="返却",I12="その他")),"方針を確認",IF(NOT(OR(J12="確認済",J12="未確認")),"実物処理を確認",IF(AND(J12="確認済",OR(H12<>"確認済",I12="未確認")),"実物処理済は検品/方針が必要",IF(AND(I12="返金",NOT(AND(OR(K12="確認済",K12="未確認"),OR(M12="確認済",M12="未確認")))),"返金は合意/実績を別確認",IF(AND(I12="未確認",NOT(AND(K12="未確認",M12="未確認"))),"方針未確認の金額区分は未確認",IF(AND(OR(I12="交換",I12="返却",I12="その他"),NOT(AND(K12="対象外",M12="対象外"))),"返金以外は金額区分が対象外",IF(AND(K12="確認済",NOT(IF(ISNUMBER(L12),AND(L12>=0,L12<=1000000000,L12=INT(L12)),FALSE()))),"確認済金額は0〜10億円整数",IF(AND(K12<>"確認済",COUNTA(L12)>0),"未確認/対象外の金額は空欄",IF(AND(M12="確認済",NOT(IF(ISNUMBER(N12),AND(N12>=0,N12<=1000000000,N12=INT(N12)),FALSE()))),"確認済金額は0〜10億円整数",IF(AND(M12<>"確認済",COUNTA(N12)>0),"未確認/対象外の金額は空欄",IF(NOT(IF(ISNUMBER(O12),AND(O12>=43831,O12<=73050,O12=INT(O12)),FALSE())),"記録確認日は時刻なしで必須",IF(OR(C12>O12,O12>返品の確認!$B$3),"受付日≦確認日≦基準日",IF(AND(E12="有効",SUMIFS($G$8:$G$57,$B$8:$B$57,B12,$E$8:$E$57,"有効",$F$8:$F$57,"確認済")>SUMIFS(元出荷明細!$D$8:$D$57,元出荷明細!$A$8:$A$57,B12)),"全有効受取数が元出荷数を超過","確認済み"))))))))))))))))))))))))))) -> 確認済み | W12: =IF(V12="","",IF(V12="確認済み",0,1)) -> 0 | X12: =IF(COUNTA(A12:O12)=0,IF(AND(V12="",W12="",P12="",Q12="",R12="",S12="",T12="",U12=""),0,1),IF(NOT(AND(ISTEXT(V12),V12=IF(COUNTA(A12:O12)=0,"",IF(NOT(AND(ISTEXT(A12),LEN(A12)=8,EXACT(LEFT(A12,4),"RET-"),ISNUMBER(FIND(MID(A12,5,1)&"x","0x1x2x3x4x5x6x7x8x9x")),ISNUMBER(FIND(MID(A12,6,1)&"x","0x1x2x3x4x5x6x7x8x9x")),ISNUMBER(FIND(MID(A12,7,1)&"x","0x1x2x3x4x5x6x7x8x9x")),ISNUMBER(FIND(MID(A12,8,1)&"x","0x1x2x3x4x5x6x7x8x9x")))),"返品IDはRET-と半角数字4桁",IF(COUNTIFS($A$8:$A$57,A12)>1,"返品IDが重複",IF(NOT(AND(ISTEXT(B12),LEN(B12)=8,EXACT(LEFT(B12,4),"SAL-"),ISNUMBER(FIND(MID(B12,5,1)&"x","0x1x2x3x4x5x6x7x8x9x")),ISNUMBER(FIND(MID(B12,6,1)&"x","0x1x2x3x4x5x6x7x8x9x")),ISNUMBER(FIND(MID(B12,7,1)&"x","0x1x2x3x4x5x6x7x8x9x")),ISNUMBER(FIND(MID(B12,8,1)&"x","0x1x2x3x4x5x6x7x8x9x")))),"元明細IDはSAL-と半角数字4桁",IF(COUNTIFS(元出荷明細!$A$8:$A$57,B12)<>1,"元明細が一意にありません",IF(NOT(IF(ISNUMBER(C12),AND(C12>=43831,C12<=73050,C12=INT(C12)),FALSE())),"受付日は時刻なしで必須",IF(C12<SUMIFS(元出荷明細!$C$8:$C$57,元出荷明細!$A$8:$A$57,B12),"受付日は元出荷日以上",IF(NOT(OR(D12="破損",D12="品違い",D12="数量違い",D12="その他",D12="未確認")),"理由を確認",IF(NOT(OR(E12="有効",E12="取消")),"記録状態を確認",IF(NOT(OR(F12="確認済",F12="未確認")),"受取区分を確認",IF(AND(F12="確認済",NOT(IF(ISNUMBER(G12),AND(G12>=1,G12<=1000000,G12=INT(G12)),FALSE()))),"受取数は1〜100万個整数で必須",IF(AND(F12="未確認",COUNTA(G12)>0),"受取未確認の数量は空欄",IF(NOT(OR(H12="確認済",H12="未確認",H12="要対応")),"検品を確認",IF(AND(H12<>"未確認",F12<>"確認済"),"検品前に受取数量を確認",IF(NOT(OR(I12="未確認",I12="返金",I12="交換",I12="返却",I12="その他")),"方針を確認",IF(NOT(OR(J12="確認済",J12="未確認")),"実物処理を確認",IF(AND(J12="確認済",OR(H12<>"確認済",I12="未確認")),"実物処理済は検品/方針が必要",IF(AND(I12="返金",NOT(AND(OR(K12="確認済",K12="未確認"),OR(M12="確認済",M12="未確認")))),"返金は合意/実績を別確認",IF(AND(I12="未確認",NOT(AND(K12="未確認",M12="未確認"))),"方針未確認の金額区分は未確認",IF(AND(OR(I12="交換",I12="返却",I12="その他"),NOT(AND(K12="対象外",M12="対象外"))),"返金以外は金額区分が対象外",IF(AND(K12="確認済",NOT(IF(ISNUMBER(L12),AND(L12>=0,L12<=1000000000,L12=INT(L12)),FALSE()))),"確認済金額は0〜10億円整数",IF(AND(K12<>"確認済",COUNTA(L12)>0),"未確認/対象外の金額は空欄",IF(AND(M12="確認済",NOT(IF(ISNUMBER(N12),AND(N12>=0,N12<=1000000000,N12=INT(N12)),FALSE()))),"確認済金額は0〜10億円整数",IF(AND(M12<>"確認済",COUNTA(N12)>0),"未確認/対象外の金額は空欄",IF(NOT(IF(ISNUMBER(O12),AND(O12>=43831,O12<=73050,O12=INT(O12)),FALSE())),"記録確認日は時刻なしで必須",IF(OR(C12>O12,O12>返品の確認!$B$3),"受付日≦確認日≦基準日",IF(AND(E12="有効",SUMIFS($G$8:$G$57,$B$8:$B$57,B12,$E$8:$E$57,"有効",$F$8:$F$57,"確認済")>SUMIFS(元出荷明細!$D$8:$D$57,元出荷明細!$A$8:$A$57,B12)),"全有効受取数が元出荷数を超過","確認済み"))))))))))))))))))))))))))),ISNUMBER(W12),W12=IF(V12="確認済み",0,1))),1,IF(W12<>0,0,IF(AND(ISNUMBER(P12),P12=SUMIFS(元出荷明細!$D$8:$D$57,元出荷明細!$A$8:$A$57,B12),ISNUMBER(Q12),Q12=SUMIFS($G$8:$G$57,$B$8:$B$57,B12,$E$8:$E$57,"有効",$F$8:$F$57,"確認済"),ISNUMBER(R12),R12=COUNTIFS($B$8:$B$57,B12,$E$8:$E$57,"有効",$F$8:$F$57,"未確認"),IF(R12>0,ISTEXT(S12),ISNUMBER(S12)),S12=IF(R12>0,"判定保留",P12-Q12),IF(AND(E12="有効",I12="返金",K12="確認済",M12="確認済"),ISNUMBER(T12),ISTEXT(T12)),T12=IF(E12="取消","取消",IF(I12="未確認","判定保留",IF(I12<>"返金","対象外",IF(AND(K12="確認済",M12="確認済"),L12-N12,"判定保留")))),ISTEXT(U12),U12=IF(E12="取消","取消",IF(F12="未確認","受取未確認",IF(H12="未確認","検品未確認",IF(H12="要対応","検品要対応",IF(D12="未確認","理由未確認",IF(I12="未確認","方針未確認",IF(J12="未確認","実物処理未確認",IF(I12<>"返金","照合済",IF(K12="未確認","合意未確認",IF(M12="未確認","実績未確認",IF(T12>0,"未返金",IF(T12<0,"過返金","照合済"))))))))))))),0,1)))) -> 0
A13: RET-0006 | B13: SAL-0005 | C13: 46310 | D13: その他 | E13: 有効 | F13: 確認済 | G13: 1 | H13: 確認済 | I13: 返金 | J13: 確認済 | K13: 確認済 | L13: 0 | M13: 確認済 | N13: 0 | O13: 46326 | P13: =IF(V13="","",IF(W13<>0,NA(),SUMIFS(元出荷明細!$D$8:$D$57,元出荷明細!$A$8:$A$57,B13))) -> 10 | Q13: =IF(V13="","",IF(W13<>0,NA(),SUMIFS($G$8:$G$57,$B$8:$B$57,B13,$E$8:$E$57,"有効",$F$8:$F$57,"確認済"))) -> 1 | R13: =IF(V13="","",IF(W13<>0,NA(),COUNTIFS($B$8:$B$57,B13,$E$8:$E$57,"有効",$F$8:$F$57,"未確認"))) -> 0 | S13: =IF(V13="","",IF(W13<>0,NA(),IF(R13>0,"判定保留",P13-Q13))) -> 9 | T13: =IF(V13="","",IF(W13<>0,NA(),IF(E13="取消","取消",IF(I13="未確認","判定保留",IF(I13<>"返金","対象外",IF(AND(K13="確認済",M13="確認済"),L13-N13,"判定保留")))))) -> 0 | U13: =IF(V13="","",IF(W13<>0,NA(),IF(E13="取消","取消",IF(F13="未確認","受取未確認",IF(H13="未確認","検品未確認",IF(H13="要対応","検品要対応",IF(D13="未確認","理由未確認",IF(I13="未確認","方針未確認",IF(J13="未確認","実物処理未確認",IF(I13<>"返金","照合済",IF(K13="未確認","合意未確認",IF(M13="未確認","実績未確認",IF(T13>0,"未返金",IF(T13<0,"過返金","照合済")))))))))))))) -> 照合済 | V13: =IF(COUNTA(A13:O13)=0,"",IF(NOT(AND(ISTEXT(A13),LEN(A13)=8,EXACT(LEFT(A13,4),"RET-"),ISNUMBER(FIND(MID(A13,5,1)&"x","0x1x2x3x4x5x6x7x8x9x")),ISNUMBER(FIND(MID(A13,6,1)&"x","0x1x2x3x4x5x6x7x8x9x")),ISNUMBER(FIND(MID(A13,7,1)&"x","0x1x2x3x4x5x6x7x8x9x")),ISNUMBER(FIND(MID(A13,8,1)&"x","0x1x2x3x4x5x6x7x8x9x")))),"返品IDはRET-と半角数字4桁",IF(COUNTIFS($A$8:$A$57,A13)>1,"返品IDが重複",IF(NOT(AND(ISTEXT(B13),LEN(B13)=8,EXACT(LEFT(B13,4),"SAL-"),ISNUMBER(FIND(MID(B13,5,1)&"x","0x1x2x3x4x5x6x7x8x9x")),ISNUMBER(FIND(MID(B13,6,1)&"x","0x1x2x3x4x5x6x7x8x9x")),ISNUMBER(FIND(MID(B13,7,1)&"x","0x1x2x3x4x5x6x7x8x9x")),ISNUMBER(FIND(MID(B13,8,1)&"x","0x1x2x3x4x5x6x7x8x9x")))),"元明細IDはSAL-と半角数字4桁",IF(COUNTIFS(元出荷明細!$A$8:$A$57,B13)<>1,"元明細が一意にありません",IF(NOT(IF(ISNUMBER(C13),AND(C13>=43831,C13<=73050,C13=INT(C13)),FALSE())),"受付日は時刻なしで必須",IF(C13<SUMIFS(元出荷明細!$C$8:$C$57,元出荷明細!$A$8:$A$57,B13),"受付日は元出荷日以上",IF(NOT(OR(D13="破損",D13="品違い",D13="数量違い",D13="その他",D13="未確認")),"理由を確認",IF(NOT(OR(E13="有効",E13="取消")),"記録状態を確認",IF(NOT(OR(F13="確認済",F13="未確認")),"受取区分を確認",IF(AND(F13="確認済",NOT(IF(ISNUMBER(G13),AND(G13>=1,G13<=1000000,G13=INT(G13)),FALSE()))),"受取数は1〜100万個整数で必須",IF(AND(F13="未確認",COUNTA(G13)>0),"受取未確認の数量は空欄",IF(NOT(OR(H13="確認済",H13="未確認",H13="要対応")),"検品を確認",IF(AND(H13<>"未確認",F13<>"確認済"),"検品前に受取数量を確認",IF(NOT(OR(I13="未確認",I13="返金",I13="交換",I13="返却",I13="その他")),"方針を確認",IF(NOT(OR(J13="確認済",J13="未確認")),"実物処理を確認",IF(AND(J13="確認済",OR(H13<>"確認済",I13="未確認")),"実物処理済は検品/方針が必要",IF(AND(I13="返金",NOT(AND(OR(K13="確認済",K13="未確認"),OR(M13="確認済",M13="未確認")))),"返金は合意/実績を別確認",IF(AND(I13="未確認",NOT(AND(K13="未確認",M13="未確認"))),"方針未確認の金額区分は未確認",IF(AND(OR(I13="交換",I13="返却",I13="その他"),NOT(AND(K13="対象外",M13="対象外"))),"返金以外は金額区分が対象外",IF(AND(K13="確認済",NOT(IF(ISNUMBER(L13),AND(L13>=0,L13<=1000000000,L13=INT(L13)),FALSE()))),"確認済金額は0〜10億円整数",IF(AND(K13<>"確認済",COUNTA(L13)>0),"未確認/対象外の金額は空欄",IF(AND(M13="確認済",NOT(IF(ISNUMBER(N13),AND(N13>=0,N13<=1000000000,N13=INT(N13)),FALSE()))),"確認済金額は0〜10億円整数",IF(AND(M13<>"確認済",COUNTA(N13)>0),"未確認/対象外の金額は空欄",IF(NOT(IF(ISNUMBER(O13),AND(O13>=43831,O13<=73050,O13=INT(O13)),FALSE())),"記録確認日は時刻なしで必須",IF(OR(C13>O13,O13>返品の確認!$B$3),"受付日≦確認日≦基準日",IF(AND(E13="有効",SUMIFS($G$8:$G$57,$B$8:$B$57,B13,$E$8:$E$57,"有効",$F$8:$F$57,"確認済")>SUMIFS(元出荷明細!$D$8:$D$57,元出荷明細!$A$8:$A$57,B13)),"全有効受取数が元出荷数を超過","確認済み"))))))))))))))))))))))))))) -> 確認済み | W13: =IF(V13="","",IF(V13="確認済み",0,1)) -> 0 | X13: =IF(COUNTA(A13:O13)=0,IF(AND(V13="",W13="",P13="",Q13="",R13="",S13="",T13="",U13=""),0,1),IF(NOT(AND(ISTEXT(V13),V13=IF(COUNTA(A13:O13)=0,"",IF(NOT(AND(ISTEXT(A13),LEN(A13)=8,EXACT(LEFT(A13,4),"RET-"),ISNUMBER(FIND(MID(A13,5,1)&"x","0x1x2x3x4x5x6x7x8x9x")),ISNUMBER(FIND(MID(A13,6,1)&"x","0x1x2x3x4x5x6x7x8x9x")),ISNUMBER(FIND(MID(A13,7,1)&"x","0x1x2x3x4x5x6x7x8x9x")),ISNUMBER(FIND(MID(A13,8,1)&"x","0x1x2x3x4x5x6x7x8x9x")))),"返品IDはRET-と半角数字4桁",IF(COUNTIFS($A$8:$A$57,A13)>1,"返品IDが重複",IF(NOT(AND(ISTEXT(B13),LEN(B13)=8,EXACT(LEFT(B13,4),"SAL-"),ISNUMBER(FIND(MID(B13,5,1)&"x","0x1x2x3x4x5x6x7x8x9x")),ISNUMBER(FIND(MID(B13,6,1)&"x","0x1x2x3x4x5x6x7x8x9x")),ISNUMBER(FIND(MID(B13,7,1)&"x","0x1x2x3x4x5x6x7x8x9x")),ISNUMBER(FIND(MID(B13,8,1)&"x","0x1x2x3x4x5x6x7x8x9x")))),"元明細IDはSAL-と半角数字4桁",IF(COUNTIFS(元出荷明細!$A$8:$A$57,B13)<>1,"元明細が一意にありません",IF(NOT(IF(ISNUMBER(C13),AND(C13>=43831,C13<=73050,C13=INT(C13)),FALSE())),"受付日は時刻なしで必須",IF(C13<SUMIFS(元出荷明細!$C$8:$C$57,元出荷明細!$A$8:$A$57,B13),"受付日は元出荷日以上",IF(NOT(OR(D13="破損",D13="品違い",D13="数量違い",D13="その他",D13="未確認")),"理由を確認",IF(NOT(OR(E13="有効",E13="取消")),"記録状態を確認",IF(NOT(OR(F13="確認済",F13="未確認")),"受取区分を確認",IF(AND(F13="確認済",NOT(IF(ISNUMBER(G13),AND(G13>=1,G13<=1000000,G13=INT(G13)),FALSE()))),"受取数は1〜100万個整数で必須",IF(AND(F13="未確認",COUNTA(G13)>0),"受取未確認の数量は空欄",IF(NOT(OR(H13="確認済",H13="未確認",H13="要対応")),"検品を確認",IF(AND(H13<>"未確認",F13<>"確認済"),"検品前に受取数量を確認",IF(NOT(OR(I13="未確認",I13="返金",I13="交換",I13="返却",I13="その他")),"方針を確認",IF(NOT(OR(J13="確認済",J13="未確認")),"実物処理を確認",IF(AND(J13="確認済",OR(H13<>"確認済",I13="未確認")),"実物処理済は検品/方針が必要",IF(AND(I13="返金",NOT(AND(OR(K13="確認済",K13="未確認"),OR(M13="確認済",M13="未確認")))),"返金は合意/実績を別確認",IF(AND(I13="未確認",NOT(AND(K13="未確認",M13="未確認"))),"方針未確認の金額区分は未確認",IF(AND(OR(I13="交換",I13="返却",I13="その他"),NOT(AND(K13="対象外",M13="対象外"))),"返金以外は金額区分が対象外",IF(AND(K13="確認済",NOT(IF(ISNUMBER(L13),AND(L13>=0,L13<=1000000000,L13=INT(L13)),FALSE()))),"確認済金額は0〜10億円整数",IF(AND(K13<>"確認済",COUNTA(L13)>0),"未確認/対象外の金額は空欄",IF(AND(M13="確認済",NOT(IF(ISNUMBER(N13),AND(N13>=0,N13<=1000000000,N13=INT(N13)),FALSE()))),"確認済金額は0〜10億円整数",IF(AND(M13<>"確認済",COUNTA(N13)>0),"未確認/対象外の金額は空欄",IF(NOT(IF(ISNUMBER(O13),AND(O13>=43831,O13<=73050,O13=INT(O13)),FALSE())),"記録確認日は時刻なしで必須",IF(OR(C13>O13,O13>返品の確認!$B$3),"受付日≦確認日≦基準日",IF(AND(E13="有効",SUMIFS($G$8:$G$57,$B$8:$B$57,B13,$E$8:$E$57,"有効",$F$8:$F$57,"確認済")>SUMIFS(元出荷明細!$D$8:$D$57,元出荷明細!$A$8:$A$57,B13)),"全有効受取数が元出荷数を超過","確認済み"))))))))))))))))))))))))))),ISNUMBER(W13),W13=IF(V13="確認済み",0,1))),1,IF(W13<>0,0,IF(AND(ISNUMBER(P13),P13=SUMIFS(元出荷明細!$D$8:$D$57,元出荷明細!$A$8:$A$57,B13),ISNUMBER(Q13),Q13=SUMIFS($G$8:$G$57,$B$8:$B$57,B13,$E$8:$E$57,"有効",$F$8:$F$57,"確認済"),ISNUMBER(R13),R13=COUNTIFS($B$8:$B$57,B13,$E$8:$E$57,"有効",$F$8:$F$57,"未確認"),IF(R13>0,ISTEXT(S13),ISNUMBER(S13)),S13=IF(R13>0,"判定保留",P13-Q13),IF(AND(E13="有効",I13="返金",K13="確認済",M13="確認済"),ISNUMBER(T13),ISTEXT(T13)),T13=IF(E13="取消","取消",IF(I13="未確認","判定保留",IF(I13<>"返金","対象外",IF(AND(K13="確認済",M13="確認済"),L13-N13,"判定保留")))),ISTEXT(U13),U13=IF(E13="取消","取消",IF(F13="未確認","受取未確認",IF(H13="未確認","検品未確認",IF(H13="要対応","検品要対応",IF(D13="未確認","理由未確認",IF(I13="未確認","方針未確認",IF(J13="未確認","実物処理未確認",IF(I13<>"返金","照合済",IF(K13="未確認","合意未確認",IF(M13="未確認","実績未確認",IF(T13>0,"未返金",IF(T13<0,"過返金","照合済"))))))))))))),0,1)))) -> 0
A14: RET-0007 | B14: SAL-0006 | C14: 46311 | D14: 破損 | E14: 有効 | F14: 確認済 | G14: 1 | H14: 確認済 | I14: 返金 | J14: 確認済 | K14: 確認済 | L14: 1000 | M14: 確認済 | N14: 1200 | O14: 46326 | P14: =IF(V14="","",IF(W14<>0,NA(),SUMIFS(元出荷明細!$D$8:$D$57,元出荷明細!$A$8:$A$57,B14))) -> 10 | Q14: =IF(V14="","",IF(W14<>0,NA(),SUMIFS($G$8:$G$57,$B$8:$B$57,B14,$E$8:$E$57,"有効",$F$8:$F$57,"確認済"))) -> 1 | R14: =IF(V14="","",IF(W14<>0,NA(),COUNTIFS($B$8:$B$57,B14,$E$8:$E$57,"有効",$F$8:$F$57,"未確認"))) -> 0 | S14: =IF(V14="","",IF(W14<>0,NA(),IF(R14>0,"判定保留",P14-Q14))) -> 9 | T14: =IF(V14="","",IF(W14<>0,NA(),IF(E14="取消","取消",IF(I14="未確認","判定保留",IF(I14<>"返金","対象外",IF(AND(K14="確認済",M14="確認済"),L14-N14,"判定保留")))))) -> -200 | U14: =IF(V14="","",IF(W14<>0,NA(),IF(E14="取消","取消",IF(F14="未確認","受取未確認",IF(H14="未確認","検品未確認",IF(H14="要対応","検品要対応",IF(D14="未確認","理由未確認",IF(I14="未確認","方針未確認",IF(J14="未確認","実物処理未確認",IF(I14<>"返金","照合済",IF(K14="未確認","合意未確認",IF(M14="未確認","実績未確認",IF(T14>0,"未返金",IF(T14<0,"過返金","照合済")))))))))))))) -> 過返金 | V14: =IF(COUNTA(A14:O14)=0,"",IF(NOT(AND(ISTEXT(A14),LEN(A14)=8,EXACT(LEFT(A14,4),"RET-"),ISNUMBER(FIND(MID(A14,5,1)&"x","0x1x2x3x4x5x6x7x8x9x")),ISNUMBER(FIND(MID(A14,6,1)&"x","0x1x2x3x4x5x6x7x8x9x")),ISNUMBER(FIND(MID(A14,7,1)&"x","0x1x2x3x4x5x6x7x8x9x")),ISNUMBER(FIND(MID(A14,8,1)&"x","0x1x2x3x4x5x6x7x8x9x")))),"返品IDはRET-と半角数字4桁",IF(COUNTIFS($A$8:$A$57,A14)>1,"返品IDが重複",IF(NOT(AND(ISTEXT(B14),LEN(B14)=8,EXACT(LEFT(B14,4),"SAL-"),ISNUMBER(FIND(MID(B14,5,1)&"x","0x1x2x3x4x5x6x7x8x9x")),ISNUMBER(FIND(MID(B14,6,1)&"x","0x1x2x3x4x5x6x7x8x9x")),ISNUMBER(FIND(MID(B14,7,1)&"x","0x1x2x3x4x5x6x7x8x9x")),ISNUMBER(FIND(MID(B14,8,1)&"x","0x1x2x3x4x5x6x7x8x9x")))),"元明細IDはSAL-と半角数字4桁",IF(COUNTIFS(元出荷明細!$A$8:$A$57,B14)<>1,"元明細が一意にありません",IF(NOT(IF(ISNUMBER(C14),AND(C14>=43831,C14<=73050,C14=INT(C14)),FALSE())),"受付日は時刻なしで必須",IF(C14<SUMIFS(元出荷明細!$C$8:$C$57,元出荷明細!$A$8:$A$57,B14),"受付日は元出荷日以上",IF(NOT(OR(D14="破損",D14="品違い",D14="数量違い",D14="その他",D14="未確認")),"理由を確認",IF(NOT(OR(E14="有効",E14="取消")),"記録状態を確認",IF(NOT(OR(F14="確認済",F14="未確認")),"受取区分を確認",IF(AND(F14="確認済",NOT(IF(ISNUMBER(G14),AND(G14>=1,G14<=1000000,G14=INT(G14)),FALSE()))),"受取数は1〜100万個整数で必須",IF(AND(F14="未確認",COUNTA(G14)>0),"受取未確認の数量は空欄",IF(NOT(OR(H14="確認済",H14="未確認",H14="要対応")),"検品を確認",IF(AND(H14<>"未確認",F14<>"確認済"),"検品前に受取数量を確認",IF(NOT(OR(I14="未確認",I14="返金",I14="交換",I14="返却",I14="その他")),"方針を確認",IF(NOT(OR(J14="確認済",J14="未確認")),"実物処理を確認",IF(AND(J14="確認済",OR(H14<>"確認済",I14="未確認")),"実物処理済は検品/方針が必要",IF(AND(I14="返金",NOT(AND(OR(K14="確認済",K14="未確認"),OR(M14="確認済",M14="未確認")))),"返金は合意/実績を別確認",IF(AND(I14="未確認",NOT(AND(K14="未確認",M14="未確認"))),"方針未確認の金額区分は未確認",IF(AND(OR(I14="交換",I14="返却",I14="その他"),NOT(AND(K14="対象外",M14="対象外"))),"返金以外は金額区分が対象外",IF(AND(K14="確認済",NOT(IF(ISNUMBER(L14),AND(L14>=0,L14<=1000000000,L14=INT(L14)),FALSE()))),"確認済金額は0〜10億円整数",IF(AND(K14<>"確認済",COUNTA(L14)>0),"未確認/対象外の金額は空欄",IF(AND(M14="確認済",NOT(IF(ISNUMBER(N14),AND(N14>=0,N14<=1000000000,N14=INT(N14)),FALSE()))),"確認済金額は0〜10億円整数",IF(AND(M14<>"確認済",COUNTA(N14)>0),"未確認/対象外の金額は空欄",IF(NOT(IF(ISNUMBER(O14),AND(O14>=43831,O14<=73050,O14=INT(O14)),FALSE())),"記録確認日は時刻なしで必須",IF(OR(C14>O14,O14>返品の確認!$B$3),"受付日≦確認日≦基準日",IF(AND(E14="有効",SUMIFS($G$8:$G$57,$B$8:$B$57,B14,$E$8:$E$57,"有効",$F$8:$F$57,"確認済")>SUMIFS(元出荷明細!$D$8:$D$57,元出荷明細!$A$8:$A$57,B14)),"全有効受取数が元出荷数を超過","確認済み"))))))))))))))))))))))))))) -> 確認済み | W14: =IF(V14="","",IF(V14="確認済み",0,1)) -> 0 | X14: =IF(COUNTA(A14:O14)=0,IF(AND(V14="",W14="",P14="",Q14="",R14="",S14="",T14="",U14=""),0,1),IF(NOT(AND(ISTEXT(V14),V14=IF(COUNTA(A14:O14)=0,"",IF(NOT(AND(ISTEXT(A14),LEN(A14)=8,EXACT(LEFT(A14,4),"RET-"),ISNUMBER(FIND(MID(A14,5,1)&"x","0x1x2x3x4x5x6x7x8x9x")),ISNUMBER(FIND(MID(A14,6,1)&"x","0x1x2x3x4x5x6x7x8x9x")),ISNUMBER(FIND(MID(A14,7,1)&"x","0x1x2x3x4x5x6x7x8x9x")),ISNUMBER(FIND(MID(A14,8,1)&"x","0x1x2x3x4x5x6x7x8x9x")))),"返品IDはRET-と半角数字4桁",IF(COUNTIFS($A$8:$A$57,A14)>1,"返品IDが重複",IF(NOT(AND(ISTEXT(B14),LEN(B14)=8,EXACT(LEFT(B14,4),"SAL-"),ISNUMBER(FIND(MID(B14,5,1)&"x","0x1x2x3x4x5x6x7x8x9x")),ISNUMBER(FIND(MID(B14,6,1)&"x","0x1x2x3x4x5x6x7x8x9x")),ISNUMBER(FIND(MID(B14,7,1)&"x","0x1x2x3x4x5x6x7x8x9x")),ISNUMBER(FIND(MID(B14,8,1)&"x","0x1x2x3x4x5x6x7x8x9x")))),"元明細IDはSAL-と半角数字4桁",IF(COUNTIFS(元出荷明細!$A$8:$A$57,B14)<>1,"元明細が一意にありません",IF(NOT(IF(ISNUMBER(C14),AND(C14>=43831,C14<=73050,C14=INT(C14)),FALSE())),"受付日は時刻なしで必須",IF(C14<SUMIFS(元出荷明細!$C$8:$C$57,元出荷明細!$A$8:$A$57,B14),"受付日は元出荷日以上",IF(NOT(OR(D14="破損",D14="品違い",D14="数量違い",D14="その他",D14="未確認")),"理由を確認",IF(NOT(OR(E14="有効",E14="取消")),"記録状態を確認",IF(NOT(OR(F14="確認済",F14="未確認")),"受取区分を確認",IF(AND(F14="確認済",NOT(IF(ISNUMBER(G14),AND(G14>=1,G14<=1000000,G14=INT(G14)),FALSE()))),"受取数は1〜100万個整数で必須",IF(AND(F14="未確認",COUNTA(G14)>0),"受取未確認の数量は空欄",IF(NOT(OR(H14="確認済",H14="未確認",H14="要対応")),"検品を確認",IF(AND(H14<>"未確認",F14<>"確認済"),"検品前に受取数量を確認",IF(NOT(OR(I14="未確認",I14="返金",I14="交換",I14="返却",I14="その他")),"方針を確認",IF(NOT(OR(J14="確認済",J14="未確認")),"実物処理を確認",IF(AND(J14="確認済",OR(H14<>"確認済",I14="未確認")),"実物処理済は検品/方針が必要",IF(AND(I14="返金",NOT(AND(OR(K14="確認済",K14="未確認"),OR(M14="確認済",M14="未確認")))),"返金は合意/実績を別確認",IF(AND(I14="未確認",NOT(AND(K14="未確認",M14="未確認"))),"方針未確認の金額区分は未確認",IF(AND(OR(I14="交換",I14="返却",I14="その他"),NOT(AND(K14="対象外",M14="対象外"))),"返金以外は金額区分が対象外",IF(AND(K14="確認済",NOT(IF(ISNUMBER(L14),AND(L14>=0,L14<=1000000000,L14=INT(L14)),FALSE()))),"確認済金額は0〜10億円整数",IF(AND(K14<>"確認済",COUNTA(L14)>0),"未確認/対象外の金額は空欄",IF(AND(M14="確認済",NOT(IF(ISNUMBER(N14),AND(N14>=0,N14<=1000000000,N14=INT(N14)),FALSE()))),"確認済金額は0〜10億円整数",IF(AND(M14<>"確認済",COUNTA(N14)>0),"未確認/対象外の金額は空欄",IF(NOT(IF(ISNUMBER(O14),AND(O14>=43831,O14<=73050,O14=INT(O14)),FALSE())),"記録確認日は時刻なしで必須",IF(OR(C14>O14,O14>返品の確認!$B$3),"受付日≦確認日≦基準日",IF(AND(E14="有効",SUMIFS($G$8:$G$57,$B$8:$B$57,B14,$E$8:$E$57,"有効",$F$8:$F$57,"確認済")>SUMIFS(元出荷明細!$D$8:$D$57,元出荷明細!$A$8:$A$57,B14)),"全有効受取数が元出荷数を超過","確認済み"))))))))))))))))))))))))))),ISNUMBER(W14),W14=IF(V14="確認済み",0,1))),1,IF(W14<>0,0,IF(AND(ISNUMBER(P14),P14=SUMIFS(元出荷明細!$D$8:$D$57,元出荷明細!$A$8:$A$57,B14),ISNUMBER(Q14),Q14=SUMIFS($G$8:$G$57,$B$8:$B$57,B14,$E$8:$E$57,"有効",$F$8:$F$57,"確認済"),ISNUMBER(R14),R14=COUNTIFS($B$8:$B$57,B14,$E$8:$E$57,"有効",$F$8:$F$57,"未確認"),IF(R14>0,ISTEXT(S14),ISNUMBER(S14)),S14=IF(R14>0,"判定保留",P14-Q14),IF(AND(E14="有効",I14="返金",K14="確認済",M14="確認済"),ISNUMBER(T14),ISTEXT(T14)),T14=IF(E14="取消","取消",IF(I14="未確認","判定保留",IF(I14<>"返金","対象外",IF(AND(K14="確認済",M14="確認済"),L14-N14,"判定保留")))),ISTEXT(U14),U14=IF(E14="取消","取消",IF(F14="未確認","受取未確認",IF(H14="未確認","検品未確認",IF(H14="要対応","検品要対応",IF(D14="未確認","理由未確認",IF(I14="未確認","方針未確認",IF(J14="未確認","実物処理未確認",IF(I14<>"返金","照合済",IF(K14="未確認","合意未確認",IF(M14="未確認","実績未確認",IF(T14>0,"未返金",IF(T14<0,"過返金","照合済"))))))))))))),0,1)))) -> 0
