Workbook

Sheet 返品の確認
A2: 返品の確認 | K2: 日付の前提 | L2: 入力の前提
A3: 記録確認基準日 | B3: 46326 | D3: 整数個・日本円 | K3: =IF(IF(ISNUMBER(B3),AND(B3>=43831,B3<=73050,B3=INT(B3)),FALSE()),0,1) -> 0 | L3: =IF(AND(ISNUMBER(K3),K3=IF(IF(ISNUMBER(B3),AND(B3>=43831,B3<=73050,B3=INT(B3)),FALSE()),0,1)),K3,1)+SUM(返品記録!W8:X57)+IF(COUNT(返品記録!X8:X57)=50,0,1)+SUM(元出荷明細!G8:H57)+IF(COUNT(元出荷明細!H8:H57)=50,0,1) -> 0
A4: 照合済は入力した受取・検品・実物処理・返金記録の一致です。承認や業務完了を証明しません。
A5: 登録（件） | B5: =IF($L$3<>0,NA(),COUNTIFS(返品記録!V8:V57,"確認済み")) -> 12 | D5: 有効（件） | E5: =IF($L$3<>0,NA(),COUNTIFS(返品記録!E8:E57,"有効")) -> 11 | G5: 取消（件） | H5: =IF($L$3<>0,NA(),COUNTIFS(返品記録!E8:E57,"取消")) -> 1
A6: 受取未確認（件） | B6: =IF($L$3<>0,NA(),COUNTIFS(返品記録!E8:E57,"有効",返品記録!F8:F57,"未確認")) -> 1 | D6: 受取小計（個） | E6: =IF($L$3<>0,NA(),SUMIFS(返品記録!G8:G57,返品記録!E8:E57,"有効",返品記録!F8:F57,"確認済")) -> 18 | G6: 全受取数（個） | H6: =IF($L$3<>0,NA(),IF(E5=0,"対象なし",IF(B6>0,"判定保留",E6))) -> 判定保留
A7: 照合済（件） | B7: =IF($L$3<>0,NA(),COUNTIFS(返品記録!U8:U57,"照合済")) -> 4 | D7: 未照合（件） | E7: =IF($L$3<>0,NA(),E5-B7) -> 7 | G7: 過返金（件） | H7: =IF($L$3<>0,NA(),COUNTIFS(返品記録!E8:E57,"有効",返品記録!T8:T57,"<0")) -> 1
A8: 合意小計（円） | B8: =IF($L$3<>0,NA(),SUMIFS(返品記録!L8:L57,返品記録!E8:E57,"有効",返品記録!I8:I57,"返金",返品記録!K8:K57,"確認済")) -> 5100 | D8: 実績小計（円） | E8: =IF($L$3<>0,NA(),SUMIFS(返品記録!N8:N57,返品記録!E8:E57,"有効",返品記録!I8:I57,"返金",返品記録!M8:M57,"確認済")) -> 2600 | G8: 全返金差額（円） | H8: =IF($L$3<>0,NA(),IF(E5=0,"対象なし",IF(COUNTIFS(返品記録!E8:E57,"有効",返品記録!T8:T57,"判定保留")>0,"判定保留",B8-E8))) -> 判定保留
A9: 返品ID | B9: 元明細ID | C9: 受取数（個） | D9: 検品 | E9: 方針 | F9: 実物処理 | G9: 返金差額（円） | H9: 照合状況 | I9: 理由
A10: =IF($L$3<>0,NA(),IF(COUNTA(返品記録!A8:O8)=0,"",返品記録!A8)) -> RET-0001 | B10: =IF($L$3<>0,NA(),IF(COUNTA(返品記録!A8:O8)=0,"",返品記録!B8)) -> SAL-0001 | C10: =IF($L$3<>0,NA(),IF(COUNTA(返品記録!A8:O8)=0,"",IF(COUNTA(返品記録!G8)=0,"",返品記録!G8))) -> 2 | D10: =IF($L$3<>0,NA(),IF(COUNTA(返品記録!A8:O8)=0,"",返品記録!H8)) -> 確認済 | E10: =IF($L$3<>0,NA(),IF(COUNTA(返品記録!A8:O8)=0,"",返品記録!I8)) -> 返金 | F10: =IF($L$3<>0,NA(),IF(COUNTA(返品記録!A8:O8)=0,"",返品記録!J8)) -> 確認済 | G10: =IF($L$3<>0,NA(),IF(COUNTA(返品記録!A8:O8)=0,"",返品記録!T8)) -> 0 | H10: =IF($L$3<>0,NA(),IF(COUNTA(返品記録!A8:O8)=0,"",返品記録!U8)) -> 照合済 | I10: =IF($L$3<>0,NA(),IF(COUNTA(返品記録!A8:O8)=0,"",返品記録!D8)) -> 破損
A11: =IF($L$3<>0,NA(),IF(COUNTA(返品記録!A9:O9)=0,"",返品記録!A9)) -> RET-0002 | B11: =IF($L$3<>0,NA(),IF(COUNTA(返品記録!A9:O9)=0,"",返品記録!B9)) -> SAL-0001 | C11: =IF($L$3<>0,NA(),IF(COUNTA(返品記録!A9:O9)=0,"",IF(COUNTA(返品記録!G9)=0,"",返品記録!G9))) -> 1 | D11: =IF($L$3<>0,NA(),IF(COUNTA(返品記録!A9:O9)=0,"",返品記録!H9)) -> 確認済 | E11: =IF($L$3<>0,NA(),IF(COUNTA(返品記録!A9:O9)=0,"",返品記録!I9)) -> 返金 | F11: =IF($L$3<>0,NA(),IF(COUNTA(返品記録!A9:O9)=0,"",返品記録!J9)) -> 確認済 | G11: =IF($L$3<>0,NA(),IF(COUNTA(返品記録!A9:O9)=0,"",返品記録!T9)) -> 400 | H11: =IF($L$3<>0,NA(),IF(COUNTA(返品記録!A9:O9)=0,"",返品記録!U9)) -> 未返金 | I11: =IF($L$3<>0,NA(),IF(COUNTA(返品記録!A9:O9)=0,"",返品記録!D9)) -> 品違い
A12: =IF($L$3<>0,NA(),IF(COUNTA(返品記録!A10:O10)=0,"",返品記録!A10)) -> RET-0003 | B12: =IF($L$3<>0,NA(),IF(COUNTA(返品記録!A10:O10)=0,"",返品記録!B10)) -> SAL-0002 | C12: =IF($L$3<>0,NA(),IF(COUNTA(返品記録!A10:O10)=0,"",IF(COUNTA(返品記録!G10)=0,"",返品記録!G10))) | D12: =IF($L$3<>0,NA(),IF(COUNTA(返品記録!A10:O10)=0,"",返品記録!H10)) -> 未確認 | E12: =IF($L$3<>0,NA(),IF(COUNTA(返品記録!A10:O10)=0,"",返品記録!I10)) -> 未確認 | F12: =IF($L$3<>0,NA(),IF(COUNTA(返品記録!A10:O10)=0,"",返品記録!J10)) -> 未確認 | G12: =IF($L$3<>0,NA(),IF(COUNTA(返品記録!A10:O10)=0,"",返品記録!T10)) -> 判定保留 | H12: =IF($L$3<>0,NA(),IF(COUNTA(返品記録!A10:O10)=0,"",返品記録!U10)) -> 受取未確認 | I12: =IF($L$3<>0,NA(),IF(COUNTA(返品記録!A10:O10)=0,"",返品記録!D10)) -> 未確認
A13: =IF($L$3<>0,NA(),IF(COUNTA(返品記録!A11:O11)=0,"",返品記録!A11)) -> RET-0004 | B13: =IF($L$3<>0,NA(),IF(COUNTA(返品記録!A11:O11)=0,"",返品記録!B11)) -> SAL-0003 | C13: =IF($L$3<>0,NA(),IF(COUNTA(返品記録!A11:O11)=0,"",IF(COUNTA(返品記録!G11)=0,"",返品記録!G11))) -> 3 | D13: =IF($L$3<>0,NA(),IF(COUNTA(返品記録!A11:O11)=0,"",返品記録!H11)) -> 要対応 | E13: =IF($L$3<>0,NA(),IF(COUNTA(返品記録!A11:O11)=0,"",返品記録!I11)) -> 返金 | F13: =IF($L$3<>0,NA(),IF(COUNTA(返品記録!A11:O11)=0,"",返品記録!J11)) -> 未確認 | G13: =IF($L$3<>0,NA(),IF(COUNTA(返品記録!A11:O11)=0,"",返品記録!T11)) -> 1500 | H13: =IF($L$3<>0,NA(),IF(COUNTA(返品記録!A11:O11)=0,"",返品記録!U11)) -> 検品要対応 | I13: =IF($L$3<>0,NA(),IF(COUNTA(返品記録!A11:O11)=0,"",返品記録!D11)) -> 破損
A14: =IF($L$3<>0,NA(),IF(COUNTA(返品記録!A12:O12)=0,"",返品記録!A12)) -> RET-0005 | B14: =IF($L$3<>0,NA(),IF(COUNTA(返品記録!A12:O12)=0,"",返品記録!B12)) -> SAL-0004 | C14: =IF($L$3<>0,NA(),IF(COUNTA(返品記録!A12:O12)=0,"",IF(COUNTA(返品記録!G12)=0,"",返品記録!G12))) -> 2 | D14: =IF($L$3<>0,NA(),IF(COUNTA(返品記録!A12:O12)=0,"",返品記録!H12)) -> 確認済 | E14: =IF($L$3<>0,NA(),IF(COUNTA(返品記録!A12:O12)=0,"",返品記録!I12)) -> 交換 | F14: =IF($L$3<>0,NA(),IF(COUNTA(返品記録!A12:O12)=0,"",返品記録!J12)) -> 未確認 | G14: =IF($L$3<>0,NA(),IF(COUNTA(返品記録!A12:O12)=0,"",返品記録!T12)) -> 対象外 | H14: =IF($L$3<>0,NA(),IF(COUNTA(返品記録!A12:O12)=0,"",返品記録!U12)) -> 実物処理未確認 | I14: =IF($L$3<>0,NA(),IF(COUNTA(返品記録!A12:O12)=0,"",返品記録!D12)) -> 品違い
A15: =IF($L$3<>0,NA(),IF(COUNTA(返品記録!A13:O13)=0,"",返品記録!A13)) -> RET-0006 | B15: =IF($L$3<>0,NA(),IF(COUNTA(返品記録!A13:O13)=0,"",返品記録!B13)) -> SAL-0005 | C15: =IF($L$3<>0,NA(),IF(COUNTA(返品記録!A13:O13)=0,"",IF(COUNTA(返品記録!G13)=0,"",返品記録!G13))) -> 1 | D15: =IF($L$3<>0,NA(),IF(COUNTA(返品記録!A13:O13)=0,"",返品記録!H13)) -> 確認済 | E15: =IF($L$3<>0,NA(),IF(COUNTA(返品記録!A13:O13)=0,"",返品記録!I13)) -> 返金 | F15: =IF($L$3<>0,NA(),IF(COUNTA(返品記録!A13:O13)=0,"",返品記録!J13)) -> 確認済 | G15: =IF($L$3<>0,NA(),IF(COUNTA(返品記録!A13:O13)=0,"",返品記録!T13)) -> 0 | H15: =IF($L$3<>0,NA(),IF(COUNTA(返品記録!A13:O13)=0,"",返品記録!U13)) -> 照合済 | I15: =IF($L$3<>0,NA(),IF(COUNTA(返品記録!A13:O13)=0,"",返品記録!D13)) -> その他
A16: =IF($L$3<>0,NA(),IF(COUNTA(返品記録!A14:O14)=0,"",返品記録!A14)) -> RET-0007 | B16: =IF($L$3<>0,NA(),IF(COUNTA(返品記録!A14:O14)=0,"",返品記録!B14)) -> SAL-0006 | C16: =IF($L$3<>0,NA(),IF(COUNTA(返品記録!A14:O14)=0,"",IF(COUNTA(返品記録!G14)=0,"",返品記録!G14))) -> 1 | D16: =IF($L$3<>0,NA(),IF(COUNTA(返品記録!A14:O14)=0,"",返品記録!H14)) -> 確認済 | E16: =IF($L$3<>0,NA(),IF(COUNTA(返品記録!A14:O14)=0,"",返品記録!I14)) -> 返金 | F16: =IF($L$3<>0,NA(),IF(COUNTA(返品記録!A14:O14)=0,"",返品記録!J14)) -> 確認済 | G16: =IF($L$3<>0,NA(),IF(COUNTA(返品記録!A14:O14)=0,"",返品記録!T14)) -> -200 | H16: =IF($L$3<>0,NA(),IF(COUNTA(返品記録!A14:O14)=0,"",返品記録!U14)) -> 過返金 | I16: =IF($L$3<>0,NA(),IF(COUNTA(返品記録!A14:O14)=0,"",返品記録!D14)) -> 破損
A17: =IF($L$3<>0,NA(),IF(COUNTA(返品記録!A15:O15)=0,"",返品記録!A15)) -> RET-0008 | B17: =IF($L$3<>0,NA(),IF(COUNTA(返品記録!A15:O15)=0,"",返品記録!B15)) -> SAL-0007 | C17: =IF($L$3<>0,NA(),IF(COUNTA(返品記録!A15:O15)=0,"",IF(COUNTA(返品記録!G15)=0,"",返品記録!G15))) -> 5 | D17: =IF($L$3<>0,NA(),IF(COUNTA(返品記録!A15:O15)=0,"",返品記録!H15)) -> 未確認 | E17: =IF($L$3<>0,NA(),IF(COUNTA(返品記録!A15:O15)=0,"",返品記録!I15)) -> 未確認 | F17: =IF($L$3<>0,NA(),IF(COUNTA(返品記録!A15:O15)=0,"",返品記録!J15)) -> 未確認 | G17: =IF($L$3<>0,NA(),IF(COUNTA(返品記録!A15:O15)=0,"",返品記録!T15)) -> 取消 | H17: =IF($L$3<>0,NA(),IF(COUNTA(返品記録!A15:O15)=0,"",返品記録!U15)) -> 取消 | I17: =IF($L$3<>0,NA(),IF(COUNTA(返品記録!A15:O15)=0,"",返品記録!D15)) -> 数量違い
A18: =IF($L$3<>0,NA(),IF(COUNTA(返品記録!A16:O16)=0,"",返品記録!A16)) -> RET-0009 | B18: =IF($L$3<>0,NA(),IF(COUNTA(返品記録!A16:O16)=0,"",返品記録!B16)) -> SAL-0008 | C18: =IF($L$3<>0,NA(),IF(COUNTA(返品記録!A16:O16)=0,"",IF(COUNTA(返品記録!G16)=0,"",返品記録!G16))) -> 4 | D18: =IF($L$3<>0,NA(),IF(COUNTA(返品記録!A16:O16)=0,"",返品記録!H16)) -> 確認済 | E18: =IF($L$3<>0,NA(),IF(COUNTA(返品記録!A16:O16)=0,"",返品記録!I16)) -> 返却 | F18: =IF($L$3<>0,NA(),IF(COUNTA(返品記録!A16:O16)=0,"",返品記録!J16)) -> 確認済 | G18: =IF($L$3<>0,NA(),IF(COUNTA(返品記録!A16:O16)=0,"",返品記録!T16)) -> 対象外 | H18: =IF($L$3<>0,NA(),IF(COUNTA(返品記録!A16:O16)=0,"",返品記録!U16)) -> 照合済 | I18: =IF($L$3<>0,NA(),IF(COUNTA(返品記録!A16:O16)=0,"",返品記録!D16)) -> その他
A19: =IF($L$3<>0,NA(),IF(COUNTA(返品記録!A17:O17)=0,"",返品記録!A17)) -> RET-0010 | B19: =IF($L$3<>0,NA(),IF(COUNTA(返品記録!A17:O17)=0,"",返品記録!B17)) -> SAL-0009 | C19: =IF($L$3<>0,NA(),IF(COUNTA(返品記録!A17:O17)=0,"",IF(COUNTA(返品記録!G17)=0,"",返品記録!G17))) -> 1 | D19: =IF($L$3<>0,NA(),IF(COUNTA(返品記録!A17:O17)=0,"",返品記録!H17)) -> 確認済 | E19: =IF($L$3<>0,NA(),IF(COUNTA(返品記録!A17:O17)=0,"",返品記録!I17)) -> 返金 | F19: =IF($L$3<>0,NA(),IF(COUNTA(返品記録!A17:O17)=0,"",返品記録!J17)) -> 確認済 | G19: =IF($L$3<>0,NA(),IF(COUNTA(返品記録!A17:O17)=0,"",返品記録!T17)) -> 判定保留 | H19: =IF($L$3<>0,NA(),IF(COUNTA(返品記録!A17:O17)=0,"",返品記録!U17)) -> 合意未確認 | I19: =IF($L$3<>0,NA(),IF(COUNTA(返品記録!A17:O17)=0,"",返品記録!D17)) -> 数量違い
A20: =IF($L$3<>0,NA(),IF(COUNTA(返品記録!A18:O18)=0,"",返品記録!A18)) -> RET-0011 | B20: =IF($L$3<>0,NA(),IF(COUNTA(返品記録!A18:O18)=0,"",返品記録!B18)) -> SAL-0010 | C20: =IF($L$3<>0,NA(),IF(COUNTA(返品記録!A18:O18)=0,"",IF(COUNTA(返品記録!G18)=0,"",返品記録!G18))) -> 2 | D20: =IF($L$3<>0,NA(),IF(COUNTA(返品記録!A18:O18)=0,"",返品記録!H18)) -> 未確認 | E20: =IF($L$3<>0,NA(),IF(COUNTA(返品記録!A18:O18)=0,"",返品記録!I18)) -> 返金 | F20: =IF($L$3<>0,NA(),IF(COUNTA(返品記録!A18:O18)=0,"",返品記録!J18)) -> 未確認 | G20: =IF($L$3<>0,NA(),IF(COUNTA(返品記録!A18:O18)=0,"",返品記録!T18)) -> 判定保留 | H20: =IF($L$3<>0,NA(),IF(COUNTA(返品記録!A18:O18)=0,"",返品記録!U18)) -> 検品未確認 | I20: =IF($L$3<>0,NA(),IF(COUNTA(返品記録!A18:O18)=0,"",返品記録!D18)) -> 破損
A21: =IF($L$3<>0,NA(),IF(COUNTA(返品記録!A19:O19)=0,"",返品記録!A19)) -> RET-0012 | B21: =IF($L$3<>0,NA(),IF(COUNTA(返品記録!A19:O19)=0,"",返品記録!B19)) -> SAL-0011 | C21: =IF($L$3<>0,NA(),IF(COUNTA(返品記録!A19:O19)=0,"",IF(COUNTA(返品記録!G19)=0,"",返品記録!G19))) -> 1 | D21: =IF($L$3<>0,NA(),IF(COUNTA(返品記録!A19:O19)=0,"",返品記録!H19)) -> 確認済 | E21: =IF($L$3<>0,NA(),IF(COUNTA(返品記録!A19:O19)=0,"",返品記録!I19)) -> その他 | F21: =IF($L$3<>0,NA(),IF(COUNTA(返品記録!A19:O19)=0,"",返品記録!J19)) -> 確認済 | G21: =IF($L$3<>0,NA(),IF(COUNTA(返品記録!A19:O19)=0,"",返品記録!T19)) -> 対象外 | H21: =IF($L$3<>0,NA(),IF(COUNTA(返品記録!A19:O19)=0,"",返品記録!U19)) -> 照合済 | I21: =IF($L$3<>0,NA(),IF(COUNTA(返品記録!A19:O19)=0,"",返品記録!D19)) -> その他
... A59: =IF($L$3<>0,NA(),IF(COUNTA(返品記録!A57:O57)=0,"",返品記録!A57)) | B59: =IF($L$3<>0,NA(),IF(COUNTA(返品記録!A57:O57)=0,"",返品記録!B57)) | C59: =IF($L$3<>0,NA(),IF(COUNTA(返品記録!A57:O57)=0,"",IF(COUNTA(返品記録!G57)=0,"",返品記録!G57))) | D59: =IF($L$3<>0,NA(),IF(COUNTA(返品記録!A57:O57)=0,"",返品記録!H57)) | E59: =IF($L$3<>0,NA(),IF(COUNTA(返品記録!A57:O57)=0,"",返品記録!I57)) | F59: =IF($L$3<>0,NA(),IF(COUNTA(返品記録!A57:O57)=0,"",返品記録!J57)) | G59: =IF($L$3<>0,NA(),IF(COUNTA(返品記録!A57:O57)=0,"",返品記録!T57)) | H59: =IF($L$3<>0,NA(),IF(COUNTA(返品記録!A57:O57)=0,"",返品記録!U57)) | I59: =IF($L$3<>0,NA(),IF(COUNTA(返品記録!A57:O57)=0,"",返品記録!D57))

Sheet 返品記録
A2: 返品の記録
A3: 黄色A〜Oへ50返品。1行は1回の返品・1元出荷明細。取消は記録訂正であり、実物や返金の取消ではありません。
A5: 個/日本円の整数。返金合意と実績は別確認。未確認/対象外の数量・金額は空欄、既知0円は0。
A7: 返品ID | B7: 元明細ID | C7: 受付日 | D7: 理由 | E7: 記録状態 | F7: 受取区分 | G7: 受取数（個） | H7: 検品 | I7: 処理方針 | J7: 実物処理 | K7: 合意区分 | L7: 合意額（円） | M7: 実績区分 | N7: 実績額（円） | O7: 記録確認日 | P7: 元出荷数 | Q7: 全有効受取数 | R7: 受取未確認件 | S7: 未返品数目安 | T7: 返金差額（円） | U7: 照合状況 | V7: 入力の確認 | W7: 入力不備 | X7: 計算の前提
A8: RET-0001 | B8: SAL-0001 | C8: 46305 | D8: 破損 | E8: 有効 | F8: 確認済 | G8: 2 | H8: 確認済 | I8: 返金 | J8: 確認済 | K8: 確認済 | L8: 1200 | M8: 確認済 | N8: 1200 | O8: 46326 | P8: =IF(V8="","",IF(W8<>0,NA(),SUMIFS(元出荷明細!$D$8:$D$57,元出荷明細!$A$8:$A$57,B8))) -> 10 | Q8: =IF(V8="","",IF(W8<>0,NA(),SUMIFS($G$8:$G$57,$B$8:$B$57,B8,$E$8:$E$57,"有効",$F$8:$F$57,"確認済"))) -> 3 | R8: =IF(V8="","",IF(W8<>0,NA(),COUNTIFS($B$8:$B$57,B8,$E$8:$E$57,"有効",$F$8:$F$57,"未確認"))) -> 0 | S8: =IF(V8="","",IF(W8<>0,NA(),IF(R8>0,"判定保留",P8-Q8))) -> 7 | T8: =IF(V8="","",IF(W8<>0,NA(),IF(E8="取消","取消",IF(I8="未確認","判定保留",IF(I8<>"返金","対象外",IF(AND(K8="確認済",M8="確認済"),L8-N8,"判定保留")))))) -> 0 | U8: =IF(V8="","",IF(W8<>0,NA(),IF(E8="取消","取消",IF(F8="未確認","受取未確認",IF(H8="未確認","検品未確認",IF(H8="要対応","検品要対応",IF(D8="未確認","理由未確認",IF(I8="未確認","方針未確認",IF(J8="未確認","実物処理未確認",IF(I8<>"返金","照合済",IF(K8="未確認","合意未確認",IF(M8="未確認","実績未確認",IF(T8>0,"未返金",IF(T8<0,"過返金","照合済")))))))))))))) -> 照合済 | V8: =IF(COUNTA(A8:O8)=0,"",IF(NOT(AND(ISTEXT(A8),LEN(A8)=8,EXACT(LEFT(A8,4),"RET-"),ISNUMBER(FIND(MID(A8,5,1)&"x","0x1x2x3x4x5x6x7x8x9x")),ISNUMBER(FIND(MID(A8,6,1)&"x","0x1x2x3x4x5x6x7x8x9x")),ISNUMBER(FIND(MID(A8,7,1)&"x","0x1x2x3x4x5x6x7x8x9x")),ISNUMBER(FIND(MID(A8,8,1)&"x","0x1x2x3x4x5x6x7x8x9x")))),"返品IDはRET-と半角数字4桁",IF(COUNTIFS($A$8:$A$57,A8)>1,"返品IDが重複",IF(NOT(AND(ISTEXT(B8),LEN(B8)=8,EXACT(LEFT(B8,4),"SAL-"),ISNUMBER(FIND(MID(B8,5,1)&"x","0x1x2x3x4x5x6x7x8x9x")),ISNUMBER(FIND(MID(B8,6,1)&"x","0x1x2x3x4x5x6x7x8x9x")),ISNUMBER(FIND(MID(B8,7,1)&"x","0x1x2x3x4x5x6x7x8x9x")),ISNUMBER(FIND(MID(B8,8,1)&"x","0x1x2x3x4x5x6x7x8x9x")))),"元明細IDはSAL-と半角数字4桁",IF(COUNTIFS(元出荷明細!$A$8:$A$57,B8)<>1,"元明細が一意にありません",IF(NOT(IF(ISNUMBER(C8),AND(C8>=43831,C8<=73050,C8=INT(C8)),FALSE())),"受付日は時刻なしで必須",IF(C8<SUMIFS(元出荷明細!$C$8:$C$57,元出荷明細!$A$8:$A$57,B8),"受付日は元出荷日以上",IF(NOT(OR(D8="破損",D8="品違い",D8="数量違い",D8="その他",D8="未確認")),"理由を確認",IF(NOT(OR(E8="有効",E8="取消")),"記録状態を確認",IF(NOT(OR(F8="確認済",F8="未確認")),"受取区分を確認",IF(AND(F8="確認済",NOT(IF(ISNUMBER(G8),AND(G8>=1,G8<=1000000,G8=INT(G8)),FALSE()))),"受取数は1〜100万個整数で必須",IF(AND(F8="未確認",COUNTA(G8)>0),"受取未確認の数量は空欄",IF(NOT(OR(H8="確認済",H8="未確認",H8="要対応")),"検品を確認",IF(AND(H8<>"未確認",F8<>"確認済"),"検品前に受取数量を確認",IF(NOT(OR(I8="未確認",I8="返金",I8="交換",I8="返却",I8="その他")),"方針を確認",IF(NOT(OR(J8="確認済",J8="未確認")),"実物処理を確認",IF(AND(J8="確認済",OR(H8<>"確認済",I8="未確認")),"実物処理済は検品/方針が必要",IF(AND(I8="返金",NOT(AND(OR(K8="確認済",K8="未確認"),OR(M8="確認済",M8="未確認")))),"返金は合意/実績を別確認",IF(AND(I8="未確認",NOT(AND(K8="未確認",M8="未確認"))),"方針未確認の金額区分は未確認",IF(AND(OR(I8="交換",I8="返却",I8="その他"),NOT(AND(K8="対象外",M8="対象外"))),"返金以外は金額区分が対象外",IF(AND(K8="確認済",NOT(IF(ISNUMBER(L8),AND(L8>=0,L8<=1000000000,L8=INT(L8)),FALSE()))),"確認済金額は0〜10億円整数",IF(AND(K8<>"確認済",COUNTA(L8)>0),"未確認/対象外の金額は空欄",IF(AND(M8="確認済",NOT(IF(ISNUMBER(N8),AND(N8>=0,N8<=1000000000,N8=INT(N8)),FALSE()))),"確認済金額は0〜10億円整数",IF(AND(M8<>"確認済",COUNTA(N8)>0),"未確認/対象外の金額は空欄",IF(NOT(IF(ISNUMBER(O8),AND(O8>=43831,O8<=73050,O8=INT(O8)),FALSE())),"記録確認日は時刻なしで必須",IF(OR(C8>O8,O8>返品の確認!$B$3),"受付日≦確認日≦基準日",IF(AND(E8="有効",SUMIFS($G$8:$G$57,$B$8:$B$57,B8,$E$8:$E$57,"有効",$F$8:$F$57,"確認済")>SUMIFS(元出荷明細!$D$8:$D$57,元出荷明細!$A$8:$A$57,B8)),"全有効受取数が元出荷数を超過","確認済み"))))))))))))))))))))))))))) -> 確認済み | W8: =IF(V8="","",IF(V8="確認済み",0,1)) -> 0 | X8: =IF(COUNTA(A8:O8)=0,IF(AND(V8="",W8="",P8="",Q8="",R8="",S8="",T8="",U8=""),0,1),IF(NOT(AND(ISTEXT(V8),V8=IF(COUNTA(A8:O8)=0,"",IF(NOT(AND(ISTEXT(A8),LEN(A8)=8,EXACT(LEFT(A8,4),"RET-"),ISNUMBER(FIND(MID(A8,5,1)&"x","0x1x2x3x4x5x6x7x8x9x")),ISNUMBER(FIND(MID(A8,6,1)&"x","0x1x2x3x4x5x6x7x8x9x")),ISNUMBER(FIND(MID(A8,7,1)&"x","0x1x2x3x4x5x6x7x8x9x")),ISNUMBER(FIND(MID(A8,8,1)&"x","0x1x2x3x4x5x6x7x8x9x")))),"返品IDはRET-と半角数字4桁",IF(COUNTIFS($A$8:$A$57,A8)>1,"返品IDが重複",IF(NOT(AND(ISTEXT(B8),LEN(B8)=8,EXACT(LEFT(B8,4),"SAL-"),ISNUMBER(FIND(MID(B8,5,1)&"x","0x1x2x3x4x5x6x7x8x9x")),ISNUMBER(FIND(MID(B8,6,1)&"x","0x1x2x3x4x5x6x7x8x9x")),ISNUMBER(FIND(MID(B8,7,1)&"x","0x1x2x3x4x5x6x7x8x9x")),ISNUMBER(FIND(MID(B8,8,1)&"x","0x1x2x3x4x5x6x7x8x9x")))),"元明細IDはSAL-と半角数字4桁",IF(COUNTIFS(元出荷明細!$A$8:$A$57,B8)<>1,"元明細が一意にありません",IF(NOT(IF(ISNUMBER(C8),AND(C8>=43831,C8<=73050,C8=INT(C8)),FALSE())),"受付日は時刻なしで必須",IF(C8<SUMIFS(元出荷明細!$C$8:$C$57,元出荷明細!$A$8:$A$57,B8),"受付日は元出荷日以上",IF(NOT(OR(D8="破損",D8="品違い",D8="数量違い",D8="その他",D8="未確認")),"理由を確認",IF(NOT(OR(E8="有効",E8="取消")),"記録状態を確認",IF(NOT(OR(F8="確認済",F8="未確認")),"受取区分を確認",IF(AND(F8="確認済",NOT(IF(ISNUMBER(G8),AND(G8>=1,G8<=1000000,G8=INT(G8)),FALSE()))),"受取数は1〜100万個整数で必須",IF(AND(F8="未確認",COUNTA(G8)>0),"受取未確認の数量は空欄",IF(NOT(OR(H8="確認済",H8="未確認",H8="要対応")),"検品を確認",IF(AND(H8<>"未確認",F8<>"確認済"),"検品前に受取数量を確認",IF(NOT(OR(I8="未確認",I8="返金",I8="交換",I8="返却",I8="その他")),"方針を確認",IF(NOT(OR(J8="確認済",J8="未確認")),"実物処理を確認",IF(AND(J8="確認済",OR(H8<>"確認済",I8="未確認")),"実物処理済は検品/方針が必要",IF(AND(I8="返金",NOT(AND(OR(K8="確認済",K8="未確認"),OR(M8="確認済",M8="未確認")))),"返金は合意/実績を別確認",IF(AND(I8="未確認",NOT(AND(K8="未確認",M8="未確認"))),"方針未確認の金額区分は未確認",IF(AND(OR(I8="交換",I8="返却",I8="その他"),NOT(AND(K8="対象外",M8="対象外"))),"返金以外は金額区分が対象外",IF(AND(K8="確認済",NOT(IF(ISNUMBER(L8),AND(L8>=0,L8<=1000000000,L8=INT(L8)),FALSE()))),"確認済金額は0〜10億円整数",IF(AND(K8<>"確認済",COUNTA(L8)>0),"未確認/対象外の金額は空欄",IF(AND(M8="確認済",NOT(IF(ISNUMBER(N8),AND(N8>=0,N8<=1000000000,N8=INT(N8)),FALSE()))),"確認済金額は0〜10億円整数",IF(AND(M8<>"確認済",COUNTA(N8)>0),"未確認/対象外の金額は空欄",IF(NOT(IF(ISNUMBER(O8),AND(O8>=43831,O8<=73050,O8=INT(O8)),FALSE())),"記録確認日は時刻なしで必須",IF(OR(C8>O8,O8>返品の確認!$B$3),"受付日≦確認日≦基準日",IF(AND(E8="有効",SUMIFS($G$8:$G$57,$B$8:$B$57,B8,$E$8:$E$57,"有効",$F$8:$F$57,"確認済")>SUMIFS(元出荷明細!$D$8:$D$57,元出荷明細!$A$8:$A$57,B8)),"全有効受取数が元出荷数を超過","確認済み"))))))))))))))))))))))))))),ISNUMBER(W8),W8=IF(V8="確認済み",0,1))),1,IF(W8<>0,0,IF(AND(ISNUMBER(P8),P8=SUMIFS(元出荷明細!$D$8:$D$57,元出荷明細!$A$8:$A$57,B8),ISNUMBER(Q8),Q8=SUMIFS($G$8:$G$57,$B$8:$B$57,B8,$E$8:$E$57,"有効",$F$8:$F$57,"確認済"),ISNUMBER(R8),R8=COUNTIFS($B$8:$B$57,B8,$E$8:$E$57,"有効",$F$8:$F$57,"未確認"),IF(R8>0,ISTEXT(S8),ISNUMBER(S8)),S8=IF(R8>0,"判定保留",P8-Q8),IF(AND(E8="有効",I8="返金",K8="確認済",M8="確認済"),ISNUMBER(T8),ISTEXT(T8)),T8=IF(E8="取消","取消",IF(I8="未確認","判定保留",IF(I8<>"返金","対象外",IF(AND(K8="確認済",M8="確認済"),L8-N8,"判定保留")))),ISTEXT(U8),U8=IF(E8="取消","取消",IF(F8="未確認","受取未確認",IF(H8="未確認","検品未確認",IF(H8="要対応","検品要対応",IF(D8="未確認","理由未確認",IF(I8="未確認","方針未確認",IF(J8="未確認","実物処理未確認",IF(I8<>"返金","照合済",IF(K8="未確認","合意未確認",IF(M8="未確認","実績未確認",IF(T8>0,"未返金",IF(T8<0,"過返金","照合済"))))))))))))),0,1)))) -> 0
A9: RET-0002 | B9: SAL-0001 | C9: 46306 | D9: 品違い | E9: 有効 | F9: 確認済 | G9: 1 | H9: 確認済 | I9: 返金 | J9: 確認済 | K9: 確認済 | L9: 600 | M9: 確認済 | N9: 200 | O9: 46326 | P9: =IF(V9="","",IF(W9<>0,NA(),SUMIFS(元出荷明細!$D$8:$D$57,元出荷明細!$A$8:$A$57,B9))) -> 10 | Q9: =IF(V9="","",IF(W9<>0,NA(),SUMIFS($G$8:$G$57,$B$8:$B$57,B9,$E$8:$E$57,"有効",$F$8:$F$57,"確認済"))) -> 3 | R9: =IF(V9="","",IF(W9<>0,NA(),COUNTIFS($B$8:$B$57,B9,$E$8:$E$57,"有効",$F$8:$F$57,"未確認"))) -> 0 | S9: =IF(V9="","",IF(W9<>0,NA(),IF(R9>0,"判定保留",P9-Q9))) -> 7 | T9: =IF(V9="","",IF(W9<>0,NA(),IF(E9="取消","取消",IF(I9="未確認","判定保留",IF(I9<>"返金","対象外",IF(AND(K9="確認済",M9="確認済"),L9-N9,"判定保留")))))) -> 400 | U9: =IF(V9="","",IF(W9<>0,NA(),IF(E9="取消","取消",IF(F9="未確認","受取未確認",IF(H9="未確認","検品未確認",IF(H9="要対応","検品要対応",IF(D9="未確認","理由未確認",IF(I9="未確認","方針未確認",IF(J9="未確認","実物処理未確認",IF(I9<>"返金","照合済",IF(K9="未確認","合意未確認",IF(M9="未確認","実績未確認",IF(T9>0,"未返金",IF(T9<0,"過返金","照合済")))))))))))))) -> 未返金 | V9: =IF(COUNTA(A9:O9)=0,"",IF(NOT(AND(ISTEXT(A9),LEN(A9)=8,EXACT(LEFT(A9,4),"RET-"),ISNUMBER(FIND(MID(A9,5,1)&"x","0x1x2x3x4x5x6x7x8x9x")),ISNUMBER(FIND(MID(A9,6,1)&"x","0x1x2x3x4x5x6x7x8x9x")),ISNUMBER(FIND(MID(A9,7,1)&"x","0x1x2x3x4x5x6x7x8x9x")),ISNUMBER(FIND(MID(A9,8,1)&"x","0x1x2x3x4x5x6x7x8x9x")))),"返品IDはRET-と半角数字4桁",IF(COUNTIFS($A$8:$A$57,A9)>1,"返品IDが重複",IF(NOT(AND(ISTEXT(B9),LEN(B9)=8,EXACT(LEFT(B9,4),"SAL-"),ISNUMBER(FIND(MID(B9,5,1)&"x","0x1x2x3x4x5x6x7x8x9x")),ISNUMBER(FIND(MID(B9,6,1)&"x","0x1x2x3x4x5x6x7x8x9x")),ISNUMBER(FIND(MID(B9,7,1)&"x","0x1x2x3x4x5x6x7x8x9x")),ISNUMBER(FIND(MID(B9,8,1)&"x","0x1x2x3x4x5x6x7x8x9x")))),"元明細IDはSAL-と半角数字4桁",IF(COUNTIFS(元出荷明細!$A$8:$A$57,B9)<>1,"元明細が一意にありません",IF(NOT(IF(ISNUMBER(C9),AND(C9>=43831,C9<=73050,C9=INT(C9)),FALSE())),"受付日は時刻なしで必須",IF(C9<SUMIFS(元出荷明細!$C$8:$C$57,元出荷明細!$A$8:$A$57,B9),"受付日は元出荷日以上",IF(NOT(OR(D9="破損",D9="品違い",D9="数量違い",D9="その他",D9="未確認")),"理由を確認",IF(NOT(OR(E9="有効",E9="取消")),"記録状態を確認",IF(NOT(OR(F9="確認済",F9="未確認")),"受取区分を確認",IF(AND(F9="確認済",NOT(IF(ISNUMBER(G9),AND(G9>=1,G9<=1000000,G9=INT(G9)),FALSE()))),"受取数は1〜100万個整数で必須",IF(AND(F9="未確認",COUNTA(G9)>0),"受取未確認の数量は空欄",IF(NOT(OR(H9="確認済",H9="未確認",H9="要対応")),"検品を確認",IF(AND(H9<>"未確認",F9<>"確認済"),"検品前に受取数量を確認",IF(NOT(OR(I9="未確認",I9="返金",I9="交換",I9="返却",I9="その他")),"方針を確認",IF(NOT(OR(J9="確認済",J9="未確認")),"実物処理を確認",IF(AND(J9="確認済",OR(H9<>"確認済",I9="未確認")),"実物処理済は検品/方針が必要",IF(AND(I9="返金",NOT(AND(OR(K9="確認済",K9="未確認"),OR(M9="確認済",M9="未確認")))),"返金は合意/実績を別確認",IF(AND(I9="未確認",NOT(AND(K9="未確認",M9="未確認"))),"方針未確認の金額区分は未確認",IF(AND(OR(I9="交換",I9="返却",I9="その他"),NOT(AND(K9="対象外",M9="対象外"))),"返金以外は金額区分が対象外",IF(AND(K9="確認済",NOT(IF(ISNUMBER(L9),AND(L9>=0,L9<=1000000000,L9=INT(L9)),FALSE()))),"確認済金額は0〜10億円整数",IF(AND(K9<>"確認済",COUNTA(L9)>0),"未確認/対象外の金額は空欄",IF(AND(M9="確認済",NOT(IF(ISNUMBER(N9),AND(N9>=0,N9<=1000000000,N9=INT(N9)),FALSE()))),"確認済金額は0〜10億円整数",IF(AND(M9<>"確認済",COUNTA(N9)>0),"未確認/対象外の金額は空欄",IF(NOT(IF(ISNUMBER(O9),AND(O9>=43831,O9<=73050,O9=INT(O9)),FALSE())),"記録確認日は時刻なしで必須",IF(OR(C9>O9,O9>返品の確認!$B$3),"受付日≦確認日≦基準日",IF(AND(E9="有効",SUMIFS($G$8:$G$57,$B$8:$B$57,B9,$E$8:$E$57,"有効",$F$8:$F$57,"確認済")>SUMIFS(元出荷明細!$D$8:$D$57,元出荷明細!$A$8:$A$57,B9)),"全有効受取数が元出荷数を超過","確認済み"))))))))))))))))))))))))))) -> 確認済み | W9: =IF(V9="","",IF(V9="確認済み",0,1)) -> 0 | X9: =IF(COUNTA(A9:O9)=0,IF(AND(V9="",W9="",P9="",Q9="",R9="",S9="",T9="",U9=""),0,1),IF(NOT(AND(ISTEXT(V9),V9=IF(COUNTA(A9:O9)=0,"",IF(NOT(AND(ISTEXT(A9),LEN(A9)=8,EXACT(LEFT(A9,4),"RET-"),ISNUMBER(FIND(MID(A9,5,1)&"x","0x1x2x3x4x5x6x7x8x9x")),ISNUMBER(FIND(MID(A9,6,1)&"x","0x1x2x3x4x5x6x7x8x9x")),ISNUMBER(FIND(MID(A9,7,1)&"x","0x1x2x3x4x5x6x7x8x9x")),ISNUMBER(FIND(MID(A9,8,1)&"x","0x1x2x3x4x5x6x7x8x9x")))),"返品IDはRET-と半角数字4桁",IF(COUNTIFS($A$8:$A$57,A9)>1,"返品IDが重複",IF(NOT(AND(ISTEXT(B9),LEN(B9)=8,EXACT(LEFT(B9,4),"SAL-"),ISNUMBER(FIND(MID(B9,5,1)&"x","0x1x2x3x4x5x6x7x8x9x")),ISNUMBER(FIND(MID(B9,6,1)&"x","0x1x2x3x4x5x6x7x8x9x")),ISNUMBER(FIND(MID(B9,7,1)&"x","0x1x2x3x4x5x6x7x8x9x")),ISNUMBER(FIND(MID(B9,8,1)&"x","0x1x2x3x4x5x6x7x8x9x")))),"元明細IDはSAL-と半角数字4桁",IF(COUNTIFS(元出荷明細!$A$8:$A$57,B9)<>1,"元明細が一意にありません",IF(NOT(IF(ISNUMBER(C9),AND(C9>=43831,C9<=73050,C9=INT(C9)),FALSE())),"受付日は時刻なしで必須",IF(C9<SUMIFS(元出荷明細!$C$8:$C$57,元出荷明細!$A$8:$A$57,B9),"受付日は元出荷日以上",IF(NOT(OR(D9="破損",D9="品違い",D9="数量違い",D9="その他",D9="未確認")),"理由を確認",IF(NOT(OR(E9="有効",E9="取消")),"記録状態を確認",IF(NOT(OR(F9="確認済",F9="未確認")),"受取区分を確認",IF(AND(F9="確認済",NOT(IF(ISNUMBER(G9),AND(G9>=1,G9<=1000000,G9=INT(G9)),FALSE()))),"受取数は1〜100万個整数で必須",IF(AND(F9="未確認",COUNTA(G9)>0),"受取未確認の数量は空欄",IF(NOT(OR(H9="確認済",H9="未確認",H9="要対応")),"検品を確認",IF(AND(H9<>"未確認",F9<>"確認済"),"検品前に受取数量を確認",IF(NOT(OR(I9="未確認",I9="返金",I9="交換",I9="返却",I9="その他")),"方針を確認",IF(NOT(OR(J9="確認済",J9="未確認")),"実物処理を確認",IF(AND(J9="確認済",OR(H9<>"確認済",I9="未確認")),"実物処理済は検品/方針が必要",IF(AND(I9="返金",NOT(AND(OR(K9="確認済",K9="未確認"),OR(M9="確認済",M9="未確認")))),"返金は合意/実績を別確認",IF(AND(I9="未確認",NOT(AND(K9="未確認",M9="未確認"))),"方針未確認の金額区分は未確認",IF(AND(OR(I9="交換",I9="返却",I9="その他"),NOT(AND(K9="対象外",M9="対象外"))),"返金以外は金額区分が対象外",IF(AND(K9="確認済",NOT(IF(ISNUMBER(L9),AND(L9>=0,L9<=1000000000,L9=INT(L9)),FALSE()))),"確認済金額は0〜10億円整数",IF(AND(K9<>"確認済",COUNTA(L9)>0),"未確認/対象外の金額は空欄",IF(AND(M9="確認済",NOT(IF(ISNUMBER(N9),AND(N9>=0,N9<=1000000000,N9=INT(N9)),FALSE()))),"確認済金額は0〜10億円整数",IF(AND(M9<>"確認済",COUNTA(N9)>0),"未確認/対象外の金額は空欄",IF(NOT(IF(ISNUMBER(O9),AND(O9>=43831,O9<=73050,O9=INT(O9)),FALSE())),"記録確認日は時刻なしで必須",IF(OR(C9>O9,O9>返品の確認!$B$3),"受付日≦確認日≦基準日",IF(AND(E9="有効",SUMIFS($G$8:$G$57,$B$8:$B$57,B9,$E$8:$E$57,"有効",$F$8:$F$57,"確認済")>SUMIFS(元出荷明細!$D$8:$D$57,元出荷明細!$A$8:$A$57,B9)),"全有効受取数が元出荷数を超過","確認済み"))))))))))))))))))))))))))),ISNUMBER(W9),W9=IF(V9="確認済み",0,1))),1,IF(W9<>0,0,IF(AND(ISNUMBER(P9),P9=SUMIFS(元出荷明細!$D$8:$D$57,元出荷明細!$A$8:$A$57,B9),ISNUMBER(Q9),Q9=SUMIFS($G$8:$G$57,$B$8:$B$57,B9,$E$8:$E$57,"有効",$F$8:$F$57,"確認済"),ISNUMBER(R9),R9=COUNTIFS($B$8:$B$57,B9,$E$8:$E$57,"有効",$F$8:$F$57,"未確認"),IF(R9>0,ISTEXT(S9),ISNUMBER(S9)),S9=IF(R9>0,"判定保留",P9-Q9),IF(AND(E9="有効",I9="返金",K9="確認済",M9="確認済"),ISNUMBER(T9),ISTEXT(T9)),T9=IF(E9="取消","取消",IF(I9="未確認","判定保留",IF(I9<>"返金","対象外",IF(AND(K9="確認済",M9="確認済"),L9-N9,"判定保留")))),ISTEXT(U9),U9=IF(E9="取消","取消",IF(F9="未確認","受取未確認",IF(H9="未確認","検品未確認",IF(H9="要対応","検品要対応",IF(D9="未確認","理由未確認",IF(I9="未確認","方針未確認",IF(J9="未確認","実物処理未確認",IF(I9<>"返金","照合済",IF(K9="未確認","合意未確認",IF(M9="未確認","実績未確認",IF(T9>0,"未返金",IF(T9<0,"過返金","照合済"))))))))))))),0,1)))) -> 0
A10: RET-0003 | B10: SAL-0002 | C10: 46307 | D10: 未確認 | E10: 有効 | F10: 未確認 | H10: 未確認 | I10: 未確認 | J10: 未確認 | K10: 未確認 | M10: 未確認 | O10: 46326 | P10: =IF(V10="","",IF(W10<>0,NA(),SUMIFS(元出荷明細!$D$8:$D$57,元出荷明細!$A$8:$A$57,B10))) -> 10 | Q10: =IF(V10="","",IF(W10<>0,NA(),SUMIFS($G$8:$G$57,$B$8:$B$57,B10,$E$8:$E$57,"有効",$F$8:$F$57,"確認済"))) -> 0 | R10: =IF(V10="","",IF(W10<>0,NA(),COUNTIFS($B$8:$B$57,B10,$E$8:$E$57,"有効",$F$8:$F$57,"未確認"))) -> 1 | S10: =IF(V10="","",IF(W10<>0,NA(),IF(R10>0,"判定保留",P10-Q10))) -> 判定保留 | T10: =IF(V10="","",IF(W10<>0,NA(),IF(E10="取消","取消",IF(I10="未確認","判定保留",IF(I10<>"返金","対象外",IF(AND(K10="確認済",M10="確認済"),L10-N10,"判定保留")))))) -> 判定保留 | U10: =IF(V10="","",IF(W10<>0,NA(),IF(E10="取消","取消",IF(F10="未確認","受取未確認",IF(H10="未確認","検品未確認",IF(H10="要対応","検品要対応",IF(D10="未確認","理由未確認",IF(I10="未確認","方針未確認",IF(J10="未確認","実物処理未確認",IF(I10<>"返金","照合済",IF(K10="未確認","合意未確認",IF(M10="未確認","実績未確認",IF(T10>0,"未返金",IF(T10<0,"過返金","照合済")))))))))))))) -> 受取未確認 | V10: =IF(COUNTA(A10:O10)=0,"",IF(NOT(AND(ISTEXT(A10),LEN(A10)=8,EXACT(LEFT(A10,4),"RET-"),ISNUMBER(FIND(MID(A10,5,1)&"x","0x1x2x3x4x5x6x7x8x9x")),ISNUMBER(FIND(MID(A10,6,1)&"x","0x1x2x3x4x5x6x7x8x9x")),ISNUMBER(FIND(MID(A10,7,1)&"x","0x1x2x3x4x5x6x7x8x9x")),ISNUMBER(FIND(MID(A10,8,1)&"x","0x1x2x3x4x5x6x7x8x9x")))),"返品IDはRET-と半角数字4桁",IF(COUNTIFS($A$8:$A$57,A10)>1,"返品IDが重複",IF(NOT(AND(ISTEXT(B10),LEN(B10)=8,EXACT(LEFT(B10,4),"SAL-"),ISNUMBER(FIND(MID(B10,5,1)&"x","0x1x2x3x4x5x6x7x8x9x")),ISNUMBER(FIND(MID(B10,6,1)&"x","0x1x2x3x4x5x6x7x8x9x")),ISNUMBER(FIND(MID(B10,7,1)&"x","0x1x2x3x4x5x6x7x8x9x")),ISNUMBER(FIND(MID(B10,8,1)&"x","0x1x2x3x4x5x6x7x8x9x")))),"元明細IDはSAL-と半角数字4桁",IF(COUNTIFS(元出荷明細!$A$8:$A$57,B10)<>1,"元明細が一意にありません",IF(NOT(IF(ISNUMBER(C10),AND(C10>=43831,C10<=73050,C10=INT(C10)),FALSE())),"受付日は時刻なしで必須",IF(C10<SUMIFS(元出荷明細!$C$8:$C$57,元出荷明細!$A$8:$A$57,B10),"受付日は元出荷日以上",IF(NOT(OR(D10="破損",D10="品違い",D10="数量違い",D10="その他",D10="未確認")),"理由を確認",IF(NOT(OR(E10="有効",E10="取消")),"記録状態を確認",IF(NOT(OR(F10="確認済",F10="未確認")),"受取区分を確認",IF(AND(F10="確認済",NOT(IF(ISNUMBER(G10),AND(G10>=1,G10<=1000000,G10=INT(G10)),FALSE()))),"受取数は1〜100万個整数で必須",IF(AND(F10="未確認",COUNTA(G10)>0),"受取未確認の数量は空欄",IF(NOT(OR(H10="確認済",H10="未確認",H10="要対応")),"検品を確認",IF(AND(H10<>"未確認",F10<>"確認済"),"検品前に受取数量を確認",IF(NOT(OR(I10="未確認",I10="返金",I10="交換",I10="返却",I10="その他")),"方針を確認",IF(NOT(OR(J10="確認済",J10="未確認")),"実物処理を確認",IF(AND(J10="確認済",OR(H10<>"確認済",I10="未確認")),"実物処理済は検品/方針が必要",IF(AND(I10="返金",NOT(AND(OR(K10="確認済",K10="未確認"),OR(M10="確認済",M10="未確認")))),"返金は合意/実績を別確認",IF(AND(I10="未確認",NOT(AND(K10="未確認",M10="未確認"))),"方針未確認の金額区分は未確認",IF(AND(OR(I10="交換",I10="返却",I10="その他"),NOT(AND(K10="対象外",M10="対象外"))),"返金以外は金額区分が対象外",IF(AND(K10="確認済",NOT(IF(ISNUMBER(L10),AND(L10>=0,L10<=1000000000,L10=INT(L10)),FALSE()))),"確認済金額は0〜10億円整数",IF(AND(K10<>"確認済",COUNTA(L10)>0),"未確認/対象外の金額は空欄",IF(AND(M10="確認済",NOT(IF(ISNUMBER(N10),AND(N10>=0,N10<=1000000000,N10=INT(N10)),FALSE()))),"確認済金額は0〜10億円整数",IF(AND(M10<>"確認済",COUNTA(N10)>0),"未確認/対象外の金額は空欄",IF(NOT(IF(ISNUMBER(O10),AND(O10>=43831,O10<=73050,O10=INT(O10)),FALSE())),"記録確認日は時刻なしで必須",IF(OR(C10>O10,O10>返品の確認!$B$3),"受付日≦確認日≦基準日",IF(AND(E10="有効",SUMIFS($G$8:$G$57,$B$8:$B$57,B10,$E$8:$E$57,"有効",$F$8:$F$57,"確認済")>SUMIFS(元出荷明細!$D$8:$D$57,元出荷明細!$A$8:$A$57,B10)),"全有効受取数が元出荷数を超過","確認済み"))))))))))))))))))))))))))) -> 確認済み | W10: =IF(V10="","",IF(V10="確認済み",0,1)) -> 0 | X10: =IF(COUNTA(A10:O10)=0,IF(AND(V10="",W10="",P10="",Q10="",R10="",S10="",T10="",U10=""),0,1),IF(NOT(AND(ISTEXT(V10),V10=IF(COUNTA(A10:O10)=0,"",IF(NOT(AND(ISTEXT(A10),LEN(A10)=8,EXACT(LEFT(A10,4),"RET-"),ISNUMBER(FIND(MID(A10,5,1)&"x","0x1x2x3x4x5x6x7x8x9x")),ISNUMBER(FIND(MID(A10,6,1)&"x","0x1x2x3x4x5x6x7x8x9x")),ISNUMBER(FIND(MID(A10,7,1)&"x","0x1x2x3x4x5x6x7x8x9x")),ISNUMBER(FIND(MID(A10,8,1)&"x","0x1x2x3x4x5x6x7x8x9x")))),"返品IDはRET-と半角数字4桁",IF(COUNTIFS($A$8:$A$57,A10)>1,"返品IDが重複",IF(NOT(AND(ISTEXT(B10),LEN(B10)=8,EXACT(LEFT(B10,4),"SAL-"),ISNUMBER(FIND(MID(B10,5,1)&"x","0x1x2x3x4x5x6x7x8x9x")),ISNUMBER(FIND(MID(B10,6,1)&"x","0x1x2x3x4x5x6x7x8x9x")),ISNUMBER(FIND(MID(B10,7,1)&"x","0x1x2x3x4x5x6x7x8x9x")),ISNUMBER(FIND(MID(B10,8,1)&"x","0x1x2x3x4x5x6x7x8x9x")))),"元明細IDはSAL-と半角数字4桁",IF(COUNTIFS(元出荷明細!$A$8:$A$57,B10)<>1,"元明細が一意にありません",IF(NOT(IF(ISNUMBER(C10),AND(C10>=43831,C10<=73050,C10=INT(C10)),FALSE())),"受付日は時刻なしで必須",IF(C10<SUMIFS(元出荷明細!$C$8:$C$57,元出荷明細!$A$8:$A$57,B10),"受付日は元出荷日以上",IF(NOT(OR(D10="破損",D10="品違い",D10="数量違い",D10="その他",D10="未確認")),"理由を確認",IF(NOT(OR(E10="有効",E10="取消")),"記録状態を確認",IF(NOT(OR(F10="確認済",F10="未確認")),"受取区分を確認",IF(AND(F10="確認済",NOT(IF(ISNUMBER(G10),AND(G10>=1,G10<=1000000,G10=INT(G10)),FALSE()))),"受取数は1〜100万個整数で必須",IF(AND(F10="未確認",COUNTA(G10)>0),"受取未確認の数量は空欄",IF(NOT(OR(H10="確認済",H10="未確認",H10="要対応")),"検品を確認",IF(AND(H10<>"未確認",F10<>"確認済"),"検品前に受取数量を確認",IF(NOT(OR(I10="未確認",I10="返金",I10="交換",I10="返却",I10="その他")),"方針を確認",IF(NOT(OR(J10="確認済",J10="未確認")),"実物処理を確認",IF(AND(J10="確認済",OR(H10<>"確認済",I10="未確認")),"実物処理済は検品/方針が必要",IF(AND(I10="返金",NOT(AND(OR(K10="確認済",K10="未確認"),OR(M10="確認済",M10="未確認")))),"返金は合意/実績を別確認",IF(AND(I10="未確認",NOT(AND(K10="未確認",M10="未確認"))),"方針未確認の金額区分は未確認",IF(AND(OR(I10="交換",I10="返却",I10="その他"),NOT(AND(K10="対象外",M10="対象外"))),"返金以外は金額区分が対象外",IF(AND(K10="確認済",NOT(IF(ISNUMBER(L10),AND(L10>=0,L10<=1000000000,L10=INT(L10)),FALSE()))),"確認済金額は0〜10億円整数",IF(AND(K10<>"確認済",COUNTA(L10)>0),"未確認/対象外の金額は空欄",IF(AND(M10="確認済",NOT(IF(ISNUMBER(N10),AND(N10>=0,N10<=1000000000,N10=INT(N10)),FALSE()))),"確認済金額は0〜10億円整数",IF(AND(M10<>"確認済",COUNTA(N10)>0),"未確認/対象外の金額は空欄",IF(NOT(IF(ISNUMBER(O10),AND(O10>=43831,O10<=73050,O10=INT(O10)),FALSE())),"記録確認日は時刻なしで必須",IF(OR(C10>O10,O10>返品の確認!$B$3),"受付日≦確認日≦基準日",IF(AND(E10="有効",SUMIFS($G$8:$G$57,$B$8:$B$57,B10,$E$8:$E$57,"有効",$F$8:$F$57,"確認済")>SUMIFS(元出荷明細!$D$8:$D$57,元出荷明細!$A$8:$A$57,B10)),"全有効受取数が元出荷数を超過","確認済み"))))))))))))))))))))))))))),ISNUMBER(W10),W10=IF(V10="確認済み",0,1))),1,IF(W10<>0,0,IF(AND(ISNUMBER(P10),P10=SUMIFS(元出荷明細!$D$8:$D$57,元出荷明細!$A$8:$A$57,B10),ISNUMBER(Q10),Q10=SUMIFS($G$8:$G$57,$B$8:$B$57,B10,$E$8:$E$57,"有効",$F$8:$F$57,"確認済"),ISNUMBER(R10),R10=COUNTIFS($B$8:$B$57,B10,$E$8:$E$57,"有効",$F$8:$F$57,"未確認"),IF(R10>0,ISTEXT(S10),ISNUMBER(S10)),S10=IF(R10>0,"判定保留",P10-Q10),IF(AND(E10="有効",I10="返金",K10="確認済",M10="確認済"),ISNUMBER(T10),ISTEXT(T10)),T10=IF(E10="取消","取消",IF(I10="未確認","判定保留",IF(I10<>"返金","対象外",IF(AND(K10="確認済",M10="確認済"),L10-N10,"判定保留")))),ISTEXT(U10),U10=IF(E10="取消","取消",IF(F10="未確認","受取未確認",IF(H10="未確認","検品未確認",IF(H10="要対応","検品要対応",IF(D10="未確認","理由未確認",IF(I10="未確認","方針未確認",IF(J10="未確認","実物処理未確認",IF(I10<>"返金","照合済",IF(K10="未確認","合意未確認",IF(M10="未確認","実績未確認",IF(T10>0,"未返金",IF(T10<0,"過返金","照合済"))))))))))))),0,1)))) -> 0
A11: RET-0004 | B11: SAL-0003 | C11: 46308 | D11: 破損 | E11: 有効 | F11: 確認済 | G11: 3 | H11: 要対応 | I11: 返金 | J11: 未確認 | K11: 確認済 | L11: 1500 | M11: 確認済 | N11: 0 | O11: 46326 | P11: =IF(V11="","",IF(W11<>0,NA(),SUMIFS(元出荷明細!$D$8:$D$57,元出荷明細!$A$8:$A$57,B11))) -> 10 | Q11: =IF(V11="","",IF(W11<>0,NA(),SUMIFS($G$8:$G$57,$B$8:$B$57,B11,$E$8:$E$57,"有効",$F$8:$F$57,"確認済"))) -> 3 | R11: =IF(V11="","",IF(W11<>0,NA(),COUNTIFS($B$8:$B$57,B11,$E$8:$E$57,"有効",$F$8:$F$57,"未確認"))) -> 0 | S11: =IF(V11="","",IF(W11<>0,NA(),IF(R11>0,"判定保留",P11-Q11))) -> 7 | T11: =IF(V11="","",IF(W11<>0,NA(),IF(E11="取消","取消",IF(I11="未確認","判定保留",IF(I11<>"返金","対象外",IF(AND(K11="確認済",M11="確認済"),L11-N11,"判定保留")))))) -> 1500 | U11: =IF(V11="","",IF(W11<>0,NA(),IF(E11="取消","取消",IF(F11="未確認","受取未確認",IF(H11="未確認","検品未確認",IF(H11="要対応","検品要対応",IF(D11="未確認","理由未確認",IF(I11="未確認","方針未確認",IF(J11="未確認","実物処理未確認",IF(I11<>"返金","照合済",IF(K11="未確認","合意未確認",IF(M11="未確認","実績未確認",IF(T11>0,"未返金",IF(T11<0,"過返金","照合済")))))))))))))) -> 検品要対応 | V11: =IF(COUNTA(A11:O11)=0,"",IF(NOT(AND(ISTEXT(A11),LEN(A11)=8,EXACT(LEFT(A11,4),"RET-"),ISNUMBER(FIND(MID(A11,5,1)&"x","0x1x2x3x4x5x6x7x8x9x")),ISNUMBER(FIND(MID(A11,6,1)&"x","0x1x2x3x4x5x6x7x8x9x")),ISNUMBER(FIND(MID(A11,7,1)&"x","0x1x2x3x4x5x6x7x8x9x")),ISNUMBER(FIND(MID(A11,8,1)&"x","0x1x2x3x4x5x6x7x8x9x")))),"返品IDはRET-と半角数字4桁",IF(COUNTIFS($A$8:$A$57,A11)>1,"返品IDが重複",IF(NOT(AND(ISTEXT(B11),LEN(B11)=8,EXACT(LEFT(B11,4),"SAL-"),ISNUMBER(FIND(MID(B11,5,1)&"x","0x1x2x3x4x5x6x7x8x9x")),ISNUMBER(FIND(MID(B11,6,1)&"x","0x1x2x3x4x5x6x7x8x9x")),ISNUMBER(FIND(MID(B11,7,1)&"x","0x1x2x3x4x5x6x7x8x9x")),ISNUMBER(FIND(MID(B11,8,1)&"x","0x1x2x3x4x5x6x7x8x9x")))),"元明細IDはSAL-と半角数字4桁",IF(COUNTIFS(元出荷明細!$A$8:$A$57,B11)<>1,"元明細が一意にありません",IF(NOT(IF(ISNUMBER(C11),AND(C11>=43831,C11<=73050,C11=INT(C11)),FALSE())),"受付日は時刻なしで必須",IF(C11<SUMIFS(元出荷明細!$C$8:$C$57,元出荷明細!$A$8:$A$57,B11),"受付日は元出荷日以上",IF(NOT(OR(D11="破損",D11="品違い",D11="数量違い",D11="その他",D11="未確認")),"理由を確認",IF(NOT(OR(E11="有効",E11="取消")),"記録状態を確認",IF(NOT(OR(F11="確認済",F11="未確認")),"受取区分を確認",IF(AND(F11="確認済",NOT(IF(ISNUMBER(G11),AND(G11>=1,G11<=1000000,G11=INT(G11)),FALSE()))),"受取数は1〜100万個整数で必須",IF(AND(F11="未確認",COUNTA(G11)>0),"受取未確認の数量は空欄",IF(NOT(OR(H11="確認済",H11="未確認",H11="要対応")),"検品を確認",IF(AND(H11<>"未確認",F11<>"確認済"),"検品前に受取数量を確認",IF(NOT(OR(I11="未確認",I11="返金",I11="交換",I11="返却",I11="その他")),"方針を確認",IF(NOT(OR(J11="確認済",J11="未確認")),"実物処理を確認",IF(AND(J11="確認済",OR(H11<>"確認済",I11="未確認")),"実物処理済は検品/方針が必要",IF(AND(I11="返金",NOT(AND(OR(K11="確認済",K11="未確認"),OR(M11="確認済",M11="未確認")))),"返金は合意/実績を別確認",IF(AND(I11="未確認",NOT(AND(K11="未確認",M11="未確認"))),"方針未確認の金額区分は未確認",IF(AND(OR(I11="交換",I11="返却",I11="その他"),NOT(AND(K11="対象外",M11="対象外"))),"返金以外は金額区分が対象外",IF(AND(K11="確認済",NOT(IF(ISNUMBER(L11),AND(L11>=0,L11<=1000000000,L11=INT(L11)),FALSE()))),"確認済金額は0〜10億円整数",IF(AND(K11<>"確認済",COUNTA(L11)>0),"未確認/対象外の金額は空欄",IF(AND(M11="確認済",NOT(IF(ISNUMBER(N11),AND(N11>=0,N11<=1000000000,N11=INT(N11)),FALSE()))),"確認済金額は0〜10億円整数",IF(AND(M11<>"確認済",COUNTA(N11)>0),"未確認/対象外の金額は空欄",IF(NOT(IF(ISNUMBER(O11),AND(O11>=43831,O11<=73050,O11=INT(O11)),FALSE())),"記録確認日は時刻なしで必須",IF(OR(C11>O11,O11>返品の確認!$B$3),"受付日≦確認日≦基準日",IF(AND(E11="有効",SUMIFS($G$8:$G$57,$B$8:$B$57,B11,$E$8:$E$57,"有効",$F$8:$F$57,"確認済")>SUMIFS(元出荷明細!$D$8:$D$57,元出荷明細!$A$8:$A$57,B11)),"全有効受取数が元出荷数を超過","確認済み"))))))))))))))))))))))))))) -> 確認済み | W11: =IF(V11="","",IF(V11="確認済み",0,1)) -> 0 | X11: =IF(COUNTA(A11:O11)=0,IF(AND(V11="",W11="",P11="",Q11="",R11="",S11="",T11="",U11=""),0,1),IF(NOT(AND(ISTEXT(V11),V11=IF(COUNTA(A11:O11)=0,"",IF(NOT(AND(ISTEXT(A11),LEN(A11)=8,EXACT(LEFT(A11,4),"RET-"),ISNUMBER(FIND(MID(A11,5,1)&"x","0x1x2x3x4x5x6x7x8x9x")),ISNUMBER(FIND(MID(A11,6,1)&"x","0x1x2x3x4x5x6x7x8x9x")),ISNUMBER(FIND(MID(A11,7,1)&"x","0x1x2x3x4x5x6x7x8x9x")),ISNUMBER(FIND(MID(A11,8,1)&"x","0x1x2x3x4x5x6x7x8x9x")))),"返品IDはRET-と半角数字4桁",IF(COUNTIFS($A$8:$A$57,A11)>1,"返品IDが重複",IF(NOT(AND(ISTEXT(B11),LEN(B11)=8,EXACT(LEFT(B11,4),"SAL-"),ISNUMBER(FIND(MID(B11,5,1)&"x","0x1x2x3x4x5x6x7x8x9x")),ISNUMBER(FIND(MID(B11,6,1)&"x","0x1x2x3x4x5x6x7x8x9x")),ISNUMBER(FIND(MID(B11,7,1)&"x","0x1x2x3x4x5x6x7x8x9x")),ISNUMBER(FIND(MID(B11,8,1)&"x","0x1x2x3x4x5x6x7x8x9x")))),"元明細IDはSAL-と半角数字4桁",IF(COUNTIFS(元出荷明細!$A$8:$A$57,B11)<>1,"元明細が一意にありません",IF(NOT(IF(ISNUMBER(C11),AND(C11>=43831,C11<=73050,C11=INT(C11)),FALSE())),"受付日は時刻なしで必須",IF(C11<SUMIFS(元出荷明細!$C$8:$C$57,元出荷明細!$A$8:$A$57,B11),"受付日は元出荷日以上",IF(NOT(OR(D11="破損",D11="品違い",D11="数量違い",D11="その他",D11="未確認")),"理由を確認",IF(NOT(OR(E11="有効",E11="取消")),"記録状態を確認",IF(NOT(OR(F11="確認済",F11="未確認")),"受取区分を確認",IF(AND(F11="確認済",NOT(IF(ISNUMBER(G11),AND(G11>=1,G11<=1000000,G11=INT(G11)),FALSE()))),"受取数は1〜100万個整数で必須",IF(AND(F11="未確認",COUNTA(G11)>0),"受取未確認の数量は空欄",IF(NOT(OR(H11="確認済",H11="未確認",H11="要対応")),"検品を確認",IF(AND(H11<>"未確認",F11<>"確認済"),"検品前に受取数量を確認",IF(NOT(OR(I11="未確認",I11="返金",I11="交換",I11="返却",I11="その他")),"方針を確認",IF(NOT(OR(J11="確認済",J11="未確認")),"実物処理を確認",IF(AND(J11="確認済",OR(H11<>"確認済",I11="未確認")),"実物処理済は検品/方針が必要",IF(AND(I11="返金",NOT(AND(OR(K11="確認済",K11="未確認"),OR(M11="確認済",M11="未確認")))),"返金は合意/実績を別確認",IF(AND(I11="未確認",NOT(AND(K11="未確認",M11="未確認"))),"方針未確認の金額区分は未確認",IF(AND(OR(I11="交換",I11="返却",I11="その他"),NOT(AND(K11="対象外",M11="対象外"))),"返金以外は金額区分が対象外",IF(AND(K11="確認済",NOT(IF(ISNUMBER(L11),AND(L11>=0,L11<=1000000000,L11=INT(L11)),FALSE()))),"確認済金額は0〜10億円整数",IF(AND(K11<>"確認済",COUNTA(L11)>0),"未確認/対象外の金額は空欄",IF(AND(M11="確認済",NOT(IF(ISNUMBER(N11),AND(N11>=0,N11<=1000000000,N11=INT(N11)),FALSE()))),"確認済金額は0〜10億円整数",IF(AND(M11<>"確認済",COUNTA(N11)>0),"未確認/対象外の金額は空欄",IF(NOT(IF(ISNUMBER(O11),AND(O11>=43831,O11<=73050,O11=INT(O11)),FALSE())),"記録確認日は時刻なしで必須",IF(OR(C11>O11,O11>返品の確認!$B$3),"受付日≦確認日≦基準日",IF(AND(E11="有効",SUMIFS($G$8:$G$57,$B$8:$B$57,B11,$E$8:$E$57,"有効",$F$8:$F$57,"確認済")>SUMIFS(元出荷明細!$D$8:$D$57,元出荷明細!$A$8:$A$57,B11)),"全有効受取数が元出荷数を超過","確認済み"))))))))))))))))))))))))))),ISNUMBER(W11),W11=IF(V11="確認済み",0,1))),1,IF(W11<>0,0,IF(AND(ISNUMBER(P11),P11=SUMIFS(元出荷明細!$D$8:$D$57,元出荷明細!$A$8:$A$57,B11),ISNUMBER(Q11),Q11=SUMIFS($G$8:$G$57,$B$8:$B$57,B11,$E$8:$E$57,"有効",$F$8:$F$57,"確認済"),ISNUMBER(R11),R11=COUNTIFS($B$8:$B$57,B11,$E$8:$E$57,"有効",$F$8:$F$57,"未確認"),IF(R11>0,ISTEXT(S11),ISNUMBER(S11)),S11=IF(R11>0,"判定保留",P11-Q11),IF(AND(E11="有効",I11="返金",K11="確認済",M11="確認済"),ISNUMBER(T11),ISTEXT(T11)),T11=IF(E11="取消","取消",IF(I11="未確認","判定保留",IF(I11<>"返金","対象外",IF(AND(K11="確認済",M11="確認済"),L11-N11,"判定保留")))),ISTEXT(U11),U11=IF(E11="取消","取消",IF(F11="未確認","受取未確認",IF(H11="未確認","検品未確認",IF(H11="要対応","検品要対応",IF(D11="未確認","理由未確認",IF(I11="未確認","方針未確認",IF(J11="未確認","実物処理未確認",IF(I11<>"返金","照合済",IF(K11="未確認","合意未確認",IF(M11="未確認","実績未確認",IF(T11>0,"未返金",IF(T11<0,"過返金","照合済"))))))))))))),0,1)))) -> 0
A12: RET-0005 | B12: SAL-0004 | C12: 46309 | D12: 品違い | E12: 有効 | F12: 確認済 | G12: 2 | H12: 確認済 | I12: 交換 | J12: 未確認 | K12: 対象外 | M12: 対象外 | O12: 46326 | P12: =IF(V12="","",IF(W12<>0,NA(),SUMIFS(元出荷明細!$D$8:$D$57,元出荷明細!$A$8:$A$57,B12))) -> 10 | Q12: =IF(V12="","",IF(W12<>0,NA(),SUMIFS($G$8:$G$57,$B$8:$B$57,B12,$E$8:$E$57,"有効",$F$8:$F$57,"確認済"))) -> 2 | R12: =IF(V12="","",IF(W12<>0,NA(),COUNTIFS($B$8:$B$57,B12,$E$8:$E$57,"有効",$F$8:$F$57,"未確認"))) -> 0 | S12: =IF(V12="","",IF(W12<>0,NA(),IF(R12>0,"判定保留",P12-Q12))) -> 8 | T12: =IF(V12="","",IF(W12<>0,NA(),IF(E12="取消","取消",IF(I12="未確認","判定保留",IF(I12<>"返金","対象外",IF(AND(K12="確認済",M12="確認済"),L12-N12,"判定保留")))))) -> 対象外 | U12: =IF(V12="","",IF(W12<>0,NA(),IF(E12="取消","取消",IF(F12="未確認","受取未確認",IF(H12="未確認","検品未確認",IF(H12="要対応","検品要対応",IF(D12="未確認","理由未確認",IF(I12="未確認","方針未確認",IF(J12="未確認","実物処理未確認",IF(I12<>"返金","照合済",IF(K12="未確認","合意未確認",IF(M12="未確認","実績未確認",IF(T12>0,"未返金",IF(T12<0,"過返金","照合済")))))))))))))) -> 実物処理未確認 | V12: =IF(COUNTA(A12:O12)=0,"",IF(NOT(AND(ISTEXT(A12),LEN(A12)=8,EXACT(LEFT(A12,4),"RET-"),ISNUMBER(FIND(MID(A12,5,1)&"x","0x1x2x3x4x5x6x7x8x9x")),ISNUMBER(FIND(MID(A12,6,1)&"x","0x1x2x3x4x5x6x7x8x9x")),ISNUMBER(FIND(MID(A12,7,1)&"x","0x1x2x3x4x5x6x7x8x9x")),ISNUMBER(FIND(MID(A12,8,1)&"x","0x1x2x3x4x5x6x7x8x9x")))),"返品IDはRET-と半角数字4桁",IF(COUNTIFS($A$8:$A$57,A12)>1,"返品IDが重複",IF(NOT(AND(ISTEXT(B12),LEN(B12)=8,EXACT(LEFT(B12,4),"SAL-"),ISNUMBER(FIND(MID(B12,5,1)&"x","0x1x2x3x4x5x6x7x8x9x")),ISNUMBER(FIND(MID(B12,6,1)&"x","0x1x2x3x4x5x6x7x8x9x")),ISNUMBER(FIND(MID(B12,7,1)&"x","0x1x2x3x4x5x6x7x8x9x")),ISNUMBER(FIND(MID(B12,8,1)&"x","0x1x2x3x4x5x6x7x8x9x")))),"元明細IDはSAL-と半角数字4桁",IF(COUNTIFS(元出荷明細!$A$8:$A$57,B12)<>1,"元明細が一意にありません",IF(NOT(IF(ISNUMBER(C12),AND(C12>=43831,C12<=73050,C12=INT(C12)),FALSE())),"受付日は時刻なしで必須",IF(C12<SUMIFS(元出荷明細!$C$8:$C$57,元出荷明細!$A$8:$A$57,B12),"受付日は元出荷日以上",IF(NOT(OR(D12="破損",D12="品違い",D12="数量違い",D12="その他",D12="未確認")),"理由を確認",IF(NOT(OR(E12="有効",E12="取消")),"記録状態を確認",IF(NOT(OR(F12="確認済",F12="未確認")),"受取区分を確認",IF(AND(F12="確認済",NOT(IF(ISNUMBER(G12),AND(G12>=1,G12<=1000000,G12=INT(G12)),FALSE()))),"受取数は1〜100万個整数で必須",IF(AND(F12="未確認",COUNTA(G12)>0),"受取未確認の数量は空欄",IF(NOT(OR(H12="確認済",H12="未確認",H12="要対応")),"検品を確認",IF(AND(H12<>"未確認",F12<>"確認済"),"検品前に受取数量を確認",IF(NOT(OR(I12="未確認",I12="返金",I12="交換",I12="返却",I12="その他")),"方針を確認",IF(NOT(OR(J12="確認済",J12="未確認")),"実物処理を確認",IF(AND(J12="確認済",OR(H12<>"確認済",I12="未確認")),"実物処理済は検品/方針が必要",IF(AND(I12="返金",NOT(AND(OR(K12="確認済",K12="未確認"),OR(M12="確認済",M12="未確認")))),"返金は合意/実績を別確認",IF(AND(I12="未確認",NOT(AND(K12="未確認",M12="未確認"))),"方針未確認の金額区分は未確認",IF(AND(OR(I12="交換",I12="返却",I12="その他"),NOT(AND(K12="対象外",M12="対象外"))),"返金以外は金額区分が対象外",IF(AND(K12="確認済",NOT(IF(ISNUMBER(L12),AND(L12>=0,L12<=1000000000,L12=INT(L12)),FALSE()))),"確認済金額は0〜10億円整数",IF(AND(K12<>"確認済",COUNTA(L12)>0),"未確認/対象外の金額は空欄",IF(AND(M12="確認済",NOT(IF(ISNUMBER(N12),AND(N12>=0,N12<=1000000000,N12=INT(N12)),FALSE()))),"確認済金額は0〜10億円整数",IF(AND(M12<>"確認済",COUNTA(N12)>0),"未確認/対象外の金額は空欄",IF(NOT(IF(ISNUMBER(O12),AND(O12>=43831,O12<=73050,O12=INT(O12)),FALSE())),"記録確認日は時刻なしで必須",IF(OR(C12>O12,O12>返品の確認!$B$3),"受付日≦確認日≦基準日",IF(AND(E12="有効",SUMIFS($G$8:$G$57,$B$8:$B$57,B12,$E$8:$E$57,"有効",$F$8:$F$57,"確認済")>SUMIFS(元出荷明細!$D$8:$D$57,元出荷明細!$A$8:$A$57,B12)),"全有効受取数が元出荷数を超過","確認済み"))))))))))))))))))))))))))) -> 確認済み | W12: =IF(V12="","",IF(V12="確認済み",0,1)) -> 0 | X12: =IF(COUNTA(A12:O12)=0,IF(AND(V12="",W12="",P12="",Q12="",R12="",S12="",T12="",U12=""),0,1),IF(NOT(AND(ISTEXT(V12),V12=IF(COUNTA(A12:O12)=0,"",IF(NOT(AND(ISTEXT(A12),LEN(A12)=8,EXACT(LEFT(A12,4),"RET-"),ISNUMBER(FIND(MID(A12,5,1)&"x","0x1x2x3x4x5x6x7x8x9x")),ISNUMBER(FIND(MID(A12,6,1)&"x","0x1x2x3x4x5x6x7x8x9x")),ISNUMBER(FIND(MID(A12,7,1)&"x","0x1x2x3x4x5x6x7x8x9x")),ISNUMBER(FIND(MID(A12,8,1)&"x","0x1x2x3x4x5x6x7x8x9x")))),"返品IDはRET-と半角数字4桁",IF(COUNTIFS($A$8:$A$57,A12)>1,"返品IDが重複",IF(NOT(AND(ISTEXT(B12),LEN(B12)=8,EXACT(LEFT(B12,4),"SAL-"),ISNUMBER(FIND(MID(B12,5,1)&"x","0x1x2x3x4x5x6x7x8x9x")),ISNUMBER(FIND(MID(B12,6,1)&"x","0x1x2x3x4x5x6x7x8x9x")),ISNUMBER(FIND(MID(B12,7,1)&"x","0x1x2x3x4x5x6x7x8x9x")),ISNUMBER(FIND(MID(B12,8,1)&"x","0x1x2x3x4x5x6x7x8x9x")))),"元明細IDはSAL-と半角数字4桁",IF(COUNTIFS(元出荷明細!$A$8:$A$57,B12)<>1,"元明細が一意にありません",IF(NOT(IF(ISNUMBER(C12),AND(C12>=43831,C12<=73050,C12=INT(C12)),FALSE())),"受付日は時刻なしで必須",IF(C12<SUMIFS(元出荷明細!$C$8:$C$57,元出荷明細!$A$8:$A$57,B12),"受付日は元出荷日以上",IF(NOT(OR(D12="破損",D12="品違い",D12="数量違い",D12="その他",D12="未確認")),"理由を確認",IF(NOT(OR(E12="有効",E12="取消")),"記録状態を確認",IF(NOT(OR(F12="確認済",F12="未確認")),"受取区分を確認",IF(AND(F12="確認済",NOT(IF(ISNUMBER(G12),AND(G12>=1,G12<=1000000,G12=INT(G12)),FALSE()))),"受取数は1〜100万個整数で必須",IF(AND(F12="未確認",COUNTA(G12)>0),"受取未確認の数量は空欄",IF(NOT(OR(H12="確認済",H12="未確認",H12="要対応")),"検品を確認",IF(AND(H12<>"未確認",F12<>"確認済"),"検品前に受取数量を確認",IF(NOT(OR(I12="未確認",I12="返金",I12="交換",I12="返却",I12="その他")),"方針を確認",IF(NOT(OR(J12="確認済",J12="未確認")),"実物処理を確認",IF(AND(J12="確認済",OR(H12<>"確認済",I12="未確認")),"実物処理済は検品/方針が必要",IF(AND(I12="返金",NOT(AND(OR(K12="確認済",K12="未確認"),OR(M12="確認済",M12="未確認")))),"返金は合意/実績を別確認",IF(AND(I12="未確認",NOT(AND(K12="未確認",M12="未確認"))),"方針未確認の金額区分は未確認",IF(AND(OR(I12="交換",I12="返却",I12="その他"),NOT(AND(K12="対象外",M12="対象外"))),"返金以外は金額区分が対象外",IF(AND(K12="確認済",NOT(IF(ISNUMBER(L12),AND(L12>=0,L12<=1000000000,L12=INT(L12)),FALSE()))),"確認済金額は0〜10億円整数",IF(AND(K12<>"確認済",COUNTA(L12)>0),"未確認/対象外の金額は空欄",IF(AND(M12="確認済",NOT(IF(ISNUMBER(N12),AND(N12>=0,N12<=1000000000,N12=INT(N12)),FALSE()))),"確認済金額は0〜10億円整数",IF(AND(M12<>"確認済",COUNTA(N12)>0),"未確認/対象外の金額は空欄",IF(NOT(IF(ISNUMBER(O12),AND(O12>=43831,O12<=73050,O12=INT(O12)),FALSE())),"記録確認日は時刻なしで必須",IF(OR(C12>O12,O12>返品の確認!$B$3),"受付日≦確認日≦基準日",IF(AND(E12="有効",SUMIFS($G$8:$G$57,$B$8:$B$57,B12,$E$8:$E$57,"有効",$F$8:$F$57,"確認済")>SUMIFS(元出荷明細!$D$8:$D$57,元出荷明細!$A$8:$A$57,B12)),"全有効受取数が元出荷数を超過","確認済み"))))))))))))))))))))))))))),ISNUMBER(W12),W12=IF(V12="確認済み",0,1))),1,IF(W12<>0,0,IF(AND(ISNUMBER(P12),P12=SUMIFS(元出荷明細!$D$8:$D$57,元出荷明細!$A$8:$A$57,B12),ISNUMBER(Q12),Q12=SUMIFS($G$8:$G$57,$B$8:$B$57,B12,$E$8:$E$57,"有効",$F$8:$F$57,"確認済"),ISNUMBER(R12),R12=COUNTIFS($B$8:$B$57,B12,$E$8:$E$57,"有効",$F$8:$F$57,"未確認"),IF(R12>0,ISTEXT(S12),ISNUMBER(S12)),S12=IF(R12>0,"判定保留",P12-Q12),IF(AND(E12="有効",I12="返金",K12="確認済",M12="確認済"),ISNUMBER(T12),ISTEXT(T12)),T12=IF(E12="取消","取消",IF(I12="未確認","判定保留",IF(I12<>"返金","対象外",IF(AND(K12="確認済",M12="確認済"),L12-N12,"判定保留")))),ISTEXT(U12),U12=IF(E12="取消","取消",IF(F12="未確認","受取未確認",IF(H12="未確認","検品未確認",IF(H12="要対応","検品要対応",IF(D12="未確認","理由未確認",IF(I12="未確認","方針未確認",IF(J12="未確認","実物処理未確認",IF(I12<>"返金","照合済",IF(K12="未確認","合意未確認",IF(M12="未確認","実績未確認",IF(T12>0,"未返金",IF(T12<0,"過返金","照合済"))))))))))))),0,1)))) -> 0
A13: RET-0006 | B13: SAL-0005 | C13: 46310 | D13: その他 | E13: 有効 | F13: 確認済 | G13: 1 | H13: 確認済 | I13: 返金 | J13: 確認済 | K13: 確認済 | L13: 0 | M13: 確認済 | N13: 0 | O13: 46326 | P13: =IF(V13="","",IF(W13<>0,NA(),SUMIFS(元出荷明細!$D$8:$D$57,元出荷明細!$A$8:$A$57,B13))) -> 10 | Q13: =IF(V13="","",IF(W13<>0,NA(),SUMIFS($G$8:$G$57,$B$8:$B$57,B13,$E$8:$E$57,"有効",$F$8:$F$57,"確認済"))) -> 1 | R13: =IF(V13="","",IF(W13<>0,NA(),COUNTIFS($B$8:$B$57,B13,$E$8:$E$57,"有効",$F$8:$F$57,"未確認"))) -> 0 | S13: =IF(V13="","",IF(W13<>0,NA(),IF(R13>0,"判定保留",P13-Q13))) -> 9 | T13: =IF(V13="","",IF(W13<>0,NA(),IF(E13="取消","取消",IF(I13="未確認","判定保留",IF(I13<>"返金","対象外",IF(AND(K13="確認済",M13="確認済"),L13-N13,"判定保留")))))) -> 0 | U13: =IF(V13="","",IF(W13<>0,NA(),IF(E13="取消","取消",IF(F13="未確認","受取未確認",IF(H13="未確認","検品未確認",IF(H13="要対応","検品要対応",IF(D13="未確認","理由未確認",IF(I13="未確認","方針未確認",IF(J13="未確認","実物処理未確認",IF(I13<>"返金","照合済",IF(K13="未確認","合意未確認",IF(M13="未確認","実績未確認",IF(T13>0,"未返金",IF(T13<0,"過返金","照合済")))))))))))))) -> 照合済 | V13: =IF(COUNTA(A13:O13)=0,"",IF(NOT(AND(ISTEXT(A13),LEN(A13)=8,EXACT(LEFT(A13,4),"RET-"),ISNUMBER(FIND(MID(A13,5,1)&"x","0x1x2x3x4x5x6x7x8x9x")),ISNUMBER(FIND(MID(A13,6,1)&"x","0x1x2x3x4x5x6x7x8x9x")),ISNUMBER(FIND(MID(A13,7,1)&"x","0x1x2x3x4x5x6x7x8x9x")),ISNUMBER(FIND(MID(A13,8,1)&"x","0x1x2x3x4x5x6x7x8x9x")))),"返品IDはRET-と半角数字4桁",IF(COUNTIFS($A$8:$A$57,A13)>1,"返品IDが重複",IF(NOT(AND(ISTEXT(B13),LEN(B13)=8,EXACT(LEFT(B13,4),"SAL-"),ISNUMBER(FIND(MID(B13,5,1)&"x","0x1x2x3x4x5x6x7x8x9x")),ISNUMBER(FIND(MID(B13,6,1)&"x","0x1x2x3x4x5x6x7x8x9x")),ISNUMBER(FIND(MID(B13,7,1)&"x","0x1x2x3x4x5x6x7x8x9x")),ISNUMBER(FIND(MID(B13,8,1)&"x","0x1x2x3x4x5x6x7x8x9x")))),"元明細IDはSAL-と半角数字4桁",IF(COUNTIFS(元出荷明細!$A$8:$A$57,B13)<>1,"元明細が一意にありません",IF(NOT(IF(ISNUMBER(C13),AND(C13>=43831,C13<=73050,C13=INT(C13)),FALSE())),"受付日は時刻なしで必須",IF(C13<SUMIFS(元出荷明細!$C$8:$C$57,元出荷明細!$A$8:$A$57,B13),"受付日は元出荷日以上",IF(NOT(OR(D13="破損",D13="品違い",D13="数量違い",D13="その他",D13="未確認")),"理由を確認",IF(NOT(OR(E13="有効",E13="取消")),"記録状態を確認",IF(NOT(OR(F13="確認済",F13="未確認")),"受取区分を確認",IF(AND(F13="確認済",NOT(IF(ISNUMBER(G13),AND(G13>=1,G13<=1000000,G13=INT(G13)),FALSE()))),"受取数は1〜100万個整数で必須",IF(AND(F13="未確認",COUNTA(G13)>0),"受取未確認の数量は空欄",IF(NOT(OR(H13="確認済",H13="未確認",H13="要対応")),"検品を確認",IF(AND(H13<>"未確認",F13<>"確認済"),"検品前に受取数量を確認",IF(NOT(OR(I13="未確認",I13="返金",I13="交換",I13="返却",I13="その他")),"方針を確認",IF(NOT(OR(J13="確認済",J13="未確認")),"実物処理を確認",IF(AND(J13="確認済",OR(H13<>"確認済",I13="未確認")),"実物処理済は検品/方針が必要",IF(AND(I13="返金",NOT(AND(OR(K13="確認済",K13="未確認"),OR(M13="確認済",M13="未確認")))),"返金は合意/実績を別確認",IF(AND(I13="未確認",NOT(AND(K13="未確認",M13="未確認"))),"方針未確認の金額区分は未確認",IF(AND(OR(I13="交換",I13="返却",I13="その他"),NOT(AND(K13="対象外",M13="対象外"))),"返金以外は金額区分が対象外",IF(AND(K13="確認済",NOT(IF(ISNUMBER(L13),AND(L13>=0,L13<=1000000000,L13=INT(L13)),FALSE()))),"確認済金額は0〜10億円整数",IF(AND(K13<>"確認済",COUNTA(L13)>0),"未確認/対象外の金額は空欄",IF(AND(M13="確認済",NOT(IF(ISNUMBER(N13),AND(N13>=0,N13<=1000000000,N13=INT(N13)),FALSE()))),"確認済金額は0〜10億円整数",IF(AND(M13<>"確認済",COUNTA(N13)>0),"未確認/対象外の金額は空欄",IF(NOT(IF(ISNUMBER(O13),AND(O13>=43831,O13<=73050,O13=INT(O13)),FALSE())),"記録確認日は時刻なしで必須",IF(OR(C13>O13,O13>返品の確認!$B$3),"受付日≦確認日≦基準日",IF(AND(E13="有効",SUMIFS($G$8:$G$57,$B$8:$B$57,B13,$E$8:$E$57,"有効",$F$8:$F$57,"確認済")>SUMIFS(元出荷明細!$D$8:$D$57,元出荷明細!$A$8:$A$57,B13)),"全有効受取数が元出荷数を超過","確認済み"))))))))))))))))))))))))))) -> 確認済み | W13: =IF(V13="","",IF(V13="確認済み",0,1)) -> 0 | X13: =IF(COUNTA(A13:O13)=0,IF(AND(V13="",W13="",P13="",Q13="",R13="",S13="",T13="",U13=""),0,1),IF(NOT(AND(ISTEXT(V13),V13=IF(COUNTA(A13:O13)=0,"",IF(NOT(AND(ISTEXT(A13),LEN(A13)=8,EXACT(LEFT(A13,4),"RET-"),ISNUMBER(FIND(MID(A13,5,1)&"x","0x1x2x3x4x5x6x7x8x9x")),ISNUMBER(FIND(MID(A13,6,1)&"x","0x1x2x3x4x5x6x7x8x9x")),ISNUMBER(FIND(MID(A13,7,1)&"x","0x1x2x3x4x5x6x7x8x9x")),ISNUMBER(FIND(MID(A13,8,1)&"x","0x1x2x3x4x5x6x7x8x9x")))),"返品IDはRET-と半角数字4桁",IF(COUNTIFS($A$8:$A$57,A13)>1,"返品IDが重複",IF(NOT(AND(ISTEXT(B13),LEN(B13)=8,EXACT(LEFT(B13,4),"SAL-"),ISNUMBER(FIND(MID(B13,5,1)&"x","0x1x2x3x4x5x6x7x8x9x")),ISNUMBER(FIND(MID(B13,6,1)&"x","0x1x2x3x4x5x6x7x8x9x")),ISNUMBER(FIND(MID(B13,7,1)&"x","0x1x2x3x4x5x6x7x8x9x")),ISNUMBER(FIND(MID(B13,8,1)&"x","0x1x2x3x4x5x6x7x8x9x")))),"元明細IDはSAL-と半角数字4桁",IF(COUNTIFS(元出荷明細!$A$8:$A$57,B13)<>1,"元明細が一意にありません",IF(NOT(IF(ISNUMBER(C13),AND(C13>=43831,C13<=73050,C13=INT(C13)),FALSE())),"受付日は時刻なしで必須",IF(C13<SUMIFS(元出荷明細!$C$8:$C$57,元出荷明細!$A$8:$A$57,B13),"受付日は元出荷日以上",IF(NOT(OR(D13="破損",D13="品違い",D13="数量違い",D13="その他",D13="未確認")),"理由を確認",IF(NOT(OR(E13="有効",E13="取消")),"記録状態を確認",IF(NOT(OR(F13="確認済",F13="未確認")),"受取区分を確認",IF(AND(F13="確認済",NOT(IF(ISNUMBER(G13),AND(G13>=1,G13<=1000000,G13=INT(G13)),FALSE()))),"受取数は1〜100万個整数で必須",IF(AND(F13="未確認",COUNTA(G13)>0),"受取未確認の数量は空欄",IF(NOT(OR(H13="確認済",H13="未確認",H13="要対応")),"検品を確認",IF(AND(H13<>"未確認",F13<>"確認済"),"検品前に受取数量を確認",IF(NOT(OR(I13="未確認",I13="返金",I13="交換",I13="返却",I13="その他")),"方針を確認",IF(NOT(OR(J13="確認済",J13="未確認")),"実物処理を確認",IF(AND(J13="確認済",OR(H13<>"確認済",I13="未確認")),"実物処理済は検品/方針が必要",IF(AND(I13="返金",NOT(AND(OR(K13="確認済",K13="未確認"),OR(M13="確認済",M13="未確認")))),"返金は合意/実績を別確認",IF(AND(I13="未確認",NOT(AND(K13="未確認",M13="未確認"))),"方針未確認の金額区分は未確認",IF(AND(OR(I13="交換",I13="返却",I13="その他"),NOT(AND(K13="対象外",M13="対象外"))),"返金以外は金額区分が対象外",IF(AND(K13="確認済",NOT(IF(ISNUMBER(L13),AND(L13>=0,L13<=1000000000,L13=INT(L13)),FALSE()))),"確認済金額は0〜10億円整数",IF(AND(K13<>"確認済",COUNTA(L13)>0),"未確認/対象外の金額は空欄",IF(AND(M13="確認済",NOT(IF(ISNUMBER(N13),AND(N13>=0,N13<=1000000000,N13=INT(N13)),FALSE()))),"確認済金額は0〜10億円整数",IF(AND(M13<>"確認済",COUNTA(N13)>0),"未確認/対象外の金額は空欄",IF(NOT(IF(ISNUMBER(O13),AND(O13>=43831,O13<=73050,O13=INT(O13)),FALSE())),"記録確認日は時刻なしで必須",IF(OR(C13>O13,O13>返品の確認!$B$3),"受付日≦確認日≦基準日",IF(AND(E13="有効",SUMIFS($G$8:$G$57,$B$8:$B$57,B13,$E$8:$E$57,"有効",$F$8:$F$57,"確認済")>SUMIFS(元出荷明細!$D$8:$D$57,元出荷明細!$A$8:$A$57,B13)),"全有効受取数が元出荷数を超過","確認済み"))))))))))))))))))))))))))),ISNUMBER(W13),W13=IF(V13="確認済み",0,1))),1,IF(W13<>0,0,IF(AND(ISNUMBER(P13),P13=SUMIFS(元出荷明細!$D$8:$D$57,元出荷明細!$A$8:$A$57,B13),ISNUMBER(Q13),Q13=SUMIFS($G$8:$G$57,$B$8:$B$57,B13,$E$8:$E$57,"有効",$F$8:$F$57,"確認済"),ISNUMBER(R13),R13=COUNTIFS($B$8:$B$57,B13,$E$8:$E$57,"有効",$F$8:$F$57,"未確認"),IF(R13>0,ISTEXT(S13),ISNUMBER(S13)),S13=IF(R13>0,"判定保留",P13-Q13),IF(AND(E13="有効",I13="返金",K13="確認済",M13="確認済"),ISNUMBER(T13),ISTEXT(T13)),T13=IF(E13="取消","取消",IF(I13="未確認","判定保留",IF(I13<>"返金","対象外",IF(AND(K13="確認済",M13="確認済"),L13-N13,"判定保留")))),ISTEXT(U13),U13=IF(E13="取消","取消",IF(F13="未確認","受取未確認",IF(H13="未確認","検品未確認",IF(H13="要対応","検品要対応",IF(D13="未確認","理由未確認",IF(I13="未確認","方針未確認",IF(J13="未確認","実物処理未確認",IF(I13<>"返金","照合済",IF(K13="未確認","合意未確認",IF(M13="未確認","実績未確認",IF(T13>0,"未返金",IF(T13<0,"過返金","照合済"))))))))))))),0,1)))) -> 0
A14: RET-0007 | B14: SAL-0006 | C14: 46311 | D14: 破損 | E14: 有効 | F14: 確認済 | G14: 1 | H14: 確認済 | I14: 返金 | J14: 確認済 | K14: 確認済 | L14: 1000 | M14: 確認済 | N14: 1200 | O14: 46326 | P14: =IF(V14="","",IF(W14<>0,NA(),SUMIFS(元出荷明細!$D$8:$D$57,元出荷明細!$A$8:$A$57,B14))) -> 10 | Q14: =IF(V14="","",IF(W14<>0,NA(),SUMIFS($G$8:$G$57,$B$8:$B$57,B14,$E$8:$E$57,"有効",$F$8:$F$57,"確認済"))) -> 1 | R14: =IF(V14="","",IF(W14<>0,NA(),COUNTIFS($B$8:$B$57,B14,$E$8:$E$57,"有効",$F$8:$F$57,"未確認"))) -> 0 | S14: =IF(V14="","",IF(W14<>0,NA(),IF(R14>0,"判定保留",P14-Q14))) -> 9 | T14: =IF(V14="","",IF(W14<>0,NA(),IF(E14="取消","取消",IF(I14="未確認","判定保留",IF(I14<>"返金","対象外",IF(AND(K14="確認済",M14="確認済"),L14-N14,"判定保留")))))) -> -200 | U14: =IF(V14="","",IF(W14<>0,NA(),IF(E14="取消","取消",IF(F14="未確認","受取未確認",IF(H14="未確認","検品未確認",IF(H14="要対応","検品要対応",IF(D14="未確認","理由未確認",IF(I14="未確認","方針未確認",IF(J14="未確認","実物処理未確認",IF(I14<>"返金","照合済",IF(K14="未確認","合意未確認",IF(M14="未確認","実績未確認",IF(T14>0,"未返金",IF(T14<0,"過返金","照合済")))))))))))))) -> 過返金 | V14: =IF(COUNTA(A14:O14)=0,"",IF(NOT(AND(ISTEXT(A14),LEN(A14)=8,EXACT(LEFT(A14,4),"RET-"),ISNUMBER(FIND(MID(A14,5,1)&"x","0x1x2x3x4x5x6x7x8x9x")),ISNUMBER(FIND(MID(A14,6,1)&"x","0x1x2x3x4x5x6x7x8x9x")),ISNUMBER(FIND(MID(A14,7,1)&"x","0x1x2x3x4x5x6x7x8x9x")),ISNUMBER(FIND(MID(A14,8,1)&"x","0x1x2x3x4x5x6x7x8x9x")))),"返品IDはRET-と半角数字4桁",IF(COUNTIFS($A$8:$A$57,A14)>1,"返品IDが重複",IF(NOT(AND(ISTEXT(B14),LEN(B14)=8,EXACT(LEFT(B14,4),"SAL-"),ISNUMBER(FIND(MID(B14,5,1)&"x","0x1x2x3x4x5x6x7x8x9x")),ISNUMBER(FIND(MID(B14,6,1)&"x","0x1x2x3x4x5x6x7x8x9x")),ISNUMBER(FIND(MID(B14,7,1)&"x","0x1x2x3x4x5x6x7x8x9x")),ISNUMBER(FIND(MID(B14,8,1)&"x","0x1x2x3x4x5x6x7x8x9x")))),"元明細IDはSAL-と半角数字4桁",IF(COUNTIFS(元出荷明細!$A$8:$A$57,B14)<>1,"元明細が一意にありません",IF(NOT(IF(ISNUMBER(C14),AND(C14>=43831,C14<=73050,C14=INT(C14)),FALSE())),"受付日は時刻なしで必須",IF(C14<SUMIFS(元出荷明細!$C$8:$C$57,元出荷明細!$A$8:$A$57,B14),"受付日は元出荷日以上",IF(NOT(OR(D14="破損",D14="品違い",D14="数量違い",D14="その他",D14="未確認")),"理由を確認",IF(NOT(OR(E14="有効",E14="取消")),"記録状態を確認",IF(NOT(OR(F14="確認済",F14="未確認")),"受取区分を確認",IF(AND(F14="確認済",NOT(IF(ISNUMBER(G14),AND(G14>=1,G14<=1000000,G14=INT(G14)),FALSE()))),"受取数は1〜100万個整数で必須",IF(AND(F14="未確認",COUNTA(G14)>0),"受取未確認の数量は空欄",IF(NOT(OR(H14="確認済",H14="未確認",H14="要対応")),"検品を確認",IF(AND(H14<>"未確認",F14<>"確認済"),"検品前に受取数量を確認",IF(NOT(OR(I14="未確認",I14="返金",I14="交換",I14="返却",I14="その他")),"方針を確認",IF(NOT(OR(J14="確認済",J14="未確認")),"実物処理を確認",IF(AND(J14="確認済",OR(H14<>"確認済",I14="未確認")),"実物処理済は検品/方針が必要",IF(AND(I14="返金",NOT(AND(OR(K14="確認済",K14="未確認"),OR(M14="確認済",M14="未確認")))),"返金は合意/実績を別確認",IF(AND(I14="未確認",NOT(AND(K14="未確認",M14="未確認"))),"方針未確認の金額区分は未確認",IF(AND(OR(I14="交換",I14="返却",I14="その他"),NOT(AND(K14="対象外",M14="対象外"))),"返金以外は金額区分が対象外",IF(AND(K14="確認済",NOT(IF(ISNUMBER(L14),AND(L14>=0,L14<=1000000000,L14=INT(L14)),FALSE()))),"確認済金額は0〜10億円整数",IF(AND(K14<>"確認済",COUNTA(L14)>0),"未確認/対象外の金額は空欄",IF(AND(M14="確認済",NOT(IF(ISNUMBER(N14),AND(N14>=0,N14<=1000000000,N14=INT(N14)),FALSE()))),"確認済金額は0〜10億円整数",IF(AND(M14<>"確認済",COUNTA(N14)>0),"未確認/対象外の金額は空欄",IF(NOT(IF(ISNUMBER(O14),AND(O14>=43831,O14<=73050,O14=INT(O14)),FALSE())),"記録確認日は時刻なしで必須",IF(OR(C14>O14,O14>返品の確認!$B$3),"受付日≦確認日≦基準日",IF(AND(E14="有効",SUMIFS($G$8:$G$57,$B$8:$B$57,B14,$E$8:$E$57,"有効",$F$8:$F$57,"確認済")>SUMIFS(元出荷明細!$D$8:$D$57,元出荷明細!$A$8:$A$57,B14)),"全有効受取数が元出荷数を超過","確認済み"))))))))))))))))))))))))))) -> 確認済み | W14: =IF(V14="","",IF(V14="確認済み",0,1)) -> 0 | X14: =IF(COUNTA(A14:O14)=0,IF(AND(V14="",W14="",P14="",Q14="",R14="",S14="",T14="",U14=""),0,1),IF(NOT(AND(ISTEXT(V14),V14=IF(COUNTA(A14:O14)=0,"",IF(NOT(AND(ISTEXT(A14),LEN(A14)=8,EXACT(LEFT(A14,4),"RET-"),ISNUMBER(FIND(MID(A14,5,1)&"x","0x1x2x3x4x5x6x7x8x9x")),ISNUMBER(FIND(MID(A14,6,1)&"x","0x1x2x3x4x5x6x7x8x9x")),ISNUMBER(FIND(MID(A14,7,1)&"x","0x1x2x3x4x5x6x7x8x9x")),ISNUMBER(FIND(MID(A14,8,1)&"x","0x1x2x3x4x5x6x7x8x9x")))),"返品IDはRET-と半角数字4桁",IF(COUNTIFS($A$8:$A$57,A14)>1,"返品IDが重複",IF(NOT(AND(ISTEXT(B14),LEN(B14)=8,EXACT(LEFT(B14,4),"SAL-"),ISNUMBER(FIND(MID(B14,5,1)&"x","0x1x2x3x4x5x6x7x8x9x")),ISNUMBER(FIND(MID(B14,6,1)&"x","0x1x2x3x4x5x6x7x8x9x")),ISNUMBER(FIND(MID(B14,7,1)&"x","0x1x2x3x4x5x6x7x8x9x")),ISNUMBER(FIND(MID(B14,8,1)&"x","0x1x2x3x4x5x6x7x8x9x")))),"元明細IDはSAL-と半角数字4桁",IF(COUNTIFS(元出荷明細!$A$8:$A$57,B14)<>1,"元明細が一意にありません",IF(NOT(IF(ISNUMBER(C14),AND(C14>=43831,C14<=73050,C14=INT(C14)),FALSE())),"受付日は時刻なしで必須",IF(C14<SUMIFS(元出荷明細!$C$8:$C$57,元出荷明細!$A$8:$A$57,B14),"受付日は元出荷日以上",IF(NOT(OR(D14="破損",D14="品違い",D14="数量違い",D14="その他",D14="未確認")),"理由を確認",IF(NOT(OR(E14="有効",E14="取消")),"記録状態を確認",IF(NOT(OR(F14="確認済",F14="未確認")),"受取区分を確認",IF(AND(F14="確認済",NOT(IF(ISNUMBER(G14),AND(G14>=1,G14<=1000000,G14=INT(G14)),FALSE()))),"受取数は1〜100万個整数で必須",IF(AND(F14="未確認",COUNTA(G14)>0),"受取未確認の数量は空欄",IF(NOT(OR(H14="確認済",H14="未確認",H14="要対応")),"検品を確認",IF(AND(H14<>"未確認",F14<>"確認済"),"検品前に受取数量を確認",IF(NOT(OR(I14="未確認",I14="返金",I14="交換",I14="返却",I14="その他")),"方針を確認",IF(NOT(OR(J14="確認済",J14="未確認")),"実物処理を確認",IF(AND(J14="確認済",OR(H14<>"確認済",I14="未確認")),"実物処理済は検品/方針が必要",IF(AND(I14="返金",NOT(AND(OR(K14="確認済",K14="未確認"),OR(M14="確認済",M14="未確認")))),"返金は合意/実績を別確認",IF(AND(I14="未確認",NOT(AND(K14="未確認",M14="未確認"))),"方針未確認の金額区分は未確認",IF(AND(OR(I14="交換",I14="返却",I14="その他"),NOT(AND(K14="対象外",M14="対象外"))),"返金以外は金額区分が対象外",IF(AND(K14="確認済",NOT(IF(ISNUMBER(L14),AND(L14>=0,L14<=1000000000,L14=INT(L14)),FALSE()))),"確認済金額は0〜10億円整数",IF(AND(K14<>"確認済",COUNTA(L14)>0),"未確認/対象外の金額は空欄",IF(AND(M14="確認済",NOT(IF(ISNUMBER(N14),AND(N14>=0,N14<=1000000000,N14=INT(N14)),FALSE()))),"確認済金額は0〜10億円整数",IF(AND(M14<>"確認済",COUNTA(N14)>0),"未確認/対象外の金額は空欄",IF(NOT(IF(ISNUMBER(O14),AND(O14>=43831,O14<=73050,O14=INT(O14)),FALSE())),"記録確認日は時刻なしで必須",IF(OR(C14>O14,O14>返品の確認!$B$3),"受付日≦確認日≦基準日",IF(AND(E14="有効",SUMIFS($G$8:$G$57,$B$8:$B$57,B14,$E$8:$E$57,"有効",$F$8:$F$57,"確認済")>SUMIFS(元出荷明細!$D$8:$D$57,元出荷明細!$A$8:$A$57,B14)),"全有効受取数が元出荷数を超過","確認済み"))))))))))))))))))))))))))),ISNUMBER(W14),W14=IF(V14="確認済み",0,1))),1,IF(W14<>0,0,IF(AND(ISNUMBER(P14),P14=SUMIFS(元出荷明細!$D$8:$D$57,元出荷明細!$A$8:$A$57,B14),ISNUMBER(Q14),Q14=SUMIFS($G$8:$G$57,$B$8:$B$57,B14,$E$8:$E$57,"有効",$F$8:$F$57,"確認済"),ISNUMBER(R14),R14=COUNTIFS($B$8:$B$57,B14,$E$8:$E$57,"有効",$F$8:$F$57,"未確認"),IF(R14>0,ISTEXT(S14),ISNUMBER(S14)),S14=IF(R14>0,"判定保留",P14-Q14),IF(AND(E14="有効",I14="返金",K14="確認済",M14="確認済"),ISNUMBER(T14),ISTEXT(T14)),T14=IF(E14="取消","取消",IF(I14="未確認","判定保留",IF(I14<>"返金","対象外",IF(AND(K14="確認済",M14="確認済"),L14-N14,"判定保留")))),ISTEXT(U14),U14=IF(E14="取消","取消",IF(F14="未確認","受取未確認",IF(H14="未確認","検品未確認",IF(H14="要対応","検品要対応",IF(D14="未確認","理由未確認",IF(I14="未確認","方針未確認",IF(J14="未確認","実物処理未確認",IF(I14<>"返金","照合済",IF(K14="未確認","合意未確認",IF(M14="未確認","実績未確認",IF(T14>0,"未返金",IF(T14<0,"過返金","照合済"))))))))))))),0,1)))) -> 0
A15: RET-0008 | B15: SAL-0007 | C15: 46312 | D15: 数量違い | E15: 取消 | F15: 確認済 | G15: 5 | H15: 未確認 | I15: 未確認 | J15: 未確認 | K15: 未確認 | M15: 未確認 | O15: 46326 | P15: =IF(V15="","",IF(W15<>0,NA(),SUMIFS(元出荷明細!$D$8:$D$57,元出荷明細!$A$8:$A$57,B15))) -> 10 | Q15: =IF(V15="","",IF(W15<>0,NA(),SUMIFS($G$8:$G$57,$B$8:$B$57,B15,$E$8:$E$57,"有効",$F$8:$F$57,"確認済"))) -> 0 | R15: =IF(V15="","",IF(W15<>0,NA(),COUNTIFS($B$8:$B$57,B15,$E$8:$E$57,"有効",$F$8:$F$57,"未確認"))) -> 0 | S15: =IF(V15="","",IF(W15<>0,NA(),IF(R15>0,"判定保留",P15-Q15))) -> 10 | T15: =IF(V15="","",IF(W15<>0,NA(),IF(E15="取消","取消",IF(I15="未確認","判定保留",IF(I15<>"返金","対象外",IF(AND(K15="確認済",M15="確認済"),L15-N15,"判定保留")))))) -> 取消 | U15: =IF(V15="","",IF(W15<>0,NA(),IF(E15="取消","取消",IF(F15="未確認","受取未確認",IF(H15="未確認","検品未確認",IF(H15="要対応","検品要対応",IF(D15="未確認","理由未確認",IF(I15="未確認","方針未確認",IF(J15="未確認","実物処理未確認",IF(I15<>"返金","照合済",IF(K15="未確認","合意未確認",IF(M15="未確認","実績未確認",IF(T15>0,"未返金",IF(T15<0,"過返金","照合済")))))))))))))) -> 取消 | V15: =IF(COUNTA(A15:O15)=0,"",IF(NOT(AND(ISTEXT(A15),LEN(A15)=8,EXACT(LEFT(A15,4),"RET-"),ISNUMBER(FIND(MID(A15,5,1)&"x","0x1x2x3x4x5x6x7x8x9x")),ISNUMBER(FIND(MID(A15,6,1)&"x","0x1x2x3x4x5x6x7x8x9x")),ISNUMBER(FIND(MID(A15,7,1)&"x","0x1x2x3x4x5x6x7x8x9x")),ISNUMBER(FIND(MID(A15,8,1)&"x","0x1x2x3x4x5x6x7x8x9x")))),"返品IDはRET-と半角数字4桁",IF(COUNTIFS($A$8:$A$57,A15)>1,"返品IDが重複",IF(NOT(AND(ISTEXT(B15),LEN(B15)=8,EXACT(LEFT(B15,4),"SAL-"),ISNUMBER(FIND(MID(B15,5,1)&"x","0x1x2x3x4x5x6x7x8x9x")),ISNUMBER(FIND(MID(B15,6,1)&"x","0x1x2x3x4x5x6x7x8x9x")),ISNUMBER(FIND(MID(B15,7,1)&"x","0x1x2x3x4x5x6x7x8x9x")),ISNUMBER(FIND(MID(B15,8,1)&"x","0x1x2x3x4x5x6x7x8x9x")))),"元明細IDはSAL-と半角数字4桁",IF(COUNTIFS(元出荷明細!$A$8:$A$57,B15)<>1,"元明細が一意にありません",IF(NOT(IF(ISNUMBER(C15),AND(C15>=43831,C15<=73050,C15=INT(C15)),FALSE())),"受付日は時刻なしで必須",IF(C15<SUMIFS(元出荷明細!$C$8:$C$57,元出荷明細!$A$8:$A$57,B15),"受付日は元出荷日以上",IF(NOT(OR(D15="破損",D15="品違い",D15="数量違い",D15="その他",D15="未確認")),"理由を確認",IF(NOT(OR(E15="有効",E15="取消")),"記録状態を確認",IF(NOT(OR(F15="確認済",F15="未確認")),"受取区分を確認",IF(AND(F15="確認済",NOT(IF(ISNUMBER(G15),AND(G15>=1,G15<=1000000,G15=INT(G15)),FALSE()))),"受取数は1〜100万個整数で必須",IF(AND(F15="未確認",COUNTA(G15)>0),"受取未確認の数量は空欄",IF(NOT(OR(H15="確認済",H15="未確認",H15="要対応")),"検品を確認",IF(AND(H15<>"未確認",F15<>"確認済"),"検品前に受取数量を確認",IF(NOT(OR(I15="未確認",I15="返金",I15="交換",I15="返却",I15="その他")),"方針を確認",IF(NOT(OR(J15="確認済",J15="未確認")),"実物処理を確認",IF(AND(J15="確認済",OR(H15<>"確認済",I15="未確認")),"実物処理済は検品/方針が必要",IF(AND(I15="返金",NOT(AND(OR(K15="確認済",K15="未確認"),OR(M15="確認済",M15="未確認")))),"返金は合意/実績を別確認",IF(AND(I15="未確認",NOT(AND(K15="未確認",M15="未確認"))),"方針未確認の金額区分は未確認",IF(AND(OR(I15="交換",I15="返却",I15="その他"),NOT(AND(K15="対象外",M15="対象外"))),"返金以外は金額区分が対象外",IF(AND(K15="確認済",NOT(IF(ISNUMBER(L15),AND(L15>=0,L15<=1000000000,L15=INT(L15)),FALSE()))),"確認済金額は0〜10億円整数",IF(AND(K15<>"確認済",COUNTA(L15)>0),"未確認/対象外の金額は空欄",IF(AND(M15="確認済",NOT(IF(ISNUMBER(N15),AND(N15>=0,N15<=1000000000,N15=INT(N15)),FALSE()))),"確認済金額は0〜10億円整数",IF(AND(M15<>"確認済",COUNTA(N15)>0),"未確認/対象外の金額は空欄",IF(NOT(IF(ISNUMBER(O15),AND(O15>=43831,O15<=73050,O15=INT(O15)),FALSE())),"記録確認日は時刻なしで必須",IF(OR(C15>O15,O15>返品の確認!$B$3),"受付日≦確認日≦基準日",IF(AND(E15="有効",SUMIFS($G$8:$G$57,$B$8:$B$57,B15,$E$8:$E$57,"有効",$F$8:$F$57,"確認済")>SUMIFS(元出荷明細!$D$8:$D$57,元出荷明細!$A$8:$A$57,B15)),"全有効受取数が元出荷数を超過","確認済み"))))))))))))))))))))))))))) -> 確認済み | W15: =IF(V15="","",IF(V15="確認済み",0,1)) -> 0 | X15: =IF(COUNTA(A15:O15)=0,IF(AND(V15="",W15="",P15="",Q15="",R15="",S15="",T15="",U15=""),0,1),IF(NOT(AND(ISTEXT(V15),V15=IF(COUNTA(A15:O15)=0,"",IF(NOT(AND(ISTEXT(A15),LEN(A15)=8,EXACT(LEFT(A15,4),"RET-"),ISNUMBER(FIND(MID(A15,5,1)&"x","0x1x2x3x4x5x6x7x8x9x")),ISNUMBER(FIND(MID(A15,6,1)&"x","0x1x2x3x4x5x6x7x8x9x")),ISNUMBER(FIND(MID(A15,7,1)&"x","0x1x2x3x4x5x6x7x8x9x")),ISNUMBER(FIND(MID(A15,8,1)&"x","0x1x2x3x4x5x6x7x8x9x")))),"返品IDはRET-と半角数字4桁",IF(COUNTIFS($A$8:$A$57,A15)>1,"返品IDが重複",IF(NOT(AND(ISTEXT(B15),LEN(B15)=8,EXACT(LEFT(B15,4),"SAL-"),ISNUMBER(FIND(MID(B15,5,1)&"x","0x1x2x3x4x5x6x7x8x9x")),ISNUMBER(FIND(MID(B15,6,1)&"x","0x1x2x3x4x5x6x7x8x9x")),ISNUMBER(FIND(MID(B15,7,1)&"x","0x1x2x3x4x5x6x7x8x9x")),ISNUMBER(FIND(MID(B15,8,1)&"x","0x1x2x3x4x5x6x7x8x9x")))),"元明細IDはSAL-と半角数字4桁",IF(COUNTIFS(元出荷明細!$A$8:$A$57,B15)<>1,"元明細が一意にありません",IF(NOT(IF(ISNUMBER(C15),AND(C15>=43831,C15<=73050,C15=INT(C15)),FALSE())),"受付日は時刻なしで必須",IF(C15<SUMIFS(元出荷明細!$C$8:$C$57,元出荷明細!$A$8:$A$57,B15),"受付日は元出荷日以上",IF(NOT(OR(D15="破損",D15="品違い",D15="数量違い",D15="その他",D15="未確認")),"理由を確認",IF(NOT(OR(E15="有効",E15="取消")),"記録状態を確認",IF(NOT(OR(F15="確認済",F15="未確認")),"受取区分を確認",IF(AND(F15="確認済",NOT(IF(ISNUMBER(G15),AND(G15>=1,G15<=1000000,G15=INT(G15)),FALSE()))),"受取数は1〜100万個整数で必須",IF(AND(F15="未確認",COUNTA(G15)>0),"受取未確認の数量は空欄",IF(NOT(OR(H15="確認済",H15="未確認",H15="要対応")),"検品を確認",IF(AND(H15<>"未確認",F15<>"確認済"),"検品前に受取数量を確認",IF(NOT(OR(I15="未確認",I15="返金",I15="交換",I15="返却",I15="その他")),"方針を確認",IF(NOT(OR(J15="確認済",J15="未確認")),"実物処理を確認",IF(AND(J15="確認済",OR(H15<>"確認済",I15="未確認")),"実物処理済は検品/方針が必要",IF(AND(I15="返金",NOT(AND(OR(K15="確認済",K15="未確認"),OR(M15="確認済",M15="未確認")))),"返金は合意/実績を別確認",IF(AND(I15="未確認",NOT(AND(K15="未確認",M15="未確認"))),"方針未確認の金額区分は未確認",IF(AND(OR(I15="交換",I15="返却",I15="その他"),NOT(AND(K15="対象外",M15="対象外"))),"返金以外は金額区分が対象外",IF(AND(K15="確認済",NOT(IF(ISNUMBER(L15),AND(L15>=0,L15<=1000000000,L15=INT(L15)),FALSE()))),"確認済金額は0〜10億円整数",IF(AND(K15<>"確認済",COUNTA(L15)>0),"未確認/対象外の金額は空欄",IF(AND(M15="確認済",NOT(IF(ISNUMBER(N15),AND(N15>=0,N15<=1000000000,N15=INT(N15)),FALSE()))),"確認済金額は0〜10億円整数",IF(AND(M15<>"確認済",COUNTA(N15)>0),"未確認/対象外の金額は空欄",IF(NOT(IF(ISNUMBER(O15),AND(O15>=43831,O15<=73050,O15=INT(O15)),FALSE())),"記録確認日は時刻なしで必須",IF(OR(C15>O15,O15>返品の確認!$B$3),"受付日≦確認日≦基準日",IF(AND(E15="有効",SUMIFS($G$8:$G$57,$B$8:$B$57,B15,$E$8:$E$57,"有効",$F$8:$F$57,"確認済")>SUMIFS(元出荷明細!$D$8:$D$57,元出荷明細!$A$8:$A$57,B15)),"全有効受取数が元出荷数を超過","確認済み"))))))))))))))))))))))))))),ISNUMBER(W15),W15=IF(V15="確認済み",0,1))),1,IF(W15<>0,0,IF(AND(ISNUMBER(P15),P15=SUMIFS(元出荷明細!$D$8:$D$57,元出荷明細!$A$8:$A$57,B15),ISNUMBER(Q15),Q15=SUMIFS($G$8:$G$57,$B$8:$B$57,B15,$E$8:$E$57,"有効",$F$8:$F$57,"確認済"),ISNUMBER(R15),R15=COUNTIFS($B$8:$B$57,B15,$E$8:$E$57,"有効",$F$8:$F$57,"未確認"),IF(R15>0,ISTEXT(S15),ISNUMBER(S15)),S15=IF(R15>0,"判定保留",P15-Q15),IF(AND(E15="有効",I15="返金",K15="確認済",M15="確認済"),ISNUMBER(T15),ISTEXT(T15)),T15=IF(E15="取消","取消",IF(I15="未確認","判定保留",IF(I15<>"返金","対象外",IF(AND(K15="確認済",M15="確認済"),L15-N15,"判定保留")))),ISTEXT(U15),U15=IF(E15="取消","取消",IF(F15="未確認","受取未確認",IF(H15="未確認","検品未確認",IF(H15="要対応","検品要対応",IF(D15="未確認","理由未確認",IF(I15="未確認","方針未確認",IF(J15="未確認","実物処理未確認",IF(I15<>"返金","照合済",IF(K15="未確認","合意未確認",IF(M15="未確認","実績未確認",IF(T15>0,"未返金",IF(T15<0,"過返金","照合済"))))))))))))),0,1)))) -> 0
A16: RET-0009 | B16: SAL-0008 | C16: 46313 | D16: その他 | E16: 有効 | F16: 確認済 | G16: 4 | H16: 確認済 | I16: 返却 | J16: 確認済 | K16: 対象外 | M16: 対象外 | O16: 46326 | P16: =IF(V16="","",IF(W16<>0,NA(),SUMIFS(元出荷明細!$D$8:$D$57,元出荷明細!$A$8:$A$57,B16))) -> 10 | Q16: =IF(V16="","",IF(W16<>0,NA(),SUMIFS($G$8:$G$57,$B$8:$B$57,B16,$E$8:$E$57,"有効",$F$8:$F$57,"確認済"))) -> 4 | R16: =IF(V16="","",IF(W16<>0,NA(),COUNTIFS($B$8:$B$57,B16,$E$8:$E$57,"有効",$F$8:$F$57,"未確認"))) -> 0 | S16: =IF(V16="","",IF(W16<>0,NA(),IF(R16>0,"判定保留",P16-Q16))) -> 6 | T16: =IF(V16="","",IF(W16<>0,NA(),IF(E16="取消","取消",IF(I16="未確認","判定保留",IF(I16<>"返金","対象外",IF(AND(K16="確認済",M16="確認済"),L16-N16,"判定保留")))))) -> 対象外 | U16: =IF(V16="","",IF(W16<>0,NA(),IF(E16="取消","取消",IF(F16="未確認","受取未確認",IF(H16="未確認","検品未確認",IF(H16="要対応","検品要対応",IF(D16="未確認","理由未確認",IF(I16="未確認","方針未確認",IF(J16="未確認","実物処理未確認",IF(I16<>"返金","照合済",IF(K16="未確認","合意未確認",IF(M16="未確認","実績未確認",IF(T16>0,"未返金",IF(T16<0,"過返金","照合済")))))))))))))) -> 照合済 | V16: =IF(COUNTA(A16:O16)=0,"",IF(NOT(AND(ISTEXT(A16),LEN(A16)=8,EXACT(LEFT(A16,4),"RET-"),ISNUMBER(FIND(MID(A16,5,1)&"x","0x1x2x3x4x5x6x7x8x9x")),ISNUMBER(FIND(MID(A16,6,1)&"x","0x1x2x3x4x5x6x7x8x9x")),ISNUMBER(FIND(MID(A16,7,1)&"x","0x1x2x3x4x5x6x7x8x9x")),ISNUMBER(FIND(MID(A16,8,1)&"x","0x1x2x3x4x5x6x7x8x9x")))),"返品IDはRET-と半角数字4桁",IF(COUNTIFS($A$8:$A$57,A16)>1,"返品IDが重複",IF(NOT(AND(ISTEXT(B16),LEN(B16)=8,EXACT(LEFT(B16,4),"SAL-"),ISNUMBER(FIND(MID(B16,5,1)&"x","0x1x2x3x4x5x6x7x8x9x")),ISNUMBER(FIND(MID(B16,6,1)&"x","0x1x2x3x4x5x6x7x8x9x")),ISNUMBER(FIND(MID(B16,7,1)&"x","0x1x2x3x4x5x6x7x8x9x")),ISNUMBER(FIND(MID(B16,8,1)&"x","0x1x2x3x4x5x6x7x8x9x")))),"元明細IDはSAL-と半角数字4桁",IF(COUNTIFS(元出荷明細!$A$8:$A$57,B16)<>1,"元明細が一意にありません",IF(NOT(IF(ISNUMBER(C16),AND(C16>=43831,C16<=73050,C16=INT(C16)),FALSE())),"受付日は時刻なしで必須",IF(C16<SUMIFS(元出荷明細!$C$8:$C$57,元出荷明細!$A$8:$A$57,B16),"受付日は元出荷日以上",IF(NOT(OR(D16="破損",D16="品違い",D16="数量違い",D16="その他",D16="未確認")),"理由を確認",IF(NOT(OR(E16="有効",E16="取消")),"記録状態を確認",IF(NOT(OR(F16="確認済",F16="未確認")),"受取区分を確認",IF(AND(F16="確認済",NOT(IF(ISNUMBER(G16),AND(G16>=1,G16<=1000000,G16=INT(G16)),FALSE()))),"受取数は1〜100万個整数で必須",IF(AND(F16="未確認",COUNTA(G16)>0),"受取未確認の数量は空欄",IF(NOT(OR(H16="確認済",H16="未確認",H16="要対応")),"検品を確認",IF(AND(H16<>"未確認",F16<>"確認済"),"検品前に受取数量を確認",IF(NOT(OR(I16="未確認",I16="返金",I16="交換",I16="返却",I16="その他")),"方針を確認",IF(NOT(OR(J16="確認済",J16="未確認")),"実物処理を確認",IF(AND(J16="確認済",OR(H16<>"確認済",I16="未確認")),"実物処理済は検品/方針が必要",IF(AND(I16="返金",NOT(AND(OR(K16="確認済",K16="未確認"),OR(M16="確認済",M16="未確認")))),"返金は合意/実績を別確認",IF(AND(I16="未確認",NOT(AND(K16="未確認",M16="未確認"))),"方針未確認の金額区分は未確認",IF(AND(OR(I16="交換",I16="返却",I16="その他"),NOT(AND(K16="対象外",M16="対象外"))),"返金以外は金額区分が対象外",IF(AND(K16="確認済",NOT(IF(ISNUMBER(L16),AND(L16>=0,L16<=1000000000,L16=INT(L16)),FALSE()))),"確認済金額は0〜10億円整数",IF(AND(K16<>"確認済",COUNTA(L16)>0),"未確認/対象外の金額は空欄",IF(AND(M16="確認済",NOT(IF(ISNUMBER(N16),AND(N16>=0,N16<=1000000000,N16=INT(N16)),FALSE()))),"確認済金額は0〜10億円整数",IF(AND(M16<>"確認済",COUNTA(N16)>0),"未確認/対象外の金額は空欄",IF(NOT(IF(ISNUMBER(O16),AND(O16>=43831,O16<=73050,O16=INT(O16)),FALSE())),"記録確認日は時刻なしで必須",IF(OR(C16>O16,O16>返品の確認!$B$3),"受付日≦確認日≦基準日",IF(AND(E16="有効",SUMIFS($G$8:$G$57,$B$8:$B$57,B16,$E$8:$E$57,"有効",$F$8:$F$57,"確認済")>SUMIFS(元出荷明細!$D$8:$D$57,元出荷明細!$A$8:$A$57,B16)),"全有効受取数が元出荷数を超過","確認済み"))))))))))))))))))))))))))) -> 確認済み | W16: =IF(V16="","",IF(V16="確認済み",0,1)) -> 0 | X16: =IF(COUNTA(A16:O16)=0,IF(AND(V16="",W16="",P16="",Q16="",R16="",S16="",T16="",U16=""),0,1),IF(NOT(AND(ISTEXT(V16),V16=IF(COUNTA(A16:O16)=0,"",IF(NOT(AND(ISTEXT(A16),LEN(A16)=8,EXACT(LEFT(A16,4),"RET-"),ISNUMBER(FIND(MID(A16,5,1)&"x","0x1x2x3x4x5x6x7x8x9x")),ISNUMBER(FIND(MID(A16,6,1)&"x","0x1x2x3x4x5x6x7x8x9x")),ISNUMBER(FIND(MID(A16,7,1)&"x","0x1x2x3x4x5x6x7x8x9x")),ISNUMBER(FIND(MID(A16,8,1)&"x","0x1x2x3x4x5x6x7x8x9x")))),"返品IDはRET-と半角数字4桁",IF(COUNTIFS($A$8:$A$57,A16)>1,"返品IDが重複",IF(NOT(AND(ISTEXT(B16),LEN(B16)=8,EXACT(LEFT(B16,4),"SAL-"),ISNUMBER(FIND(MID(B16,5,1)&"x","0x1x2x3x4x5x6x7x8x9x")),ISNUMBER(FIND(MID(B16,6,1)&"x","0x1x2x3x4x5x6x7x8x9x")),ISNUMBER(FIND(MID(B16,7,1)&"x","0x1x2x3x4x5x6x7x8x9x")),ISNUMBER(FIND(MID(B16,8,1)&"x","0x1x2x3x4x5x6x7x8x9x")))),"元明細IDはSAL-と半角数字4桁",IF(COUNTIFS(元出荷明細!$A$8:$A$57,B16)<>1,"元明細が一意にありません",IF(NOT(IF(ISNUMBER(C16),AND(C16>=43831,C16<=73050,C16=INT(C16)),FALSE())),"受付日は時刻なしで必須",IF(C16<SUMIFS(元出荷明細!$C$8:$C$57,元出荷明細!$A$8:$A$57,B16),"受付日は元出荷日以上",IF(NOT(OR(D16="破損",D16="品違い",D16="数量違い",D16="その他",D16="未確認")),"理由を確認",IF(NOT(OR(E16="有効",E16="取消")),"記録状態を確認",IF(NOT(OR(F16="確認済",F16="未確認")),"受取区分を確認",IF(AND(F16="確認済",NOT(IF(ISNUMBER(G16),AND(G16>=1,G16<=1000000,G16=INT(G16)),FALSE()))),"受取数は1〜100万個整数で必須",IF(AND(F16="未確認",COUNTA(G16)>0),"受取未確認の数量は空欄",IF(NOT(OR(H16="確認済",H16="未確認",H16="要対応")),"検品を確認",IF(AND(H16<>"未確認",F16<>"確認済"),"検品前に受取数量を確認",IF(NOT(OR(I16="未確認",I16="返金",I16="交換",I16="返却",I16="その他")),"方針を確認",IF(NOT(OR(J16="確認済",J16="未確認")),"実物処理を確認",IF(AND(J16="確認済",OR(H16<>"確認済",I16="未確認")),"実物処理済は検品/方針が必要",IF(AND(I16="返金",NOT(AND(OR(K16="確認済",K16="未確認"),OR(M16="確認済",M16="未確認")))),"返金は合意/実績を別確認",IF(AND(I16="未確認",NOT(AND(K16="未確認",M16="未確認"))),"方針未確認の金額区分は未確認",IF(AND(OR(I16="交換",I16="返却",I16="その他"),NOT(AND(K16="対象外",M16="対象外"))),"返金以外は金額区分が対象外",IF(AND(K16="確認済",NOT(IF(ISNUMBER(L16),AND(L16>=0,L16<=1000000000,L16=INT(L16)),FALSE()))),"確認済金額は0〜10億円整数",IF(AND(K16<>"確認済",COUNTA(L16)>0),"未確認/対象外の金額は空欄",IF(AND(M16="確認済",NOT(IF(ISNUMBER(N16),AND(N16>=0,N16<=1000000000,N16=INT(N16)),FALSE()))),"確認済金額は0〜10億円整数",IF(AND(M16<>"確認済",COUNTA(N16)>0),"未確認/対象外の金額は空欄",IF(NOT(IF(ISNUMBER(O16),AND(O16>=43831,O16<=73050,O16=INT(O16)),FALSE())),"記録確認日は時刻なしで必須",IF(OR(C16>O16,O16>返品の確認!$B$3),"受付日≦確認日≦基準日",IF(AND(E16="有効",SUMIFS($G$8:$G$57,$B$8:$B$57,B16,$E$8:$E$57,"有効",$F$8:$F$57,"確認済")>SUMIFS(元出荷明細!$D$8:$D$57,元出荷明細!$A$8:$A$57,B16)),"全有効受取数が元出荷数を超過","確認済み"))))))))))))))))))))))))))),ISNUMBER(W16),W16=IF(V16="確認済み",0,1))),1,IF(W16<>0,0,IF(AND(ISNUMBER(P16),P16=SUMIFS(元出荷明細!$D$8:$D$57,元出荷明細!$A$8:$A$57,B16),ISNUMBER(Q16),Q16=SUMIFS($G$8:$G$57,$B$8:$B$57,B16,$E$8:$E$57,"有効",$F$8:$F$57,"確認済"),ISNUMBER(R16),R16=COUNTIFS($B$8:$B$57,B16,$E$8:$E$57,"有効",$F$8:$F$57,"未確認"),IF(R16>0,ISTEXT(S16),ISNUMBER(S16)),S16=IF(R16>0,"判定保留",P16-Q16),IF(AND(E16="有効",I16="返金",K16="確認済",M16="確認済"),ISNUMBER(T16),ISTEXT(T16)),T16=IF(E16="取消","取消",IF(I16="未確認","判定保留",IF(I16<>"返金","対象外",IF(AND(K16="確認済",M16="確認済"),L16-N16,"判定保留")))),ISTEXT(U16),U16=IF(E16="取消","取消",IF(F16="未確認","受取未確認",IF(H16="未確認","検品未確認",IF(H16="要対応","検品要対応",IF(D16="未確認","理由未確認",IF(I16="未確認","方針未確認",IF(J16="未確認","実物処理未確認",IF(I16<>"返金","照合済",IF(K16="未確認","合意未確認",IF(M16="未確認","実績未確認",IF(T16>0,"未返金",IF(T16<0,"過返金","照合済"))))))))))))),0,1)))) -> 0
A17: RET-0010 | B17: SAL-0009 | C17: 46314 | D17: 数量違い | E17: 有効 | F17: 確認済 | G17: 1 | H17: 確認済 | I17: 返金 | J17: 確認済 | K17: 未確認 | M17: 未確認 | O17: 46326 | P17: =IF(V17="","",IF(W17<>0,NA(),SUMIFS(元出荷明細!$D$8:$D$57,元出荷明細!$A$8:$A$57,B17))) -> 10 | Q17: =IF(V17="","",IF(W17<>0,NA(),SUMIFS($G$8:$G$57,$B$8:$B$57,B17,$E$8:$E$57,"有効",$F$8:$F$57,"確認済"))) -> 1 | R17: =IF(V17="","",IF(W17<>0,NA(),COUNTIFS($B$8:$B$57,B17,$E$8:$E$57,"有効",$F$8:$F$57,"未確認"))) -> 0 | S17: =IF(V17="","",IF(W17<>0,NA(),IF(R17>0,"判定保留",P17-Q17))) -> 9 | T17: =IF(V17="","",IF(W17<>0,NA(),IF(E17="取消","取消",IF(I17="未確認","判定保留",IF(I17<>"返金","対象外",IF(AND(K17="確認済",M17="確認済"),L17-N17,"判定保留")))))) -> 判定保留 | U17: =IF(V17="","",IF(W17<>0,NA(),IF(E17="取消","取消",IF(F17="未確認","受取未確認",IF(H17="未確認","検品未確認",IF(H17="要対応","検品要対応",IF(D17="未確認","理由未確認",IF(I17="未確認","方針未確認",IF(J17="未確認","実物処理未確認",IF(I17<>"返金","照合済",IF(K17="未確認","合意未確認",IF(M17="未確認","実績未確認",IF(T17>0,"未返金",IF(T17<0,"過返金","照合済")))))))))))))) -> 合意未確認 | V17: =IF(COUNTA(A17:O17)=0,"",IF(NOT(AND(ISTEXT(A17),LEN(A17)=8,EXACT(LEFT(A17,4),"RET-"),ISNUMBER(FIND(MID(A17,5,1)&"x","0x1x2x3x4x5x6x7x8x9x")),ISNUMBER(FIND(MID(A17,6,1)&"x","0x1x2x3x4x5x6x7x8x9x")),ISNUMBER(FIND(MID(A17,7,1)&"x","0x1x2x3x4x5x6x7x8x9x")),ISNUMBER(FIND(MID(A17,8,1)&"x","0x1x2x3x4x5x6x7x8x9x")))),"返品IDはRET-と半角数字4桁",IF(COUNTIFS($A$8:$A$57,A17)>1,"返品IDが重複",IF(NOT(AND(ISTEXT(B17),LEN(B17)=8,EXACT(LEFT(B17,4),"SAL-"),ISNUMBER(FIND(MID(B17,5,1)&"x","0x1x2x3x4x5x6x7x8x9x")),ISNUMBER(FIND(MID(B17,6,1)&"x","0x1x2x3x4x5x6x7x8x9x")),ISNUMBER(FIND(MID(B17,7,1)&"x","0x1x2x3x4x5x6x7x8x9x")),ISNUMBER(FIND(MID(B17,8,1)&"x","0x1x2x3x4x5x6x7x8x9x")))),"元明細IDはSAL-と半角数字4桁",IF(COUNTIFS(元出荷明細!$A$8:$A$57,B17)<>1,"元明細が一意にありません",IF(NOT(IF(ISNUMBER(C17),AND(C17>=43831,C17<=73050,C17=INT(C17)),FALSE())),"受付日は時刻なしで必須",IF(C17<SUMIFS(元出荷明細!$C$8:$C$57,元出荷明細!$A$8:$A$57,B17),"受付日は元出荷日以上",IF(NOT(OR(D17="破損",D17="品違い",D17="数量違い",D17="その他",D17="未確認")),"理由を確認",IF(NOT(OR(E17="有効",E17="取消")),"記録状態を確認",IF(NOT(OR(F17="確認済",F17="未確認")),"受取区分を確認",IF(AND(F17="確認済",NOT(IF(ISNUMBER(G17),AND(G17>=1,G17<=1000000,G17=INT(G17)),FALSE()))),"受取数は1〜100万個整数で必須",IF(AND(F17="未確認",COUNTA(G17)>0),"受取未確認の数量は空欄",IF(NOT(OR(H17="確認済",H17="未確認",H17="要対応")),"検品を確認",IF(AND(H17<>"未確認",F17<>"確認済"),"検品前に受取数量を確認",IF(NOT(OR(I17="未確認",I17="返金",I17="交換",I17="返却",I17="その他")),"方針を確認",IF(NOT(OR(J17="確認済",J17="未確認")),"実物処理を確認",IF(AND(J17="確認済",OR(H17<>"確認済",I17="未確認")),"実物処理済は検品/方針が必要",IF(AND(I17="返金",NOT(AND(OR(K17="確認済",K17="未確認"),OR(M17="確認済",M17="未確認")))),"返金は合意/実績を別確認",IF(AND(I17="未確認",NOT(AND(K17="未確認",M17="未確認"))),"方針未確認の金額区分は未確認",IF(AND(OR(I17="交換",I17="返却",I17="その他"),NOT(AND(K17="対象外",M17="対象外"))),"返金以外は金額区分が対象外",IF(AND(K17="確認済",NOT(IF(ISNUMBER(L17),AND(L17>=0,L17<=1000000000,L17=INT(L17)),FALSE()))),"確認済金額は0〜10億円整数",IF(AND(K17<>"確認済",COUNTA(L17)>0),"未確認/対象外の金額は空欄",IF(AND(M17="確認済",NOT(IF(ISNUMBER(N17),AND(N17>=0,N17<=1000000000,N17=INT(N17)),FALSE()))),"確認済金額は0〜10億円整数",IF(AND(M17<>"確認済",COUNTA(N17)>0),"未確認/対象外の金額は空欄",IF(NOT(IF(ISNUMBER(O17),AND(O17>=43831,O17<=73050,O17=INT(O17)),FALSE())),"記録確認日は時刻なしで必須",IF(OR(C17>O17,O17>返品の確認!$B$3),"受付日≦確認日≦基準日",IF(AND(E17="有効",SUMIFS($G$8:$G$57,$B$8:$B$57,B17,$E$8:$E$57,"有効",$F$8:$F$57,"確認済")>SUMIFS(元出荷明細!$D$8:$D$57,元出荷明細!$A$8:$A$57,B17)),"全有効受取数が元出荷数を超過","確認済み"))))))))))))))))))))))))))) -> 確認済み | W17: =IF(V17="","",IF(V17="確認済み",0,1)) -> 0 | X17: =IF(COUNTA(A17:O17)=0,IF(AND(V17="",W17="",P17="",Q17="",R17="",S17="",T17="",U17=""),0,1),IF(NOT(AND(ISTEXT(V17),V17=IF(COUNTA(A17:O17)=0,"",IF(NOT(AND(ISTEXT(A17),LEN(A17)=8,EXACT(LEFT(A17,4),"RET-"),ISNUMBER(FIND(MID(A17,5,1)&"x","0x1x2x3x4x5x6x7x8x9x")),ISNUMBER(FIND(MID(A17,6,1)&"x","0x1x2x3x4x5x6x7x8x9x")),ISNUMBER(FIND(MID(A17,7,1)&"x","0x1x2x3x4x5x6x7x8x9x")),ISNUMBER(FIND(MID(A17,8,1)&"x","0x1x2x3x4x5x6x7x8x9x")))),"返品IDはRET-と半角数字4桁",IF(COUNTIFS($A$8:$A$57,A17)>1,"返品IDが重複",IF(NOT(AND(ISTEXT(B17),LEN(B17)=8,EXACT(LEFT(B17,4),"SAL-"),ISNUMBER(FIND(MID(B17,5,1)&"x","0x1x2x3x4x5x6x7x8x9x")),ISNUMBER(FIND(MID(B17,6,1)&"x","0x1x2x3x4x5x6x7x8x9x")),ISNUMBER(FIND(MID(B17,7,1)&"x","0x1x2x3x4x5x6x7x8x9x")),ISNUMBER(FIND(MID(B17,8,1)&"x","0x1x2x3x4x5x6x7x8x9x")))),"元明細IDはSAL-と半角数字4桁",IF(COUNTIFS(元出荷明細!$A$8:$A$57,B17)<>1,"元明細が一意にありません",IF(NOT(IF(ISNUMBER(C17),AND(C17>=43831,C17<=73050,C17=INT(C17)),FALSE())),"受付日は時刻なしで必須",IF(C17<SUMIFS(元出荷明細!$C$8:$C$57,元出荷明細!$A$8:$A$57,B17),"受付日は元出荷日以上",IF(NOT(OR(D17="破損",D17="品違い",D17="数量違い",D17="その他",D17="未確認")),"理由を確認",IF(NOT(OR(E17="有効",E17="取消")),"記録状態を確認",IF(NOT(OR(F17="確認済",F17="未確認")),"受取区分を確認",IF(AND(F17="確認済",NOT(IF(ISNUMBER(G17),AND(G17>=1,G17<=1000000,G17=INT(G17)),FALSE()))),"受取数は1〜100万個整数で必須",IF(AND(F17="未確認",COUNTA(G17)>0),"受取未確認の数量は空欄",IF(NOT(OR(H17="確認済",H17="未確認",H17="要対応")),"検品を確認",IF(AND(H17<>"未確認",F17<>"確認済"),"検品前に受取数量を確認",IF(NOT(OR(I17="未確認",I17="返金",I17="交換",I17="返却",I17="その他")),"方針を確認",IF(NOT(OR(J17="確認済",J17="未確認")),"実物処理を確認",IF(AND(J17="確認済",OR(H17<>"確認済",I17="未確認")),"実物処理済は検品/方針が必要",IF(AND(I17="返金",NOT(AND(OR(K17="確認済",K17="未確認"),OR(M17="確認済",M17="未確認")))),"返金は合意/実績を別確認",IF(AND(I17="未確認",NOT(AND(K17="未確認",M17="未確認"))),"方針未確認の金額区分は未確認",IF(AND(OR(I17="交換",I17="返却",I17="その他"),NOT(AND(K17="対象外",M17="対象外"))),"返金以外は金額区分が対象外",IF(AND(K17="確認済",NOT(IF(ISNUMBER(L17),AND(L17>=0,L17<=1000000000,L17=INT(L17)),FALSE()))),"確認済金額は0〜10億円整数",IF(AND(K17<>"確認済",COUNTA(L17)>0),"未確認/対象外の金額は空欄",IF(AND(M17="確認済",NOT(IF(ISNUMBER(N17),AND(N17>=0,N17<=1000000000,N17=INT(N17)),FALSE()))),"確認済金額は0〜10億円整数",IF(AND(M17<>"確認済",COUNTA(N17)>0),"未確認/対象外の金額は空欄",IF(NOT(IF(ISNUMBER(O17),AND(O17>=43831,O17<=73050,O17=INT(O17)),FALSE())),"記録確認日は時刻なしで必須",IF(OR(C17>O17,O17>返品の確認!$B$3),"受付日≦確認日≦基準日",IF(AND(E17="有効",SUMIFS($G$8:$G$57,$B$8:$B$57,B17,$E$8:$E$57,"有効",$F$8:$F$57,"確認済")>SUMIFS(元出荷明細!$D$8:$D$57,元出荷明細!$A$8:$A$57,B17)),"全有効受取数が元出荷数を超過","確認済み"))))))))))))))))))))))))))),ISNUMBER(W17),W17=IF(V17="確認済み",0,1))),1,IF(W17<>0,0,IF(AND(ISNUMBER(P17),P17=SUMIFS(元出荷明細!$D$8:$D$57,元出荷明細!$A$8:$A$57,B17),ISNUMBER(Q17),Q17=SUMIFS($G$8:$G$57,$B$8:$B$57,B17,$E$8:$E$57,"有効",$F$8:$F$57,"確認済"),ISNUMBER(R17),R17=COUNTIFS($B$8:$B$57,B17,$E$8:$E$57,"有効",$F$8:$F$57,"未確認"),IF(R17>0,ISTEXT(S17),ISNUMBER(S17)),S17=IF(R17>0,"判定保留",P17-Q17),IF(AND(E17="有効",I17="返金",K17="確認済",M17="確認済"),ISNUMBER(T17),ISTEXT(T17)),T17=IF(E17="取消","取消",IF(I17="未確認","判定保留",IF(I17<>"返金","対象外",IF(AND(K17="確認済",M17="確認済"),L17-N17,"判定保留")))),ISTEXT(U17),U17=IF(E17="取消","取消",IF(F17="未確認","受取未確認",IF(H17="未確認","検品未確認",IF(H17="要対応","検品要対応",IF(D17="未確認","理由未確認",IF(I17="未確認","方針未確認",IF(J17="未確認","実物処理未確認",IF(I17<>"返金","照合済",IF(K17="未確認","合意未確認",IF(M17="未確認","実績未確認",IF(T17>0,"未返金",IF(T17<0,"過返金","照合済"))))))))))))),0,1)))) -> 0
A18: RET-0011 | B18: SAL-0010 | C18: 46315 | D18: 破損 | E18: 有効 | F18: 確認済 | G18: 2 | H18: 未確認 | I18: 返金 | J18: 未確認 | K18: 確認済 | L18: 800 | M18: 未確認 | O18: 46326 | P18: =IF(V18="","",IF(W18<>0,NA(),SUMIFS(元出荷明細!$D$8:$D$57,元出荷明細!$A$8:$A$57,B18))) -> 10 | Q18: =IF(V18="","",IF(W18<>0,NA(),SUMIFS($G$8:$G$57,$B$8:$B$57,B18,$E$8:$E$57,"有効",$F$8:$F$57,"確認済"))) -> 2 | R18: =IF(V18="","",IF(W18<>0,NA(),COUNTIFS($B$8:$B$57,B18,$E$8:$E$57,"有効",$F$8:$F$57,"未確認"))) -> 0 | S18: =IF(V18="","",IF(W18<>0,NA(),IF(R18>0,"判定保留",P18-Q18))) -> 8 | T18: =IF(V18="","",IF(W18<>0,NA(),IF(E18="取消","取消",IF(I18="未確認","判定保留",IF(I18<>"返金","対象外",IF(AND(K18="確認済",M18="確認済"),L18-N18,"判定保留")))))) -> 判定保留 | U18: =IF(V18="","",IF(W18<>0,NA(),IF(E18="取消","取消",IF(F18="未確認","受取未確認",IF(H18="未確認","検品未確認",IF(H18="要対応","検品要対応",IF(D18="未確認","理由未確認",IF(I18="未確認","方針未確認",IF(J18="未確認","実物処理未確認",IF(I18<>"返金","照合済",IF(K18="未確認","合意未確認",IF(M18="未確認","実績未確認",IF(T18>0,"未返金",IF(T18<0,"過返金","照合済")))))))))))))) -> 検品未確認 | V18: =IF(COUNTA(A18:O18)=0,"",IF(NOT(AND(ISTEXT(A18),LEN(A18)=8,EXACT(LEFT(A18,4),"RET-"),ISNUMBER(FIND(MID(A18,5,1)&"x","0x1x2x3x4x5x6x7x8x9x")),ISNUMBER(FIND(MID(A18,6,1)&"x","0x1x2x3x4x5x6x7x8x9x")),ISNUMBER(FIND(MID(A18,7,1)&"x","0x1x2x3x4x5x6x7x8x9x")),ISNUMBER(FIND(MID(A18,8,1)&"x","0x1x2x3x4x5x6x7x8x9x")))),"返品IDはRET-と半角数字4桁",IF(COUNTIFS($A$8:$A$57,A18)>1,"返品IDが重複",IF(NOT(AND(ISTEXT(B18),LEN(B18)=8,EXACT(LEFT(B18,4),"SAL-"),ISNUMBER(FIND(MID(B18,5,1)&"x","0x1x2x3x4x5x6x7x8x9x")),ISNUMBER(FIND(MID(B18,6,1)&"x","0x1x2x3x4x5x6x7x8x9x")),ISNUMBER(FIND(MID(B18,7,1)&"x","0x1x2x3x4x5x6x7x8x9x")),ISNUMBER(FIND(MID(B18,8,1)&"x","0x1x2x3x4x5x6x7x8x9x")))),"元明細IDはSAL-と半角数字4桁",IF(COUNTIFS(元出荷明細!$A$8:$A$57,B18)<>1,"元明細が一意にありません",IF(NOT(IF(ISNUMBER(C18),AND(C18>=43831,C18<=73050,C18=INT(C18)),FALSE())),"受付日は時刻なしで必須",IF(C18<SUMIFS(元出荷明細!$C$8:$C$57,元出荷明細!$A$8:$A$57,B18),"受付日は元出荷日以上",IF(NOT(OR(D18="破損",D18="品違い",D18="数量違い",D18="その他",D18="未確認")),"理由を確認",IF(NOT(OR(E18="有効",E18="取消")),"記録状態を確認",IF(NOT(OR(F18="確認済",F18="未確認")),"受取区分を確認",IF(AND(F18="確認済",NOT(IF(ISNUMBER(G18),AND(G18>=1,G18<=1000000,G18=INT(G18)),FALSE()))),"受取数は1〜100万個整数で必須",IF(AND(F18="未確認",COUNTA(G18)>0),"受取未確認の数量は空欄",IF(NOT(OR(H18="確認済",H18="未確認",H18="要対応")),"検品を確認",IF(AND(H18<>"未確認",F18<>"確認済"),"検品前に受取数量を確認",IF(NOT(OR(I18="未確認",I18="返金",I18="交換",I18="返却",I18="その他")),"方針を確認",IF(NOT(OR(J18="確認済",J18="未確認")),"実物処理を確認",IF(AND(J18="確認済",OR(H18<>"確認済",I18="未確認")),"実物処理済は検品/方針が必要",IF(AND(I18="返金",NOT(AND(OR(K18="確認済",K18="未確認"),OR(M18="確認済",M18="未確認")))),"返金は合意/実績を別確認",IF(AND(I18="未確認",NOT(AND(K18="未確認",M18="未確認"))),"方針未確認の金額区分は未確認",IF(AND(OR(I18="交換",I18="返却",I18="その他"),NOT(AND(K18="対象外",M18="対象外"))),"返金以外は金額区分が対象外",IF(AND(K18="確認済",NOT(IF(ISNUMBER(L18),AND(L18>=0,L18<=1000000000,L18=INT(L18)),FALSE()))),"確認済金額は0〜10億円整数",IF(AND(K18<>"確認済",COUNTA(L18)>0),"未確認/対象外の金額は空欄",IF(AND(M18="確認済",NOT(IF(ISNUMBER(N18),AND(N18>=0,N18<=1000000000,N18=INT(N18)),FALSE()))),"確認済金額は0〜10億円整数",IF(AND(M18<>"確認済",COUNTA(N18)>0),"未確認/対象外の金額は空欄",IF(NOT(IF(ISNUMBER(O18),AND(O18>=43831,O18<=73050,O18=INT(O18)),FALSE())),"記録確認日は時刻なしで必須",IF(OR(C18>O18,O18>返品の確認!$B$3),"受付日≦確認日≦基準日",IF(AND(E18="有効",SUMIFS($G$8:$G$57,$B$8:$B$57,B18,$E$8:$E$57,"有効",$F$8:$F$57,"確認済")>SUMIFS(元出荷明細!$D$8:$D$57,元出荷明細!$A$8:$A$57,B18)),"全有効受取数が元出荷数を超過","確認済み"))))))))))))))))))))))))))) -> 確認済み | W18: =IF(V18="","",IF(V18="確認済み",0,1)) -> 0 | X18: =IF(COUNTA(A18:O18)=0,IF(AND(V18="",W18="",P18="",Q18="",R18="",S18="",T18="",U18=""),0,1),IF(NOT(AND(ISTEXT(V18),V18=IF(COUNTA(A18:O18)=0,"",IF(NOT(AND(ISTEXT(A18),LEN(A18)=8,EXACT(LEFT(A18,4),"RET-"),ISNUMBER(FIND(MID(A18,5,1)&"x","0x1x2x3x4x5x6x7x8x9x")),ISNUMBER(FIND(MID(A18,6,1)&"x","0x1x2x3x4x5x6x7x8x9x")),ISNUMBER(FIND(MID(A18,7,1)&"x","0x1x2x3x4x5x6x7x8x9x")),ISNUMBER(FIND(MID(A18,8,1)&"x","0x1x2x3x4x5x6x7x8x9x")))),"返品IDはRET-と半角数字4桁",IF(COUNTIFS($A$8:$A$57,A18)>1,"返品IDが重複",IF(NOT(AND(ISTEXT(B18),LEN(B18)=8,EXACT(LEFT(B18,4),"SAL-"),ISNUMBER(FIND(MID(B18,5,1)&"x","0x1x2x3x4x5x6x7x8x9x")),ISNUMBER(FIND(MID(B18,6,1)&"x","0x1x2x3x4x5x6x7x8x9x")),ISNUMBER(FIND(MID(B18,7,1)&"x","0x1x2x3x4x5x6x7x8x9x")),ISNUMBER(FIND(MID(B18,8,1)&"x","0x1x2x3x4x5x6x7x8x9x")))),"元明細IDはSAL-と半角数字4桁",IF(COUNTIFS(元出荷明細!$A$8:$A$57,B18)<>1,"元明細が一意にありません",IF(NOT(IF(ISNUMBER(C18),AND(C18>=43831,C18<=73050,C18=INT(C18)),FALSE())),"受付日は時刻なしで必須",IF(C18<SUMIFS(元出荷明細!$C$8:$C$57,元出荷明細!$A$8:$A$57,B18),"受付日は元出荷日以上",IF(NOT(OR(D18="破損",D18="品違い",D18="数量違い",D18="その他",D18="未確認")),"理由を確認",IF(NOT(OR(E18="有効",E18="取消")),"記録状態を確認",IF(NOT(OR(F18="確認済",F18="未確認")),"受取区分を確認",IF(AND(F18="確認済",NOT(IF(ISNUMBER(G18),AND(G18>=1,G18<=1000000,G18=INT(G18)),FALSE()))),"受取数は1〜100万個整数で必須",IF(AND(F18="未確認",COUNTA(G18)>0),"受取未確認の数量は空欄",IF(NOT(OR(H18="確認済",H18="未確認",H18="要対応")),"検品を確認",IF(AND(H18<>"未確認",F18<>"確認済"),"検品前に受取数量を確認",IF(NOT(OR(I18="未確認",I18="返金",I18="交換",I18="返却",I18="その他")),"方針を確認",IF(NOT(OR(J18="確認済",J18="未確認")),"実物処理を確認",IF(AND(J18="確認済",OR(H18<>"確認済",I18="未確認")),"実物処理済は検品/方針が必要",IF(AND(I18="返金",NOT(AND(OR(K18="確認済",K18="未確認"),OR(M18="確認済",M18="未確認")))),"返金は合意/実績を別確認",IF(AND(I18="未確認",NOT(AND(K18="未確認",M18="未確認"))),"方針未確認の金額区分は未確認",IF(AND(OR(I18="交換",I18="返却",I18="その他"),NOT(AND(K18="対象外",M18="対象外"))),"返金以外は金額区分が対象外",IF(AND(K18="確認済",NOT(IF(ISNUMBER(L18),AND(L18>=0,L18<=1000000000,L18=INT(L18)),FALSE()))),"確認済金額は0〜10億円整数",IF(AND(K18<>"確認済",COUNTA(L18)>0),"未確認/対象外の金額は空欄",IF(AND(M18="確認済",NOT(IF(ISNUMBER(N18),AND(N18>=0,N18<=1000000000,N18=INT(N18)),FALSE()))),"確認済金額は0〜10億円整数",IF(AND(M18<>"確認済",COUNTA(N18)>0),"未確認/対象外の金額は空欄",IF(NOT(IF(ISNUMBER(O18),AND(O18>=43831,O18<=73050,O18=INT(O18)),FALSE())),"記録確認日は時刻なしで必須",IF(OR(C18>O18,O18>返品の確認!$B$3),"受付日≦確認日≦基準日",IF(AND(E18="有効",SUMIFS($G$8:$G$57,$B$8:$B$57,B18,$E$8:$E$57,"有効",$F$8:$F$57,"確認済")>SUMIFS(元出荷明細!$D$8:$D$57,元出荷明細!$A$8:$A$57,B18)),"全有効受取数が元出荷数を超過","確認済み"))))))))))))))))))))))))))),ISNUMBER(W18),W18=IF(V18="確認済み",0,1))),1,IF(W18<>0,0,IF(AND(ISNUMBER(P18),P18=SUMIFS(元出荷明細!$D$8:$D$57,元出荷明細!$A$8:$A$57,B18),ISNUMBER(Q18),Q18=SUMIFS($G$8:$G$57,$B$8:$B$57,B18,$E$8:$E$57,"有効",$F$8:$F$57,"確認済"),ISNUMBER(R18),R18=COUNTIFS($B$8:$B$57,B18,$E$8:$E$57,"有効",$F$8:$F$57,"未確認"),IF(R18>0,ISTEXT(S18),ISNUMBER(S18)),S18=IF(R18>0,"判定保留",P18-Q18),IF(AND(E18="有効",I18="返金",K18="確認済",M18="確認済"),ISNUMBER(T18),ISTEXT(T18)),T18=IF(E18="取消","取消",IF(I18="未確認","判定保留",IF(I18<>"返金","対象外",IF(AND(K18="確認済",M18="確認済"),L18-N18,"判定保留")))),ISTEXT(U18),U18=IF(E18="取消","取消",IF(F18="未確認","受取未確認",IF(H18="未確認","検品未確認",IF(H18="要対応","検品要対応",IF(D18="未確認","理由未確認",IF(I18="未確認","方針未確認",IF(J18="未確認","実物処理未確認",IF(I18<>"返金","照合済",IF(K18="未確認","合意未確認",IF(M18="未確認","実績未確認",IF(T18>0,"未返金",IF(T18<0,"過返金","照合済"))))))))))))),0,1)))) -> 0
A19: RET-0012 | B19: SAL-0011 | C19: 46316 | D19: その他 | E19: 有効 | F19: 確認済 | G19: 1 | H19: 確認済 | I19: その他 | J19: 確認済 | K19: 対象外 | M19: 対象外 | O19: 46326 | P19: =IF(V19="","",IF(W19<>0,NA(),SUMIFS(元出荷明細!$D$8:$D$57,元出荷明細!$A$8:$A$57,B19))) -> 10 | Q19: =IF(V19="","",IF(W19<>0,NA(),SUMIFS($G$8:$G$57,$B$8:$B$57,B19,$E$8:$E$57,"有効",$F$8:$F$57,"確認済"))) -> 1 | R19: =IF(V19="","",IF(W19<>0,NA(),COUNTIFS($B$8:$B$57,B19,$E$8:$E$57,"有効",$F$8:$F$57,"未確認"))) -> 0 | S19: =IF(V19="","",IF(W19<>0,NA(),IF(R19>0,"判定保留",P19-Q19))) -> 9 | T19: =IF(V19="","",IF(W19<>0,NA(),IF(E19="取消","取消",IF(I19="未確認","判定保留",IF(I19<>"返金","対象外",IF(AND(K19="確認済",M19="確認済"),L19-N19,"判定保留")))))) -> 対象外 | U19: =IF(V19="","",IF(W19<>0,NA(),IF(E19="取消","取消",IF(F19="未確認","受取未確認",IF(H19="未確認","検品未確認",IF(H19="要対応","検品要対応",IF(D19="未確認","理由未確認",IF(I19="未確認","方針未確認",IF(J19="未確認","実物処理未確認",IF(I19<>"返金","照合済",IF(K19="未確認","合意未確認",IF(M19="未確認","実績未確認",IF(T19>0,"未返金",IF(T19<0,"過返金","照合済")))))))))))))) -> 照合済 | V19: =IF(COUNTA(A19:O19)=0,"",IF(NOT(AND(ISTEXT(A19),LEN(A19)=8,EXACT(LEFT(A19,4),"RET-"),ISNUMBER(FIND(MID(A19,5,1)&"x","0x1x2x3x4x5x6x7x8x9x")),ISNUMBER(FIND(MID(A19,6,1)&"x","0x1x2x3x4x5x6x7x8x9x")),ISNUMBER(FIND(MID(A19,7,1)&"x","0x1x2x3x4x5x6x7x8x9x")),ISNUMBER(FIND(MID(A19,8,1)&"x","0x1x2x3x4x5x6x7x8x9x")))),"返品IDはRET-と半角数字4桁",IF(COUNTIFS($A$8:$A$57,A19)>1,"返品IDが重複",IF(NOT(AND(ISTEXT(B19),LEN(B19)=8,EXACT(LEFT(B19,4),"SAL-"),ISNUMBER(FIND(MID(B19,5,1)&"x","0x1x2x3x4x5x6x7x8x9x")),ISNUMBER(FIND(MID(B19,6,1)&"x","0x1x2x3x4x5x6x7x8x9x")),ISNUMBER(FIND(MID(B19,7,1)&"x","0x1x2x3x4x5x6x7x8x9x")),ISNUMBER(FIND(MID(B19,8,1)&"x","0x1x2x3x4x5x6x7x8x9x")))),"元明細IDはSAL-と半角数字4桁",IF(COUNTIFS(元出荷明細!$A$8:$A$57,B19)<>1,"元明細が一意にありません",IF(NOT(IF(ISNUMBER(C19),AND(C19>=43831,C19<=73050,C19=INT(C19)),FALSE())),"受付日は時刻なしで必須",IF(C19<SUMIFS(元出荷明細!$C$8:$C$57,元出荷明細!$A$8:$A$57,B19),"受付日は元出荷日以上",IF(NOT(OR(D19="破損",D19="品違い",D19="数量違い",D19="その他",D19="未確認")),"理由を確認",IF(NOT(OR(E19="有効",E19="取消")),"記録状態を確認",IF(NOT(OR(F19="確認済",F19="未確認")),"受取区分を確認",IF(AND(F19="確認済",NOT(IF(ISNUMBER(G19),AND(G19>=1,G19<=1000000,G19=INT(G19)),FALSE()))),"受取数は1〜100万個整数で必須",IF(AND(F19="未確認",COUNTA(G19)>0),"受取未確認の数量は空欄",IF(NOT(OR(H19="確認済",H19="未確認",H19="要対応")),"検品を確認",IF(AND(H19<>"未確認",F19<>"確認済"),"検品前に受取数量を確認",IF(NOT(OR(I19="未確認",I19="返金",I19="交換",I19="返却",I19="その他")),"方針を確認",IF(NOT(OR(J19="確認済",J19="未確認")),"実物処理を確認",IF(AND(J19="確認済",OR(H19<>"確認済",I19="未確認")),"実物処理済は検品/方針が必要",IF(AND(I19="返金",NOT(AND(OR(K19="確認済",K19="未確認"),OR(M19="確認済",M19="未確認")))),"返金は合意/実績を別確認",IF(AND(I19="未確認",NOT(AND(K19="未確認",M19="未確認"))),"方針未確認の金額区分は未確認",IF(AND(OR(I19="交換",I19="返却",I19="その他"),NOT(AND(K19="対象外",M19="対象外"))),"返金以外は金額区分が対象外",IF(AND(K19="確認済",NOT(IF(ISNUMBER(L19),AND(L19>=0,L19<=1000000000,L19=INT(L19)),FALSE()))),"確認済金額は0〜10億円整数",IF(AND(K19<>"確認済",COUNTA(L19)>0),"未確認/対象外の金額は空欄",IF(AND(M19="確認済",NOT(IF(ISNUMBER(N19),AND(N19>=0,N19<=1000000000,N19=INT(N19)),FALSE()))),"確認済金額は0〜10億円整数",IF(AND(M19<>"確認済",COUNTA(N19)>0),"未確認/対象外の金額は空欄",IF(NOT(IF(ISNUMBER(O19),AND(O19>=43831,O19<=73050,O19=INT(O19)),FALSE())),"記録確認日は時刻なしで必須",IF(OR(C19>O19,O19>返品の確認!$B$3),"受付日≦確認日≦基準日",IF(AND(E19="有効",SUMIFS($G$8:$G$57,$B$8:$B$57,B19,$E$8:$E$57,"有効",$F$8:$F$57,"確認済")>SUMIFS(元出荷明細!$D$8:$D$57,元出荷明細!$A$8:$A$57,B19)),"全有効受取数が元出荷数を超過","確認済み"))))))))))))))))))))))))))) -> 確認済み | W19: =IF(V19="","",IF(V19="確認済み",0,1)) -> 0 | X19: =IF(COUNTA(A19:O19)=0,IF(AND(V19="",W19="",P19="",Q19="",R19="",S19="",T19="",U19=""),0,1),IF(NOT(AND(ISTEXT(V19),V19=IF(COUNTA(A19:O19)=0,"",IF(NOT(AND(ISTEXT(A19),LEN(A19)=8,EXACT(LEFT(A19,4),"RET-"),ISNUMBER(FIND(MID(A19,5,1)&"x","0x1x2x3x4x5x6x7x8x9x")),ISNUMBER(FIND(MID(A19,6,1)&"x","0x1x2x3x4x5x6x7x8x9x")),ISNUMBER(FIND(MID(A19,7,1)&"x","0x1x2x3x4x5x6x7x8x9x")),ISNUMBER(FIND(MID(A19,8,1)&"x","0x1x2x3x4x5x6x7x8x9x")))),"返品IDはRET-と半角数字4桁",IF(COUNTIFS($A$8:$A$57,A19)>1,"返品IDが重複",IF(NOT(AND(ISTEXT(B19),LEN(B19)=8,EXACT(LEFT(B19,4),"SAL-"),ISNUMBER(FIND(MID(B19,5,1)&"x","0x1x2x3x4x5x6x7x8x9x")),ISNUMBER(FIND(MID(B19,6,1)&"x","0x1x2x3x4x5x6x7x8x9x")),ISNUMBER(FIND(MID(B19,7,1)&"x","0x1x2x3x4x5x6x7x8x9x")),ISNUMBER(FIND(MID(B19,8,1)&"x","0x1x2x3x4x5x6x7x8x9x")))),"元明細IDはSAL-と半角数字4桁",IF(COUNTIFS(元出荷明細!$A$8:$A$57,B19)<>1,"元明細が一意にありません",IF(NOT(IF(ISNUMBER(C19),AND(C19>=43831,C19<=73050,C19=INT(C19)),FALSE())),"受付日は時刻なしで必須",IF(C19<SUMIFS(元出荷明細!$C$8:$C$57,元出荷明細!$A$8:$A$57,B19),"受付日は元出荷日以上",IF(NOT(OR(D19="破損",D19="品違い",D19="数量違い",D19="その他",D19="未確認")),"理由を確認",IF(NOT(OR(E19="有効",E19="取消")),"記録状態を確認",IF(NOT(OR(F19="確認済",F19="未確認")),"受取区分を確認",IF(AND(F19="確認済",NOT(IF(ISNUMBER(G19),AND(G19>=1,G19<=1000000,G19=INT(G19)),FALSE()))),"受取数は1〜100万個整数で必須",IF(AND(F19="未確認",COUNTA(G19)>0),"受取未確認の数量は空欄",IF(NOT(OR(H19="確認済",H19="未確認",H19="要対応")),"検品を確認",IF(AND(H19<>"未確認",F19<>"確認済"),"検品前に受取数量を確認",IF(NOT(OR(I19="未確認",I19="返金",I19="交換",I19="返却",I19="その他")),"方針を確認",IF(NOT(OR(J19="確認済",J19="未確認")),"実物処理を確認",IF(AND(J19="確認済",OR(H19<>"確認済",I19="未確認")),"実物処理済は検品/方針が必要",IF(AND(I19="返金",NOT(AND(OR(K19="確認済",K19="未確認"),OR(M19="確認済",M19="未確認")))),"返金は合意/実績を別確認",IF(AND(I19="未確認",NOT(AND(K19="未確認",M19="未確認"))),"方針未確認の金額区分は未確認",IF(AND(OR(I19="交換",I19="返却",I19="その他"),NOT(AND(K19="対象外",M19="対象外"))),"返金以外は金額区分が対象外",IF(AND(K19="確認済",NOT(IF(ISNUMBER(L19),AND(L19>=0,L19<=1000000000,L19=INT(L19)),FALSE()))),"確認済金額は0〜10億円整数",IF(AND(K19<>"確認済",COUNTA(L19)>0),"未確認/対象外の金額は空欄",IF(AND(M19="確認済",NOT(IF(ISNUMBER(N19),AND(N19>=0,N19<=1000000000,N19=INT(N19)),FALSE()))),"確認済金額は0〜10億円整数",IF(AND(M19<>"確認済",COUNTA(N19)>0),"未確認/対象外の金額は空欄",IF(NOT(IF(ISNUMBER(O19),AND(O19>=43831,O19<=73050,O19=INT(O19)),FALSE())),"記録確認日は時刻なしで必須",IF(OR(C19>O19,O19>返品の確認!$B$3),"受付日≦確認日≦基準日",IF(AND(E19="有効",SUMIFS($G$8:$G$57,$B$8:$B$57,B19,$E$8:$E$57,"有効",$F$8:$F$57,"確認済")>SUMIFS(元出荷明細!$D$8:$D$57,元出荷明細!$A$8:$A$57,B19)),"全有効受取数が元出荷数を超過","確認済み"))))))))))))))))))))))))))),ISNUMBER(W19),W19=IF(V19="確認済み",0,1))),1,IF(W19<>0,0,IF(AND(ISNUMBER(P19),P19=SUMIFS(元出荷明細!$D$8:$D$57,元出荷明細!$A$8:$A$57,B19),ISNUMBER(Q19),Q19=SUMIFS($G$8:$G$57,$B$8:$B$57,B19,$E$8:$E$57,"有効",$F$8:$F$57,"確認済"),ISNUMBER(R19),R19=COUNTIFS($B$8:$B$57,B19,$E$8:$E$57,"有効",$F$8:$F$57,"未確認"),IF(R19>0,ISTEXT(S19),ISNUMBER(S19)),S19=IF(R19>0,"判定保留",P19-Q19),IF(AND(E19="有効",I19="返金",K19="確認済",M19="確認済"),ISNUMBER(T19),ISTEXT(T19)),T19=IF(E19="取消","取消",IF(I19="未確認","判定保留",IF(I19<>"返金","対象外",IF(AND(K19="確認済",M19="確認済"),L19-N19,"判定保留")))),ISTEXT(U19),U19=IF(E19="取消","取消",IF(F19="未確認","受取未確認",IF(H19="未確認","検品未確認",IF(H19="要対応","検品要対応",IF(D19="未確認","理由未確認",IF(I19="未確認","方針未確認",IF(J19="未確認","実物処理未確認",IF(I19<>"返金","照合済",IF(K19="未確認","合意未確認",IF(M19="未確認","実績未確認",IF(T19>0,"未返金",IF(T19<0,"過返金","照合済"))))))))))))),0,1)))) -> 0
P20: =IF(V20="","",IF(W20<>0,NA(),SUMIFS(元出荷明細!$D$8:$D$57,元出荷明細!$A$8:$A$57,B20))) | Q20: =IF(V20="","",IF(W20<>0,NA(),SUMIFS($G$8:$G$57,$B$8:$B$57,B20,$E$8:$E$57,"有効",$F$8:$F$57,"確認済"))) | R20: =IF(V20="","",IF(W20<>0,NA(),COUNTIFS($B$8:$B$57,B20,$E$8:$E$57,"有効",$F$8:$F$57,"未確認"))) | S20: =IF(V20="","",IF(W20<>0,NA(),IF(R20>0,"判定保留",P20-Q20))) | T20: =IF(V20="","",IF(W20<>0,NA(),IF(E20="取消","取消",IF(I20="未確認","判定保留",IF(I20<>"返金","対象外",IF(AND(K20="確認済",M20="確認済"),L20-N20,"判定保留")))))) | U20: =IF(V20="","",IF(W20<>0,NA(),IF(E20="取消","取消",IF(F20="未確認","受取未確認",IF(H20="未確認","検品未確認",IF(H20="要対応","検品要対応",IF(D20="未確認","理由未確認",IF(I20="未確認","方針未確認",IF(J20="未確認","実物処理未確認",IF(I20<>"返金","照合済",IF(K20="未確認","合意未確認",IF(M20="未確認","実績未確認",IF(T20>0,"未返金",IF(T20<0,"過返金","照合済")))))))))))))) | V20: =IF(COUNTA(A20:O20)=0,"",IF(NOT(AND(ISTEXT(A20),LEN(A20)=8,EXACT(LEFT(A20,4),"RET-"),ISNUMBER(FIND(MID(A20,5,1)&"x","0x1x2x3x4x5x6x7x8x9x")),ISNUMBER(FIND(MID(A20,6,1)&"x","0x1x2x3x4x5x6x7x8x9x")),ISNUMBER(FIND(MID(A20,7,1)&"x","0x1x2x3x4x5x6x7x8x9x")),ISNUMBER(FIND(MID(A20,8,1)&"x","0x1x2x3x4x5x6x7x8x9x")))),"返品IDはRET-と半角数字4桁",IF(COUNTIFS($A$8:$A$57,A20)>1,"返品IDが重複",IF(NOT(AND(ISTEXT(B20),LEN(B20)=8,EXACT(LEFT(B20,4),"SAL-"),ISNUMBER(FIND(MID(B20,5,1)&"x","0x1x2x3x4x5x6x7x8x9x")),ISNUMBER(FIND(MID(B20,6,1)&"x","0x1x2x3x4x5x6x7x8x9x")),ISNUMBER(FIND(MID(B20,7,1)&"x","0x1x2x3x4x5x6x7x8x9x")),ISNUMBER(FIND(MID(B20,8,1)&"x","0x1x2x3x4x5x6x7x8x9x")))),"元明細IDはSAL-と半角数字4桁",IF(COUNTIFS(元出荷明細!$A$8:$A$57,B20)<>1,"元明細が一意にありません",IF(NOT(IF(ISNUMBER(C20),AND(C20>=43831,C20<=73050,C20=INT(C20)),FALSE())),"受付日は時刻なしで必須",IF(C20<SUMIFS(元出荷明細!$C$8:$C$57,元出荷明細!$A$8:$A$57,B20),"受付日は元出荷日以上",IF(NOT(OR(D20="破損",D20="品違い",D20="数量違い",D20="その他",D20="未確認")),"理由を確認",IF(NOT(OR(E20="有効",E20="取消")),"記録状態を確認",IF(NOT(OR(F20="確認済",F20="未確認")),"受取区分を確認",IF(AND(F20="確認済",NOT(IF(ISNUMBER(G20),AND(G20>=1,G20<=1000000,G20=INT(G20)),FALSE()))),"受取数は1〜100万個整数で必須",IF(AND(F20="未確認",COUNTA(G20)>0),"受取未確認の数量は空欄",IF(NOT(OR(H20="確認済",H20="未確認",H20="要対応")),"検品を確認",IF(AND(H20<>"未確認",F20<>"確認済"),"検品前に受取数量を確認",IF(NOT(OR(I20="未確認",I20="返金",I20="交換",I20="返却",I20="その他")),"方針を確認",IF(NOT(OR(J20="確認済",J20="未確認")),"実物処理を確認",IF(AND(J20="確認済",OR(H20<>"確認済",I20="未確認")),"実物処理済は検品/方針が必要",IF(AND(I20="返金",NOT(AND(OR(K20="確認済",K20="未確認"),OR(M20="確認済",M20="未確認")))),"返金は合意/実績を別確認",IF(AND(I20="未確認",NOT(AND(K20="未確認",M20="未確認"))),"方針未確認の金額区分は未確認",IF(AND(OR(I20="交換",I20="返却",I20="その他"),NOT(AND(K20="対象外",M20="対象外"))),"返金以外は金額区分が対象外",IF(AND(K20="確認済",NOT(IF(ISNUMBER(L20),AND(L20>=0,L20<=1000000000,L20=INT(L20)),FALSE()))),"確認済金額は0〜10億円整数",IF(AND(K20<>"確認済",COUNTA(L20)>0),"未確認/対象外の金額は空欄",IF(AND(M20="確認済",NOT(IF(ISNUMBER(N20),AND(N20>=0,N20<=1000000000,N20=INT(N20)),FALSE()))),"確認済金額は0〜10億円整数",IF(AND(M20<>"確認済",COUNTA(N20)>0),"未確認/対象外の金額は空欄",IF(NOT(IF(ISNUMBER(O20),AND(O20>=43831,O20<=73050,O20=INT(O20)),FALSE())),"記録確認日は時刻なしで必須",IF(OR(C20>O20,O20>返品の確認!$B$3),"受付日≦確認日≦基準日",IF(AND(E20="有効",SUMIFS($G$8:$G$57,$B$8:$B$57,B20,$E$8:$E$57,"有効",$F$8:$F$57,"確認済")>SUMIFS(元出荷明細!$D$8:$D$57,元出荷明細!$A$8:$A$57,B20)),"全有効受取数が元出荷数を超過","確認済み"))))))))))))))))))))))))))) | W20: =IF(V20="","",IF(V20="確認済み",0,1)) | X20: =IF(COUNTA(A20:O20)=0,IF(AND(V20="",W20="",P20="",Q20="",R20="",S20="",T20="",U20=""),0,1),IF(NOT(AND(ISTEXT(V20),V20=IF(COUNTA(A20:O20)=0,"",IF(NOT(AND(ISTEXT(A20),LEN(A20)=8,EXACT(LEFT(A20,4),"RET-"),ISNUMBER(FIND(MID(A20,5,1)&"x","0x1x2x3x4x5x6x7x8x9x")),ISNUMBER(FIND(MID(A20,6,1)&"x","0x1x2x3x4x5x6x7x8x9x")),ISNUMBER(FIND(MID(A20,7,1)&"x","0x1x2x3x4x5x6x7x8x9x")),ISNUMBER(FIND(MID(A20,8,1)&"x","0x1x2x3x4x5x6x7x8x9x")))),"返品IDはRET-と半角数字4桁",IF(COUNTIFS($A$8:$A$57,A20)>1,"返品IDが重複",IF(NOT(AND(ISTEXT(B20),LEN(B20)=8,EXACT(LEFT(B20,4),"SAL-"),ISNUMBER(FIND(MID(B20,5,1)&"x","0x1x2x3x4x5x6x7x8x9x")),ISNUMBER(FIND(MID(B20,6,1)&"x","0x1x2x3x4x5x6x7x8x9x")),ISNUMBER(FIND(MID(B20,7,1)&"x","0x1x2x3x4x5x6x7x8x9x")),ISNUMBER(FIND(MID(B20,8,1)&"x","0x1x2x3x4x5x6x7x8x9x")))),"元明細IDはSAL-と半角数字4桁",IF(COUNTIFS(元出荷明細!$A$8:$A$57,B20)<>1,"元明細が一意にありません",IF(NOT(IF(ISNUMBER(C20),AND(C20>=43831,C20<=73050,C20=INT(C20)),FALSE())),"受付日は時刻なしで必須",IF(C20<SUMIFS(元出荷明細!$C$8:$C$57,元出荷明細!$A$8:$A$57,B20),"受付日は元出荷日以上",IF(NOT(OR(D20="破損",D20="品違い",D20="数量違い",D20="その他",D20="未確認")),"理由を確認",IF(NOT(OR(E20="有効",E20="取消")),"記録状態を確認",IF(NOT(OR(F20="確認済",F20="未確認")),"受取区分を確認",IF(AND(F20="確認済",NOT(IF(ISNUMBER(G20),AND(G20>=1,G20<=1000000,G20=INT(G20)),FALSE()))),"受取数は1〜100万個整数で必須",IF(AND(F20="未確認",COUNTA(G20)>0),"受取未確認の数量は空欄",IF(NOT(OR(H20="確認済",H20="未確認",H20="要対応")),"検品を確認",IF(AND(H20<>"未確認",F20<>"確認済"),"検品前に受取数量を確認",IF(NOT(OR(I20="未確認",I20="返金",I20="交換",I20="返却",I20="その他")),"方針を確認",IF(NOT(OR(J20="確認済",J20="未確認")),"実物処理を確認",IF(AND(J20="確認済",OR(H20<>"確認済",I20="未確認")),"実物処理済は検品/方針が必要",IF(AND(I20="返金",NOT(AND(OR(K20="確認済",K20="未確認"),OR(M20="確認済",M20="未確認")))),"返金は合意/実績を別確認",IF(AND(I20="未確認",NOT(AND(K20="未確認",M20="未確認"))),"方針未確認の金額区分は未確認",IF(AND(OR(I20="交換",I20="返却",I20="その他"),NOT(AND(K20="対象外",M20="対象外"))),"返金以外は金額区分が対象外",IF(AND(K20="確認済",NOT(IF(ISNUMBER(L20),AND(L20>=0,L20<=1000000000,L20=INT(L20)),FALSE()))),"確認済金額は0〜10億円整数",IF(AND(K20<>"確認済",COUNTA(L20)>0),"未確認/対象外の金額は空欄",IF(AND(M20="確認済",NOT(IF(ISNUMBER(N20),AND(N20>=0,N20<=1000000000,N20=INT(N20)),FALSE()))),"確認済金額は0〜10億円整数",IF(AND(M20<>"確認済",COUNTA(N20)>0),"未確認/対象外の金額は空欄",IF(NOT(IF(ISNUMBER(O20),AND(O20>=43831,O20<=73050,O20=INT(O20)),FALSE())),"記録確認日は時刻なしで必須",IF(OR(C20>O20,O20>返品の確認!$B$3),"受付日≦確認日≦基準日",IF(AND(E20="有効",SUMIFS($G$8:$G$57,$B$8:$B$57,B20,$E$8:$E$57,"有効",$F$8:$F$57,"確認済")>SUMIFS(元出荷明細!$D$8:$D$57,元出荷明細!$A$8:$A$57,B20)),"全有効受取数が元出荷数を超過","確認済み"))))))))))))))))))))))))))),ISNUMBER(W20),W20=IF(V20="確認済み",0,1))),1,IF(W20<>0,0,IF(AND(ISNUMBER(P20),P20=SUMIFS(元出荷明細!$D$8:$D$57,元出荷明細!$A$8:$A$57,B20),ISNUMBER(Q20),Q20=SUMIFS($G$8:$G$57,$B$8:$B$57,B20,$E$8:$E$57,"有効",$F$8:$F$57,"確認済"),ISNUMBER(R20),R20=COUNTIFS($B$8:$B$57,B20,$E$8:$E$57,"有効",$F$8:$F$57,"未確認"),IF(R20>0,ISTEXT(S20),ISNUMBER(S20)),S20=IF(R20>0,"判定保留",P20-Q20),IF(AND(E20="有効",I20="返金",K20="確認済",M20="確認済"),ISNUMBER(T20),ISTEXT(T20)),T20=IF(E20="取消","取消",IF(I20="未確認","判定保留",IF(I20<>"返金","対象外",IF(AND(K20="確認済",M20="確認済"),L20-N20,"判定保留")))),ISTEXT(U20),U20=IF(E20="取消","取消",IF(F20="未確認","受取未確認",IF(H20="未確認","検品未確認",IF(H20="要対応","検品要対応",IF(D20="未確認","理由未確認",IF(I20="未確認","方針未確認",IF(J20="未確認","実物処理未確認",IF(I20<>"返金","照合済",IF(K20="未確認","合意未確認",IF(M20="未確認","実績未確認",IF(T20>0,"未返金",IF(T20<0,"過返金","照合済"))))))))))))),0,1)))) -> 0
P21: =IF(V21="","",IF(W21<>0,NA(),SUMIFS(元出荷明細!$D$8:$D$57,元出荷明細!$A$8:$A$57,B21))) | Q21: =IF(V21="","",IF(W21<>0,NA(),SUMIFS($G$8:$G$57,$B$8:$B$57,B21,$E$8:$E$57,"有効",$F$8:$F$57,"確認済"))) | R21: =IF(V21="","",IF(W21<>0,NA(),COUNTIFS($B$8:$B$57,B21,$E$8:$E$57,"有効",$F$8:$F$57,"未確認"))) | S21: =IF(V21="","",IF(W21<>0,NA(),IF(R21>0,"判定保留",P21-Q21))) | T21: =IF(V21="","",IF(W21<>0,NA(),IF(E21="取消","取消",IF(I21="未確認","判定保留",IF(I21<>"返金","対象外",IF(AND(K21="確認済",M21="確認済"),L21-N21,"判定保留")))))) | U21: =IF(V21="","",IF(W21<>0,NA(),IF(E21="取消","取消",IF(F21="未確認","受取未確認",IF(H21="未確認","検品未確認",IF(H21="要対応","検品要対応",IF(D21="未確認","理由未確認",IF(I21="未確認","方針未確認",IF(J21="未確認","実物処理未確認",IF(I21<>"返金","照合済",IF(K21="未確認","合意未確認",IF(M21="未確認","実績未確認",IF(T21>0,"未返金",IF(T21<0,"過返金","照合済")))))))))))))) | V21: =IF(COUNTA(A21:O21)=0,"",IF(NOT(AND(ISTEXT(A21),LEN(A21)=8,EXACT(LEFT(A21,4),"RET-"),ISNUMBER(FIND(MID(A21,5,1)&"x","0x1x2x3x4x5x6x7x8x9x")),ISNUMBER(FIND(MID(A21,6,1)&"x","0x1x2x3x4x5x6x7x8x9x")),ISNUMBER(FIND(MID(A21,7,1)&"x","0x1x2x3x4x5x6x7x8x9x")),ISNUMBER(FIND(MID(A21,8,1)&"x","0x1x2x3x4x5x6x7x8x9x")))),"返品IDはRET-と半角数字4桁",IF(COUNTIFS($A$8:$A$57,A21)>1,"返品IDが重複",IF(NOT(AND(ISTEXT(B21),LEN(B21)=8,EXACT(LEFT(B21,4),"SAL-"),ISNUMBER(FIND(MID(B21,5,1)&"x","0x1x2x3x4x5x6x7x8x9x")),ISNUMBER(FIND(MID(B21,6,1)&"x","0x1x2x3x4x5x6x7x8x9x")),ISNUMBER(FIND(MID(B21,7,1)&"x","0x1x2x3x4x5x6x7x8x9x")),ISNUMBER(FIND(MID(B21,8,1)&"x","0x1x2x3x4x5x6x7x8x9x")))),"元明細IDはSAL-と半角数字4桁",IF(COUNTIFS(元出荷明細!$A$8:$A$57,B21)<>1,"元明細が一意にありません",IF(NOT(IF(ISNUMBER(C21),AND(C21>=43831,C21<=73050,C21=INT(C21)),FALSE())),"受付日は時刻なしで必須",IF(C21<SUMIFS(元出荷明細!$C$8:$C$57,元出荷明細!$A$8:$A$57,B21),"受付日は元出荷日以上",IF(NOT(OR(D21="破損",D21="品違い",D21="数量違い",D21="その他",D21="未確認")),"理由を確認",IF(NOT(OR(E21="有効",E21="取消")),"記録状態を確認",IF(NOT(OR(F21="確認済",F21="未確認")),"受取区分を確認",IF(AND(F21="確認済",NOT(IF(ISNUMBER(G21),AND(G21>=1,G21<=1000000,G21=INT(G21)),FALSE()))),"受取数は1〜100万個整数で必須",IF(AND(F21="未確認",COUNTA(G21)>0),"受取未確認の数量は空欄",IF(NOT(OR(H21="確認済",H21="未確認",H21="要対応")),"検品を確認",IF(AND(H21<>"未確認",F21<>"確認済"),"検品前に受取数量を確認",IF(NOT(OR(I21="未確認",I21="返金",I21="交換",I21="返却",I21="その他")),"方針を確認",IF(NOT(OR(J21="確認済",J21="未確認")),"実物処理を確認",IF(AND(J21="確認済",OR(H21<>"確認済",I21="未確認")),"実物処理済は検品/方針が必要",IF(AND(I21="返金",NOT(AND(OR(K21="確認済",K21="未確認"),OR(M21="確認済",M21="未確認")))),"返金は合意/実績を別確認",IF(AND(I21="未確認",NOT(AND(K21="未確認",M21="未確認"))),"方針未確認の金額区分は未確認",IF(AND(OR(I21="交換",I21="返却",I21="その他"),NOT(AND(K21="対象外",M21="対象外"))),"返金以外は金額区分が対象外",IF(AND(K21="確認済",NOT(IF(ISNUMBER(L21),AND(L21>=0,L21<=1000000000,L21=INT(L21)),FALSE()))),"確認済金額は0〜10億円整数",IF(AND(K21<>"確認済",COUNTA(L21)>0),"未確認/対象外の金額は空欄",IF(AND(M21="確認済",NOT(IF(ISNUMBER(N21),AND(N21>=0,N21<=1000000000,N21=INT(N21)),FALSE()))),"確認済金額は0〜10億円整数",IF(AND(M21<>"確認済",COUNTA(N21)>0),"未確認/対象外の金額は空欄",IF(NOT(IF(ISNUMBER(O21),AND(O21>=43831,O21<=73050,O21=INT(O21)),FALSE())),"記録確認日は時刻なしで必須",IF(OR(C21>O21,O21>返品の確認!$B$3),"受付日≦確認日≦基準日",IF(AND(E21="有効",SUMIFS($G$8:$G$57,$B$8:$B$57,B21,$E$8:$E$57,"有効",$F$8:$F$57,"確認済")>SUMIFS(元出荷明細!$D$8:$D$57,元出荷明細!$A$8:$A$57,B21)),"全有効受取数が元出荷数を超過","確認済み"))))))))))))))))))))))))))) | W21: =IF(V21="","",IF(V21="確認済み",0,1)) | X21: =IF(COUNTA(A21:O21)=0,IF(AND(V21="",W21="",P21="",Q21="",R21="",S21="",T21="",U21=""),0,1),IF(NOT(AND(ISTEXT(V21),V21=IF(COUNTA(A21:O21)=0,"",IF(NOT(AND(ISTEXT(A21),LEN(A21)=8,EXACT(LEFT(A21,4),"RET-"),ISNUMBER(FIND(MID(A21,5,1)&"x","0x1x2x3x4x5x6x7x8x9x")),ISNUMBER(FIND(MID(A21,6,1)&"x","0x1x2x3x4x5x6x7x8x9x")),ISNUMBER(FIND(MID(A21,7,1)&"x","0x1x2x3x4x5x6x7x8x9x")),ISNUMBER(FIND(MID(A21,8,1)&"x","0x1x2x3x4x5x6x7x8x9x")))),"返品IDはRET-と半角数字4桁",IF(COUNTIFS($A$8:$A$57,A21)>1,"返品IDが重複",IF(NOT(AND(ISTEXT(B21),LEN(B21)=8,EXACT(LEFT(B21,4),"SAL-"),ISNUMBER(FIND(MID(B21,5,1)&"x","0x1x2x3x4x5x6x7x8x9x")),ISNUMBER(FIND(MID(B21,6,1)&"x","0x1x2x3x4x5x6x7x8x9x")),ISNUMBER(FIND(MID(B21,7,1)&"x","0x1x2x3x4x5x6x7x8x9x")),ISNUMBER(FIND(MID(B21,8,1)&"x","0x1x2x3x4x5x6x7x8x9x")))),"元明細IDはSAL-と半角数字4桁",IF(COUNTIFS(元出荷明細!$A$8:$A$57,B21)<>1,"元明細が一意にありません",IF(NOT(IF(ISNUMBER(C21),AND(C21>=43831,C21<=73050,C21=INT(C21)),FALSE())),"受付日は時刻なしで必須",IF(C21<SUMIFS(元出荷明細!$C$8:$C$57,元出荷明細!$A$8:$A$57,B21),"受付日は元出荷日以上",IF(NOT(OR(D21="破損",D21="品違い",D21="数量違い",D21="その他",D21="未確認")),"理由を確認",IF(NOT(OR(E21="有効",E21="取消")),"記録状態を確認",IF(NOT(OR(F21="確認済",F21="未確認")),"受取区分を確認",IF(AND(F21="確認済",NOT(IF(ISNUMBER(G21),AND(G21>=1,G21<=1000000,G21=INT(G21)),FALSE()))),"受取数は1〜100万個整数で必須",IF(AND(F21="未確認",COUNTA(G21)>0),"受取未確認の数量は空欄",IF(NOT(OR(H21="確認済",H21="未確認",H21="要対応")),"検品を確認",IF(AND(H21<>"未確認",F21<>"確認済"),"検品前に受取数量を確認",IF(NOT(OR(I21="未確認",I21="返金",I21="交換",I21="返却",I21="その他")),"方針を確認",IF(NOT(OR(J21="確認済",J21="未確認")),"実物処理を確認",IF(AND(J21="確認済",OR(H21<>"確認済",I21="未確認")),"実物処理済は検品/方針が必要",IF(AND(I21="返金",NOT(AND(OR(K21="確認済",K21="未確認"),OR(M21="確認済",M21="未確認")))),"返金は合意/実績を別確認",IF(AND(I21="未確認",NOT(AND(K21="未確認",M21="未確認"))),"方針未確認の金額区分は未確認",IF(AND(OR(I21="交換",I21="返却",I21="その他"),NOT(AND(K21="対象外",M21="対象外"))),"返金以外は金額区分が対象外",IF(AND(K21="確認済",NOT(IF(ISNUMBER(L21),AND(L21>=0,L21<=1000000000,L21=INT(L21)),FALSE()))),"確認済金額は0〜10億円整数",IF(AND(K21<>"確認済",COUNTA(L21)>0),"未確認/対象外の金額は空欄",IF(AND(M21="確認済",NOT(IF(ISNUMBER(N21),AND(N21>=0,N21<=1000000000,N21=INT(N21)),FALSE()))),"確認済金額は0〜10億円整数",IF(AND(M21<>"確認済",COUNTA(N21)>0),"未確認/対象外の金額は空欄",IF(NOT(IF(ISNUMBER(O21),AND(O21>=43831,O21<=73050,O21=INT(O21)),FALSE())),"記録確認日は時刻なしで必須",IF(OR(C21>O21,O21>返品の確認!$B$3),"受付日≦確認日≦基準日",IF(AND(E21="有効",SUMIFS($G$8:$G$57,$B$8:$B$57,B21,$E$8:$E$57,"有効",$F$8:$F$57,"確認済")>SUMIFS(元出荷明細!$D$8:$D$57,元出荷明細!$A$8:$A$57,B21)),"全有効受取数が元出荷数を超過","確認済み"))))))))))))))))))))))))))),ISNUMBER(W21),W21=IF(V21="確認済み",0,1))),1,IF(W21<>0,0,IF(AND(ISNUMBER(P21),P21=SUMIFS(元出荷明細!$D$8:$D$57,元出荷明細!$A$8:$A$57,B21),ISNUMBER(Q21),Q21=SUMIFS($G$8:$G$57,$B$8:$B$57,B21,$E$8:$E$57,"有効",$F$8:$F$57,"確認済"),ISNUMBER(R21),R21=COUNTIFS($B$8:$B$57,B21,$E$8:$E$57,"有効",$F$8:$F$57,"未確認"),IF(R21>0,ISTEXT(S21),ISNUMBER(S21)),S21=IF(R21>0,"判定保留",P21-Q21),IF(AND(E21="有効",I21="返金",K21="確認済",M21="確認済"),ISNUMBER(T21),ISTEXT(T21)),T21=IF(E21="取消","取消",IF(I21="未確認","判定保留",IF(I21<>"返金","対象外",IF(AND(K21="確認済",M21="確認済"),L21-N21,"判定保留")))),ISTEXT(U21),U21=IF(E21="取消","取消",IF(F21="未確認","受取未確認",IF(H21="未確認","検品未確認",IF(H21="要対応","検品要対応",IF(D21="未確認","理由未確認",IF(I21="未確認","方針未確認",IF(J21="未確認","実物処理未確認",IF(I21<>"返金","照合済",IF(K21="未確認","合意未確認",IF(M21="未確認","実績未確認",IF(T21>0,"未返金",IF(T21<0,"過返金","照合済"))))))))))))),0,1)))) -> 0
P22: =IF(V22="","",IF(W22<>0,NA(),SUMIFS(元出荷明細!$D$8:$D$57,元出荷明細!$A$8:$A$57,B22))) | Q22: =IF(V22="","",IF(W22<>0,NA(),SUMIFS($G$8:$G$57,$B$8:$B$57,B22,$E$8:$E$57,"有効",$F$8:$F$57,"確認済"))) | R22: =IF(V22="","",IF(W22<>0,NA(),COUNTIFS($B$8:$B$57,B22,$E$8:$E$57,"有効",$F$8:$F$57,"未確認"))) | S22: =IF(V22="","",IF(W22<>0,NA(),IF(R22>0,"判定保留",P22-Q22))) | T22: =IF(V22="","",IF(W22<>0,NA(),IF(E22="取消","取消",IF(I22="未確認","判定保留",IF(I22<>"返金","対象外",IF(AND(K22="確認済",M22="確認済"),L22-N22,"判定保留")))))) | U22: =IF(V22="","",IF(W22<>0,NA(),IF(E22="取消","取消",IF(F22="未確認","受取未確認",IF(H22="未確認","検品未確認",IF(H22="要対応","検品要対応",IF(D22="未確認","理由未確認",IF(I22="未確認","方針未確認",IF(J22="未確認","実物処理未確認",IF(I22<>"返金","照合済",IF(K22="未確認","合意未確認",IF(M22="未確認","実績未確認",IF(T22>0,"未返金",IF(T22<0,"過返金","照合済")))))))))))))) | V22: =IF(COUNTA(A22:O22)=0,"",IF(NOT(AND(ISTEXT(A22),LEN(A22)=8,EXACT(LEFT(A22,4),"RET-"),ISNUMBER(FIND(MID(A22,5,1)&"x","0x1x2x3x4x5x6x7x8x9x")),ISNUMBER(FIND(MID(A22,6,1)&"x","0x1x2x3x4x5x6x7x8x9x")),ISNUMBER(FIND(MID(A22,7,1)&"x","0x1x2x3x4x5x6x7x8x9x")),ISNUMBER(FIND(MID(A22,8,1)&"x","0x1x2x3x4x5x6x7x8x9x")))),"返品IDはRET-と半角数字4桁",IF(COUNTIFS($A$8:$A$57,A22)>1,"返品IDが重複",IF(NOT(AND(ISTEXT(B22),LEN(B22)=8,EXACT(LEFT(B22,4),"SAL-"),ISNUMBER(FIND(MID(B22,5,1)&"x","0x1x2x3x4x5x6x7x8x9x")),ISNUMBER(FIND(MID(B22,6,1)&"x","0x1x2x3x4x5x6x7x8x9x")),ISNUMBER(FIND(MID(B22,7,1)&"x","0x1x2x3x4x5x6x7x8x9x")),ISNUMBER(FIND(MID(B22,8,1)&"x","0x1x2x3x4x5x6x7x8x9x")))),"元明細IDはSAL-と半角数字4桁",IF(COUNTIFS(元出荷明細!$A$8:$A$57,B22)<>1,"元明細が一意にありません",IF(NOT(IF(ISNUMBER(C22),AND(C22>=43831,C22<=73050,C22=INT(C22)),FALSE())),"受付日は時刻なしで必須",IF(C22<SUMIFS(元出荷明細!$C$8:$C$57,元出荷明細!$A$8:$A$57,B22),"受付日は元出荷日以上",IF(NOT(OR(D22="破損",D22="品違い",D22="数量違い",D22="その他",D22="未確認")),"理由を確認",IF(NOT(OR(E22="有効",E22="取消")),"記録状態を確認",IF(NOT(OR(F22="確認済",F22="未確認")),"受取区分を確認",IF(AND(F22="確認済",NOT(IF(ISNUMBER(G22),AND(G22>=1,G22<=1000000,G22=INT(G22)),FALSE()))),"受取数は1〜100万個整数で必須",IF(AND(F22="未確認",COUNTA(G22)>0),"受取未確認の数量は空欄",IF(NOT(OR(H22="確認済",H22="未確認",H22="要対応")),"検品を確認",IF(AND(H22<>"未確認",F22<>"確認済"),"検品前に受取数量を確認",IF(NOT(OR(I22="未確認",I22="返金",I22="交換",I22="返却",I22="その他")),"方針を確認",IF(NOT(OR(J22="確認済",J22="未確認")),"実物処理を確認",IF(AND(J22="確認済",OR(H22<>"確認済",I22="未確認")),"実物処理済は検品/方針が必要",IF(AND(I22="返金",NOT(AND(OR(K22="確認済",K22="未確認"),OR(M22="確認済",M22="未確認")))),"返金は合意/実績を別確認",IF(AND(I22="未確認",NOT(AND(K22="未確認",M22="未確認"))),"方針未確認の金額区分は未確認",IF(AND(OR(I22="交換",I22="返却",I22="その他"),NOT(AND(K22="対象外",M22="対象外"))),"返金以外は金額区分が対象外",IF(AND(K22="確認済",NOT(IF(ISNUMBER(L22),AND(L22>=0,L22<=1000000000,L22=INT(L22)),FALSE()))),"確認済金額は0〜10億円整数",IF(AND(K22<>"確認済",COUNTA(L22)>0),"未確認/対象外の金額は空欄",IF(AND(M22="確認済",NOT(IF(ISNUMBER(N22),AND(N22>=0,N22<=1000000000,N22=INT(N22)),FALSE()))),"確認済金額は0〜10億円整数",IF(AND(M22<>"確認済",COUNTA(N22)>0),"未確認/対象外の金額は空欄",IF(NOT(IF(ISNUMBER(O22),AND(O22>=43831,O22<=73050,O22=INT(O22)),FALSE())),"記録確認日は時刻なしで必須",IF(OR(C22>O22,O22>返品の確認!$B$3),"受付日≦確認日≦基準日",IF(AND(E22="有効",SUMIFS($G$8:$G$57,$B$8:$B$57,B22,$E$8:$E$57,"有効",$F$8:$F$57,"確認済")>SUMIFS(元出荷明細!$D$8:$D$57,元出荷明細!$A$8:$A$57,B22)),"全有効受取数が元出荷数を超過","確認済み"))))))))))))))))))))))))))) | W22: =IF(V22="","",IF(V22="確認済み",0,1)) | X22: =IF(COUNTA(A22:O22)=0,IF(AND(V22="",W22="",P22="",Q22="",R22="",S22="",T22="",U22=""),0,1),IF(NOT(AND(ISTEXT(V22),V22=IF(COUNTA(A22:O22)=0,"",IF(NOT(AND(ISTEXT(A22),LEN(A22)=8,EXACT(LEFT(A22,4),"RET-"),ISNUMBER(FIND(MID(A22,5,1)&"x","0x1x2x3x4x5x6x7x8x9x")),ISNUMBER(FIND(MID(A22,6,1)&"x","0x1x2x3x4x5x6x7x8x9x")),ISNUMBER(FIND(MID(A22,7,1)&"x","0x1x2x3x4x5x6x7x8x9x")),ISNUMBER(FIND(MID(A22,8,1)&"x","0x1x2x3x4x5x6x7x8x9x")))),"返品IDはRET-と半角数字4桁",IF(COUNTIFS($A$8:$A$57,A22)>1,"返品IDが重複",IF(NOT(AND(ISTEXT(B22),LEN(B22)=8,EXACT(LEFT(B22,4),"SAL-"),ISNUMBER(FIND(MID(B22,5,1)&"x","0x1x2x3x4x5x6x7x8x9x")),ISNUMBER(FIND(MID(B22,6,1)&"x","0x1x2x3x4x5x6x7x8x9x")),ISNUMBER(FIND(MID(B22,7,1)&"x","0x1x2x3x4x5x6x7x8x9x")),ISNUMBER(FIND(MID(B22,8,1)&"x","0x1x2x3x4x5x6x7x8x9x")))),"元明細IDはSAL-と半角数字4桁",IF(COUNTIFS(元出荷明細!$A$8:$A$57,B22)<>1,"元明細が一意にありません",IF(NOT(IF(ISNUMBER(C22),AND(C22>=43831,C22<=73050,C22=INT(C22)),FALSE())),"受付日は時刻なしで必須",IF(C22<SUMIFS(元出荷明細!$C$8:$C$57,元出荷明細!$A$8:$A$57,B22),"受付日は元出荷日以上",IF(NOT(OR(D22="破損",D22="品違い",D22="数量違い",D22="その他",D22="未確認")),"理由を確認",IF(NOT(OR(E22="有効",E22="取消")),"記録状態を確認",IF(NOT(OR(F22="確認済",F22="未確認")),"受取区分を確認",IF(AND(F22="確認済",NOT(IF(ISNUMBER(G22),AND(G22>=1,G22<=1000000,G22=INT(G22)),FALSE()))),"受取数は1〜100万個整数で必須",IF(AND(F22="未確認",COUNTA(G22)>0),"受取未確認の数量は空欄",IF(NOT(OR(H22="確認済",H22="未確認",H22="要対応")),"検品を確認",IF(AND(H22<>"未確認",F22<>"確認済"),"検品前に受取数量を確認",IF(NOT(OR(I22="未確認",I22="返金",I22="交換",I22="返却",I22="その他")),"方針を確認",IF(NOT(OR(J22="確認済",J22="未確認")),"実物処理を確認",IF(AND(J22="確認済",OR(H22<>"確認済",I22="未確認")),"実物処理済は検品/方針が必要",IF(AND(I22="返金",NOT(AND(OR(K22="確認済",K22="未確認"),OR(M22="確認済",M22="未確認")))),"返金は合意/実績を別確認",IF(AND(I22="未確認",NOT(AND(K22="未確認",M22="未確認"))),"方針未確認の金額区分は未確認",IF(AND(OR(I22="交換",I22="返却",I22="その他"),NOT(AND(K22="対象外",M22="対象外"))),"返金以外は金額区分が対象外",IF(AND(K22="確認済",NOT(IF(ISNUMBER(L22),AND(L22>=0,L22<=1000000000,L22=INT(L22)),FALSE()))),"確認済金額は0〜10億円整数",IF(AND(K22<>"確認済",COUNTA(L22)>0),"未確認/対象外の金額は空欄",IF(AND(M22="確認済",NOT(IF(ISNUMBER(N22),AND(N22>=0,N22<=1000000000,N22=INT(N22)),FALSE()))),"確認済金額は0〜10億円整数",IF(AND(M22<>"確認済",COUNTA(N22)>0),"未確認/対象外の金額は空欄",IF(NOT(IF(ISNUMBER(O22),AND(O22>=43831,O22<=73050,O22=INT(O22)),FALSE())),"記録確認日は時刻なしで必須",IF(OR(C22>O22,O22>返品の確認!$B$3),"受付日≦確認日≦基準日",IF(AND(E22="有効",SUMIFS($G$8:$G$57,$B$8:$B$57,B22,$E$8:$E$57,"有効",$F$8:$F$57,"確認済")>SUMIFS(元出荷明細!$D$8:$D$57,元出荷明細!$A$8:$A$57,B22)),"全有効受取数が元出荷数を超過","確認済み"))))))))))))))))))))))))))),ISNUMBER(W22),W22=IF(V22="確認済み",0,1))),1,IF(W22<>0,0,IF(AND(ISNUMBER(P22),P22=SUMIFS(元出荷明細!$D$8:$D$57,元出荷明細!$A$8:$A$57,B22),ISNUMBER(Q22),Q22=SUMIFS($G$8:$G$57,$B$8:$B$57,B22,$E$8:$E$57,"有効",$F$8:$F$57,"確認済"),ISNUMBER(R22),R22=COUNTIFS($B$8:$B$57,B22,$E$8:$E$57,"有効",$F$8:$F$57,"未確認"),IF(R22>0,ISTEXT(S22),ISNUMBER(S22)),S22=IF(R22>0,"判定保留",P22-Q22),IF(AND(E22="有効",I22="返金",K22="確認済",M22="確認済"),ISNUMBER(T22),ISTEXT(T22)),T22=IF(E22="取消","取消",IF(I22="未確認","判定保留",IF(I22<>"返金","対象外",IF(AND(K22="確認済",M22="確認済"),L22-N22,"判定保留")))),ISTEXT(U22),U22=IF(E22="取消","取消",IF(F22="未確認","受取未確認",IF(H22="未確認","検品未確認",IF(H22="要対応","検品要対応",IF(D22="未確認","理由未確認",IF(I22="未確認","方針未確認",IF(J22="未確認","実物処理未確認",IF(I22<>"返金","照合済",IF(K22="未確認","合意未確認",IF(M22="未確認","実績未確認",IF(T22>0,"未返金",IF(T22<0,"過返金","照合済"))))))))))))),0,1)))) -> 0
P23: =IF(V23="","",IF(W23<>0,NA(),SUMIFS(元出荷明細!$D$8:$D$57,元出荷明細!$A$8:$A$57,B23))) | Q23: =IF(V23="","",IF(W23<>0,NA(),SUMIFS($G$8:$G$57,$B$8:$B$57,B23,$E$8:$E$57,"有効",$F$8:$F$57,"確認済"))) | R23: =IF(V23="","",IF(W23<>0,NA(),COUNTIFS($B$8:$B$57,B23,$E$8:$E$57,"有効",$F$8:$F$57,"未確認"))) | S23: =IF(V23="","",IF(W23<>0,NA(),IF(R23>0,"判定保留",P23-Q23))) | T23: =IF(V23="","",IF(W23<>0,NA(),IF(E23="取消","取消",IF(I23="未確認","判定保留",IF(I23<>"返金","対象外",IF(AND(K23="確認済",M23="確認済"),L23-N23,"判定保留")))))) | U23: =IF(V23="","",IF(W23<>0,NA(),IF(E23="取消","取消",IF(F23="未確認","受取未確認",IF(H23="未確認","検品未確認",IF(H23="要対応","検品要対応",IF(D23="未確認","理由未確認",IF(I23="未確認","方針未確認",IF(J23="未確認","実物処理未確認",IF(I23<>"返金","照合済",IF(K23="未確認","合意未確認",IF(M23="未確認","実績未確認",IF(T23>0,"未返金",IF(T23<0,"過返金","照合済")))))))))))))) | V23: =IF(COUNTA(A23:O23)=0,"",IF(NOT(AND(ISTEXT(A23),LEN(A23)=8,EXACT(LEFT(A23,4),"RET-"),ISNUMBER(FIND(MID(A23,5,1)&"x","0x1x2x3x4x5x6x7x8x9x")),ISNUMBER(FIND(MID(A23,6,1)&"x","0x1x2x3x4x5x6x7x8x9x")),ISNUMBER(FIND(MID(A23,7,1)&"x","0x1x2x3x4x5x6x7x8x9x")),ISNUMBER(FIND(MID(A23,8,1)&"x","0x1x2x3x4x5x6x7x8x9x")))),"返品IDはRET-と半角数字4桁",IF(COUNTIFS($A$8:$A$57,A23)>1,"返品IDが重複",IF(NOT(AND(ISTEXT(B23),LEN(B23)=8,EXACT(LEFT(B23,4),"SAL-"),ISNUMBER(FIND(MID(B23,5,1)&"x","0x1x2x3x4x5x6x7x8x9x")),ISNUMBER(FIND(MID(B23,6,1)&"x","0x1x2x3x4x5x6x7x8x9x")),ISNUMBER(FIND(MID(B23,7,1)&"x","0x1x2x3x4x5x6x7x8x9x")),ISNUMBER(FIND(MID(B23,8,1)&"x","0x1x2x3x4x5x6x7x8x9x")))),"元明細IDはSAL-と半角数字4桁",IF(COUNTIFS(元出荷明細!$A$8:$A$57,B23)<>1,"元明細が一意にありません",IF(NOT(IF(ISNUMBER(C23),AND(C23>=43831,C23<=73050,C23=INT(C23)),FALSE())),"受付日は時刻なしで必須",IF(C23<SUMIFS(元出荷明細!$C$8:$C$57,元出荷明細!$A$8:$A$57,B23),"受付日は元出荷日以上",IF(NOT(OR(D23="破損",D23="品違い",D23="数量違い",D23="その他",D23="未確認")),"理由を確認",IF(NOT(OR(E23="有効",E23="取消")),"記録状態を確認",IF(NOT(OR(F23="確認済",F23="未確認")),"受取区分を確認",IF(AND(F23="確認済",NOT(IF(ISNUMBER(G23),AND(G23>=1,G23<=1000000,G23=INT(G23)),FALSE()))),"受取数は1〜100万個整数で必須",IF(AND(F23="未確認",COUNTA(G23)>0),"受取未確認の数量は空欄",IF(NOT(OR(H23="確認済",H23="未確認",H23="要対応")),"検品を確認",IF(AND(H23<>"未確認",F23<>"確認済"),"検品前に受取数量を確認",IF(NOT(OR(I23="未確認",I23="返金",I23="交換",I23="返却",I23="その他")),"方針を確認",IF(NOT(OR(J23="確認済",J23="未確認")),"実物処理を確認",IF(AND(J23="確認済",OR(H23<>"確認済",I23="未確認")),"実物処理済は検品/方針が必要",IF(AND(I23="返金",NOT(AND(OR(K23="確認済",K23="未確認"),OR(M23="確認済",M23="未確認")))),"返金は合意/実績を別確認",IF(AND(I23="未確認",NOT(AND(K23="未確認",M23="未確認"))),"方針未確認の金額区分は未確認",IF(AND(OR(I23="交換",I23="返却",I23="その他"),NOT(AND(K23="対象外",M23="対象外"))),"返金以外は金額区分が対象外",IF(AND(K23="確認済",NOT(IF(ISNUMBER(L23),AND(L23>=0,L23<=1000000000,L23=INT(L23)),FALSE()))),"確認済金額は0〜10億円整数",IF(AND(K23<>"確認済",COUNTA(L23)>0),"未確認/対象外の金額は空欄",IF(AND(M23="確認済",NOT(IF(ISNUMBER(N23),AND(N23>=0,N23<=1000000000,N23=INT(N23)),FALSE()))),"確認済金額は0〜10億円整数",IF(AND(M23<>"確認済",COUNTA(N23)>0),"未確認/対象外の金額は空欄",IF(NOT(IF(ISNUMBER(O23),AND(O23>=43831,O23<=73050,O23=INT(O23)),FALSE())),"記録確認日は時刻なしで必須",IF(OR(C23>O23,O23>返品の確認!$B$3),"受付日≦確認日≦基準日",IF(AND(E23="有効",SUMIFS($G$8:$G$57,$B$8:$B$57,B23,$E$8:$E$57,"有効",$F$8:$F$57,"確認済")>SUMIFS(元出荷明細!$D$8:$D$57,元出荷明細!$A$8:$A$57,B23)),"全有効受取数が元出荷数を超過","確認済み"))))))))))))))))))))))))))) | W23: =IF(V23="","",IF(V23="確認済み",0,1)) | X23: =IF(COUNTA(A23:O23)=0,IF(AND(V23="",W23="",P23="",Q23="",R23="",S23="",T23="",U23=""),0,1),IF(NOT(AND(ISTEXT(V23),V23=IF(COUNTA(A23:O23)=0,"",IF(NOT(AND(ISTEXT(A23),LEN(A23)=8,EXACT(LEFT(A23,4),"RET-"),ISNUMBER(FIND(MID(A23,5,1)&"x","0x1x2x3x4x5x6x7x8x9x")),ISNUMBER(FIND(MID(A23,6,1)&"x","0x1x2x3x4x5x6x7x8x9x")),ISNUMBER(FIND(MID(A23,7,1)&"x","0x1x2x3x4x5x6x7x8x9x")),ISNUMBER(FIND(MID(A23,8,1)&"x","0x1x2x3x4x5x6x7x8x9x")))),"返品IDはRET-と半角数字4桁",IF(COUNTIFS($A$8:$A$57,A23)>1,"返品IDが重複",IF(NOT(AND(ISTEXT(B23),LEN(B23)=8,EXACT(LEFT(B23,4),"SAL-"),ISNUMBER(FIND(MID(B23,5,1)&"x","0x1x2x3x4x5x6x7x8x9x")),ISNUMBER(FIND(MID(B23,6,1)&"x","0x1x2x3x4x5x6x7x8x9x")),ISNUMBER(FIND(MID(B23,7,1)&"x","0x1x2x3x4x5x6x7x8x9x")),ISNUMBER(FIND(MID(B23,8,1)&"x","0x1x2x3x4x5x6x7x8x9x")))),"元明細IDはSAL-と半角数字4桁",IF(COUNTIFS(元出荷明細!$A$8:$A$57,B23)<>1,"元明細が一意にありません",IF(NOT(IF(ISNUMBER(C23),AND(C23>=43831,C23<=73050,C23=INT(C23)),FALSE())),"受付日は時刻なしで必須",IF(C23<SUMIFS(元出荷明細!$C$8:$C$57,元出荷明細!$A$8:$A$57,B23),"受付日は元出荷日以上",IF(NOT(OR(D23="破損",D23="品違い",D23="数量違い",D23="その他",D23="未確認")),"理由を確認",IF(NOT(OR(E23="有効",E23="取消")),"記録状態を確認",IF(NOT(OR(F23="確認済",F23="未確認")),"受取区分を確認",IF(AND(F23="確認済",NOT(IF(ISNUMBER(G23),AND(G23>=1,G23<=1000000,G23=INT(G23)),FALSE()))),"受取数は1〜100万個整数で必須",IF(AND(F23="未確認",COUNTA(G23)>0),"受取未確認の数量は空欄",IF(NOT(OR(H23="確認済",H23="未確認",H23="要対応")),"検品を確認",IF(AND(H23<>"未確認",F23<>"確認済"),"検品前に受取数量を確認",IF(NOT(OR(I23="未確認",I23="返金",I23="交換",I23="返却",I23="その他")),"方針を確認",IF(NOT(OR(J23="確認済",J23="未確認")),"実物処理を確認",IF(AND(J23="確認済",OR(H23<>"確認済",I23="未確認")),"実物処理済は検品/方針が必要",IF(AND(I23="返金",NOT(AND(OR(K23="確認済",K23="未確認"),OR(M23="確認済",M23="未確認")))),"返金は合意/実績を別確認",IF(AND(I23="未確認",NOT(AND(K23="未確認",M23="未確認"))),"方針未確認の金額区分は未確認",IF(AND(OR(I23="交換",I23="返却",I23="その他"),NOT(AND(K23="対象外",M23="対象外"))),"返金以外は金額区分が対象外",IF(AND(K23="確認済",NOT(IF(ISNUMBER(L23),AND(L23>=0,L23<=1000000000,L23=INT(L23)),FALSE()))),"確認済金額は0〜10億円整数",IF(AND(K23<>"確認済",COUNTA(L23)>0),"未確認/対象外の金額は空欄",IF(AND(M23="確認済",NOT(IF(ISNUMBER(N23),AND(N23>=0,N23<=1000000000,N23=INT(N23)),FALSE()))),"確認済金額は0〜10億円整数",IF(AND(M23<>"確認済",COUNTA(N23)>0),"未確認/対象外の金額は空欄",IF(NOT(IF(ISNUMBER(O23),AND(O23>=43831,O23<=73050,O23=INT(O23)),FALSE())),"記録確認日は時刻なしで必須",IF(OR(C23>O23,O23>返品の確認!$B$3),"受付日≦確認日≦基準日",IF(AND(E23="有効",SUMIFS($G$8:$G$57,$B$8:$B$57,B23,$E$8:$E$57,"有効",$F$8:$F$57,"確認済")>SUMIFS(元出荷明細!$D$8:$D$57,元出荷明細!$A$8:$A$57,B23)),"全有効受取数が元出荷数を超過","確認済み"))))))))))))))))))))))))))),ISNUMBER(W23),W23=IF(V23="確認済み",0,1))),1,IF(W23<>0,0,IF(AND(ISNUMBER(P23),P23=SUMIFS(元出荷明細!$D$8:$D$57,元出荷明細!$A$8:$A$57,B23),ISNUMBER(Q23),Q23=SUMIFS($G$8:$G$57,$B$8:$B$57,B23,$E$8:$E$57,"有効",$F$8:$F$57,"確認済"),ISNUMBER(R23),R23=COUNTIFS($B$8:$B$57,B23,$E$8:$E$57,"有効",$F$8:$F$57,"未確認"),IF(R23>0,ISTEXT(S23),ISNUMBER(S23)),S23=IF(R23>0,"判定保留",P23-Q23),IF(AND(E23="有効",I23="返金",K23="確認済",M23="確認済"),ISNUMBER(T23),ISTEXT(T23)),T23=IF(E23="取消","取消",IF(I23="未確認","判定保留",IF(I23<>"返金","対象外",IF(AND(K23="確認済",M23="確認済"),L23-N23,"判定保留")))),ISTEXT(U23),U23=IF(E23="取消","取消",IF(F23="未確認","受取未確認",IF(H23="未確認","検品未確認",IF(H23="要対応","検品要対応",IF(D23="未確認","理由未確認",IF(I23="未確認","方針未確認",IF(J23="未確認","実物処理未確認",IF(I23<>"返金","照合済",IF(K23="未確認","合意未確認",IF(M23="未確認","実績未確認",IF(T23>0,"未返金",IF(T23<0,"過返金","照合済"))))))))))))),0,1)))) -> 0
P24: =IF(V24="","",IF(W24<>0,NA(),SUMIFS(元出荷明細!$D$8:$D$57,元出荷明細!$A$8:$A$57,B24))) | Q24: =IF(V24="","",IF(W24<>0,NA(),SUMIFS($G$8:$G$57,$B$8:$B$57,B24,$E$8:$E$57,"有効",$F$8:$F$57,"確認済"))) | R24: =IF(V24="","",IF(W24<>0,NA(),COUNTIFS($B$8:$B$57,B24,$E$8:$E$57,"有効",$F$8:$F$57,"未確認"))) | S24: =IF(V24="","",IF(W24<>0,NA(),IF(R24>0,"判定保留",P24-Q24))) | T24: =IF(V24="","",IF(W24<>0,NA(),IF(E24="取消","取消",IF(I24="未確認","判定保留",IF(I24<>"返金","対象外",IF(AND(K24="確認済",M24="確認済"),L24-N24,"判定保留")))))) | U24: =IF(V24="","",IF(W24<>0,NA(),IF(E24="取消","取消",IF(F24="未確認","受取未確認",IF(H24="未確認","検品未確認",IF(H24="要対応","検品要対応",IF(D24="未確認","理由未確認",IF(I24="未確認","方針未確認",IF(J24="未確認","実物処理未確認",IF(I24<>"返金","照合済",IF(K24="未確認","合意未確認",IF(M24="未確認","実績未確認",IF(T24>0,"未返金",IF(T24<0,"過返金","照合済")))))))))))))) | V24: =IF(COUNTA(A24:O24)=0,"",IF(NOT(AND(ISTEXT(A24),LEN(A24)=8,EXACT(LEFT(A24,4),"RET-"),ISNUMBER(FIND(MID(A24,5,1)&"x","0x1x2x3x4x5x6x7x8x9x")),ISNUMBER(FIND(MID(A24,6,1)&"x","0x1x2x3x4x5x6x7x8x9x")),ISNUMBER(FIND(MID(A24,7,1)&"x","0x1x2x3x4x5x6x7x8x9x")),ISNUMBER(FIND(MID(A24,8,1)&"x","0x1x2x3x4x5x6x7x8x9x")))),"返品IDはRET-と半角数字4桁",IF(COUNTIFS($A$8:$A$57,A24)>1,"返品IDが重複",IF(NOT(AND(ISTEXT(B24),LEN(B24)=8,EXACT(LEFT(B24,4),"SAL-"),ISNUMBER(FIND(MID(B24,5,1)&"x","0x1x2x3x4x5x6x7x8x9x")),ISNUMBER(FIND(MID(B24,6,1)&"x","0x1x2x3x4x5x6x7x8x9x")),ISNUMBER(FIND(MID(B24,7,1)&"x","0x1x2x3x4x5x6x7x8x9x")),ISNUMBER(FIND(MID(B24,8,1)&"x","0x1x2x3x4x5x6x7x8x9x")))),"元明細IDはSAL-と半角数字4桁",IF(COUNTIFS(元出荷明細!$A$8:$A$57,B24)<>1,"元明細が一意にありません",IF(NOT(IF(ISNUMBER(C24),AND(C24>=43831,C24<=73050,C24=INT(C24)),FALSE())),"受付日は時刻なしで必須",IF(C24<SUMIFS(元出荷明細!$C$8:$C$57,元出荷明細!$A$8:$A$57,B24),"受付日は元出荷日以上",IF(NOT(OR(D24="破損",D24="品違い",D24="数量違い",D24="その他",D24="未確認")),"理由を確認",IF(NOT(OR(E24="有効",E24="取消")),"記録状態を確認",IF(NOT(OR(F24="確認済",F24="未確認")),"受取区分を確認",IF(AND(F24="確認済",NOT(IF(ISNUMBER(G24),AND(G24>=1,G24<=1000000,G24=INT(G24)),FALSE()))),"受取数は1〜100万個整数で必須",IF(AND(F24="未確認",COUNTA(G24)>0),"受取未確認の数量は空欄",IF(NOT(OR(H24="確認済",H24="未確認",H24="要対応")),"検品を確認",IF(AND(H24<>"未確認",F24<>"確認済"),"検品前に受取数量を確認",IF(NOT(OR(I24="未確認",I24="返金",I24="交換",I24="返却",I24="その他")),"方針を確認",IF(NOT(OR(J24="確認済",J24="未確認")),"実物処理を確認",IF(AND(J24="確認済",OR(H24<>"確認済",I24="未確認")),"実物処理済は検品/方針が必要",IF(AND(I24="返金",NOT(AND(OR(K24="確認済",K24="未確認"),OR(M24="確認済",M24="未確認")))),"返金は合意/実績を別確認",IF(AND(I24="未確認",NOT(AND(K24="未確認",M24="未確認"))),"方針未確認の金額区分は未確認",IF(AND(OR(I24="交換",I24="返却",I24="その他"),NOT(AND(K24="対象外",M24="対象外"))),"返金以外は金額区分が対象外",IF(AND(K24="確認済",NOT(IF(ISNUMBER(L24),AND(L24>=0,L24<=1000000000,L24=INT(L24)),FALSE()))),"確認済金額は0〜10億円整数",IF(AND(K24<>"確認済",COUNTA(L24)>0),"未確認/対象外の金額は空欄",IF(AND(M24="確認済",NOT(IF(ISNUMBER(N24),AND(N24>=0,N24<=1000000000,N24=INT(N24)),FALSE()))),"確認済金額は0〜10億円整数",IF(AND(M24<>"確認済",COUNTA(N24)>0),"未確認/対象外の金額は空欄",IF(NOT(IF(ISNUMBER(O24),AND(O24>=43831,O24<=73050,O24=INT(O24)),FALSE())),"記録確認日は時刻なしで必須",IF(OR(C24>O24,O24>返品の確認!$B$3),"受付日≦確認日≦基準日",IF(AND(E24="有効",SUMIFS($G$8:$G$57,$B$8:$B$57,B24,$E$8:$E$57,"有効",$F$8:$F$57,"確認済")>SUMIFS(元出荷明細!$D$8:$D$57,元出荷明細!$A$8:$A$57,B24)),"全有効受取数が元出荷数を超過","確認済み"))))))))))))))))))))))))))) | W24: =IF(V24="","",IF(V24="確認済み",0,1)) | X24: =IF(COUNTA(A24:O24)=0,IF(AND(V24="",W24="",P24="",Q24="",R24="",S24="",T24="",U24=""),0,1),IF(NOT(AND(ISTEXT(V24),V24=IF(COUNTA(A24:O24)=0,"",IF(NOT(AND(ISTEXT(A24),LEN(A24)=8,EXACT(LEFT(A24,4),"RET-"),ISNUMBER(FIND(MID(A24,5,1)&"x","0x1x2x3x4x5x6x7x8x9x")),ISNUMBER(FIND(MID(A24,6,1)&"x","0x1x2x3x4x5x6x7x8x9x")),ISNUMBER(FIND(MID(A24,7,1)&"x","0x1x2x3x4x5x6x7x8x9x")),ISNUMBER(FIND(MID(A24,8,1)&"x","0x1x2x3x4x5x6x7x8x9x")))),"返品IDはRET-と半角数字4桁",IF(COUNTIFS($A$8:$A$57,A24)>1,"返品IDが重複",IF(NOT(AND(ISTEXT(B24),LEN(B24)=8,EXACT(LEFT(B24,4),"SAL-"),ISNUMBER(FIND(MID(B24,5,1)&"x","0x1x2x3x4x5x6x7x8x9x")),ISNUMBER(FIND(MID(B24,6,1)&"x","0x1x2x3x4x5x6x7x8x9x")),ISNUMBER(FIND(MID(B24,7,1)&"x","0x1x2x3x4x5x6x7x8x9x")),ISNUMBER(FIND(MID(B24,8,1)&"x","0x1x2x3x4x5x6x7x8x9x")))),"元明細IDはSAL-と半角数字4桁",IF(COUNTIFS(元出荷明細!$A$8:$A$57,B24)<>1,"元明細が一意にありません",IF(NOT(IF(ISNUMBER(C24),AND(C24>=43831,C24<=73050,C24=INT(C24)),FALSE())),"受付日は時刻なしで必須",IF(C24<SUMIFS(元出荷明細!$C$8:$C$57,元出荷明細!$A$8:$A$57,B24),"受付日は元出荷日以上",IF(NOT(OR(D24="破損",D24="品違い",D24="数量違い",D24="その他",D24="未確認")),"理由を確認",IF(NOT(OR(E24="有効",E24="取消")),"記録状態を確認",IF(NOT(OR(F24="確認済",F24="未確認")),"受取区分を確認",IF(AND(F24="確認済",NOT(IF(ISNUMBER(G24),AND(G24>=1,G24<=1000000,G24=INT(G24)),FALSE()))),"受取数は1〜100万個整数で必須",IF(AND(F24="未確認",COUNTA(G24)>0),"受取未確認の数量は空欄",IF(NOT(OR(H24="確認済",H24="未確認",H24="要対応")),"検品を確認",IF(AND(H24<>"未確認",F24<>"確認済"),"検品前に受取数量を確認",IF(NOT(OR(I24="未確認",I24="返金",I24="交換",I24="返却",I24="その他")),"方針を確認",IF(NOT(OR(J24="確認済",J24="未確認")),"実物処理を確認",IF(AND(J24="確認済",OR(H24<>"確認済",I24="未確認")),"実物処理済は検品/方針が必要",IF(AND(I24="返金",NOT(AND(OR(K24="確認済",K24="未確認"),OR(M24="確認済",M24="未確認")))),"返金は合意/実績を別確認",IF(AND(I24="未確認",NOT(AND(K24="未確認",M24="未確認"))),"方針未確認の金額区分は未確認",IF(AND(OR(I24="交換",I24="返却",I24="その他"),NOT(AND(K24="対象外",M24="対象外"))),"返金以外は金額区分が対象外",IF(AND(K24="確認済",NOT(IF(ISNUMBER(L24),AND(L24>=0,L24<=1000000000,L24=INT(L24)),FALSE()))),"確認済金額は0〜10億円整数",IF(AND(K24<>"確認済",COUNTA(L24)>0),"未確認/対象外の金額は空欄",IF(AND(M24="確認済",NOT(IF(ISNUMBER(N24),AND(N24>=0,N24<=1000000000,N24=INT(N24)),FALSE()))),"確認済金額は0〜10億円整数",IF(AND(M24<>"確認済",COUNTA(N24)>0),"未確認/対象外の金額は空欄",IF(NOT(IF(ISNUMBER(O24),AND(O24>=43831,O24<=73050,O24=INT(O24)),FALSE())),"記録確認日は時刻なしで必須",IF(OR(C24>O24,O24>返品の確認!$B$3),"受付日≦確認日≦基準日",IF(AND(E24="有効",SUMIFS($G$8:$G$57,$B$8:$B$57,B24,$E$8:$E$57,"有効",$F$8:$F$57,"確認済")>SUMIFS(元出荷明細!$D$8:$D$57,元出荷明細!$A$8:$A$57,B24)),"全有効受取数が元出荷数を超過","確認済み"))))))))))))))))))))))))))),ISNUMBER(W24),W24=IF(V24="確認済み",0,1))),1,IF(W24<>0,0,IF(AND(ISNUMBER(P24),P24=SUMIFS(元出荷明細!$D$8:$D$57,元出荷明細!$A$8:$A$57,B24),ISNUMBER(Q24),Q24=SUMIFS($G$8:$G$57,$B$8:$B$57,B24,$E$8:$E$57,"有効",$F$8:$F$57,"確認済"),ISNUMBER(R24),R24=COUNTIFS($B$8:$B$57,B24,$E$8:$E$57,"有効",$F$8:$F$57,"未確認"),IF(R24>0,ISTEXT(S24),ISNUMBER(S24)),S24=IF(R24>0,"判定保留",P24-Q24),IF(AND(E24="有効",I24="返金",K24="確認済",M24="確認済"),ISNUMBER(T24),ISTEXT(T24)),T24=IF(E24="取消","取消",IF(I24="未確認","判定保留",IF(I24<>"返金","対象外",IF(AND(K24="確認済",M24="確認済"),L24-N24,"判定保留")))),ISTEXT(U24),U24=IF(E24="取消","取消",IF(F24="未確認","受取未確認",IF(H24="未確認","検品未確認",IF(H24="要対応","検品要対応",IF(D24="未確認","理由未確認",IF(I24="未確認","方針未確認",IF(J24="未確認","実物処理未確認",IF(I24<>"返金","照合済",IF(K24="未確認","合意未確認",IF(M24="未確認","実績未確認",IF(T24>0,"未返金",IF(T24<0,"過返金","照合済"))))))))))))),0,1)))) -> 0
P25: =IF(V25="","",IF(W25<>0,NA(),SUMIFS(元出荷明細!$D$8:$D$57,元出荷明細!$A$8:$A$57,B25))) | Q25: =IF(V25="","",IF(W25<>0,NA(),SUMIFS($G$8:$G$57,$B$8:$B$57,B25,$E$8:$E$57,"有効",$F$8:$F$57,"確認済"))) | R25: =IF(V25="","",IF(W25<>0,NA(),COUNTIFS($B$8:$B$57,B25,$E$8:$E$57,"有効",$F$8:$F$57,"未確認"))) | S25: =IF(V25="","",IF(W25<>0,NA(),IF(R25>0,"判定保留",P25-Q25))) | T25: =IF(V25="","",IF(W25<>0,NA(),IF(E25="取消","取消",IF(I25="未確認","判定保留",IF(I25<>"返金","対象外",IF(AND(K25="確認済",M25="確認済"),L25-N25,"判定保留")))))) | U25: =IF(V25="","",IF(W25<>0,NA(),IF(E25="取消","取消",IF(F25="未確認","受取未確認",IF(H25="未確認","検品未確認",IF(H25="要対応","検品要対応",IF(D25="未確認","理由未確認",IF(I25="未確認","方針未確認",IF(J25="未確認","実物処理未確認",IF(I25<>"返金","照合済",IF(K25="未確認","合意未確認",IF(M25="未確認","実績未確認",IF(T25>0,"未返金",IF(T25<0,"過返金","照合済")))))))))))))) | V25: =IF(COUNTA(A25:O25)=0,"",IF(NOT(AND(ISTEXT(A25),LEN(A25)=8,EXACT(LEFT(A25,4),"RET-"),ISNUMBER(FIND(MID(A25,5,1)&"x","0x1x2x3x4x5x6x7x8x9x")),ISNUMBER(FIND(MID(A25,6,1)&"x","0x1x2x3x4x5x6x7x8x9x")),ISNUMBER(FIND(MID(A25,7,1)&"x","0x1x2x3x4x5x6x7x8x9x")),ISNUMBER(FIND(MID(A25,8,1)&"x","0x1x2x3x4x5x6x7x8x9x")))),"返品IDはRET-と半角数字4桁",IF(COUNTIFS($A$8:$A$57,A25)>1,"返品IDが重複",IF(NOT(AND(ISTEXT(B25),LEN(B25)=8,EXACT(LEFT(B25,4),"SAL-"),ISNUMBER(FIND(MID(B25,5,1)&"x","0x1x2x3x4x5x6x7x8x9x")),ISNUMBER(FIND(MID(B25,6,1)&"x","0x1x2x3x4x5x6x7x8x9x")),ISNUMBER(FIND(MID(B25,7,1)&"x","0x1x2x3x4x5x6x7x8x9x")),ISNUMBER(FIND(MID(B25,8,1)&"x","0x1x2x3x4x5x6x7x8x9x")))),"元明細IDはSAL-と半角数字4桁",IF(COUNTIFS(元出荷明細!$A$8:$A$57,B25)<>1,"元明細が一意にありません",IF(NOT(IF(ISNUMBER(C25),AND(C25>=43831,C25<=73050,C25=INT(C25)),FALSE())),"受付日は時刻なしで必須",IF(C25<SUMIFS(元出荷明細!$C$8:$C$57,元出荷明細!$A$8:$A$57,B25),"受付日は元出荷日以上",IF(NOT(OR(D25="破損",D25="品違い",D25="数量違い",D25="その他",D25="未確認")),"理由を確認",IF(NOT(OR(E25="有効",E25="取消")),"記録状態を確認",IF(NOT(OR(F25="確認済",F25="未確認")),"受取区分を確認",IF(AND(F25="確認済",NOT(IF(ISNUMBER(G25),AND(G25>=1,G25<=1000000,G25=INT(G25)),FALSE()))),"受取数は1〜100万個整数で必須",IF(AND(F25="未確認",COUNTA(G25)>0),"受取未確認の数量は空欄",IF(NOT(OR(H25="確認済",H25="未確認",H25="要対応")),"検品を確認",IF(AND(H25<>"未確認",F25<>"確認済"),"検品前に受取数量を確認",IF(NOT(OR(I25="未確認",I25="返金",I25="交換",I25="返却",I25="その他")),"方針を確認",IF(NOT(OR(J25="確認済",J25="未確認")),"実物処理を確認",IF(AND(J25="確認済",OR(H25<>"確認済",I25="未確認")),"実物処理済は検品/方針が必要",IF(AND(I25="返金",NOT(AND(OR(K25="確認済",K25="未確認"),OR(M25="確認済",M25="未確認")))),"返金は合意/実績を別確認",IF(AND(I25="未確認",NOT(AND(K25="未確認",M25="未確認"))),"方針未確認の金額区分は未確認",IF(AND(OR(I25="交換",I25="返却",I25="その他"),NOT(AND(K25="対象外",M25="対象外"))),"返金以外は金額区分が対象外",IF(AND(K25="確認済",NOT(IF(ISNUMBER(L25),AND(L25>=0,L25<=1000000000,L25=INT(L25)),FALSE()))),"確認済金額は0〜10億円整数",IF(AND(K25<>"確認済",COUNTA(L25)>0),"未確認/対象外の金額は空欄",IF(AND(M25="確認済",NOT(IF(ISNUMBER(N25),AND(N25>=0,N25<=1000000000,N25=INT(N25)),FALSE()))),"確認済金額は0〜10億円整数",IF(AND(M25<>"確認済",COUNTA(N25)>0),"未確認/対象外の金額は空欄",IF(NOT(IF(ISNUMBER(O25),AND(O25>=43831,O25<=73050,O25=INT(O25)),FALSE())),"記録確認日は時刻なしで必須",IF(OR(C25>O25,O25>返品の確認!$B$3),"受付日≦確認日≦基準日",IF(AND(E25="有効",SUMIFS($G$8:$G$57,$B$8:$B$57,B25,$E$8:$E$57,"有効",$F$8:$F$57,"確認済")>SUMIFS(元出荷明細!$D$8:$D$57,元出荷明細!$A$8:$A$57,B25)),"全有効受取数が元出荷数を超過","確認済み"))))))))))))))))))))))))))) | W25: =IF(V25="","",IF(V25="確認済み",0,1)) | X25: =IF(COUNTA(A25:O25)=0,IF(AND(V25="",W25="",P25="",Q25="",R25="",S25="",T25="",U25=""),0,1),IF(NOT(AND(ISTEXT(V25),V25=IF(COUNTA(A25:O25)=0,"",IF(NOT(AND(ISTEXT(A25),LEN(A25)=8,EXACT(LEFT(A25,4),"RET-"),ISNUMBER(FIND(MID(A25,5,1)&"x","0x1x2x3x4x5x6x7x8x9x")),ISNUMBER(FIND(MID(A25,6,1)&"x","0x1x2x3x4x5x6x7x8x9x")),ISNUMBER(FIND(MID(A25,7,1)&"x","0x1x2x3x4x5x6x7x8x9x")),ISNUMBER(FIND(MID(A25,8,1)&"x","0x1x2x3x4x5x6x7x8x9x")))),"返品IDはRET-と半角数字4桁",IF(COUNTIFS($A$8:$A$57,A25)>1,"返品IDが重複",IF(NOT(AND(ISTEXT(B25),LEN(B25)=8,EXACT(LEFT(B25,4),"SAL-"),ISNUMBER(FIND(MID(B25,5,1)&"x","0x1x2x3x4x5x6x7x8x9x")),ISNUMBER(FIND(MID(B25,6,1)&"x","0x1x2x3x4x5x6x7x8x9x")),ISNUMBER(FIND(MID(B25,7,1)&"x","0x1x2x3x4x5x6x7x8x9x")),ISNUMBER(FIND(MID(B25,8,1)&"x","0x1x2x3x4x5x6x7x8x9x")))),"元明細IDはSAL-と半角数字4桁",IF(COUNTIFS(元出荷明細!$A$8:$A$57,B25)<>1,"元明細が一意にありません",IF(NOT(IF(ISNUMBER(C25),AND(C25>=43831,C25<=73050,C25=INT(C25)),FALSE())),"受付日は時刻なしで必須",IF(C25<SUMIFS(元出荷明細!$C$8:$C$57,元出荷明細!$A$8:$A$57,B25),"受付日は元出荷日以上",IF(NOT(OR(D25="破損",D25="品違い",D25="数量違い",D25="その他",D25="未確認")),"理由を確認",IF(NOT(OR(E25="有効",E25="取消")),"記録状態を確認",IF(NOT(OR(F25="確認済",F25="未確認")),"受取区分を確認",IF(AND(F25="確認済",NOT(IF(ISNUMBER(G25),AND(G25>=1,G25<=1000000,G25=INT(G25)),FALSE()))),"受取数は1〜100万個整数で必須",IF(AND(F25="未確認",COUNTA(G25)>0),"受取未確認の数量は空欄",IF(NOT(OR(H25="確認済",H25="未確認",H25="要対応")),"検品を確認",IF(AND(H25<>"未確認",F25<>"確認済"),"検品前に受取数量を確認",IF(NOT(OR(I25="未確認",I25="返金",I25="交換",I25="返却",I25="その他")),"方針を確認",IF(NOT(OR(J25="確認済",J25="未確認")),"実物処理を確認",IF(AND(J25="確認済",OR(H25<>"確認済",I25="未確認")),"実物処理済は検品/方針が必要",IF(AND(I25="返金",NOT(AND(OR(K25="確認済",K25="未確認"),OR(M25="確認済",M25="未確認")))),"返金は合意/実績を別確認",IF(AND(I25="未確認",NOT(AND(K25="未確認",M25="未確認"))),"方針未確認の金額区分は未確認",IF(AND(OR(I25="交換",I25="返却",I25="その他"),NOT(AND(K25="対象外",M25="対象外"))),"返金以外は金額区分が対象外",IF(AND(K25="確認済",NOT(IF(ISNUMBER(L25),AND(L25>=0,L25<=1000000000,L25=INT(L25)),FALSE()))),"確認済金額は0〜10億円整数",IF(AND(K25<>"確認済",COUNTA(L25)>0),"未確認/対象外の金額は空欄",IF(AND(M25="確認済",NOT(IF(ISNUMBER(N25),AND(N25>=0,N25<=1000000000,N25=INT(N25)),FALSE()))),"確認済金額は0〜10億円整数",IF(AND(M25<>"確認済",COUNTA(N25)>0),"未確認/対象外の金額は空欄",IF(NOT(IF(ISNUMBER(O25),AND(O25>=43831,O25<=73050,O25=INT(O25)),FALSE())),"記録確認日は時刻なしで必須",IF(OR(C25>O25,O25>返品の確認!$B$3),"受付日≦確認日≦基準日",IF(AND(E25="有効",SUMIFS($G$8:$G$57,$B$8:$B$57,B25,$E$8:$E$57,"有効",$F$8:$F$57,"確認済")>SUMIFS(元出荷明細!$D$8:$D$57,元出荷明細!$A$8:$A$57,B25)),"全有効受取数が元出荷数を超過","確認済み"))))))))))))))))))))))))))),ISNUMBER(W25),W25=IF(V25="確認済み",0,1))),1,IF(W25<>0,0,IF(AND(ISNUMBER(P25),P25=SUMIFS(元出荷明細!$D$8:$D$57,元出荷明細!$A$8:$A$57,B25),ISNUMBER(Q25),Q25=SUMIFS($G$8:$G$57,$B$8:$B$57,B25,$E$8:$E$57,"有効",$F$8:$F$57,"確認済"),ISNUMBER(R25),R25=COUNTIFS($B$8:$B$57,B25,$E$8:$E$57,"有効",$F$8:$F$57,"未確認"),IF(R25>0,ISTEXT(S25),ISNUMBER(S25)),S25=IF(R25>0,"判定保留",P25-Q25),IF(AND(E25="有効",I25="返金",K25="確認済",M25="確認済"),ISNUMBER(T25),ISTEXT(T25)),T25=IF(E25="取消","取消",IF(I25="未確認","判定保留",IF(I25<>"返金","対象外",IF(AND(K25="確認済",M25="確認済"),L25-N25,"判定保留")))),ISTEXT(U25),U25=IF(E25="取消","取消",IF(F25="未確認","受取未確認",IF(H25="未確認","検品未確認",IF(H25="要対応","検品要対応",IF(D25="未確認","理由未確認",IF(I25="未確認","方針未確認",IF(J25="未確認","実物処理未確認",IF(I25<>"返金","照合済",IF(K25="未確認","合意未確認",IF(M25="未確認","実績未確認",IF(T25>0,"未返金",IF(T25<0,"過返金","照合済"))))))))))))),0,1)))) -> 0
P26: =IF(V26="","",IF(W26<>0,NA(),SUMIFS(元出荷明細!$D$8:$D$57,元出荷明細!$A$8:$A$57,B26))) | Q26: =IF(V26="","",IF(W26<>0,NA(),SUMIFS($G$8:$G$57,$B$8:$B$57,B26,$E$8:$E$57,"有効",$F$8:$F$57,"確認済"))) | R26: =IF(V26="","",IF(W26<>0,NA(),COUNTIFS($B$8:$B$57,B26,$E$8:$E$57,"有効",$F$8:$F$57,"未確認"))) | S26: =IF(V26="","",IF(W26<>0,NA(),IF(R26>0,"判定保留",P26-Q26))) | T26: =IF(V26="","",IF(W26<>0,NA(),IF(E26="取消","取消",IF(I26="未確認","判定保留",IF(I26<>"返金","対象外",IF(AND(K26="確認済",M26="確認済"),L26-N26,"判定保留")))))) | U26: =IF(V26="","",IF(W26<>0,NA(),IF(E26="取消","取消",IF(F26="未確認","受取未確認",IF(H26="未確認","検品未確認",IF(H26="要対応","検品要対応",IF(D26="未確認","理由未確認",IF(I26="未確認","方針未確認",IF(J26="未確認","実物処理未確認",IF(I26<>"返金","照合済",IF(K26="未確認","合意未確認",IF(M26="未確認","実績未確認",IF(T26>0,"未返金",IF(T26<0,"過返金","照合済")))))))))))))) | V26: =IF(COUNTA(A26:O26)=0,"",IF(NOT(AND(ISTEXT(A26),LEN(A26)=8,EXACT(LEFT(A26,4),"RET-"),ISNUMBER(FIND(MID(A26,5,1)&"x","0x1x2x3x4x5x6x7x8x9x")),ISNUMBER(FIND(MID(A26,6,1)&"x","0x1x2x3x4x5x6x7x8x9x")),ISNUMBER(FIND(MID(A26,7,1)&"x","0x1x2x3x4x5x6x7x8x9x")),ISNUMBER(FIND(MID(A26,8,1)&"x","0x1x2x3x4x5x6x7x8x9x")))),"返品IDはRET-と半角数字4桁",IF(COUNTIFS($A$8:$A$57,A26)>1,"返品IDが重複",IF(NOT(AND(ISTEXT(B26),LEN(B26)=8,EXACT(LEFT(B26,4),"SAL-"),ISNUMBER(FIND(MID(B26,5,1)&"x","0x1x2x3x4x5x6x7x8x9x")),ISNUMBER(FIND(MID(B26,6,1)&"x","0x1x2x3x4x5x6x7x8x9x")),ISNUMBER(FIND(MID(B26,7,1)&"x","0x1x2x3x4x5x6x7x8x9x")),ISNUMBER(FIND(MID(B26,8,1)&"x","0x1x2x3x4x5x6x7x8x9x")))),"元明細IDはSAL-と半角数字4桁",IF(COUNTIFS(元出荷明細!$A$8:$A$57,B26)<>1,"元明細が一意にありません",IF(NOT(IF(ISNUMBER(C26),AND(C26>=43831,C26<=73050,C26=INT(C26)),FALSE())),"受付日は時刻なしで必須",IF(C26<SUMIFS(元出荷明細!$C$8:$C$57,元出荷明細!$A$8:$A$57,B26),"受付日は元出荷日以上",IF(NOT(OR(D26="破損",D26="品違い",D26="数量違い",D26="その他",D26="未確認")),"理由を確認",IF(NOT(OR(E26="有効",E26="取消")),"記録状態を確認",IF(NOT(OR(F26="確認済",F26="未確認")),"受取区分を確認",IF(AND(F26="確認済",NOT(IF(ISNUMBER(G26),AND(G26>=1,G26<=1000000,G26=INT(G26)),FALSE()))),"受取数は1〜100万個整数で必須",IF(AND(F26="未確認",COUNTA(G26)>0),"受取未確認の数量は空欄",IF(NOT(OR(H26="確認済",H26="未確認",H26="要対応")),"検品を確認",IF(AND(H26<>"未確認",F26<>"確認済"),"検品前に受取数量を確認",IF(NOT(OR(I26="未確認",I26="返金",I26="交換",I26="返却",I26="その他")),"方針を確認",IF(NOT(OR(J26="確認済",J26="未確認")),"実物処理を確認",IF(AND(J26="確認済",OR(H26<>"確認済",I26="未確認")),"実物処理済は検品/方針が必要",IF(AND(I26="返金",NOT(AND(OR(K26="確認済",K26="未確認"),OR(M26="確認済",M26="未確認")))),"返金は合意/実績を別確認",IF(AND(I26="未確認",NOT(AND(K26="未確認",M26="未確認"))),"方針未確認の金額区分は未確認",IF(AND(OR(I26="交換",I26="返却",I26="その他"),NOT(AND(K26="対象外",M26="対象外"))),"返金以外は金額区分が対象外",IF(AND(K26="確認済",NOT(IF(ISNUMBER(L26),AND(L26>=0,L26<=1000000000,L26=INT(L26)),FALSE()))),"確認済金額は0〜10億円整数",IF(AND(K26<>"確認済",COUNTA(L26)>0),"未確認/対象外の金額は空欄",IF(AND(M26="確認済",NOT(IF(ISNUMBER(N26),AND(N26>=0,N26<=1000000000,N26=INT(N26)),FALSE()))),"確認済金額は0〜10億円整数",IF(AND(M26<>"確認済",COUNTA(N26)>0),"未確認/対象外の金額は空欄",IF(NOT(IF(ISNUMBER(O26),AND(O26>=43831,O26<=73050,O26=INT(O26)),FALSE())),"記録確認日は時刻なしで必須",IF(OR(C26>O26,O26>返品の確認!$B$3),"受付日≦確認日≦基準日",IF(AND(E26="有効",SUMIFS($G$8:$G$57,$B$8:$B$57,B26,$E$8:$E$57,"有効",$F$8:$F$57,"確認済")>SUMIFS(元出荷明細!$D$8:$D$57,元出荷明細!$A$8:$A$57,B26)),"全有効受取数が元出荷数を超過","確認済み"))))))))))))))))))))))))))) | W26: =IF(V26="","",IF(V26="確認済み",0,1)) | X26: =IF(COUNTA(A26:O26)=0,IF(AND(V26="",W26="",P26="",Q26="",R26="",S26="",T26="",U26=""),0,1),IF(NOT(AND(ISTEXT(V26),V26=IF(COUNTA(A26:O26)=0,"",IF(NOT(AND(ISTEXT(A26),LEN(A26)=8,EXACT(LEFT(A26,4),"RET-"),ISNUMBER(FIND(MID(A26,5,1)&"x","0x1x2x3x4x5x6x7x8x9x")),ISNUMBER(FIND(MID(A26,6,1)&"x","0x1x2x3x4x5x6x7x8x9x")),ISNUMBER(FIND(MID(A26,7,1)&"x","0x1x2x3x4x5x6x7x8x9x")),ISNUMBER(FIND(MID(A26,8,1)&"x","0x1x2x3x4x5x6x7x8x9x")))),"返品IDはRET-と半角数字4桁",IF(COUNTIFS($A$8:$A$57,A26)>1,"返品IDが重複",IF(NOT(AND(ISTEXT(B26),LEN(B26)=8,EXACT(LEFT(B26,4),"SAL-"),ISNUMBER(FIND(MID(B26,5,1)&"x","0x1x2x3x4x5x6x7x8x9x")),ISNUMBER(FIND(MID(B26,6,1)&"x","0x1x2x3x4x5x6x7x8x9x")),ISNUMBER(FIND(MID(B26,7,1)&"x","0x1x2x3x4x5x6x7x8x9x")),ISNUMBER(FIND(MID(B26,8,1)&"x","0x1x2x3x4x5x6x7x8x9x")))),"元明細IDはSAL-と半角数字4桁",IF(COUNTIFS(元出荷明細!$A$8:$A$57,B26)<>1,"元明細が一意にありません",IF(NOT(IF(ISNUMBER(C26),AND(C26>=43831,C26<=73050,C26=INT(C26)),FALSE())),"受付日は時刻なしで必須",IF(C26<SUMIFS(元出荷明細!$C$8:$C$57,元出荷明細!$A$8:$A$57,B26),"受付日は元出荷日以上",IF(NOT(OR(D26="破損",D26="品違い",D26="数量違い",D26="その他",D26="未確認")),"理由を確認",IF(NOT(OR(E26="有効",E26="取消")),"記録状態を確認",IF(NOT(OR(F26="確認済",F26="未確認")),"受取区分を確認",IF(AND(F26="確認済",NOT(IF(ISNUMBER(G26),AND(G26>=1,G26<=1000000,G26=INT(G26)),FALSE()))),"受取数は1〜100万個整数で必須",IF(AND(F26="未確認",COUNTA(G26)>0),"受取未確認の数量は空欄",IF(NOT(OR(H26="確認済",H26="未確認",H26="要対応")),"検品を確認",IF(AND(H26<>"未確認",F26<>"確認済"),"検品前に受取数量を確認",IF(NOT(OR(I26="未確認",I26="返金",I26="交換",I26="返却",I26="その他")),"方針を確認",IF(NOT(OR(J26="確認済",J26="未確認")),"実物処理を確認",IF(AND(J26="確認済",OR(H26<>"確認済",I26="未確認")),"実物処理済は検品/方針が必要",IF(AND(I26="返金",NOT(AND(OR(K26="確認済",K26="未確認"),OR(M26="確認済",M26="未確認")))),"返金は合意/実績を別確認",IF(AND(I26="未確認",NOT(AND(K26="未確認",M26="未確認"))),"方針未確認の金額区分は未確認",IF(AND(OR(I26="交換",I26="返却",I26="その他"),NOT(AND(K26="対象外",M26="対象外"))),"返金以外は金額区分が対象外",IF(AND(K26="確認済",NOT(IF(ISNUMBER(L26),AND(L26>=0,L26<=1000000000,L26=INT(L26)),FALSE()))),"確認済金額は0〜10億円整数",IF(AND(K26<>"確認済",COUNTA(L26)>0),"未確認/対象外の金額は空欄",IF(AND(M26="確認済",NOT(IF(ISNUMBER(N26),AND(N26>=0,N26<=1000000000,N26=INT(N26)),FALSE()))),"確認済金額は0〜10億円整数",IF(AND(M26<>"確認済",COUNTA(N26)>0),"未確認/対象外の金額は空欄",IF(NOT(IF(ISNUMBER(O26),AND(O26>=43831,O26<=73050,O26=INT(O26)),FALSE())),"記録確認日は時刻なしで必須",IF(OR(C26>O26,O26>返品の確認!$B$3),"受付日≦確認日≦基準日",IF(AND(E26="有効",SUMIFS($G$8:$G$57,$B$8:$B$57,B26,$E$8:$E$57,"有効",$F$8:$F$57,"確認済")>SUMIFS(元出荷明細!$D$8:$D$57,元出荷明細!$A$8:$A$57,B26)),"全有効受取数が元出荷数を超過","確認済み"))))))))))))))))))))))))))),ISNUMBER(W26),W26=IF(V26="確認済み",0,1))),1,IF(W26<>0,0,IF(AND(ISNUMBER(P26),P26=SUMIFS(元出荷明細!$D$8:$D$57,元出荷明細!$A$8:$A$57,B26),ISNUMBER(Q26),Q26=SUMIFS($G$8:$G$57,$B$8:$B$57,B26,$E$8:$E$57,"有効",$F$8:$F$57,"確認済"),ISNUMBER(R26),R26=COUNTIFS($B$8:$B$57,B26,$E$8:$E$57,"有効",$F$8:$F$57,"未確認"),IF(R26>0,ISTEXT(S26),ISNUMBER(S26)),S26=IF(R26>0,"判定保留",P26-Q26),IF(AND(E26="有効",I26="返金",K26="確認済",M26="確認済"),ISNUMBER(T26),ISTEXT(T26)),T26=IF(E26="取消","取消",IF(I26="未確認","判定保留",IF(I26<>"返金","対象外",IF(AND(K26="確認済",M26="確認済"),L26-N26,"判定保留")))),ISTEXT(U26),U26=IF(E26="取消","取消",IF(F26="未確認","受取未確認",IF(H26="未確認","検品未確認",IF(H26="要対応","検品要対応",IF(D26="未確認","理由未確認",IF(I26="未確認","方針未確認",IF(J26="未確認","実物処理未確認",IF(I26<>"返金","照合済",IF(K26="未確認","合意未確認",IF(M26="未確認","実績未確認",IF(T26>0,"未返金",IF(T26<0,"過返金","照合済"))))))))))))),0,1)))) -> 0
P27: =IF(V27="","",IF(W27<>0,NA(),SUMIFS(元出荷明細!$D$8:$D$57,元出荷明細!$A$8:$A$57,B27))) | Q27: =IF(V27="","",IF(W27<>0,NA(),SUMIFS($G$8:$G$57,$B$8:$B$57,B27,$E$8:$E$57,"有効",$F$8:$F$57,"確認済"))) | R27: =IF(V27="","",IF(W27<>0,NA(),COUNTIFS($B$8:$B$57,B27,$E$8:$E$57,"有効",$F$8:$F$57,"未確認"))) | S27: =IF(V27="","",IF(W27<>0,NA(),IF(R27>0,"判定保留",P27-Q27))) | T27: =IF(V27="","",IF(W27<>0,NA(),IF(E27="取消","取消",IF(I27="未確認","判定保留",IF(I27<>"返金","対象外",IF(AND(K27="確認済",M27="確認済"),L27-N27,"判定保留")))))) | U27: =IF(V27="","",IF(W27<>0,NA(),IF(E27="取消","取消",IF(F27="未確認","受取未確認",IF(H27="未確認","検品未確認",IF(H27="要対応","検品要対応",IF(D27="未確認","理由未確認",IF(I27="未確認","方針未確認",IF(J27="未確認","実物処理未確認",IF(I27<>"返金","照合済",IF(K27="未確認","合意未確認",IF(M27="未確認","実績未確認",IF(T27>0,"未返金",IF(T27<0,"過返金","照合済")))))))))))))) | V27: =IF(COUNTA(A27:O27)=0,"",IF(NOT(AND(ISTEXT(A27),LEN(A27)=8,EXACT(LEFT(A27,4),"RET-"),ISNUMBER(FIND(MID(A27,5,1)&"x","0x1x2x3x4x5x6x7x8x9x")),ISNUMBER(FIND(MID(A27,6,1)&"x","0x1x2x3x4x5x6x7x8x9x")),ISNUMBER(FIND(MID(A27,7,1)&"x","0x1x2x3x4x5x6x7x8x9x")),ISNUMBER(FIND(MID(A27,8,1)&"x","0x1x2x3x4x5x6x7x8x9x")))),"返品IDはRET-と半角数字4桁",IF(COUNTIFS($A$8:$A$57,A27)>1,"返品IDが重複",IF(NOT(AND(ISTEXT(B27),LEN(B27)=8,EXACT(LEFT(B27,4),"SAL-"),ISNUMBER(FIND(MID(B27,5,1)&"x","0x1x2x3x4x5x6x7x8x9x")),ISNUMBER(FIND(MID(B27,6,1)&"x","0x1x2x3x4x5x6x7x8x9x")),ISNUMBER(FIND(MID(B27,7,1)&"x","0x1x2x3x4x5x6x7x8x9x")),ISNUMBER(FIND(MID(B27,8,1)&"x","0x1x2x3x4x5x6x7x8x9x")))),"元明細IDはSAL-と半角数字4桁",IF(COUNTIFS(元出荷明細!$A$8:$A$57,B27)<>1,"元明細が一意にありません",IF(NOT(IF(ISNUMBER(C27),AND(C27>=43831,C27<=73050,C27=INT(C27)),FALSE())),"受付日は時刻なしで必須",IF(C27<SUMIFS(元出荷明細!$C$8:$C$57,元出荷明細!$A$8:$A$57,B27),"受付日は元出荷日以上",IF(NOT(OR(D27="破損",D27="品違い",D27="数量違い",D27="その他",D27="未確認")),"理由を確認",IF(NOT(OR(E27="有効",E27="取消")),"記録状態を確認",IF(NOT(OR(F27="確認済",F27="未確認")),"受取区分を確認",IF(AND(F27="確認済",NOT(IF(ISNUMBER(G27),AND(G27>=1,G27<=1000000,G27=INT(G27)),FALSE()))),"受取数は1〜100万個整数で必須",IF(AND(F27="未確認",COUNTA(G27)>0),"受取未確認の数量は空欄",IF(NOT(OR(H27="確認済",H27="未確認",H27="要対応")),"検品を確認",IF(AND(H27<>"未確認",F27<>"確認済"),"検品前に受取数量を確認",IF(NOT(OR(I27="未確認",I27="返金",I27="交換",I27="返却",I27="その他")),"方針を確認",IF(NOT(OR(J27="確認済",J27="未確認")),"実物処理を確認",IF(AND(J27="確認済",OR(H27<>"確認済",I27="未確認")),"実物処理済は検品/方針が必要",IF(AND(I27="返金",NOT(AND(OR(K27="確認済",K27="未確認"),OR(M27="確認済",M27="未確認")))),"返金は合意/実績を別確認",IF(AND(I27="未確認",NOT(AND(K27="未確認",M27="未確認"))),"方針未確認の金額区分は未確認",IF(AND(OR(I27="交換",I27="返却",I27="その他"),NOT(AND(K27="対象外",M27="対象外"))),"返金以外は金額区分が対象外",IF(AND(K27="確認済",NOT(IF(ISNUMBER(L27),AND(L27>=0,L27<=1000000000,L27=INT(L27)),FALSE()))),"確認済金額は0〜10億円整数",IF(AND(K27<>"確認済",COUNTA(L27)>0),"未確認/対象外の金額は空欄",IF(AND(M27="確認済",NOT(IF(ISNUMBER(N27),AND(N27>=0,N27<=1000000000,N27=INT(N27)),FALSE()))),"確認済金額は0〜10億円整数",IF(AND(M27<>"確認済",COUNTA(N27)>0),"未確認/対象外の金額は空欄",IF(NOT(IF(ISNUMBER(O27),AND(O27>=43831,O27<=73050,O27=INT(O27)),FALSE())),"記録確認日は時刻なしで必須",IF(OR(C27>O27,O27>返品の確認!$B$3),"受付日≦確認日≦基準日",IF(AND(E27="有効",SUMIFS($G$8:$G$57,$B$8:$B$57,B27,$E$8:$E$57,"有効",$F$8:$F$57,"確認済")>SUMIFS(元出荷明細!$D$8:$D$57,元出荷明細!$A$8:$A$57,B27)),"全有効受取数が元出荷数を超過","確認済み"))))))))))))))))))))))))))) | W27: =IF(V27="","",IF(V27="確認済み",0,1)) | X27: =IF(COUNTA(A27:O27)=0,IF(AND(V27="",W27="",P27="",Q27="",R27="",S27="",T27="",U27=""),0,1),IF(NOT(AND(ISTEXT(V27),V27=IF(COUNTA(A27:O27)=0,"",IF(NOT(AND(ISTEXT(A27),LEN(A27)=8,EXACT(LEFT(A27,4),"RET-"),ISNUMBER(FIND(MID(A27,5,1)&"x","0x1x2x3x4x5x6x7x8x9x")),ISNUMBER(FIND(MID(A27,6,1)&"x","0x1x2x3x4x5x6x7x8x9x")),ISNUMBER(FIND(MID(A27,7,1)&"x","0x1x2x3x4x5x6x7x8x9x")),ISNUMBER(FIND(MID(A27,8,1)&"x","0x1x2x3x4x5x6x7x8x9x")))),"返品IDはRET-と半角数字4桁",IF(COUNTIFS($A$8:$A$57,A27)>1,"返品IDが重複",IF(NOT(AND(ISTEXT(B27),LEN(B27)=8,EXACT(LEFT(B27,4),"SAL-"),ISNUMBER(FIND(MID(B27,5,1)&"x","0x1x2x3x4x5x6x7x8x9x")),ISNUMBER(FIND(MID(B27,6,1)&"x","0x1x2x3x4x5x6x7x8x9x")),ISNUMBER(FIND(MID(B27,7,1)&"x","0x1x2x3x4x5x6x7x8x9x")),ISNUMBER(FIND(MID(B27,8,1)&"x","0x1x2x3x4x5x6x7x8x9x")))),"元明細IDはSAL-と半角数字4桁",IF(COUNTIFS(元出荷明細!$A$8:$A$57,B27)<>1,"元明細が一意にありません",IF(NOT(IF(ISNUMBER(C27),AND(C27>=43831,C27<=73050,C27=INT(C27)),FALSE())),"受付日は時刻なしで必須",IF(C27<SUMIFS(元出荷明細!$C$8:$C$57,元出荷明細!$A$8:$A$57,B27),"受付日は元出荷日以上",IF(NOT(OR(D27="破損",D27="品違い",D27="数量違い",D27="その他",D27="未確認")),"理由を確認",IF(NOT(OR(E27="有効",E27="取消")),"記録状態を確認",IF(NOT(OR(F27="確認済",F27="未確認")),"受取区分を確認",IF(AND(F27="確認済",NOT(IF(ISNUMBER(G27),AND(G27>=1,G27<=1000000,G27=INT(G27)),FALSE()))),"受取数は1〜100万個整数で必須",IF(AND(F27="未確認",COUNTA(G27)>0),"受取未確認の数量は空欄",IF(NOT(OR(H27="確認済",H27="未確認",H27="要対応")),"検品を確認",IF(AND(H27<>"未確認",F27<>"確認済"),"検品前に受取数量を確認",IF(NOT(OR(I27="未確認",I27="返金",I27="交換",I27="返却",I27="その他")),"方針を確認",IF(NOT(OR(J27="確認済",J27="未確認")),"実物処理を確認",IF(AND(J27="確認済",OR(H27<>"確認済",I27="未確認")),"実物処理済は検品/方針が必要",IF(AND(I27="返金",NOT(AND(OR(K27="確認済",K27="未確認"),OR(M27="確認済",M27="未確認")))),"返金は合意/実績を別確認",IF(AND(I27="未確認",NOT(AND(K27="未確認",M27="未確認"))),"方針未確認の金額区分は未確認",IF(AND(OR(I27="交換",I27="返却",I27="その他"),NOT(AND(K27="対象外",M27="対象外"))),"返金以外は金額区分が対象外",IF(AND(K27="確認済",NOT(IF(ISNUMBER(L27),AND(L27>=0,L27<=1000000000,L27=INT(L27)),FALSE()))),"確認済金額は0〜10億円整数",IF(AND(K27<>"確認済",COUNTA(L27)>0),"未確認/対象外の金額は空欄",IF(AND(M27="確認済",NOT(IF(ISNUMBER(N27),AND(N27>=0,N27<=1000000000,N27=INT(N27)),FALSE()))),"確認済金額は0〜10億円整数",IF(AND(M27<>"確認済",COUNTA(N27)>0),"未確認/対象外の金額は空欄",IF(NOT(IF(ISNUMBER(O27),AND(O27>=43831,O27<=73050,O27=INT(O27)),FALSE())),"記録確認日は時刻なしで必須",IF(OR(C27>O27,O27>返品の確認!$B$3),"受付日≦確認日≦基準日",IF(AND(E27="有効",SUMIFS($G$8:$G$57,$B$8:$B$57,B27,$E$8:$E$57,"有効",$F$8:$F$57,"確認済")>SUMIFS(元出荷明細!$D$8:$D$57,元出荷明細!$A$8:$A$57,B27)),"全有効受取数が元出荷数を超過","確認済み"))))))))))))))))))))))))))),ISNUMBER(W27),W27=IF(V27="確認済み",0,1))),1,IF(W27<>0,0,IF(AND(ISNUMBER(P27),P27=SUMIFS(元出荷明細!$D$8:$D$57,元出荷明細!$A$8:$A$57,B27),ISNUMBER(Q27),Q27=SUMIFS($G$8:$G$57,$B$8:$B$57,B27,$E$8:$E$57,"有効",$F$8:$F$57,"確認済"),ISNUMBER(R27),R27=COUNTIFS($B$8:$B$57,B27,$E$8:$E$57,"有効",$F$8:$F$57,"未確認"),IF(R27>0,ISTEXT(S27),ISNUMBER(S27)),S27=IF(R27>0,"判定保留",P27-Q27),IF(AND(E27="有効",I27="返金",K27="確認済",M27="確認済"),ISNUMBER(T27),ISTEXT(T27)),T27=IF(E27="取消","取消",IF(I27="未確認","判定保留",IF(I27<>"返金","対象外",IF(AND(K27="確認済",M27="確認済"),L27-N27,"判定保留")))),ISTEXT(U27),U27=IF(E27="取消","取消",IF(F27="未確認","受取未確認",IF(H27="未確認","検品未確認",IF(H27="要対応","検品要対応",IF(D27="未確認","理由未確認",IF(I27="未確認","方針未確認",IF(J27="未確認","実物処理未確認",IF(I27<>"返金","照合済",IF(K27="未確認","合意未確認",IF(M27="未確認","実績未確認",IF(T27>0,"未返金",IF(T27<0,"過返金","照合済"))))))))))))),0,1)))) -> 0
P28: =IF(V28="","",IF(W28<>0,NA(),SUMIFS(元出荷明細!$D$8:$D$57,元出荷明細!$A$8:$A$57,B28))) | Q28: =IF(V28="","",IF(W28<>0,NA(),SUMIFS($G$8:$G$57,$B$8:$B$57,B28,$E$8:$E$57,"有効",$F$8:$F$57,"確認済"))) | R28: =IF(V28="","",IF(W28<>0,NA(),COUNTIFS($B$8:$B$57,B28,$E$8:$E$57,"有効",$F$8:$F$57,"未確認"))) | S28: =IF(V28="","",IF(W28<>0,NA(),IF(R28>0,"判定保留",P28-Q28))) | T28: =IF(V28="","",IF(W28<>0,NA(),IF(E28="取消","取消",IF(I28="未確認","判定保留",IF(I28<>"返金","対象外",IF(AND(K28="確認済",M28="確認済"),L28-N28,"判定保留")))))) | U28: =IF(V28="","",IF(W28<>0,NA(),IF(E28="取消","取消",IF(F28="未確認","受取未確認",IF(H28="未確認","検品未確認",IF(H28="要対応","検品要対応",IF(D28="未確認","理由未確認",IF(I28="未確認","方針未確認",IF(J28="未確認","実物処理未確認",IF(I28<>"返金","照合済",IF(K28="未確認","合意未確認",IF(M28="未確認","実績未確認",IF(T28>0,"未返金",IF(T28<0,"過返金","照合済")))))))))))))) | V28: =IF(COUNTA(A28:O28)=0,"",IF(NOT(AND(ISTEXT(A28),LEN(A28)=8,EXACT(LEFT(A28,4),"RET-"),ISNUMBER(FIND(MID(A28,5,1)&"x","0x1x2x3x4x5x6x7x8x9x")),ISNUMBER(FIND(MID(A28,6,1)&"x","0x1x2x3x4x5x6x7x8x9x")),ISNUMBER(FIND(MID(A28,7,1)&"x","0x1x2x3x4x5x6x7x8x9x")),ISNUMBER(FIND(MID(A28,8,1)&"x","0x1x2x3x4x5x6x7x8x9x")))),"返品IDはRET-と半角数字4桁",IF(COUNTIFS($A$8:$A$57,A28)>1,"返品IDが重複",IF(NOT(AND(ISTEXT(B28),LEN(B28)=8,EXACT(LEFT(B28,4),"SAL-"),ISNUMBER(FIND(MID(B28,5,1)&"x","0x1x2x3x4x5x6x7x8x9x")),ISNUMBER(FIND(MID(B28,6,1)&"x","0x1x2x3x4x5x6x7x8x9x")),ISNUMBER(FIND(MID(B28,7,1)&"x","0x1x2x3x4x5x6x7x8x9x")),ISNUMBER(FIND(MID(B28,8,1)&"x","0x1x2x3x4x5x6x7x8x9x")))),"元明細IDはSAL-と半角数字4桁",IF(COUNTIFS(元出荷明細!$A$8:$A$57,B28)<>1,"元明細が一意にありません",IF(NOT(IF(ISNUMBER(C28),AND(C28>=43831,C28<=73050,C28=INT(C28)),FALSE())),"受付日は時刻なしで必須",IF(C28<SUMIFS(元出荷明細!$C$8:$C$57,元出荷明細!$A$8:$A$57,B28),"受付日は元出荷日以上",IF(NOT(OR(D28="破損",D28="品違い",D28="数量違い",D28="その他",D28="未確認")),"理由を確認",IF(NOT(OR(E28="有効",E28="取消")),"記録状態を確認",IF(NOT(OR(F28="確認済",F28="未確認")),"受取区分を確認",IF(AND(F28="確認済",NOT(IF(ISNUMBER(G28),AND(G28>=1,G28<=1000000,G28=INT(G28)),FALSE()))),"受取数は1〜100万個整数で必須",IF(AND(F28="未確認",COUNTA(G28)>0),"受取未確認の数量は空欄",IF(NOT(OR(H28="確認済",H28="未確認",H28="要対応")),"検品を確認",IF(AND(H28<>"未確認",F28<>"確認済"),"検品前に受取数量を確認",IF(NOT(OR(I28="未確認",I28="返金",I28="交換",I28="返却",I28="その他")),"方針を確認",IF(NOT(OR(J28="確認済",J28="未確認")),"実物処理を確認",IF(AND(J28="確認済",OR(H28<>"確認済",I28="未確認")),"実物処理済は検品/方針が必要",IF(AND(I28="返金",NOT(AND(OR(K28="確認済",K28="未確認"),OR(M28="確認済",M28="未確認")))),"返金は合意/実績を別確認",IF(AND(I28="未確認",NOT(AND(K28="未確認",M28="未確認"))),"方針未確認の金額区分は未確認",IF(AND(OR(I28="交換",I28="返却",I28="その他"),NOT(AND(K28="対象外",M28="対象外"))),"返金以外は金額区分が対象外",IF(AND(K28="確認済",NOT(IF(ISNUMBER(L28),AND(L28>=0,L28<=1000000000,L28=INT(L28)),FALSE()))),"確認済金額は0〜10億円整数",IF(AND(K28<>"確認済",COUNTA(L28)>0),"未確認/対象外の金額は空欄",IF(AND(M28="確認済",NOT(IF(ISNUMBER(N28),AND(N28>=0,N28<=1000000000,N28=INT(N28)),FALSE()))),"確認済金額は0〜10億円整数",IF(AND(M28<>"確認済",COUNTA(N28)>0),"未確認/対象外の金額は空欄",IF(NOT(IF(ISNUMBER(O28),AND(O28>=43831,O28<=73050,O28=INT(O28)),FALSE())),"記録確認日は時刻なしで必須",IF(OR(C28>O28,O28>返品の確認!$B$3),"受付日≦確認日≦基準日",IF(AND(E28="有効",SUMIFS($G$8:$G$57,$B$8:$B$57,B28,$E$8:$E$57,"有効",$F$8:$F$57,"確認済")>SUMIFS(元出荷明細!$D$8:$D$57,元出荷明細!$A$8:$A$57,B28)),"全有効受取数が元出荷数を超過","確認済み"))))))))))))))))))))))))))) | W28: =IF(V28="","",IF(V28="確認済み",0,1)) | X28: =IF(COUNTA(A28:O28)=0,IF(AND(V28="",W28="",P28="",Q28="",R28="",S28="",T28="",U28=""),0,1),IF(NOT(AND(ISTEXT(V28),V28=IF(COUNTA(A28:O28)=0,"",IF(NOT(AND(ISTEXT(A28),LEN(A28)=8,EXACT(LEFT(A28,4),"RET-"),ISNUMBER(FIND(MID(A28,5,1)&"x","0x1x2x3x4x5x6x7x8x9x")),ISNUMBER(FIND(MID(A28,6,1)&"x","0x1x2x3x4x5x6x7x8x9x")),ISNUMBER(FIND(MID(A28,7,1)&"x","0x1x2x3x4x5x6x7x8x9x")),ISNUMBER(FIND(MID(A28,8,1)&"x","0x1x2x3x4x5x6x7x8x9x")))),"返品IDはRET-と半角数字4桁",IF(COUNTIFS($A$8:$A$57,A28)>1,"返品IDが重複",IF(NOT(AND(ISTEXT(B28),LEN(B28)=8,EXACT(LEFT(B28,4),"SAL-"),ISNUMBER(FIND(MID(B28,5,1)&"x","0x1x2x3x4x5x6x7x8x9x")),ISNUMBER(FIND(MID(B28,6,1)&"x","0x1x2x3x4x5x6x7x8x9x")),ISNUMBER(FIND(MID(B28,7,1)&"x","0x1x2x3x4x5x6x7x8x9x")),ISNUMBER(FIND(MID(B28,8,1)&"x","0x1x2x3x4x5x6x7x8x9x")))),"元明細IDはSAL-と半角数字4桁",IF(COUNTIFS(元出荷明細!$A$8:$A$57,B28)<>1,"元明細が一意にありません",IF(NOT(IF(ISNUMBER(C28),AND(C28>=43831,C28<=73050,C28=INT(C28)),FALSE())),"受付日は時刻なしで必須",IF(C28<SUMIFS(元出荷明細!$C$8:$C$57,元出荷明細!$A$8:$A$57,B28),"受付日は元出荷日以上",IF(NOT(OR(D28="破損",D28="品違い",D28="数量違い",D28="その他",D28="未確認")),"理由を確認",IF(NOT(OR(E28="有効",E28="取消")),"記録状態を確認",IF(NOT(OR(F28="確認済",F28="未確認")),"受取区分を確認",IF(AND(F28="確認済",NOT(IF(ISNUMBER(G28),AND(G28>=1,G28<=1000000,G28=INT(G28)),FALSE()))),"受取数は1〜100万個整数で必須",IF(AND(F28="未確認",COUNTA(G28)>0),"受取未確認の数量は空欄",IF(NOT(OR(H28="確認済",H28="未確認",H28="要対応")),"検品を確認",IF(AND(H28<>"未確認",F28<>"確認済"),"検品前に受取数量を確認",IF(NOT(OR(I28="未確認",I28="返金",I28="交換",I28="返却",I28="その他")),"方針を確認",IF(NOT(OR(J28="確認済",J28="未確認")),"実物処理を確認",IF(AND(J28="確認済",OR(H28<>"確認済",I28="未確認")),"実物処理済は検品/方針が必要",IF(AND(I28="返金",NOT(AND(OR(K28="確認済",K28="未確認"),OR(M28="確認済",M28="未確認")))),"返金は合意/実績を別確認",IF(AND(I28="未確認",NOT(AND(K28="未確認",M28="未確認"))),"方針未確認の金額区分は未確認",IF(AND(OR(I28="交換",I28="返却",I28="その他"),NOT(AND(K28="対象外",M28="対象外"))),"返金以外は金額区分が対象外",IF(AND(K28="確認済",NOT(IF(ISNUMBER(L28),AND(L28>=0,L28<=1000000000,L28=INT(L28)),FALSE()))),"確認済金額は0〜10億円整数",IF(AND(K28<>"確認済",COUNTA(L28)>0),"未確認/対象外の金額は空欄",IF(AND(M28="確認済",NOT(IF(ISNUMBER(N28),AND(N28>=0,N28<=1000000000,N28=INT(N28)),FALSE()))),"確認済金額は0〜10億円整数",IF(AND(M28<>"確認済",COUNTA(N28)>0),"未確認/対象外の金額は空欄",IF(NOT(IF(ISNUMBER(O28),AND(O28>=43831,O28<=73050,O28=INT(O28)),FALSE())),"記録確認日は時刻なしで必須",IF(OR(C28>O28,O28>返品の確認!$B$3),"受付日≦確認日≦基準日",IF(AND(E28="有効",SUMIFS($G$8:$G$57,$B$8:$B$57,B28,$E$8:$E$57,"有効",$F$8:$F$57,"確認済")>SUMIFS(元出荷明細!$D$8:$D$57,元出荷明細!$A$8:$A$57,B28)),"全有効受取数が元出荷数を超過","確認済み"))))))))))))))))))))))))))),ISNUMBER(W28),W28=IF(V28="確認済み",0,1))),1,IF(W28<>0,0,IF(AND(ISNUMBER(P28),P28=SUMIFS(元出荷明細!$D$8:$D$57,元出荷明細!$A$8:$A$57,B28),ISNUMBER(Q28),Q28=SUMIFS($G$8:$G$57,$B$8:$B$57,B28,$E$8:$E$57,"有効",$F$8:$F$57,"確認済"),ISNUMBER(R28),R28=COUNTIFS($B$8:$B$57,B28,$E$8:$E$57,"有効",$F$8:$F$57,"未確認"),IF(R28>0,ISTEXT(S28),ISNUMBER(S28)),S28=IF(R28>0,"判定保留",P28-Q28),IF(AND(E28="有効",I28="返金",K28="確認済",M28="確認済"),ISNUMBER(T28),ISTEXT(T28)),T28=IF(E28="取消","取消",IF(I28="未確認","判定保留",IF(I28<>"返金","対象外",IF(AND(K28="確認済",M28="確認済"),L28-N28,"判定保留")))),ISTEXT(U28),U28=IF(E28="取消","取消",IF(F28="未確認","受取未確認",IF(H28="未確認","検品未確認",IF(H28="要対応","検品要対応",IF(D28="未確認","理由未確認",IF(I28="未確認","方針未確認",IF(J28="未確認","実物処理未確認",IF(I28<>"返金","照合済",IF(K28="未確認","合意未確認",IF(M28="未確認","実績未確認",IF(T28>0,"未返金",IF(T28<0,"過返金","照合済"))))))))))))),0,1)))) -> 0
P29: =IF(V29="","",IF(W29<>0,NA(),SUMIFS(元出荷明細!$D$8:$D$57,元出荷明細!$A$8:$A$57,B29))) | Q29: =IF(V29="","",IF(W29<>0,NA(),SUMIFS($G$8:$G$57,$B$8:$B$57,B29,$E$8:$E$57,"有効",$F$8:$F$57,"確認済"))) | R29: =IF(V29="","",IF(W29<>0,NA(),COUNTIFS($B$8:$B$57,B29,$E$8:$E$57,"有効",$F$8:$F$57,"未確認"))) | S29: =IF(V29="","",IF(W29<>0,NA(),IF(R29>0,"判定保留",P29-Q29))) | T29: =IF(V29="","",IF(W29<>0,NA(),IF(E29="取消","取消",IF(I29="未確認","判定保留",IF(I29<>"返金","対象外",IF(AND(K29="確認済",M29="確認済"),L29-N29,"判定保留")))))) | U29: =IF(V29="","",IF(W29<>0,NA(),IF(E29="取消","取消",IF(F29="未確認","受取未確認",IF(H29="未確認","検品未確認",IF(H29="要対応","検品要対応",IF(D29="未確認","理由未確認",IF(I29="未確認","方針未確認",IF(J29="未確認","実物処理未確認",IF(I29<>"返金","照合済",IF(K29="未確認","合意未確認",IF(M29="未確認","実績未確認",IF(T29>0,"未返金",IF(T29<0,"過返金","照合済")))))))))))))) | V29: =IF(COUNTA(A29:O29)=0,"",IF(NOT(AND(ISTEXT(A29),LEN(A29)=8,EXACT(LEFT(A29,4),"RET-"),ISNUMBER(FIND(MID(A29,5,1)&"x","0x1x2x3x4x5x6x7x8x9x")),ISNUMBER(FIND(MID(A29,6,1)&"x","0x1x2x3x4x5x6x7x8x9x")),ISNUMBER(FIND(MID(A29,7,1)&"x","0x1x2x3x4x5x6x7x8x9x")),ISNUMBER(FIND(MID(A29,8,1)&"x","0x1x2x3x4x5x6x7x8x9x")))),"返品IDはRET-と半角数字4桁",IF(COUNTIFS($A$8:$A$57,A29)>1,"返品IDが重複",IF(NOT(AND(ISTEXT(B29),LEN(B29)=8,EXACT(LEFT(B29,4),"SAL-"),ISNUMBER(FIND(MID(B29,5,1)&"x","0x1x2x3x4x5x6x7x8x9x")),ISNUMBER(FIND(MID(B29,6,1)&"x","0x1x2x3x4x5x6x7x8x9x")),ISNUMBER(FIND(MID(B29,7,1)&"x","0x1x2x3x4x5x6x7x8x9x")),ISNUMBER(FIND(MID(B29,8,1)&"x","0x1x2x3x4x5x6x7x8x9x")))),"元明細IDはSAL-と半角数字4桁",IF(COUNTIFS(元出荷明細!$A$8:$A$57,B29)<>1,"元明細が一意にありません",IF(NOT(IF(ISNUMBER(C29),AND(C29>=43831,C29<=73050,C29=INT(C29)),FALSE())),"受付日は時刻なしで必須",IF(C29<SUMIFS(元出荷明細!$C$8:$C$57,元出荷明細!$A$8:$A$57,B29),"受付日は元出荷日以上",IF(NOT(OR(D29="破損",D29="品違い",D29="数量違い",D29="その他",D29="未確認")),"理由を確認",IF(NOT(OR(E29="有効",E29="取消")),"記録状態を確認",IF(NOT(OR(F29="確認済",F29="未確認")),"受取区分を確認",IF(AND(F29="確認済",NOT(IF(ISNUMBER(G29),AND(G29>=1,G29<=1000000,G29=INT(G29)),FALSE()))),"受取数は1〜100万個整数で必須",IF(AND(F29="未確認",COUNTA(G29)>0),"受取未確認の数量は空欄",IF(NOT(OR(H29="確認済",H29="未確認",H29="要対応")),"検品を確認",IF(AND(H29<>"未確認",F29<>"確認済"),"検品前に受取数量を確認",IF(NOT(OR(I29="未確認",I29="返金",I29="交換",I29="返却",I29="その他")),"方針を確認",IF(NOT(OR(J29="確認済",J29="未確認")),"実物処理を確認",IF(AND(J29="確認済",OR(H29<>"確認済",I29="未確認")),"実物処理済は検品/方針が必要",IF(AND(I29="返金",NOT(AND(OR(K29="確認済",K29="未確認"),OR(M29="確認済",M29="未確認")))),"返金は合意/実績を別確認",IF(AND(I29="未確認",NOT(AND(K29="未確認",M29="未確認"))),"方針未確認の金額区分は未確認",IF(AND(OR(I29="交換",I29="返却",I29="その他"),NOT(AND(K29="対象外",M29="対象外"))),"返金以外は金額区分が対象外",IF(AND(K29="確認済",NOT(IF(ISNUMBER(L29),AND(L29>=0,L29<=1000000000,L29=INT(L29)),FALSE()))),"確認済金額は0〜10億円整数",IF(AND(K29<>"確認済",COUNTA(L29)>0),"未確認/対象外の金額は空欄",IF(AND(M29="確認済",NOT(IF(ISNUMBER(N29),AND(N29>=0,N29<=1000000000,N29=INT(N29)),FALSE()))),"確認済金額は0〜10億円整数",IF(AND(M29<>"確認済",COUNTA(N29)>0),"未確認/対象外の金額は空欄",IF(NOT(IF(ISNUMBER(O29),AND(O29>=43831,O29<=73050,O29=INT(O29)),FALSE())),"記録確認日は時刻なしで必須",IF(OR(C29>O29,O29>返品の確認!$B$3),"受付日≦確認日≦基準日",IF(AND(E29="有効",SUMIFS($G$8:$G$57,$B$8:$B$57,B29,$E$8:$E$57,"有効",$F$8:$F$57,"確認済")>SUMIFS(元出荷明細!$D$8:$D$57,元出荷明細!$A$8:$A$57,B29)),"全有効受取数が元出荷数を超過","確認済み"))))))))))))))))))))))))))) | W29: =IF(V29="","",IF(V29="確認済み",0,1)) | X29: =IF(COUNTA(A29:O29)=0,IF(AND(V29="",W29="",P29="",Q29="",R29="",S29="",T29="",U29=""),0,1),IF(NOT(AND(ISTEXT(V29),V29=IF(COUNTA(A29:O29)=0,"",IF(NOT(AND(ISTEXT(A29),LEN(A29)=8,EXACT(LEFT(A29,4),"RET-"),ISNUMBER(FIND(MID(A29,5,1)&"x","0x1x2x3x4x5x6x7x8x9x")),ISNUMBER(FIND(MID(A29,6,1)&"x","0x1x2x3x4x5x6x7x8x9x")),ISNUMBER(FIND(MID(A29,7,1)&"x","0x1x2x3x4x5x6x7x8x9x")),ISNUMBER(FIND(MID(A29,8,1)&"x","0x1x2x3x4x5x6x7x8x9x")))),"返品IDはRET-と半角数字4桁",IF(COUNTIFS($A$8:$A$57,A29)>1,"返品IDが重複",IF(NOT(AND(ISTEXT(B29),LEN(B29)=8,EXACT(LEFT(B29,4),"SAL-"),ISNUMBER(FIND(MID(B29,5,1)&"x","0x1x2x3x4x5x6x7x8x9x")),ISNUMBER(FIND(MID(B29,6,1)&"x","0x1x2x3x4x5x6x7x8x9x")),ISNUMBER(FIND(MID(B29,7,1)&"x","0x1x2x3x4x5x6x7x8x9x")),ISNUMBER(FIND(MID(B29,8,1)&"x","0x1x2x3x4x5x6x7x8x9x")))),"元明細IDはSAL-と半角数字4桁",IF(COUNTIFS(元出荷明細!$A$8:$A$57,B29)<>1,"元明細が一意にありません",IF(NOT(IF(ISNUMBER(C29),AND(C29>=43831,C29<=73050,C29=INT(C29)),FALSE())),"受付日は時刻なしで必須",IF(C29<SUMIFS(元出荷明細!$C$8:$C$57,元出荷明細!$A$8:$A$57,B29),"受付日は元出荷日以上",IF(NOT(OR(D29="破損",D29="品違い",D29="数量違い",D29="その他",D29="未確認")),"理由を確認",IF(NOT(OR(E29="有効",E29="取消")),"記録状態を確認",IF(NOT(OR(F29="確認済",F29="未確認")),"受取区分を確認",IF(AND(F29="確認済",NOT(IF(ISNUMBER(G29),AND(G29>=1,G29<=1000000,G29=INT(G29)),FALSE()))),"受取数は1〜100万個整数で必須",IF(AND(F29="未確認",COUNTA(G29)>0),"受取未確認の数量は空欄",IF(NOT(OR(H29="確認済",H29="未確認",H29="要対応")),"検品を確認",IF(AND(H29<>"未確認",F29<>"確認済"),"検品前に受取数量を確認",IF(NOT(OR(I29="未確認",I29="返金",I29="交換",I29="返却",I29="その他")),"方針を確認",IF(NOT(OR(J29="確認済",J29="未確認")),"実物処理を確認",IF(AND(J29="確認済",OR(H29<>"確認済",I29="未確認")),"実物処理済は検品/方針が必要",IF(AND(I29="返金",NOT(AND(OR(K29="確認済",K29="未確認"),OR(M29="確認済",M29="未確認")))),"返金は合意/実績を別確認",IF(AND(I29="未確認",NOT(AND(K29="未確認",M29="未確認"))),"方針未確認の金額区分は未確認",IF(AND(OR(I29="交換",I29="返却",I29="その他"),NOT(AND(K29="対象外",M29="対象外"))),"返金以外は金額区分が対象外",IF(AND(K29="確認済",NOT(IF(ISNUMBER(L29),AND(L29>=0,L29<=1000000000,L29=INT(L29)),FALSE()))),"確認済金額は0〜10億円整数",IF(AND(K29<>"確認済",COUNTA(L29)>0),"未確認/対象外の金額は空欄",IF(AND(M29="確認済",NOT(IF(ISNUMBER(N29),AND(N29>=0,N29<=1000000000,N29=INT(N29)),FALSE()))),"確認済金額は0〜10億円整数",IF(AND(M29<>"確認済",COUNTA(N29)>0),"未確認/対象外の金額は空欄",IF(NOT(IF(ISNUMBER(O29),AND(O29>=43831,O29<=73050,O29=INT(O29)),FALSE())),"記録確認日は時刻なしで必須",IF(OR(C29>O29,O29>返品の確認!$B$3),"受付日≦確認日≦基準日",IF(AND(E29="有効",SUMIFS($G$8:$G$57,$B$8:$B$57,B29,$E$8:$E$57,"有効",$F$8:$F$57,"確認済")>SUMIFS(元出荷明細!$D$8:$D$57,元出荷明細!$A$8:$A$57,B29)),"全有効受取数が元出荷数を超過","確認済み"))))))))))))))))))))))))))),ISNUMBER(W29),W29=IF(V29="確認済み",0,1))),1,IF(W29<>0,0,IF(AND(ISNUMBER(P29),P29=SUMIFS(元出荷明細!$D$8:$D$57,元出荷明細!$A$8:$A$57,B29),ISNUMBER(Q29),Q29=SUMIFS($G$8:$G$57,$B$8:$B$57,B29,$E$8:$E$57,"有効",$F$8:$F$57,"確認済"),ISNUMBER(R29),R29=COUNTIFS($B$8:$B$57,B29,$E$8:$E$57,"有効",$F$8:$F$57,"未確認"),IF(R29>0,ISTEXT(S29),ISNUMBER(S29)),S29=IF(R29>0,"判定保留",P29-Q29),IF(AND(E29="有効",I29="返金",K29="確認済",M29="確認済"),ISNUMBER(T29),ISTEXT(T29)),T29=IF(E29="取消","取消",IF(I29="未確認","判定保留",IF(I29<>"返金","対象外",IF(AND(K29="確認済",M29="確認済"),L29-N29,"判定保留")))),ISTEXT(U29),U29=IF(E29="取消","取消",IF(F29="未確認","受取未確認",IF(H29="未確認","検品未確認",IF(H29="要対応","検品要対応",IF(D29="未確認","理由未確認",IF(I29="未確認","方針未確認",IF(J29="未確認","実物処理未確認",IF(I29<>"返金","照合済",IF(K29="未確認","合意未確認",IF(M29="未確認","実績未確認",IF(T29>0,"未返金",IF(T29<0,"過返金","照合済"))))))))))))),0,1)))) -> 0
P30: =IF(V30="","",IF(W30<>0,NA(),SUMIFS(元出荷明細!$D$8:$D$57,元出荷明細!$A$8:$A$57,B30))) | Q30: =IF(V30="","",IF(W30<>0,NA(),SUMIFS($G$8:$G$57,$B$8:$B$57,B30,$E$8:$E$57,"有効",$F$8:$F$57,"確認済"))) | R30: =IF(V30="","",IF(W30<>0,NA(),COUNTIFS($B$8:$B$57,B30,$E$8:$E$57,"有効",$F$8:$F$57,"未確認"))) | S30: =IF(V30="","",IF(W30<>0,NA(),IF(R30>0,"判定保留",P30-Q30))) | T30: =IF(V30="","",IF(W30<>0,NA(),IF(E30="取消","取消",IF(I30="未確認","判定保留",IF(I30<>"返金","対象外",IF(AND(K30="確認済",M30="確認済"),L30-N30,"判定保留")))))) | U30: =IF(V30="","",IF(W30<>0,NA(),IF(E30="取消","取消",IF(F30="未確認","受取未確認",IF(H30="未確認","検品未確認",IF(H30="要対応","検品要対応",IF(D30="未確認","理由未確認",IF(I30="未確認","方針未確認",IF(J30="未確認","実物処理未確認",IF(I30<>"返金","照合済",IF(K30="未確認","合意未確認",IF(M30="未確認","実績未確認",IF(T30>0,"未返金",IF(T30<0,"過返金","照合済")))))))))))))) | V30: =IF(COUNTA(A30:O30)=0,"",IF(NOT(AND(ISTEXT(A30),LEN(A30)=8,EXACT(LEFT(A30,4),"RET-"),ISNUMBER(FIND(MID(A30,5,1)&"x","0x1x2x3x4x5x6x7x8x9x")),ISNUMBER(FIND(MID(A30,6,1)&"x","0x1x2x3x4x5x6x7x8x9x")),ISNUMBER(FIND(MID(A30,7,1)&"x","0x1x2x3x4x5x6x7x8x9x")),ISNUMBER(FIND(MID(A30,8,1)&"x","0x1x2x3x4x5x6x7x8x9x")))),"返品IDはRET-と半角数字4桁",IF(COUNTIFS($A$8:$A$57,A30)>1,"返品IDが重複",IF(NOT(AND(ISTEXT(B30),LEN(B30)=8,EXACT(LEFT(B30,4),"SAL-"),ISNUMBER(FIND(MID(B30,5,1)&"x","0x1x2x3x4x5x6x7x8x9x")),ISNUMBER(FIND(MID(B30,6,1)&"x","0x1x2x3x4x5x6x7x8x9x")),ISNUMBER(FIND(MID(B30,7,1)&"x","0x1x2x3x4x5x6x7x8x9x")),ISNUMBER(FIND(MID(B30,8,1)&"x","0x1x2x3x4x5x6x7x8x9x")))),"元明細IDはSAL-と半角数字4桁",IF(COUNTIFS(元出荷明細!$A$8:$A$57,B30)<>1,"元明細が一意にありません",IF(NOT(IF(ISNUMBER(C30),AND(C30>=43831,C30<=73050,C30=INT(C30)),FALSE())),"受付日は時刻なしで必須",IF(C30<SUMIFS(元出荷明細!$C$8:$C$57,元出荷明細!$A$8:$A$57,B30),"受付日は元出荷日以上",IF(NOT(OR(D30="破損",D30="品違い",D30="数量違い",D30="その他",D30="未確認")),"理由を確認",IF(NOT(OR(E30="有効",E30="取消")),"記録状態を確認",IF(NOT(OR(F30="確認済",F30="未確認")),"受取区分を確認",IF(AND(F30="確認済",NOT(IF(ISNUMBER(G30),AND(G30>=1,G30<=1000000,G30=INT(G30)),FALSE()))),"受取数は1〜100万個整数で必須",IF(AND(F30="未確認",COUNTA(G30)>0),"受取未確認の数量は空欄",IF(NOT(OR(H30="確認済",H30="未確認",H30="要対応")),"検品を確認",IF(AND(H30<>"未確認",F30<>"確認済"),"検品前に受取数量を確認",IF(NOT(OR(I30="未確認",I30="返金",I30="交換",I30="返却",I30="その他")),"方針を確認",IF(NOT(OR(J30="確認済",J30="未確認")),"実物処理を確認",IF(AND(J30="確認済",OR(H30<>"確認済",I30="未確認")),"実物処理済は検品/方針が必要",IF(AND(I30="返金",NOT(AND(OR(K30="確認済",K30="未確認"),OR(M30="確認済",M30="未確認")))),"返金は合意/実績を別確認",IF(AND(I30="未確認",NOT(AND(K30="未確認",M30="未確認"))),"方針未確認の金額区分は未確認",IF(AND(OR(I30="交換",I30="返却",I30="その他"),NOT(AND(K30="対象外",M30="対象外"))),"返金以外は金額区分が対象外",IF(AND(K30="確認済",NOT(IF(ISNUMBER(L30),AND(L30>=0,L30<=1000000000,L30=INT(L30)),FALSE()))),"確認済金額は0〜10億円整数",IF(AND(K30<>"確認済",COUNTA(L30)>0),"未確認/対象外の金額は空欄",IF(AND(M30="確認済",NOT(IF(ISNUMBER(N30),AND(N30>=0,N30<=1000000000,N30=INT(N30)),FALSE()))),"確認済金額は0〜10億円整数",IF(AND(M30<>"確認済",COUNTA(N30)>0),"未確認/対象外の金額は空欄",IF(NOT(IF(ISNUMBER(O30),AND(O30>=43831,O30<=73050,O30=INT(O30)),FALSE())),"記録確認日は時刻なしで必須",IF(OR(C30>O30,O30>返品の確認!$B$3),"受付日≦確認日≦基準日",IF(AND(E30="有効",SUMIFS($G$8:$G$57,$B$8:$B$57,B30,$E$8:$E$57,"有効",$F$8:$F$57,"確認済")>SUMIFS(元出荷明細!$D$8:$D$57,元出荷明細!$A$8:$A$57,B30)),"全有効受取数が元出荷数を超過","確認済み"))))))))))))))))))))))))))) | W30: =IF(V30="","",IF(V30="確認済み",0,1)) | X30: =IF(COUNTA(A30:O30)=0,IF(AND(V30="",W30="",P30="",Q30="",R30="",S30="",T30="",U30=""),0,1),IF(NOT(AND(ISTEXT(V30),V30=IF(COUNTA(A30:O30)=0,"",IF(NOT(AND(ISTEXT(A30),LEN(A30)=8,EXACT(LEFT(A30,4),"RET-"),ISNUMBER(FIND(MID(A30,5,1)&"x","0x1x2x3x4x5x6x7x8x9x")),ISNUMBER(FIND(MID(A30,6,1)&"x","0x1x2x3x4x5x6x7x8x9x")),ISNUMBER(FIND(MID(A30,7,1)&"x","0x1x2x3x4x5x6x7x8x9x")),ISNUMBER(FIND(MID(A30,8,1)&"x","0x1x2x3x4x5x6x7x8x9x")))),"返品IDはRET-と半角数字4桁",IF(COUNTIFS($A$8:$A$57,A30)>1,"返品IDが重複",IF(NOT(AND(ISTEXT(B30),LEN(B30)=8,EXACT(LEFT(B30,4),"SAL-"),ISNUMBER(FIND(MID(B30,5,1)&"x","0x1x2x3x4x5x6x7x8x9x")),ISNUMBER(FIND(MID(B30,6,1)&"x","0x1x2x3x4x5x6x7x8x9x")),ISNUMBER(FIND(MID(B30,7,1)&"x","0x1x2x3x4x5x6x7x8x9x")),ISNUMBER(FIND(MID(B30,8,1)&"x","0x1x2x3x4x5x6x7x8x9x")))),"元明細IDはSAL-と半角数字4桁",IF(COUNTIFS(元出荷明細!$A$8:$A$57,B30)<>1,"元明細が一意にありません",IF(NOT(IF(ISNUMBER(C30),AND(C30>=43831,C30<=73050,C30=INT(C30)),FALSE())),"受付日は時刻なしで必須",IF(C30<SUMIFS(元出荷明細!$C$8:$C$57,元出荷明細!$A$8:$A$57,B30),"受付日は元出荷日以上",IF(NOT(OR(D30="破損",D30="品違い",D30="数量違い",D30="その他",D30="未確認")),"理由を確認",IF(NOT(OR(E30="有効",E30="取消")),"記録状態を確認",IF(NOT(OR(F30="確認済",F30="未確認")),"受取区分を確認",IF(AND(F30="確認済",NOT(IF(ISNUMBER(G30),AND(G30>=1,G30<=1000000,G30=INT(G30)),FALSE()))),"受取数は1〜100万個整数で必須",IF(AND(F30="未確認",COUNTA(G30)>0),"受取未確認の数量は空欄",IF(NOT(OR(H30="確認済",H30="未確認",H30="要対応")),"検品を確認",IF(AND(H30<>"未確認",F30<>"確認済"),"検品前に受取数量を確認",IF(NOT(OR(I30="未確認",I30="返金",I30="交換",I30="返却",I30="その他")),"方針を確認",IF(NOT(OR(J30="確認済",J30="未確認")),"実物処理を確認",IF(AND(J30="確認済",OR(H30<>"確認済",I30="未確認")),"実物処理済は検品/方針が必要",IF(AND(I30="返金",NOT(AND(OR(K30="確認済",K30="未確認"),OR(M30="確認済",M30="未確認")))),"返金は合意/実績を別確認",IF(AND(I30="未確認",NOT(AND(K30="未確認",M30="未確認"))),"方針未確認の金額区分は未確認",IF(AND(OR(I30="交換",I30="返却",I30="その他"),NOT(AND(K30="対象外",M30="対象外"))),"返金以外は金額区分が対象外",IF(AND(K30="確認済",NOT(IF(ISNUMBER(L30),AND(L30>=0,L30<=1000000000,L30=INT(L30)),FALSE()))),"確認済金額は0〜10億円整数",IF(AND(K30<>"確認済",COUNTA(L30)>0),"未確認/対象外の金額は空欄",IF(AND(M30="確認済",NOT(IF(ISNUMBER(N30),AND(N30>=0,N30<=1000000000,N30=INT(N30)),FALSE()))),"確認済金額は0〜10億円整数",IF(AND(M30<>"確認済",COUNTA(N30)>0),"未確認/対象外の金額は空欄",IF(NOT(IF(ISNUMBER(O30),AND(O30>=43831,O30<=73050,O30=INT(O30)),FALSE())),"記録確認日は時刻なしで必須",IF(OR(C30>O30,O30>返品の確認!$B$3),"受付日≦確認日≦基準日",IF(AND(E30="有効",SUMIFS($G$8:$G$57,$B$8:$B$57,B30,$E$8:$E$57,"有効",$F$8:$F$57,"確認済")>SUMIFS(元出荷明細!$D$8:$D$57,元出荷明細!$A$8:$A$57,B30)),"全有効受取数が元出荷数を超過","確認済み"))))))))))))))))))))))))))),ISNUMBER(W30),W30=IF(V30="確認済み",0,1))),1,IF(W30<>0,0,IF(AND(ISNUMBER(P30),P30=SUMIFS(元出荷明細!$D$8:$D$57,元出荷明細!$A$8:$A$57,B30),ISNUMBER(Q30),Q30=SUMIFS($G$8:$G$57,$B$8:$B$57,B30,$E$8:$E$57,"有効",$F$8:$F$57,"確認済"),ISNUMBER(R30),R30=COUNTIFS($B$8:$B$57,B30,$E$8:$E$57,"有効",$F$8:$F$57,"未確認"),IF(R30>0,ISTEXT(S30),ISNUMBER(S30)),S30=IF(R30>0,"判定保留",P30-Q30),IF(AND(E30="有効",I30="返金",K30="確認済",M30="確認済"),ISNUMBER(T30),ISTEXT(T30)),T30=IF(E30="取消","取消",IF(I30="未確認","判定保留",IF(I30<>"返金","対象外",IF(AND(K30="確認済",M30="確認済"),L30-N30,"判定保留")))),ISTEXT(U30),U30=IF(E30="取消","取消",IF(F30="未確認","受取未確認",IF(H30="未確認","検品未確認",IF(H30="要対応","検品要対応",IF(D30="未確認","理由未確認",IF(I30="未確認","方針未確認",IF(J30="未確認","実物処理未確認",IF(I30<>"返金","照合済",IF(K30="未確認","合意未確認",IF(M30="未確認","実績未確認",IF(T30>0,"未返金",IF(T30<0,"過返金","照合済"))))))))))))),0,1)))) -> 0
P31: =IF(V31="","",IF(W31<>0,NA(),SUMIFS(元出荷明細!$D$8:$D$57,元出荷明細!$A$8:$A$57,B31))) | Q31: =IF(V31="","",IF(W31<>0,NA(),SUMIFS($G$8:$G$57,$B$8:$B$57,B31,$E$8:$E$57,"有効",$F$8:$F$57,"確認済"))) | R31: =IF(V31="","",IF(W31<>0,NA(),COUNTIFS($B$8:$B$57,B31,$E$8:$E$57,"有効",$F$8:$F$57,"未確認"))) | S31: =IF(V31="","",IF(W31<>0,NA(),IF(R31>0,"判定保留",P31-Q31))) | T31: =IF(V31="","",IF(W31<>0,NA(),IF(E31="取消","取消",IF(I31="未確認","判定保留",IF(I31<>"返金","対象外",IF(AND(K31="確認済",M31="確認済"),L31-N31,"判定保留")))))) | U31: =IF(V31="","",IF(W31<>0,NA(),IF(E31="取消","取消",IF(F31="未確認","受取未確認",IF(H31="未確認","検品未確認",IF(H31="要対応","検品要対応",IF(D31="未確認","理由未確認",IF(I31="未確認","方針未確認",IF(J31="未確認","実物処理未確認",IF(I31<>"返金","照合済",IF(K31="未確認","合意未確認",IF(M31="未確認","実績未確認",IF(T31>0,"未返金",IF(T31<0,"過返金","照合済")))))))))))))) | V31: =IF(COUNTA(A31:O31)=0,"",IF(NOT(AND(ISTEXT(A31),LEN(A31)=8,EXACT(LEFT(A31,4),"RET-"),ISNUMBER(FIND(MID(A31,5,1)&"x","0x1x2x3x4x5x6x7x8x9x")),ISNUMBER(FIND(MID(A31,6,1)&"x","0x1x2x3x4x5x6x7x8x9x")),ISNUMBER(FIND(MID(A31,7,1)&"x","0x1x2x3x4x5x6x7x8x9x")),ISNUMBER(FIND(MID(A31,8,1)&"x","0x1x2x3x4x5x6x7x8x9x")))),"返品IDはRET-と半角数字4桁",IF(COUNTIFS($A$8:$A$57,A31)>1,"返品IDが重複",IF(NOT(AND(ISTEXT(B31),LEN(B31)=8,EXACT(LEFT(B31,4),"SAL-"),ISNUMBER(FIND(MID(B31,5,1)&"x","0x1x2x3x4x5x6x7x8x9x")),ISNUMBER(FIND(MID(B31,6,1)&"x","0x1x2x3x4x5x6x7x8x9x")),ISNUMBER(FIND(MID(B31,7,1)&"x","0x1x2x3x4x5x6x7x8x9x")),ISNUMBER(FIND(MID(B31,8,1)&"x","0x1x2x3x4x5x6x7x8x9x")))),"元明細IDはSAL-と半角数字4桁",IF(COUNTIFS(元出荷明細!$A$8:$A$57,B31)<>1,"元明細が一意にありません",IF(NOT(IF(ISNUMBER(C31),AND(C31>=43831,C31<=73050,C31=INT(C31)),FALSE())),"受付日は時刻なしで必須",IF(C31<SUMIFS(元出荷明細!$C$8:$C$57,元出荷明細!$A$8:$A$57,B31),"受付日は元出荷日以上",IF(NOT(OR(D31="破損",D31="品違い",D31="数量違い",D31="その他",D31="未確認")),"理由を確認",IF(NOT(OR(E31="有効",E31="取消")),"記録状態を確認",IF(NOT(OR(F31="確認済",F31="未確認")),"受取区分を確認",IF(AND(F31="確認済",NOT(IF(ISNUMBER(G31),AND(G31>=1,G31<=1000000,G31=INT(G31)),FALSE()))),"受取数は1〜100万個整数で必須",IF(AND(F31="未確認",COUNTA(G31)>0),"受取未確認の数量は空欄",IF(NOT(OR(H31="確認済",H31="未確認",H31="要対応")),"検品を確認",IF(AND(H31<>"未確認",F31<>"確認済"),"検品前に受取数量を確認",IF(NOT(OR(I31="未確認",I31="返金",I31="交換",I31="返却",I31="その他")),"方針を確認",IF(NOT(OR(J31="確認済",J31="未確認")),"実物処理を確認",IF(AND(J31="確認済",OR(H31<>"確認済",I31="未確認")),"実物処理済は検品/方針が必要",IF(AND(I31="返金",NOT(AND(OR(K31="確認済",K31="未確認"),OR(M31="確認済",M31="未確認")))),"返金は合意/実績を別確認",IF(AND(I31="未確認",NOT(AND(K31="未確認",M31="未確認"))),"方針未確認の金額区分は未確認",IF(AND(OR(I31="交換",I31="返却",I31="その他"),NOT(AND(K31="対象外",M31="対象外"))),"返金以外は金額区分が対象外",IF(AND(K31="確認済",NOT(IF(ISNUMBER(L31),AND(L31>=0,L31<=1000000000,L31=INT(L31)),FALSE()))),"確認済金額は0〜10億円整数",IF(AND(K31<>"確認済",COUNTA(L31)>0),"未確認/対象外の金額は空欄",IF(AND(M31="確認済",NOT(IF(ISNUMBER(N31),AND(N31>=0,N31<=1000000000,N31=INT(N31)),FALSE()))),"確認済金額は0〜10億円整数",IF(AND(M31<>"確認済",COUNTA(N31)>0),"未確認/対象外の金額は空欄",IF(NOT(IF(ISNUMBER(O31),AND(O31>=43831,O31<=73050,O31=INT(O31)),FALSE())),"記録確認日は時刻なしで必須",IF(OR(C31>O31,O31>返品の確認!$B$3),"受付日≦確認日≦基準日",IF(AND(E31="有効",SUMIFS($G$8:$G$57,$B$8:$B$57,B31,$E$8:$E$57,"有効",$F$8:$F$57,"確認済")>SUMIFS(元出荷明細!$D$8:$D$57,元出荷明細!$A$8:$A$57,B31)),"全有効受取数が元出荷数を超過","確認済み"))))))))))))))))))))))))))) | W31: =IF(V31="","",IF(V31="確認済み",0,1)) | X31: =IF(COUNTA(A31:O31)=0,IF(AND(V31="",W31="",P31="",Q31="",R31="",S31="",T31="",U31=""),0,1),IF(NOT(AND(ISTEXT(V31),V31=IF(COUNTA(A31:O31)=0,"",IF(NOT(AND(ISTEXT(A31),LEN(A31)=8,EXACT(LEFT(A31,4),"RET-"),ISNUMBER(FIND(MID(A31,5,1)&"x","0x1x2x3x4x5x6x7x8x9x")),ISNUMBER(FIND(MID(A31,6,1)&"x","0x1x2x3x4x5x6x7x8x9x")),ISNUMBER(FIND(MID(A31,7,1)&"x","0x1x2x3x4x5x6x7x8x9x")),ISNUMBER(FIND(MID(A31,8,1)&"x","0x1x2x3x4x5x6x7x8x9x")))),"返品IDはRET-と半角数字4桁",IF(COUNTIFS($A$8:$A$57,A31)>1,"返品IDが重複",IF(NOT(AND(ISTEXT(B31),LEN(B31)=8,EXACT(LEFT(B31,4),"SAL-"),ISNUMBER(FIND(MID(B31,5,1)&"x","0x1x2x3x4x5x6x7x8x9x")),ISNUMBER(FIND(MID(B31,6,1)&"x","0x1x2x3x4x5x6x7x8x9x")),ISNUMBER(FIND(MID(B31,7,1)&"x","0x1x2x3x4x5x6x7x8x9x")),ISNUMBER(FIND(MID(B31,8,1)&"x","0x1x2x3x4x5x6x7x8x9x")))),"元明細IDはSAL-と半角数字4桁",IF(COUNTIFS(元出荷明細!$A$8:$A$57,B31)<>1,"元明細が一意にありません",IF(NOT(IF(ISNUMBER(C31),AND(C31>=43831,C31<=73050,C31=INT(C31)),FALSE())),"受付日は時刻なしで必須",IF(C31<SUMIFS(元出荷明細!$C$8:$C$57,元出荷明細!$A$8:$A$57,B31),"受付日は元出荷日以上",IF(NOT(OR(D31="破損",D31="品違い",D31="数量違い",D31="その他",D31="未確認")),"理由を確認",IF(NOT(OR(E31="有効",E31="取消")),"記録状態を確認",IF(NOT(OR(F31="確認済",F31="未確認")),"受取区分を確認",IF(AND(F31="確認済",NOT(IF(ISNUMBER(G31),AND(G31>=1,G31<=1000000,G31=INT(G31)),FALSE()))),"受取数は1〜100万個整数で必須",IF(AND(F31="未確認",COUNTA(G31)>0),"受取未確認の数量は空欄",IF(NOT(OR(H31="確認済",H31="未確認",H31="要対応")),"検品を確認",IF(AND(H31<>"未確認",F31<>"確認済"),"検品前に受取数量を確認",IF(NOT(OR(I31="未確認",I31="返金",I31="交換",I31="返却",I31="その他")),"方針を確認",IF(NOT(OR(J31="確認済",J31="未確認")),"実物処理を確認",IF(AND(J31="確認済",OR(H31<>"確認済",I31="未確認")),"実物処理済は検品/方針が必要",IF(AND(I31="返金",NOT(AND(OR(K31="確認済",K31="未確認"),OR(M31="確認済",M31="未確認")))),"返金は合意/実績を別確認",IF(AND(I31="未確認",NOT(AND(K31="未確認",M31="未確認"))),"方針未確認の金額区分は未確認",IF(AND(OR(I31="交換",I31="返却",I31="その他"),NOT(AND(K31="対象外",M31="対象外"))),"返金以外は金額区分が対象外",IF(AND(K31="確認済",NOT(IF(ISNUMBER(L31),AND(L31>=0,L31<=1000000000,L31=INT(L31)),FALSE()))),"確認済金額は0〜10億円整数",IF(AND(K31<>"確認済",COUNTA(L31)>0),"未確認/対象外の金額は空欄",IF(AND(M31="確認済",NOT(IF(ISNUMBER(N31),AND(N31>=0,N31<=1000000000,N31=INT(N31)),FALSE()))),"確認済金額は0〜10億円整数",IF(AND(M31<>"確認済",COUNTA(N31)>0),"未確認/対象外の金額は空欄",IF(NOT(IF(ISNUMBER(O31),AND(O31>=43831,O31<=73050,O31=INT(O31)),FALSE())),"記録確認日は時刻なしで必須",IF(OR(C31>O31,O31>返品の確認!$B$3),"受付日≦確認日≦基準日",IF(AND(E31="有効",SUMIFS($G$8:$G$57,$B$8:$B$57,B31,$E$8:$E$57,"有効",$F$8:$F$57,"確認済")>SUMIFS(元出荷明細!$D$8:$D$57,元出荷明細!$A$8:$A$57,B31)),"全有効受取数が元出荷数を超過","確認済み"))))))))))))))))))))))))))),ISNUMBER(W31),W31=IF(V31="確認済み",0,1))),1,IF(W31<>0,0,IF(AND(ISNUMBER(P31),P31=SUMIFS(元出荷明細!$D$8:$D$57,元出荷明細!$A$8:$A$57,B31),ISNUMBER(Q31),Q31=SUMIFS($G$8:$G$57,$B$8:$B$57,B31,$E$8:$E$57,"有効",$F$8:$F$57,"確認済"),ISNUMBER(R31),R31=COUNTIFS($B$8:$B$57,B31,$E$8:$E$57,"有効",$F$8:$F$57,"未確認"),IF(R31>0,ISTEXT(S31),ISNUMBER(S31)),S31=IF(R31>0,"判定保留",P31-Q31),IF(AND(E31="有効",I31="返金",K31="確認済",M31="確認済"),ISNUMBER(T31),ISTEXT(T31)),T31=IF(E31="取消","取消",IF(I31="未確認","判定保留",IF(I31<>"返金","対象外",IF(AND(K31="確認済",M31="確認済"),L31-N31,"判定保留")))),ISTEXT(U31),U31=IF(E31="取消","取消",IF(F31="未確認","受取未確認",IF(H31="未確認","検品未確認",IF(H31="要対応","検品要対応",IF(D31="未確認","理由未確認",IF(I31="未確認","方針未確認",IF(J31="未確認","実物処理未確認",IF(I31<>"返金","照合済",IF(K31="未確認","合意未確認",IF(M31="未確認","実績未確認",IF(T31>0,"未返金",IF(T31<0,"過返金","照合済"))))))))))))),0,1)))) -> 0
... P57: =IF(V57="","",IF(W57<>0,NA(),SUMIFS(元出荷明細!$D$8:$D$57,元出荷明細!$A$8:$A$57,B57))) | Q57: =IF(V57="","",IF(W57<>0,NA(),SUMIFS($G$8:$G$57,$B$8:$B$57,B57,$E$8:$E$57,"有効",$F$8:$F$57,"確認済"))) | R57: =IF(V57="","",IF(W57<>0,NA(),COUNTIFS($B$8:$B$57,B57,$E$8:$E$57,"有効",$F$8:$F$57,"未確認"))) | S57: =IF(V57="","",IF(W57<>0,NA(),IF(R57>0,"判定保留",P57-Q57))) | T57: =IF(V57="","",IF(W57<>0,NA(),IF(E57="取消","取消",IF(I57="未確認","判定保留",IF(I57<>"返金","対象外",IF(AND(K57="確認済",M57="確認済"),L57-N57,"判定保留")))))) | U57: =IF(V57="","",IF(W57<>0,NA(),IF(E57="取消","取消",IF(F57="未確認","受取未確認",IF(H57="未確認","検品未確認",IF(H57="要対応","検品要対応",IF(D57="未確認","理由未確認",IF(I57="未確認","方針未確認",IF(J57="未確認","実物処理未確認",IF(I57<>"返金","照合済",IF(K57="未確認","合意未確認",IF(M57="未確認","実績未確認",IF(T57>0,"未返金",IF(T57<0,"過返金","照合済")))))))))))))) | V57: =IF(COUNTA(A57:O57)=0,"",IF(NOT(AND(ISTEXT(A57),LEN(A57)=8,EXACT(LEFT(A57,4),"RET-"),ISNUMBER(FIND(MID(A57,5,1)&"x","0x1x2x3x4x5x6x7x8x9x")),ISNUMBER(FIND(MID(A57,6,1)&"x","0x1x2x3x4x5x6x7x8x9x")),ISNUMBER(FIND(MID(A57,7,1)&"x","0x1x2x3x4x5x6x7x8x9x")),ISNUMBER(FIND(MID(A57,8,1)&"x","0x1x2x3x4x5x6x7x8x9x")))),"返品IDはRET-と半角数字4桁",IF(COUNTIFS($A$8:$A$57,A57)>1,"返品IDが重複",IF(NOT(AND(ISTEXT(B57),LEN(B57)=8,EXACT(LEFT(B57,4),"SAL-"),ISNUMBER(FIND(MID(B57,5,1)&"x","0x1x2x3x4x5x6x7x8x9x")),ISNUMBER(FIND(MID(B57,6,1)&"x","0x1x2x3x4x5x6x7x8x9x")),ISNUMBER(FIND(MID(B57,7,1)&"x","0x1x2x3x4x5x6x7x8x9x")),ISNUMBER(FIND(MID(B57,8,1)&"x","0x1x2x3x4x5x6x7x8x9x")))),"元明細IDはSAL-と半角数字4桁",IF(COUNTIFS(元出荷明細!$A$8:$A$57,B57)<>1,"元明細が一意にありません",IF(NOT(IF(ISNUMBER(C57),AND(C57>=43831,C57<=73050,C57=INT(C57)),FALSE())),"受付日は時刻なしで必須",IF(C57<SUMIFS(元出荷明細!$C$8:$C$57,元出荷明細!$A$8:$A$57,B57),"受付日は元出荷日以上",IF(NOT(OR(D57="破損",D57="品違い",D57="数量違い",D57="その他",D57="未確認")),"理由を確認",IF(NOT(OR(E57="有効",E57="取消")),"記録状態を確認",IF(NOT(OR(F57="確認済",F57="未確認")),"受取区分を確認",IF(AND(F57="確認済",NOT(IF(ISNUMBER(G57),AND(G57>=1,G57<=1000000,G57=INT(G57)),FALSE()))),"受取数は1〜100万個整数で必須",IF(AND(F57="未確認",COUNTA(G57)>0),"受取未確認の数量は空欄",IF(NOT(OR(H57="確認済",H57="未確認",H57="要対応")),"検品を確認",IF(AND(H57<>"未確認",F57<>"確認済"),"検品前に受取数量を確認",IF(NOT(OR(I57="未確認",I57="返金",I57="交換",I57="返却",I57="その他")),"方針を確認",IF(NOT(OR(J57="確認済",J57="未確認")),"実物処理を確認",IF(AND(J57="確認済",OR(H57<>"確認済",I57="未確認")),"実物処理済は検品/方針が必要",IF(AND(I57="返金",NOT(AND(OR(K57="確認済",K57="未確認"),OR(M57="確認済",M57="未確認")))),"返金は合意/実績を別確認",IF(AND(I57="未確認",NOT(AND(K57="未確認",M57="未確認"))),"方針未確認の金額区分は未確認",IF(AND(OR(I57="交換",I57="返却",I57="その他"),NOT(AND(K57="対象外",M57="対象外"))),"返金以外は金額区分が対象外",IF(AND(K57="確認済",NOT(IF(ISNUMBER(L57),AND(L57>=0,L57<=1000000000,L57=INT(L57)),FALSE()))),"確認済金額は0〜10億円整数",IF(AND(K57<>"確認済",COUNTA(L57)>0),"未確認/対象外の金額は空欄",IF(AND(M57="確認済",NOT(IF(ISNUMBER(N57),AND(N57>=0,N57<=1000000000,N57=INT(N57)),FALSE()))),"確認済金額は0〜10億円整数",IF(AND(M57<>"確認済",COUNTA(N57)>0),"未確認/対象外の金額は空欄",IF(NOT(IF(ISNUMBER(O57),AND(O57>=43831,O57<=73050,O57=INT(O57)),FALSE())),"記録確認日は時刻なしで必須",IF(OR(C57>O57,O57>返品の確認!$B$3),"受付日≦確認日≦基準日",IF(AND(E57="有効",SUMIFS($G$8:$G$57,$B$8:$B$57,B57,$E$8:$E$57,"有効",$F$8:$F$57,"確認済")>SUMIFS(元出荷明細!$D$8:$D$57,元出荷明細!$A$8:$A$57,B57)),"全有効受取数が元出荷数を超過","確認済み"))))))))))))))))))))))))))) | W57: =IF(V57="","",IF(V57="確認済み",0,1)) | X57: =IF(COUNTA(A57:O57)=0,IF(AND(V57="",W57="",P57="",Q57="",R57="",S57="",T57="",U57=""),0,1),IF(NOT(AND(ISTEXT(V57),V57=IF(COUNTA(A57:O57)=0,"",IF(NOT(AND(ISTEXT(A57),LEN(A57)=8,EXACT(LEFT(A57,4),"RET-"),ISNUMBER(FIND(MID(A57,5,1)&"x","0x1x2x3x4x5x6x7x8x9x")),ISNUMBER(FIND(MID(A57,6,1)&"x","0x1x2x3x4x5x6x7x8x9x")),ISNUMBER(FIND(MID(A57,7,1)&"x","0x1x2x3x4x5x6x7x8x9x")),ISNUMBER(FIND(MID(A57,8,1)&"x","0x1x2x3x4x5x6x7x8x9x")))),"返品IDはRET-と半角数字4桁",IF(COUNTIFS($A$8:$A$57,A57)>1,"返品IDが重複",IF(NOT(AND(ISTEXT(B57),LEN(B57)=8,EXACT(LEFT(B57,4),"SAL-"),ISNUMBER(FIND(MID(B57,5,1)&"x","0x1x2x3x4x5x6x7x8x9x")),ISNUMBER(FIND(MID(B57,6,1)&"x","0x1x2x3x4x5x6x7x8x9x")),ISNUMBER(FIND(MID(B57,7,1)&"x","0x1x2x3x4x5x6x7x8x9x")),ISNUMBER(FIND(MID(B57,8,1)&"x","0x1x2x3x4x5x6x7x8x9x")))),"元明細IDはSAL-と半角数字4桁",IF(COUNTIFS(元出荷明細!$A$8:$A$57,B57)<>1,"元明細が一意にありません",IF(NOT(IF(ISNUMBER(C57),AND(C57>=43831,C57<=73050,C57=INT(C57)),FALSE())),"受付日は時刻なしで必須",IF(C57<SUMIFS(元出荷明細!$C$8:$C$57,元出荷明細!$A$8:$A$57,B57),"受付日は元出荷日以上",IF(NOT(OR(D57="破損",D57="品違い",D57="数量違い",D57="その他",D57="未確認")),"理由を確認",IF(NOT(OR(E57="有効",E57="取消")),"記録状態を確認",IF(NOT(OR(F57="確認済",F57="未確認")),"受取区分を確認",IF(AND(F57="確認済",NOT(IF(ISNUMBER(G57),AND(G57>=1,G57<=1000000,G57=INT(G57)),FALSE()))),"受取数は1〜100万個整数で必須",IF(AND(F57="未確認",COUNTA(G57)>0),"受取未確認の数量は空欄",IF(NOT(OR(H57="確認済",H57="未確認",H57="要対応")),"検品を確認",IF(AND(H57<>"未確認",F57<>"確認済"),"検品前に受取数量を確認",IF(NOT(OR(I57="未確認",I57="返金",I57="交換",I57="返却",I57="その他")),"方針を確認",IF(NOT(OR(J57="確認済",J57="未確認")),"実物処理を確認",IF(AND(J57="確認済",OR(H57<>"確認済",I57="未確認")),"実物処理済は検品/方針が必要",IF(AND(I57="返金",NOT(AND(OR(K57="確認済",K57="未確認"),OR(M57="確認済",M57="未確認")))),"返金は合意/実績を別確認",IF(AND(I57="未確認",NOT(AND(K57="未確認",M57="未確認"))),"方針未確認の金額区分は未確認",IF(AND(OR(I57="交換",I57="返却",I57="その他"),NOT(AND(K57="対象外",M57="対象外"))),"返金以外は金額区分が対象外",IF(AND(K57="確認済",NOT(IF(ISNUMBER(L57),AND(L57>=0,L57<=1000000000,L57=INT(L57)),FALSE()))),"確認済金額は0〜10億円整数",IF(AND(K57<>"確認済",COUNTA(L57)>0),"未確認/対象外の金額は空欄",IF(AND(M57="確認済",NOT(IF(ISNUMBER(N57),AND(N57>=0,N57<=1000000000,N57=INT(N57)),FALSE()))),"確認済金額は0〜10億円整数",IF(AND(M57<>"確認済",COUNTA(N57)>0),"未確認/対象外の金額は空欄",IF(NOT(IF(ISNUMBER(O57),AND(O57>=43831,O57<=73050,O57=INT(O57)),FALSE())),"記録確認日は時刻なしで必須",IF(OR(C57>O57,O57>返品の確認!$B$3),"受付日≦確認日≦基準日",IF(AND(E57="有効",SUMIFS($G$8:$G$57,$B$8:$B$57,B57,$E$8:$E$57,"有効",$F$8:$F$57,"確認済")>SUMIFS(元出荷明細!$D$8:$D$57,元出荷明細!$A$8:$A$57,B57)),"全有効受取数が元出荷数を超過","確認済み"))))))))))))))))))))))))))),ISNUMBER(W57),W57=IF(V57="確認済み",0,1))),1,IF(W57<>0,0,IF(AND(ISNUMBER(P57),P57=SUMIFS(元出荷明細!$D$8:$D$57,元出荷明細!$A$8:$A$57,B57),ISNUMBER(Q57),Q57=SUMIFS($G$8:$G$57,$B$8:$B$57,B57,$E$8:$E$57,"有効",$F$8:$F$57,"確認済"),ISNUMBER(R57),R57=COUNTIFS($B$8:$B$57,B57,$E$8:$E$57,"有効",$F$8:$F$57,"未確認"),IF(R57>0,ISTEXT(S57),ISNUMBER(S57)),S57=IF(R57>0,"判定保留",P57-Q57),IF(AND(E57="有効",I57="返金",K57="確認済",M57="確認済"),ISNUMBER(T57),ISTEXT(T57)),T57=IF(E57="取消","取消",IF(I57="未確認","判定保留",IF(I57<>"返金","対象外",IF(AND(K57="確認済",M57="確認済"),L57-N57,"判定保留")))),ISTEXT(U57),U57=IF(E57="取消","取消",IF(F57="未確認","受取未確認",IF(H57="未確認","検品未確認",IF(H57="要対応","検品要対応",IF(D57="未確認","理由未確認",IF(I57="未確認","方針未確認",IF(J57="未確認","実物処理未確認",IF(I57<>"返金","照合済",IF(K57="未確認","合意未確認",IF(M57="未確認","実績未確認",IF(T57>0,"未返金",IF(T57<0,"過返金","照合済"))))))))))))),0,1)))) -> 0
A61: 架空教材。返品50行/元出荷50行、単一場所・整数個と日本円。仕入返品/サービス/返品不要の返金は対象外。
A62: 1行は1回の返品/1元出荷明細。分割返品は別RET-ID、同じSAL-ID。複数品目の1返品は元明細別に分ける。
A63: IDはRET-/SAL-/SKU-と半角数字4桁。元資料は出荷済みの確認済み明細だけ。品目/取引先対応は別照合。
A64: 確認済受取数は1〜100万個、未確認は空欄。申告/予定数量ではなく実際に確認した受取数を記録。
A65: 全有効・確認済み受取数は同じ元出荷数以下。未知の受取があれば未返品数目安は判定保留。
A66: 未返品数目安は元出荷数−全有効受取数。未登録の返品/現物/申告数量/返品承認余力を保証しません。
A67: 検品は未確認/要対応/確認済。検品には受取確認が必要。実物処理済には検品確認済と既知の方針が必要。
A68: 方針は未確認/返金/交換/返却/その他。その他は返金なし。交換等と返金を併用する複合処理は対象外。
A69: 返金は合意/実績を別々に確認。未確認金額は空欄、確認済0円は0。0〜10億円整数、数量×単価で補いません。
A70: 方針未確認の合意/実績は未確認。返金以外の両区分は対象外、両金額は空欄。
A71: 返金差額＝合意額−実績額。正は未返金、負は過返金。返金の両方確認済だけ計算、未確認は判定保留。
A72: 合意/実績小計は各確認済みの別集合。未確認方針/金額があれば全返金差額を保留し、小計差を全額差としない。
... A85: SUMIFS https://support.microsoft.com/en-us/excel/functions/sumifs-function COUNTIFS https://support.microsoft.com/en-us/excel/functions/countifs-function

Sheet 元出荷明細
A2: 元の出荷明細
A3: 確認済みの元資料を1出荷明細1行で記録。同じ品目でも出荷が違えば別SAL-ID。
A7: 元明細ID | B7: 品目ID | C7: 出荷日 | D7: 出荷数（個） | E7: 原資料確認日 | F7: 入力の確認 | G7: 入力不備 | H7: 計算の前提
A8: SAL-0001 | B8: SKU-0001 | C8: 46296 | D8: 10 | E8: 46326 | F8: =IF(COUNTA(A8:E8)=0,"",IF(NOT(AND(ISTEXT(A8),LEN(A8)=8,EXACT(LEFT(A8,4),"SAL-"),ISNUMBER(FIND(MID(A8,5,1)&"x","0x1x2x3x4x5x6x7x8x9x")),ISNUMBER(FIND(MID(A8,6,1)&"x","0x1x2x3x4x5x6x7x8x9x")),ISNUMBER(FIND(MID(A8,7,1)&"x","0x1x2x3x4x5x6x7x8x9x")),ISNUMBER(FIND(MID(A8,8,1)&"x","0x1x2x3x4x5x6x7x8x9x")))),"元明細IDはSAL-と半角数字4桁",IF(COUNTIFS($A$8:$A$57,A8)>1,"元明細IDが重複",IF(NOT(AND(ISTEXT(B8),LEN(B8)=8,EXACT(LEFT(B8,4),"SKU-"),ISNUMBER(FIND(MID(B8,5,1)&"x","0x1x2x3x4x5x6x7x8x9x")),ISNUMBER(FIND(MID(B8,6,1)&"x","0x1x2x3x4x5x6x7x8x9x")),ISNUMBER(FIND(MID(B8,7,1)&"x","0x1x2x3x4x5x6x7x8x9x")),ISNUMBER(FIND(MID(B8,8,1)&"x","0x1x2x3x4x5x6x7x8x9x")))),"品目IDはSKU-と半角数字4桁",IF(NOT(IF(ISNUMBER(C8),AND(C8>=43831,C8<=73050,C8=INT(C8)),FALSE())),"出荷日は時刻なしで必須",IF(NOT(IF(ISNUMBER(D8),AND(D8>=1,D8<=1000000,D8=INT(D8)),FALSE())),"出荷数は1〜100万個の整数",IF(NOT(IF(ISNUMBER(E8),AND(E8>=43831,E8<=73050,E8=INT(E8)),FALSE())),"原資料確認日は時刻なしで必須",IF(OR(C8>E8,E8>返品の確認!$B$3),"出荷日≦原資料確認日≦基準日","確認済み")))))))) -> 確認済み | G8: =IF(F8="","",IF(F8="確認済み",0,1)) -> 0 | H8: =IF(COUNTA(A8:E8)=0,IF(AND(F8="",G8=""),0,1),IF(AND(ISTEXT(F8),F8=IF(COUNTA(A8:E8)=0,"",IF(NOT(AND(ISTEXT(A8),LEN(A8)=8,EXACT(LEFT(A8,4),"SAL-"),ISNUMBER(FIND(MID(A8,5,1)&"x","0x1x2x3x4x5x6x7x8x9x")),ISNUMBER(FIND(MID(A8,6,1)&"x","0x1x2x3x4x5x6x7x8x9x")),ISNUMBER(FIND(MID(A8,7,1)&"x","0x1x2x3x4x5x6x7x8x9x")),ISNUMBER(FIND(MID(A8,8,1)&"x","0x1x2x3x4x5x6x7x8x9x")))),"元明細IDはSAL-と半角数字4桁",IF(COUNTIFS($A$8:$A$57,A8)>1,"元明細IDが重複",IF(NOT(AND(ISTEXT(B8),LEN(B8)=8,EXACT(LEFT(B8,4),"SKU-"),ISNUMBER(FIND(MID(B8,5,1)&"x","0x1x2x3x4x5x6x7x8x9x")),ISNUMBER(FIND(MID(B8,6,1)&"x","0x1x2x3x4x5x6x7x8x9x")),ISNUMBER(FIND(MID(B8,7,1)&"x","0x1x2x3x4x5x6x7x8x9x")),ISNUMBER(FIND(MID(B8,8,1)&"x","0x1x2x3x4x5x6x7x8x9x")))),"品目IDはSKU-と半角数字4桁",IF(NOT(IF(ISNUMBER(C8),AND(C8>=43831,C8<=73050,C8=INT(C8)),FALSE())),"出荷日は時刻なしで必須",IF(NOT(IF(ISNUMBER(D8),AND(D8>=1,D8<=1000000,D8=INT(D8)),FALSE())),"出荷数は1〜100万個の整数",IF(NOT(IF(ISNUMBER(E8),AND(E8>=43831,E8<=73050,E8=INT(E8)),FALSE())),"原資料確認日は時刻なしで必須",IF(OR(C8>E8,E8>返品の確認!$B$3),"出荷日≦原資料確認日≦基準日","確認済み")))))))),ISNUMBER(G8),G8=IF(F8="確認済み",0,1)),0,1)) -> 0
A9: SAL-0002 | B9: SKU-0002 | C9: 46296 | D9: 10 | E9: 46326 | F9: =IF(COUNTA(A9:E9)=0,"",IF(NOT(AND(ISTEXT(A9),LEN(A9)=8,EXACT(LEFT(A9,4),"SAL-"),ISNUMBER(FIND(MID(A9,5,1)&"x","0x1x2x3x4x5x6x7x8x9x")),ISNUMBER(FIND(MID(A9,6,1)&"x","0x1x2x3x4x5x6x7x8x9x")),ISNUMBER(FIND(MID(A9,7,1)&"x","0x1x2x3x4x5x6x7x8x9x")),ISNUMBER(FIND(MID(A9,8,1)&"x","0x1x2x3x4x5x6x7x8x9x")))),"元明細IDはSAL-と半角数字4桁",IF(COUNTIFS($A$8:$A$57,A9)>1,"元明細IDが重複",IF(NOT(AND(ISTEXT(B9),LEN(B9)=8,EXACT(LEFT(B9,4),"SKU-"),ISNUMBER(FIND(MID(B9,5,1)&"x","0x1x2x3x4x5x6x7x8x9x")),ISNUMBER(FIND(MID(B9,6,1)&"x","0x1x2x3x4x5x6x7x8x9x")),ISNUMBER(FIND(MID(B9,7,1)&"x","0x1x2x3x4x5x6x7x8x9x")),ISNUMBER(FIND(MID(B9,8,1)&"x","0x1x2x3x4x5x6x7x8x9x")))),"品目IDはSKU-と半角数字4桁",IF(NOT(IF(ISNUMBER(C9),AND(C9>=43831,C9<=73050,C9=INT(C9)),FALSE())),"出荷日は時刻なしで必須",IF(NOT(IF(ISNUMBER(D9),AND(D9>=1,D9<=1000000,D9=INT(D9)),FALSE())),"出荷数は1〜100万個の整数",IF(NOT(IF(ISNUMBER(E9),AND(E9>=43831,E9<=73050,E9=INT(E9)),FALSE())),"原資料確認日は時刻なしで必須",IF(OR(C9>E9,E9>返品の確認!$B$3),"出荷日≦原資料確認日≦基準日","確認済み")))))))) -> 確認済み | G9: =IF(F9="","",IF(F9="確認済み",0,1)) -> 0 | H9: =IF(COUNTA(A9:E9)=0,IF(AND(F9="",G9=""),0,1),IF(AND(ISTEXT(F9),F9=IF(COUNTA(A9:E9)=0,"",IF(NOT(AND(ISTEXT(A9),LEN(A9)=8,EXACT(LEFT(A9,4),"SAL-"),ISNUMBER(FIND(MID(A9,5,1)&"x","0x1x2x3x4x5x6x7x8x9x")),ISNUMBER(FIND(MID(A9,6,1)&"x","0x1x2x3x4x5x6x7x8x9x")),ISNUMBER(FIND(MID(A9,7,1)&"x","0x1x2x3x4x5x6x7x8x9x")),ISNUMBER(FIND(MID(A9,8,1)&"x","0x1x2x3x4x5x6x7x8x9x")))),"元明細IDはSAL-と半角数字4桁",IF(COUNTIFS($A$8:$A$57,A9)>1,"元明細IDが重複",IF(NOT(AND(ISTEXT(B9),LEN(B9)=8,EXACT(LEFT(B9,4),"SKU-"),ISNUMBER(FIND(MID(B9,5,1)&"x","0x1x2x3x4x5x6x7x8x9x")),ISNUMBER(FIND(MID(B9,6,1)&"x","0x1x2x3x4x5x6x7x8x9x")),ISNUMBER(FIND(MID(B9,7,1)&"x","0x1x2x3x4x5x6x7x8x9x")),ISNUMBER(FIND(MID(B9,8,1)&"x","0x1x2x3x4x5x6x7x8x9x")))),"品目IDはSKU-と半角数字4桁",IF(NOT(IF(ISNUMBER(C9),AND(C9>=43831,C9<=73050,C9=INT(C9)),FALSE())),"出荷日は時刻なしで必須",IF(NOT(IF(ISNUMBER(D9),AND(D9>=1,D9<=1000000,D9=INT(D9)),FALSE())),"出荷数は1〜100万個の整数",IF(NOT(IF(ISNUMBER(E9),AND(E9>=43831,E9<=73050,E9=INT(E9)),FALSE())),"原資料確認日は時刻なしで必須",IF(OR(C9>E9,E9>返品の確認!$B$3),"出荷日≦原資料確認日≦基準日","確認済み")))))))),ISNUMBER(G9),G9=IF(F9="確認済み",0,1)),0,1)) -> 0
A10: SAL-0003 | B10: SKU-0003 | C10: 46296 | D10: 10 | E10: 46326 | F10: =IF(COUNTA(A10:E10)=0,"",IF(NOT(AND(ISTEXT(A10),LEN(A10)=8,EXACT(LEFT(A10,4),"SAL-"),ISNUMBER(FIND(MID(A10,5,1)&"x","0x1x2x3x4x5x6x7x8x9x")),ISNUMBER(FIND(MID(A10,6,1)&"x","0x1x2x3x4x5x6x7x8x9x")),ISNUMBER(FIND(MID(A10,7,1)&"x","0x1x2x3x4x5x6x7x8x9x")),ISNUMBER(FIND(MID(A10,8,1)&"x","0x1x2x3x4x5x6x7x8x9x")))),"元明細IDはSAL-と半角数字4桁",IF(COUNTIFS($A$8:$A$57,A10)>1,"元明細IDが重複",IF(NOT(AND(ISTEXT(B10),LEN(B10)=8,EXACT(LEFT(B10,4),"SKU-"),ISNUMBER(FIND(MID(B10,5,1)&"x","0x1x2x3x4x5x6x7x8x9x")),ISNUMBER(FIND(MID(B10,6,1)&"x","0x1x2x3x4x5x6x7x8x9x")),ISNUMBER(FIND(MID(B10,7,1)&"x","0x1x2x3x4x5x6x7x8x9x")),ISNUMBER(FIND(MID(B10,8,1)&"x","0x1x2x3x4x5x6x7x8x9x")))),"品目IDはSKU-と半角数字4桁",IF(NOT(IF(ISNUMBER(C10),AND(C10>=43831,C10<=73050,C10=INT(C10)),FALSE())),"出荷日は時刻なしで必須",IF(NOT(IF(ISNUMBER(D10),AND(D10>=1,D10<=1000000,D10=INT(D10)),FALSE())),"出荷数は1〜100万個の整数",IF(NOT(IF(ISNUMBER(E10),AND(E10>=43831,E10<=73050,E10=INT(E10)),FALSE())),"原資料確認日は時刻なしで必須",IF(OR(C10>E10,E10>返品の確認!$B$3),"出荷日≦原資料確認日≦基準日","確認済み")))))))) -> 確認済み | G10: =IF(F10="","",IF(F10="確認済み",0,1)) -> 0 | H10: =IF(COUNTA(A10:E10)=0,IF(AND(F10="",G10=""),0,1),IF(AND(ISTEXT(F10),F10=IF(COUNTA(A10:E10)=0,"",IF(NOT(AND(ISTEXT(A10),LEN(A10)=8,EXACT(LEFT(A10,4),"SAL-"),ISNUMBER(FIND(MID(A10,5,1)&"x","0x1x2x3x4x5x6x7x8x9x")),ISNUMBER(FIND(MID(A10,6,1)&"x","0x1x2x3x4x5x6x7x8x9x")),ISNUMBER(FIND(MID(A10,7,1)&"x","0x1x2x3x4x5x6x7x8x9x")),ISNUMBER(FIND(MID(A10,8,1)&"x","0x1x2x3x4x5x6x7x8x9x")))),"元明細IDはSAL-と半角数字4桁",IF(COUNTIFS($A$8:$A$57,A10)>1,"元明細IDが重複",IF(NOT(AND(ISTEXT(B10),LEN(B10)=8,EXACT(LEFT(B10,4),"SKU-"),ISNUMBER(FIND(MID(B10,5,1)&"x","0x1x2x3x4x5x6x7x8x9x")),ISNUMBER(FIND(MID(B10,6,1)&"x","0x1x2x3x4x5x6x7x8x9x")),ISNUMBER(FIND(MID(B10,7,1)&"x","0x1x2x3x4x5x6x7x8x9x")),ISNUMBER(FIND(MID(B10,8,1)&"x","0x1x2x3x4x5x6x7x8x9x")))),"品目IDはSKU-と半角数字4桁",IF(NOT(IF(ISNUMBER(C10),AND(C10>=43831,C10<=73050,C10=INT(C10)),FALSE())),"出荷日は時刻なしで必須",IF(NOT(IF(ISNUMBER(D10),AND(D10>=1,D10<=1000000,D10=INT(D10)),FALSE())),"出荷数は1〜100万個の整数",IF(NOT(IF(ISNUMBER(E10),AND(E10>=43831,E10<=73050,E10=INT(E10)),FALSE())),"原資料確認日は時刻なしで必須",IF(OR(C10>E10,E10>返品の確認!$B$3),"出荷日≦原資料確認日≦基準日","確認済み")))))))),ISNUMBER(G10),G10=IF(F10="確認済み",0,1)),0,1)) -> 0
A11: SAL-0004 | B11: SKU-0004 | C11: 46296 | D11: 10 | E11: 46326 | F11: =IF(COUNTA(A11:E11)=0,"",IF(NOT(AND(ISTEXT(A11),LEN(A11)=8,EXACT(LEFT(A11,4),"SAL-"),ISNUMBER(FIND(MID(A11,5,1)&"x","0x1x2x3x4x5x6x7x8x9x")),ISNUMBER(FIND(MID(A11,6,1)&"x","0x1x2x3x4x5x6x7x8x9x")),ISNUMBER(FIND(MID(A11,7,1)&"x","0x1x2x3x4x5x6x7x8x9x")),ISNUMBER(FIND(MID(A11,8,1)&"x","0x1x2x3x4x5x6x7x8x9x")))),"元明細IDはSAL-と半角数字4桁",IF(COUNTIFS($A$8:$A$57,A11)>1,"元明細IDが重複",IF(NOT(AND(ISTEXT(B11),LEN(B11)=8,EXACT(LEFT(B11,4),"SKU-"),ISNUMBER(FIND(MID(B11,5,1)&"x","0x1x2x3x4x5x6x7x8x9x")),ISNUMBER(FIND(MID(B11,6,1)&"x","0x1x2x3x4x5x6x7x8x9x")),ISNUMBER(FIND(MID(B11,7,1)&"x","0x1x2x3x4x5x6x7x8x9x")),ISNUMBER(FIND(MID(B11,8,1)&"x","0x1x2x3x4x5x6x7x8x9x")))),"品目IDはSKU-と半角数字4桁",IF(NOT(IF(ISNUMBER(C11),AND(C11>=43831,C11<=73050,C11=INT(C11)),FALSE())),"出荷日は時刻なしで必須",IF(NOT(IF(ISNUMBER(D11),AND(D11>=1,D11<=1000000,D11=INT(D11)),FALSE())),"出荷数は1〜100万個の整数",IF(NOT(IF(ISNUMBER(E11),AND(E11>=43831,E11<=73050,E11=INT(E11)),FALSE())),"原資料確認日は時刻なしで必須",IF(OR(C11>E11,E11>返品の確認!$B$3),"出荷日≦原資料確認日≦基準日","確認済み")))))))) -> 確認済み | G11: =IF(F11="","",IF(F11="確認済み",0,1)) -> 0 | H11: =IF(COUNTA(A11:E11)=0,IF(AND(F11="",G11=""),0,1),IF(AND(ISTEXT(F11),F11=IF(COUNTA(A11:E11)=0,"",IF(NOT(AND(ISTEXT(A11),LEN(A11)=8,EXACT(LEFT(A11,4),"SAL-"),ISNUMBER(FIND(MID(A11,5,1)&"x","0x1x2x3x4x5x6x7x8x9x")),ISNUMBER(FIND(MID(A11,6,1)&"x","0x1x2x3x4x5x6x7x8x9x")),ISNUMBER(FIND(MID(A11,7,1)&"x","0x1x2x3x4x5x6x7x8x9x")),ISNUMBER(FIND(MID(A11,8,1)&"x","0x1x2x3x4x5x6x7x8x9x")))),"元明細IDはSAL-と半角数字4桁",IF(COUNTIFS($A$8:$A$57,A11)>1,"元明細IDが重複",IF(NOT(AND(ISTEXT(B11),LEN(B11)=8,EXACT(LEFT(B11,4),"SKU-"),ISNUMBER(FIND(MID(B11,5,1)&"x","0x1x2x3x4x5x6x7x8x9x")),ISNUMBER(FIND(MID(B11,6,1)&"x","0x1x2x3x4x5x6x7x8x9x")),ISNUMBER(FIND(MID(B11,7,1)&"x","0x1x2x3x4x5x6x7x8x9x")),ISNUMBER(FIND(MID(B11,8,1)&"x","0x1x2x3x4x5x6x7x8x9x")))),"品目IDはSKU-と半角数字4桁",IF(NOT(IF(ISNUMBER(C11),AND(C11>=43831,C11<=73050,C11=INT(C11)),FALSE())),"出荷日は時刻なしで必須",IF(NOT(IF(ISNUMBER(D11),AND(D11>=1,D11<=1000000,D11=INT(D11)),FALSE())),"出荷数は1〜100万個の整数",IF(NOT(IF(ISNUMBER(E11),AND(E11>=43831,E11<=73050,E11=INT(E11)),FALSE())),"原資料確認日は時刻なしで必須",IF(OR(C11>E11,E11>返品の確認!$B$3),"出荷日≦原資料確認日≦基準日","確認済み")))))))),ISNUMBER(G11),G11=IF(F11="確認済み",0,1)),0,1)) -> 0
A12: SAL-0005 | B12: SKU-0005 | C12: 46296 | D12: 10 | E12: 46326 | F12: =IF(COUNTA(A12:E12)=0,"",IF(NOT(AND(ISTEXT(A12),LEN(A12)=8,EXACT(LEFT(A12,4),"SAL-"),ISNUMBER(FIND(MID(A12,5,1)&"x","0x1x2x3x4x5x6x7x8x9x")),ISNUMBER(FIND(MID(A12,6,1)&"x","0x1x2x3x4x5x6x7x8x9x")),ISNUMBER(FIND(MID(A12,7,1)&"x","0x1x2x3x4x5x6x7x8x9x")),ISNUMBER(FIND(MID(A12,8,1)&"x","0x1x2x3x4x5x6x7x8x9x")))),"元明細IDはSAL-と半角数字4桁",IF(COUNTIFS($A$8:$A$57,A12)>1,"元明細IDが重複",IF(NOT(AND(ISTEXT(B12),LEN(B12)=8,EXACT(LEFT(B12,4),"SKU-"),ISNUMBER(FIND(MID(B12,5,1)&"x","0x1x2x3x4x5x6x7x8x9x")),ISNUMBER(FIND(MID(B12,6,1)&"x","0x1x2x3x4x5x6x7x8x9x")),ISNUMBER(FIND(MID(B12,7,1)&"x","0x1x2x3x4x5x6x7x8x9x")),ISNUMBER(FIND(MID(B12,8,1)&"x","0x1x2x3x4x5x6x7x8x9x")))),"品目IDはSKU-と半角数字4桁",IF(NOT(IF(ISNUMBER(C12),AND(C12>=43831,C12<=73050,C12=INT(C12)),FALSE())),"出荷日は時刻なしで必須",IF(NOT(IF(ISNUMBER(D12),AND(D12>=1,D12<=1000000,D12=INT(D12)),FALSE())),"出荷数は1〜100万個の整数",IF(NOT(IF(ISNUMBER(E12),AND(E12>=43831,E12<=73050,E12=INT(E12)),FALSE())),"原資料確認日は時刻なしで必須",IF(OR(C12>E12,E12>返品の確認!$B$3),"出荷日≦原資料確認日≦基準日","確認済み")))))))) -> 確認済み | G12: =IF(F12="","",IF(F12="確認済み",0,1)) -> 0 | H12: =IF(COUNTA(A12:E12)=0,IF(AND(F12="",G12=""),0,1),IF(AND(ISTEXT(F12),F12=IF(COUNTA(A12:E12)=0,"",IF(NOT(AND(ISTEXT(A12),LEN(A12)=8,EXACT(LEFT(A12,4),"SAL-"),ISNUMBER(FIND(MID(A12,5,1)&"x","0x1x2x3x4x5x6x7x8x9x")),ISNUMBER(FIND(MID(A12,6,1)&"x","0x1x2x3x4x5x6x7x8x9x")),ISNUMBER(FIND(MID(A12,7,1)&"x","0x1x2x3x4x5x6x7x8x9x")),ISNUMBER(FIND(MID(A12,8,1)&"x","0x1x2x3x4x5x6x7x8x9x")))),"元明細IDはSAL-と半角数字4桁",IF(COUNTIFS($A$8:$A$57,A12)>1,"元明細IDが重複",IF(NOT(AND(ISTEXT(B12),LEN(B12)=8,EXACT(LEFT(B12,4),"SKU-"),ISNUMBER(FIND(MID(B12,5,1)&"x","0x1x2x3x4x5x6x7x8x9x")),ISNUMBER(FIND(MID(B12,6,1)&"x","0x1x2x3x4x5x6x7x8x9x")),ISNUMBER(FIND(MID(B12,7,1)&"x","0x1x2x3x4x5x6x7x8x9x")),ISNUMBER(FIND(MID(B12,8,1)&"x","0x1x2x3x4x5x6x7x8x9x")))),"品目IDはSKU-と半角数字4桁",IF(NOT(IF(ISNUMBER(C12),AND(C12>=43831,C12<=73050,C12=INT(C12)),FALSE())),"出荷日は時刻なしで必須",IF(NOT(IF(ISNUMBER(D12),AND(D12>=1,D12<=1000000,D12=INT(D12)),FALSE())),"出荷数は1〜100万個の整数",IF(NOT(IF(ISNUMBER(E12),AND(E12>=43831,E12<=73050,E12=INT(E12)),FALSE())),"原資料確認日は時刻なしで必須",IF(OR(C12>E12,E12>返品の確認!$B$3),"出荷日≦原資料確認日≦基準日","確認済み")))))))),ISNUMBER(G12),G12=IF(F12="確認済み",0,1)),0,1)) -> 0
A13: SAL-0006 | B13: SKU-0006 | C13: 46296 | D13: 10 | E13: 46326 | F13: =IF(COUNTA(A13:E13)=0,"",IF(NOT(AND(ISTEXT(A13),LEN(A13)=8,EXACT(LEFT(A13,4),"SAL-"),ISNUMBER(FIND(MID(A13,5,1)&"x","0x1x2x3x4x5x6x7x8x9x")),ISNUMBER(FIND(MID(A13,6,1)&"x","0x1x2x3x4x5x6x7x8x9x")),ISNUMBER(FIND(MID(A13,7,1)&"x","0x1x2x3x4x5x6x7x8x9x")),ISNUMBER(FIND(MID(A13,8,1)&"x","0x1x2x3x4x5x6x7x8x9x")))),"元明細IDはSAL-と半角数字4桁",IF(COUNTIFS($A$8:$A$57,A13)>1,"元明細IDが重複",IF(NOT(AND(ISTEXT(B13),LEN(B13)=8,EXACT(LEFT(B13,4),"SKU-"),ISNUMBER(FIND(MID(B13,5,1)&"x","0x1x2x3x4x5x6x7x8x9x")),ISNUMBER(FIND(MID(B13,6,1)&"x","0x1x2x3x4x5x6x7x8x9x")),ISNUMBER(FIND(MID(B13,7,1)&"x","0x1x2x3x4x5x6x7x8x9x")),ISNUMBER(FIND(MID(B13,8,1)&"x","0x1x2x3x4x5x6x7x8x9x")))),"品目IDはSKU-と半角数字4桁",IF(NOT(IF(ISNUMBER(C13),AND(C13>=43831,C13<=73050,C13=INT(C13)),FALSE())),"出荷日は時刻なしで必須",IF(NOT(IF(ISNUMBER(D13),AND(D13>=1,D13<=1000000,D13=INT(D13)),FALSE())),"出荷数は1〜100万個の整数",IF(NOT(IF(ISNUMBER(E13),AND(E13>=43831,E13<=73050,E13=INT(E13)),FALSE())),"原資料確認日は時刻なしで必須",IF(OR(C13>E13,E13>返品の確認!$B$3),"出荷日≦原資料確認日≦基準日","確認済み")))))))) -> 確認済み | G13: =IF(F13="","",IF(F13="確認済み",0,1)) -> 0 | H13: =IF(COUNTA(A13:E13)=0,IF(AND(F13="",G13=""),0,1),IF(AND(ISTEXT(F13),F13=IF(COUNTA(A13:E13)=0,"",IF(NOT(AND(ISTEXT(A13),LEN(A13)=8,EXACT(LEFT(A13,4),"SAL-"),ISNUMBER(FIND(MID(A13,5,1)&"x","0x1x2x3x4x5x6x7x8x9x")),ISNUMBER(FIND(MID(A13,6,1)&"x","0x1x2x3x4x5x6x7x8x9x")),ISNUMBER(FIND(MID(A13,7,1)&"x","0x1x2x3x4x5x6x7x8x9x")),ISNUMBER(FIND(MID(A13,8,1)&"x","0x1x2x3x4x5x6x7x8x9x")))),"元明細IDはSAL-と半角数字4桁",IF(COUNTIFS($A$8:$A$57,A13)>1,"元明細IDが重複",IF(NOT(AND(ISTEXT(B13),LEN(B13)=8,EXACT(LEFT(B13,4),"SKU-"),ISNUMBER(FIND(MID(B13,5,1)&"x","0x1x2x3x4x5x6x7x8x9x")),ISNUMBER(FIND(MID(B13,6,1)&"x","0x1x2x3x4x5x6x7x8x9x")),ISNUMBER(FIND(MID(B13,7,1)&"x","0x1x2x3x4x5x6x7x8x9x")),ISNUMBER(FIND(MID(B13,8,1)&"x","0x1x2x3x4x5x6x7x8x9x")))),"品目IDはSKU-と半角数字4桁",IF(NOT(IF(ISNUMBER(C13),AND(C13>=43831,C13<=73050,C13=INT(C13)),FALSE())),"出荷日は時刻なしで必須",IF(NOT(IF(ISNUMBER(D13),AND(D13>=1,D13<=1000000,D13=INT(D13)),FALSE())),"出荷数は1〜100万個の整数",IF(NOT(IF(ISNUMBER(E13),AND(E13>=43831,E13<=73050,E13=INT(E13)),FALSE())),"原資料確認日は時刻なしで必須",IF(OR(C13>E13,E13>返品の確認!$B$3),"出荷日≦原資料確認日≦基準日","確認済み")))))))),ISNUMBER(G13),G13=IF(F13="確認済み",0,1)),0,1)) -> 0
A14: SAL-0007 | B14: SKU-0007 | C14: 46296 | D14: 10 | E14: 46326 | F14: =IF(COUNTA(A14:E14)=0,"",IF(NOT(AND(ISTEXT(A14),LEN(A14)=8,EXACT(LEFT(A14,4),"SAL-"),ISNUMBER(FIND(MID(A14,5,1)&"x","0x1x2x3x4x5x6x7x8x9x")),ISNUMBER(FIND(MID(A14,6,1)&"x","0x1x2x3x4x5x6x7x8x9x")),ISNUMBER(FIND(MID(A14,7,1)&"x","0x1x2x3x4x5x6x7x8x9x")),ISNUMBER(FIND(MID(A14,8,1)&"x","0x1x2x3x4x5x6x7x8x9x")))),"元明細IDはSAL-と半角数字4桁",IF(COUNTIFS($A$8:$A$57,A14)>1,"元明細IDが重複",IF(NOT(AND(ISTEXT(B14),LEN(B14)=8,EXACT(LEFT(B14,4),"SKU-"),ISNUMBER(FIND(MID(B14,5,1)&"x","0x1x2x3x4x5x6x7x8x9x")),ISNUMBER(FIND(MID(B14,6,1)&"x","0x1x2x3x4x5x6x7x8x9x")),ISNUMBER(FIND(MID(B14,7,1)&"x","0x1x2x3x4x5x6x7x8x9x")),ISNUMBER(FIND(MID(B14,8,1)&"x","0x1x2x3x4x5x6x7x8x9x")))),"品目IDはSKU-と半角数字4桁",IF(NOT(IF(ISNUMBER(C14),AND(C14>=43831,C14<=73050,C14=INT(C14)),FALSE())),"出荷日は時刻なしで必須",IF(NOT(IF(ISNUMBER(D14),AND(D14>=1,D14<=1000000,D14=INT(D14)),FALSE())),"出荷数は1〜100万個の整数",IF(NOT(IF(ISNUMBER(E14),AND(E14>=43831,E14<=73050,E14=INT(E14)),FALSE())),"原資料確認日は時刻なしで必須",IF(OR(C14>E14,E14>返品の確認!$B$3),"出荷日≦原資料確認日≦基準日","確認済み")))))))) -> 確認済み | G14: =IF(F14="","",IF(F14="確認済み",0,1)) -> 0 | H14: =IF(COUNTA(A14:E14)=0,IF(AND(F14="",G14=""),0,1),IF(AND(ISTEXT(F14),F14=IF(COUNTA(A14:E14)=0,"",IF(NOT(AND(ISTEXT(A14),LEN(A14)=8,EXACT(LEFT(A14,4),"SAL-"),ISNUMBER(FIND(MID(A14,5,1)&"x","0x1x2x3x4x5x6x7x8x9x")),ISNUMBER(FIND(MID(A14,6,1)&"x","0x1x2x3x4x5x6x7x8x9x")),ISNUMBER(FIND(MID(A14,7,1)&"x","0x1x2x3x4x5x6x7x8x9x")),ISNUMBER(FIND(MID(A14,8,1)&"x","0x1x2x3x4x5x6x7x8x9x")))),"元明細IDはSAL-と半角数字4桁",IF(COUNTIFS($A$8:$A$57,A14)>1,"元明細IDが重複",IF(NOT(AND(ISTEXT(B14),LEN(B14)=8,EXACT(LEFT(B14,4),"SKU-"),ISNUMBER(FIND(MID(B14,5,1)&"x","0x1x2x3x4x5x6x7x8x9x")),ISNUMBER(FIND(MID(B14,6,1)&"x","0x1x2x3x4x5x6x7x8x9x")),ISNUMBER(FIND(MID(B14,7,1)&"x","0x1x2x3x4x5x6x7x8x9x")),ISNUMBER(FIND(MID(B14,8,1)&"x","0x1x2x3x4x5x6x7x8x9x")))),"品目IDはSKU-と半角数字4桁",IF(NOT(IF(ISNUMBER(C14),AND(C14>=43831,C14<=73050,C14=INT(C14)),FALSE())),"出荷日は時刻なしで必須",IF(NOT(IF(ISNUMBER(D14),AND(D14>=1,D14<=1000000,D14=INT(D14)),FALSE())),"出荷数は1〜100万個の整数",IF(NOT(IF(ISNUMBER(E14),AND(E14>=43831,E14<=73050,E14=INT(E14)),FALSE())),"原資料確認日は時刻なしで必須",IF(OR(C14>E14,E14>返品の確認!$B$3),"出荷日≦原資料確認日≦基準日","確認済み")))))))),ISNUMBER(G14),G14=IF(F14="確認済み",0,1)),0,1)) -> 0
A15: SAL-0008 | B15: SKU-0008 | C15: 46296 | D15: 10 | E15: 46326 | F15: =IF(COUNTA(A15:E15)=0,"",IF(NOT(AND(ISTEXT(A15),LEN(A15)=8,EXACT(LEFT(A15,4),"SAL-"),ISNUMBER(FIND(MID(A15,5,1)&"x","0x1x2x3x4x5x6x7x8x9x")),ISNUMBER(FIND(MID(A15,6,1)&"x","0x1x2x3x4x5x6x7x8x9x")),ISNUMBER(FIND(MID(A15,7,1)&"x","0x1x2x3x4x5x6x7x8x9x")),ISNUMBER(FIND(MID(A15,8,1)&"x","0x1x2x3x4x5x6x7x8x9x")))),"元明細IDはSAL-と半角数字4桁",IF(COUNTIFS($A$8:$A$57,A15)>1,"元明細IDが重複",IF(NOT(AND(ISTEXT(B15),LEN(B15)=8,EXACT(LEFT(B15,4),"SKU-"),ISNUMBER(FIND(MID(B15,5,1)&"x","0x1x2x3x4x5x6x7x8x9x")),ISNUMBER(FIND(MID(B15,6,1)&"x","0x1x2x3x4x5x6x7x8x9x")),ISNUMBER(FIND(MID(B15,7,1)&"x","0x1x2x3x4x5x6x7x8x9x")),ISNUMBER(FIND(MID(B15,8,1)&"x","0x1x2x3x4x5x6x7x8x9x")))),"品目IDはSKU-と半角数字4桁",IF(NOT(IF(ISNUMBER(C15),AND(C15>=43831,C15<=73050,C15=INT(C15)),FALSE())),"出荷日は時刻なしで必須",IF(NOT(IF(ISNUMBER(D15),AND(D15>=1,D15<=1000000,D15=INT(D15)),FALSE())),"出荷数は1〜100万個の整数",IF(NOT(IF(ISNUMBER(E15),AND(E15>=43831,E15<=73050,E15=INT(E15)),FALSE())),"原資料確認日は時刻なしで必須",IF(OR(C15>E15,E15>返品の確認!$B$3),"出荷日≦原資料確認日≦基準日","確認済み")))))))) -> 確認済み | G15: =IF(F15="","",IF(F15="確認済み",0,1)) -> 0 | H15: =IF(COUNTA(A15:E15)=0,IF(AND(F15="",G15=""),0,1),IF(AND(ISTEXT(F15),F15=IF(COUNTA(A15:E15)=0,"",IF(NOT(AND(ISTEXT(A15),LEN(A15)=8,EXACT(LEFT(A15,4),"SAL-"),ISNUMBER(FIND(MID(A15,5,1)&"x","0x1x2x3x4x5x6x7x8x9x")),ISNUMBER(FIND(MID(A15,6,1)&"x","0x1x2x3x4x5x6x7x8x9x")),ISNUMBER(FIND(MID(A15,7,1)&"x","0x1x2x3x4x5x6x7x8x9x")),ISNUMBER(FIND(MID(A15,8,1)&"x","0x1x2x3x4x5x6x7x8x9x")))),"元明細IDはSAL-と半角数字4桁",IF(COUNTIFS($A$8:$A$57,A15)>1,"元明細IDが重複",IF(NOT(AND(ISTEXT(B15),LEN(B15)=8,EXACT(LEFT(B15,4),"SKU-"),ISNUMBER(FIND(MID(B15,5,1)&"x","0x1x2x3x4x5x6x7x8x9x")),ISNUMBER(FIND(MID(B15,6,1)&"x","0x1x2x3x4x5x6x7x8x9x")),ISNUMBER(FIND(MID(B15,7,1)&"x","0x1x2x3x4x5x6x7x8x9x")),ISNUMBER(FIND(MID(B15,8,1)&"x","0x1x2x3x4x5x6x7x8x9x")))),"品目IDはSKU-と半角数字4桁",IF(NOT(IF(ISNUMBER(C15),AND(C15>=43831,C15<=73050,C15=INT(C15)),FALSE())),"出荷日は時刻なしで必須",IF(NOT(IF(ISNUMBER(D15),AND(D15>=1,D15<=1000000,D15=INT(D15)),FALSE())),"出荷数は1〜100万個の整数",IF(NOT(IF(ISNUMBER(E15),AND(E15>=43831,E15<=73050,E15=INT(E15)),FALSE())),"原資料確認日は時刻なしで必須",IF(OR(C15>E15,E15>返品の確認!$B$3),"出荷日≦原資料確認日≦基準日","確認済み")))))))),ISNUMBER(G15),G15=IF(F15="確認済み",0,1)),0,1)) -> 0
A16: SAL-0009 | B16: SKU-0009 | C16: 46296 | D16: 10 | E16: 46326 | F16: =IF(COUNTA(A16:E16)=0,"",IF(NOT(AND(ISTEXT(A16),LEN(A16)=8,EXACT(LEFT(A16,4),"SAL-"),ISNUMBER(FIND(MID(A16,5,1)&"x","0x1x2x3x4x5x6x7x8x9x")),ISNUMBER(FIND(MID(A16,6,1)&"x","0x1x2x3x4x5x6x7x8x9x")),ISNUMBER(FIND(MID(A16,7,1)&"x","0x1x2x3x4x5x6x7x8x9x")),ISNUMBER(FIND(MID(A16,8,1)&"x","0x1x2x3x4x5x6x7x8x9x")))),"元明細IDはSAL-と半角数字4桁",IF(COUNTIFS($A$8:$A$57,A16)>1,"元明細IDが重複",IF(NOT(AND(ISTEXT(B16),LEN(B16)=8,EXACT(LEFT(B16,4),"SKU-"),ISNUMBER(FIND(MID(B16,5,1)&"x","0x1x2x3x4x5x6x7x8x9x")),ISNUMBER(FIND(MID(B16,6,1)&"x","0x1x2x3x4x5x6x7x8x9x")),ISNUMBER(FIND(MID(B16,7,1)&"x","0x1x2x3x4x5x6x7x8x9x")),ISNUMBER(FIND(MID(B16,8,1)&"x","0x1x2x3x4x5x6x7x8x9x")))),"品目IDはSKU-と半角数字4桁",IF(NOT(IF(ISNUMBER(C16),AND(C16>=43831,C16<=73050,C16=INT(C16)),FALSE())),"出荷日は時刻なしで必須",IF(NOT(IF(ISNUMBER(D16),AND(D16>=1,D16<=1000000,D16=INT(D16)),FALSE())),"出荷数は1〜100万個の整数",IF(NOT(IF(ISNUMBER(E16),AND(E16>=43831,E16<=73050,E16=INT(E16)),FALSE())),"原資料確認日は時刻なしで必須",IF(OR(C16>E16,E16>返品の確認!$B$3),"出荷日≦原資料確認日≦基準日","確認済み")))))))) -> 確認済み | G16: =IF(F16="","",IF(F16="確認済み",0,1)) -> 0 | H16: =IF(COUNTA(A16:E16)=0,IF(AND(F16="",G16=""),0,1),IF(AND(ISTEXT(F16),F16=IF(COUNTA(A16:E16)=0,"",IF(NOT(AND(ISTEXT(A16),LEN(A16)=8,EXACT(LEFT(A16,4),"SAL-"),ISNUMBER(FIND(MID(A16,5,1)&"x","0x1x2x3x4x5x6x7x8x9x")),ISNUMBER(FIND(MID(A16,6,1)&"x","0x1x2x3x4x5x6x7x8x9x")),ISNUMBER(FIND(MID(A16,7,1)&"x","0x1x2x3x4x5x6x7x8x9x")),ISNUMBER(FIND(MID(A16,8,1)&"x","0x1x2x3x4x5x6x7x8x9x")))),"元明細IDはSAL-と半角数字4桁",IF(COUNTIFS($A$8:$A$57,A16)>1,"元明細IDが重複",IF(NOT(AND(ISTEXT(B16),LEN(B16)=8,EXACT(LEFT(B16,4),"SKU-"),ISNUMBER(FIND(MID(B16,5,1)&"x","0x1x2x3x4x5x6x7x8x9x")),ISNUMBER(FIND(MID(B16,6,1)&"x","0x1x2x3x4x5x6x7x8x9x")),ISNUMBER(FIND(MID(B16,7,1)&"x","0x1x2x3x4x5x6x7x8x9x")),ISNUMBER(FIND(MID(B16,8,1)&"x","0x1x2x3x4x5x6x7x8x9x")))),"品目IDはSKU-と半角数字4桁",IF(NOT(IF(ISNUMBER(C16),AND(C16>=43831,C16<=73050,C16=INT(C16)),FALSE())),"出荷日は時刻なしで必須",IF(NOT(IF(ISNUMBER(D16),AND(D16>=1,D16<=1000000,D16=INT(D16)),FALSE())),"出荷数は1〜100万個の整数",IF(NOT(IF(ISNUMBER(E16),AND(E16>=43831,E16<=73050,E16=INT(E16)),FALSE())),"原資料確認日は時刻なしで必須",IF(OR(C16>E16,E16>返品の確認!$B$3),"出荷日≦原資料確認日≦基準日","確認済み")))))))),ISNUMBER(G16),G16=IF(F16="確認済み",0,1)),0,1)) -> 0
A17: SAL-0010 | B17: SKU-0010 | C17: 46296 | D17: 10 | E17: 46326 | F17: =IF(COUNTA(A17:E17)=0,"",IF(NOT(AND(ISTEXT(A17),LEN(A17)=8,EXACT(LEFT(A17,4),"SAL-"),ISNUMBER(FIND(MID(A17,5,1)&"x","0x1x2x3x4x5x6x7x8x9x")),ISNUMBER(FIND(MID(A17,6,1)&"x","0x1x2x3x4x5x6x7x8x9x")),ISNUMBER(FIND(MID(A17,7,1)&"x","0x1x2x3x4x5x6x7x8x9x")),ISNUMBER(FIND(MID(A17,8,1)&"x","0x1x2x3x4x5x6x7x8x9x")))),"元明細IDはSAL-と半角数字4桁",IF(COUNTIFS($A$8:$A$57,A17)>1,"元明細IDが重複",IF(NOT(AND(ISTEXT(B17),LEN(B17)=8,EXACT(LEFT(B17,4),"SKU-"),ISNUMBER(FIND(MID(B17,5,1)&"x","0x1x2x3x4x5x6x7x8x9x")),ISNUMBER(FIND(MID(B17,6,1)&"x","0x1x2x3x4x5x6x7x8x9x")),ISNUMBER(FIND(MID(B17,7,1)&"x","0x1x2x3x4x5x6x7x8x9x")),ISNUMBER(FIND(MID(B17,8,1)&"x","0x1x2x3x4x5x6x7x8x9x")))),"品目IDはSKU-と半角数字4桁",IF(NOT(IF(ISNUMBER(C17),AND(C17>=43831,C17<=73050,C17=INT(C17)),FALSE())),"出荷日は時刻なしで必須",IF(NOT(IF(ISNUMBER(D17),AND(D17>=1,D17<=1000000,D17=INT(D17)),FALSE())),"出荷数は1〜100万個の整数",IF(NOT(IF(ISNUMBER(E17),AND(E17>=43831,E17<=73050,E17=INT(E17)),FALSE())),"原資料確認日は時刻なしで必須",IF(OR(C17>E17,E17>返品の確認!$B$3),"出荷日≦原資料確認日≦基準日","確認済み")))))))) -> 確認済み | G17: =IF(F17="","",IF(F17="確認済み",0,1)) -> 0 | H17: =IF(COUNTA(A17:E17)=0,IF(AND(F17="",G17=""),0,1),IF(AND(ISTEXT(F17),F17=IF(COUNTA(A17:E17)=0,"",IF(NOT(AND(ISTEXT(A17),LEN(A17)=8,EXACT(LEFT(A17,4),"SAL-"),ISNUMBER(FIND(MID(A17,5,1)&"x","0x1x2x3x4x5x6x7x8x9x")),ISNUMBER(FIND(MID(A17,6,1)&"x","0x1x2x3x4x5x6x7x8x9x")),ISNUMBER(FIND(MID(A17,7,1)&"x","0x1x2x3x4x5x6x7x8x9x")),ISNUMBER(FIND(MID(A17,8,1)&"x","0x1x2x3x4x5x6x7x8x9x")))),"元明細IDはSAL-と半角数字4桁",IF(COUNTIFS($A$8:$A$57,A17)>1,"元明細IDが重複",IF(NOT(AND(ISTEXT(B17),LEN(B17)=8,EXACT(LEFT(B17,4),"SKU-"),ISNUMBER(FIND(MID(B17,5,1)&"x","0x1x2x3x4x5x6x7x8x9x")),ISNUMBER(FIND(MID(B17,6,1)&"x","0x1x2x3x4x5x6x7x8x9x")),ISNUMBER(FIND(MID(B17,7,1)&"x","0x1x2x3x4x5x6x7x8x9x")),ISNUMBER(FIND(MID(B17,8,1)&"x","0x1x2x3x4x5x6x7x8x9x")))),"品目IDはSKU-と半角数字4桁",IF(NOT(IF(ISNUMBER(C17),AND(C17>=43831,C17<=73050,C17=INT(C17)),FALSE())),"出荷日は時刻なしで必須",IF(NOT(IF(ISNUMBER(D17),AND(D17>=1,D17<=1000000,D17=INT(D17)),FALSE())),"出荷数は1〜100万個の整数",IF(NOT(IF(ISNUMBER(E17),AND(E17>=43831,E17<=73050,E17=INT(E17)),FALSE())),"原資料確認日は時刻なしで必須",IF(OR(C17>E17,E17>返品の確認!$B$3),"出荷日≦原資料確認日≦基準日","確認済み")))))))),ISNUMBER(G17),G17=IF(F17="確認済み",0,1)),0,1)) -> 0
A18: SAL-0011 | B18: SKU-0011 | C18: 46296 | D18: 10 | E18: 46326 | F18: =IF(COUNTA(A18:E18)=0,"",IF(NOT(AND(ISTEXT(A18),LEN(A18)=8,EXACT(LEFT(A18,4),"SAL-"),ISNUMBER(FIND(MID(A18,5,1)&"x","0x1x2x3x4x5x6x7x8x9x")),ISNUMBER(FIND(MID(A18,6,1)&"x","0x1x2x3x4x5x6x7x8x9x")),ISNUMBER(FIND(MID(A18,7,1)&"x","0x1x2x3x4x5x6x7x8x9x")),ISNUMBER(FIND(MID(A18,8,1)&"x","0x1x2x3x4x5x6x7x8x9x")))),"元明細IDはSAL-と半角数字4桁",IF(COUNTIFS($A$8:$A$57,A18)>1,"元明細IDが重複",IF(NOT(AND(ISTEXT(B18),LEN(B18)=8,EXACT(LEFT(B18,4),"SKU-"),ISNUMBER(FIND(MID(B18,5,1)&"x","0x1x2x3x4x5x6x7x8x9x")),ISNUMBER(FIND(MID(B18,6,1)&"x","0x1x2x3x4x5x6x7x8x9x")),ISNUMBER(FIND(MID(B18,7,1)&"x","0x1x2x3x4x5x6x7x8x9x")),ISNUMBER(FIND(MID(B18,8,1)&"x","0x1x2x3x4x5x6x7x8x9x")))),"品目IDはSKU-と半角数字4桁",IF(NOT(IF(ISNUMBER(C18),AND(C18>=43831,C18<=73050,C18=INT(C18)),FALSE())),"出荷日は時刻なしで必須",IF(NOT(IF(ISNUMBER(D18),AND(D18>=1,D18<=1000000,D18=INT(D18)),FALSE())),"出荷数は1〜100万個の整数",IF(NOT(IF(ISNUMBER(E18),AND(E18>=43831,E18<=73050,E18=INT(E18)),FALSE())),"原資料確認日は時刻なしで必須",IF(OR(C18>E18,E18>返品の確認!$B$3),"出荷日≦原資料確認日≦基準日","確認済み")))))))) -> 確認済み | G18: =IF(F18="","",IF(F18="確認済み",0,1)) -> 0 | H18: =IF(COUNTA(A18:E18)=0,IF(AND(F18="",G18=""),0,1),IF(AND(ISTEXT(F18),F18=IF(COUNTA(A18:E18)=0,"",IF(NOT(AND(ISTEXT(A18),LEN(A18)=8,EXACT(LEFT(A18,4),"SAL-"),ISNUMBER(FIND(MID(A18,5,1)&"x","0x1x2x3x4x5x6x7x8x9x")),ISNUMBER(FIND(MID(A18,6,1)&"x","0x1x2x3x4x5x6x7x8x9x")),ISNUMBER(FIND(MID(A18,7,1)&"x","0x1x2x3x4x5x6x7x8x9x")),ISNUMBER(FIND(MID(A18,8,1)&"x","0x1x2x3x4x5x6x7x8x9x")))),"元明細IDはSAL-と半角数字4桁",IF(COUNTIFS($A$8:$A$57,A18)>1,"元明細IDが重複",IF(NOT(AND(ISTEXT(B18),LEN(B18)=8,EXACT(LEFT(B18,4),"SKU-"),ISNUMBER(FIND(MID(B18,5,1)&"x","0x1x2x3x4x5x6x7x8x9x")),ISNUMBER(FIND(MID(B18,6,1)&"x","0x1x2x3x4x5x6x7x8x9x")),ISNUMBER(FIND(MID(B18,7,1)&"x","0x1x2x3x4x5x6x7x8x9x")),ISNUMBER(FIND(MID(B18,8,1)&"x","0x1x2x3x4x5x6x7x8x9x")))),"品目IDはSKU-と半角数字4桁",IF(NOT(IF(ISNUMBER(C18),AND(C18>=43831,C18<=73050,C18=INT(C18)),FALSE())),"出荷日は時刻なしで必須",IF(NOT(IF(ISNUMBER(D18),AND(D18>=1,D18<=1000000,D18=INT(D18)),FALSE())),"出荷数は1〜100万個の整数",IF(NOT(IF(ISNUMBER(E18),AND(E18>=43831,E18<=73050,E18=INT(E18)),FALSE())),"原資料確認日は時刻なしで必須",IF(OR(C18>E18,E18>返品の確認!$B$3),"出荷日≦原資料確認日≦基準日","確認済み")))))))),ISNUMBER(G18),G18=IF(F18="確認済み",0,1)),0,1)) -> 0
