Workbook

Sheet 日報
A2: 日と担当で活動を確かめる | K2: 対象と基準日の前提 | L2: 入力の前提
A3: 対象日 | B3: 46311 | D3: 担当ID | E3: STF-0001 | G3: 確認基準日 | H3: 46312 | K3: =IF(AND(IF(ISNUMBER(B3),AND(B3>=43831,B3<73051,B3=INT(B3)),FALSE()),IF(ISNUMBER(H3),AND(H3>=43831,H3<73051,H3=INT(H3)),FALSE()),B3<=H3,AND(ISTEXT(E3),LEN(E3)=8,EXACT(LEFT(E3,4),"STF-"),ISNUMBER(FIND(MID(E3,5,1)&"x","0x1x2x3x4x5x6x7x8x9x")),ISNUMBER(FIND(MID(E3,6,1)&"x","0x1x2x3x4x5x6x7x8x9x")),ISNUMBER(FIND(MID(E3,7,1)&"x","0x1x2x3x4x5x6x7x8x9x")),ISNUMBER(FIND(MID(E3,8,1)&"x","0x1x2x3x4x5x6x7x8x9x"))),COUNTIFS(登録ID!F8:F27,E3)=1),0,1) -> 0 | L3: =IF(AND(ISNUMBER(K3),K3=IF(AND(IF(ISNUMBER(B3),AND(B3>=43831,B3<73051,B3=INT(B3)),FALSE()),IF(ISNUMBER(H3),AND(H3>=43831,H3<73051,H3=INT(H3)),FALSE()),B3<=H3,AND(ISTEXT(E3),LEN(E3)=8,EXACT(LEFT(E3,4),"STF-"),ISNUMBER(FIND(MID(E3,5,1)&"x","0x1x2x3x4x5x6x7x8x9x")),ISNUMBER(FIND(MID(E3,6,1)&"x","0x1x2x3x4x5x6x7x8x9x")),ISNUMBER(FIND(MID(E3,7,1)&"x","0x1x2x3x4x5x6x7x8x9x")),ISNUMBER(FIND(MID(E3,8,1)&"x","0x1x2x3x4x5x6x7x8x9x"))),COUNTIFS(登録ID!F8:F27,E3)=1),0,1)),K3,1)+SUM(活動入力!M8:M57)+SUM(活動入力!N8:N57)+SUM(登録ID!C8:D57)+SUM(登録ID!H8:I27)+IF(COUNT(活動入力!N8:N57)=50,0,1)+IF(COUNT(登録ID!D8:D57)=50,0,1)+IF(COUNT(登録ID!I8:I27)=20,0,1) -> 0
A4: 登録（件） | B4: =IF($L$3=0,COUNTIFS(活動入力!B8:B57,$E$3,活動入力!F8:F57,$B$3),NA()) -> 7 | D4: 実施（件） | E4: =IF($L$3=0,COUNTIFS(活動入力!B8:B57,$E$3,活動入力!F8:F57,$B$3,活動入力!E8:E57,"実施"),NA()) -> 5 | G4: 中止（件） | H4: =IF($L$3=0,COUNTIFS(活動入力!B8:B57,$E$3,活動入力!F8:F57,$B$3,活動入力!E8:E57,"中止"),NA()) -> 1
A5: 未確認（件） | B5: =IF($L$3=0,COUNTIFS(活動入力!B8:B57,$E$3,活動入力!F8:F57,$B$3,活動入力!E8:E57,"未確認"),NA()) -> 1 | D5: 確定実施分（分） | E5: =IF($L$3=0,SUMIFS(活動入力!J8:J57,活動入力!B8:B57,$E$3,活動入力!F8:F57,$B$3,活動入力!E8:E57,"実施"),NA()) -> 156 | G5: 時間合計（分） | H5: =IF($L$3<>0,NA(),IF(B5>0,"判定保留",E5)) -> 判定保留
A6: 訪問（件） | B6: =IF($L$3=0,COUNTIFS(活動入力!B8:B57,$E$3,活動入力!F8:F57,$B$3,活動入力!E8:E57,"実施",活動入力!D8:D57,"訪問"),NA()) -> 1 | D6: オンライン（件） | E6: =IF($L$3=0,COUNTIFS(活動入力!B8:B57,$E$3,活動入力!F8:F57,$B$3,活動入力!E8:E57,"実施",活動入力!D8:D57,"オンライン"),NA()) -> 1 | G6: 電話（件） | H6: =IF($L$3=0,COUNTIFS(活動入力!B8:B57,$E$3,活動入力!F8:F57,$B$3,活動入力!E8:E57,"実施",活動入力!D8:D57,"電話"),NA()) -> 1
A7: メール（件） | B7: =IF($L$3=0,COUNTIFS(活動入力!B8:B57,$E$3,活動入力!F8:F57,$B$3,活動入力!E8:E57,"実施",活動入力!D8:D57,"メール"),NA()) -> 0 | D7: 事務（件） | E7: =IF($L$3=0,COUNTIFS(活動入力!B8:B57,$E$3,活動入力!F8:F57,$B$3,活動入力!E8:E57,"実施",活動入力!D8:D57,"事務"),NA()) -> 1 | G7: その他（件） | H7: =IF($L$3=0,COUNTIFS(活動入力!B8:B57,$E$3,活動入力!F8:F57,$B$3,活動入力!E8:E57,"実施",活動入力!D8:D57,"その他"),NA()) -> 1
A8: 照合差額（件） | B8: =B4-E4-H4-B5 -> 0 | D8: 活動件数・時間は受注や成果ではありません。 | I8: =IF(L3=0,"入力不備なし","入力を確認") -> 入力不備なし
A9: 活動ID | B9: 顧客ID | C9: 活動種別 | D9: 実施区分 | E9: 活動日 | F9: 開始日時 | G9: 終了日時 | H9: 実施分 | I9: 担当ID
A10: =IF($L$3<>0,NA(),IF($L10=0,"",IF(TRUE(),INDEX(活動入力!$A$8:$A$57,$L10),""))) -> ACT-0001 | B10: =IF($L$3<>0,NA(),IF($L10=0,"",IF(COUNTA(INDEX(活動入力!$C$8:$C$57,$L10))>0,INDEX(活動入力!$C$8:$C$57,$L10),""))) -> CUS-0001 | C10: =IF($L$3<>0,NA(),IF($L10=0,"",IF(TRUE(),INDEX(活動入力!$D$8:$D$57,$L10),""))) -> 訪問 | D10: =IF($L$3<>0,NA(),IF($L10=0,"",IF(TRUE(),INDEX(活動入力!$E$8:$E$57,$L10),""))) -> 実施 | E10: =IF($L$3<>0,NA(),IF($L10=0,"",IF(TRUE(),INDEX(活動入力!$F$8:$F$57,$L10),""))) -> 46311 | F10: =IF($L$3<>0,NA(),IF($L10=0,"",IF(INDEX(活動入力!$E$8:$E$57,$L10)="実施",INDEX(活動入力!$G$8:$G$57,$L10),""))) -> 46311.375 | G10: =IF($L$3<>0,NA(),IF($L10=0,"",IF(INDEX(活動入力!$E$8:$E$57,$L10)="実施",INDEX(活動入力!$H$8:$H$57,$L10),""))) -> 46311.396 | H10: =IF($L$3<>0,NA(),IF($L10=0,"",IF(INDEX(活動入力!$E$8:$E$57,$L10)="実施",INDEX(活動入力!$J$8:$J$57,$L10),""))) -> 30 | I10: =IF($L$3<>0,NA(),IF($L10=0,"",IF(TRUE(),INDEX(活動入力!$B$8:$B$57,$L10),""))) -> STF-0001 | L10: =IFERROR(MATCH(1,活動入力!$K$8:$K$57,0),0) -> 1
A11: =IF($L$3<>0,NA(),IF($L11=0,"",IF(TRUE(),INDEX(活動入力!$A$8:$A$57,$L11),""))) -> ACT-0002 | B11: =IF($L$3<>0,NA(),IF($L11=0,"",IF(COUNTA(INDEX(活動入力!$C$8:$C$57,$L11))>0,INDEX(活動入力!$C$8:$C$57,$L11),""))) -> CUS-0001 | C11: =IF($L$3<>0,NA(),IF($L11=0,"",IF(TRUE(),INDEX(活動入力!$D$8:$D$57,$L11),""))) -> 電話 | D11: =IF($L$3<>0,NA(),IF($L11=0,"",IF(TRUE(),INDEX(活動入力!$E$8:$E$57,$L11),""))) -> 実施 | E11: =IF($L$3<>0,NA(),IF($L11=0,"",IF(TRUE(),INDEX(活動入力!$F$8:$F$57,$L11),""))) -> 46311 | F11: =IF($L$3<>0,NA(),IF($L11=0,"",IF(INDEX(活動入力!$E$8:$E$57,$L11)="実施",INDEX(活動入力!$G$8:$G$57,$L11),""))) -> 46311.396 | G11: =IF($L$3<>0,NA(),IF($L11=0,"",IF(INDEX(活動入力!$E$8:$E$57,$L11)="実施",INDEX(活動入力!$H$8:$H$57,$L11),""))) -> 46311.397 | H11: =IF($L$3<>0,NA(),IF($L11=0,"",IF(INDEX(活動入力!$E$8:$E$57,$L11)="実施",INDEX(活動入力!$J$8:$J$57,$L11),""))) -> 1 | I11: =IF($L$3<>0,NA(),IF($L11=0,"",IF(TRUE(),INDEX(活動入力!$B$8:$B$57,$L11),""))) -> STF-0001 | L11: =IFERROR(MATCH(2,活動入力!$K$8:$K$57,0),0) -> 2
A12: =IF($L$3<>0,NA(),IF($L12=0,"",IF(TRUE(),INDEX(活動入力!$A$8:$A$57,$L12),""))) -> ACT-0003 | B12: =IF($L$3<>0,NA(),IF($L12=0,"",IF(COUNTA(INDEX(活動入力!$C$8:$C$57,$L12))>0,INDEX(活動入力!$C$8:$C$57,$L12),""))) -> CUS-0002 | C12: =IF($L$3<>0,NA(),IF($L12=0,"",IF(TRUE(),INDEX(活動入力!$D$8:$D$57,$L12),""))) -> オンライン | D12: =IF($L$3<>0,NA(),IF($L12=0,"",IF(TRUE(),INDEX(活動入力!$E$8:$E$57,$L12),""))) -> 実施 | E12: =IF($L$3<>0,NA(),IF($L12=0,"",IF(TRUE(),INDEX(活動入力!$F$8:$F$57,$L12),""))) -> 46311 | F12: =IF($L$3<>0,NA(),IF($L12=0,"",IF(INDEX(活動入力!$E$8:$E$57,$L12)="実施",INDEX(活動入力!$G$8:$G$57,$L12),""))) -> 46311.417 | G12: =IF($L$3<>0,NA(),IF($L12=0,"",IF(INDEX(活動入力!$E$8:$E$57,$L12)="実施",INDEX(活動入力!$H$8:$H$57,$L12),""))) -> 46311.448 | H12: =IF($L$3<>0,NA(),IF($L12=0,"",IF(INDEX(活動入力!$E$8:$E$57,$L12)="実施",INDEX(活動入力!$J$8:$J$57,$L12),""))) -> 45 | I12: =IF($L$3<>0,NA(),IF($L12=0,"",IF(TRUE(),INDEX(活動入力!$B$8:$B$57,$L12),""))) -> STF-0001 | L12: =IFERROR(MATCH(3,活動入力!$K$8:$K$57,0),0) -> 3
A13: =IF($L$3<>0,NA(),IF($L13=0,"",IF(TRUE(),INDEX(活動入力!$A$8:$A$57,$L13),""))) -> ACT-0004 | B13: =IF($L$3<>0,NA(),IF($L13=0,"",IF(COUNTA(INDEX(活動入力!$C$8:$C$57,$L13))>0,INDEX(活動入力!$C$8:$C$57,$L13),""))) | C13: =IF($L$3<>0,NA(),IF($L13=0,"",IF(TRUE(),INDEX(活動入力!$D$8:$D$57,$L13),""))) -> メール | D13: =IF($L$3<>0,NA(),IF($L13=0,"",IF(TRUE(),INDEX(活動入力!$E$8:$E$57,$L13),""))) -> 中止 | E13: =IF($L$3<>0,NA(),IF($L13=0,"",IF(TRUE(),INDEX(活動入力!$F$8:$F$57,$L13),""))) -> 46311 | F13: =IF($L$3<>0,NA(),IF($L13=0,"",IF(INDEX(活動入力!$E$8:$E$57,$L13)="実施",INDEX(活動入力!$G$8:$G$57,$L13),""))) | G13: =IF($L$3<>0,NA(),IF($L13=0,"",IF(INDEX(活動入力!$E$8:$E$57,$L13)="実施",INDEX(活動入力!$H$8:$H$57,$L13),""))) | H13: =IF($L$3<>0,NA(),IF($L13=0,"",IF(INDEX(活動入力!$E$8:$E$57,$L13)="実施",INDEX(活動入力!$J$8:$J$57,$L13),""))) | I13: =IF($L$3<>0,NA(),IF($L13=0,"",IF(TRUE(),INDEX(活動入力!$B$8:$B$57,$L13),""))) -> STF-0001 | L13: =IFERROR(MATCH(4,活動入力!$K$8:$K$57,0),0) -> 4
A14: =IF($L$3<>0,NA(),IF($L14=0,"",IF(TRUE(),INDEX(活動入力!$A$8:$A$57,$L14),""))) -> ACT-0005 | B14: =IF($L$3<>0,NA(),IF($L14=0,"",IF(COUNTA(INDEX(活動入力!$C$8:$C$57,$L14))>0,INDEX(活動入力!$C$8:$C$57,$L14),""))) -> CUS-0003 | C14: =IF($L$3<>0,NA(),IF($L14=0,"",IF(TRUE(),INDEX(活動入力!$D$8:$D$57,$L14),""))) -> 電話 | D14: =IF($L$3<>0,NA(),IF($L14=0,"",IF(TRUE(),INDEX(活動入力!$E$8:$E$57,$L14),""))) -> 未確認 | E14: =IF($L$3<>0,NA(),IF($L14=0,"",IF(TRUE(),INDEX(活動入力!$F$8:$F$57,$L14),""))) -> 46311 | F14: =IF($L$3<>0,NA(),IF($L14=0,"",IF(INDEX(活動入力!$E$8:$E$57,$L14)="実施",INDEX(活動入力!$G$8:$G$57,$L14),""))) | G14: =IF($L$3<>0,NA(),IF($L14=0,"",IF(INDEX(活動入力!$E$8:$E$57,$L14)="実施",INDEX(活動入力!$H$8:$H$57,$L14),""))) | H14: =IF($L$3<>0,NA(),IF($L14=0,"",IF(INDEX(活動入力!$E$8:$E$57,$L14)="実施",INDEX(活動入力!$J$8:$J$57,$L14),""))) | I14: =IF($L$3<>0,NA(),IF($L14=0,"",IF(TRUE(),INDEX(活動入力!$B$8:$B$57,$L14),""))) -> STF-0001 | L14: =IFERROR(MATCH(5,活動入力!$K$8:$K$57,0),0) -> 5
A15: =IF($L$3<>0,NA(),IF($L15=0,"",IF(TRUE(),INDEX(活動入力!$A$8:$A$57,$L15),""))) -> ACT-0008 | B15: =IF($L$3<>0,NA(),IF($L15=0,"",IF(COUNTA(INDEX(活動入力!$C$8:$C$57,$L15))>0,INDEX(活動入力!$C$8:$C$57,$L15),""))) | C15: =IF($L$3<>0,NA(),IF($L15=0,"",IF(TRUE(),INDEX(活動入力!$D$8:$D$57,$L15),""))) -> その他 | D15: =IF($L$3<>0,NA(),IF($L15=0,"",IF(TRUE(),INDEX(活動入力!$E$8:$E$57,$L15),""))) -> 実施 | E15: =IF($L$3<>0,NA(),IF($L15=0,"",IF(TRUE(),INDEX(活動入力!$F$8:$F$57,$L15),""))) -> 46311 | F15: =IF($L$3<>0,NA(),IF($L15=0,"",IF(INDEX(活動入力!$E$8:$E$57,$L15)="実施",INDEX(活動入力!$G$8:$G$57,$L15),""))) -> 46311.958 | G15: =IF($L$3<>0,NA(),IF($L15=0,"",IF(INDEX(活動入力!$E$8:$E$57,$L15)="実施",INDEX(活動入力!$H$8:$H$57,$L15),""))) -> 46312 | H15: =IF($L$3<>0,NA(),IF($L15=0,"",IF(INDEX(活動入力!$E$8:$E$57,$L15)="実施",INDEX(活動入力!$J$8:$J$57,$L15),""))) -> 60 | I15: =IF($L$3<>0,NA(),IF($L15=0,"",IF(TRUE(),INDEX(活動入力!$B$8:$B$57,$L15),""))) -> STF-0001 | L15: =IFERROR(MATCH(6,活動入力!$K$8:$K$57,0),0) -> 8
A16: =IF($L$3<>0,NA(),IF($L16=0,"",IF(TRUE(),INDEX(活動入力!$A$8:$A$57,$L16),""))) -> ACT-0009 | B16: =IF($L$3<>0,NA(),IF($L16=0,"",IF(COUNTA(INDEX(活動入力!$C$8:$C$57,$L16))>0,INDEX(活動入力!$C$8:$C$57,$L16),""))) | C16: =IF($L$3<>0,NA(),IF($L16=0,"",IF(TRUE(),INDEX(活動入力!$D$8:$D$57,$L16),""))) -> 事務 | D16: =IF($L$3<>0,NA(),IF($L16=0,"",IF(TRUE(),INDEX(活動入力!$E$8:$E$57,$L16),""))) -> 実施 | E16: =IF($L$3<>0,NA(),IF($L16=0,"",IF(TRUE(),INDEX(活動入力!$F$8:$F$57,$L16),""))) -> 46311 | F16: =IF($L$3<>0,NA(),IF($L16=0,"",IF(INDEX(活動入力!$E$8:$E$57,$L16)="実施",INDEX(活動入力!$G$8:$G$57,$L16),""))) -> 46311.458 | G16: =IF($L$3<>0,NA(),IF($L16=0,"",IF(INDEX(活動入力!$E$8:$E$57,$L16)="実施",INDEX(活動入力!$H$8:$H$57,$L16),""))) -> 46311.472 | H16: =IF($L$3<>0,NA(),IF($L16=0,"",IF(INDEX(活動入力!$E$8:$E$57,$L16)="実施",INDEX(活動入力!$J$8:$J$57,$L16),""))) -> 20 | I16: =IF($L$3<>0,NA(),IF($L16=0,"",IF(TRUE(),INDEX(活動入力!$B$8:$B$57,$L16),""))) -> STF-0001 | L16: =IFERROR(MATCH(7,活動入力!$K$8:$K$57,0),0) -> 9
A17: =IF($L$3<>0,NA(),IF($L17=0,"",IF(TRUE(),INDEX(活動入力!$A$8:$A$57,$L17),""))) | B17: =IF($L$3<>0,NA(),IF($L17=0,"",IF(COUNTA(INDEX(活動入力!$C$8:$C$57,$L17))>0,INDEX(活動入力!$C$8:$C$57,$L17),""))) | C17: =IF($L$3<>0,NA(),IF($L17=0,"",IF(TRUE(),INDEX(活動入力!$D$8:$D$57,$L17),""))) | D17: =IF($L$3<>0,NA(),IF($L17=0,"",IF(TRUE(),INDEX(活動入力!$E$8:$E$57,$L17),""))) | E17: =IF($L$3<>0,NA(),IF($L17=0,"",IF(TRUE(),INDEX(活動入力!$F$8:$F$57,$L17),""))) | F17: =IF($L$3<>0,NA(),IF($L17=0,"",IF(INDEX(活動入力!$E$8:$E$57,$L17)="実施",INDEX(活動入力!$G$8:$G$57,$L17),""))) | G17: =IF($L$3<>0,NA(),IF($L17=0,"",IF(INDEX(活動入力!$E$8:$E$57,$L17)="実施",INDEX(活動入力!$H$8:$H$57,$L17),""))) | H17: =IF($L$3<>0,NA(),IF($L17=0,"",IF(INDEX(活動入力!$E$8:$E$57,$L17)="実施",INDEX(活動入力!$J$8:$J$57,$L17),""))) | I17: =IF($L$3<>0,NA(),IF($L17=0,"",IF(TRUE(),INDEX(活動入力!$B$8:$B$57,$L17),""))) | L17: =IFERROR(MATCH(8,活動入力!$K$8:$K$57,0),0) -> 0
A18: =IF($L$3<>0,NA(),IF($L18=0,"",IF(TRUE(),INDEX(活動入力!$A$8:$A$57,$L18),""))) | B18: =IF($L$3<>0,NA(),IF($L18=0,"",IF(COUNTA(INDEX(活動入力!$C$8:$C$57,$L18))>0,INDEX(活動入力!$C$8:$C$57,$L18),""))) | C18: =IF($L$3<>0,NA(),IF($L18=0,"",IF(TRUE(),INDEX(活動入力!$D$8:$D$57,$L18),""))) | D18: =IF($L$3<>0,NA(),IF($L18=0,"",IF(TRUE(),INDEX(活動入力!$E$8:$E$57,$L18),""))) | E18: =IF($L$3<>0,NA(),IF($L18=0,"",IF(TRUE(),INDEX(活動入力!$F$8:$F$57,$L18),""))) | F18: =IF($L$3<>0,NA(),IF($L18=0,"",IF(INDEX(活動入力!$E$8:$E$57,$L18)="実施",INDEX(活動入力!$G$8:$G$57,$L18),""))) | G18: =IF($L$3<>0,NA(),IF($L18=0,"",IF(INDEX(活動入力!$E$8:$E$57,$L18)="実施",INDEX(活動入力!$H$8:$H$57,$L18),""))) | H18: =IF($L$3<>0,NA(),IF($L18=0,"",IF(INDEX(活動入力!$E$8:$E$57,$L18)="実施",INDEX(活動入力!$J$8:$J$57,$L18),""))) | I18: =IF($L$3<>0,NA(),IF($L18=0,"",IF(TRUE(),INDEX(活動入力!$B$8:$B$57,$L18),""))) | L18: =IFERROR(MATCH(9,活動入力!$K$8:$K$57,0),0) -> 0
A19: =IF($L$3<>0,NA(),IF($L19=0,"",IF(TRUE(),INDEX(活動入力!$A$8:$A$57,$L19),""))) | B19: =IF($L$3<>0,NA(),IF($L19=0,"",IF(COUNTA(INDEX(活動入力!$C$8:$C$57,$L19))>0,INDEX(活動入力!$C$8:$C$57,$L19),""))) | C19: =IF($L$3<>0,NA(),IF($L19=0,"",IF(TRUE(),INDEX(活動入力!$D$8:$D$57,$L19),""))) | D19: =IF($L$3<>0,NA(),IF($L19=0,"",IF(TRUE(),INDEX(活動入力!$E$8:$E$57,$L19),""))) | E19: =IF($L$3<>0,NA(),IF($L19=0,"",IF(TRUE(),INDEX(活動入力!$F$8:$F$57,$L19),""))) | F19: =IF($L$3<>0,NA(),IF($L19=0,"",IF(INDEX(活動入力!$E$8:$E$57,$L19)="実施",INDEX(活動入力!$G$8:$G$57,$L19),""))) | G19: =IF($L$3<>0,NA(),IF($L19=0,"",IF(INDEX(活動入力!$E$8:$E$57,$L19)="実施",INDEX(活動入力!$H$8:$H$57,$L19),""))) | H19: =IF($L$3<>0,NA(),IF($L19=0,"",IF(INDEX(活動入力!$E$8:$E$57,$L19)="実施",INDEX(活動入力!$J$8:$J$57,$L19),""))) | I19: =IF($L$3<>0,NA(),IF($L19=0,"",IF(TRUE(),INDEX(活動入力!$B$8:$B$57,$L19),""))) | L19: =IFERROR(MATCH(10,活動入力!$K$8:$K$57,0),0) -> 0
A20: =IF($L$3<>0,NA(),IF($L20=0,"",IF(TRUE(),INDEX(活動入力!$A$8:$A$57,$L20),""))) | B20: =IF($L$3<>0,NA(),IF($L20=0,"",IF(COUNTA(INDEX(活動入力!$C$8:$C$57,$L20))>0,INDEX(活動入力!$C$8:$C$57,$L20),""))) | C20: =IF($L$3<>0,NA(),IF($L20=0,"",IF(TRUE(),INDEX(活動入力!$D$8:$D$57,$L20),""))) | D20: =IF($L$3<>0,NA(),IF($L20=0,"",IF(TRUE(),INDEX(活動入力!$E$8:$E$57,$L20),""))) | E20: =IF($L$3<>0,NA(),IF($L20=0,"",IF(TRUE(),INDEX(活動入力!$F$8:$F$57,$L20),""))) | F20: =IF($L$3<>0,NA(),IF($L20=0,"",IF(INDEX(活動入力!$E$8:$E$57,$L20)="実施",INDEX(活動入力!$G$8:$G$57,$L20),""))) | G20: =IF($L$3<>0,NA(),IF($L20=0,"",IF(INDEX(活動入力!$E$8:$E$57,$L20)="実施",INDEX(活動入力!$H$8:$H$57,$L20),""))) | H20: =IF($L$3<>0,NA(),IF($L20=0,"",IF(INDEX(活動入力!$E$8:$E$57,$L20)="実施",INDEX(活動入力!$J$8:$J$57,$L20),""))) | I20: =IF($L$3<>0,NA(),IF($L20=0,"",IF(TRUE(),INDEX(活動入力!$B$8:$B$57,$L20),""))) | L20: =IFERROR(MATCH(11,活動入力!$K$8:$K$57,0),0) -> 0
A21: =IF($L$3<>0,NA(),IF($L21=0,"",IF(TRUE(),INDEX(活動入力!$A$8:$A$57,$L21),""))) | B21: =IF($L$3<>0,NA(),IF($L21=0,"",IF(COUNTA(INDEX(活動入力!$C$8:$C$57,$L21))>0,INDEX(活動入力!$C$8:$C$57,$L21),""))) | C21: =IF($L$3<>0,NA(),IF($L21=0,"",IF(TRUE(),INDEX(活動入力!$D$8:$D$57,$L21),""))) | D21: =IF($L$3<>0,NA(),IF($L21=0,"",IF(TRUE(),INDEX(活動入力!$E$8:$E$57,$L21),""))) | E21: =IF($L$3<>0,NA(),IF($L21=0,"",IF(TRUE(),INDEX(活動入力!$F$8:$F$57,$L21),""))) | F21: =IF($L$3<>0,NA(),IF($L21=0,"",IF(INDEX(活動入力!$E$8:$E$57,$L21)="実施",INDEX(活動入力!$G$8:$G$57,$L21),""))) | G21: =IF($L$3<>0,NA(),IF($L21=0,"",IF(INDEX(活動入力!$E$8:$E$57,$L21)="実施",INDEX(活動入力!$H$8:$H$57,$L21),""))) | H21: =IF($L$3<>0,NA(),IF($L21=0,"",IF(INDEX(活動入力!$E$8:$E$57,$L21)="実施",INDEX(活動入力!$J$8:$J$57,$L21),""))) | I21: =IF($L$3<>0,NA(),IF($L21=0,"",IF(TRUE(),INDEX(活動入力!$B$8:$B$57,$L21),""))) | L21: =IFERROR(MATCH(12,活動入力!$K$8:$K$57,0),0) -> 0
A22: =IF($L$3<>0,NA(),IF($L22=0,"",IF(TRUE(),INDEX(活動入力!$A$8:$A$57,$L22),""))) | B22: =IF($L$3<>0,NA(),IF($L22=0,"",IF(COUNTA(INDEX(活動入力!$C$8:$C$57,$L22))>0,INDEX(活動入力!$C$8:$C$57,$L22),""))) | C22: =IF($L$3<>0,NA(),IF($L22=0,"",IF(TRUE(),INDEX(活動入力!$D$8:$D$57,$L22),""))) | D22: =IF($L$3<>0,NA(),IF($L22=0,"",IF(TRUE(),INDEX(活動入力!$E$8:$E$57,$L22),""))) | E22: =IF($L$3<>0,NA(),IF($L22=0,"",IF(TRUE(),INDEX(活動入力!$F$8:$F$57,$L22),""))) | F22: =IF($L$3<>0,NA(),IF($L22=0,"",IF(INDEX(活動入力!$E$8:$E$57,$L22)="実施",INDEX(活動入力!$G$8:$G$57,$L22),""))) | G22: =IF($L$3<>0,NA(),IF($L22=0,"",IF(INDEX(活動入力!$E$8:$E$57,$L22)="実施",INDEX(活動入力!$H$8:$H$57,$L22),""))) | H22: =IF($L$3<>0,NA(),IF($L22=0,"",IF(INDEX(活動入力!$E$8:$E$57,$L22)="実施",INDEX(活動入力!$J$8:$J$57,$L22),""))) | I22: =IF($L$3<>0,NA(),IF($L22=0,"",IF(TRUE(),INDEX(活動入力!$B$8:$B$57,$L22),""))) | L22: =IFERROR(MATCH(13,活動入力!$K$8:$K$57,0),0) -> 0
A23: =IF($L$3<>0,NA(),IF($L23=0,"",IF(TRUE(),INDEX(活動入力!$A$8:$A$57,$L23),""))) | B23: =IF($L$3<>0,NA(),IF($L23=0,"",IF(COUNTA(INDEX(活動入力!$C$8:$C$57,$L23))>0,INDEX(活動入力!$C$8:$C$57,$L23),""))) | C23: =IF($L$3<>0,NA(),IF($L23=0,"",IF(TRUE(),INDEX(活動入力!$D$8:$D$57,$L23),""))) | D23: =IF($L$3<>0,NA(),IF($L23=0,"",IF(TRUE(),INDEX(活動入力!$E$8:$E$57,$L23),""))) | E23: =IF($L$3<>0,NA(),IF($L23=0,"",IF(TRUE(),INDEX(活動入力!$F$8:$F$57,$L23),""))) | F23: =IF($L$3<>0,NA(),IF($L23=0,"",IF(INDEX(活動入力!$E$8:$E$57,$L23)="実施",INDEX(活動入力!$G$8:$G$57,$L23),""))) | G23: =IF($L$3<>0,NA(),IF($L23=0,"",IF(INDEX(活動入力!$E$8:$E$57,$L23)="実施",INDEX(活動入力!$H$8:$H$57,$L23),""))) | H23: =IF($L$3<>0,NA(),IF($L23=0,"",IF(INDEX(活動入力!$E$8:$E$57,$L23)="実施",INDEX(活動入力!$J$8:$J$57,$L23),""))) | I23: =IF($L$3<>0,NA(),IF($L23=0,"",IF(TRUE(),INDEX(活動入力!$B$8:$B$57,$L23),""))) | L23: =IFERROR(MATCH(14,活動入力!$K$8:$K$57,0),0) -> 0
A24: =IF($L$3<>0,NA(),IF($L24=0,"",IF(TRUE(),INDEX(活動入力!$A$8:$A$57,$L24),""))) | B24: =IF($L$3<>0,NA(),IF($L24=0,"",IF(COUNTA(INDEX(活動入力!$C$8:$C$57,$L24))>0,INDEX(活動入力!$C$8:$C$57,$L24),""))) | C24: =IF($L$3<>0,NA(),IF($L24=0,"",IF(TRUE(),INDEX(活動入力!$D$8:$D$57,$L24),""))) | D24: =IF($L$3<>0,NA(),IF($L24=0,"",IF(TRUE(),INDEX(活動入力!$E$8:$E$57,$L24),""))) | E24: =IF($L$3<>0,NA(),IF($L24=0,"",IF(TRUE(),INDEX(活動入力!$F$8:$F$57,$L24),""))) | F24: =IF($L$3<>0,NA(),IF($L24=0,"",IF(INDEX(活動入力!$E$8:$E$57,$L24)="実施",INDEX(活動入力!$G$8:$G$57,$L24),""))) | G24: =IF($L$3<>0,NA(),IF($L24=0,"",IF(INDEX(活動入力!$E$8:$E$57,$L24)="実施",INDEX(活動入力!$H$8:$H$57,$L24),""))) | H24: =IF($L$3<>0,NA(),IF($L24=0,"",IF(INDEX(活動入力!$E$8:$E$57,$L24)="実施",INDEX(活動入力!$J$8:$J$57,$L24),""))) | I24: =IF($L$3<>0,NA(),IF($L24=0,"",IF(TRUE(),INDEX(活動入力!$B$8:$B$57,$L24),""))) | L24: =IFERROR(MATCH(15,活動入力!$K$8:$K$57,0),0) -> 0
A25: =IF($L$3<>0,NA(),IF($L25=0,"",IF(TRUE(),INDEX(活動入力!$A$8:$A$57,$L25),""))) | B25: =IF($L$3<>0,NA(),IF($L25=0,"",IF(COUNTA(INDEX(活動入力!$C$8:$C$57,$L25))>0,INDEX(活動入力!$C$8:$C$57,$L25),""))) | C25: =IF($L$3<>0,NA(),IF($L25=0,"",IF(TRUE(),INDEX(活動入力!$D$8:$D$57,$L25),""))) | D25: =IF($L$3<>0,NA(),IF($L25=0,"",IF(TRUE(),INDEX(活動入力!$E$8:$E$57,$L25),""))) | E25: =IF($L$3<>0,NA(),IF($L25=0,"",IF(TRUE(),INDEX(活動入力!$F$8:$F$57,$L25),""))) | F25: =IF($L$3<>0,NA(),IF($L25=0,"",IF(INDEX(活動入力!$E$8:$E$57,$L25)="実施",INDEX(活動入力!$G$8:$G$57,$L25),""))) | G25: =IF($L$3<>0,NA(),IF($L25=0,"",IF(INDEX(活動入力!$E$8:$E$57,$L25)="実施",INDEX(活動入力!$H$8:$H$57,$L25),""))) | H25: =IF($L$3<>0,NA(),IF($L25=0,"",IF(INDEX(活動入力!$E$8:$E$57,$L25)="実施",INDEX(活動入力!$J$8:$J$57,$L25),""))) | I25: =IF($L$3<>0,NA(),IF($L25=0,"",IF(TRUE(),INDEX(活動入力!$B$8:$B$57,$L25),""))) | L25: =IFERROR(MATCH(16,活動入力!$K$8:$K$57,0),0) -> 0
A26: =IF($L$3<>0,NA(),IF($L26=0,"",IF(TRUE(),INDEX(活動入力!$A$8:$A$57,$L26),""))) | B26: =IF($L$3<>0,NA(),IF($L26=0,"",IF(COUNTA(INDEX(活動入力!$C$8:$C$57,$L26))>0,INDEX(活動入力!$C$8:$C$57,$L26),""))) | C26: =IF($L$3<>0,NA(),IF($L26=0,"",IF(TRUE(),INDEX(活動入力!$D$8:$D$57,$L26),""))) | D26: =IF($L$3<>0,NA(),IF($L26=0,"",IF(TRUE(),INDEX(活動入力!$E$8:$E$57,$L26),""))) | E26: =IF($L$3<>0,NA(),IF($L26=0,"",IF(TRUE(),INDEX(活動入力!$F$8:$F$57,$L26),""))) | F26: =IF($L$3<>0,NA(),IF($L26=0,"",IF(INDEX(活動入力!$E$8:$E$57,$L26)="実施",INDEX(活動入力!$G$8:$G$57,$L26),""))) | G26: =IF($L$3<>0,NA(),IF($L26=0,"",IF(INDEX(活動入力!$E$8:$E$57,$L26)="実施",INDEX(活動入力!$H$8:$H$57,$L26),""))) | H26: =IF($L$3<>0,NA(),IF($L26=0,"",IF(INDEX(活動入力!$E$8:$E$57,$L26)="実施",INDEX(活動入力!$J$8:$J$57,$L26),""))) | I26: =IF($L$3<>0,NA(),IF($L26=0,"",IF(TRUE(),INDEX(活動入力!$B$8:$B$57,$L26),""))) | L26: =IFERROR(MATCH(17,活動入力!$K$8:$K$57,0),0) -> 0
A27: =IF($L$3<>0,NA(),IF($L27=0,"",IF(TRUE(),INDEX(活動入力!$A$8:$A$57,$L27),""))) | B27: =IF($L$3<>0,NA(),IF($L27=0,"",IF(COUNTA(INDEX(活動入力!$C$8:$C$57,$L27))>0,INDEX(活動入力!$C$8:$C$57,$L27),""))) | C27: =IF($L$3<>0,NA(),IF($L27=0,"",IF(TRUE(),INDEX(活動入力!$D$8:$D$57,$L27),""))) | D27: =IF($L$3<>0,NA(),IF($L27=0,"",IF(TRUE(),INDEX(活動入力!$E$8:$E$57,$L27),""))) | E27: =IF($L$3<>0,NA(),IF($L27=0,"",IF(TRUE(),INDEX(活動入力!$F$8:$F$57,$L27),""))) | F27: =IF($L$3<>0,NA(),IF($L27=0,"",IF(INDEX(活動入力!$E$8:$E$57,$L27)="実施",INDEX(活動入力!$G$8:$G$57,$L27),""))) | G27: =IF($L$3<>0,NA(),IF($L27=0,"",IF(INDEX(活動入力!$E$8:$E$57,$L27)="実施",INDEX(活動入力!$H$8:$H$57,$L27),""))) | H27: =IF($L$3<>0,NA(),IF($L27=0,"",IF(INDEX(活動入力!$E$8:$E$57,$L27)="実施",INDEX(活動入力!$J$8:$J$57,$L27),""))) | I27: =IF($L$3<>0,NA(),IF($L27=0,"",IF(TRUE(),INDEX(活動入力!$B$8:$B$57,$L27),""))) | L27: =IFERROR(MATCH(18,活動入力!$K$8:$K$57,0),0) -> 0
A28: =IF($L$3<>0,NA(),IF($L28=0,"",IF(TRUE(),INDEX(活動入力!$A$8:$A$57,$L28),""))) | B28: =IF($L$3<>0,NA(),IF($L28=0,"",IF(COUNTA(INDEX(活動入力!$C$8:$C$57,$L28))>0,INDEX(活動入力!$C$8:$C$57,$L28),""))) | C28: =IF($L$3<>0,NA(),IF($L28=0,"",IF(TRUE(),INDEX(活動入力!$D$8:$D$57,$L28),""))) | D28: =IF($L$3<>0,NA(),IF($L28=0,"",IF(TRUE(),INDEX(活動入力!$E$8:$E$57,$L28),""))) | E28: =IF($L$3<>0,NA(),IF($L28=0,"",IF(TRUE(),INDEX(活動入力!$F$8:$F$57,$L28),""))) | F28: =IF($L$3<>0,NA(),IF($L28=0,"",IF(INDEX(活動入力!$E$8:$E$57,$L28)="実施",INDEX(活動入力!$G$8:$G$57,$L28),""))) | G28: =IF($L$3<>0,NA(),IF($L28=0,"",IF(INDEX(活動入力!$E$8:$E$57,$L28)="実施",INDEX(活動入力!$H$8:$H$57,$L28),""))) | H28: =IF($L$3<>0,NA(),IF($L28=0,"",IF(INDEX(活動入力!$E$8:$E$57,$L28)="実施",INDEX(活動入力!$J$8:$J$57,$L28),""))) | I28: =IF($L$3<>0,NA(),IF($L28=0,"",IF(TRUE(),INDEX(活動入力!$B$8:$B$57,$L28),""))) | L28: =IFERROR(MATCH(19,活動入力!$K$8:$K$57,0),0) -> 0
A29: =IF($L$3<>0,NA(),IF($L29=0,"",IF(TRUE(),INDEX(活動入力!$A$8:$A$57,$L29),""))) | B29: =IF($L$3<>0,NA(),IF($L29=0,"",IF(COUNTA(INDEX(活動入力!$C$8:$C$57,$L29))>0,INDEX(活動入力!$C$8:$C$57,$L29),""))) | C29: =IF($L$3<>0,NA(),IF($L29=0,"",IF(TRUE(),INDEX(活動入力!$D$8:$D$57,$L29),""))) | D29: =IF($L$3<>0,NA(),IF($L29=0,"",IF(TRUE(),INDEX(活動入力!$E$8:$E$57,$L29),""))) | E29: =IF($L$3<>0,NA(),IF($L29=0,"",IF(TRUE(),INDEX(活動入力!$F$8:$F$57,$L29),""))) | F29: =IF($L$3<>0,NA(),IF($L29=0,"",IF(INDEX(活動入力!$E$8:$E$57,$L29)="実施",INDEX(活動入力!$G$8:$G$57,$L29),""))) | G29: =IF($L$3<>0,NA(),IF($L29=0,"",IF(INDEX(活動入力!$E$8:$E$57,$L29)="実施",INDEX(活動入力!$H$8:$H$57,$L29),""))) | H29: =IF($L$3<>0,NA(),IF($L29=0,"",IF(INDEX(活動入力!$E$8:$E$57,$L29)="実施",INDEX(活動入力!$J$8:$J$57,$L29),""))) | I29: =IF($L$3<>0,NA(),IF($L29=0,"",IF(TRUE(),INDEX(活動入力!$B$8:$B$57,$L29),""))) | L29: =IFERROR(MATCH(20,活動入力!$K$8:$K$57,0),0) -> 0
A30: =IF($L$3<>0,NA(),IF($L30=0,"",IF(TRUE(),INDEX(活動入力!$A$8:$A$57,$L30),""))) | B30: =IF($L$3<>0,NA(),IF($L30=0,"",IF(COUNTA(INDEX(活動入力!$C$8:$C$57,$L30))>0,INDEX(活動入力!$C$8:$C$57,$L30),""))) | C30: =IF($L$3<>0,NA(),IF($L30=0,"",IF(TRUE(),INDEX(活動入力!$D$8:$D$57,$L30),""))) | D30: =IF($L$3<>0,NA(),IF($L30=0,"",IF(TRUE(),INDEX(活動入力!$E$8:$E$57,$L30),""))) | E30: =IF($L$3<>0,NA(),IF($L30=0,"",IF(TRUE(),INDEX(活動入力!$F$8:$F$57,$L30),""))) | F30: =IF($L$3<>0,NA(),IF($L30=0,"",IF(INDEX(活動入力!$E$8:$E$57,$L30)="実施",INDEX(活動入力!$G$8:$G$57,$L30),""))) | G30: =IF($L$3<>0,NA(),IF($L30=0,"",IF(INDEX(活動入力!$E$8:$E$57,$L30)="実施",INDEX(活動入力!$H$8:$H$57,$L30),""))) | H30: =IF($L$3<>0,NA(),IF($L30=0,"",IF(INDEX(活動入力!$E$8:$E$57,$L30)="実施",INDEX(活動入力!$J$8:$J$57,$L30),""))) | I30: =IF($L$3<>0,NA(),IF($L30=0,"",IF(TRUE(),INDEX(活動入力!$B$8:$B$57,$L30),""))) | L30: =IFERROR(MATCH(21,活動入力!$K$8:$K$57,0),0) -> 0
A31: =IF($L$3<>0,NA(),IF($L31=0,"",IF(TRUE(),INDEX(活動入力!$A$8:$A$57,$L31),""))) | B31: =IF($L$3<>0,NA(),IF($L31=0,"",IF(COUNTA(INDEX(活動入力!$C$8:$C$57,$L31))>0,INDEX(活動入力!$C$8:$C$57,$L31),""))) | C31: =IF($L$3<>0,NA(),IF($L31=0,"",IF(TRUE(),INDEX(活動入力!$D$8:$D$57,$L31),""))) | D31: =IF($L$3<>0,NA(),IF($L31=0,"",IF(TRUE(),INDEX(活動入力!$E$8:$E$57,$L31),""))) | E31: =IF($L$3<>0,NA(),IF($L31=0,"",IF(TRUE(),INDEX(活動入力!$F$8:$F$57,$L31),""))) | F31: =IF($L$3<>0,NA(),IF($L31=0,"",IF(INDEX(活動入力!$E$8:$E$57,$L31)="実施",INDEX(活動入力!$G$8:$G$57,$L31),""))) | G31: =IF($L$3<>0,NA(),IF($L31=0,"",IF(INDEX(活動入力!$E$8:$E$57,$L31)="実施",INDEX(活動入力!$H$8:$H$57,$L31),""))) | H31: =IF($L$3<>0,NA(),IF($L31=0,"",IF(INDEX(活動入力!$E$8:$E$57,$L31)="実施",INDEX(活動入力!$J$8:$J$57,$L31),""))) | I31: =IF($L$3<>0,NA(),IF($L31=0,"",IF(TRUE(),INDEX(活動入力!$B$8:$B$57,$L31),""))) | L31: =IFERROR(MATCH(22,活動入力!$K$8:$K$57,0),0) -> 0
A32: =IF($L$3<>0,NA(),IF($L32=0,"",IF(TRUE(),INDEX(活動入力!$A$8:$A$57,$L32),""))) | B32: =IF($L$3<>0,NA(),IF($L32=0,"",IF(COUNTA(INDEX(活動入力!$C$8:$C$57,$L32))>0,INDEX(活動入力!$C$8:$C$57,$L32),""))) | C32: =IF($L$3<>0,NA(),IF($L32=0,"",IF(TRUE(),INDEX(活動入力!$D$8:$D$57,$L32),""))) | D32: =IF($L$3<>0,NA(),IF($L32=0,"",IF(TRUE(),INDEX(活動入力!$E$8:$E$57,$L32),""))) | E32: =IF($L$3<>0,NA(),IF($L32=0,"",IF(TRUE(),INDEX(活動入力!$F$8:$F$57,$L32),""))) | F32: =IF($L$3<>0,NA(),IF($L32=0,"",IF(INDEX(活動入力!$E$8:$E$57,$L32)="実施",INDEX(活動入力!$G$8:$G$57,$L32),""))) | G32: =IF($L$3<>0,NA(),IF($L32=0,"",IF(INDEX(活動入力!$E$8:$E$57,$L32)="実施",INDEX(活動入力!$H$8:$H$57,$L32),""))) | H32: =IF($L$3<>0,NA(),IF($L32=0,"",IF(INDEX(活動入力!$E$8:$E$57,$L32)="実施",INDEX(活動入力!$J$8:$J$57,$L32),""))) | I32: =IF($L$3<>0,NA(),IF($L32=0,"",IF(TRUE(),INDEX(活動入力!$B$8:$B$57,$L32),""))) | L32: =IFERROR(MATCH(23,活動入力!$K$8:$K$57,0),0) -> 0
A33: =IF($L$3<>0,NA(),IF($L33=0,"",IF(TRUE(),INDEX(活動入力!$A$8:$A$57,$L33),""))) | B33: =IF($L$3<>0,NA(),IF($L33=0,"",IF(COUNTA(INDEX(活動入力!$C$8:$C$57,$L33))>0,INDEX(活動入力!$C$8:$C$57,$L33),""))) | C33: =IF($L$3<>0,NA(),IF($L33=0,"",IF(TRUE(),INDEX(活動入力!$D$8:$D$57,$L33),""))) | D33: =IF($L$3<>0,NA(),IF($L33=0,"",IF(TRUE(),INDEX(活動入力!$E$8:$E$57,$L33),""))) | E33: =IF($L$3<>0,NA(),IF($L33=0,"",IF(TRUE(),INDEX(活動入力!$F$8:$F$57,$L33),""))) | F33: =IF($L$3<>0,NA(),IF($L33=0,"",IF(INDEX(活動入力!$E$8:$E$57,$L33)="実施",INDEX(活動入力!$G$8:$G$57,$L33),""))) | G33: =IF($L$3<>0,NA(),IF($L33=0,"",IF(INDEX(活動入力!$E$8:$E$57,$L33)="実施",INDEX(活動入力!$H$8:$H$57,$L33),""))) | H33: =IF($L$3<>0,NA(),IF($L33=0,"",IF(INDEX(活動入力!$E$8:$E$57,$L33)="実施",INDEX(活動入力!$J$8:$J$57,$L33),""))) | I33: =IF($L$3<>0,NA(),IF($L33=0,"",IF(TRUE(),INDEX(活動入力!$B$8:$B$57,$L33),""))) | L33: =IFERROR(MATCH(24,活動入力!$K$8:$K$57,0),0) -> 0
A34: =IF($L$3<>0,NA(),IF($L34=0,"",IF(TRUE(),INDEX(活動入力!$A$8:$A$57,$L34),""))) | B34: =IF($L$3<>0,NA(),IF($L34=0,"",IF(COUNTA(INDEX(活動入力!$C$8:$C$57,$L34))>0,INDEX(活動入力!$C$8:$C$57,$L34),""))) | C34: =IF($L$3<>0,NA(),IF($L34=0,"",IF(TRUE(),INDEX(活動入力!$D$8:$D$57,$L34),""))) | D34: =IF($L$3<>0,NA(),IF($L34=0,"",IF(TRUE(),INDEX(活動入力!$E$8:$E$57,$L34),""))) | E34: =IF($L$3<>0,NA(),IF($L34=0,"",IF(TRUE(),INDEX(活動入力!$F$8:$F$57,$L34),""))) | F34: =IF($L$3<>0,NA(),IF($L34=0,"",IF(INDEX(活動入力!$E$8:$E$57,$L34)="実施",INDEX(活動入力!$G$8:$G$57,$L34),""))) | G34: =IF($L$3<>0,NA(),IF($L34=0,"",IF(INDEX(活動入力!$E$8:$E$57,$L34)="実施",INDEX(活動入力!$H$8:$H$57,$L34),""))) | H34: =IF($L$3<>0,NA(),IF($L34=0,"",IF(INDEX(活動入力!$E$8:$E$57,$L34)="実施",INDEX(活動入力!$J$8:$J$57,$L34),""))) | I34: =IF($L$3<>0,NA(),IF($L34=0,"",IF(TRUE(),INDEX(活動入力!$B$8:$B$57,$L34),""))) | L34: =IFERROR(MATCH(25,活動入力!$K$8:$K$57,0),0) -> 0
A35: =IF($L$3<>0,NA(),IF($L35=0,"",IF(TRUE(),INDEX(活動入力!$A$8:$A$57,$L35),""))) | B35: =IF($L$3<>0,NA(),IF($L35=0,"",IF(COUNTA(INDEX(活動入力!$C$8:$C$57,$L35))>0,INDEX(活動入力!$C$8:$C$57,$L35),""))) | C35: =IF($L$3<>0,NA(),IF($L35=0,"",IF(TRUE(),INDEX(活動入力!$D$8:$D$57,$L35),""))) | D35: =IF($L$3<>0,NA(),IF($L35=0,"",IF(TRUE(),INDEX(活動入力!$E$8:$E$57,$L35),""))) | E35: =IF($L$3<>0,NA(),IF($L35=0,"",IF(TRUE(),INDEX(活動入力!$F$8:$F$57,$L35),""))) | F35: =IF($L$3<>0,NA(),IF($L35=0,"",IF(INDEX(活動入力!$E$8:$E$57,$L35)="実施",INDEX(活動入力!$G$8:$G$57,$L35),""))) | G35: =IF($L$3<>0,NA(),IF($L35=0,"",IF(INDEX(活動入力!$E$8:$E$57,$L35)="実施",INDEX(活動入力!$H$8:$H$57,$L35),""))) | H35: =IF($L$3<>0,NA(),IF($L35=0,"",IF(INDEX(活動入力!$E$8:$E$57,$L35)="実施",INDEX(活動入力!$J$8:$J$57,$L35),""))) | I35: =IF($L$3<>0,NA(),IF($L35=0,"",IF(TRUE(),INDEX(活動入力!$B$8:$B$57,$L35),""))) | L35: =IFERROR(MATCH(26,活動入力!$K$8:$K$57,0),0) -> 0
A36: =IF($L$3<>0,NA(),IF($L36=0,"",IF(TRUE(),INDEX(活動入力!$A$8:$A$57,$L36),""))) | B36: =IF($L$3<>0,NA(),IF($L36=0,"",IF(COUNTA(INDEX(活動入力!$C$8:$C$57,$L36))>0,INDEX(活動入力!$C$8:$C$57,$L36),""))) | C36: =IF($L$3<>0,NA(),IF($L36=0,"",IF(TRUE(),INDEX(活動入力!$D$8:$D$57,$L36),""))) | D36: =IF($L$3<>0,NA(),IF($L36=0,"",IF(TRUE(),INDEX(活動入力!$E$8:$E$57,$L36),""))) | E36: =IF($L$3<>0,NA(),IF($L36=0,"",IF(TRUE(),INDEX(活動入力!$F$8:$F$57,$L36),""))) | F36: =IF($L$3<>0,NA(),IF($L36=0,"",IF(INDEX(活動入力!$E$8:$E$57,$L36)="実施",INDEX(活動入力!$G$8:$G$57,$L36),""))) | G36: =IF($L$3<>0,NA(),IF($L36=0,"",IF(INDEX(活動入力!$E$8:$E$57,$L36)="実施",INDEX(活動入力!$H$8:$H$57,$L36),""))) | H36: =IF($L$3<>0,NA(),IF($L36=0,"",IF(INDEX(活動入力!$E$8:$E$57,$L36)="実施",INDEX(活動入力!$J$8:$J$57,$L36),""))) | I36: =IF($L$3<>0,NA(),IF($L36=0,"",IF(TRUE(),INDEX(活動入力!$B$8:$B$57,$L36),""))) | L36: =IFERROR(MATCH(27,活動入力!$K$8:$K$57,0),0) -> 0
A37: =IF($L$3<>0,NA(),IF($L37=0,"",IF(TRUE(),INDEX(活動入力!$A$8:$A$57,$L37),""))) | B37: =IF($L$3<>0,NA(),IF($L37=0,"",IF(COUNTA(INDEX(活動入力!$C$8:$C$57,$L37))>0,INDEX(活動入力!$C$8:$C$57,$L37),""))) | C37: =IF($L$3<>0,NA(),IF($L37=0,"",IF(TRUE(),INDEX(活動入力!$D$8:$D$57,$L37),""))) | D37: =IF($L$3<>0,NA(),IF($L37=0,"",IF(TRUE(),INDEX(活動入力!$E$8:$E$57,$L37),""))) | E37: =IF($L$3<>0,NA(),IF($L37=0,"",IF(TRUE(),INDEX(活動入力!$F$8:$F$57,$L37),""))) | F37: =IF($L$3<>0,NA(),IF($L37=0,"",IF(INDEX(活動入力!$E$8:$E$57,$L37)="実施",INDEX(活動入力!$G$8:$G$57,$L37),""))) | G37: =IF($L$3<>0,NA(),IF($L37=0,"",IF(INDEX(活動入力!$E$8:$E$57,$L37)="実施",INDEX(活動入力!$H$8:$H$57,$L37),""))) | H37: =IF($L$3<>0,NA(),IF($L37=0,"",IF(INDEX(活動入力!$E$8:$E$57,$L37)="実施",INDEX(活動入力!$J$8:$J$57,$L37),""))) | I37: =IF($L$3<>0,NA(),IF($L37=0,"",IF(TRUE(),INDEX(活動入力!$B$8:$B$57,$L37),""))) | L37: =IFERROR(MATCH(28,活動入力!$K$8:$K$57,0),0) -> 0
A38: =IF($L$3<>0,NA(),IF($L38=0,"",IF(TRUE(),INDEX(活動入力!$A$8:$A$57,$L38),""))) | B38: =IF($L$3<>0,NA(),IF($L38=0,"",IF(COUNTA(INDEX(活動入力!$C$8:$C$57,$L38))>0,INDEX(活動入力!$C$8:$C$57,$L38),""))) | C38: =IF($L$3<>0,NA(),IF($L38=0,"",IF(TRUE(),INDEX(活動入力!$D$8:$D$57,$L38),""))) | D38: =IF($L$3<>0,NA(),IF($L38=0,"",IF(TRUE(),INDEX(活動入力!$E$8:$E$57,$L38),""))) | E38: =IF($L$3<>0,NA(),IF($L38=0,"",IF(TRUE(),INDEX(活動入力!$F$8:$F$57,$L38),""))) | F38: =IF($L$3<>0,NA(),IF($L38=0,"",IF(INDEX(活動入力!$E$8:$E$57,$L38)="実施",INDEX(活動入力!$G$8:$G$57,$L38),""))) | G38: =IF($L$3<>0,NA(),IF($L38=0,"",IF(INDEX(活動入力!$E$8:$E$57,$L38)="実施",INDEX(活動入力!$H$8:$H$57,$L38),""))) | H38: =IF($L$3<>0,NA(),IF($L38=0,"",IF(INDEX(活動入力!$E$8:$E$57,$L38)="実施",INDEX(活動入力!$J$8:$J$57,$L38),""))) | I38: =IF($L$3<>0,NA(),IF($L38=0,"",IF(TRUE(),INDEX(活動入力!$B$8:$B$57,$L38),""))) | L38: =IFERROR(MATCH(29,活動入力!$K$8:$K$57,0),0) -> 0
A39: =IF($L$3<>0,NA(),IF($L39=0,"",IF(TRUE(),INDEX(活動入力!$A$8:$A$57,$L39),""))) | B39: =IF($L$3<>0,NA(),IF($L39=0,"",IF(COUNTA(INDEX(活動入力!$C$8:$C$57,$L39))>0,INDEX(活動入力!$C$8:$C$57,$L39),""))) | C39: =IF($L$3<>0,NA(),IF($L39=0,"",IF(TRUE(),INDEX(活動入力!$D$8:$D$57,$L39),""))) | D39: =IF($L$3<>0,NA(),IF($L39=0,"",IF(TRUE(),INDEX(活動入力!$E$8:$E$57,$L39),""))) | E39: =IF($L$3<>0,NA(),IF($L39=0,"",IF(TRUE(),INDEX(活動入力!$F$8:$F$57,$L39),""))) | F39: =IF($L$3<>0,NA(),IF($L39=0,"",IF(INDEX(活動入力!$E$8:$E$57,$L39)="実施",INDEX(活動入力!$G$8:$G$57,$L39),""))) | G39: =IF($L$3<>0,NA(),IF($L39=0,"",IF(INDEX(活動入力!$E$8:$E$57,$L39)="実施",INDEX(活動入力!$H$8:$H$57,$L39),""))) | H39: =IF($L$3<>0,NA(),IF($L39=0,"",IF(INDEX(活動入力!$E$8:$E$57,$L39)="実施",INDEX(活動入力!$J$8:$J$57,$L39),""))) | I39: =IF($L$3<>0,NA(),IF($L39=0,"",IF(TRUE(),INDEX(活動入力!$B$8:$B$57,$L39),""))) | L39: =IFERROR(MATCH(30,活動入力!$K$8:$K$57,0),0) -> 0
A40: =IF($L$3<>0,NA(),IF($L40=0,"",IF(TRUE(),INDEX(活動入力!$A$8:$A$57,$L40),""))) | B40: =IF($L$3<>0,NA(),IF($L40=0,"",IF(COUNTA(INDEX(活動入力!$C$8:$C$57,$L40))>0,INDEX(活動入力!$C$8:$C$57,$L40),""))) | C40: =IF($L$3<>0,NA(),IF($L40=0,"",IF(TRUE(),INDEX(活動入力!$D$8:$D$57,$L40),""))) | D40: =IF($L$3<>0,NA(),IF($L40=0,"",IF(TRUE(),INDEX(活動入力!$E$8:$E$57,$L40),""))) | E40: =IF($L$3<>0,NA(),IF($L40=0,"",IF(TRUE(),INDEX(活動入力!$F$8:$F$57,$L40),""))) | F40: =IF($L$3<>0,NA(),IF($L40=0,"",IF(INDEX(活動入力!$E$8:$E$57,$L40)="実施",INDEX(活動入力!$G$8:$G$57,$L40),""))) | G40: =IF($L$3<>0,NA(),IF($L40=0,"",IF(INDEX(活動入力!$E$8:$E$57,$L40)="実施",INDEX(活動入力!$H$8:$H$57,$L40),""))) | H40: =IF($L$3<>0,NA(),IF($L40=0,"",IF(INDEX(活動入力!$E$8:$E$57,$L40)="実施",INDEX(活動入力!$J$8:$J$57,$L40),""))) | I40: =IF($L$3<>0,NA(),IF($L40=0,"",IF(TRUE(),INDEX(活動入力!$B$8:$B$57,$L40),""))) | L40: =IFERROR(MATCH(31,活動入力!$K$8:$K$57,0),0) -> 0
A41: =IF($L$3<>0,NA(),IF($L41=0,"",IF(TRUE(),INDEX(活動入力!$A$8:$A$57,$L41),""))) | B41: =IF($L$3<>0,NA(),IF($L41=0,"",IF(COUNTA(INDEX(活動入力!$C$8:$C$57,$L41))>0,INDEX(活動入力!$C$8:$C$57,$L41),""))) | C41: =IF($L$3<>0,NA(),IF($L41=0,"",IF(TRUE(),INDEX(活動入力!$D$8:$D$57,$L41),""))) | D41: =IF($L$3<>0,NA(),IF($L41=0,"",IF(TRUE(),INDEX(活動入力!$E$8:$E$57,$L41),""))) | E41: =IF($L$3<>0,NA(),IF($L41=0,"",IF(TRUE(),INDEX(活動入力!$F$8:$F$57,$L41),""))) | F41: =IF($L$3<>0,NA(),IF($L41=0,"",IF(INDEX(活動入力!$E$8:$E$57,$L41)="実施",INDEX(活動入力!$G$8:$G$57,$L41),""))) | G41: =IF($L$3<>0,NA(),IF($L41=0,"",IF(INDEX(活動入力!$E$8:$E$57,$L41)="実施",INDEX(活動入力!$H$8:$H$57,$L41),""))) | H41: =IF($L$3<>0,NA(),IF($L41=0,"",IF(INDEX(活動入力!$E$8:$E$57,$L41)="実施",INDEX(活動入力!$J$8:$J$57,$L41),""))) | I41: =IF($L$3<>0,NA(),IF($L41=0,"",IF(TRUE(),INDEX(活動入力!$B$8:$B$57,$L41),""))) | L41: =IFERROR(MATCH(32,活動入力!$K$8:$K$57,0),0) -> 0
A42: =IF($L$3<>0,NA(),IF($L42=0,"",IF(TRUE(),INDEX(活動入力!$A$8:$A$57,$L42),""))) | B42: =IF($L$3<>0,NA(),IF($L42=0,"",IF(COUNTA(INDEX(活動入力!$C$8:$C$57,$L42))>0,INDEX(活動入力!$C$8:$C$57,$L42),""))) | C42: =IF($L$3<>0,NA(),IF($L42=0,"",IF(TRUE(),INDEX(活動入力!$D$8:$D$57,$L42),""))) | D42: =IF($L$3<>0,NA(),IF($L42=0,"",IF(TRUE(),INDEX(活動入力!$E$8:$E$57,$L42),""))) | E42: =IF($L$3<>0,NA(),IF($L42=0,"",IF(TRUE(),INDEX(活動入力!$F$8:$F$57,$L42),""))) | F42: =IF($L$3<>0,NA(),IF($L42=0,"",IF(INDEX(活動入力!$E$8:$E$57,$L42)="実施",INDEX(活動入力!$G$8:$G$57,$L42),""))) | G42: =IF($L$3<>0,NA(),IF($L42=0,"",IF(INDEX(活動入力!$E$8:$E$57,$L42)="実施",INDEX(活動入力!$H$8:$H$57,$L42),""))) | H42: =IF($L$3<>0,NA(),IF($L42=0,"",IF(INDEX(活動入力!$E$8:$E$57,$L42)="実施",INDEX(活動入力!$J$8:$J$57,$L42),""))) | I42: =IF($L$3<>0,NA(),IF($L42=0,"",IF(TRUE(),INDEX(活動入力!$B$8:$B$57,$L42),""))) | L42: =IFERROR(MATCH(33,活動入力!$K$8:$K$57,0),0) -> 0
A43: =IF($L$3<>0,NA(),IF($L43=0,"",IF(TRUE(),INDEX(活動入力!$A$8:$A$57,$L43),""))) | B43: =IF($L$3<>0,NA(),IF($L43=0,"",IF(COUNTA(INDEX(活動入力!$C$8:$C$57,$L43))>0,INDEX(活動入力!$C$8:$C$57,$L43),""))) | C43: =IF($L$3<>0,NA(),IF($L43=0,"",IF(TRUE(),INDEX(活動入力!$D$8:$D$57,$L43),""))) | D43: =IF($L$3<>0,NA(),IF($L43=0,"",IF(TRUE(),INDEX(活動入力!$E$8:$E$57,$L43),""))) | E43: =IF($L$3<>0,NA(),IF($L43=0,"",IF(TRUE(),INDEX(活動入力!$F$8:$F$57,$L43),""))) | F43: =IF($L$3<>0,NA(),IF($L43=0,"",IF(INDEX(活動入力!$E$8:$E$57,$L43)="実施",INDEX(活動入力!$G$8:$G$57,$L43),""))) | G43: =IF($L$3<>0,NA(),IF($L43=0,"",IF(INDEX(活動入力!$E$8:$E$57,$L43)="実施",INDEX(活動入力!$H$8:$H$57,$L43),""))) | H43: =IF($L$3<>0,NA(),IF($L43=0,"",IF(INDEX(活動入力!$E$8:$E$57,$L43)="実施",INDEX(活動入力!$J$8:$J$57,$L43),""))) | I43: =IF($L$3<>0,NA(),IF($L43=0,"",IF(TRUE(),INDEX(活動入力!$B$8:$B$57,$L43),""))) | L43: =IFERROR(MATCH(34,活動入力!$K$8:$K$57,0),0) -> 0
A44: =IF($L$3<>0,NA(),IF($L44=0,"",IF(TRUE(),INDEX(活動入力!$A$8:$A$57,$L44),""))) | B44: =IF($L$3<>0,NA(),IF($L44=0,"",IF(COUNTA(INDEX(活動入力!$C$8:$C$57,$L44))>0,INDEX(活動入力!$C$8:$C$57,$L44),""))) | C44: =IF($L$3<>0,NA(),IF($L44=0,"",IF(TRUE(),INDEX(活動入力!$D$8:$D$57,$L44),""))) | D44: =IF($L$3<>0,NA(),IF($L44=0,"",IF(TRUE(),INDEX(活動入力!$E$8:$E$57,$L44),""))) | E44: =IF($L$3<>0,NA(),IF($L44=0,"",IF(TRUE(),INDEX(活動入力!$F$8:$F$57,$L44),""))) | F44: =IF($L$3<>0,NA(),IF($L44=0,"",IF(INDEX(活動入力!$E$8:$E$57,$L44)="実施",INDEX(活動入力!$G$8:$G$57,$L44),""))) | G44: =IF($L$3<>0,NA(),IF($L44=0,"",IF(INDEX(活動入力!$E$8:$E$57,$L44)="実施",INDEX(活動入力!$H$8:$H$57,$L44),""))) | H44: =IF($L$3<>0,NA(),IF($L44=0,"",IF(INDEX(活動入力!$E$8:$E$57,$L44)="実施",INDEX(活動入力!$J$8:$J$57,$L44),""))) | I44: =IF($L$3<>0,NA(),IF($L44=0,"",IF(TRUE(),INDEX(活動入力!$B$8:$B$57,$L44),""))) | L44: =IFERROR(MATCH(35,活動入力!$K$8:$K$57,0),0) -> 0
A45: =IF($L$3<>0,NA(),IF($L45=0,"",IF(TRUE(),INDEX(活動入力!$A$8:$A$57,$L45),""))) | B45: =IF($L$3<>0,NA(),IF($L45=0,"",IF(COUNTA(INDEX(活動入力!$C$8:$C$57,$L45))>0,INDEX(活動入力!$C$8:$C$57,$L45),""))) | C45: =IF($L$3<>0,NA(),IF($L45=0,"",IF(TRUE(),INDEX(活動入力!$D$8:$D$57,$L45),""))) | D45: =IF($L$3<>0,NA(),IF($L45=0,"",IF(TRUE(),INDEX(活動入力!$E$8:$E$57,$L45),""))) | E45: =IF($L$3<>0,NA(),IF($L45=0,"",IF(TRUE(),INDEX(活動入力!$F$8:$F$57,$L45),""))) | F45: =IF($L$3<>0,NA(),IF($L45=0,"",IF(INDEX(活動入力!$E$8:$E$57,$L45)="実施",INDEX(活動入力!$G$8:$G$57,$L45),""))) | G45: =IF($L$3<>0,NA(),IF($L45=0,"",IF(INDEX(活動入力!$E$8:$E$57,$L45)="実施",INDEX(活動入力!$H$8:$H$57,$L45),""))) | H45: =IF($L$3<>0,NA(),IF($L45=0,"",IF(INDEX(活動入力!$E$8:$E$57,$L45)="実施",INDEX(活動入力!$J$8:$J$57,$L45),""))) | I45: =IF($L$3<>0,NA(),IF($L45=0,"",IF(TRUE(),INDEX(活動入力!$B$8:$B$57,$L45),""))) | L45: =IFERROR(MATCH(36,活動入力!$K$8:$K$57,0),0) -> 0
A46: =IF($L$3<>0,NA(),IF($L46=0,"",IF(TRUE(),INDEX(活動入力!$A$8:$A$57,$L46),""))) | B46: =IF($L$3<>0,NA(),IF($L46=0,"",IF(COUNTA(INDEX(活動入力!$C$8:$C$57,$L46))>0,INDEX(活動入力!$C$8:$C$57,$L46),""))) | C46: =IF($L$3<>0,NA(),IF($L46=0,"",IF(TRUE(),INDEX(活動入力!$D$8:$D$57,$L46),""))) | D46: =IF($L$3<>0,NA(),IF($L46=0,"",IF(TRUE(),INDEX(活動入力!$E$8:$E$57,$L46),""))) | E46: =IF($L$3<>0,NA(),IF($L46=0,"",IF(TRUE(),INDEX(活動入力!$F$8:$F$57,$L46),""))) | F46: =IF($L$3<>0,NA(),IF($L46=0,"",IF(INDEX(活動入力!$E$8:$E$57,$L46)="実施",INDEX(活動入力!$G$8:$G$57,$L46),""))) | G46: =IF($L$3<>0,NA(),IF($L46=0,"",IF(INDEX(活動入力!$E$8:$E$57,$L46)="実施",INDEX(活動入力!$H$8:$H$57,$L46),""))) | H46: =IF($L$3<>0,NA(),IF($L46=0,"",IF(INDEX(活動入力!$E$8:$E$57,$L46)="実施",INDEX(活動入力!$J$8:$J$57,$L46),""))) | I46: =IF($L$3<>0,NA(),IF($L46=0,"",IF(TRUE(),INDEX(活動入力!$B$8:$B$57,$L46),""))) | L46: =IFERROR(MATCH(37,活動入力!$K$8:$K$57,0),0) -> 0
A47: =IF($L$3<>0,NA(),IF($L47=0,"",IF(TRUE(),INDEX(活動入力!$A$8:$A$57,$L47),""))) | B47: =IF($L$3<>0,NA(),IF($L47=0,"",IF(COUNTA(INDEX(活動入力!$C$8:$C$57,$L47))>0,INDEX(活動入力!$C$8:$C$57,$L47),""))) | C47: =IF($L$3<>0,NA(),IF($L47=0,"",IF(TRUE(),INDEX(活動入力!$D$8:$D$57,$L47),""))) | D47: =IF($L$3<>0,NA(),IF($L47=0,"",IF(TRUE(),INDEX(活動入力!$E$8:$E$57,$L47),""))) | E47: =IF($L$3<>0,NA(),IF($L47=0,"",IF(TRUE(),INDEX(活動入力!$F$8:$F$57,$L47),""))) | F47: =IF($L$3<>0,NA(),IF($L47=0,"",IF(INDEX(活動入力!$E$8:$E$57,$L47)="実施",INDEX(活動入力!$G$8:$G$57,$L47),""))) | G47: =IF($L$3<>0,NA(),IF($L47=0,"",IF(INDEX(活動入力!$E$8:$E$57,$L47)="実施",INDEX(活動入力!$H$8:$H$57,$L47),""))) | H47: =IF($L$3<>0,NA(),IF($L47=0,"",IF(INDEX(活動入力!$E$8:$E$57,$L47)="実施",INDEX(活動入力!$J$8:$J$57,$L47),""))) | I47: =IF($L$3<>0,NA(),IF($L47=0,"",IF(TRUE(),INDEX(活動入力!$B$8:$B$57,$L47),""))) | L47: =IFERROR(MATCH(38,活動入力!$K$8:$K$57,0),0) -> 0
A48: =IF($L$3<>0,NA(),IF($L48=0,"",IF(TRUE(),INDEX(活動入力!$A$8:$A$57,$L48),""))) | B48: =IF($L$3<>0,NA(),IF($L48=0,"",IF(COUNTA(INDEX(活動入力!$C$8:$C$57,$L48))>0,INDEX(活動入力!$C$8:$C$57,$L48),""))) | C48: =IF($L$3<>0,NA(),IF($L48=0,"",IF(TRUE(),INDEX(活動入力!$D$8:$D$57,$L48),""))) | D48: =IF($L$3<>0,NA(),IF($L48=0,"",IF(TRUE(),INDEX(活動入力!$E$8:$E$57,$L48),""))) | E48: =IF($L$3<>0,NA(),IF($L48=0,"",IF(TRUE(),INDEX(活動入力!$F$8:$F$57,$L48),""))) | F48: =IF($L$3<>0,NA(),IF($L48=0,"",IF(INDEX(活動入力!$E$8:$E$57,$L48)="実施",INDEX(活動入力!$G$8:$G$57,$L48),""))) | G48: =IF($L$3<>0,NA(),IF($L48=0,"",IF(INDEX(活動入力!$E$8:$E$57,$L48)="実施",INDEX(活動入力!$H$8:$H$57,$L48),""))) | H48: =IF($L$3<>0,NA(),IF($L48=0,"",IF(INDEX(活動入力!$E$8:$E$57,$L48)="実施",INDEX(活動入力!$J$8:$J$57,$L48),""))) | I48: =IF($L$3<>0,NA(),IF($L48=0,"",IF(TRUE(),INDEX(活動入力!$B$8:$B$57,$L48),""))) | L48: =IFERROR(MATCH(39,活動入力!$K$8:$K$57,0),0) -> 0
A49: =IF($L$3<>0,NA(),IF($L49=0,"",IF(TRUE(),INDEX(活動入力!$A$8:$A$57,$L49),""))) | B49: =IF($L$3<>0,NA(),IF($L49=0,"",IF(COUNTA(INDEX(活動入力!$C$8:$C$57,$L49))>0,INDEX(活動入力!$C$8:$C$57,$L49),""))) | C49: =IF($L$3<>0,NA(),IF($L49=0,"",IF(TRUE(),INDEX(活動入力!$D$8:$D$57,$L49),""))) | D49: =IF($L$3<>0,NA(),IF($L49=0,"",IF(TRUE(),INDEX(活動入力!$E$8:$E$57,$L49),""))) | E49: =IF($L$3<>0,NA(),IF($L49=0,"",IF(TRUE(),INDEX(活動入力!$F$8:$F$57,$L49),""))) | F49: =IF($L$3<>0,NA(),IF($L49=0,"",IF(INDEX(活動入力!$E$8:$E$57,$L49)="実施",INDEX(活動入力!$G$8:$G$57,$L49),""))) | G49: =IF($L$3<>0,NA(),IF($L49=0,"",IF(INDEX(活動入力!$E$8:$E$57,$L49)="実施",INDEX(活動入力!$H$8:$H$57,$L49),""))) | H49: =IF($L$3<>0,NA(),IF($L49=0,"",IF(INDEX(活動入力!$E$8:$E$57,$L49)="実施",INDEX(活動入力!$J$8:$J$57,$L49),""))) | I49: =IF($L$3<>0,NA(),IF($L49=0,"",IF(TRUE(),INDEX(活動入力!$B$8:$B$57,$L49),""))) | L49: =IFERROR(MATCH(40,活動入力!$K$8:$K$57,0),0) -> 0
A50: =IF($L$3<>0,NA(),IF($L50=0,"",IF(TRUE(),INDEX(活動入力!$A$8:$A$57,$L50),""))) | B50: =IF($L$3<>0,NA(),IF($L50=0,"",IF(COUNTA(INDEX(活動入力!$C$8:$C$57,$L50))>0,INDEX(活動入力!$C$8:$C$57,$L50),""))) | C50: =IF($L$3<>0,NA(),IF($L50=0,"",IF(TRUE(),INDEX(活動入力!$D$8:$D$57,$L50),""))) | D50: =IF($L$3<>0,NA(),IF($L50=0,"",IF(TRUE(),INDEX(活動入力!$E$8:$E$57,$L50),""))) | E50: =IF($L$3<>0,NA(),IF($L50=0,"",IF(TRUE(),INDEX(活動入力!$F$8:$F$57,$L50),""))) | F50: =IF($L$3<>0,NA(),IF($L50=0,"",IF(INDEX(活動入力!$E$8:$E$57,$L50)="実施",INDEX(活動入力!$G$8:$G$57,$L50),""))) | G50: =IF($L$3<>0,NA(),IF($L50=0,"",IF(INDEX(活動入力!$E$8:$E$57,$L50)="実施",INDEX(活動入力!$H$8:$H$57,$L50),""))) | H50: =IF($L$3<>0,NA(),IF($L50=0,"",IF(INDEX(活動入力!$E$8:$E$57,$L50)="実施",INDEX(活動入力!$J$8:$J$57,$L50),""))) | I50: =IF($L$3<>0,NA(),IF($L50=0,"",IF(TRUE(),INDEX(活動入力!$B$8:$B$57,$L50),""))) | L50: =IFERROR(MATCH(41,活動入力!$K$8:$K$57,0),0) -> 0
A51: =IF($L$3<>0,NA(),IF($L51=0,"",IF(TRUE(),INDEX(活動入力!$A$8:$A$57,$L51),""))) | B51: =IF($L$3<>0,NA(),IF($L51=0,"",IF(COUNTA(INDEX(活動入力!$C$8:$C$57,$L51))>0,INDEX(活動入力!$C$8:$C$57,$L51),""))) | C51: =IF($L$3<>0,NA(),IF($L51=0,"",IF(TRUE(),INDEX(活動入力!$D$8:$D$57,$L51),""))) | D51: =IF($L$3<>0,NA(),IF($L51=0,"",IF(TRUE(),INDEX(活動入力!$E$8:$E$57,$L51),""))) | E51: =IF($L$3<>0,NA(),IF($L51=0,"",IF(TRUE(),INDEX(活動入力!$F$8:$F$57,$L51),""))) | F51: =IF($L$3<>0,NA(),IF($L51=0,"",IF(INDEX(活動入力!$E$8:$E$57,$L51)="実施",INDEX(活動入力!$G$8:$G$57,$L51),""))) | G51: =IF($L$3<>0,NA(),IF($L51=0,"",IF(INDEX(活動入力!$E$8:$E$57,$L51)="実施",INDEX(活動入力!$H$8:$H$57,$L51),""))) | H51: =IF($L$3<>0,NA(),IF($L51=0,"",IF(INDEX(活動入力!$E$8:$E$57,$L51)="実施",INDEX(活動入力!$J$8:$J$57,$L51),""))) | I51: =IF($L$3<>0,NA(),IF($L51=0,"",IF(TRUE(),INDEX(活動入力!$B$8:$B$57,$L51),""))) | L51: =IFERROR(MATCH(42,活動入力!$K$8:$K$57,0),0) -> 0
A52: =IF($L$3<>0,NA(),IF($L52=0,"",IF(TRUE(),INDEX(活動入力!$A$8:$A$57,$L52),""))) | B52: =IF($L$3<>0,NA(),IF($L52=0,"",IF(COUNTA(INDEX(活動入力!$C$8:$C$57,$L52))>0,INDEX(活動入力!$C$8:$C$57,$L52),""))) | C52: =IF($L$3<>0,NA(),IF($L52=0,"",IF(TRUE(),INDEX(活動入力!$D$8:$D$57,$L52),""))) | D52: =IF($L$3<>0,NA(),IF($L52=0,"",IF(TRUE(),INDEX(活動入力!$E$8:$E$57,$L52),""))) | E52: =IF($L$3<>0,NA(),IF($L52=0,"",IF(TRUE(),INDEX(活動入力!$F$8:$F$57,$L52),""))) | F52: =IF($L$3<>0,NA(),IF($L52=0,"",IF(INDEX(活動入力!$E$8:$E$57,$L52)="実施",INDEX(活動入力!$G$8:$G$57,$L52),""))) | G52: =IF($L$3<>0,NA(),IF($L52=0,"",IF(INDEX(活動入力!$E$8:$E$57,$L52)="実施",INDEX(活動入力!$H$8:$H$57,$L52),""))) | H52: =IF($L$3<>0,NA(),IF($L52=0,"",IF(INDEX(活動入力!$E$8:$E$57,$L52)="実施",INDEX(活動入力!$J$8:$J$57,$L52),""))) | I52: =IF($L$3<>0,NA(),IF($L52=0,"",IF(TRUE(),INDEX(活動入力!$B$8:$B$57,$L52),""))) | L52: =IFERROR(MATCH(43,活動入力!$K$8:$K$57,0),0) -> 0
A53: =IF($L$3<>0,NA(),IF($L53=0,"",IF(TRUE(),INDEX(活動入力!$A$8:$A$57,$L53),""))) | B53: =IF($L$3<>0,NA(),IF($L53=0,"",IF(COUNTA(INDEX(活動入力!$C$8:$C$57,$L53))>0,INDEX(活動入力!$C$8:$C$57,$L53),""))) | C53: =IF($L$3<>0,NA(),IF($L53=0,"",IF(TRUE(),INDEX(活動入力!$D$8:$D$57,$L53),""))) | D53: =IF($L$3<>0,NA(),IF($L53=0,"",IF(TRUE(),INDEX(活動入力!$E$8:$E$57,$L53),""))) | E53: =IF($L$3<>0,NA(),IF($L53=0,"",IF(TRUE(),INDEX(活動入力!$F$8:$F$57,$L53),""))) | F53: =IF($L$3<>0,NA(),IF($L53=0,"",IF(INDEX(活動入力!$E$8:$E$57,$L53)="実施",INDEX(活動入力!$G$8:$G$57,$L53),""))) | G53: =IF($L$3<>0,NA(),IF($L53=0,"",IF(INDEX(活動入力!$E$8:$E$57,$L53)="実施",INDEX(活動入力!$H$8:$H$57,$L53),""))) | H53: =IF($L$3<>0,NA(),IF($L53=0,"",IF(INDEX(活動入力!$E$8:$E$57,$L53)="実施",INDEX(活動入力!$J$8:$J$57,$L53),""))) | I53: =IF($L$3<>0,NA(),IF($L53=0,"",IF(TRUE(),INDEX(活動入力!$B$8:$B$57,$L53),""))) | L53: =IFERROR(MATCH(44,活動入力!$K$8:$K$57,0),0) -> 0
A54: =IF($L$3<>0,NA(),IF($L54=0,"",IF(TRUE(),INDEX(活動入力!$A$8:$A$57,$L54),""))) | B54: =IF($L$3<>0,NA(),IF($L54=0,"",IF(COUNTA(INDEX(活動入力!$C$8:$C$57,$L54))>0,INDEX(活動入力!$C$8:$C$57,$L54),""))) | C54: =IF($L$3<>0,NA(),IF($L54=0,"",IF(TRUE(),INDEX(活動入力!$D$8:$D$57,$L54),""))) | D54: =IF($L$3<>0,NA(),IF($L54=0,"",IF(TRUE(),INDEX(活動入力!$E$8:$E$57,$L54),""))) | E54: =IF($L$3<>0,NA(),IF($L54=0,"",IF(TRUE(),INDEX(活動入力!$F$8:$F$57,$L54),""))) | F54: =IF($L$3<>0,NA(),IF($L54=0,"",IF(INDEX(活動入力!$E$8:$E$57,$L54)="実施",INDEX(活動入力!$G$8:$G$57,$L54),""))) | G54: =IF($L$3<>0,NA(),IF($L54=0,"",IF(INDEX(活動入力!$E$8:$E$57,$L54)="実施",INDEX(活動入力!$H$8:$H$57,$L54),""))) | H54: =IF($L$3<>0,NA(),IF($L54=0,"",IF(INDEX(活動入力!$E$8:$E$57,$L54)="実施",INDEX(活動入力!$J$8:$J$57,$L54),""))) | I54: =IF($L$3<>0,NA(),IF($L54=0,"",IF(TRUE(),INDEX(活動入力!$B$8:$B$57,$L54),""))) | L54: =IFERROR(MATCH(45,活動入力!$K$8:$K$57,0),0) -> 0
A55: =IF($L$3<>0,NA(),IF($L55=0,"",IF(TRUE(),INDEX(活動入力!$A$8:$A$57,$L55),""))) | B55: =IF($L$3<>0,NA(),IF($L55=0,"",IF(COUNTA(INDEX(活動入力!$C$8:$C$57,$L55))>0,INDEX(活動入力!$C$8:$C$57,$L55),""))) | C55: =IF($L$3<>0,NA(),IF($L55=0,"",IF(TRUE(),INDEX(活動入力!$D$8:$D$57,$L55),""))) | D55: =IF($L$3<>0,NA(),IF($L55=0,"",IF(TRUE(),INDEX(活動入力!$E$8:$E$57,$L55),""))) | E55: =IF($L$3<>0,NA(),IF($L55=0,"",IF(TRUE(),INDEX(活動入力!$F$8:$F$57,$L55),""))) | F55: =IF($L$3<>0,NA(),IF($L55=0,"",IF(INDEX(活動入力!$E$8:$E$57,$L55)="実施",INDEX(活動入力!$G$8:$G$57,$L55),""))) | G55: =IF($L$3<>0,NA(),IF($L55=0,"",IF(INDEX(活動入力!$E$8:$E$57,$L55)="実施",INDEX(活動入力!$H$8:$H$57,$L55),""))) | H55: =IF($L$3<>0,NA(),IF($L55=0,"",IF(INDEX(活動入力!$E$8:$E$57,$L55)="実施",INDEX(活動入力!$J$8:$J$57,$L55),""))) | I55: =IF($L$3<>0,NA(),IF($L55=0,"",IF(TRUE(),INDEX(活動入力!$B$8:$B$57,$L55),""))) | L55: =IFERROR(MATCH(46,活動入力!$K$8:$K$57,0),0) -> 0
A56: =IF($L$3<>0,NA(),IF($L56=0,"",IF(TRUE(),INDEX(活動入力!$A$8:$A$57,$L56),""))) | B56: =IF($L$3<>0,NA(),IF($L56=0,"",IF(COUNTA(INDEX(活動入力!$C$8:$C$57,$L56))>0,INDEX(活動入力!$C$8:$C$57,$L56),""))) | C56: =IF($L$3<>0,NA(),IF($L56=0,"",IF(TRUE(),INDEX(活動入力!$D$8:$D$57,$L56),""))) | D56: =IF($L$3<>0,NA(),IF($L56=0,"",IF(TRUE(),INDEX(活動入力!$E$8:$E$57,$L56),""))) | E56: =IF($L$3<>0,NA(),IF($L56=0,"",IF(TRUE(),INDEX(活動入力!$F$8:$F$57,$L56),""))) | F56: =IF($L$3<>0,NA(),IF($L56=0,"",IF(INDEX(活動入力!$E$8:$E$57,$L56)="実施",INDEX(活動入力!$G$8:$G$57,$L56),""))) | G56: =IF($L$3<>0,NA(),IF($L56=0,"",IF(INDEX(活動入力!$E$8:$E$57,$L56)="実施",INDEX(活動入力!$H$8:$H$57,$L56),""))) | H56: =IF($L$3<>0,NA(),IF($L56=0,"",IF(INDEX(活動入力!$E$8:$E$57,$L56)="実施",INDEX(活動入力!$J$8:$J$57,$L56),""))) | I56: =IF($L$3<>0,NA(),IF($L56=0,"",IF(TRUE(),INDEX(活動入力!$B$8:$B$57,$L56),""))) | L56: =IFERROR(MATCH(47,活動入力!$K$8:$K$57,0),0) -> 0
A57: =IF($L$3<>0,NA(),IF($L57=0,"",IF(TRUE(),INDEX(活動入力!$A$8:$A$57,$L57),""))) | B57: =IF($L$3<>0,NA(),IF($L57=0,"",IF(COUNTA(INDEX(活動入力!$C$8:$C$57,$L57))>0,INDEX(活動入力!$C$8:$C$57,$L57),""))) | C57: =IF($L$3<>0,NA(),IF($L57=0,"",IF(TRUE(),INDEX(活動入力!$D$8:$D$57,$L57),""))) | D57: =IF($L$3<>0,NA(),IF($L57=0,"",IF(TRUE(),INDEX(活動入力!$E$8:$E$57,$L57),""))) | E57: =IF($L$3<>0,NA(),IF($L57=0,"",IF(TRUE(),INDEX(活動入力!$F$8:$F$57,$L57),""))) | F57: =IF($L$3<>0,NA(),IF($L57=0,"",IF(INDEX(活動入力!$E$8:$E$57,$L57)="実施",INDEX(活動入力!$G$8:$G$57,$L57),""))) | G57: =IF($L$3<>0,NA(),IF($L57=0,"",IF(INDEX(活動入力!$E$8:$E$57,$L57)="実施",INDEX(活動入力!$H$8:$H$57,$L57),""))) | H57: =IF($L$3<>0,NA(),IF($L57=0,"",IF(INDEX(活動入力!$E$8:$E$57,$L57)="実施",INDEX(活動入力!$J$8:$J$57,$L57),""))) | I57: =IF($L$3<>0,NA(),IF($L57=0,"",IF(TRUE(),INDEX(活動入力!$B$8:$B$57,$L57),""))) | L57: =IFERROR(MATCH(48,活動入力!$K$8:$K$57,0),0) -> 0
A58: =IF($L$3<>0,NA(),IF($L58=0,"",IF(TRUE(),INDEX(活動入力!$A$8:$A$57,$L58),""))) | B58: =IF($L$3<>0,NA(),IF($L58=0,"",IF(COUNTA(INDEX(活動入力!$C$8:$C$57,$L58))>0,INDEX(活動入力!$C$8:$C$57,$L58),""))) | C58: =IF($L$3<>0,NA(),IF($L58=0,"",IF(TRUE(),INDEX(活動入力!$D$8:$D$57,$L58),""))) | D58: =IF($L$3<>0,NA(),IF($L58=0,"",IF(TRUE(),INDEX(活動入力!$E$8:$E$57,$L58),""))) | E58: =IF($L$3<>0,NA(),IF($L58=0,"",IF(TRUE(),INDEX(活動入力!$F$8:$F$57,$L58),""))) | F58: =IF($L$3<>0,NA(),IF($L58=0,"",IF(INDEX(活動入力!$E$8:$E$57,$L58)="実施",INDEX(活動入力!$G$8:$G$57,$L58),""))) | G58: =IF($L$3<>0,NA(),IF($L58=0,"",IF(INDEX(活動入力!$E$8:$E$57,$L58)="実施",INDEX(活動入力!$H$8:$H$57,$L58),""))) | H58: =IF($L$3<>0,NA(),IF($L58=0,"",IF(INDEX(活動入力!$E$8:$E$57,$L58)="実施",INDEX(活動入力!$J$8:$J$57,$L58),""))) | I58: =IF($L$3<>0,NA(),IF($L58=0,"",IF(TRUE(),INDEX(活動入力!$B$8:$B$57,$L58),""))) | L58: =IFERROR(MATCH(49,活動入力!$K$8:$K$57,0),0) -> 0
A59: =IF($L$3<>0,NA(),IF($L59=0,"",IF(TRUE(),INDEX(活動入力!$A$8:$A$57,$L59),""))) | B59: =IF($L$3<>0,NA(),IF($L59=0,"",IF(COUNTA(INDEX(活動入力!$C$8:$C$57,$L59))>0,INDEX(活動入力!$C$8:$C$57,$L59),""))) | C59: =IF($L$3<>0,NA(),IF($L59=0,"",IF(TRUE(),INDEX(活動入力!$D$8:$D$57,$L59),""))) | D59: =IF($L$3<>0,NA(),IF($L59=0,"",IF(TRUE(),INDEX(活動入力!$E$8:$E$57,$L59),""))) | E59: =IF($L$3<>0,NA(),IF($L59=0,"",IF(TRUE(),INDEX(活動入力!$F$8:$F$57,$L59),""))) | F59: =IF($L$3<>0,NA(),IF($L59=0,"",IF(INDEX(活動入力!$E$8:$E$57,$L59)="実施",INDEX(活動入力!$G$8:$G$57,$L59),""))) | G59: =IF($L$3<>0,NA(),IF($L59=0,"",IF(INDEX(活動入力!$E$8:$E$57,$L59)="実施",INDEX(活動入力!$H$8:$H$57,$L59),""))) | H59: =IF($L$3<>0,NA(),IF($L59=0,"",IF(INDEX(活動入力!$E$8:$E$57,$L59)="実施",INDEX(活動入力!$J$8:$J$57,$L59),""))) | I59: =IF($L$3<>0,NA(),IF($L59=0,"",IF(TRUE(),INDEX(活動入力!$B$8:$B$57,$L59),""))) | L59: =IFERROR(MATCH(50,活動入力!$K$8:$K$57,0),0) -> 0

Sheet 活動入力
A2: 活動の実施区分と日時を記録
A3: 黄色A〜Iへ。50活動/50顧客ID/20担当ID。案件・顧客名・本人との対応や結果は元記録で管理。
A5: 実施は分単位の日時。中止/未確認は開始・終了を空欄。同じ担当の時間は重ねず、日またぎは日別に分割。
A7: 活動ID | B7: 担当者ID | C7: 顧客ID（任意） | D7: 活動種別 | E7: 実施区分 | F7: 活動日 | G7: 開始日時 | H7: 終了日時 | I7: 記録確認日 | J7: 確定実施分 | K7: 日報の表示順 | L7: 入力の確認 | M7: 入力不備 | N7: 計算の前提
A8: ACT-0001 | B8: STF-0001 | C8: CUS-0001 | D8: 訪問 | E8: 実施 | F8: 46311 | G8: 46311.375 | H8: 46311.396 | I8: 46311 | J8: =IF(L8="","",IF(M8<>0,NA(),IF(E8="実施",ROUND((H8-G8)*1440,0),""))) -> 30 | K8: =IF(L8="","",IF(M8<>0,NA(),IF(AND(B8=日報!$E$3,F8=日報!$B$3),COUNTIFS($B$8:B8,B8,$F$8:F8,F8),0))) -> 1 | L8: =IF(COUNTA(A8:I8)=0,"",IF(NOT(AND(ISTEXT(A8),LEN(A8)=8,EXACT(LEFT(A8,4),"ACT-"),ISNUMBER(FIND(MID(A8,5,1)&"x","0x1x2x3x4x5x6x7x8x9x")),ISNUMBER(FIND(MID(A8,6,1)&"x","0x1x2x3x4x5x6x7x8x9x")),ISNUMBER(FIND(MID(A8,7,1)&"x","0x1x2x3x4x5x6x7x8x9x")),ISNUMBER(FIND(MID(A8,8,1)&"x","0x1x2x3x4x5x6x7x8x9x")))),"活動IDはACT-と半角数字4桁",IF(COUNTIFS($A$8:$A$57,A8)>1,"活動IDが重複",IF(NOT(AND(ISTEXT(B8),LEN(B8)=8,EXACT(LEFT(B8,4),"STF-"),ISNUMBER(FIND(MID(B8,5,1)&"x","0x1x2x3x4x5x6x7x8x9x")),ISNUMBER(FIND(MID(B8,6,1)&"x","0x1x2x3x4x5x6x7x8x9x")),ISNUMBER(FIND(MID(B8,7,1)&"x","0x1x2x3x4x5x6x7x8x9x")),ISNUMBER(FIND(MID(B8,8,1)&"x","0x1x2x3x4x5x6x7x8x9x")))),"担当IDの形式を確認",IF(COUNTIFS(登録ID!$F$8:$F$27,B8)<>1,"担当が未登録/重複",IF(AND(COUNTA(C8)>0,NOT(AND(ISTEXT(C8),LEN(C8)=8,EXACT(LEFT(C8,4),"CUS-"),ISNUMBER(FIND(MID(C8,5,1)&"x","0x1x2x3x4x5x6x7x8x9x")),ISNUMBER(FIND(MID(C8,6,1)&"x","0x1x2x3x4x5x6x7x8x9x")),ISNUMBER(FIND(MID(C8,7,1)&"x","0x1x2x3x4x5x6x7x8x9x")),ISNUMBER(FIND(MID(C8,8,1)&"x","0x1x2x3x4x5x6x7x8x9x"))))),"顧客IDの形式を確認",IF(AND(COUNTA(C8)>0,COUNTIFS(登録ID!$A$8:$A$57,C8)<>1),"顧客が未登録/重複",IF(NOT(OR(D8="訪問",D8="オンライン",D8="電話",D8="メール",D8="事務",D8="その他")),"活動種別を確認",IF(NOT(OR(E8="実施",E8="中止",E8="未確認")),"実施区分を確認",IF(NOT(IF(ISNUMBER(F8),AND(F8>=43831,F8<73051,F8=INT(F8)),FALSE())),"活動日は時刻なしで必須",IF(NOT(IF(ISNUMBER(I8),AND(I8>=43831,I8<73051,I8=INT(I8)),FALSE())),"記録確認日は時刻なしで必須",IF(OR(F8>I8,I8>日報!$H$3),"活動日≦確認日≦基準日を確認",IF(AND(E8="実施",NOT(AND(IF(ISNUMBER(G8),AND(G8>=43831,G8<73051,ABS(G8*1440-ROUND(G8*1440,0))<0.00001),FALSE()),IF(ISNUMBER(H8),AND(H8>=43831,H8<73051,ABS(H8*1440-ROUND(H8*1440,0))<0.00001),FALSE())))),"実施は分単位の開始/終了日時が必須",IF(AND(E8<>"実施",COUNTA(G8:H8)>0),"中止/未確認の開始/終了は空欄",IF(AND(E8="実施",OR(G8<F8,G8>=F8+1,H8<=G8,H8>F8+1,H8>=I8+1)),"時間の順序・活動日/確認日を確認",IF(AND(E8="実施",COUNTIFS($B$8:$B$57,B8,$E$8:$E$57,"実施",$G$8:$G$57,"<"&H8,$H$8:$H$57,">"&G8)>1),"同じ担当の実施時間が重複","確認済み")))))))))))))))) -> 確認済み | M8: =IF(L8="","",IF(L8="確認済み",0,1)) -> 0 | N8: =IF(COUNTA(A8:I8)=0,IF(AND(L8="",M8="",J8="",K8=""),0,1),IF(NOT(AND(ISTEXT(L8),L8=IF(COUNTA(A8:I8)=0,"",IF(NOT(AND(ISTEXT(A8),LEN(A8)=8,EXACT(LEFT(A8,4),"ACT-"),ISNUMBER(FIND(MID(A8,5,1)&"x","0x1x2x3x4x5x6x7x8x9x")),ISNUMBER(FIND(MID(A8,6,1)&"x","0x1x2x3x4x5x6x7x8x9x")),ISNUMBER(FIND(MID(A8,7,1)&"x","0x1x2x3x4x5x6x7x8x9x")),ISNUMBER(FIND(MID(A8,8,1)&"x","0x1x2x3x4x5x6x7x8x9x")))),"活動IDはACT-と半角数字4桁",IF(COUNTIFS($A$8:$A$57,A8)>1,"活動IDが重複",IF(NOT(AND(ISTEXT(B8),LEN(B8)=8,EXACT(LEFT(B8,4),"STF-"),ISNUMBER(FIND(MID(B8,5,1)&"x","0x1x2x3x4x5x6x7x8x9x")),ISNUMBER(FIND(MID(B8,6,1)&"x","0x1x2x3x4x5x6x7x8x9x")),ISNUMBER(FIND(MID(B8,7,1)&"x","0x1x2x3x4x5x6x7x8x9x")),ISNUMBER(FIND(MID(B8,8,1)&"x","0x1x2x3x4x5x6x7x8x9x")))),"担当IDの形式を確認",IF(COUNTIFS(登録ID!$F$8:$F$27,B8)<>1,"担当が未登録/重複",IF(AND(COUNTA(C8)>0,NOT(AND(ISTEXT(C8),LEN(C8)=8,EXACT(LEFT(C8,4),"CUS-"),ISNUMBER(FIND(MID(C8,5,1)&"x","0x1x2x3x4x5x6x7x8x9x")),ISNUMBER(FIND(MID(C8,6,1)&"x","0x1x2x3x4x5x6x7x8x9x")),ISNUMBER(FIND(MID(C8,7,1)&"x","0x1x2x3x4x5x6x7x8x9x")),ISNUMBER(FIND(MID(C8,8,1)&"x","0x1x2x3x4x5x6x7x8x9x"))))),"顧客IDの形式を確認",IF(AND(COUNTA(C8)>0,COUNTIFS(登録ID!$A$8:$A$57,C8)<>1),"顧客が未登録/重複",IF(NOT(OR(D8="訪問",D8="オンライン",D8="電話",D8="メール",D8="事務",D8="その他")),"活動種別を確認",IF(NOT(OR(E8="実施",E8="中止",E8="未確認")),"実施区分を確認",IF(NOT(IF(ISNUMBER(F8),AND(F8>=43831,F8<73051,F8=INT(F8)),FALSE())),"活動日は時刻なしで必須",IF(NOT(IF(ISNUMBER(I8),AND(I8>=43831,I8<73051,I8=INT(I8)),FALSE())),"記録確認日は時刻なしで必須",IF(OR(F8>I8,I8>日報!$H$3),"活動日≦確認日≦基準日を確認",IF(AND(E8="実施",NOT(AND(IF(ISNUMBER(G8),AND(G8>=43831,G8<73051,ABS(G8*1440-ROUND(G8*1440,0))<0.00001),FALSE()),IF(ISNUMBER(H8),AND(H8>=43831,H8<73051,ABS(H8*1440-ROUND(H8*1440,0))<0.00001),FALSE())))),"実施は分単位の開始/終了日時が必須",IF(AND(E8<>"実施",COUNTA(G8:H8)>0),"中止/未確認の開始/終了は空欄",IF(AND(E8="実施",OR(G8<F8,G8>=F8+1,H8<=G8,H8>F8+1,H8>=I8+1)),"時間の順序・活動日/確認日を確認",IF(AND(E8="実施",COUNTIFS($B$8:$B$57,B8,$E$8:$E$57,"実施",$G$8:$G$57,"<"&H8,$H$8:$H$57,">"&G8)>1),"同じ担当の実施時間が重複","確認済み")))))))))))))))),ISNUMBER(M8),M8=IF(L8="確認済み",0,1))),1,IF(M8<>0,0,IF(AND(IF(E8="実施",ISNUMBER(J8),ISTEXT(J8)),J8=IF(E8="実施",ROUND((H8-G8)*1440,0),""),ISNUMBER(K8),K8=IF(AND(B8=日報!$E$3,F8=日報!$B$3),COUNTIFS($B$8:B8,B8,$F$8:F8,F8),0)),0,1)))) -> 0
A9: ACT-0002 | B9: STF-0001 | C9: CUS-0001 | D9: 電話 | E9: 実施 | F9: 46311 | G9: 46311.396 | H9: 46311.397 | I9: 46311 | J9: =IF(L9="","",IF(M9<>0,NA(),IF(E9="実施",ROUND((H9-G9)*1440,0),""))) -> 1 | K9: =IF(L9="","",IF(M9<>0,NA(),IF(AND(B9=日報!$E$3,F9=日報!$B$3),COUNTIFS($B$8:B9,B9,$F$8:F9,F9),0))) -> 2 | L9: =IF(COUNTA(A9:I9)=0,"",IF(NOT(AND(ISTEXT(A9),LEN(A9)=8,EXACT(LEFT(A9,4),"ACT-"),ISNUMBER(FIND(MID(A9,5,1)&"x","0x1x2x3x4x5x6x7x8x9x")),ISNUMBER(FIND(MID(A9,6,1)&"x","0x1x2x3x4x5x6x7x8x9x")),ISNUMBER(FIND(MID(A9,7,1)&"x","0x1x2x3x4x5x6x7x8x9x")),ISNUMBER(FIND(MID(A9,8,1)&"x","0x1x2x3x4x5x6x7x8x9x")))),"活動IDはACT-と半角数字4桁",IF(COUNTIFS($A$8:$A$57,A9)>1,"活動IDが重複",IF(NOT(AND(ISTEXT(B9),LEN(B9)=8,EXACT(LEFT(B9,4),"STF-"),ISNUMBER(FIND(MID(B9,5,1)&"x","0x1x2x3x4x5x6x7x8x9x")),ISNUMBER(FIND(MID(B9,6,1)&"x","0x1x2x3x4x5x6x7x8x9x")),ISNUMBER(FIND(MID(B9,7,1)&"x","0x1x2x3x4x5x6x7x8x9x")),ISNUMBER(FIND(MID(B9,8,1)&"x","0x1x2x3x4x5x6x7x8x9x")))),"担当IDの形式を確認",IF(COUNTIFS(登録ID!$F$8:$F$27,B9)<>1,"担当が未登録/重複",IF(AND(COUNTA(C9)>0,NOT(AND(ISTEXT(C9),LEN(C9)=8,EXACT(LEFT(C9,4),"CUS-"),ISNUMBER(FIND(MID(C9,5,1)&"x","0x1x2x3x4x5x6x7x8x9x")),ISNUMBER(FIND(MID(C9,6,1)&"x","0x1x2x3x4x5x6x7x8x9x")),ISNUMBER(FIND(MID(C9,7,1)&"x","0x1x2x3x4x5x6x7x8x9x")),ISNUMBER(FIND(MID(C9,8,1)&"x","0x1x2x3x4x5x6x7x8x9x"))))),"顧客IDの形式を確認",IF(AND(COUNTA(C9)>0,COUNTIFS(登録ID!$A$8:$A$57,C9)<>1),"顧客が未登録/重複",IF(NOT(OR(D9="訪問",D9="オンライン",D9="電話",D9="メール",D9="事務",D9="その他")),"活動種別を確認",IF(NOT(OR(E9="実施",E9="中止",E9="未確認")),"実施区分を確認",IF(NOT(IF(ISNUMBER(F9),AND(F9>=43831,F9<73051,F9=INT(F9)),FALSE())),"活動日は時刻なしで必須",IF(NOT(IF(ISNUMBER(I9),AND(I9>=43831,I9<73051,I9=INT(I9)),FALSE())),"記録確認日は時刻なしで必須",IF(OR(F9>I9,I9>日報!$H$3),"活動日≦確認日≦基準日を確認",IF(AND(E9="実施",NOT(AND(IF(ISNUMBER(G9),AND(G9>=43831,G9<73051,ABS(G9*1440-ROUND(G9*1440,0))<0.00001),FALSE()),IF(ISNUMBER(H9),AND(H9>=43831,H9<73051,ABS(H9*1440-ROUND(H9*1440,0))<0.00001),FALSE())))),"実施は分単位の開始/終了日時が必須",IF(AND(E9<>"実施",COUNTA(G9:H9)>0),"中止/未確認の開始/終了は空欄",IF(AND(E9="実施",OR(G9<F9,G9>=F9+1,H9<=G9,H9>F9+1,H9>=I9+1)),"時間の順序・活動日/確認日を確認",IF(AND(E9="実施",COUNTIFS($B$8:$B$57,B9,$E$8:$E$57,"実施",$G$8:$G$57,"<"&H9,$H$8:$H$57,">"&G9)>1),"同じ担当の実施時間が重複","確認済み")))))))))))))))) -> 確認済み | M9: =IF(L9="","",IF(L9="確認済み",0,1)) -> 0 | N9: =IF(COUNTA(A9:I9)=0,IF(AND(L9="",M9="",J9="",K9=""),0,1),IF(NOT(AND(ISTEXT(L9),L9=IF(COUNTA(A9:I9)=0,"",IF(NOT(AND(ISTEXT(A9),LEN(A9)=8,EXACT(LEFT(A9,4),"ACT-"),ISNUMBER(FIND(MID(A9,5,1)&"x","0x1x2x3x4x5x6x7x8x9x")),ISNUMBER(FIND(MID(A9,6,1)&"x","0x1x2x3x4x5x6x7x8x9x")),ISNUMBER(FIND(MID(A9,7,1)&"x","0x1x2x3x4x5x6x7x8x9x")),ISNUMBER(FIND(MID(A9,8,1)&"x","0x1x2x3x4x5x6x7x8x9x")))),"活動IDはACT-と半角数字4桁",IF(COUNTIFS($A$8:$A$57,A9)>1,"活動IDが重複",IF(NOT(AND(ISTEXT(B9),LEN(B9)=8,EXACT(LEFT(B9,4),"STF-"),ISNUMBER(FIND(MID(B9,5,1)&"x","0x1x2x3x4x5x6x7x8x9x")),ISNUMBER(FIND(MID(B9,6,1)&"x","0x1x2x3x4x5x6x7x8x9x")),ISNUMBER(FIND(MID(B9,7,1)&"x","0x1x2x3x4x5x6x7x8x9x")),ISNUMBER(FIND(MID(B9,8,1)&"x","0x1x2x3x4x5x6x7x8x9x")))),"担当IDの形式を確認",IF(COUNTIFS(登録ID!$F$8:$F$27,B9)<>1,"担当が未登録/重複",IF(AND(COUNTA(C9)>0,NOT(AND(ISTEXT(C9),LEN(C9)=8,EXACT(LEFT(C9,4),"CUS-"),ISNUMBER(FIND(MID(C9,5,1)&"x","0x1x2x3x4x5x6x7x8x9x")),ISNUMBER(FIND(MID(C9,6,1)&"x","0x1x2x3x4x5x6x7x8x9x")),ISNUMBER(FIND(MID(C9,7,1)&"x","0x1x2x3x4x5x6x7x8x9x")),ISNUMBER(FIND(MID(C9,8,1)&"x","0x1x2x3x4x5x6x7x8x9x"))))),"顧客IDの形式を確認",IF(AND(COUNTA(C9)>0,COUNTIFS(登録ID!$A$8:$A$57,C9)<>1),"顧客が未登録/重複",IF(NOT(OR(D9="訪問",D9="オンライン",D9="電話",D9="メール",D9="事務",D9="その他")),"活動種別を確認",IF(NOT(OR(E9="実施",E9="中止",E9="未確認")),"実施区分を確認",IF(NOT(IF(ISNUMBER(F9),AND(F9>=43831,F9<73051,F9=INT(F9)),FALSE())),"活動日は時刻なしで必須",IF(NOT(IF(ISNUMBER(I9),AND(I9>=43831,I9<73051,I9=INT(I9)),FALSE())),"記録確認日は時刻なしで必須",IF(OR(F9>I9,I9>日報!$H$3),"活動日≦確認日≦基準日を確認",IF(AND(E9="実施",NOT(AND(IF(ISNUMBER(G9),AND(G9>=43831,G9<73051,ABS(G9*1440-ROUND(G9*1440,0))<0.00001),FALSE()),IF(ISNUMBER(H9),AND(H9>=43831,H9<73051,ABS(H9*1440-ROUND(H9*1440,0))<0.00001),FALSE())))),"実施は分単位の開始/終了日時が必須",IF(AND(E9<>"実施",COUNTA(G9:H9)>0),"中止/未確認の開始/終了は空欄",IF(AND(E9="実施",OR(G9<F9,G9>=F9+1,H9<=G9,H9>F9+1,H9>=I9+1)),"時間の順序・活動日/確認日を確認",IF(AND(E9="実施",COUNTIFS($B$8:$B$57,B9,$E$8:$E$57,"実施",$G$8:$G$57,"<"&H9,$H$8:$H$57,">"&G9)>1),"同じ担当の実施時間が重複","確認済み")))))))))))))))),ISNUMBER(M9),M9=IF(L9="確認済み",0,1))),1,IF(M9<>0,0,IF(AND(IF(E9="実施",ISNUMBER(J9),ISTEXT(J9)),J9=IF(E9="実施",ROUND((H9-G9)*1440,0),""),ISNUMBER(K9),K9=IF(AND(B9=日報!$E$3,F9=日報!$B$3),COUNTIFS($B$8:B9,B9,$F$8:F9,F9),0)),0,1)))) -> 0
A10: ACT-0003 | B10: STF-0001 | C10: CUS-0002 | D10: オンライン | E10: 実施 | F10: 46311 | G10: 46311.417 | H10: 46311.448 | I10: 46311 | J10: =IF(L10="","",IF(M10<>0,NA(),IF(E10="実施",ROUND((H10-G10)*1440,0),""))) -> 45 | K10: =IF(L10="","",IF(M10<>0,NA(),IF(AND(B10=日報!$E$3,F10=日報!$B$3),COUNTIFS($B$8:B10,B10,$F$8:F10,F10),0))) -> 3 | L10: =IF(COUNTA(A10:I10)=0,"",IF(NOT(AND(ISTEXT(A10),LEN(A10)=8,EXACT(LEFT(A10,4),"ACT-"),ISNUMBER(FIND(MID(A10,5,1)&"x","0x1x2x3x4x5x6x7x8x9x")),ISNUMBER(FIND(MID(A10,6,1)&"x","0x1x2x3x4x5x6x7x8x9x")),ISNUMBER(FIND(MID(A10,7,1)&"x","0x1x2x3x4x5x6x7x8x9x")),ISNUMBER(FIND(MID(A10,8,1)&"x","0x1x2x3x4x5x6x7x8x9x")))),"活動IDはACT-と半角数字4桁",IF(COUNTIFS($A$8:$A$57,A10)>1,"活動IDが重複",IF(NOT(AND(ISTEXT(B10),LEN(B10)=8,EXACT(LEFT(B10,4),"STF-"),ISNUMBER(FIND(MID(B10,5,1)&"x","0x1x2x3x4x5x6x7x8x9x")),ISNUMBER(FIND(MID(B10,6,1)&"x","0x1x2x3x4x5x6x7x8x9x")),ISNUMBER(FIND(MID(B10,7,1)&"x","0x1x2x3x4x5x6x7x8x9x")),ISNUMBER(FIND(MID(B10,8,1)&"x","0x1x2x3x4x5x6x7x8x9x")))),"担当IDの形式を確認",IF(COUNTIFS(登録ID!$F$8:$F$27,B10)<>1,"担当が未登録/重複",IF(AND(COUNTA(C10)>0,NOT(AND(ISTEXT(C10),LEN(C10)=8,EXACT(LEFT(C10,4),"CUS-"),ISNUMBER(FIND(MID(C10,5,1)&"x","0x1x2x3x4x5x6x7x8x9x")),ISNUMBER(FIND(MID(C10,6,1)&"x","0x1x2x3x4x5x6x7x8x9x")),ISNUMBER(FIND(MID(C10,7,1)&"x","0x1x2x3x4x5x6x7x8x9x")),ISNUMBER(FIND(MID(C10,8,1)&"x","0x1x2x3x4x5x6x7x8x9x"))))),"顧客IDの形式を確認",IF(AND(COUNTA(C10)>0,COUNTIFS(登録ID!$A$8:$A$57,C10)<>1),"顧客が未登録/重複",IF(NOT(OR(D10="訪問",D10="オンライン",D10="電話",D10="メール",D10="事務",D10="その他")),"活動種別を確認",IF(NOT(OR(E10="実施",E10="中止",E10="未確認")),"実施区分を確認",IF(NOT(IF(ISNUMBER(F10),AND(F10>=43831,F10<73051,F10=INT(F10)),FALSE())),"活動日は時刻なしで必須",IF(NOT(IF(ISNUMBER(I10),AND(I10>=43831,I10<73051,I10=INT(I10)),FALSE())),"記録確認日は時刻なしで必須",IF(OR(F10>I10,I10>日報!$H$3),"活動日≦確認日≦基準日を確認",IF(AND(E10="実施",NOT(AND(IF(ISNUMBER(G10),AND(G10>=43831,G10<73051,ABS(G10*1440-ROUND(G10*1440,0))<0.00001),FALSE()),IF(ISNUMBER(H10),AND(H10>=43831,H10<73051,ABS(H10*1440-ROUND(H10*1440,0))<0.00001),FALSE())))),"実施は分単位の開始/終了日時が必須",IF(AND(E10<>"実施",COUNTA(G10:H10)>0),"中止/未確認の開始/終了は空欄",IF(AND(E10="実施",OR(G10<F10,G10>=F10+1,H10<=G10,H10>F10+1,H10>=I10+1)),"時間の順序・活動日/確認日を確認",IF(AND(E10="実施",COUNTIFS($B$8:$B$57,B10,$E$8:$E$57,"実施",$G$8:$G$57,"<"&H10,$H$8:$H$57,">"&G10)>1),"同じ担当の実施時間が重複","確認済み")))))))))))))))) -> 確認済み | M10: =IF(L10="","",IF(L10="確認済み",0,1)) -> 0 | N10: =IF(COUNTA(A10:I10)=0,IF(AND(L10="",M10="",J10="",K10=""),0,1),IF(NOT(AND(ISTEXT(L10),L10=IF(COUNTA(A10:I10)=0,"",IF(NOT(AND(ISTEXT(A10),LEN(A10)=8,EXACT(LEFT(A10,4),"ACT-"),ISNUMBER(FIND(MID(A10,5,1)&"x","0x1x2x3x4x5x6x7x8x9x")),ISNUMBER(FIND(MID(A10,6,1)&"x","0x1x2x3x4x5x6x7x8x9x")),ISNUMBER(FIND(MID(A10,7,1)&"x","0x1x2x3x4x5x6x7x8x9x")),ISNUMBER(FIND(MID(A10,8,1)&"x","0x1x2x3x4x5x6x7x8x9x")))),"活動IDはACT-と半角数字4桁",IF(COUNTIFS($A$8:$A$57,A10)>1,"活動IDが重複",IF(NOT(AND(ISTEXT(B10),LEN(B10)=8,EXACT(LEFT(B10,4),"STF-"),ISNUMBER(FIND(MID(B10,5,1)&"x","0x1x2x3x4x5x6x7x8x9x")),ISNUMBER(FIND(MID(B10,6,1)&"x","0x1x2x3x4x5x6x7x8x9x")),ISNUMBER(FIND(MID(B10,7,1)&"x","0x1x2x3x4x5x6x7x8x9x")),ISNUMBER(FIND(MID(B10,8,1)&"x","0x1x2x3x4x5x6x7x8x9x")))),"担当IDの形式を確認",IF(COUNTIFS(登録ID!$F$8:$F$27,B10)<>1,"担当が未登録/重複",IF(AND(COUNTA(C10)>0,NOT(AND(ISTEXT(C10),LEN(C10)=8,EXACT(LEFT(C10,4),"CUS-"),ISNUMBER(FIND(MID(C10,5,1)&"x","0x1x2x3x4x5x6x7x8x9x")),ISNUMBER(FIND(MID(C10,6,1)&"x","0x1x2x3x4x5x6x7x8x9x")),ISNUMBER(FIND(MID(C10,7,1)&"x","0x1x2x3x4x5x6x7x8x9x")),ISNUMBER(FIND(MID(C10,8,1)&"x","0x1x2x3x4x5x6x7x8x9x"))))),"顧客IDの形式を確認",IF(AND(COUNTA(C10)>0,COUNTIFS(登録ID!$A$8:$A$57,C10)<>1),"顧客が未登録/重複",IF(NOT(OR(D10="訪問",D10="オンライン",D10="電話",D10="メール",D10="事務",D10="その他")),"活動種別を確認",IF(NOT(OR(E10="実施",E10="中止",E10="未確認")),"実施区分を確認",IF(NOT(IF(ISNUMBER(F10),AND(F10>=43831,F10<73051,F10=INT(F10)),FALSE())),"活動日は時刻なしで必須",IF(NOT(IF(ISNUMBER(I10),AND(I10>=43831,I10<73051,I10=INT(I10)),FALSE())),"記録確認日は時刻なしで必須",IF(OR(F10>I10,I10>日報!$H$3),"活動日≦確認日≦基準日を確認",IF(AND(E10="実施",NOT(AND(IF(ISNUMBER(G10),AND(G10>=43831,G10<73051,ABS(G10*1440-ROUND(G10*1440,0))<0.00001),FALSE()),IF(ISNUMBER(H10),AND(H10>=43831,H10<73051,ABS(H10*1440-ROUND(H10*1440,0))<0.00001),FALSE())))),"実施は分単位の開始/終了日時が必須",IF(AND(E10<>"実施",COUNTA(G10:H10)>0),"中止/未確認の開始/終了は空欄",IF(AND(E10="実施",OR(G10<F10,G10>=F10+1,H10<=G10,H10>F10+1,H10>=I10+1)),"時間の順序・活動日/確認日を確認",IF(AND(E10="実施",COUNTIFS($B$8:$B$57,B10,$E$8:$E$57,"実施",$G$8:$G$57,"<"&H10,$H$8:$H$57,">"&G10)>1),"同じ担当の実施時間が重複","確認済み")))))))))))))))),ISNUMBER(M10),M10=IF(L10="確認済み",0,1))),1,IF(M10<>0,0,IF(AND(IF(E10="実施",ISNUMBER(J10),ISTEXT(J10)),J10=IF(E10="実施",ROUND((H10-G10)*1440,0),""),ISNUMBER(K10),K10=IF(AND(B10=日報!$E$3,F10=日報!$B$3),COUNTIFS($B$8:B10,B10,$F$8:F10,F10),0)),0,1)))) -> 0
A11: ACT-0004 | B11: STF-0001 | D11: メール | E11: 中止 | F11: 46311 | I11: 46311 | J11: =IF(L11="","",IF(M11<>0,NA(),IF(E11="実施",ROUND((H11-G11)*1440,0),""))) | K11: =IF(L11="","",IF(M11<>0,NA(),IF(AND(B11=日報!$E$3,F11=日報!$B$3),COUNTIFS($B$8:B11,B11,$F$8:F11,F11),0))) -> 4 | L11: =IF(COUNTA(A11:I11)=0,"",IF(NOT(AND(ISTEXT(A11),LEN(A11)=8,EXACT(LEFT(A11,4),"ACT-"),ISNUMBER(FIND(MID(A11,5,1)&"x","0x1x2x3x4x5x6x7x8x9x")),ISNUMBER(FIND(MID(A11,6,1)&"x","0x1x2x3x4x5x6x7x8x9x")),ISNUMBER(FIND(MID(A11,7,1)&"x","0x1x2x3x4x5x6x7x8x9x")),ISNUMBER(FIND(MID(A11,8,1)&"x","0x1x2x3x4x5x6x7x8x9x")))),"活動IDはACT-と半角数字4桁",IF(COUNTIFS($A$8:$A$57,A11)>1,"活動IDが重複",IF(NOT(AND(ISTEXT(B11),LEN(B11)=8,EXACT(LEFT(B11,4),"STF-"),ISNUMBER(FIND(MID(B11,5,1)&"x","0x1x2x3x4x5x6x7x8x9x")),ISNUMBER(FIND(MID(B11,6,1)&"x","0x1x2x3x4x5x6x7x8x9x")),ISNUMBER(FIND(MID(B11,7,1)&"x","0x1x2x3x4x5x6x7x8x9x")),ISNUMBER(FIND(MID(B11,8,1)&"x","0x1x2x3x4x5x6x7x8x9x")))),"担当IDの形式を確認",IF(COUNTIFS(登録ID!$F$8:$F$27,B11)<>1,"担当が未登録/重複",IF(AND(COUNTA(C11)>0,NOT(AND(ISTEXT(C11),LEN(C11)=8,EXACT(LEFT(C11,4),"CUS-"),ISNUMBER(FIND(MID(C11,5,1)&"x","0x1x2x3x4x5x6x7x8x9x")),ISNUMBER(FIND(MID(C11,6,1)&"x","0x1x2x3x4x5x6x7x8x9x")),ISNUMBER(FIND(MID(C11,7,1)&"x","0x1x2x3x4x5x6x7x8x9x")),ISNUMBER(FIND(MID(C11,8,1)&"x","0x1x2x3x4x5x6x7x8x9x"))))),"顧客IDの形式を確認",IF(AND(COUNTA(C11)>0,COUNTIFS(登録ID!$A$8:$A$57,C11)<>1),"顧客が未登録/重複",IF(NOT(OR(D11="訪問",D11="オンライン",D11="電話",D11="メール",D11="事務",D11="その他")),"活動種別を確認",IF(NOT(OR(E11="実施",E11="中止",E11="未確認")),"実施区分を確認",IF(NOT(IF(ISNUMBER(F11),AND(F11>=43831,F11<73051,F11=INT(F11)),FALSE())),"活動日は時刻なしで必須",IF(NOT(IF(ISNUMBER(I11),AND(I11>=43831,I11<73051,I11=INT(I11)),FALSE())),"記録確認日は時刻なしで必須",IF(OR(F11>I11,I11>日報!$H$3),"活動日≦確認日≦基準日を確認",IF(AND(E11="実施",NOT(AND(IF(ISNUMBER(G11),AND(G11>=43831,G11<73051,ABS(G11*1440-ROUND(G11*1440,0))<0.00001),FALSE()),IF(ISNUMBER(H11),AND(H11>=43831,H11<73051,ABS(H11*1440-ROUND(H11*1440,0))<0.00001),FALSE())))),"実施は分単位の開始/終了日時が必須",IF(AND(E11<>"実施",COUNTA(G11:H11)>0),"中止/未確認の開始/終了は空欄",IF(AND(E11="実施",OR(G11<F11,G11>=F11+1,H11<=G11,H11>F11+1,H11>=I11+1)),"時間の順序・活動日/確認日を確認",IF(AND(E11="実施",COUNTIFS($B$8:$B$57,B11,$E$8:$E$57,"実施",$G$8:$G$57,"<"&H11,$H$8:$H$57,">"&G11)>1),"同じ担当の実施時間が重複","確認済み")))))))))))))))) -> 確認済み | M11: =IF(L11="","",IF(L11="確認済み",0,1)) -> 0 | N11: =IF(COUNTA(A11:I11)=0,IF(AND(L11="",M11="",J11="",K11=""),0,1),IF(NOT(AND(ISTEXT(L11),L11=IF(COUNTA(A11:I11)=0,"",IF(NOT(AND(ISTEXT(A11),LEN(A11)=8,EXACT(LEFT(A11,4),"ACT-"),ISNUMBER(FIND(MID(A11,5,1)&"x","0x1x2x3x4x5x6x7x8x9x")),ISNUMBER(FIND(MID(A11,6,1)&"x","0x1x2x3x4x5x6x7x8x9x")),ISNUMBER(FIND(MID(A11,7,1)&"x","0x1x2x3x4x5x6x7x8x9x")),ISNUMBER(FIND(MID(A11,8,1)&"x","0x1x2x3x4x5x6x7x8x9x")))),"活動IDはACT-と半角数字4桁",IF(COUNTIFS($A$8:$A$57,A11)>1,"活動IDが重複",IF(NOT(AND(ISTEXT(B11),LEN(B11)=8,EXACT(LEFT(B11,4),"STF-"),ISNUMBER(FIND(MID(B11,5,1)&"x","0x1x2x3x4x5x6x7x8x9x")),ISNUMBER(FIND(MID(B11,6,1)&"x","0x1x2x3x4x5x6x7x8x9x")),ISNUMBER(FIND(MID(B11,7,1)&"x","0x1x2x3x4x5x6x7x8x9x")),ISNUMBER(FIND(MID(B11,8,1)&"x","0x1x2x3x4x5x6x7x8x9x")))),"担当IDの形式を確認",IF(COUNTIFS(登録ID!$F$8:$F$27,B11)<>1,"担当が未登録/重複",IF(AND(COUNTA(C11)>0,NOT(AND(ISTEXT(C11),LEN(C11)=8,EXACT(LEFT(C11,4),"CUS-"),ISNUMBER(FIND(MID(C11,5,1)&"x","0x1x2x3x4x5x6x7x8x9x")),ISNUMBER(FIND(MID(C11,6,1)&"x","0x1x2x3x4x5x6x7x8x9x")),ISNUMBER(FIND(MID(C11,7,1)&"x","0x1x2x3x4x5x6x7x8x9x")),ISNUMBER(FIND(MID(C11,8,1)&"x","0x1x2x3x4x5x6x7x8x9x"))))),"顧客IDの形式を確認",IF(AND(COUNTA(C11)>0,COUNTIFS(登録ID!$A$8:$A$57,C11)<>1),"顧客が未登録/重複",IF(NOT(OR(D11="訪問",D11="オンライン",D11="電話",D11="メール",D11="事務",D11="その他")),"活動種別を確認",IF(NOT(OR(E11="実施",E11="中止",E11="未確認")),"実施区分を確認",IF(NOT(IF(ISNUMBER(F11),AND(F11>=43831,F11<73051,F11=INT(F11)),FALSE())),"活動日は時刻なしで必須",IF(NOT(IF(ISNUMBER(I11),AND(I11>=43831,I11<73051,I11=INT(I11)),FALSE())),"記録確認日は時刻なしで必須",IF(OR(F11>I11,I11>日報!$H$3),"活動日≦確認日≦基準日を確認",IF(AND(E11="実施",NOT(AND(IF(ISNUMBER(G11),AND(G11>=43831,G11<73051,ABS(G11*1440-ROUND(G11*1440,0))<0.00001),FALSE()),IF(ISNUMBER(H11),AND(H11>=43831,H11<73051,ABS(H11*1440-ROUND(H11*1440,0))<0.00001),FALSE())))),"実施は分単位の開始/終了日時が必須",IF(AND(E11<>"実施",COUNTA(G11:H11)>0),"中止/未確認の開始/終了は空欄",IF(AND(E11="実施",OR(G11<F11,G11>=F11+1,H11<=G11,H11>F11+1,H11>=I11+1)),"時間の順序・活動日/確認日を確認",IF(AND(E11="実施",COUNTIFS($B$8:$B$57,B11,$E$8:$E$57,"実施",$G$8:$G$57,"<"&H11,$H$8:$H$57,">"&G11)>1),"同じ担当の実施時間が重複","確認済み")))))))))))))))),ISNUMBER(M11),M11=IF(L11="確認済み",0,1))),1,IF(M11<>0,0,IF(AND(IF(E11="実施",ISNUMBER(J11),ISTEXT(J11)),J11=IF(E11="実施",ROUND((H11-G11)*1440,0),""),ISNUMBER(K11),K11=IF(AND(B11=日報!$E$3,F11=日報!$B$3),COUNTIFS($B$8:B11,B11,$F$8:F11,F11),0)),0,1)))) -> 0
A12: ACT-0005 | B12: STF-0001 | C12: CUS-0003 | D12: 電話 | E12: 未確認 | F12: 46311 | I12: 46312 | J12: =IF(L12="","",IF(M12<>0,NA(),IF(E12="実施",ROUND((H12-G12)*1440,0),""))) | K12: =IF(L12="","",IF(M12<>0,NA(),IF(AND(B12=日報!$E$3,F12=日報!$B$3),COUNTIFS($B$8:B12,B12,$F$8:F12,F12),0))) -> 5 | L12: =IF(COUNTA(A12:I12)=0,"",IF(NOT(AND(ISTEXT(A12),LEN(A12)=8,EXACT(LEFT(A12,4),"ACT-"),ISNUMBER(FIND(MID(A12,5,1)&"x","0x1x2x3x4x5x6x7x8x9x")),ISNUMBER(FIND(MID(A12,6,1)&"x","0x1x2x3x4x5x6x7x8x9x")),ISNUMBER(FIND(MID(A12,7,1)&"x","0x1x2x3x4x5x6x7x8x9x")),ISNUMBER(FIND(MID(A12,8,1)&"x","0x1x2x3x4x5x6x7x8x9x")))),"活動IDはACT-と半角数字4桁",IF(COUNTIFS($A$8:$A$57,A12)>1,"活動IDが重複",IF(NOT(AND(ISTEXT(B12),LEN(B12)=8,EXACT(LEFT(B12,4),"STF-"),ISNUMBER(FIND(MID(B12,5,1)&"x","0x1x2x3x4x5x6x7x8x9x")),ISNUMBER(FIND(MID(B12,6,1)&"x","0x1x2x3x4x5x6x7x8x9x")),ISNUMBER(FIND(MID(B12,7,1)&"x","0x1x2x3x4x5x6x7x8x9x")),ISNUMBER(FIND(MID(B12,8,1)&"x","0x1x2x3x4x5x6x7x8x9x")))),"担当IDの形式を確認",IF(COUNTIFS(登録ID!$F$8:$F$27,B12)<>1,"担当が未登録/重複",IF(AND(COUNTA(C12)>0,NOT(AND(ISTEXT(C12),LEN(C12)=8,EXACT(LEFT(C12,4),"CUS-"),ISNUMBER(FIND(MID(C12,5,1)&"x","0x1x2x3x4x5x6x7x8x9x")),ISNUMBER(FIND(MID(C12,6,1)&"x","0x1x2x3x4x5x6x7x8x9x")),ISNUMBER(FIND(MID(C12,7,1)&"x","0x1x2x3x4x5x6x7x8x9x")),ISNUMBER(FIND(MID(C12,8,1)&"x","0x1x2x3x4x5x6x7x8x9x"))))),"顧客IDの形式を確認",IF(AND(COUNTA(C12)>0,COUNTIFS(登録ID!$A$8:$A$57,C12)<>1),"顧客が未登録/重複",IF(NOT(OR(D12="訪問",D12="オンライン",D12="電話",D12="メール",D12="事務",D12="その他")),"活動種別を確認",IF(NOT(OR(E12="実施",E12="中止",E12="未確認")),"実施区分を確認",IF(NOT(IF(ISNUMBER(F12),AND(F12>=43831,F12<73051,F12=INT(F12)),FALSE())),"活動日は時刻なしで必須",IF(NOT(IF(ISNUMBER(I12),AND(I12>=43831,I12<73051,I12=INT(I12)),FALSE())),"記録確認日は時刻なしで必須",IF(OR(F12>I12,I12>日報!$H$3),"活動日≦確認日≦基準日を確認",IF(AND(E12="実施",NOT(AND(IF(ISNUMBER(G12),AND(G12>=43831,G12<73051,ABS(G12*1440-ROUND(G12*1440,0))<0.00001),FALSE()),IF(ISNUMBER(H12),AND(H12>=43831,H12<73051,ABS(H12*1440-ROUND(H12*1440,0))<0.00001),FALSE())))),"実施は分単位の開始/終了日時が必須",IF(AND(E12<>"実施",COUNTA(G12:H12)>0),"中止/未確認の開始/終了は空欄",IF(AND(E12="実施",OR(G12<F12,G12>=F12+1,H12<=G12,H12>F12+1,H12>=I12+1)),"時間の順序・活動日/確認日を確認",IF(AND(E12="実施",COUNTIFS($B$8:$B$57,B12,$E$8:$E$57,"実施",$G$8:$G$57,"<"&H12,$H$8:$H$57,">"&G12)>1),"同じ担当の実施時間が重複","確認済み")))))))))))))))) -> 確認済み | M12: =IF(L12="","",IF(L12="確認済み",0,1)) -> 0 | N12: =IF(COUNTA(A12:I12)=0,IF(AND(L12="",M12="",J12="",K12=""),0,1),IF(NOT(AND(ISTEXT(L12),L12=IF(COUNTA(A12:I12)=0,"",IF(NOT(AND(ISTEXT(A12),LEN(A12)=8,EXACT(LEFT(A12,4),"ACT-"),ISNUMBER(FIND(MID(A12,5,1)&"x","0x1x2x3x4x5x6x7x8x9x")),ISNUMBER(FIND(MID(A12,6,1)&"x","0x1x2x3x4x5x6x7x8x9x")),ISNUMBER(FIND(MID(A12,7,1)&"x","0x1x2x3x4x5x6x7x8x9x")),ISNUMBER(FIND(MID(A12,8,1)&"x","0x1x2x3x4x5x6x7x8x9x")))),"活動IDはACT-と半角数字4桁",IF(COUNTIFS($A$8:$A$57,A12)>1,"活動IDが重複",IF(NOT(AND(ISTEXT(B12),LEN(B12)=8,EXACT(LEFT(B12,4),"STF-"),ISNUMBER(FIND(MID(B12,5,1)&"x","0x1x2x3x4x5x6x7x8x9x")),ISNUMBER(FIND(MID(B12,6,1)&"x","0x1x2x3x4x5x6x7x8x9x")),ISNUMBER(FIND(MID(B12,7,1)&"x","0x1x2x3x4x5x6x7x8x9x")),ISNUMBER(FIND(MID(B12,8,1)&"x","0x1x2x3x4x5x6x7x8x9x")))),"担当IDの形式を確認",IF(COUNTIFS(登録ID!$F$8:$F$27,B12)<>1,"担当が未登録/重複",IF(AND(COUNTA(C12)>0,NOT(AND(ISTEXT(C12),LEN(C12)=8,EXACT(LEFT(C12,4),"CUS-"),ISNUMBER(FIND(MID(C12,5,1)&"x","0x1x2x3x4x5x6x7x8x9x")),ISNUMBER(FIND(MID(C12,6,1)&"x","0x1x2x3x4x5x6x7x8x9x")),ISNUMBER(FIND(MID(C12,7,1)&"x","0x1x2x3x4x5x6x7x8x9x")),ISNUMBER(FIND(MID(C12,8,1)&"x","0x1x2x3x4x5x6x7x8x9x"))))),"顧客IDの形式を確認",IF(AND(COUNTA(C12)>0,COUNTIFS(登録ID!$A$8:$A$57,C12)<>1),"顧客が未登録/重複",IF(NOT(OR(D12="訪問",D12="オンライン",D12="電話",D12="メール",D12="事務",D12="その他")),"活動種別を確認",IF(NOT(OR(E12="実施",E12="中止",E12="未確認")),"実施区分を確認",IF(NOT(IF(ISNUMBER(F12),AND(F12>=43831,F12<73051,F12=INT(F12)),FALSE())),"活動日は時刻なしで必須",IF(NOT(IF(ISNUMBER(I12),AND(I12>=43831,I12<73051,I12=INT(I12)),FALSE())),"記録確認日は時刻なしで必須",IF(OR(F12>I12,I12>日報!$H$3),"活動日≦確認日≦基準日を確認",IF(AND(E12="実施",NOT(AND(IF(ISNUMBER(G12),AND(G12>=43831,G12<73051,ABS(G12*1440-ROUND(G12*1440,0))<0.00001),FALSE()),IF(ISNUMBER(H12),AND(H12>=43831,H12<73051,ABS(H12*1440-ROUND(H12*1440,0))<0.00001),FALSE())))),"実施は分単位の開始/終了日時が必須",IF(AND(E12<>"実施",COUNTA(G12:H12)>0),"中止/未確認の開始/終了は空欄",IF(AND(E12="実施",OR(G12<F12,G12>=F12+1,H12<=G12,H12>F12+1,H12>=I12+1)),"時間の順序・活動日/確認日を確認",IF(AND(E12="実施",COUNTIFS($B$8:$B$57,B12,$E$8:$E$57,"実施",$G$8:$G$57,"<"&H12,$H$8:$H$57,">"&G12)>1),"同じ担当の実施時間が重複","確認済み")))))))))))))))),ISNUMBER(M12),M12=IF(L12="確認済み",0,1))),1,IF(M12<>0,0,IF(AND(IF(E12="実施",ISNUMBER(J12),ISTEXT(J12)),J12=IF(E12="実施",ROUND((H12-G12)*1440,0),""),ISNUMBER(K12),K12=IF(AND(B12=日報!$E$3,F12=日報!$B$3),COUNTIFS($B$8:B12,B12,$F$8:F12,F12),0)),0,1)))) -> 0
A13: ACT-0006 | B13: STF-0002 | C13: CUS-0003 | D13: 訪問 | E13: 実施 | F13: 46311 | G13: 46311.375 | H13: 46311.417 | I13: 46311 | J13: =IF(L13="","",IF(M13<>0,NA(),IF(E13="実施",ROUND((H13-G13)*1440,0),""))) -> 60 | K13: =IF(L13="","",IF(M13<>0,NA(),IF(AND(B13=日報!$E$3,F13=日報!$B$3),COUNTIFS($B$8:B13,B13,$F$8:F13,F13),0))) -> 0 | L13: =IF(COUNTA(A13:I13)=0,"",IF(NOT(AND(ISTEXT(A13),LEN(A13)=8,EXACT(LEFT(A13,4),"ACT-"),ISNUMBER(FIND(MID(A13,5,1)&"x","0x1x2x3x4x5x6x7x8x9x")),ISNUMBER(FIND(MID(A13,6,1)&"x","0x1x2x3x4x5x6x7x8x9x")),ISNUMBER(FIND(MID(A13,7,1)&"x","0x1x2x3x4x5x6x7x8x9x")),ISNUMBER(FIND(MID(A13,8,1)&"x","0x1x2x3x4x5x6x7x8x9x")))),"活動IDはACT-と半角数字4桁",IF(COUNTIFS($A$8:$A$57,A13)>1,"活動IDが重複",IF(NOT(AND(ISTEXT(B13),LEN(B13)=8,EXACT(LEFT(B13,4),"STF-"),ISNUMBER(FIND(MID(B13,5,1)&"x","0x1x2x3x4x5x6x7x8x9x")),ISNUMBER(FIND(MID(B13,6,1)&"x","0x1x2x3x4x5x6x7x8x9x")),ISNUMBER(FIND(MID(B13,7,1)&"x","0x1x2x3x4x5x6x7x8x9x")),ISNUMBER(FIND(MID(B13,8,1)&"x","0x1x2x3x4x5x6x7x8x9x")))),"担当IDの形式を確認",IF(COUNTIFS(登録ID!$F$8:$F$27,B13)<>1,"担当が未登録/重複",IF(AND(COUNTA(C13)>0,NOT(AND(ISTEXT(C13),LEN(C13)=8,EXACT(LEFT(C13,4),"CUS-"),ISNUMBER(FIND(MID(C13,5,1)&"x","0x1x2x3x4x5x6x7x8x9x")),ISNUMBER(FIND(MID(C13,6,1)&"x","0x1x2x3x4x5x6x7x8x9x")),ISNUMBER(FIND(MID(C13,7,1)&"x","0x1x2x3x4x5x6x7x8x9x")),ISNUMBER(FIND(MID(C13,8,1)&"x","0x1x2x3x4x5x6x7x8x9x"))))),"顧客IDの形式を確認",IF(AND(COUNTA(C13)>0,COUNTIFS(登録ID!$A$8:$A$57,C13)<>1),"顧客が未登録/重複",IF(NOT(OR(D13="訪問",D13="オンライン",D13="電話",D13="メール",D13="事務",D13="その他")),"活動種別を確認",IF(NOT(OR(E13="実施",E13="中止",E13="未確認")),"実施区分を確認",IF(NOT(IF(ISNUMBER(F13),AND(F13>=43831,F13<73051,F13=INT(F13)),FALSE())),"活動日は時刻なしで必須",IF(NOT(IF(ISNUMBER(I13),AND(I13>=43831,I13<73051,I13=INT(I13)),FALSE())),"記録確認日は時刻なしで必須",IF(OR(F13>I13,I13>日報!$H$3),"活動日≦確認日≦基準日を確認",IF(AND(E13="実施",NOT(AND(IF(ISNUMBER(G13),AND(G13>=43831,G13<73051,ABS(G13*1440-ROUND(G13*1440,0))<0.00001),FALSE()),IF(ISNUMBER(H13),AND(H13>=43831,H13<73051,ABS(H13*1440-ROUND(H13*1440,0))<0.00001),FALSE())))),"実施は分単位の開始/終了日時が必須",IF(AND(E13<>"実施",COUNTA(G13:H13)>0),"中止/未確認の開始/終了は空欄",IF(AND(E13="実施",OR(G13<F13,G13>=F13+1,H13<=G13,H13>F13+1,H13>=I13+1)),"時間の順序・活動日/確認日を確認",IF(AND(E13="実施",COUNTIFS($B$8:$B$57,B13,$E$8:$E$57,"実施",$G$8:$G$57,"<"&H13,$H$8:$H$57,">"&G13)>1),"同じ担当の実施時間が重複","確認済み")))))))))))))))) -> 確認済み | M13: =IF(L13="","",IF(L13="確認済み",0,1)) -> 0 | N13: =IF(COUNTA(A13:I13)=0,IF(AND(L13="",M13="",J13="",K13=""),0,1),IF(NOT(AND(ISTEXT(L13),L13=IF(COUNTA(A13:I13)=0,"",IF(NOT(AND(ISTEXT(A13),LEN(A13)=8,EXACT(LEFT(A13,4),"ACT-"),ISNUMBER(FIND(MID(A13,5,1)&"x","0x1x2x3x4x5x6x7x8x9x")),ISNUMBER(FIND(MID(A13,6,1)&"x","0x1x2x3x4x5x6x7x8x9x")),ISNUMBER(FIND(MID(A13,7,1)&"x","0x1x2x3x4x5x6x7x8x9x")),ISNUMBER(FIND(MID(A13,8,1)&"x","0x1x2x3x4x5x6x7x8x9x")))),"活動IDはACT-と半角数字4桁",IF(COUNTIFS($A$8:$A$57,A13)>1,"活動IDが重複",IF(NOT(AND(ISTEXT(B13),LEN(B13)=8,EXACT(LEFT(B13,4),"STF-"),ISNUMBER(FIND(MID(B13,5,1)&"x","0x1x2x3x4x5x6x7x8x9x")),ISNUMBER(FIND(MID(B13,6,1)&"x","0x1x2x3x4x5x6x7x8x9x")),ISNUMBER(FIND(MID(B13,7,1)&"x","0x1x2x3x4x5x6x7x8x9x")),ISNUMBER(FIND(MID(B13,8,1)&"x","0x1x2x3x4x5x6x7x8x9x")))),"担当IDの形式を確認",IF(COUNTIFS(登録ID!$F$8:$F$27,B13)<>1,"担当が未登録/重複",IF(AND(COUNTA(C13)>0,NOT(AND(ISTEXT(C13),LEN(C13)=8,EXACT(LEFT(C13,4),"CUS-"),ISNUMBER(FIND(MID(C13,5,1)&"x","0x1x2x3x4x5x6x7x8x9x")),ISNUMBER(FIND(MID(C13,6,1)&"x","0x1x2x3x4x5x6x7x8x9x")),ISNUMBER(FIND(MID(C13,7,1)&"x","0x1x2x3x4x5x6x7x8x9x")),ISNUMBER(FIND(MID(C13,8,1)&"x","0x1x2x3x4x5x6x7x8x9x"))))),"顧客IDの形式を確認",IF(AND(COUNTA(C13)>0,COUNTIFS(登録ID!$A$8:$A$57,C13)<>1),"顧客が未登録/重複",IF(NOT(OR(D13="訪問",D13="オンライン",D13="電話",D13="メール",D13="事務",D13="その他")),"活動種別を確認",IF(NOT(OR(E13="実施",E13="中止",E13="未確認")),"実施区分を確認",IF(NOT(IF(ISNUMBER(F13),AND(F13>=43831,F13<73051,F13=INT(F13)),FALSE())),"活動日は時刻なしで必須",IF(NOT(IF(ISNUMBER(I13),AND(I13>=43831,I13<73051,I13=INT(I13)),FALSE())),"記録確認日は時刻なしで必須",IF(OR(F13>I13,I13>日報!$H$3),"活動日≦確認日≦基準日を確認",IF(AND(E13="実施",NOT(AND(IF(ISNUMBER(G13),AND(G13>=43831,G13<73051,ABS(G13*1440-ROUND(G13*1440,0))<0.00001),FALSE()),IF(ISNUMBER(H13),AND(H13>=43831,H13<73051,ABS(H13*1440-ROUND(H13*1440,0))<0.00001),FALSE())))),"実施は分単位の開始/終了日時が必須",IF(AND(E13<>"実施",COUNTA(G13:H13)>0),"中止/未確認の開始/終了は空欄",IF(AND(E13="実施",OR(G13<F13,G13>=F13+1,H13<=G13,H13>F13+1,H13>=I13+1)),"時間の順序・活動日/確認日を確認",IF(AND(E13="実施",COUNTIFS($B$8:$B$57,B13,$E$8:$E$57,"実施",$G$8:$G$57,"<"&H13,$H$8:$H$57,">"&G13)>1),"同じ担当の実施時間が重複","確認済み")))))))))))))))),ISNUMBER(M13),M13=IF(L13="確認済み",0,1))),1,IF(M13<>0,0,IF(AND(IF(E13="実施",ISNUMBER(J13),ISTEXT(J13)),J13=IF(E13="実施",ROUND((H13-G13)*1440,0),""),ISNUMBER(K13),K13=IF(AND(B13=日報!$E$3,F13=日報!$B$3),COUNTIFS($B$8:B13,B13,$F$8:F13,F13),0)),0,1)))) -> 0
A14: ACT-0007 | B14: STF-0001 | D14: 事務 | E14: 実施 | F14: 46310 | G14: 46310.979 | H14: 46311 | I14: 46311 | J14: =IF(L14="","",IF(M14<>0,NA(),IF(E14="実施",ROUND((H14-G14)*1440,0),""))) -> 30 | K14: =IF(L14="","",IF(M14<>0,NA(),IF(AND(B14=日報!$E$3,F14=日報!$B$3),COUNTIFS($B$8:B14,B14,$F$8:F14,F14),0))) -> 0 | L14: =IF(COUNTA(A14:I14)=0,"",IF(NOT(AND(ISTEXT(A14),LEN(A14)=8,EXACT(LEFT(A14,4),"ACT-"),ISNUMBER(FIND(MID(A14,5,1)&"x","0x1x2x3x4x5x6x7x8x9x")),ISNUMBER(FIND(MID(A14,6,1)&"x","0x1x2x3x4x5x6x7x8x9x")),ISNUMBER(FIND(MID(A14,7,1)&"x","0x1x2x3x4x5x6x7x8x9x")),ISNUMBER(FIND(MID(A14,8,1)&"x","0x1x2x3x4x5x6x7x8x9x")))),"活動IDはACT-と半角数字4桁",IF(COUNTIFS($A$8:$A$57,A14)>1,"活動IDが重複",IF(NOT(AND(ISTEXT(B14),LEN(B14)=8,EXACT(LEFT(B14,4),"STF-"),ISNUMBER(FIND(MID(B14,5,1)&"x","0x1x2x3x4x5x6x7x8x9x")),ISNUMBER(FIND(MID(B14,6,1)&"x","0x1x2x3x4x5x6x7x8x9x")),ISNUMBER(FIND(MID(B14,7,1)&"x","0x1x2x3x4x5x6x7x8x9x")),ISNUMBER(FIND(MID(B14,8,1)&"x","0x1x2x3x4x5x6x7x8x9x")))),"担当IDの形式を確認",IF(COUNTIFS(登録ID!$F$8:$F$27,B14)<>1,"担当が未登録/重複",IF(AND(COUNTA(C14)>0,NOT(AND(ISTEXT(C14),LEN(C14)=8,EXACT(LEFT(C14,4),"CUS-"),ISNUMBER(FIND(MID(C14,5,1)&"x","0x1x2x3x4x5x6x7x8x9x")),ISNUMBER(FIND(MID(C14,6,1)&"x","0x1x2x3x4x5x6x7x8x9x")),ISNUMBER(FIND(MID(C14,7,1)&"x","0x1x2x3x4x5x6x7x8x9x")),ISNUMBER(FIND(MID(C14,8,1)&"x","0x1x2x3x4x5x6x7x8x9x"))))),"顧客IDの形式を確認",IF(AND(COUNTA(C14)>0,COUNTIFS(登録ID!$A$8:$A$57,C14)<>1),"顧客が未登録/重複",IF(NOT(OR(D14="訪問",D14="オンライン",D14="電話",D14="メール",D14="事務",D14="その他")),"活動種別を確認",IF(NOT(OR(E14="実施",E14="中止",E14="未確認")),"実施区分を確認",IF(NOT(IF(ISNUMBER(F14),AND(F14>=43831,F14<73051,F14=INT(F14)),FALSE())),"活動日は時刻なしで必須",IF(NOT(IF(ISNUMBER(I14),AND(I14>=43831,I14<73051,I14=INT(I14)),FALSE())),"記録確認日は時刻なしで必須",IF(OR(F14>I14,I14>日報!$H$3),"活動日≦確認日≦基準日を確認",IF(AND(E14="実施",NOT(AND(IF(ISNUMBER(G14),AND(G14>=43831,G14<73051,ABS(G14*1440-ROUND(G14*1440,0))<0.00001),FALSE()),IF(ISNUMBER(H14),AND(H14>=43831,H14<73051,ABS(H14*1440-ROUND(H14*1440,0))<0.00001),FALSE())))),"実施は分単位の開始/終了日時が必須",IF(AND(E14<>"実施",COUNTA(G14:H14)>0),"中止/未確認の開始/終了は空欄",IF(AND(E14="実施",OR(G14<F14,G14>=F14+1,H14<=G14,H14>F14+1,H14>=I14+1)),"時間の順序・活動日/確認日を確認",IF(AND(E14="実施",COUNTIFS($B$8:$B$57,B14,$E$8:$E$57,"実施",$G$8:$G$57,"<"&H14,$H$8:$H$57,">"&G14)>1),"同じ担当の実施時間が重複","確認済み")))))))))))))))) -> 確認済み | M14: =IF(L14="","",IF(L14="確認済み",0,1)) -> 0 | N14: =IF(COUNTA(A14:I14)=0,IF(AND(L14="",M14="",J14="",K14=""),0,1),IF(NOT(AND(ISTEXT(L14),L14=IF(COUNTA(A14:I14)=0,"",IF(NOT(AND(ISTEXT(A14),LEN(A14)=8,EXACT(LEFT(A14,4),"ACT-"),ISNUMBER(FIND(MID(A14,5,1)&"x","0x1x2x3x4x5x6x7x8x9x")),ISNUMBER(FIND(MID(A14,6,1)&"x","0x1x2x3x4x5x6x7x8x9x")),ISNUMBER(FIND(MID(A14,7,1)&"x","0x1x2x3x4x5x6x7x8x9x")),ISNUMBER(FIND(MID(A14,8,1)&"x","0x1x2x3x4x5x6x7x8x9x")))),"活動IDはACT-と半角数字4桁",IF(COUNTIFS($A$8:$A$57,A14)>1,"活動IDが重複",IF(NOT(AND(ISTEXT(B14),LEN(B14)=8,EXACT(LEFT(B14,4),"STF-"),ISNUMBER(FIND(MID(B14,5,1)&"x","0x1x2x3x4x5x6x7x8x9x")),ISNUMBER(FIND(MID(B14,6,1)&"x","0x1x2x3x4x5x6x7x8x9x")),ISNUMBER(FIND(MID(B14,7,1)&"x","0x1x2x3x4x5x6x7x8x9x")),ISNUMBER(FIND(MID(B14,8,1)&"x","0x1x2x3x4x5x6x7x8x9x")))),"担当IDの形式を確認",IF(COUNTIFS(登録ID!$F$8:$F$27,B14)<>1,"担当が未登録/重複",IF(AND(COUNTA(C14)>0,NOT(AND(ISTEXT(C14),LEN(C14)=8,EXACT(LEFT(C14,4),"CUS-"),ISNUMBER(FIND(MID(C14,5,1)&"x","0x1x2x3x4x5x6x7x8x9x")),ISNUMBER(FIND(MID(C14,6,1)&"x","0x1x2x3x4x5x6x7x8x9x")),ISNUMBER(FIND(MID(C14,7,1)&"x","0x1x2x3x4x5x6x7x8x9x")),ISNUMBER(FIND(MID(C14,8,1)&"x","0x1x2x3x4x5x6x7x8x9x"))))),"顧客IDの形式を確認",IF(AND(COUNTA(C14)>0,COUNTIFS(登録ID!$A$8:$A$57,C14)<>1),"顧客が未登録/重複",IF(NOT(OR(D14="訪問",D14="オンライン",D14="電話",D14="メール",D14="事務",D14="その他")),"活動種別を確認",IF(NOT(OR(E14="実施",E14="中止",E14="未確認")),"実施区分を確認",IF(NOT(IF(ISNUMBER(F14),AND(F14>=43831,F14<73051,F14=INT(F14)),FALSE())),"活動日は時刻なしで必須",IF(NOT(IF(ISNUMBER(I14),AND(I14>=43831,I14<73051,I14=INT(I14)),FALSE())),"記録確認日は時刻なしで必須",IF(OR(F14>I14,I14>日報!$H$3),"活動日≦確認日≦基準日を確認",IF(AND(E14="実施",NOT(AND(IF(ISNUMBER(G14),AND(G14>=43831,G14<73051,ABS(G14*1440-ROUND(G14*1440,0))<0.00001),FALSE()),IF(ISNUMBER(H14),AND(H14>=43831,H14<73051,ABS(H14*1440-ROUND(H14*1440,0))<0.00001),FALSE())))),"実施は分単位の開始/終了日時が必須",IF(AND(E14<>"実施",COUNTA(G14:H14)>0),"中止/未確認の開始/終了は空欄",IF(AND(E14="実施",OR(G14<F14,G14>=F14+1,H14<=G14,H14>F14+1,H14>=I14+1)),"時間の順序・活動日/確認日を確認",IF(AND(E14="実施",COUNTIFS($B$8:$B$57,B14,$E$8:$E$57,"実施",$G$8:$G$57,"<"&H14,$H$8:$H$57,">"&G14)>1),"同じ担当の実施時間が重複","確認済み")))))))))))))))),ISNUMBER(M14),M14=IF(L14="確認済み",0,1))),1,IF(M14<>0,0,IF(AND(IF(E14="実施",ISNUMBER(J14),ISTEXT(J14)),J14=IF(E14="実施",ROUND((H14-G14)*1440,0),""),ISNUMBER(K14),K14=IF(AND(B14=日報!$E$3,F14=日報!$B$3),COUNTIFS($B$8:B14,B14,$F$8:F14,F14),0)),0,1)))) -> 0
A15: ACT-0008 | B15: STF-0001 | D15: その他 | E15: 実施 | F15: 46311 | G15: 46311.958 | H15: 46312 | I15: 46312 | J15: =IF(L15="","",IF(M15<>0,NA(),IF(E15="実施",ROUND((H15-G15)*1440,0),""))) -> 60 | K15: =IF(L15="","",IF(M15<>0,NA(),IF(AND(B15=日報!$E$3,F15=日報!$B$3),COUNTIFS($B$8:B15,B15,$F$8:F15,F15),0))) -> 6 | L15: =IF(COUNTA(A15:I15)=0,"",IF(NOT(AND(ISTEXT(A15),LEN(A15)=8,EXACT(LEFT(A15,4),"ACT-"),ISNUMBER(FIND(MID(A15,5,1)&"x","0x1x2x3x4x5x6x7x8x9x")),ISNUMBER(FIND(MID(A15,6,1)&"x","0x1x2x3x4x5x6x7x8x9x")),ISNUMBER(FIND(MID(A15,7,1)&"x","0x1x2x3x4x5x6x7x8x9x")),ISNUMBER(FIND(MID(A15,8,1)&"x","0x1x2x3x4x5x6x7x8x9x")))),"活動IDはACT-と半角数字4桁",IF(COUNTIFS($A$8:$A$57,A15)>1,"活動IDが重複",IF(NOT(AND(ISTEXT(B15),LEN(B15)=8,EXACT(LEFT(B15,4),"STF-"),ISNUMBER(FIND(MID(B15,5,1)&"x","0x1x2x3x4x5x6x7x8x9x")),ISNUMBER(FIND(MID(B15,6,1)&"x","0x1x2x3x4x5x6x7x8x9x")),ISNUMBER(FIND(MID(B15,7,1)&"x","0x1x2x3x4x5x6x7x8x9x")),ISNUMBER(FIND(MID(B15,8,1)&"x","0x1x2x3x4x5x6x7x8x9x")))),"担当IDの形式を確認",IF(COUNTIFS(登録ID!$F$8:$F$27,B15)<>1,"担当が未登録/重複",IF(AND(COUNTA(C15)>0,NOT(AND(ISTEXT(C15),LEN(C15)=8,EXACT(LEFT(C15,4),"CUS-"),ISNUMBER(FIND(MID(C15,5,1)&"x","0x1x2x3x4x5x6x7x8x9x")),ISNUMBER(FIND(MID(C15,6,1)&"x","0x1x2x3x4x5x6x7x8x9x")),ISNUMBER(FIND(MID(C15,7,1)&"x","0x1x2x3x4x5x6x7x8x9x")),ISNUMBER(FIND(MID(C15,8,1)&"x","0x1x2x3x4x5x6x7x8x9x"))))),"顧客IDの形式を確認",IF(AND(COUNTA(C15)>0,COUNTIFS(登録ID!$A$8:$A$57,C15)<>1),"顧客が未登録/重複",IF(NOT(OR(D15="訪問",D15="オンライン",D15="電話",D15="メール",D15="事務",D15="その他")),"活動種別を確認",IF(NOT(OR(E15="実施",E15="中止",E15="未確認")),"実施区分を確認",IF(NOT(IF(ISNUMBER(F15),AND(F15>=43831,F15<73051,F15=INT(F15)),FALSE())),"活動日は時刻なしで必須",IF(NOT(IF(ISNUMBER(I15),AND(I15>=43831,I15<73051,I15=INT(I15)),FALSE())),"記録確認日は時刻なしで必須",IF(OR(F15>I15,I15>日報!$H$3),"活動日≦確認日≦基準日を確認",IF(AND(E15="実施",NOT(AND(IF(ISNUMBER(G15),AND(G15>=43831,G15<73051,ABS(G15*1440-ROUND(G15*1440,0))<0.00001),FALSE()),IF(ISNUMBER(H15),AND(H15>=43831,H15<73051,ABS(H15*1440-ROUND(H15*1440,0))<0.00001),FALSE())))),"実施は分単位の開始/終了日時が必須",IF(AND(E15<>"実施",COUNTA(G15:H15)>0),"中止/未確認の開始/終了は空欄",IF(AND(E15="実施",OR(G15<F15,G15>=F15+1,H15<=G15,H15>F15+1,H15>=I15+1)),"時間の順序・活動日/確認日を確認",IF(AND(E15="実施",COUNTIFS($B$8:$B$57,B15,$E$8:$E$57,"実施",$G$8:$G$57,"<"&H15,$H$8:$H$57,">"&G15)>1),"同じ担当の実施時間が重複","確認済み")))))))))))))))) -> 確認済み | M15: =IF(L15="","",IF(L15="確認済み",0,1)) -> 0 | N15: =IF(COUNTA(A15:I15)=0,IF(AND(L15="",M15="",J15="",K15=""),0,1),IF(NOT(AND(ISTEXT(L15),L15=IF(COUNTA(A15:I15)=0,"",IF(NOT(AND(ISTEXT(A15),LEN(A15)=8,EXACT(LEFT(A15,4),"ACT-"),ISNUMBER(FIND(MID(A15,5,1)&"x","0x1x2x3x4x5x6x7x8x9x")),ISNUMBER(FIND(MID(A15,6,1)&"x","0x1x2x3x4x5x6x7x8x9x")),ISNUMBER(FIND(MID(A15,7,1)&"x","0x1x2x3x4x5x6x7x8x9x")),ISNUMBER(FIND(MID(A15,8,1)&"x","0x1x2x3x4x5x6x7x8x9x")))),"活動IDはACT-と半角数字4桁",IF(COUNTIFS($A$8:$A$57,A15)>1,"活動IDが重複",IF(NOT(AND(ISTEXT(B15),LEN(B15)=8,EXACT(LEFT(B15,4),"STF-"),ISNUMBER(FIND(MID(B15,5,1)&"x","0x1x2x3x4x5x6x7x8x9x")),ISNUMBER(FIND(MID(B15,6,1)&"x","0x1x2x3x4x5x6x7x8x9x")),ISNUMBER(FIND(MID(B15,7,1)&"x","0x1x2x3x4x5x6x7x8x9x")),ISNUMBER(FIND(MID(B15,8,1)&"x","0x1x2x3x4x5x6x7x8x9x")))),"担当IDの形式を確認",IF(COUNTIFS(登録ID!$F$8:$F$27,B15)<>1,"担当が未登録/重複",IF(AND(COUNTA(C15)>0,NOT(AND(ISTEXT(C15),LEN(C15)=8,EXACT(LEFT(C15,4),"CUS-"),ISNUMBER(FIND(MID(C15,5,1)&"x","0x1x2x3x4x5x6x7x8x9x")),ISNUMBER(FIND(MID(C15,6,1)&"x","0x1x2x3x4x5x6x7x8x9x")),ISNUMBER(FIND(MID(C15,7,1)&"x","0x1x2x3x4x5x6x7x8x9x")),ISNUMBER(FIND(MID(C15,8,1)&"x","0x1x2x3x4x5x6x7x8x9x"))))),"顧客IDの形式を確認",IF(AND(COUNTA(C15)>0,COUNTIFS(登録ID!$A$8:$A$57,C15)<>1),"顧客が未登録/重複",IF(NOT(OR(D15="訪問",D15="オンライン",D15="電話",D15="メール",D15="事務",D15="その他")),"活動種別を確認",IF(NOT(OR(E15="実施",E15="中止",E15="未確認")),"実施区分を確認",IF(NOT(IF(ISNUMBER(F15),AND(F15>=43831,F15<73051,F15=INT(F15)),FALSE())),"活動日は時刻なしで必須",IF(NOT(IF(ISNUMBER(I15),AND(I15>=43831,I15<73051,I15=INT(I15)),FALSE())),"記録確認日は時刻なしで必須",IF(OR(F15>I15,I15>日報!$H$3),"活動日≦確認日≦基準日を確認",IF(AND(E15="実施",NOT(AND(IF(ISNUMBER(G15),AND(G15>=43831,G15<73051,ABS(G15*1440-ROUND(G15*1440,0))<0.00001),FALSE()),IF(ISNUMBER(H15),AND(H15>=43831,H15<73051,ABS(H15*1440-ROUND(H15*1440,0))<0.00001),FALSE())))),"実施は分単位の開始/終了日時が必須",IF(AND(E15<>"実施",COUNTA(G15:H15)>0),"中止/未確認の開始/終了は空欄",IF(AND(E15="実施",OR(G15<F15,G15>=F15+1,H15<=G15,H15>F15+1,H15>=I15+1)),"時間の順序・活動日/確認日を確認",IF(AND(E15="実施",COUNTIFS($B$8:$B$57,B15,$E$8:$E$57,"実施",$G$8:$G$57,"<"&H15,$H$8:$H$57,">"&G15)>1),"同じ担当の実施時間が重複","確認済み")))))))))))))))),ISNUMBER(M15),M15=IF(L15="確認済み",0,1))),1,IF(M15<>0,0,IF(AND(IF(E15="実施",ISNUMBER(J15),ISTEXT(J15)),J15=IF(E15="実施",ROUND((H15-G15)*1440,0),""),ISNUMBER(K15),K15=IF(AND(B15=日報!$E$3,F15=日報!$B$3),COUNTIFS($B$8:B15,B15,$F$8:F15,F15),0)),0,1)))) -> 0
A16: ACT-0009 | B16: STF-0001 | D16: 事務 | E16: 実施 | F16: 46311 | G16: 46311.458 | H16: 46311.472 | I16: 46311 | J16: =IF(L16="","",IF(M16<>0,NA(),IF(E16="実施",ROUND((H16-G16)*1440,0),""))) -> 20 | K16: =IF(L16="","",IF(M16<>0,NA(),IF(AND(B16=日報!$E$3,F16=日報!$B$3),COUNTIFS($B$8:B16,B16,$F$8:F16,F16),0))) -> 7 | L16: =IF(COUNTA(A16:I16)=0,"",IF(NOT(AND(ISTEXT(A16),LEN(A16)=8,EXACT(LEFT(A16,4),"ACT-"),ISNUMBER(FIND(MID(A16,5,1)&"x","0x1x2x3x4x5x6x7x8x9x")),ISNUMBER(FIND(MID(A16,6,1)&"x","0x1x2x3x4x5x6x7x8x9x")),ISNUMBER(FIND(MID(A16,7,1)&"x","0x1x2x3x4x5x6x7x8x9x")),ISNUMBER(FIND(MID(A16,8,1)&"x","0x1x2x3x4x5x6x7x8x9x")))),"活動IDはACT-と半角数字4桁",IF(COUNTIFS($A$8:$A$57,A16)>1,"活動IDが重複",IF(NOT(AND(ISTEXT(B16),LEN(B16)=8,EXACT(LEFT(B16,4),"STF-"),ISNUMBER(FIND(MID(B16,5,1)&"x","0x1x2x3x4x5x6x7x8x9x")),ISNUMBER(FIND(MID(B16,6,1)&"x","0x1x2x3x4x5x6x7x8x9x")),ISNUMBER(FIND(MID(B16,7,1)&"x","0x1x2x3x4x5x6x7x8x9x")),ISNUMBER(FIND(MID(B16,8,1)&"x","0x1x2x3x4x5x6x7x8x9x")))),"担当IDの形式を確認",IF(COUNTIFS(登録ID!$F$8:$F$27,B16)<>1,"担当が未登録/重複",IF(AND(COUNTA(C16)>0,NOT(AND(ISTEXT(C16),LEN(C16)=8,EXACT(LEFT(C16,4),"CUS-"),ISNUMBER(FIND(MID(C16,5,1)&"x","0x1x2x3x4x5x6x7x8x9x")),ISNUMBER(FIND(MID(C16,6,1)&"x","0x1x2x3x4x5x6x7x8x9x")),ISNUMBER(FIND(MID(C16,7,1)&"x","0x1x2x3x4x5x6x7x8x9x")),ISNUMBER(FIND(MID(C16,8,1)&"x","0x1x2x3x4x5x6x7x8x9x"))))),"顧客IDの形式を確認",IF(AND(COUNTA(C16)>0,COUNTIFS(登録ID!$A$8:$A$57,C16)<>1),"顧客が未登録/重複",IF(NOT(OR(D16="訪問",D16="オンライン",D16="電話",D16="メール",D16="事務",D16="その他")),"活動種別を確認",IF(NOT(OR(E16="実施",E16="中止",E16="未確認")),"実施区分を確認",IF(NOT(IF(ISNUMBER(F16),AND(F16>=43831,F16<73051,F16=INT(F16)),FALSE())),"活動日は時刻なしで必須",IF(NOT(IF(ISNUMBER(I16),AND(I16>=43831,I16<73051,I16=INT(I16)),FALSE())),"記録確認日は時刻なしで必須",IF(OR(F16>I16,I16>日報!$H$3),"活動日≦確認日≦基準日を確認",IF(AND(E16="実施",NOT(AND(IF(ISNUMBER(G16),AND(G16>=43831,G16<73051,ABS(G16*1440-ROUND(G16*1440,0))<0.00001),FALSE()),IF(ISNUMBER(H16),AND(H16>=43831,H16<73051,ABS(H16*1440-ROUND(H16*1440,0))<0.00001),FALSE())))),"実施は分単位の開始/終了日時が必須",IF(AND(E16<>"実施",COUNTA(G16:H16)>0),"中止/未確認の開始/終了は空欄",IF(AND(E16="実施",OR(G16<F16,G16>=F16+1,H16<=G16,H16>F16+1,H16>=I16+1)),"時間の順序・活動日/確認日を確認",IF(AND(E16="実施",COUNTIFS($B$8:$B$57,B16,$E$8:$E$57,"実施",$G$8:$G$57,"<"&H16,$H$8:$H$57,">"&G16)>1),"同じ担当の実施時間が重複","確認済み")))))))))))))))) -> 確認済み | M16: =IF(L16="","",IF(L16="確認済み",0,1)) -> 0 | N16: =IF(COUNTA(A16:I16)=0,IF(AND(L16="",M16="",J16="",K16=""),0,1),IF(NOT(AND(ISTEXT(L16),L16=IF(COUNTA(A16:I16)=0,"",IF(NOT(AND(ISTEXT(A16),LEN(A16)=8,EXACT(LEFT(A16,4),"ACT-"),ISNUMBER(FIND(MID(A16,5,1)&"x","0x1x2x3x4x5x6x7x8x9x")),ISNUMBER(FIND(MID(A16,6,1)&"x","0x1x2x3x4x5x6x7x8x9x")),ISNUMBER(FIND(MID(A16,7,1)&"x","0x1x2x3x4x5x6x7x8x9x")),ISNUMBER(FIND(MID(A16,8,1)&"x","0x1x2x3x4x5x6x7x8x9x")))),"活動IDはACT-と半角数字4桁",IF(COUNTIFS($A$8:$A$57,A16)>1,"活動IDが重複",IF(NOT(AND(ISTEXT(B16),LEN(B16)=8,EXACT(LEFT(B16,4),"STF-"),ISNUMBER(FIND(MID(B16,5,1)&"x","0x1x2x3x4x5x6x7x8x9x")),ISNUMBER(FIND(MID(B16,6,1)&"x","0x1x2x3x4x5x6x7x8x9x")),ISNUMBER(FIND(MID(B16,7,1)&"x","0x1x2x3x4x5x6x7x8x9x")),ISNUMBER(FIND(MID(B16,8,1)&"x","0x1x2x3x4x5x6x7x8x9x")))),"担当IDの形式を確認",IF(COUNTIFS(登録ID!$F$8:$F$27,B16)<>1,"担当が未登録/重複",IF(AND(COUNTA(C16)>0,NOT(AND(ISTEXT(C16),LEN(C16)=8,EXACT(LEFT(C16,4),"CUS-"),ISNUMBER(FIND(MID(C16,5,1)&"x","0x1x2x3x4x5x6x7x8x9x")),ISNUMBER(FIND(MID(C16,6,1)&"x","0x1x2x3x4x5x6x7x8x9x")),ISNUMBER(FIND(MID(C16,7,1)&"x","0x1x2x3x4x5x6x7x8x9x")),ISNUMBER(FIND(MID(C16,8,1)&"x","0x1x2x3x4x5x6x7x8x9x"))))),"顧客IDの形式を確認",IF(AND(COUNTA(C16)>0,COUNTIFS(登録ID!$A$8:$A$57,C16)<>1),"顧客が未登録/重複",IF(NOT(OR(D16="訪問",D16="オンライン",D16="電話",D16="メール",D16="事務",D16="その他")),"活動種別を確認",IF(NOT(OR(E16="実施",E16="中止",E16="未確認")),"実施区分を確認",IF(NOT(IF(ISNUMBER(F16),AND(F16>=43831,F16<73051,F16=INT(F16)),FALSE())),"活動日は時刻なしで必須",IF(NOT(IF(ISNUMBER(I16),AND(I16>=43831,I16<73051,I16=INT(I16)),FALSE())),"記録確認日は時刻なしで必須",IF(OR(F16>I16,I16>日報!$H$3),"活動日≦確認日≦基準日を確認",IF(AND(E16="実施",NOT(AND(IF(ISNUMBER(G16),AND(G16>=43831,G16<73051,ABS(G16*1440-ROUND(G16*1440,0))<0.00001),FALSE()),IF(ISNUMBER(H16),AND(H16>=43831,H16<73051,ABS(H16*1440-ROUND(H16*1440,0))<0.00001),FALSE())))),"実施は分単位の開始/終了日時が必須",IF(AND(E16<>"実施",COUNTA(G16:H16)>0),"中止/未確認の開始/終了は空欄",IF(AND(E16="実施",OR(G16<F16,G16>=F16+1,H16<=G16,H16>F16+1,H16>=I16+1)),"時間の順序・活動日/確認日を確認",IF(AND(E16="実施",COUNTIFS($B$8:$B$57,B16,$E$8:$E$57,"実施",$G$8:$G$57,"<"&H16,$H$8:$H$57,">"&G16)>1),"同じ担当の実施時間が重複","確認済み")))))))))))))))),ISNUMBER(M16),M16=IF(L16="確認済み",0,1))),1,IF(M16<>0,0,IF(AND(IF(E16="実施",ISNUMBER(J16),ISTEXT(J16)),J16=IF(E16="実施",ROUND((H16-G16)*1440,0),""),ISNUMBER(K16),K16=IF(AND(B16=日報!$E$3,F16=日報!$B$3),COUNTIFS($B$8:B16,B16,$F$8:F16,F16),0)),0,1)))) -> 0
A17: ACT-0010 | B17: STF-0001 | D17: その他 | E17: 実施 | F17: 46312 | G17: 46312.333 | H17: 46312.354 | I17: 46312 | J17: =IF(L17="","",IF(M17<>0,NA(),IF(E17="実施",ROUND((H17-G17)*1440,0),""))) -> 30 | K17: =IF(L17="","",IF(M17<>0,NA(),IF(AND(B17=日報!$E$3,F17=日報!$B$3),COUNTIFS($B$8:B17,B17,$F$8:F17,F17),0))) -> 0 | L17: =IF(COUNTA(A17:I17)=0,"",IF(NOT(AND(ISTEXT(A17),LEN(A17)=8,EXACT(LEFT(A17,4),"ACT-"),ISNUMBER(FIND(MID(A17,5,1)&"x","0x1x2x3x4x5x6x7x8x9x")),ISNUMBER(FIND(MID(A17,6,1)&"x","0x1x2x3x4x5x6x7x8x9x")),ISNUMBER(FIND(MID(A17,7,1)&"x","0x1x2x3x4x5x6x7x8x9x")),ISNUMBER(FIND(MID(A17,8,1)&"x","0x1x2x3x4x5x6x7x8x9x")))),"活動IDはACT-と半角数字4桁",IF(COUNTIFS($A$8:$A$57,A17)>1,"活動IDが重複",IF(NOT(AND(ISTEXT(B17),LEN(B17)=8,EXACT(LEFT(B17,4),"STF-"),ISNUMBER(FIND(MID(B17,5,1)&"x","0x1x2x3x4x5x6x7x8x9x")),ISNUMBER(FIND(MID(B17,6,1)&"x","0x1x2x3x4x5x6x7x8x9x")),ISNUMBER(FIND(MID(B17,7,1)&"x","0x1x2x3x4x5x6x7x8x9x")),ISNUMBER(FIND(MID(B17,8,1)&"x","0x1x2x3x4x5x6x7x8x9x")))),"担当IDの形式を確認",IF(COUNTIFS(登録ID!$F$8:$F$27,B17)<>1,"担当が未登録/重複",IF(AND(COUNTA(C17)>0,NOT(AND(ISTEXT(C17),LEN(C17)=8,EXACT(LEFT(C17,4),"CUS-"),ISNUMBER(FIND(MID(C17,5,1)&"x","0x1x2x3x4x5x6x7x8x9x")),ISNUMBER(FIND(MID(C17,6,1)&"x","0x1x2x3x4x5x6x7x8x9x")),ISNUMBER(FIND(MID(C17,7,1)&"x","0x1x2x3x4x5x6x7x8x9x")),ISNUMBER(FIND(MID(C17,8,1)&"x","0x1x2x3x4x5x6x7x8x9x"))))),"顧客IDの形式を確認",IF(AND(COUNTA(C17)>0,COUNTIFS(登録ID!$A$8:$A$57,C17)<>1),"顧客が未登録/重複",IF(NOT(OR(D17="訪問",D17="オンライン",D17="電話",D17="メール",D17="事務",D17="その他")),"活動種別を確認",IF(NOT(OR(E17="実施",E17="中止",E17="未確認")),"実施区分を確認",IF(NOT(IF(ISNUMBER(F17),AND(F17>=43831,F17<73051,F17=INT(F17)),FALSE())),"活動日は時刻なしで必須",IF(NOT(IF(ISNUMBER(I17),AND(I17>=43831,I17<73051,I17=INT(I17)),FALSE())),"記録確認日は時刻なしで必須",IF(OR(F17>I17,I17>日報!$H$3),"活動日≦確認日≦基準日を確認",IF(AND(E17="実施",NOT(AND(IF(ISNUMBER(G17),AND(G17>=43831,G17<73051,ABS(G17*1440-ROUND(G17*1440,0))<0.00001),FALSE()),IF(ISNUMBER(H17),AND(H17>=43831,H17<73051,ABS(H17*1440-ROUND(H17*1440,0))<0.00001),FALSE())))),"実施は分単位の開始/終了日時が必須",IF(AND(E17<>"実施",COUNTA(G17:H17)>0),"中止/未確認の開始/終了は空欄",IF(AND(E17="実施",OR(G17<F17,G17>=F17+1,H17<=G17,H17>F17+1,H17>=I17+1)),"時間の順序・活動日/確認日を確認",IF(AND(E17="実施",COUNTIFS($B$8:$B$57,B17,$E$8:$E$57,"実施",$G$8:$G$57,"<"&H17,$H$8:$H$57,">"&G17)>1),"同じ担当の実施時間が重複","確認済み")))))))))))))))) -> 確認済み | M17: =IF(L17="","",IF(L17="確認済み",0,1)) -> 0 | N17: =IF(COUNTA(A17:I17)=0,IF(AND(L17="",M17="",J17="",K17=""),0,1),IF(NOT(AND(ISTEXT(L17),L17=IF(COUNTA(A17:I17)=0,"",IF(NOT(AND(ISTEXT(A17),LEN(A17)=8,EXACT(LEFT(A17,4),"ACT-"),ISNUMBER(FIND(MID(A17,5,1)&"x","0x1x2x3x4x5x6x7x8x9x")),ISNUMBER(FIND(MID(A17,6,1)&"x","0x1x2x3x4x5x6x7x8x9x")),ISNUMBER(FIND(MID(A17,7,1)&"x","0x1x2x3x4x5x6x7x8x9x")),ISNUMBER(FIND(MID(A17,8,1)&"x","0x1x2x3x4x5x6x7x8x9x")))),"活動IDはACT-と半角数字4桁",IF(COUNTIFS($A$8:$A$57,A17)>1,"活動IDが重複",IF(NOT(AND(ISTEXT(B17),LEN(B17)=8,EXACT(LEFT(B17,4),"STF-"),ISNUMBER(FIND(MID(B17,5,1)&"x","0x1x2x3x4x5x6x7x8x9x")),ISNUMBER(FIND(MID(B17,6,1)&"x","0x1x2x3x4x5x6x7x8x9x")),ISNUMBER(FIND(MID(B17,7,1)&"x","0x1x2x3x4x5x6x7x8x9x")),ISNUMBER(FIND(MID(B17,8,1)&"x","0x1x2x3x4x5x6x7x8x9x")))),"担当IDの形式を確認",IF(COUNTIFS(登録ID!$F$8:$F$27,B17)<>1,"担当が未登録/重複",IF(AND(COUNTA(C17)>0,NOT(AND(ISTEXT(C17),LEN(C17)=8,EXACT(LEFT(C17,4),"CUS-"),ISNUMBER(FIND(MID(C17,5,1)&"x","0x1x2x3x4x5x6x7x8x9x")),ISNUMBER(FIND(MID(C17,6,1)&"x","0x1x2x3x4x5x6x7x8x9x")),ISNUMBER(FIND(MID(C17,7,1)&"x","0x1x2x3x4x5x6x7x8x9x")),ISNUMBER(FIND(MID(C17,8,1)&"x","0x1x2x3x4x5x6x7x8x9x"))))),"顧客IDの形式を確認",IF(AND(COUNTA(C17)>0,COUNTIFS(登録ID!$A$8:$A$57,C17)<>1),"顧客が未登録/重複",IF(NOT(OR(D17="訪問",D17="オンライン",D17="電話",D17="メール",D17="事務",D17="その他")),"活動種別を確認",IF(NOT(OR(E17="実施",E17="中止",E17="未確認")),"実施区分を確認",IF(NOT(IF(ISNUMBER(F17),AND(F17>=43831,F17<73051,F17=INT(F17)),FALSE())),"活動日は時刻なしで必須",IF(NOT(IF(ISNUMBER(I17),AND(I17>=43831,I17<73051,I17=INT(I17)),FALSE())),"記録確認日は時刻なしで必須",IF(OR(F17>I17,I17>日報!$H$3),"活動日≦確認日≦基準日を確認",IF(AND(E17="実施",NOT(AND(IF(ISNUMBER(G17),AND(G17>=43831,G17<73051,ABS(G17*1440-ROUND(G17*1440,0))<0.00001),FALSE()),IF(ISNUMBER(H17),AND(H17>=43831,H17<73051,ABS(H17*1440-ROUND(H17*1440,0))<0.00001),FALSE())))),"実施は分単位の開始/終了日時が必須",IF(AND(E17<>"実施",COUNTA(G17:H17)>0),"中止/未確認の開始/終了は空欄",IF(AND(E17="実施",OR(G17<F17,G17>=F17+1,H17<=G17,H17>F17+1,H17>=I17+1)),"時間の順序・活動日/確認日を確認",IF(AND(E17="実施",COUNTIFS($B$8:$B$57,B17,$E$8:$E$57,"実施",$G$8:$G$57,"<"&H17,$H$8:$H$57,">"&G17)>1),"同じ担当の実施時間が重複","確認済み")))))))))))))))),ISNUMBER(M17),M17=IF(L17="確認済み",0,1))),1,IF(M17<>0,0,IF(AND(IF(E17="実施",ISNUMBER(J17),ISTEXT(J17)),J17=IF(E17="実施",ROUND((H17-G17)*1440,0),""),ISNUMBER(K17),K17=IF(AND(B17=日報!$E$3,F17=日報!$B$3),COUNTIFS($B$8:B17,B17,$F$8:F17,F17),0)),0,1)))) -> 0
J18: =IF(L18="","",IF(M18<>0,NA(),IF(E18="実施",ROUND((H18-G18)*1440,0),""))) | K18: =IF(L18="","",IF(M18<>0,NA(),IF(AND(B18=日報!$E$3,F18=日報!$B$3),COUNTIFS($B$8:B18,B18,$F$8:F18,F18),0))) | L18: =IF(COUNTA(A18:I18)=0,"",IF(NOT(AND(ISTEXT(A18),LEN(A18)=8,EXACT(LEFT(A18,4),"ACT-"),ISNUMBER(FIND(MID(A18,5,1)&"x","0x1x2x3x4x5x6x7x8x9x")),ISNUMBER(FIND(MID(A18,6,1)&"x","0x1x2x3x4x5x6x7x8x9x")),ISNUMBER(FIND(MID(A18,7,1)&"x","0x1x2x3x4x5x6x7x8x9x")),ISNUMBER(FIND(MID(A18,8,1)&"x","0x1x2x3x4x5x6x7x8x9x")))),"活動IDはACT-と半角数字4桁",IF(COUNTIFS($A$8:$A$57,A18)>1,"活動IDが重複",IF(NOT(AND(ISTEXT(B18),LEN(B18)=8,EXACT(LEFT(B18,4),"STF-"),ISNUMBER(FIND(MID(B18,5,1)&"x","0x1x2x3x4x5x6x7x8x9x")),ISNUMBER(FIND(MID(B18,6,1)&"x","0x1x2x3x4x5x6x7x8x9x")),ISNUMBER(FIND(MID(B18,7,1)&"x","0x1x2x3x4x5x6x7x8x9x")),ISNUMBER(FIND(MID(B18,8,1)&"x","0x1x2x3x4x5x6x7x8x9x")))),"担当IDの形式を確認",IF(COUNTIFS(登録ID!$F$8:$F$27,B18)<>1,"担当が未登録/重複",IF(AND(COUNTA(C18)>0,NOT(AND(ISTEXT(C18),LEN(C18)=8,EXACT(LEFT(C18,4),"CUS-"),ISNUMBER(FIND(MID(C18,5,1)&"x","0x1x2x3x4x5x6x7x8x9x")),ISNUMBER(FIND(MID(C18,6,1)&"x","0x1x2x3x4x5x6x7x8x9x")),ISNUMBER(FIND(MID(C18,7,1)&"x","0x1x2x3x4x5x6x7x8x9x")),ISNUMBER(FIND(MID(C18,8,1)&"x","0x1x2x3x4x5x6x7x8x9x"))))),"顧客IDの形式を確認",IF(AND(COUNTA(C18)>0,COUNTIFS(登録ID!$A$8:$A$57,C18)<>1),"顧客が未登録/重複",IF(NOT(OR(D18="訪問",D18="オンライン",D18="電話",D18="メール",D18="事務",D18="その他")),"活動種別を確認",IF(NOT(OR(E18="実施",E18="中止",E18="未確認")),"実施区分を確認",IF(NOT(IF(ISNUMBER(F18),AND(F18>=43831,F18<73051,F18=INT(F18)),FALSE())),"活動日は時刻なしで必須",IF(NOT(IF(ISNUMBER(I18),AND(I18>=43831,I18<73051,I18=INT(I18)),FALSE())),"記録確認日は時刻なしで必須",IF(OR(F18>I18,I18>日報!$H$3),"活動日≦確認日≦基準日を確認",IF(AND(E18="実施",NOT(AND(IF(ISNUMBER(G18),AND(G18>=43831,G18<73051,ABS(G18*1440-ROUND(G18*1440,0))<0.00001),FALSE()),IF(ISNUMBER(H18),AND(H18>=43831,H18<73051,ABS(H18*1440-ROUND(H18*1440,0))<0.00001),FALSE())))),"実施は分単位の開始/終了日時が必須",IF(AND(E18<>"実施",COUNTA(G18:H18)>0),"中止/未確認の開始/終了は空欄",IF(AND(E18="実施",OR(G18<F18,G18>=F18+1,H18<=G18,H18>F18+1,H18>=I18+1)),"時間の順序・活動日/確認日を確認",IF(AND(E18="実施",COUNTIFS($B$8:$B$57,B18,$E$8:$E$57,"実施",$G$8:$G$57,"<"&H18,$H$8:$H$57,">"&G18)>1),"同じ担当の実施時間が重複","確認済み")))))))))))))))) | M18: =IF(L18="","",IF(L18="確認済み",0,1)) | N18: =IF(COUNTA(A18:I18)=0,IF(AND(L18="",M18="",J18="",K18=""),0,1),IF(NOT(AND(ISTEXT(L18),L18=IF(COUNTA(A18:I18)=0,"",IF(NOT(AND(ISTEXT(A18),LEN(A18)=8,EXACT(LEFT(A18,4),"ACT-"),ISNUMBER(FIND(MID(A18,5,1)&"x","0x1x2x3x4x5x6x7x8x9x")),ISNUMBER(FIND(MID(A18,6,1)&"x","0x1x2x3x4x5x6x7x8x9x")),ISNUMBER(FIND(MID(A18,7,1)&"x","0x1x2x3x4x5x6x7x8x9x")),ISNUMBER(FIND(MID(A18,8,1)&"x","0x1x2x3x4x5x6x7x8x9x")))),"活動IDはACT-と半角数字4桁",IF(COUNTIFS($A$8:$A$57,A18)>1,"活動IDが重複",IF(NOT(AND(ISTEXT(B18),LEN(B18)=8,EXACT(LEFT(B18,4),"STF-"),ISNUMBER(FIND(MID(B18,5,1)&"x","0x1x2x3x4x5x6x7x8x9x")),ISNUMBER(FIND(MID(B18,6,1)&"x","0x1x2x3x4x5x6x7x8x9x")),ISNUMBER(FIND(MID(B18,7,1)&"x","0x1x2x3x4x5x6x7x8x9x")),ISNUMBER(FIND(MID(B18,8,1)&"x","0x1x2x3x4x5x6x7x8x9x")))),"担当IDの形式を確認",IF(COUNTIFS(登録ID!$F$8:$F$27,B18)<>1,"担当が未登録/重複",IF(AND(COUNTA(C18)>0,NOT(AND(ISTEXT(C18),LEN(C18)=8,EXACT(LEFT(C18,4),"CUS-"),ISNUMBER(FIND(MID(C18,5,1)&"x","0x1x2x3x4x5x6x7x8x9x")),ISNUMBER(FIND(MID(C18,6,1)&"x","0x1x2x3x4x5x6x7x8x9x")),ISNUMBER(FIND(MID(C18,7,1)&"x","0x1x2x3x4x5x6x7x8x9x")),ISNUMBER(FIND(MID(C18,8,1)&"x","0x1x2x3x4x5x6x7x8x9x"))))),"顧客IDの形式を確認",IF(AND(COUNTA(C18)>0,COUNTIFS(登録ID!$A$8:$A$57,C18)<>1),"顧客が未登録/重複",IF(NOT(OR(D18="訪問",D18="オンライン",D18="電話",D18="メール",D18="事務",D18="その他")),"活動種別を確認",IF(NOT(OR(E18="実施",E18="中止",E18="未確認")),"実施区分を確認",IF(NOT(IF(ISNUMBER(F18),AND(F18>=43831,F18<73051,F18=INT(F18)),FALSE())),"活動日は時刻なしで必須",IF(NOT(IF(ISNUMBER(I18),AND(I18>=43831,I18<73051,I18=INT(I18)),FALSE())),"記録確認日は時刻なしで必須",IF(OR(F18>I18,I18>日報!$H$3),"活動日≦確認日≦基準日を確認",IF(AND(E18="実施",NOT(AND(IF(ISNUMBER(G18),AND(G18>=43831,G18<73051,ABS(G18*1440-ROUND(G18*1440,0))<0.00001),FALSE()),IF(ISNUMBER(H18),AND(H18>=43831,H18<73051,ABS(H18*1440-ROUND(H18*1440,0))<0.00001),FALSE())))),"実施は分単位の開始/終了日時が必須",IF(AND(E18<>"実施",COUNTA(G18:H18)>0),"中止/未確認の開始/終了は空欄",IF(AND(E18="実施",OR(G18<F18,G18>=F18+1,H18<=G18,H18>F18+1,H18>=I18+1)),"時間の順序・活動日/確認日を確認",IF(AND(E18="実施",COUNTIFS($B$8:$B$57,B18,$E$8:$E$57,"実施",$G$8:$G$57,"<"&H18,$H$8:$H$57,">"&G18)>1),"同じ担当の実施時間が重複","確認済み")))))))))))))))),ISNUMBER(M18),M18=IF(L18="確認済み",0,1))),1,IF(M18<>0,0,IF(AND(IF(E18="実施",ISNUMBER(J18),ISTEXT(J18)),J18=IF(E18="実施",ROUND((H18-G18)*1440,0),""),ISNUMBER(K18),K18=IF(AND(B18=日報!$E$3,F18=日報!$B$3),COUNTIFS($B$8:B18,B18,$F$8:F18,F18),0)),0,1)))) -> 0
J19: =IF(L19="","",IF(M19<>0,NA(),IF(E19="実施",ROUND((H19-G19)*1440,0),""))) | K19: =IF(L19="","",IF(M19<>0,NA(),IF(AND(B19=日報!$E$3,F19=日報!$B$3),COUNTIFS($B$8:B19,B19,$F$8:F19,F19),0))) | L19: =IF(COUNTA(A19:I19)=0,"",IF(NOT(AND(ISTEXT(A19),LEN(A19)=8,EXACT(LEFT(A19,4),"ACT-"),ISNUMBER(FIND(MID(A19,5,1)&"x","0x1x2x3x4x5x6x7x8x9x")),ISNUMBER(FIND(MID(A19,6,1)&"x","0x1x2x3x4x5x6x7x8x9x")),ISNUMBER(FIND(MID(A19,7,1)&"x","0x1x2x3x4x5x6x7x8x9x")),ISNUMBER(FIND(MID(A19,8,1)&"x","0x1x2x3x4x5x6x7x8x9x")))),"活動IDはACT-と半角数字4桁",IF(COUNTIFS($A$8:$A$57,A19)>1,"活動IDが重複",IF(NOT(AND(ISTEXT(B19),LEN(B19)=8,EXACT(LEFT(B19,4),"STF-"),ISNUMBER(FIND(MID(B19,5,1)&"x","0x1x2x3x4x5x6x7x8x9x")),ISNUMBER(FIND(MID(B19,6,1)&"x","0x1x2x3x4x5x6x7x8x9x")),ISNUMBER(FIND(MID(B19,7,1)&"x","0x1x2x3x4x5x6x7x8x9x")),ISNUMBER(FIND(MID(B19,8,1)&"x","0x1x2x3x4x5x6x7x8x9x")))),"担当IDの形式を確認",IF(COUNTIFS(登録ID!$F$8:$F$27,B19)<>1,"担当が未登録/重複",IF(AND(COUNTA(C19)>0,NOT(AND(ISTEXT(C19),LEN(C19)=8,EXACT(LEFT(C19,4),"CUS-"),ISNUMBER(FIND(MID(C19,5,1)&"x","0x1x2x3x4x5x6x7x8x9x")),ISNUMBER(FIND(MID(C19,6,1)&"x","0x1x2x3x4x5x6x7x8x9x")),ISNUMBER(FIND(MID(C19,7,1)&"x","0x1x2x3x4x5x6x7x8x9x")),ISNUMBER(FIND(MID(C19,8,1)&"x","0x1x2x3x4x5x6x7x8x9x"))))),"顧客IDの形式を確認",IF(AND(COUNTA(C19)>0,COUNTIFS(登録ID!$A$8:$A$57,C19)<>1),"顧客が未登録/重複",IF(NOT(OR(D19="訪問",D19="オンライン",D19="電話",D19="メール",D19="事務",D19="その他")),"活動種別を確認",IF(NOT(OR(E19="実施",E19="中止",E19="未確認")),"実施区分を確認",IF(NOT(IF(ISNUMBER(F19),AND(F19>=43831,F19<73051,F19=INT(F19)),FALSE())),"活動日は時刻なしで必須",IF(NOT(IF(ISNUMBER(I19),AND(I19>=43831,I19<73051,I19=INT(I19)),FALSE())),"記録確認日は時刻なしで必須",IF(OR(F19>I19,I19>日報!$H$3),"活動日≦確認日≦基準日を確認",IF(AND(E19="実施",NOT(AND(IF(ISNUMBER(G19),AND(G19>=43831,G19<73051,ABS(G19*1440-ROUND(G19*1440,0))<0.00001),FALSE()),IF(ISNUMBER(H19),AND(H19>=43831,H19<73051,ABS(H19*1440-ROUND(H19*1440,0))<0.00001),FALSE())))),"実施は分単位の開始/終了日時が必須",IF(AND(E19<>"実施",COUNTA(G19:H19)>0),"中止/未確認の開始/終了は空欄",IF(AND(E19="実施",OR(G19<F19,G19>=F19+1,H19<=G19,H19>F19+1,H19>=I19+1)),"時間の順序・活動日/確認日を確認",IF(AND(E19="実施",COUNTIFS($B$8:$B$57,B19,$E$8:$E$57,"実施",$G$8:$G$57,"<"&H19,$H$8:$H$57,">"&G19)>1),"同じ担当の実施時間が重複","確認済み")))))))))))))))) | M19: =IF(L19="","",IF(L19="確認済み",0,1)) | N19: =IF(COUNTA(A19:I19)=0,IF(AND(L19="",M19="",J19="",K19=""),0,1),IF(NOT(AND(ISTEXT(L19),L19=IF(COUNTA(A19:I19)=0,"",IF(NOT(AND(ISTEXT(A19),LEN(A19)=8,EXACT(LEFT(A19,4),"ACT-"),ISNUMBER(FIND(MID(A19,5,1)&"x","0x1x2x3x4x5x6x7x8x9x")),ISNUMBER(FIND(MID(A19,6,1)&"x","0x1x2x3x4x5x6x7x8x9x")),ISNUMBER(FIND(MID(A19,7,1)&"x","0x1x2x3x4x5x6x7x8x9x")),ISNUMBER(FIND(MID(A19,8,1)&"x","0x1x2x3x4x5x6x7x8x9x")))),"活動IDはACT-と半角数字4桁",IF(COUNTIFS($A$8:$A$57,A19)>1,"活動IDが重複",IF(NOT(AND(ISTEXT(B19),LEN(B19)=8,EXACT(LEFT(B19,4),"STF-"),ISNUMBER(FIND(MID(B19,5,1)&"x","0x1x2x3x4x5x6x7x8x9x")),ISNUMBER(FIND(MID(B19,6,1)&"x","0x1x2x3x4x5x6x7x8x9x")),ISNUMBER(FIND(MID(B19,7,1)&"x","0x1x2x3x4x5x6x7x8x9x")),ISNUMBER(FIND(MID(B19,8,1)&"x","0x1x2x3x4x5x6x7x8x9x")))),"担当IDの形式を確認",IF(COUNTIFS(登録ID!$F$8:$F$27,B19)<>1,"担当が未登録/重複",IF(AND(COUNTA(C19)>0,NOT(AND(ISTEXT(C19),LEN(C19)=8,EXACT(LEFT(C19,4),"CUS-"),ISNUMBER(FIND(MID(C19,5,1)&"x","0x1x2x3x4x5x6x7x8x9x")),ISNUMBER(FIND(MID(C19,6,1)&"x","0x1x2x3x4x5x6x7x8x9x")),ISNUMBER(FIND(MID(C19,7,1)&"x","0x1x2x3x4x5x6x7x8x9x")),ISNUMBER(FIND(MID(C19,8,1)&"x","0x1x2x3x4x5x6x7x8x9x"))))),"顧客IDの形式を確認",IF(AND(COUNTA(C19)>0,COUNTIFS(登録ID!$A$8:$A$57,C19)<>1),"顧客が未登録/重複",IF(NOT(OR(D19="訪問",D19="オンライン",D19="電話",D19="メール",D19="事務",D19="その他")),"活動種別を確認",IF(NOT(OR(E19="実施",E19="中止",E19="未確認")),"実施区分を確認",IF(NOT(IF(ISNUMBER(F19),AND(F19>=43831,F19<73051,F19=INT(F19)),FALSE())),"活動日は時刻なしで必須",IF(NOT(IF(ISNUMBER(I19),AND(I19>=43831,I19<73051,I19=INT(I19)),FALSE())),"記録確認日は時刻なしで必須",IF(OR(F19>I19,I19>日報!$H$3),"活動日≦確認日≦基準日を確認",IF(AND(E19="実施",NOT(AND(IF(ISNUMBER(G19),AND(G19>=43831,G19<73051,ABS(G19*1440-ROUND(G19*1440,0))<0.00001),FALSE()),IF(ISNUMBER(H19),AND(H19>=43831,H19<73051,ABS(H19*1440-ROUND(H19*1440,0))<0.00001),FALSE())))),"実施は分単位の開始/終了日時が必須",IF(AND(E19<>"実施",COUNTA(G19:H19)>0),"中止/未確認の開始/終了は空欄",IF(AND(E19="実施",OR(G19<F19,G19>=F19+1,H19<=G19,H19>F19+1,H19>=I19+1)),"時間の順序・活動日/確認日を確認",IF(AND(E19="実施",COUNTIFS($B$8:$B$57,B19,$E$8:$E$57,"実施",$G$8:$G$57,"<"&H19,$H$8:$H$57,">"&G19)>1),"同じ担当の実施時間が重複","確認済み")))))))))))))))),ISNUMBER(M19),M19=IF(L19="確認済み",0,1))),1,IF(M19<>0,0,IF(AND(IF(E19="実施",ISNUMBER(J19),ISTEXT(J19)),J19=IF(E19="実施",ROUND((H19-G19)*1440,0),""),ISNUMBER(K19),K19=IF(AND(B19=日報!$E$3,F19=日報!$B$3),COUNTIFS($B$8:B19,B19,$F$8:F19,F19),0)),0,1)))) -> 0
J20: =IF(L20="","",IF(M20<>0,NA(),IF(E20="実施",ROUND((H20-G20)*1440,0),""))) | K20: =IF(L20="","",IF(M20<>0,NA(),IF(AND(B20=日報!$E$3,F20=日報!$B$3),COUNTIFS($B$8:B20,B20,$F$8:F20,F20),0))) | L20: =IF(COUNTA(A20:I20)=0,"",IF(NOT(AND(ISTEXT(A20),LEN(A20)=8,EXACT(LEFT(A20,4),"ACT-"),ISNUMBER(FIND(MID(A20,5,1)&"x","0x1x2x3x4x5x6x7x8x9x")),ISNUMBER(FIND(MID(A20,6,1)&"x","0x1x2x3x4x5x6x7x8x9x")),ISNUMBER(FIND(MID(A20,7,1)&"x","0x1x2x3x4x5x6x7x8x9x")),ISNUMBER(FIND(MID(A20,8,1)&"x","0x1x2x3x4x5x6x7x8x9x")))),"活動IDはACT-と半角数字4桁",IF(COUNTIFS($A$8:$A$57,A20)>1,"活動IDが重複",IF(NOT(AND(ISTEXT(B20),LEN(B20)=8,EXACT(LEFT(B20,4),"STF-"),ISNUMBER(FIND(MID(B20,5,1)&"x","0x1x2x3x4x5x6x7x8x9x")),ISNUMBER(FIND(MID(B20,6,1)&"x","0x1x2x3x4x5x6x7x8x9x")),ISNUMBER(FIND(MID(B20,7,1)&"x","0x1x2x3x4x5x6x7x8x9x")),ISNUMBER(FIND(MID(B20,8,1)&"x","0x1x2x3x4x5x6x7x8x9x")))),"担当IDの形式を確認",IF(COUNTIFS(登録ID!$F$8:$F$27,B20)<>1,"担当が未登録/重複",IF(AND(COUNTA(C20)>0,NOT(AND(ISTEXT(C20),LEN(C20)=8,EXACT(LEFT(C20,4),"CUS-"),ISNUMBER(FIND(MID(C20,5,1)&"x","0x1x2x3x4x5x6x7x8x9x")),ISNUMBER(FIND(MID(C20,6,1)&"x","0x1x2x3x4x5x6x7x8x9x")),ISNUMBER(FIND(MID(C20,7,1)&"x","0x1x2x3x4x5x6x7x8x9x")),ISNUMBER(FIND(MID(C20,8,1)&"x","0x1x2x3x4x5x6x7x8x9x"))))),"顧客IDの形式を確認",IF(AND(COUNTA(C20)>0,COUNTIFS(登録ID!$A$8:$A$57,C20)<>1),"顧客が未登録/重複",IF(NOT(OR(D20="訪問",D20="オンライン",D20="電話",D20="メール",D20="事務",D20="その他")),"活動種別を確認",IF(NOT(OR(E20="実施",E20="中止",E20="未確認")),"実施区分を確認",IF(NOT(IF(ISNUMBER(F20),AND(F20>=43831,F20<73051,F20=INT(F20)),FALSE())),"活動日は時刻なしで必須",IF(NOT(IF(ISNUMBER(I20),AND(I20>=43831,I20<73051,I20=INT(I20)),FALSE())),"記録確認日は時刻なしで必須",IF(OR(F20>I20,I20>日報!$H$3),"活動日≦確認日≦基準日を確認",IF(AND(E20="実施",NOT(AND(IF(ISNUMBER(G20),AND(G20>=43831,G20<73051,ABS(G20*1440-ROUND(G20*1440,0))<0.00001),FALSE()),IF(ISNUMBER(H20),AND(H20>=43831,H20<73051,ABS(H20*1440-ROUND(H20*1440,0))<0.00001),FALSE())))),"実施は分単位の開始/終了日時が必須",IF(AND(E20<>"実施",COUNTA(G20:H20)>0),"中止/未確認の開始/終了は空欄",IF(AND(E20="実施",OR(G20<F20,G20>=F20+1,H20<=G20,H20>F20+1,H20>=I20+1)),"時間の順序・活動日/確認日を確認",IF(AND(E20="実施",COUNTIFS($B$8:$B$57,B20,$E$8:$E$57,"実施",$G$8:$G$57,"<"&H20,$H$8:$H$57,">"&G20)>1),"同じ担当の実施時間が重複","確認済み")))))))))))))))) | M20: =IF(L20="","",IF(L20="確認済み",0,1)) | N20: =IF(COUNTA(A20:I20)=0,IF(AND(L20="",M20="",J20="",K20=""),0,1),IF(NOT(AND(ISTEXT(L20),L20=IF(COUNTA(A20:I20)=0,"",IF(NOT(AND(ISTEXT(A20),LEN(A20)=8,EXACT(LEFT(A20,4),"ACT-"),ISNUMBER(FIND(MID(A20,5,1)&"x","0x1x2x3x4x5x6x7x8x9x")),ISNUMBER(FIND(MID(A20,6,1)&"x","0x1x2x3x4x5x6x7x8x9x")),ISNUMBER(FIND(MID(A20,7,1)&"x","0x1x2x3x4x5x6x7x8x9x")),ISNUMBER(FIND(MID(A20,8,1)&"x","0x1x2x3x4x5x6x7x8x9x")))),"活動IDはACT-と半角数字4桁",IF(COUNTIFS($A$8:$A$57,A20)>1,"活動IDが重複",IF(NOT(AND(ISTEXT(B20),LEN(B20)=8,EXACT(LEFT(B20,4),"STF-"),ISNUMBER(FIND(MID(B20,5,1)&"x","0x1x2x3x4x5x6x7x8x9x")),ISNUMBER(FIND(MID(B20,6,1)&"x","0x1x2x3x4x5x6x7x8x9x")),ISNUMBER(FIND(MID(B20,7,1)&"x","0x1x2x3x4x5x6x7x8x9x")),ISNUMBER(FIND(MID(B20,8,1)&"x","0x1x2x3x4x5x6x7x8x9x")))),"担当IDの形式を確認",IF(COUNTIFS(登録ID!$F$8:$F$27,B20)<>1,"担当が未登録/重複",IF(AND(COUNTA(C20)>0,NOT(AND(ISTEXT(C20),LEN(C20)=8,EXACT(LEFT(C20,4),"CUS-"),ISNUMBER(FIND(MID(C20,5,1)&"x","0x1x2x3x4x5x6x7x8x9x")),ISNUMBER(FIND(MID(C20,6,1)&"x","0x1x2x3x4x5x6x7x8x9x")),ISNUMBER(FIND(MID(C20,7,1)&"x","0x1x2x3x4x5x6x7x8x9x")),ISNUMBER(FIND(MID(C20,8,1)&"x","0x1x2x3x4x5x6x7x8x9x"))))),"顧客IDの形式を確認",IF(AND(COUNTA(C20)>0,COUNTIFS(登録ID!$A$8:$A$57,C20)<>1),"顧客が未登録/重複",IF(NOT(OR(D20="訪問",D20="オンライン",D20="電話",D20="メール",D20="事務",D20="その他")),"活動種別を確認",IF(NOT(OR(E20="実施",E20="中止",E20="未確認")),"実施区分を確認",IF(NOT(IF(ISNUMBER(F20),AND(F20>=43831,F20<73051,F20=INT(F20)),FALSE())),"活動日は時刻なしで必須",IF(NOT(IF(ISNUMBER(I20),AND(I20>=43831,I20<73051,I20=INT(I20)),FALSE())),"記録確認日は時刻なしで必須",IF(OR(F20>I20,I20>日報!$H$3),"活動日≦確認日≦基準日を確認",IF(AND(E20="実施",NOT(AND(IF(ISNUMBER(G20),AND(G20>=43831,G20<73051,ABS(G20*1440-ROUND(G20*1440,0))<0.00001),FALSE()),IF(ISNUMBER(H20),AND(H20>=43831,H20<73051,ABS(H20*1440-ROUND(H20*1440,0))<0.00001),FALSE())))),"実施は分単位の開始/終了日時が必須",IF(AND(E20<>"実施",COUNTA(G20:H20)>0),"中止/未確認の開始/終了は空欄",IF(AND(E20="実施",OR(G20<F20,G20>=F20+1,H20<=G20,H20>F20+1,H20>=I20+1)),"時間の順序・活動日/確認日を確認",IF(AND(E20="実施",COUNTIFS($B$8:$B$57,B20,$E$8:$E$57,"実施",$G$8:$G$57,"<"&H20,$H$8:$H$57,">"&G20)>1),"同じ担当の実施時間が重複","確認済み")))))))))))))))),ISNUMBER(M20),M20=IF(L20="確認済み",0,1))),1,IF(M20<>0,0,IF(AND(IF(E20="実施",ISNUMBER(J20),ISTEXT(J20)),J20=IF(E20="実施",ROUND((H20-G20)*1440,0),""),ISNUMBER(K20),K20=IF(AND(B20=日報!$E$3,F20=日報!$B$3),COUNTIFS($B$8:B20,B20,$F$8:F20,F20),0)),0,1)))) -> 0
J21: =IF(L21="","",IF(M21<>0,NA(),IF(E21="実施",ROUND((H21-G21)*1440,0),""))) | K21: =IF(L21="","",IF(M21<>0,NA(),IF(AND(B21=日報!$E$3,F21=日報!$B$3),COUNTIFS($B$8:B21,B21,$F$8:F21,F21),0))) | L21: =IF(COUNTA(A21:I21)=0,"",IF(NOT(AND(ISTEXT(A21),LEN(A21)=8,EXACT(LEFT(A21,4),"ACT-"),ISNUMBER(FIND(MID(A21,5,1)&"x","0x1x2x3x4x5x6x7x8x9x")),ISNUMBER(FIND(MID(A21,6,1)&"x","0x1x2x3x4x5x6x7x8x9x")),ISNUMBER(FIND(MID(A21,7,1)&"x","0x1x2x3x4x5x6x7x8x9x")),ISNUMBER(FIND(MID(A21,8,1)&"x","0x1x2x3x4x5x6x7x8x9x")))),"活動IDはACT-と半角数字4桁",IF(COUNTIFS($A$8:$A$57,A21)>1,"活動IDが重複",IF(NOT(AND(ISTEXT(B21),LEN(B21)=8,EXACT(LEFT(B21,4),"STF-"),ISNUMBER(FIND(MID(B21,5,1)&"x","0x1x2x3x4x5x6x7x8x9x")),ISNUMBER(FIND(MID(B21,6,1)&"x","0x1x2x3x4x5x6x7x8x9x")),ISNUMBER(FIND(MID(B21,7,1)&"x","0x1x2x3x4x5x6x7x8x9x")),ISNUMBER(FIND(MID(B21,8,1)&"x","0x1x2x3x4x5x6x7x8x9x")))),"担当IDの形式を確認",IF(COUNTIFS(登録ID!$F$8:$F$27,B21)<>1,"担当が未登録/重複",IF(AND(COUNTA(C21)>0,NOT(AND(ISTEXT(C21),LEN(C21)=8,EXACT(LEFT(C21,4),"CUS-"),ISNUMBER(FIND(MID(C21,5,1)&"x","0x1x2x3x4x5x6x7x8x9x")),ISNUMBER(FIND(MID(C21,6,1)&"x","0x1x2x3x4x5x6x7x8x9x")),ISNUMBER(FIND(MID(C21,7,1)&"x","0x1x2x3x4x5x6x7x8x9x")),ISNUMBER(FIND(MID(C21,8,1)&"x","0x1x2x3x4x5x6x7x8x9x"))))),"顧客IDの形式を確認",IF(AND(COUNTA(C21)>0,COUNTIFS(登録ID!$A$8:$A$57,C21)<>1),"顧客が未登録/重複",IF(NOT(OR(D21="訪問",D21="オンライン",D21="電話",D21="メール",D21="事務",D21="その他")),"活動種別を確認",IF(NOT(OR(E21="実施",E21="中止",E21="未確認")),"実施区分を確認",IF(NOT(IF(ISNUMBER(F21),AND(F21>=43831,F21<73051,F21=INT(F21)),FALSE())),"活動日は時刻なしで必須",IF(NOT(IF(ISNUMBER(I21),AND(I21>=43831,I21<73051,I21=INT(I21)),FALSE())),"記録確認日は時刻なしで必須",IF(OR(F21>I21,I21>日報!$H$3),"活動日≦確認日≦基準日を確認",IF(AND(E21="実施",NOT(AND(IF(ISNUMBER(G21),AND(G21>=43831,G21<73051,ABS(G21*1440-ROUND(G21*1440,0))<0.00001),FALSE()),IF(ISNUMBER(H21),AND(H21>=43831,H21<73051,ABS(H21*1440-ROUND(H21*1440,0))<0.00001),FALSE())))),"実施は分単位の開始/終了日時が必須",IF(AND(E21<>"実施",COUNTA(G21:H21)>0),"中止/未確認の開始/終了は空欄",IF(AND(E21="実施",OR(G21<F21,G21>=F21+1,H21<=G21,H21>F21+1,H21>=I21+1)),"時間の順序・活動日/確認日を確認",IF(AND(E21="実施",COUNTIFS($B$8:$B$57,B21,$E$8:$E$57,"実施",$G$8:$G$57,"<"&H21,$H$8:$H$57,">"&G21)>1),"同じ担当の実施時間が重複","確認済み")))))))))))))))) | M21: =IF(L21="","",IF(L21="確認済み",0,1)) | N21: =IF(COUNTA(A21:I21)=0,IF(AND(L21="",M21="",J21="",K21=""),0,1),IF(NOT(AND(ISTEXT(L21),L21=IF(COUNTA(A21:I21)=0,"",IF(NOT(AND(ISTEXT(A21),LEN(A21)=8,EXACT(LEFT(A21,4),"ACT-"),ISNUMBER(FIND(MID(A21,5,1)&"x","0x1x2x3x4x5x6x7x8x9x")),ISNUMBER(FIND(MID(A21,6,1)&"x","0x1x2x3x4x5x6x7x8x9x")),ISNUMBER(FIND(MID(A21,7,1)&"x","0x1x2x3x4x5x6x7x8x9x")),ISNUMBER(FIND(MID(A21,8,1)&"x","0x1x2x3x4x5x6x7x8x9x")))),"活動IDはACT-と半角数字4桁",IF(COUNTIFS($A$8:$A$57,A21)>1,"活動IDが重複",IF(NOT(AND(ISTEXT(B21),LEN(B21)=8,EXACT(LEFT(B21,4),"STF-"),ISNUMBER(FIND(MID(B21,5,1)&"x","0x1x2x3x4x5x6x7x8x9x")),ISNUMBER(FIND(MID(B21,6,1)&"x","0x1x2x3x4x5x6x7x8x9x")),ISNUMBER(FIND(MID(B21,7,1)&"x","0x1x2x3x4x5x6x7x8x9x")),ISNUMBER(FIND(MID(B21,8,1)&"x","0x1x2x3x4x5x6x7x8x9x")))),"担当IDの形式を確認",IF(COUNTIFS(登録ID!$F$8:$F$27,B21)<>1,"担当が未登録/重複",IF(AND(COUNTA(C21)>0,NOT(AND(ISTEXT(C21),LEN(C21)=8,EXACT(LEFT(C21,4),"CUS-"),ISNUMBER(FIND(MID(C21,5,1)&"x","0x1x2x3x4x5x6x7x8x9x")),ISNUMBER(FIND(MID(C21,6,1)&"x","0x1x2x3x4x5x6x7x8x9x")),ISNUMBER(FIND(MID(C21,7,1)&"x","0x1x2x3x4x5x6x7x8x9x")),ISNUMBER(FIND(MID(C21,8,1)&"x","0x1x2x3x4x5x6x7x8x9x"))))),"顧客IDの形式を確認",IF(AND(COUNTA(C21)>0,COUNTIFS(登録ID!$A$8:$A$57,C21)<>1),"顧客が未登録/重複",IF(NOT(OR(D21="訪問",D21="オンライン",D21="電話",D21="メール",D21="事務",D21="その他")),"活動種別を確認",IF(NOT(OR(E21="実施",E21="中止",E21="未確認")),"実施区分を確認",IF(NOT(IF(ISNUMBER(F21),AND(F21>=43831,F21<73051,F21=INT(F21)),FALSE())),"活動日は時刻なしで必須",IF(NOT(IF(ISNUMBER(I21),AND(I21>=43831,I21<73051,I21=INT(I21)),FALSE())),"記録確認日は時刻なしで必須",IF(OR(F21>I21,I21>日報!$H$3),"活動日≦確認日≦基準日を確認",IF(AND(E21="実施",NOT(AND(IF(ISNUMBER(G21),AND(G21>=43831,G21<73051,ABS(G21*1440-ROUND(G21*1440,0))<0.00001),FALSE()),IF(ISNUMBER(H21),AND(H21>=43831,H21<73051,ABS(H21*1440-ROUND(H21*1440,0))<0.00001),FALSE())))),"実施は分単位の開始/終了日時が必須",IF(AND(E21<>"実施",COUNTA(G21:H21)>0),"中止/未確認の開始/終了は空欄",IF(AND(E21="実施",OR(G21<F21,G21>=F21+1,H21<=G21,H21>F21+1,H21>=I21+1)),"時間の順序・活動日/確認日を確認",IF(AND(E21="実施",COUNTIFS($B$8:$B$57,B21,$E$8:$E$57,"実施",$G$8:$G$57,"<"&H21,$H$8:$H$57,">"&G21)>1),"同じ担当の実施時間が重複","確認済み")))))))))))))))),ISNUMBER(M21),M21=IF(L21="確認済み",0,1))),1,IF(M21<>0,0,IF(AND(IF(E21="実施",ISNUMBER(J21),ISTEXT(J21)),J21=IF(E21="実施",ROUND((H21-G21)*1440,0),""),ISNUMBER(K21),K21=IF(AND(B21=日報!$E$3,F21=日報!$B$3),COUNTIFS($B$8:B21,B21,$F$8:F21,F21),0)),0,1)))) -> 0
J22: =IF(L22="","",IF(M22<>0,NA(),IF(E22="実施",ROUND((H22-G22)*1440,0),""))) | K22: =IF(L22="","",IF(M22<>0,NA(),IF(AND(B22=日報!$E$3,F22=日報!$B$3),COUNTIFS($B$8:B22,B22,$F$8:F22,F22),0))) | L22: =IF(COUNTA(A22:I22)=0,"",IF(NOT(AND(ISTEXT(A22),LEN(A22)=8,EXACT(LEFT(A22,4),"ACT-"),ISNUMBER(FIND(MID(A22,5,1)&"x","0x1x2x3x4x5x6x7x8x9x")),ISNUMBER(FIND(MID(A22,6,1)&"x","0x1x2x3x4x5x6x7x8x9x")),ISNUMBER(FIND(MID(A22,7,1)&"x","0x1x2x3x4x5x6x7x8x9x")),ISNUMBER(FIND(MID(A22,8,1)&"x","0x1x2x3x4x5x6x7x8x9x")))),"活動IDはACT-と半角数字4桁",IF(COUNTIFS($A$8:$A$57,A22)>1,"活動IDが重複",IF(NOT(AND(ISTEXT(B22),LEN(B22)=8,EXACT(LEFT(B22,4),"STF-"),ISNUMBER(FIND(MID(B22,5,1)&"x","0x1x2x3x4x5x6x7x8x9x")),ISNUMBER(FIND(MID(B22,6,1)&"x","0x1x2x3x4x5x6x7x8x9x")),ISNUMBER(FIND(MID(B22,7,1)&"x","0x1x2x3x4x5x6x7x8x9x")),ISNUMBER(FIND(MID(B22,8,1)&"x","0x1x2x3x4x5x6x7x8x9x")))),"担当IDの形式を確認",IF(COUNTIFS(登録ID!$F$8:$F$27,B22)<>1,"担当が未登録/重複",IF(AND(COUNTA(C22)>0,NOT(AND(ISTEXT(C22),LEN(C22)=8,EXACT(LEFT(C22,4),"CUS-"),ISNUMBER(FIND(MID(C22,5,1)&"x","0x1x2x3x4x5x6x7x8x9x")),ISNUMBER(FIND(MID(C22,6,1)&"x","0x1x2x3x4x5x6x7x8x9x")),ISNUMBER(FIND(MID(C22,7,1)&"x","0x1x2x3x4x5x6x7x8x9x")),ISNUMBER(FIND(MID(C22,8,1)&"x","0x1x2x3x4x5x6x7x8x9x"))))),"顧客IDの形式を確認",IF(AND(COUNTA(C22)>0,COUNTIFS(登録ID!$A$8:$A$57,C22)<>1),"顧客が未登録/重複",IF(NOT(OR(D22="訪問",D22="オンライン",D22="電話",D22="メール",D22="事務",D22="その他")),"活動種別を確認",IF(NOT(OR(E22="実施",E22="中止",E22="未確認")),"実施区分を確認",IF(NOT(IF(ISNUMBER(F22),AND(F22>=43831,F22<73051,F22=INT(F22)),FALSE())),"活動日は時刻なしで必須",IF(NOT(IF(ISNUMBER(I22),AND(I22>=43831,I22<73051,I22=INT(I22)),FALSE())),"記録確認日は時刻なしで必須",IF(OR(F22>I22,I22>日報!$H$3),"活動日≦確認日≦基準日を確認",IF(AND(E22="実施",NOT(AND(IF(ISNUMBER(G22),AND(G22>=43831,G22<73051,ABS(G22*1440-ROUND(G22*1440,0))<0.00001),FALSE()),IF(ISNUMBER(H22),AND(H22>=43831,H22<73051,ABS(H22*1440-ROUND(H22*1440,0))<0.00001),FALSE())))),"実施は分単位の開始/終了日時が必須",IF(AND(E22<>"実施",COUNTA(G22:H22)>0),"中止/未確認の開始/終了は空欄",IF(AND(E22="実施",OR(G22<F22,G22>=F22+1,H22<=G22,H22>F22+1,H22>=I22+1)),"時間の順序・活動日/確認日を確認",IF(AND(E22="実施",COUNTIFS($B$8:$B$57,B22,$E$8:$E$57,"実施",$G$8:$G$57,"<"&H22,$H$8:$H$57,">"&G22)>1),"同じ担当の実施時間が重複","確認済み")))))))))))))))) | M22: =IF(L22="","",IF(L22="確認済み",0,1)) | N22: =IF(COUNTA(A22:I22)=0,IF(AND(L22="",M22="",J22="",K22=""),0,1),IF(NOT(AND(ISTEXT(L22),L22=IF(COUNTA(A22:I22)=0,"",IF(NOT(AND(ISTEXT(A22),LEN(A22)=8,EXACT(LEFT(A22,4),"ACT-"),ISNUMBER(FIND(MID(A22,5,1)&"x","0x1x2x3x4x5x6x7x8x9x")),ISNUMBER(FIND(MID(A22,6,1)&"x","0x1x2x3x4x5x6x7x8x9x")),ISNUMBER(FIND(MID(A22,7,1)&"x","0x1x2x3x4x5x6x7x8x9x")),ISNUMBER(FIND(MID(A22,8,1)&"x","0x1x2x3x4x5x6x7x8x9x")))),"活動IDはACT-と半角数字4桁",IF(COUNTIFS($A$8:$A$57,A22)>1,"活動IDが重複",IF(NOT(AND(ISTEXT(B22),LEN(B22)=8,EXACT(LEFT(B22,4),"STF-"),ISNUMBER(FIND(MID(B22,5,1)&"x","0x1x2x3x4x5x6x7x8x9x")),ISNUMBER(FIND(MID(B22,6,1)&"x","0x1x2x3x4x5x6x7x8x9x")),ISNUMBER(FIND(MID(B22,7,1)&"x","0x1x2x3x4x5x6x7x8x9x")),ISNUMBER(FIND(MID(B22,8,1)&"x","0x1x2x3x4x5x6x7x8x9x")))),"担当IDの形式を確認",IF(COUNTIFS(登録ID!$F$8:$F$27,B22)<>1,"担当が未登録/重複",IF(AND(COUNTA(C22)>0,NOT(AND(ISTEXT(C22),LEN(C22)=8,EXACT(LEFT(C22,4),"CUS-"),ISNUMBER(FIND(MID(C22,5,1)&"x","0x1x2x3x4x5x6x7x8x9x")),ISNUMBER(FIND(MID(C22,6,1)&"x","0x1x2x3x4x5x6x7x8x9x")),ISNUMBER(FIND(MID(C22,7,1)&"x","0x1x2x3x4x5x6x7x8x9x")),ISNUMBER(FIND(MID(C22,8,1)&"x","0x1x2x3x4x5x6x7x8x9x"))))),"顧客IDの形式を確認",IF(AND(COUNTA(C22)>0,COUNTIFS(登録ID!$A$8:$A$57,C22)<>1),"顧客が未登録/重複",IF(NOT(OR(D22="訪問",D22="オンライン",D22="電話",D22="メール",D22="事務",D22="その他")),"活動種別を確認",IF(NOT(OR(E22="実施",E22="中止",E22="未確認")),"実施区分を確認",IF(NOT(IF(ISNUMBER(F22),AND(F22>=43831,F22<73051,F22=INT(F22)),FALSE())),"活動日は時刻なしで必須",IF(NOT(IF(ISNUMBER(I22),AND(I22>=43831,I22<73051,I22=INT(I22)),FALSE())),"記録確認日は時刻なしで必須",IF(OR(F22>I22,I22>日報!$H$3),"活動日≦確認日≦基準日を確認",IF(AND(E22="実施",NOT(AND(IF(ISNUMBER(G22),AND(G22>=43831,G22<73051,ABS(G22*1440-ROUND(G22*1440,0))<0.00001),FALSE()),IF(ISNUMBER(H22),AND(H22>=43831,H22<73051,ABS(H22*1440-ROUND(H22*1440,0))<0.00001),FALSE())))),"実施は分単位の開始/終了日時が必須",IF(AND(E22<>"実施",COUNTA(G22:H22)>0),"中止/未確認の開始/終了は空欄",IF(AND(E22="実施",OR(G22<F22,G22>=F22+1,H22<=G22,H22>F22+1,H22>=I22+1)),"時間の順序・活動日/確認日を確認",IF(AND(E22="実施",COUNTIFS($B$8:$B$57,B22,$E$8:$E$57,"実施",$G$8:$G$57,"<"&H22,$H$8:$H$57,">"&G22)>1),"同じ担当の実施時間が重複","確認済み")))))))))))))))),ISNUMBER(M22),M22=IF(L22="確認済み",0,1))),1,IF(M22<>0,0,IF(AND(IF(E22="実施",ISNUMBER(J22),ISTEXT(J22)),J22=IF(E22="実施",ROUND((H22-G22)*1440,0),""),ISNUMBER(K22),K22=IF(AND(B22=日報!$E$3,F22=日報!$B$3),COUNTIFS($B$8:B22,B22,$F$8:F22,F22),0)),0,1)))) -> 0
J23: =IF(L23="","",IF(M23<>0,NA(),IF(E23="実施",ROUND((H23-G23)*1440,0),""))) | K23: =IF(L23="","",IF(M23<>0,NA(),IF(AND(B23=日報!$E$3,F23=日報!$B$3),COUNTIFS($B$8:B23,B23,$F$8:F23,F23),0))) | L23: =IF(COUNTA(A23:I23)=0,"",IF(NOT(AND(ISTEXT(A23),LEN(A23)=8,EXACT(LEFT(A23,4),"ACT-"),ISNUMBER(FIND(MID(A23,5,1)&"x","0x1x2x3x4x5x6x7x8x9x")),ISNUMBER(FIND(MID(A23,6,1)&"x","0x1x2x3x4x5x6x7x8x9x")),ISNUMBER(FIND(MID(A23,7,1)&"x","0x1x2x3x4x5x6x7x8x9x")),ISNUMBER(FIND(MID(A23,8,1)&"x","0x1x2x3x4x5x6x7x8x9x")))),"活動IDはACT-と半角数字4桁",IF(COUNTIFS($A$8:$A$57,A23)>1,"活動IDが重複",IF(NOT(AND(ISTEXT(B23),LEN(B23)=8,EXACT(LEFT(B23,4),"STF-"),ISNUMBER(FIND(MID(B23,5,1)&"x","0x1x2x3x4x5x6x7x8x9x")),ISNUMBER(FIND(MID(B23,6,1)&"x","0x1x2x3x4x5x6x7x8x9x")),ISNUMBER(FIND(MID(B23,7,1)&"x","0x1x2x3x4x5x6x7x8x9x")),ISNUMBER(FIND(MID(B23,8,1)&"x","0x1x2x3x4x5x6x7x8x9x")))),"担当IDの形式を確認",IF(COUNTIFS(登録ID!$F$8:$F$27,B23)<>1,"担当が未登録/重複",IF(AND(COUNTA(C23)>0,NOT(AND(ISTEXT(C23),LEN(C23)=8,EXACT(LEFT(C23,4),"CUS-"),ISNUMBER(FIND(MID(C23,5,1)&"x","0x1x2x3x4x5x6x7x8x9x")),ISNUMBER(FIND(MID(C23,6,1)&"x","0x1x2x3x4x5x6x7x8x9x")),ISNUMBER(FIND(MID(C23,7,1)&"x","0x1x2x3x4x5x6x7x8x9x")),ISNUMBER(FIND(MID(C23,8,1)&"x","0x1x2x3x4x5x6x7x8x9x"))))),"顧客IDの形式を確認",IF(AND(COUNTA(C23)>0,COUNTIFS(登録ID!$A$8:$A$57,C23)<>1),"顧客が未登録/重複",IF(NOT(OR(D23="訪問",D23="オンライン",D23="電話",D23="メール",D23="事務",D23="その他")),"活動種別を確認",IF(NOT(OR(E23="実施",E23="中止",E23="未確認")),"実施区分を確認",IF(NOT(IF(ISNUMBER(F23),AND(F23>=43831,F23<73051,F23=INT(F23)),FALSE())),"活動日は時刻なしで必須",IF(NOT(IF(ISNUMBER(I23),AND(I23>=43831,I23<73051,I23=INT(I23)),FALSE())),"記録確認日は時刻なしで必須",IF(OR(F23>I23,I23>日報!$H$3),"活動日≦確認日≦基準日を確認",IF(AND(E23="実施",NOT(AND(IF(ISNUMBER(G23),AND(G23>=43831,G23<73051,ABS(G23*1440-ROUND(G23*1440,0))<0.00001),FALSE()),IF(ISNUMBER(H23),AND(H23>=43831,H23<73051,ABS(H23*1440-ROUND(H23*1440,0))<0.00001),FALSE())))),"実施は分単位の開始/終了日時が必須",IF(AND(E23<>"実施",COUNTA(G23:H23)>0),"中止/未確認の開始/終了は空欄",IF(AND(E23="実施",OR(G23<F23,G23>=F23+1,H23<=G23,H23>F23+1,H23>=I23+1)),"時間の順序・活動日/確認日を確認",IF(AND(E23="実施",COUNTIFS($B$8:$B$57,B23,$E$8:$E$57,"実施",$G$8:$G$57,"<"&H23,$H$8:$H$57,">"&G23)>1),"同じ担当の実施時間が重複","確認済み")))))))))))))))) | M23: =IF(L23="","",IF(L23="確認済み",0,1)) | N23: =IF(COUNTA(A23:I23)=0,IF(AND(L23="",M23="",J23="",K23=""),0,1),IF(NOT(AND(ISTEXT(L23),L23=IF(COUNTA(A23:I23)=0,"",IF(NOT(AND(ISTEXT(A23),LEN(A23)=8,EXACT(LEFT(A23,4),"ACT-"),ISNUMBER(FIND(MID(A23,5,1)&"x","0x1x2x3x4x5x6x7x8x9x")),ISNUMBER(FIND(MID(A23,6,1)&"x","0x1x2x3x4x5x6x7x8x9x")),ISNUMBER(FIND(MID(A23,7,1)&"x","0x1x2x3x4x5x6x7x8x9x")),ISNUMBER(FIND(MID(A23,8,1)&"x","0x1x2x3x4x5x6x7x8x9x")))),"活動IDはACT-と半角数字4桁",IF(COUNTIFS($A$8:$A$57,A23)>1,"活動IDが重複",IF(NOT(AND(ISTEXT(B23),LEN(B23)=8,EXACT(LEFT(B23,4),"STF-"),ISNUMBER(FIND(MID(B23,5,1)&"x","0x1x2x3x4x5x6x7x8x9x")),ISNUMBER(FIND(MID(B23,6,1)&"x","0x1x2x3x4x5x6x7x8x9x")),ISNUMBER(FIND(MID(B23,7,1)&"x","0x1x2x3x4x5x6x7x8x9x")),ISNUMBER(FIND(MID(B23,8,1)&"x","0x1x2x3x4x5x6x7x8x9x")))),"担当IDの形式を確認",IF(COUNTIFS(登録ID!$F$8:$F$27,B23)<>1,"担当が未登録/重複",IF(AND(COUNTA(C23)>0,NOT(AND(ISTEXT(C23),LEN(C23)=8,EXACT(LEFT(C23,4),"CUS-"),ISNUMBER(FIND(MID(C23,5,1)&"x","0x1x2x3x4x5x6x7x8x9x")),ISNUMBER(FIND(MID(C23,6,1)&"x","0x1x2x3x4x5x6x7x8x9x")),ISNUMBER(FIND(MID(C23,7,1)&"x","0x1x2x3x4x5x6x7x8x9x")),ISNUMBER(FIND(MID(C23,8,1)&"x","0x1x2x3x4x5x6x7x8x9x"))))),"顧客IDの形式を確認",IF(AND(COUNTA(C23)>0,COUNTIFS(登録ID!$A$8:$A$57,C23)<>1),"顧客が未登録/重複",IF(NOT(OR(D23="訪問",D23="オンライン",D23="電話",D23="メール",D23="事務",D23="その他")),"活動種別を確認",IF(NOT(OR(E23="実施",E23="中止",E23="未確認")),"実施区分を確認",IF(NOT(IF(ISNUMBER(F23),AND(F23>=43831,F23<73051,F23=INT(F23)),FALSE())),"活動日は時刻なしで必須",IF(NOT(IF(ISNUMBER(I23),AND(I23>=43831,I23<73051,I23=INT(I23)),FALSE())),"記録確認日は時刻なしで必須",IF(OR(F23>I23,I23>日報!$H$3),"活動日≦確認日≦基準日を確認",IF(AND(E23="実施",NOT(AND(IF(ISNUMBER(G23),AND(G23>=43831,G23<73051,ABS(G23*1440-ROUND(G23*1440,0))<0.00001),FALSE()),IF(ISNUMBER(H23),AND(H23>=43831,H23<73051,ABS(H23*1440-ROUND(H23*1440,0))<0.00001),FALSE())))),"実施は分単位の開始/終了日時が必須",IF(AND(E23<>"実施",COUNTA(G23:H23)>0),"中止/未確認の開始/終了は空欄",IF(AND(E23="実施",OR(G23<F23,G23>=F23+1,H23<=G23,H23>F23+1,H23>=I23+1)),"時間の順序・活動日/確認日を確認",IF(AND(E23="実施",COUNTIFS($B$8:$B$57,B23,$E$8:$E$57,"実施",$G$8:$G$57,"<"&H23,$H$8:$H$57,">"&G23)>1),"同じ担当の実施時間が重複","確認済み")))))))))))))))),ISNUMBER(M23),M23=IF(L23="確認済み",0,1))),1,IF(M23<>0,0,IF(AND(IF(E23="実施",ISNUMBER(J23),ISTEXT(J23)),J23=IF(E23="実施",ROUND((H23-G23)*1440,0),""),ISNUMBER(K23),K23=IF(AND(B23=日報!$E$3,F23=日報!$B$3),COUNTIFS($B$8:B23,B23,$F$8:F23,F23),0)),0,1)))) -> 0
J24: =IF(L24="","",IF(M24<>0,NA(),IF(E24="実施",ROUND((H24-G24)*1440,0),""))) | K24: =IF(L24="","",IF(M24<>0,NA(),IF(AND(B24=日報!$E$3,F24=日報!$B$3),COUNTIFS($B$8:B24,B24,$F$8:F24,F24),0))) | L24: =IF(COUNTA(A24:I24)=0,"",IF(NOT(AND(ISTEXT(A24),LEN(A24)=8,EXACT(LEFT(A24,4),"ACT-"),ISNUMBER(FIND(MID(A24,5,1)&"x","0x1x2x3x4x5x6x7x8x9x")),ISNUMBER(FIND(MID(A24,6,1)&"x","0x1x2x3x4x5x6x7x8x9x")),ISNUMBER(FIND(MID(A24,7,1)&"x","0x1x2x3x4x5x6x7x8x9x")),ISNUMBER(FIND(MID(A24,8,1)&"x","0x1x2x3x4x5x6x7x8x9x")))),"活動IDはACT-と半角数字4桁",IF(COUNTIFS($A$8:$A$57,A24)>1,"活動IDが重複",IF(NOT(AND(ISTEXT(B24),LEN(B24)=8,EXACT(LEFT(B24,4),"STF-"),ISNUMBER(FIND(MID(B24,5,1)&"x","0x1x2x3x4x5x6x7x8x9x")),ISNUMBER(FIND(MID(B24,6,1)&"x","0x1x2x3x4x5x6x7x8x9x")),ISNUMBER(FIND(MID(B24,7,1)&"x","0x1x2x3x4x5x6x7x8x9x")),ISNUMBER(FIND(MID(B24,8,1)&"x","0x1x2x3x4x5x6x7x8x9x")))),"担当IDの形式を確認",IF(COUNTIFS(登録ID!$F$8:$F$27,B24)<>1,"担当が未登録/重複",IF(AND(COUNTA(C24)>0,NOT(AND(ISTEXT(C24),LEN(C24)=8,EXACT(LEFT(C24,4),"CUS-"),ISNUMBER(FIND(MID(C24,5,1)&"x","0x1x2x3x4x5x6x7x8x9x")),ISNUMBER(FIND(MID(C24,6,1)&"x","0x1x2x3x4x5x6x7x8x9x")),ISNUMBER(FIND(MID(C24,7,1)&"x","0x1x2x3x4x5x6x7x8x9x")),ISNUMBER(FIND(MID(C24,8,1)&"x","0x1x2x3x4x5x6x7x8x9x"))))),"顧客IDの形式を確認",IF(AND(COUNTA(C24)>0,COUNTIFS(登録ID!$A$8:$A$57,C24)<>1),"顧客が未登録/重複",IF(NOT(OR(D24="訪問",D24="オンライン",D24="電話",D24="メール",D24="事務",D24="その他")),"活動種別を確認",IF(NOT(OR(E24="実施",E24="中止",E24="未確認")),"実施区分を確認",IF(NOT(IF(ISNUMBER(F24),AND(F24>=43831,F24<73051,F24=INT(F24)),FALSE())),"活動日は時刻なしで必須",IF(NOT(IF(ISNUMBER(I24),AND(I24>=43831,I24<73051,I24=INT(I24)),FALSE())),"記録確認日は時刻なしで必須",IF(OR(F24>I24,I24>日報!$H$3),"活動日≦確認日≦基準日を確認",IF(AND(E24="実施",NOT(AND(IF(ISNUMBER(G24),AND(G24>=43831,G24<73051,ABS(G24*1440-ROUND(G24*1440,0))<0.00001),FALSE()),IF(ISNUMBER(H24),AND(H24>=43831,H24<73051,ABS(H24*1440-ROUND(H24*1440,0))<0.00001),FALSE())))),"実施は分単位の開始/終了日時が必須",IF(AND(E24<>"実施",COUNTA(G24:H24)>0),"中止/未確認の開始/終了は空欄",IF(AND(E24="実施",OR(G24<F24,G24>=F24+1,H24<=G24,H24>F24+1,H24>=I24+1)),"時間の順序・活動日/確認日を確認",IF(AND(E24="実施",COUNTIFS($B$8:$B$57,B24,$E$8:$E$57,"実施",$G$8:$G$57,"<"&H24,$H$8:$H$57,">"&G24)>1),"同じ担当の実施時間が重複","確認済み")))))))))))))))) | M24: =IF(L24="","",IF(L24="確認済み",0,1)) | N24: =IF(COUNTA(A24:I24)=0,IF(AND(L24="",M24="",J24="",K24=""),0,1),IF(NOT(AND(ISTEXT(L24),L24=IF(COUNTA(A24:I24)=0,"",IF(NOT(AND(ISTEXT(A24),LEN(A24)=8,EXACT(LEFT(A24,4),"ACT-"),ISNUMBER(FIND(MID(A24,5,1)&"x","0x1x2x3x4x5x6x7x8x9x")),ISNUMBER(FIND(MID(A24,6,1)&"x","0x1x2x3x4x5x6x7x8x9x")),ISNUMBER(FIND(MID(A24,7,1)&"x","0x1x2x3x4x5x6x7x8x9x")),ISNUMBER(FIND(MID(A24,8,1)&"x","0x1x2x3x4x5x6x7x8x9x")))),"活動IDはACT-と半角数字4桁",IF(COUNTIFS($A$8:$A$57,A24)>1,"活動IDが重複",IF(NOT(AND(ISTEXT(B24),LEN(B24)=8,EXACT(LEFT(B24,4),"STF-"),ISNUMBER(FIND(MID(B24,5,1)&"x","0x1x2x3x4x5x6x7x8x9x")),ISNUMBER(FIND(MID(B24,6,1)&"x","0x1x2x3x4x5x6x7x8x9x")),ISNUMBER(FIND(MID(B24,7,1)&"x","0x1x2x3x4x5x6x7x8x9x")),ISNUMBER(FIND(MID(B24,8,1)&"x","0x1x2x3x4x5x6x7x8x9x")))),"担当IDの形式を確認",IF(COUNTIFS(登録ID!$F$8:$F$27,B24)<>1,"担当が未登録/重複",IF(AND(COUNTA(C24)>0,NOT(AND(ISTEXT(C24),LEN(C24)=8,EXACT(LEFT(C24,4),"CUS-"),ISNUMBER(FIND(MID(C24,5,1)&"x","0x1x2x3x4x5x6x7x8x9x")),ISNUMBER(FIND(MID(C24,6,1)&"x","0x1x2x3x4x5x6x7x8x9x")),ISNUMBER(FIND(MID(C24,7,1)&"x","0x1x2x3x4x5x6x7x8x9x")),ISNUMBER(FIND(MID(C24,8,1)&"x","0x1x2x3x4x5x6x7x8x9x"))))),"顧客IDの形式を確認",IF(AND(COUNTA(C24)>0,COUNTIFS(登録ID!$A$8:$A$57,C24)<>1),"顧客が未登録/重複",IF(NOT(OR(D24="訪問",D24="オンライン",D24="電話",D24="メール",D24="事務",D24="その他")),"活動種別を確認",IF(NOT(OR(E24="実施",E24="中止",E24="未確認")),"実施区分を確認",IF(NOT(IF(ISNUMBER(F24),AND(F24>=43831,F24<73051,F24=INT(F24)),FALSE())),"活動日は時刻なしで必須",IF(NOT(IF(ISNUMBER(I24),AND(I24>=43831,I24<73051,I24=INT(I24)),FALSE())),"記録確認日は時刻なしで必須",IF(OR(F24>I24,I24>日報!$H$3),"活動日≦確認日≦基準日を確認",IF(AND(E24="実施",NOT(AND(IF(ISNUMBER(G24),AND(G24>=43831,G24<73051,ABS(G24*1440-ROUND(G24*1440,0))<0.00001),FALSE()),IF(ISNUMBER(H24),AND(H24>=43831,H24<73051,ABS(H24*1440-ROUND(H24*1440,0))<0.00001),FALSE())))),"実施は分単位の開始/終了日時が必須",IF(AND(E24<>"実施",COUNTA(G24:H24)>0),"中止/未確認の開始/終了は空欄",IF(AND(E24="実施",OR(G24<F24,G24>=F24+1,H24<=G24,H24>F24+1,H24>=I24+1)),"時間の順序・活動日/確認日を確認",IF(AND(E24="実施",COUNTIFS($B$8:$B$57,B24,$E$8:$E$57,"実施",$G$8:$G$57,"<"&H24,$H$8:$H$57,">"&G24)>1),"同じ担当の実施時間が重複","確認済み")))))))))))))))),ISNUMBER(M24),M24=IF(L24="確認済み",0,1))),1,IF(M24<>0,0,IF(AND(IF(E24="実施",ISNUMBER(J24),ISTEXT(J24)),J24=IF(E24="実施",ROUND((H24-G24)*1440,0),""),ISNUMBER(K24),K24=IF(AND(B24=日報!$E$3,F24=日報!$B$3),COUNTIFS($B$8:B24,B24,$F$8:F24,F24),0)),0,1)))) -> 0
J25: =IF(L25="","",IF(M25<>0,NA(),IF(E25="実施",ROUND((H25-G25)*1440,0),""))) | K25: =IF(L25="","",IF(M25<>0,NA(),IF(AND(B25=日報!$E$3,F25=日報!$B$3),COUNTIFS($B$8:B25,B25,$F$8:F25,F25),0))) | L25: =IF(COUNTA(A25:I25)=0,"",IF(NOT(AND(ISTEXT(A25),LEN(A25)=8,EXACT(LEFT(A25,4),"ACT-"),ISNUMBER(FIND(MID(A25,5,1)&"x","0x1x2x3x4x5x6x7x8x9x")),ISNUMBER(FIND(MID(A25,6,1)&"x","0x1x2x3x4x5x6x7x8x9x")),ISNUMBER(FIND(MID(A25,7,1)&"x","0x1x2x3x4x5x6x7x8x9x")),ISNUMBER(FIND(MID(A25,8,1)&"x","0x1x2x3x4x5x6x7x8x9x")))),"活動IDはACT-と半角数字4桁",IF(COUNTIFS($A$8:$A$57,A25)>1,"活動IDが重複",IF(NOT(AND(ISTEXT(B25),LEN(B25)=8,EXACT(LEFT(B25,4),"STF-"),ISNUMBER(FIND(MID(B25,5,1)&"x","0x1x2x3x4x5x6x7x8x9x")),ISNUMBER(FIND(MID(B25,6,1)&"x","0x1x2x3x4x5x6x7x8x9x")),ISNUMBER(FIND(MID(B25,7,1)&"x","0x1x2x3x4x5x6x7x8x9x")),ISNUMBER(FIND(MID(B25,8,1)&"x","0x1x2x3x4x5x6x7x8x9x")))),"担当IDの形式を確認",IF(COUNTIFS(登録ID!$F$8:$F$27,B25)<>1,"担当が未登録/重複",IF(AND(COUNTA(C25)>0,NOT(AND(ISTEXT(C25),LEN(C25)=8,EXACT(LEFT(C25,4),"CUS-"),ISNUMBER(FIND(MID(C25,5,1)&"x","0x1x2x3x4x5x6x7x8x9x")),ISNUMBER(FIND(MID(C25,6,1)&"x","0x1x2x3x4x5x6x7x8x9x")),ISNUMBER(FIND(MID(C25,7,1)&"x","0x1x2x3x4x5x6x7x8x9x")),ISNUMBER(FIND(MID(C25,8,1)&"x","0x1x2x3x4x5x6x7x8x9x"))))),"顧客IDの形式を確認",IF(AND(COUNTA(C25)>0,COUNTIFS(登録ID!$A$8:$A$57,C25)<>1),"顧客が未登録/重複",IF(NOT(OR(D25="訪問",D25="オンライン",D25="電話",D25="メール",D25="事務",D25="その他")),"活動種別を確認",IF(NOT(OR(E25="実施",E25="中止",E25="未確認")),"実施区分を確認",IF(NOT(IF(ISNUMBER(F25),AND(F25>=43831,F25<73051,F25=INT(F25)),FALSE())),"活動日は時刻なしで必須",IF(NOT(IF(ISNUMBER(I25),AND(I25>=43831,I25<73051,I25=INT(I25)),FALSE())),"記録確認日は時刻なしで必須",IF(OR(F25>I25,I25>日報!$H$3),"活動日≦確認日≦基準日を確認",IF(AND(E25="実施",NOT(AND(IF(ISNUMBER(G25),AND(G25>=43831,G25<73051,ABS(G25*1440-ROUND(G25*1440,0))<0.00001),FALSE()),IF(ISNUMBER(H25),AND(H25>=43831,H25<73051,ABS(H25*1440-ROUND(H25*1440,0))<0.00001),FALSE())))),"実施は分単位の開始/終了日時が必須",IF(AND(E25<>"実施",COUNTA(G25:H25)>0),"中止/未確認の開始/終了は空欄",IF(AND(E25="実施",OR(G25<F25,G25>=F25+1,H25<=G25,H25>F25+1,H25>=I25+1)),"時間の順序・活動日/確認日を確認",IF(AND(E25="実施",COUNTIFS($B$8:$B$57,B25,$E$8:$E$57,"実施",$G$8:$G$57,"<"&H25,$H$8:$H$57,">"&G25)>1),"同じ担当の実施時間が重複","確認済み")))))))))))))))) | M25: =IF(L25="","",IF(L25="確認済み",0,1)) | N25: =IF(COUNTA(A25:I25)=0,IF(AND(L25="",M25="",J25="",K25=""),0,1),IF(NOT(AND(ISTEXT(L25),L25=IF(COUNTA(A25:I25)=0,"",IF(NOT(AND(ISTEXT(A25),LEN(A25)=8,EXACT(LEFT(A25,4),"ACT-"),ISNUMBER(FIND(MID(A25,5,1)&"x","0x1x2x3x4x5x6x7x8x9x")),ISNUMBER(FIND(MID(A25,6,1)&"x","0x1x2x3x4x5x6x7x8x9x")),ISNUMBER(FIND(MID(A25,7,1)&"x","0x1x2x3x4x5x6x7x8x9x")),ISNUMBER(FIND(MID(A25,8,1)&"x","0x1x2x3x4x5x6x7x8x9x")))),"活動IDはACT-と半角数字4桁",IF(COUNTIFS($A$8:$A$57,A25)>1,"活動IDが重複",IF(NOT(AND(ISTEXT(B25),LEN(B25)=8,EXACT(LEFT(B25,4),"STF-"),ISNUMBER(FIND(MID(B25,5,1)&"x","0x1x2x3x4x5x6x7x8x9x")),ISNUMBER(FIND(MID(B25,6,1)&"x","0x1x2x3x4x5x6x7x8x9x")),ISNUMBER(FIND(MID(B25,7,1)&"x","0x1x2x3x4x5x6x7x8x9x")),ISNUMBER(FIND(MID(B25,8,1)&"x","0x1x2x3x4x5x6x7x8x9x")))),"担当IDの形式を確認",IF(COUNTIFS(登録ID!$F$8:$F$27,B25)<>1,"担当が未登録/重複",IF(AND(COUNTA(C25)>0,NOT(AND(ISTEXT(C25),LEN(C25)=8,EXACT(LEFT(C25,4),"CUS-"),ISNUMBER(FIND(MID(C25,5,1)&"x","0x1x2x3x4x5x6x7x8x9x")),ISNUMBER(FIND(MID(C25,6,1)&"x","0x1x2x3x4x5x6x7x8x9x")),ISNUMBER(FIND(MID(C25,7,1)&"x","0x1x2x3x4x5x6x7x8x9x")),ISNUMBER(FIND(MID(C25,8,1)&"x","0x1x2x3x4x5x6x7x8x9x"))))),"顧客IDの形式を確認",IF(AND(COUNTA(C25)>0,COUNTIFS(登録ID!$A$8:$A$57,C25)<>1),"顧客が未登録/重複",IF(NOT(OR(D25="訪問",D25="オンライン",D25="電話",D25="メール",D25="事務",D25="その他")),"活動種別を確認",IF(NOT(OR(E25="実施",E25="中止",E25="未確認")),"実施区分を確認",IF(NOT(IF(ISNUMBER(F25),AND(F25>=43831,F25<73051,F25=INT(F25)),FALSE())),"活動日は時刻なしで必須",IF(NOT(IF(ISNUMBER(I25),AND(I25>=43831,I25<73051,I25=INT(I25)),FALSE())),"記録確認日は時刻なしで必須",IF(OR(F25>I25,I25>日報!$H$3),"活動日≦確認日≦基準日を確認",IF(AND(E25="実施",NOT(AND(IF(ISNUMBER(G25),AND(G25>=43831,G25<73051,ABS(G25*1440-ROUND(G25*1440,0))<0.00001),FALSE()),IF(ISNUMBER(H25),AND(H25>=43831,H25<73051,ABS(H25*1440-ROUND(H25*1440,0))<0.00001),FALSE())))),"実施は分単位の開始/終了日時が必須",IF(AND(E25<>"実施",COUNTA(G25:H25)>0),"中止/未確認の開始/終了は空欄",IF(AND(E25="実施",OR(G25<F25,G25>=F25+1,H25<=G25,H25>F25+1,H25>=I25+1)),"時間の順序・活動日/確認日を確認",IF(AND(E25="実施",COUNTIFS($B$8:$B$57,B25,$E$8:$E$57,"実施",$G$8:$G$57,"<"&H25,$H$8:$H$57,">"&G25)>1),"同じ担当の実施時間が重複","確認済み")))))))))))))))),ISNUMBER(M25),M25=IF(L25="確認済み",0,1))),1,IF(M25<>0,0,IF(AND(IF(E25="実施",ISNUMBER(J25),ISTEXT(J25)),J25=IF(E25="実施",ROUND((H25-G25)*1440,0),""),ISNUMBER(K25),K25=IF(AND(B25=日報!$E$3,F25=日報!$B$3),COUNTIFS($B$8:B25,B25,$F$8:F25,F25),0)),0,1)))) -> 0
J26: =IF(L26="","",IF(M26<>0,NA(),IF(E26="実施",ROUND((H26-G26)*1440,0),""))) | K26: =IF(L26="","",IF(M26<>0,NA(),IF(AND(B26=日報!$E$3,F26=日報!$B$3),COUNTIFS($B$8:B26,B26,$F$8:F26,F26),0))) | L26: =IF(COUNTA(A26:I26)=0,"",IF(NOT(AND(ISTEXT(A26),LEN(A26)=8,EXACT(LEFT(A26,4),"ACT-"),ISNUMBER(FIND(MID(A26,5,1)&"x","0x1x2x3x4x5x6x7x8x9x")),ISNUMBER(FIND(MID(A26,6,1)&"x","0x1x2x3x4x5x6x7x8x9x")),ISNUMBER(FIND(MID(A26,7,1)&"x","0x1x2x3x4x5x6x7x8x9x")),ISNUMBER(FIND(MID(A26,8,1)&"x","0x1x2x3x4x5x6x7x8x9x")))),"活動IDはACT-と半角数字4桁",IF(COUNTIFS($A$8:$A$57,A26)>1,"活動IDが重複",IF(NOT(AND(ISTEXT(B26),LEN(B26)=8,EXACT(LEFT(B26,4),"STF-"),ISNUMBER(FIND(MID(B26,5,1)&"x","0x1x2x3x4x5x6x7x8x9x")),ISNUMBER(FIND(MID(B26,6,1)&"x","0x1x2x3x4x5x6x7x8x9x")),ISNUMBER(FIND(MID(B26,7,1)&"x","0x1x2x3x4x5x6x7x8x9x")),ISNUMBER(FIND(MID(B26,8,1)&"x","0x1x2x3x4x5x6x7x8x9x")))),"担当IDの形式を確認",IF(COUNTIFS(登録ID!$F$8:$F$27,B26)<>1,"担当が未登録/重複",IF(AND(COUNTA(C26)>0,NOT(AND(ISTEXT(C26),LEN(C26)=8,EXACT(LEFT(C26,4),"CUS-"),ISNUMBER(FIND(MID(C26,5,1)&"x","0x1x2x3x4x5x6x7x8x9x")),ISNUMBER(FIND(MID(C26,6,1)&"x","0x1x2x3x4x5x6x7x8x9x")),ISNUMBER(FIND(MID(C26,7,1)&"x","0x1x2x3x4x5x6x7x8x9x")),ISNUMBER(FIND(MID(C26,8,1)&"x","0x1x2x3x4x5x6x7x8x9x"))))),"顧客IDの形式を確認",IF(AND(COUNTA(C26)>0,COUNTIFS(登録ID!$A$8:$A$57,C26)<>1),"顧客が未登録/重複",IF(NOT(OR(D26="訪問",D26="オンライン",D26="電話",D26="メール",D26="事務",D26="その他")),"活動種別を確認",IF(NOT(OR(E26="実施",E26="中止",E26="未確認")),"実施区分を確認",IF(NOT(IF(ISNUMBER(F26),AND(F26>=43831,F26<73051,F26=INT(F26)),FALSE())),"活動日は時刻なしで必須",IF(NOT(IF(ISNUMBER(I26),AND(I26>=43831,I26<73051,I26=INT(I26)),FALSE())),"記録確認日は時刻なしで必須",IF(OR(F26>I26,I26>日報!$H$3),"活動日≦確認日≦基準日を確認",IF(AND(E26="実施",NOT(AND(IF(ISNUMBER(G26),AND(G26>=43831,G26<73051,ABS(G26*1440-ROUND(G26*1440,0))<0.00001),FALSE()),IF(ISNUMBER(H26),AND(H26>=43831,H26<73051,ABS(H26*1440-ROUND(H26*1440,0))<0.00001),FALSE())))),"実施は分単位の開始/終了日時が必須",IF(AND(E26<>"実施",COUNTA(G26:H26)>0),"中止/未確認の開始/終了は空欄",IF(AND(E26="実施",OR(G26<F26,G26>=F26+1,H26<=G26,H26>F26+1,H26>=I26+1)),"時間の順序・活動日/確認日を確認",IF(AND(E26="実施",COUNTIFS($B$8:$B$57,B26,$E$8:$E$57,"実施",$G$8:$G$57,"<"&H26,$H$8:$H$57,">"&G26)>1),"同じ担当の実施時間が重複","確認済み")))))))))))))))) | M26: =IF(L26="","",IF(L26="確認済み",0,1)) | N26: =IF(COUNTA(A26:I26)=0,IF(AND(L26="",M26="",J26="",K26=""),0,1),IF(NOT(AND(ISTEXT(L26),L26=IF(COUNTA(A26:I26)=0,"",IF(NOT(AND(ISTEXT(A26),LEN(A26)=8,EXACT(LEFT(A26,4),"ACT-"),ISNUMBER(FIND(MID(A26,5,1)&"x","0x1x2x3x4x5x6x7x8x9x")),ISNUMBER(FIND(MID(A26,6,1)&"x","0x1x2x3x4x5x6x7x8x9x")),ISNUMBER(FIND(MID(A26,7,1)&"x","0x1x2x3x4x5x6x7x8x9x")),ISNUMBER(FIND(MID(A26,8,1)&"x","0x1x2x3x4x5x6x7x8x9x")))),"活動IDはACT-と半角数字4桁",IF(COUNTIFS($A$8:$A$57,A26)>1,"活動IDが重複",IF(NOT(AND(ISTEXT(B26),LEN(B26)=8,EXACT(LEFT(B26,4),"STF-"),ISNUMBER(FIND(MID(B26,5,1)&"x","0x1x2x3x4x5x6x7x8x9x")),ISNUMBER(FIND(MID(B26,6,1)&"x","0x1x2x3x4x5x6x7x8x9x")),ISNUMBER(FIND(MID(B26,7,1)&"x","0x1x2x3x4x5x6x7x8x9x")),ISNUMBER(FIND(MID(B26,8,1)&"x","0x1x2x3x4x5x6x7x8x9x")))),"担当IDの形式を確認",IF(COUNTIFS(登録ID!$F$8:$F$27,B26)<>1,"担当が未登録/重複",IF(AND(COUNTA(C26)>0,NOT(AND(ISTEXT(C26),LEN(C26)=8,EXACT(LEFT(C26,4),"CUS-"),ISNUMBER(FIND(MID(C26,5,1)&"x","0x1x2x3x4x5x6x7x8x9x")),ISNUMBER(FIND(MID(C26,6,1)&"x","0x1x2x3x4x5x6x7x8x9x")),ISNUMBER(FIND(MID(C26,7,1)&"x","0x1x2x3x4x5x6x7x8x9x")),ISNUMBER(FIND(MID(C26,8,1)&"x","0x1x2x3x4x5x6x7x8x9x"))))),"顧客IDの形式を確認",IF(AND(COUNTA(C26)>0,COUNTIFS(登録ID!$A$8:$A$57,C26)<>1),"顧客が未登録/重複",IF(NOT(OR(D26="訪問",D26="オンライン",D26="電話",D26="メール",D26="事務",D26="その他")),"活動種別を確認",IF(NOT(OR(E26="実施",E26="中止",E26="未確認")),"実施区分を確認",IF(NOT(IF(ISNUMBER(F26),AND(F26>=43831,F26<73051,F26=INT(F26)),FALSE())),"活動日は時刻なしで必須",IF(NOT(IF(ISNUMBER(I26),AND(I26>=43831,I26<73051,I26=INT(I26)),FALSE())),"記録確認日は時刻なしで必須",IF(OR(F26>I26,I26>日報!$H$3),"活動日≦確認日≦基準日を確認",IF(AND(E26="実施",NOT(AND(IF(ISNUMBER(G26),AND(G26>=43831,G26<73051,ABS(G26*1440-ROUND(G26*1440,0))<0.00001),FALSE()),IF(ISNUMBER(H26),AND(H26>=43831,H26<73051,ABS(H26*1440-ROUND(H26*1440,0))<0.00001),FALSE())))),"実施は分単位の開始/終了日時が必須",IF(AND(E26<>"実施",COUNTA(G26:H26)>0),"中止/未確認の開始/終了は空欄",IF(AND(E26="実施",OR(G26<F26,G26>=F26+1,H26<=G26,H26>F26+1,H26>=I26+1)),"時間の順序・活動日/確認日を確認",IF(AND(E26="実施",COUNTIFS($B$8:$B$57,B26,$E$8:$E$57,"実施",$G$8:$G$57,"<"&H26,$H$8:$H$57,">"&G26)>1),"同じ担当の実施時間が重複","確認済み")))))))))))))))),ISNUMBER(M26),M26=IF(L26="確認済み",0,1))),1,IF(M26<>0,0,IF(AND(IF(E26="実施",ISNUMBER(J26),ISTEXT(J26)),J26=IF(E26="実施",ROUND((H26-G26)*1440,0),""),ISNUMBER(K26),K26=IF(AND(B26=日報!$E$3,F26=日報!$B$3),COUNTIFS($B$8:B26,B26,$F$8:F26,F26),0)),0,1)))) -> 0
J27: =IF(L27="","",IF(M27<>0,NA(),IF(E27="実施",ROUND((H27-G27)*1440,0),""))) | K27: =IF(L27="","",IF(M27<>0,NA(),IF(AND(B27=日報!$E$3,F27=日報!$B$3),COUNTIFS($B$8:B27,B27,$F$8:F27,F27),0))) | L27: =IF(COUNTA(A27:I27)=0,"",IF(NOT(AND(ISTEXT(A27),LEN(A27)=8,EXACT(LEFT(A27,4),"ACT-"),ISNUMBER(FIND(MID(A27,5,1)&"x","0x1x2x3x4x5x6x7x8x9x")),ISNUMBER(FIND(MID(A27,6,1)&"x","0x1x2x3x4x5x6x7x8x9x")),ISNUMBER(FIND(MID(A27,7,1)&"x","0x1x2x3x4x5x6x7x8x9x")),ISNUMBER(FIND(MID(A27,8,1)&"x","0x1x2x3x4x5x6x7x8x9x")))),"活動IDはACT-と半角数字4桁",IF(COUNTIFS($A$8:$A$57,A27)>1,"活動IDが重複",IF(NOT(AND(ISTEXT(B27),LEN(B27)=8,EXACT(LEFT(B27,4),"STF-"),ISNUMBER(FIND(MID(B27,5,1)&"x","0x1x2x3x4x5x6x7x8x9x")),ISNUMBER(FIND(MID(B27,6,1)&"x","0x1x2x3x4x5x6x7x8x9x")),ISNUMBER(FIND(MID(B27,7,1)&"x","0x1x2x3x4x5x6x7x8x9x")),ISNUMBER(FIND(MID(B27,8,1)&"x","0x1x2x3x4x5x6x7x8x9x")))),"担当IDの形式を確認",IF(COUNTIFS(登録ID!$F$8:$F$27,B27)<>1,"担当が未登録/重複",IF(AND(COUNTA(C27)>0,NOT(AND(ISTEXT(C27),LEN(C27)=8,EXACT(LEFT(C27,4),"CUS-"),ISNUMBER(FIND(MID(C27,5,1)&"x","0x1x2x3x4x5x6x7x8x9x")),ISNUMBER(FIND(MID(C27,6,1)&"x","0x1x2x3x4x5x6x7x8x9x")),ISNUMBER(FIND(MID(C27,7,1)&"x","0x1x2x3x4x5x6x7x8x9x")),ISNUMBER(FIND(MID(C27,8,1)&"x","0x1x2x3x4x5x6x7x8x9x"))))),"顧客IDの形式を確認",IF(AND(COUNTA(C27)>0,COUNTIFS(登録ID!$A$8:$A$57,C27)<>1),"顧客が未登録/重複",IF(NOT(OR(D27="訪問",D27="オンライン",D27="電話",D27="メール",D27="事務",D27="その他")),"活動種別を確認",IF(NOT(OR(E27="実施",E27="中止",E27="未確認")),"実施区分を確認",IF(NOT(IF(ISNUMBER(F27),AND(F27>=43831,F27<73051,F27=INT(F27)),FALSE())),"活動日は時刻なしで必須",IF(NOT(IF(ISNUMBER(I27),AND(I27>=43831,I27<73051,I27=INT(I27)),FALSE())),"記録確認日は時刻なしで必須",IF(OR(F27>I27,I27>日報!$H$3),"活動日≦確認日≦基準日を確認",IF(AND(E27="実施",NOT(AND(IF(ISNUMBER(G27),AND(G27>=43831,G27<73051,ABS(G27*1440-ROUND(G27*1440,0))<0.00001),FALSE()),IF(ISNUMBER(H27),AND(H27>=43831,H27<73051,ABS(H27*1440-ROUND(H27*1440,0))<0.00001),FALSE())))),"実施は分単位の開始/終了日時が必須",IF(AND(E27<>"実施",COUNTA(G27:H27)>0),"中止/未確認の開始/終了は空欄",IF(AND(E27="実施",OR(G27<F27,G27>=F27+1,H27<=G27,H27>F27+1,H27>=I27+1)),"時間の順序・活動日/確認日を確認",IF(AND(E27="実施",COUNTIFS($B$8:$B$57,B27,$E$8:$E$57,"実施",$G$8:$G$57,"<"&H27,$H$8:$H$57,">"&G27)>1),"同じ担当の実施時間が重複","確認済み")))))))))))))))) | M27: =IF(L27="","",IF(L27="確認済み",0,1)) | N27: =IF(COUNTA(A27:I27)=0,IF(AND(L27="",M27="",J27="",K27=""),0,1),IF(NOT(AND(ISTEXT(L27),L27=IF(COUNTA(A27:I27)=0,"",IF(NOT(AND(ISTEXT(A27),LEN(A27)=8,EXACT(LEFT(A27,4),"ACT-"),ISNUMBER(FIND(MID(A27,5,1)&"x","0x1x2x3x4x5x6x7x8x9x")),ISNUMBER(FIND(MID(A27,6,1)&"x","0x1x2x3x4x5x6x7x8x9x")),ISNUMBER(FIND(MID(A27,7,1)&"x","0x1x2x3x4x5x6x7x8x9x")),ISNUMBER(FIND(MID(A27,8,1)&"x","0x1x2x3x4x5x6x7x8x9x")))),"活動IDはACT-と半角数字4桁",IF(COUNTIFS($A$8:$A$57,A27)>1,"活動IDが重複",IF(NOT(AND(ISTEXT(B27),LEN(B27)=8,EXACT(LEFT(B27,4),"STF-"),ISNUMBER(FIND(MID(B27,5,1)&"x","0x1x2x3x4x5x6x7x8x9x")),ISNUMBER(FIND(MID(B27,6,1)&"x","0x1x2x3x4x5x6x7x8x9x")),ISNUMBER(FIND(MID(B27,7,1)&"x","0x1x2x3x4x5x6x7x8x9x")),ISNUMBER(FIND(MID(B27,8,1)&"x","0x1x2x3x4x5x6x7x8x9x")))),"担当IDの形式を確認",IF(COUNTIFS(登録ID!$F$8:$F$27,B27)<>1,"担当が未登録/重複",IF(AND(COUNTA(C27)>0,NOT(AND(ISTEXT(C27),LEN(C27)=8,EXACT(LEFT(C27,4),"CUS-"),ISNUMBER(FIND(MID(C27,5,1)&"x","0x1x2x3x4x5x6x7x8x9x")),ISNUMBER(FIND(MID(C27,6,1)&"x","0x1x2x3x4x5x6x7x8x9x")),ISNUMBER(FIND(MID(C27,7,1)&"x","0x1x2x3x4x5x6x7x8x9x")),ISNUMBER(FIND(MID(C27,8,1)&"x","0x1x2x3x4x5x6x7x8x9x"))))),"顧客IDの形式を確認",IF(AND(COUNTA(C27)>0,COUNTIFS(登録ID!$A$8:$A$57,C27)<>1),"顧客が未登録/重複",IF(NOT(OR(D27="訪問",D27="オンライン",D27="電話",D27="メール",D27="事務",D27="その他")),"活動種別を確認",IF(NOT(OR(E27="実施",E27="中止",E27="未確認")),"実施区分を確認",IF(NOT(IF(ISNUMBER(F27),AND(F27>=43831,F27<73051,F27=INT(F27)),FALSE())),"活動日は時刻なしで必須",IF(NOT(IF(ISNUMBER(I27),AND(I27>=43831,I27<73051,I27=INT(I27)),FALSE())),"記録確認日は時刻なしで必須",IF(OR(F27>I27,I27>日報!$H$3),"活動日≦確認日≦基準日を確認",IF(AND(E27="実施",NOT(AND(IF(ISNUMBER(G27),AND(G27>=43831,G27<73051,ABS(G27*1440-ROUND(G27*1440,0))<0.00001),FALSE()),IF(ISNUMBER(H27),AND(H27>=43831,H27<73051,ABS(H27*1440-ROUND(H27*1440,0))<0.00001),FALSE())))),"実施は分単位の開始/終了日時が必須",IF(AND(E27<>"実施",COUNTA(G27:H27)>0),"中止/未確認の開始/終了は空欄",IF(AND(E27="実施",OR(G27<F27,G27>=F27+1,H27<=G27,H27>F27+1,H27>=I27+1)),"時間の順序・活動日/確認日を確認",IF(AND(E27="実施",COUNTIFS($B$8:$B$57,B27,$E$8:$E$57,"実施",$G$8:$G$57,"<"&H27,$H$8:$H$57,">"&G27)>1),"同じ担当の実施時間が重複","確認済み")))))))))))))))),ISNUMBER(M27),M27=IF(L27="確認済み",0,1))),1,IF(M27<>0,0,IF(AND(IF(E27="実施",ISNUMBER(J27),ISTEXT(J27)),J27=IF(E27="実施",ROUND((H27-G27)*1440,0),""),ISNUMBER(K27),K27=IF(AND(B27=日報!$E$3,F27=日報!$B$3),COUNTIFS($B$8:B27,B27,$F$8:F27,F27),0)),0,1)))) -> 0
J28: =IF(L28="","",IF(M28<>0,NA(),IF(E28="実施",ROUND((H28-G28)*1440,0),""))) | K28: =IF(L28="","",IF(M28<>0,NA(),IF(AND(B28=日報!$E$3,F28=日報!$B$3),COUNTIFS($B$8:B28,B28,$F$8:F28,F28),0))) | L28: =IF(COUNTA(A28:I28)=0,"",IF(NOT(AND(ISTEXT(A28),LEN(A28)=8,EXACT(LEFT(A28,4),"ACT-"),ISNUMBER(FIND(MID(A28,5,1)&"x","0x1x2x3x4x5x6x7x8x9x")),ISNUMBER(FIND(MID(A28,6,1)&"x","0x1x2x3x4x5x6x7x8x9x")),ISNUMBER(FIND(MID(A28,7,1)&"x","0x1x2x3x4x5x6x7x8x9x")),ISNUMBER(FIND(MID(A28,8,1)&"x","0x1x2x3x4x5x6x7x8x9x")))),"活動IDはACT-と半角数字4桁",IF(COUNTIFS($A$8:$A$57,A28)>1,"活動IDが重複",IF(NOT(AND(ISTEXT(B28),LEN(B28)=8,EXACT(LEFT(B28,4),"STF-"),ISNUMBER(FIND(MID(B28,5,1)&"x","0x1x2x3x4x5x6x7x8x9x")),ISNUMBER(FIND(MID(B28,6,1)&"x","0x1x2x3x4x5x6x7x8x9x")),ISNUMBER(FIND(MID(B28,7,1)&"x","0x1x2x3x4x5x6x7x8x9x")),ISNUMBER(FIND(MID(B28,8,1)&"x","0x1x2x3x4x5x6x7x8x9x")))),"担当IDの形式を確認",IF(COUNTIFS(登録ID!$F$8:$F$27,B28)<>1,"担当が未登録/重複",IF(AND(COUNTA(C28)>0,NOT(AND(ISTEXT(C28),LEN(C28)=8,EXACT(LEFT(C28,4),"CUS-"),ISNUMBER(FIND(MID(C28,5,1)&"x","0x1x2x3x4x5x6x7x8x9x")),ISNUMBER(FIND(MID(C28,6,1)&"x","0x1x2x3x4x5x6x7x8x9x")),ISNUMBER(FIND(MID(C28,7,1)&"x","0x1x2x3x4x5x6x7x8x9x")),ISNUMBER(FIND(MID(C28,8,1)&"x","0x1x2x3x4x5x6x7x8x9x"))))),"顧客IDの形式を確認",IF(AND(COUNTA(C28)>0,COUNTIFS(登録ID!$A$8:$A$57,C28)<>1),"顧客が未登録/重複",IF(NOT(OR(D28="訪問",D28="オンライン",D28="電話",D28="メール",D28="事務",D28="その他")),"活動種別を確認",IF(NOT(OR(E28="実施",E28="中止",E28="未確認")),"実施区分を確認",IF(NOT(IF(ISNUMBER(F28),AND(F28>=43831,F28<73051,F28=INT(F28)),FALSE())),"活動日は時刻なしで必須",IF(NOT(IF(ISNUMBER(I28),AND(I28>=43831,I28<73051,I28=INT(I28)),FALSE())),"記録確認日は時刻なしで必須",IF(OR(F28>I28,I28>日報!$H$3),"活動日≦確認日≦基準日を確認",IF(AND(E28="実施",NOT(AND(IF(ISNUMBER(G28),AND(G28>=43831,G28<73051,ABS(G28*1440-ROUND(G28*1440,0))<0.00001),FALSE()),IF(ISNUMBER(H28),AND(H28>=43831,H28<73051,ABS(H28*1440-ROUND(H28*1440,0))<0.00001),FALSE())))),"実施は分単位の開始/終了日時が必須",IF(AND(E28<>"実施",COUNTA(G28:H28)>0),"中止/未確認の開始/終了は空欄",IF(AND(E28="実施",OR(G28<F28,G28>=F28+1,H28<=G28,H28>F28+1,H28>=I28+1)),"時間の順序・活動日/確認日を確認",IF(AND(E28="実施",COUNTIFS($B$8:$B$57,B28,$E$8:$E$57,"実施",$G$8:$G$57,"<"&H28,$H$8:$H$57,">"&G28)>1),"同じ担当の実施時間が重複","確認済み")))))))))))))))) | M28: =IF(L28="","",IF(L28="確認済み",0,1)) | N28: =IF(COUNTA(A28:I28)=0,IF(AND(L28="",M28="",J28="",K28=""),0,1),IF(NOT(AND(ISTEXT(L28),L28=IF(COUNTA(A28:I28)=0,"",IF(NOT(AND(ISTEXT(A28),LEN(A28)=8,EXACT(LEFT(A28,4),"ACT-"),ISNUMBER(FIND(MID(A28,5,1)&"x","0x1x2x3x4x5x6x7x8x9x")),ISNUMBER(FIND(MID(A28,6,1)&"x","0x1x2x3x4x5x6x7x8x9x")),ISNUMBER(FIND(MID(A28,7,1)&"x","0x1x2x3x4x5x6x7x8x9x")),ISNUMBER(FIND(MID(A28,8,1)&"x","0x1x2x3x4x5x6x7x8x9x")))),"活動IDはACT-と半角数字4桁",IF(COUNTIFS($A$8:$A$57,A28)>1,"活動IDが重複",IF(NOT(AND(ISTEXT(B28),LEN(B28)=8,EXACT(LEFT(B28,4),"STF-"),ISNUMBER(FIND(MID(B28,5,1)&"x","0x1x2x3x4x5x6x7x8x9x")),ISNUMBER(FIND(MID(B28,6,1)&"x","0x1x2x3x4x5x6x7x8x9x")),ISNUMBER(FIND(MID(B28,7,1)&"x","0x1x2x3x4x5x6x7x8x9x")),ISNUMBER(FIND(MID(B28,8,1)&"x","0x1x2x3x4x5x6x7x8x9x")))),"担当IDの形式を確認",IF(COUNTIFS(登録ID!$F$8:$F$27,B28)<>1,"担当が未登録/重複",IF(AND(COUNTA(C28)>0,NOT(AND(ISTEXT(C28),LEN(C28)=8,EXACT(LEFT(C28,4),"CUS-"),ISNUMBER(FIND(MID(C28,5,1)&"x","0x1x2x3x4x5x6x7x8x9x")),ISNUMBER(FIND(MID(C28,6,1)&"x","0x1x2x3x4x5x6x7x8x9x")),ISNUMBER(FIND(MID(C28,7,1)&"x","0x1x2x3x4x5x6x7x8x9x")),ISNUMBER(FIND(MID(C28,8,1)&"x","0x1x2x3x4x5x6x7x8x9x"))))),"顧客IDの形式を確認",IF(AND(COUNTA(C28)>0,COUNTIFS(登録ID!$A$8:$A$57,C28)<>1),"顧客が未登録/重複",IF(NOT(OR(D28="訪問",D28="オンライン",D28="電話",D28="メール",D28="事務",D28="その他")),"活動種別を確認",IF(NOT(OR(E28="実施",E28="中止",E28="未確認")),"実施区分を確認",IF(NOT(IF(ISNUMBER(F28),AND(F28>=43831,F28<73051,F28=INT(F28)),FALSE())),"活動日は時刻なしで必須",IF(NOT(IF(ISNUMBER(I28),AND(I28>=43831,I28<73051,I28=INT(I28)),FALSE())),"記録確認日は時刻なしで必須",IF(OR(F28>I28,I28>日報!$H$3),"活動日≦確認日≦基準日を確認",IF(AND(E28="実施",NOT(AND(IF(ISNUMBER(G28),AND(G28>=43831,G28<73051,ABS(G28*1440-ROUND(G28*1440,0))<0.00001),FALSE()),IF(ISNUMBER(H28),AND(H28>=43831,H28<73051,ABS(H28*1440-ROUND(H28*1440,0))<0.00001),FALSE())))),"実施は分単位の開始/終了日時が必須",IF(AND(E28<>"実施",COUNTA(G28:H28)>0),"中止/未確認の開始/終了は空欄",IF(AND(E28="実施",OR(G28<F28,G28>=F28+1,H28<=G28,H28>F28+1,H28>=I28+1)),"時間の順序・活動日/確認日を確認",IF(AND(E28="実施",COUNTIFS($B$8:$B$57,B28,$E$8:$E$57,"実施",$G$8:$G$57,"<"&H28,$H$8:$H$57,">"&G28)>1),"同じ担当の実施時間が重複","確認済み")))))))))))))))),ISNUMBER(M28),M28=IF(L28="確認済み",0,1))),1,IF(M28<>0,0,IF(AND(IF(E28="実施",ISNUMBER(J28),ISTEXT(J28)),J28=IF(E28="実施",ROUND((H28-G28)*1440,0),""),ISNUMBER(K28),K28=IF(AND(B28=日報!$E$3,F28=日報!$B$3),COUNTIFS($B$8:B28,B28,$F$8:F28,F28),0)),0,1)))) -> 0
J29: =IF(L29="","",IF(M29<>0,NA(),IF(E29="実施",ROUND((H29-G29)*1440,0),""))) | K29: =IF(L29="","",IF(M29<>0,NA(),IF(AND(B29=日報!$E$3,F29=日報!$B$3),COUNTIFS($B$8:B29,B29,$F$8:F29,F29),0))) | L29: =IF(COUNTA(A29:I29)=0,"",IF(NOT(AND(ISTEXT(A29),LEN(A29)=8,EXACT(LEFT(A29,4),"ACT-"),ISNUMBER(FIND(MID(A29,5,1)&"x","0x1x2x3x4x5x6x7x8x9x")),ISNUMBER(FIND(MID(A29,6,1)&"x","0x1x2x3x4x5x6x7x8x9x")),ISNUMBER(FIND(MID(A29,7,1)&"x","0x1x2x3x4x5x6x7x8x9x")),ISNUMBER(FIND(MID(A29,8,1)&"x","0x1x2x3x4x5x6x7x8x9x")))),"活動IDはACT-と半角数字4桁",IF(COUNTIFS($A$8:$A$57,A29)>1,"活動IDが重複",IF(NOT(AND(ISTEXT(B29),LEN(B29)=8,EXACT(LEFT(B29,4),"STF-"),ISNUMBER(FIND(MID(B29,5,1)&"x","0x1x2x3x4x5x6x7x8x9x")),ISNUMBER(FIND(MID(B29,6,1)&"x","0x1x2x3x4x5x6x7x8x9x")),ISNUMBER(FIND(MID(B29,7,1)&"x","0x1x2x3x4x5x6x7x8x9x")),ISNUMBER(FIND(MID(B29,8,1)&"x","0x1x2x3x4x5x6x7x8x9x")))),"担当IDの形式を確認",IF(COUNTIFS(登録ID!$F$8:$F$27,B29)<>1,"担当が未登録/重複",IF(AND(COUNTA(C29)>0,NOT(AND(ISTEXT(C29),LEN(C29)=8,EXACT(LEFT(C29,4),"CUS-"),ISNUMBER(FIND(MID(C29,5,1)&"x","0x1x2x3x4x5x6x7x8x9x")),ISNUMBER(FIND(MID(C29,6,1)&"x","0x1x2x3x4x5x6x7x8x9x")),ISNUMBER(FIND(MID(C29,7,1)&"x","0x1x2x3x4x5x6x7x8x9x")),ISNUMBER(FIND(MID(C29,8,1)&"x","0x1x2x3x4x5x6x7x8x9x"))))),"顧客IDの形式を確認",IF(AND(COUNTA(C29)>0,COUNTIFS(登録ID!$A$8:$A$57,C29)<>1),"顧客が未登録/重複",IF(NOT(OR(D29="訪問",D29="オンライン",D29="電話",D29="メール",D29="事務",D29="その他")),"活動種別を確認",IF(NOT(OR(E29="実施",E29="中止",E29="未確認")),"実施区分を確認",IF(NOT(IF(ISNUMBER(F29),AND(F29>=43831,F29<73051,F29=INT(F29)),FALSE())),"活動日は時刻なしで必須",IF(NOT(IF(ISNUMBER(I29),AND(I29>=43831,I29<73051,I29=INT(I29)),FALSE())),"記録確認日は時刻なしで必須",IF(OR(F29>I29,I29>日報!$H$3),"活動日≦確認日≦基準日を確認",IF(AND(E29="実施",NOT(AND(IF(ISNUMBER(G29),AND(G29>=43831,G29<73051,ABS(G29*1440-ROUND(G29*1440,0))<0.00001),FALSE()),IF(ISNUMBER(H29),AND(H29>=43831,H29<73051,ABS(H29*1440-ROUND(H29*1440,0))<0.00001),FALSE())))),"実施は分単位の開始/終了日時が必須",IF(AND(E29<>"実施",COUNTA(G29:H29)>0),"中止/未確認の開始/終了は空欄",IF(AND(E29="実施",OR(G29<F29,G29>=F29+1,H29<=G29,H29>F29+1,H29>=I29+1)),"時間の順序・活動日/確認日を確認",IF(AND(E29="実施",COUNTIFS($B$8:$B$57,B29,$E$8:$E$57,"実施",$G$8:$G$57,"<"&H29,$H$8:$H$57,">"&G29)>1),"同じ担当の実施時間が重複","確認済み")))))))))))))))) | M29: =IF(L29="","",IF(L29="確認済み",0,1)) | N29: =IF(COUNTA(A29:I29)=0,IF(AND(L29="",M29="",J29="",K29=""),0,1),IF(NOT(AND(ISTEXT(L29),L29=IF(COUNTA(A29:I29)=0,"",IF(NOT(AND(ISTEXT(A29),LEN(A29)=8,EXACT(LEFT(A29,4),"ACT-"),ISNUMBER(FIND(MID(A29,5,1)&"x","0x1x2x3x4x5x6x7x8x9x")),ISNUMBER(FIND(MID(A29,6,1)&"x","0x1x2x3x4x5x6x7x8x9x")),ISNUMBER(FIND(MID(A29,7,1)&"x","0x1x2x3x4x5x6x7x8x9x")),ISNUMBER(FIND(MID(A29,8,1)&"x","0x1x2x3x4x5x6x7x8x9x")))),"活動IDはACT-と半角数字4桁",IF(COUNTIFS($A$8:$A$57,A29)>1,"活動IDが重複",IF(NOT(AND(ISTEXT(B29),LEN(B29)=8,EXACT(LEFT(B29,4),"STF-"),ISNUMBER(FIND(MID(B29,5,1)&"x","0x1x2x3x4x5x6x7x8x9x")),ISNUMBER(FIND(MID(B29,6,1)&"x","0x1x2x3x4x5x6x7x8x9x")),ISNUMBER(FIND(MID(B29,7,1)&"x","0x1x2x3x4x5x6x7x8x9x")),ISNUMBER(FIND(MID(B29,8,1)&"x","0x1x2x3x4x5x6x7x8x9x")))),"担当IDの形式を確認",IF(COUNTIFS(登録ID!$F$8:$F$27,B29)<>1,"担当が未登録/重複",IF(AND(COUNTA(C29)>0,NOT(AND(ISTEXT(C29),LEN(C29)=8,EXACT(LEFT(C29,4),"CUS-"),ISNUMBER(FIND(MID(C29,5,1)&"x","0x1x2x3x4x5x6x7x8x9x")),ISNUMBER(FIND(MID(C29,6,1)&"x","0x1x2x3x4x5x6x7x8x9x")),ISNUMBER(FIND(MID(C29,7,1)&"x","0x1x2x3x4x5x6x7x8x9x")),ISNUMBER(FIND(MID(C29,8,1)&"x","0x1x2x3x4x5x6x7x8x9x"))))),"顧客IDの形式を確認",IF(AND(COUNTA(C29)>0,COUNTIFS(登録ID!$A$8:$A$57,C29)<>1),"顧客が未登録/重複",IF(NOT(OR(D29="訪問",D29="オンライン",D29="電話",D29="メール",D29="事務",D29="その他")),"活動種別を確認",IF(NOT(OR(E29="実施",E29="中止",E29="未確認")),"実施区分を確認",IF(NOT(IF(ISNUMBER(F29),AND(F29>=43831,F29<73051,F29=INT(F29)),FALSE())),"活動日は時刻なしで必須",IF(NOT(IF(ISNUMBER(I29),AND(I29>=43831,I29<73051,I29=INT(I29)),FALSE())),"記録確認日は時刻なしで必須",IF(OR(F29>I29,I29>日報!$H$3),"活動日≦確認日≦基準日を確認",IF(AND(E29="実施",NOT(AND(IF(ISNUMBER(G29),AND(G29>=43831,G29<73051,ABS(G29*1440-ROUND(G29*1440,0))<0.00001),FALSE()),IF(ISNUMBER(H29),AND(H29>=43831,H29<73051,ABS(H29*1440-ROUND(H29*1440,0))<0.00001),FALSE())))),"実施は分単位の開始/終了日時が必須",IF(AND(E29<>"実施",COUNTA(G29:H29)>0),"中止/未確認の開始/終了は空欄",IF(AND(E29="実施",OR(G29<F29,G29>=F29+1,H29<=G29,H29>F29+1,H29>=I29+1)),"時間の順序・活動日/確認日を確認",IF(AND(E29="実施",COUNTIFS($B$8:$B$57,B29,$E$8:$E$57,"実施",$G$8:$G$57,"<"&H29,$H$8:$H$57,">"&G29)>1),"同じ担当の実施時間が重複","確認済み")))))))))))))))),ISNUMBER(M29),M29=IF(L29="確認済み",0,1))),1,IF(M29<>0,0,IF(AND(IF(E29="実施",ISNUMBER(J29),ISTEXT(J29)),J29=IF(E29="実施",ROUND((H29-G29)*1440,0),""),ISNUMBER(K29),K29=IF(AND(B29=日報!$E$3,F29=日報!$B$3),COUNTIFS($B$8:B29,B29,$F$8:F29,F29),0)),0,1)))) -> 0
... J57: =IF(L57="","",IF(M57<>0,NA(),IF(E57="実施",ROUND((H57-G57)*1440,0),""))) | K57: =IF(L57="","",IF(M57<>0,NA(),IF(AND(B57=日報!$E$3,F57=日報!$B$3),COUNTIFS($B$8:B57,B57,$F$8:F57,F57),0))) | L57: =IF(COUNTA(A57:I57)=0,"",IF(NOT(AND(ISTEXT(A57),LEN(A57)=8,EXACT(LEFT(A57,4),"ACT-"),ISNUMBER(FIND(MID(A57,5,1)&"x","0x1x2x3x4x5x6x7x8x9x")),ISNUMBER(FIND(MID(A57,6,1)&"x","0x1x2x3x4x5x6x7x8x9x")),ISNUMBER(FIND(MID(A57,7,1)&"x","0x1x2x3x4x5x6x7x8x9x")),ISNUMBER(FIND(MID(A57,8,1)&"x","0x1x2x3x4x5x6x7x8x9x")))),"活動IDはACT-と半角数字4桁",IF(COUNTIFS($A$8:$A$57,A57)>1,"活動IDが重複",IF(NOT(AND(ISTEXT(B57),LEN(B57)=8,EXACT(LEFT(B57,4),"STF-"),ISNUMBER(FIND(MID(B57,5,1)&"x","0x1x2x3x4x5x6x7x8x9x")),ISNUMBER(FIND(MID(B57,6,1)&"x","0x1x2x3x4x5x6x7x8x9x")),ISNUMBER(FIND(MID(B57,7,1)&"x","0x1x2x3x4x5x6x7x8x9x")),ISNUMBER(FIND(MID(B57,8,1)&"x","0x1x2x3x4x5x6x7x8x9x")))),"担当IDの形式を確認",IF(COUNTIFS(登録ID!$F$8:$F$27,B57)<>1,"担当が未登録/重複",IF(AND(COUNTA(C57)>0,NOT(AND(ISTEXT(C57),LEN(C57)=8,EXACT(LEFT(C57,4),"CUS-"),ISNUMBER(FIND(MID(C57,5,1)&"x","0x1x2x3x4x5x6x7x8x9x")),ISNUMBER(FIND(MID(C57,6,1)&"x","0x1x2x3x4x5x6x7x8x9x")),ISNUMBER(FIND(MID(C57,7,1)&"x","0x1x2x3x4x5x6x7x8x9x")),ISNUMBER(FIND(MID(C57,8,1)&"x","0x1x2x3x4x5x6x7x8x9x"))))),"顧客IDの形式を確認",IF(AND(COUNTA(C57)>0,COUNTIFS(登録ID!$A$8:$A$57,C57)<>1),"顧客が未登録/重複",IF(NOT(OR(D57="訪問",D57="オンライン",D57="電話",D57="メール",D57="事務",D57="その他")),"活動種別を確認",IF(NOT(OR(E57="実施",E57="中止",E57="未確認")),"実施区分を確認",IF(NOT(IF(ISNUMBER(F57),AND(F57>=43831,F57<73051,F57=INT(F57)),FALSE())),"活動日は時刻なしで必須",IF(NOT(IF(ISNUMBER(I57),AND(I57>=43831,I57<73051,I57=INT(I57)),FALSE())),"記録確認日は時刻なしで必須",IF(OR(F57>I57,I57>日報!$H$3),"活動日≦確認日≦基準日を確認",IF(AND(E57="実施",NOT(AND(IF(ISNUMBER(G57),AND(G57>=43831,G57<73051,ABS(G57*1440-ROUND(G57*1440,0))<0.00001),FALSE()),IF(ISNUMBER(H57),AND(H57>=43831,H57<73051,ABS(H57*1440-ROUND(H57*1440,0))<0.00001),FALSE())))),"実施は分単位の開始/終了日時が必須",IF(AND(E57<>"実施",COUNTA(G57:H57)>0),"中止/未確認の開始/終了は空欄",IF(AND(E57="実施",OR(G57<F57,G57>=F57+1,H57<=G57,H57>F57+1,H57>=I57+1)),"時間の順序・活動日/確認日を確認",IF(AND(E57="実施",COUNTIFS($B$8:$B$57,B57,$E$8:$E$57,"実施",$G$8:$G$57,"<"&H57,$H$8:$H$57,">"&G57)>1),"同じ担当の実施時間が重複","確認済み")))))))))))))))) | M57: =IF(L57="","",IF(L57="確認済み",0,1)) | N57: =IF(COUNTA(A57:I57)=0,IF(AND(L57="",M57="",J57="",K57=""),0,1),IF(NOT(AND(ISTEXT(L57),L57=IF(COUNTA(A57:I57)=0,"",IF(NOT(AND(ISTEXT(A57),LEN(A57)=8,EXACT(LEFT(A57,4),"ACT-"),ISNUMBER(FIND(MID(A57,5,1)&"x","0x1x2x3x4x5x6x7x8x9x")),ISNUMBER(FIND(MID(A57,6,1)&"x","0x1x2x3x4x5x6x7x8x9x")),ISNUMBER(FIND(MID(A57,7,1)&"x","0x1x2x3x4x5x6x7x8x9x")),ISNUMBER(FIND(MID(A57,8,1)&"x","0x1x2x3x4x5x6x7x8x9x")))),"活動IDはACT-と半角数字4桁",IF(COUNTIFS($A$8:$A$57,A57)>1,"活動IDが重複",IF(NOT(AND(ISTEXT(B57),LEN(B57)=8,EXACT(LEFT(B57,4),"STF-"),ISNUMBER(FIND(MID(B57,5,1)&"x","0x1x2x3x4x5x6x7x8x9x")),ISNUMBER(FIND(MID(B57,6,1)&"x","0x1x2x3x4x5x6x7x8x9x")),ISNUMBER(FIND(MID(B57,7,1)&"x","0x1x2x3x4x5x6x7x8x9x")),ISNUMBER(FIND(MID(B57,8,1)&"x","0x1x2x3x4x5x6x7x8x9x")))),"担当IDの形式を確認",IF(COUNTIFS(登録ID!$F$8:$F$27,B57)<>1,"担当が未登録/重複",IF(AND(COUNTA(C57)>0,NOT(AND(ISTEXT(C57),LEN(C57)=8,EXACT(LEFT(C57,4),"CUS-"),ISNUMBER(FIND(MID(C57,5,1)&"x","0x1x2x3x4x5x6x7x8x9x")),ISNUMBER(FIND(MID(C57,6,1)&"x","0x1x2x3x4x5x6x7x8x9x")),ISNUMBER(FIND(MID(C57,7,1)&"x","0x1x2x3x4x5x6x7x8x9x")),ISNUMBER(FIND(MID(C57,8,1)&"x","0x1x2x3x4x5x6x7x8x9x"))))),"顧客IDの形式を確認",IF(AND(COUNTA(C57)>0,COUNTIFS(登録ID!$A$8:$A$57,C57)<>1),"顧客が未登録/重複",IF(NOT(OR(D57="訪問",D57="オンライン",D57="電話",D57="メール",D57="事務",D57="その他")),"活動種別を確認",IF(NOT(OR(E57="実施",E57="中止",E57="未確認")),"実施区分を確認",IF(NOT(IF(ISNUMBER(F57),AND(F57>=43831,F57<73051,F57=INT(F57)),FALSE())),"活動日は時刻なしで必須",IF(NOT(IF(ISNUMBER(I57),AND(I57>=43831,I57<73051,I57=INT(I57)),FALSE())),"記録確認日は時刻なしで必須",IF(OR(F57>I57,I57>日報!$H$3),"活動日≦確認日≦基準日を確認",IF(AND(E57="実施",NOT(AND(IF(ISNUMBER(G57),AND(G57>=43831,G57<73051,ABS(G57*1440-ROUND(G57*1440,0))<0.00001),FALSE()),IF(ISNUMBER(H57),AND(H57>=43831,H57<73051,ABS(H57*1440-ROUND(H57*1440,0))<0.00001),FALSE())))),"実施は分単位の開始/終了日時が必須",IF(AND(E57<>"実施",COUNTA(G57:H57)>0),"中止/未確認の開始/終了は空欄",IF(AND(E57="実施",OR(G57<F57,G57>=F57+1,H57<=G57,H57>F57+1,H57>=I57+1)),"時間の順序・活動日/確認日を確認",IF(AND(E57="実施",COUNTIFS($B$8:$B$57,B57,$E$8:$E$57,"実施",$G$8:$G$57,"<"&H57,$H$8:$H$57,">"&G57)>1),"同じ担当の実施時間が重複","確認済み")))))))))))))))),ISNUMBER(M57),M57=IF(L57="確認済み",0,1))),1,IF(M57<>0,0,IF(AND(IF(E57="実施",ISNUMBER(J57),ISTEXT(J57)),J57=IF(E57="実施",ROUND((H57-G57)*1440,0),""),ISNUMBER(K57),K57=IF(AND(B57=日報!$E$3,F57=日報!$B$3),COUNTIFS($B$8:B57,B57,$F$8:F57,F57),0)),0,1)))) -> 0
A61: 架空教材。対象日/担当の活動だけを日報へ抽出。50活動/50顧客ID/20担当ID。
A62: 1行は1回の活動。メール1通や訪問1回など記録単位を元記録で統一。件数は人数/受注ではありません。
A63: 実施は分単位の開始/終了日時が必須。中止/未確認は空欄。不明時間を0分へ埋めません。
A64: 確定実施分は実施記録の小計。対象に未確認があれば時間合計は判定保留。
A65: 同じ担当の実施時間は重複不可。終端と次の開始が同時なら重複ではありません。
A66: 日またぎは暦日ごとに分割し、終了は翌日00:00まで。日報の開始/終了は月日と時刻を表示。
A67: 活動日≦記録確認日≦確認基準日。活動の終了日は記録確認日まで。全日付2020〜2099年。
A68: 現在の元記録を照合。基準日変更だけで過去の状態を復元せず、未入力活動も自動検出しません。
A69: 労働時間/勤怠、接点成立、成果/受注、目標達成率、予定管理、CRM同期や自動連絡は扱いません。
A70: 日報のみ印刷。初期A1:I16（7件）、50件A1:I59。版1/CC0 https://creativecommons.org/publicdomain/zero/1.0/
A71: 一次情報確認2026-10-16 https://support.microsoft.com/en-us/excel/functions/sumifs-function
A72: https://support.microsoft.com/en-us/excel/functions/countifs-function https://support.microsoft.com/en-us/excel/functions/round-function

Sheet 登録ID
A2: 顧客ID・担当者IDを登録
A3: 顧客50ID・担当20ID。顧客/本人との対応は別資料へ。担当IDは権限や認証ではありません。
A7: 顧客ID | B7: IDの確認 | C7: 入力不備 | D7: 計算の前提 | F7: 担当者ID | G7: IDの確認 | H7: 入力不備 | I7: 計算の前提
A8: CUS-0001 | B8: =IF(COUNTA(A8)=0,"",IF(NOT(AND(ISTEXT(A8),LEN(A8)=8,EXACT(LEFT(A8,4),"CUS-"),ISNUMBER(FIND(MID(A8,5,1)&"x","0x1x2x3x4x5x6x7x8x9x")),ISNUMBER(FIND(MID(A8,6,1)&"x","0x1x2x3x4x5x6x7x8x9x")),ISNUMBER(FIND(MID(A8,7,1)&"x","0x1x2x3x4x5x6x7x8x9x")),ISNUMBER(FIND(MID(A8,8,1)&"x","0x1x2x3x4x5x6x7x8x9x")))),"IDの形式を確認",IF(COUNTIFS($A$8:$A$57,A8)>1,"IDが重複","確認済み"))) -> 確認済み | C8: =IF(B8="","",IF(B8="確認済み",0,1)) -> 0 | D8: =IF(B8<>IF(COUNTA(A8)=0,"",IF(NOT(AND(ISTEXT(A8),LEN(A8)=8,EXACT(LEFT(A8,4),"CUS-"),ISNUMBER(FIND(MID(A8,5,1)&"x","0x1x2x3x4x5x6x7x8x9x")),ISNUMBER(FIND(MID(A8,6,1)&"x","0x1x2x3x4x5x6x7x8x9x")),ISNUMBER(FIND(MID(A8,7,1)&"x","0x1x2x3x4x5x6x7x8x9x")),ISNUMBER(FIND(MID(A8,8,1)&"x","0x1x2x3x4x5x6x7x8x9x")))),"IDの形式を確認",IF(COUNTIFS($A$8:$A$57,A8)>1,"IDが重複","確認済み"))),1,IF(COUNTA(A8)=0,IF(C8="",0,1),IF(AND(ISNUMBER(C8),C8=IF(B8="確認済み",0,1)),0,1))) -> 0 | F8: STF-0001 | G8: =IF(COUNTA(F8)=0,"",IF(NOT(AND(ISTEXT(F8),LEN(F8)=8,EXACT(LEFT(F8,4),"STF-"),ISNUMBER(FIND(MID(F8,5,1)&"x","0x1x2x3x4x5x6x7x8x9x")),ISNUMBER(FIND(MID(F8,6,1)&"x","0x1x2x3x4x5x6x7x8x9x")),ISNUMBER(FIND(MID(F8,7,1)&"x","0x1x2x3x4x5x6x7x8x9x")),ISNUMBER(FIND(MID(F8,8,1)&"x","0x1x2x3x4x5x6x7x8x9x")))),"IDの形式を確認",IF(COUNTIFS($F$8:$F$27,F8)>1,"IDが重複","確認済み"))) -> 確認済み | H8: =IF(G8="","",IF(G8="確認済み",0,1)) -> 0 | I8: =IF(G8<>IF(COUNTA(F8)=0,"",IF(NOT(AND(ISTEXT(F8),LEN(F8)=8,EXACT(LEFT(F8,4),"STF-"),ISNUMBER(FIND(MID(F8,5,1)&"x","0x1x2x3x4x5x6x7x8x9x")),ISNUMBER(FIND(MID(F8,6,1)&"x","0x1x2x3x4x5x6x7x8x9x")),ISNUMBER(FIND(MID(F8,7,1)&"x","0x1x2x3x4x5x6x7x8x9x")),ISNUMBER(FIND(MID(F8,8,1)&"x","0x1x2x3x4x5x6x7x8x9x")))),"IDの形式を確認",IF(COUNTIFS($F$8:$F$27,F8)>1,"IDが重複","確認済み"))),1,IF(COUNTA(F8)=0,IF(H8="",0,1),IF(AND(ISNUMBER(H8),H8=IF(G8="確認済み",0,1)),0,1))) -> 0
A9: CUS-0002 | B9: =IF(COUNTA(A9)=0,"",IF(NOT(AND(ISTEXT(A9),LEN(A9)=8,EXACT(LEFT(A9,4),"CUS-"),ISNUMBER(FIND(MID(A9,5,1)&"x","0x1x2x3x4x5x6x7x8x9x")),ISNUMBER(FIND(MID(A9,6,1)&"x","0x1x2x3x4x5x6x7x8x9x")),ISNUMBER(FIND(MID(A9,7,1)&"x","0x1x2x3x4x5x6x7x8x9x")),ISNUMBER(FIND(MID(A9,8,1)&"x","0x1x2x3x4x5x6x7x8x9x")))),"IDの形式を確認",IF(COUNTIFS($A$8:$A$57,A9)>1,"IDが重複","確認済み"))) -> 確認済み | C9: =IF(B9="","",IF(B9="確認済み",0,1)) -> 0 | D9: =IF(B9<>IF(COUNTA(A9)=0,"",IF(NOT(AND(ISTEXT(A9),LEN(A9)=8,EXACT(LEFT(A9,4),"CUS-"),ISNUMBER(FIND(MID(A9,5,1)&"x","0x1x2x3x4x5x6x7x8x9x")),ISNUMBER(FIND(MID(A9,6,1)&"x","0x1x2x3x4x5x6x7x8x9x")),ISNUMBER(FIND(MID(A9,7,1)&"x","0x1x2x3x4x5x6x7x8x9x")),ISNUMBER(FIND(MID(A9,8,1)&"x","0x1x2x3x4x5x6x7x8x9x")))),"IDの形式を確認",IF(COUNTIFS($A$8:$A$57,A9)>1,"IDが重複","確認済み"))),1,IF(COUNTA(A9)=0,IF(C9="",0,1),IF(AND(ISNUMBER(C9),C9=IF(B9="確認済み",0,1)),0,1))) -> 0 | F9: STF-0002 | G9: =IF(COUNTA(F9)=0,"",IF(NOT(AND(ISTEXT(F9),LEN(F9)=8,EXACT(LEFT(F9,4),"STF-"),ISNUMBER(FIND(MID(F9,5,1)&"x","0x1x2x3x4x5x6x7x8x9x")),ISNUMBER(FIND(MID(F9,6,1)&"x","0x1x2x3x4x5x6x7x8x9x")),ISNUMBER(FIND(MID(F9,7,1)&"x","0x1x2x3x4x5x6x7x8x9x")),ISNUMBER(FIND(MID(F9,8,1)&"x","0x1x2x3x4x5x6x7x8x9x")))),"IDの形式を確認",IF(COUNTIFS($F$8:$F$27,F9)>1,"IDが重複","確認済み"))) -> 確認済み | H9: =IF(G9="","",IF(G9="確認済み",0,1)) -> 0 | I9: =IF(G9<>IF(COUNTA(F9)=0,"",IF(NOT(AND(ISTEXT(F9),LEN(F9)=8,EXACT(LEFT(F9,4),"STF-"),ISNUMBER(FIND(MID(F9,5,1)&"x","0x1x2x3x4x5x6x7x8x9x")),ISNUMBER(FIND(MID(F9,6,1)&"x","0x1x2x3x4x5x6x7x8x9x")),ISNUMBER(FIND(MID(F9,7,1)&"x","0x1x2x3x4x5x6x7x8x9x")),ISNUMBER(FIND(MID(F9,8,1)&"x","0x1x2x3x4x5x6x7x8x9x")))),"IDの形式を確認",IF(COUNTIFS($F$8:$F$27,F9)>1,"IDが重複","確認済み"))),1,IF(COUNTA(F9)=0,IF(H9="",0,1),IF(AND(ISNUMBER(H9),H9=IF(G9="確認済み",0,1)),0,1))) -> 0
A10: CUS-0003 | B10: =IF(COUNTA(A10)=0,"",IF(NOT(AND(ISTEXT(A10),LEN(A10)=8,EXACT(LEFT(A10,4),"CUS-"),ISNUMBER(FIND(MID(A10,5,1)&"x","0x1x2x3x4x5x6x7x8x9x")),ISNUMBER(FIND(MID(A10,6,1)&"x","0x1x2x3x4x5x6x7x8x9x")),ISNUMBER(FIND(MID(A10,7,1)&"x","0x1x2x3x4x5x6x7x8x9x")),ISNUMBER(FIND(MID(A10,8,1)&"x","0x1x2x3x4x5x6x7x8x9x")))),"IDの形式を確認",IF(COUNTIFS($A$8:$A$57,A10)>1,"IDが重複","確認済み"))) -> 確認済み | C10: =IF(B10="","",IF(B10="確認済み",0,1)) -> 0 | D10: =IF(B10<>IF(COUNTA(A10)=0,"",IF(NOT(AND(ISTEXT(A10),LEN(A10)=8,EXACT(LEFT(A10,4),"CUS-"),ISNUMBER(FIND(MID(A10,5,1)&"x","0x1x2x3x4x5x6x7x8x9x")),ISNUMBER(FIND(MID(A10,6,1)&"x","0x1x2x3x4x5x6x7x8x9x")),ISNUMBER(FIND(MID(A10,7,1)&"x","0x1x2x3x4x5x6x7x8x9x")),ISNUMBER(FIND(MID(A10,8,1)&"x","0x1x2x3x4x5x6x7x8x9x")))),"IDの形式を確認",IF(COUNTIFS($A$8:$A$57,A10)>1,"IDが重複","確認済み"))),1,IF(COUNTA(A10)=0,IF(C10="",0,1),IF(AND(ISNUMBER(C10),C10=IF(B10="確認済み",0,1)),0,1))) -> 0 | F10: STF-0003 | G10: =IF(COUNTA(F10)=0,"",IF(NOT(AND(ISTEXT(F10),LEN(F10)=8,EXACT(LEFT(F10,4),"STF-"),ISNUMBER(FIND(MID(F10,5,1)&"x","0x1x2x3x4x5x6x7x8x9x")),ISNUMBER(FIND(MID(F10,6,1)&"x","0x1x2x3x4x5x6x7x8x9x")),ISNUMBER(FIND(MID(F10,7,1)&"x","0x1x2x3x4x5x6x7x8x9x")),ISNUMBER(FIND(MID(F10,8,1)&"x","0x1x2x3x4x5x6x7x8x9x")))),"IDの形式を確認",IF(COUNTIFS($F$8:$F$27,F10)>1,"IDが重複","確認済み"))) -> 確認済み | H10: =IF(G10="","",IF(G10="確認済み",0,1)) -> 0 | I10: =IF(G10<>IF(COUNTA(F10)=0,"",IF(NOT(AND(ISTEXT(F10),LEN(F10)=8,EXACT(LEFT(F10,4),"STF-"),ISNUMBER(FIND(MID(F10,5,1)&"x","0x1x2x3x4x5x6x7x8x9x")),ISNUMBER(FIND(MID(F10,6,1)&"x","0x1x2x3x4x5x6x7x8x9x")),ISNUMBER(FIND(MID(F10,7,1)&"x","0x1x2x3x4x5x6x7x8x9x")),ISNUMBER(FIND(MID(F10,8,1)&"x","0x1x2x3x4x5x6x7x8x9x")))),"IDの形式を確認",IF(COUNTIFS($F$8:$F$27,F10)>1,"IDが重複","確認済み"))),1,IF(COUNTA(F10)=0,IF(H10="",0,1),IF(AND(ISNUMBER(H10),H10=IF(G10="確認済み",0,1)),0,1))) -> 0
A11: CUS-0004 | B11: =IF(COUNTA(A11)=0,"",IF(NOT(AND(ISTEXT(A11),LEN(A11)=8,EXACT(LEFT(A11,4),"CUS-"),ISNUMBER(FIND(MID(A11,5,1)&"x","0x1x2x3x4x5x6x7x8x9x")),ISNUMBER(FIND(MID(A11,6,1)&"x","0x1x2x3x4x5x6x7x8x9x")),ISNUMBER(FIND(MID(A11,7,1)&"x","0x1x2x3x4x5x6x7x8x9x")),ISNUMBER(FIND(MID(A11,8,1)&"x","0x1x2x3x4x5x6x7x8x9x")))),"IDの形式を確認",IF(COUNTIFS($A$8:$A$57,A11)>1,"IDが重複","確認済み"))) -> 確認済み | C11: =IF(B11="","",IF(B11="確認済み",0,1)) -> 0 | D11: =IF(B11<>IF(COUNTA(A11)=0,"",IF(NOT(AND(ISTEXT(A11),LEN(A11)=8,EXACT(LEFT(A11,4),"CUS-"),ISNUMBER(FIND(MID(A11,5,1)&"x","0x1x2x3x4x5x6x7x8x9x")),ISNUMBER(FIND(MID(A11,6,1)&"x","0x1x2x3x4x5x6x7x8x9x")),ISNUMBER(FIND(MID(A11,7,1)&"x","0x1x2x3x4x5x6x7x8x9x")),ISNUMBER(FIND(MID(A11,8,1)&"x","0x1x2x3x4x5x6x7x8x9x")))),"IDの形式を確認",IF(COUNTIFS($A$8:$A$57,A11)>1,"IDが重複","確認済み"))),1,IF(COUNTA(A11)=0,IF(C11="",0,1),IF(AND(ISNUMBER(C11),C11=IF(B11="確認済み",0,1)),0,1))) -> 0 | F11: STF-0004 | G11: =IF(COUNTA(F11)=0,"",IF(NOT(AND(ISTEXT(F11),LEN(F11)=8,EXACT(LEFT(F11,4),"STF-"),ISNUMBER(FIND(MID(F11,5,1)&"x","0x1x2x3x4x5x6x7x8x9x")),ISNUMBER(FIND(MID(F11,6,1)&"x","0x1x2x3x4x5x6x7x8x9x")),ISNUMBER(FIND(MID(F11,7,1)&"x","0x1x2x3x4x5x6x7x8x9x")),ISNUMBER(FIND(MID(F11,8,1)&"x","0x1x2x3x4x5x6x7x8x9x")))),"IDの形式を確認",IF(COUNTIFS($F$8:$F$27,F11)>1,"IDが重複","確認済み"))) -> 確認済み | H11: =IF(G11="","",IF(G11="確認済み",0,1)) -> 0 | I11: =IF(G11<>IF(COUNTA(F11)=0,"",IF(NOT(AND(ISTEXT(F11),LEN(F11)=8,EXACT(LEFT(F11,4),"STF-"),ISNUMBER(FIND(MID(F11,5,1)&"x","0x1x2x3x4x5x6x7x8x9x")),ISNUMBER(FIND(MID(F11,6,1)&"x","0x1x2x3x4x5x6x7x8x9x")),ISNUMBER(FIND(MID(F11,7,1)&"x","0x1x2x3x4x5x6x7x8x9x")),ISNUMBER(FIND(MID(F11,8,1)&"x","0x1x2x3x4x5x6x7x8x9x")))),"IDの形式を確認",IF(COUNTIFS($F$8:$F$27,F11)>1,"IDが重複","確認済み"))),1,IF(COUNTA(F11)=0,IF(H11="",0,1),IF(AND(ISNUMBER(H11),H11=IF(G11="確認済み",0,1)),0,1))) -> 0
B12: =IF(COUNTA(A12)=0,"",IF(NOT(AND(ISTEXT(A12),LEN(A12)=8,EXACT(LEFT(A12,4),"CUS-"),ISNUMBER(FIND(MID(A12,5,1)&"x","0x1x2x3x4x5x6x7x8x9x")),ISNUMBER(FIND(MID(A12,6,1)&"x","0x1x2x3x4x5x6x7x8x9x")),ISNUMBER(FIND(MID(A12,7,1)&"x","0x1x2x3x4x5x6x7x8x9x")),ISNUMBER(FIND(MID(A12,8,1)&"x","0x1x2x3x4x5x6x7x8x9x")))),"IDの形式を確認",IF(COUNTIFS($A$8:$A$57,A12)>1,"IDが重複","確認済み"))) | C12: =IF(B12="","",IF(B12="確認済み",0,1)) | D12: =IF(B12<>IF(COUNTA(A12)=0,"",IF(NOT(AND(ISTEXT(A12),LEN(A12)=8,EXACT(LEFT(A12,4),"CUS-"),ISNUMBER(FIND(MID(A12,5,1)&"x","0x1x2x3x4x5x6x7x8x9x")),ISNUMBER(FIND(MID(A12,6,1)&"x","0x1x2x3x4x5x6x7x8x9x")),ISNUMBER(FIND(MID(A12,7,1)&"x","0x1x2x3x4x5x6x7x8x9x")),ISNUMBER(FIND(MID(A12,8,1)&"x","0x1x2x3x4x5x6x7x8x9x")))),"IDの形式を確認",IF(COUNTIFS($A$8:$A$57,A12)>1,"IDが重複","確認済み"))),1,IF(COUNTA(A12)=0,IF(C12="",0,1),IF(AND(ISNUMBER(C12),C12=IF(B12="確認済み",0,1)),0,1))) -> 0 | G12: =IF(COUNTA(F12)=0,"",IF(NOT(AND(ISTEXT(F12),LEN(F12)=8,EXACT(LEFT(F12,4),"STF-"),ISNUMBER(FIND(MID(F12,5,1)&"x","0x1x2x3x4x5x6x7x8x9x")),ISNUMBER(FIND(MID(F12,6,1)&"x","0x1x2x3x4x5x6x7x8x9x")),ISNUMBER(FIND(MID(F12,7,1)&"x","0x1x2x3x4x5x6x7x8x9x")),ISNUMBER(FIND(MID(F12,8,1)&"x","0x1x2x3x4x5x6x7x8x9x")))),"IDの形式を確認",IF(COUNTIFS($F$8:$F$27,F12)>1,"IDが重複","確認済み"))) | H12: =IF(G12="","",IF(G12="確認済み",0,1)) | I12: =IF(G12<>IF(COUNTA(F12)=0,"",IF(NOT(AND(ISTEXT(F12),LEN(F12)=8,EXACT(LEFT(F12,4),"STF-"),ISNUMBER(FIND(MID(F12,5,1)&"x","0x1x2x3x4x5x6x7x8x9x")),ISNUMBER(FIND(MID(F12,6,1)&"x","0x1x2x3x4x5x6x7x8x9x")),ISNUMBER(FIND(MID(F12,7,1)&"x","0x1x2x3x4x5x6x7x8x9x")),ISNUMBER(FIND(MID(F12,8,1)&"x","0x1x2x3x4x5x6x7x8x9x")))),"IDの形式を確認",IF(COUNTIFS($F$8:$F$27,F12)>1,"IDが重複","確認済み"))),1,IF(COUNTA(F12)=0,IF(H12="",0,1),IF(AND(ISNUMBER(H12),H12=IF(G12="確認済み",0,1)),0,1))) -> 0
B13: =IF(COUNTA(A13)=0,"",IF(NOT(AND(ISTEXT(A13),LEN(A13)=8,EXACT(LEFT(A13,4),"CUS-"),ISNUMBER(FIND(MID(A13,5,1)&"x","0x1x2x3x4x5x6x7x8x9x")),ISNUMBER(FIND(MID(A13,6,1)&"x","0x1x2x3x4x5x6x7x8x9x")),ISNUMBER(FIND(MID(A13,7,1)&"x","0x1x2x3x4x5x6x7x8x9x")),ISNUMBER(FIND(MID(A13,8,1)&"x","0x1x2x3x4x5x6x7x8x9x")))),"IDの形式を確認",IF(COUNTIFS($A$8:$A$57,A13)>1,"IDが重複","確認済み"))) | C13: =IF(B13="","",IF(B13="確認済み",0,1)) | D13: =IF(B13<>IF(COUNTA(A13)=0,"",IF(NOT(AND(ISTEXT(A13),LEN(A13)=8,EXACT(LEFT(A13,4),"CUS-"),ISNUMBER(FIND(MID(A13,5,1)&"x","0x1x2x3x4x5x6x7x8x9x")),ISNUMBER(FIND(MID(A13,6,1)&"x","0x1x2x3x4x5x6x7x8x9x")),ISNUMBER(FIND(MID(A13,7,1)&"x","0x1x2x3x4x5x6x7x8x9x")),ISNUMBER(FIND(MID(A13,8,1)&"x","0x1x2x3x4x5x6x7x8x9x")))),"IDの形式を確認",IF(COUNTIFS($A$8:$A$57,A13)>1,"IDが重複","確認済み"))),1,IF(COUNTA(A13)=0,IF(C13="",0,1),IF(AND(ISNUMBER(C13),C13=IF(B13="確認済み",0,1)),0,1))) -> 0 | G13: =IF(COUNTA(F13)=0,"",IF(NOT(AND(ISTEXT(F13),LEN(F13)=8,EXACT(LEFT(F13,4),"STF-"),ISNUMBER(FIND(MID(F13,5,1)&"x","0x1x2x3x4x5x6x7x8x9x")),ISNUMBER(FIND(MID(F13,6,1)&"x","0x1x2x3x4x5x6x7x8x9x")),ISNUMBER(FIND(MID(F13,7,1)&"x","0x1x2x3x4x5x6x7x8x9x")),ISNUMBER(FIND(MID(F13,8,1)&"x","0x1x2x3x4x5x6x7x8x9x")))),"IDの形式を確認",IF(COUNTIFS($F$8:$F$27,F13)>1,"IDが重複","確認済み"))) | H13: =IF(G13="","",IF(G13="確認済み",0,1)) | I13: =IF(G13<>IF(COUNTA(F13)=0,"",IF(NOT(AND(ISTEXT(F13),LEN(F13)=8,EXACT(LEFT(F13,4),"STF-"),ISNUMBER(FIND(MID(F13,5,1)&"x","0x1x2x3x4x5x6x7x8x9x")),ISNUMBER(FIND(MID(F13,6,1)&"x","0x1x2x3x4x5x6x7x8x9x")),ISNUMBER(FIND(MID(F13,7,1)&"x","0x1x2x3x4x5x6x7x8x9x")),ISNUMBER(FIND(MID(F13,8,1)&"x","0x1x2x3x4x5x6x7x8x9x")))),"IDの形式を確認",IF(COUNTIFS($F$8:$F$27,F13)>1,"IDが重複","確認済み"))),1,IF(COUNTA(F13)=0,IF(H13="",0,1),IF(AND(ISNUMBER(H13),H13=IF(G13="確認済み",0,1)),0,1))) -> 0
B14: =IF(COUNTA(A14)=0,"",IF(NOT(AND(ISTEXT(A14),LEN(A14)=8,EXACT(LEFT(A14,4),"CUS-"),ISNUMBER(FIND(MID(A14,5,1)&"x","0x1x2x3x4x5x6x7x8x9x")),ISNUMBER(FIND(MID(A14,6,1)&"x","0x1x2x3x4x5x6x7x8x9x")),ISNUMBER(FIND(MID(A14,7,1)&"x","0x1x2x3x4x5x6x7x8x9x")),ISNUMBER(FIND(MID(A14,8,1)&"x","0x1x2x3x4x5x6x7x8x9x")))),"IDの形式を確認",IF(COUNTIFS($A$8:$A$57,A14)>1,"IDが重複","確認済み"))) | C14: =IF(B14="","",IF(B14="確認済み",0,1)) | D14: =IF(B14<>IF(COUNTA(A14)=0,"",IF(NOT(AND(ISTEXT(A14),LEN(A14)=8,EXACT(LEFT(A14,4),"CUS-"),ISNUMBER(FIND(MID(A14,5,1)&"x","0x1x2x3x4x5x6x7x8x9x")),ISNUMBER(FIND(MID(A14,6,1)&"x","0x1x2x3x4x5x6x7x8x9x")),ISNUMBER(FIND(MID(A14,7,1)&"x","0x1x2x3x4x5x6x7x8x9x")),ISNUMBER(FIND(MID(A14,8,1)&"x","0x1x2x3x4x5x6x7x8x9x")))),"IDの形式を確認",IF(COUNTIFS($A$8:$A$57,A14)>1,"IDが重複","確認済み"))),1,IF(COUNTA(A14)=0,IF(C14="",0,1),IF(AND(ISNUMBER(C14),C14=IF(B14="確認済み",0,1)),0,1))) -> 0 | G14: =IF(COUNTA(F14)=0,"",IF(NOT(AND(ISTEXT(F14),LEN(F14)=8,EXACT(LEFT(F14,4),"STF-"),ISNUMBER(FIND(MID(F14,5,1)&"x","0x1x2x3x4x5x6x7x8x9x")),ISNUMBER(FIND(MID(F14,6,1)&"x","0x1x2x3x4x5x6x7x8x9x")),ISNUMBER(FIND(MID(F14,7,1)&"x","0x1x2x3x4x5x6x7x8x9x")),ISNUMBER(FIND(MID(F14,8,1)&"x","0x1x2x3x4x5x6x7x8x9x")))),"IDの形式を確認",IF(COUNTIFS($F$8:$F$27,F14)>1,"IDが重複","確認済み"))) | H14: =IF(G14="","",IF(G14="確認済み",0,1)) | I14: =IF(G14<>IF(COUNTA(F14)=0,"",IF(NOT(AND(ISTEXT(F14),LEN(F14)=8,EXACT(LEFT(F14,4),"STF-"),ISNUMBER(FIND(MID(F14,5,1)&"x","0x1x2x3x4x5x6x7x8x9x")),ISNUMBER(FIND(MID(F14,6,1)&"x","0x1x2x3x4x5x6x7x8x9x")),ISNUMBER(FIND(MID(F14,7,1)&"x","0x1x2x3x4x5x6x7x8x9x")),ISNUMBER(FIND(MID(F14,8,1)&"x","0x1x2x3x4x5x6x7x8x9x")))),"IDの形式を確認",IF(COUNTIFS($F$8:$F$27,F14)>1,"IDが重複","確認済み"))),1,IF(COUNTA(F14)=0,IF(H14="",0,1),IF(AND(ISNUMBER(H14),H14=IF(G14="確認済み",0,1)),0,1))) -> 0
B15: =IF(COUNTA(A15)=0,"",IF(NOT(AND(ISTEXT(A15),LEN(A15)=8,EXACT(LEFT(A15,4),"CUS-"),ISNUMBER(FIND(MID(A15,5,1)&"x","0x1x2x3x4x5x6x7x8x9x")),ISNUMBER(FIND(MID(A15,6,1)&"x","0x1x2x3x4x5x6x7x8x9x")),ISNUMBER(FIND(MID(A15,7,1)&"x","0x1x2x3x4x5x6x7x8x9x")),ISNUMBER(FIND(MID(A15,8,1)&"x","0x1x2x3x4x5x6x7x8x9x")))),"IDの形式を確認",IF(COUNTIFS($A$8:$A$57,A15)>1,"IDが重複","確認済み"))) | C15: =IF(B15="","",IF(B15="確認済み",0,1)) | D15: =IF(B15<>IF(COUNTA(A15)=0,"",IF(NOT(AND(ISTEXT(A15),LEN(A15)=8,EXACT(LEFT(A15,4),"CUS-"),ISNUMBER(FIND(MID(A15,5,1)&"x","0x1x2x3x4x5x6x7x8x9x")),ISNUMBER(FIND(MID(A15,6,1)&"x","0x1x2x3x4x5x6x7x8x9x")),ISNUMBER(FIND(MID(A15,7,1)&"x","0x1x2x3x4x5x6x7x8x9x")),ISNUMBER(FIND(MID(A15,8,1)&"x","0x1x2x3x4x5x6x7x8x9x")))),"IDの形式を確認",IF(COUNTIFS($A$8:$A$57,A15)>1,"IDが重複","確認済み"))),1,IF(COUNTA(A15)=0,IF(C15="",0,1),IF(AND(ISNUMBER(C15),C15=IF(B15="確認済み",0,1)),0,1))) -> 0 | G15: =IF(COUNTA(F15)=0,"",IF(NOT(AND(ISTEXT(F15),LEN(F15)=8,EXACT(LEFT(F15,4),"STF-"),ISNUMBER(FIND(MID(F15,5,1)&"x","0x1x2x3x4x5x6x7x8x9x")),ISNUMBER(FIND(MID(F15,6,1)&"x","0x1x2x3x4x5x6x7x8x9x")),ISNUMBER(FIND(MID(F15,7,1)&"x","0x1x2x3x4x5x6x7x8x9x")),ISNUMBER(FIND(MID(F15,8,1)&"x","0x1x2x3x4x5x6x7x8x9x")))),"IDの形式を確認",IF(COUNTIFS($F$8:$F$27,F15)>1,"IDが重複","確認済み"))) | H15: =IF(G15="","",IF(G15="確認済み",0,1)) | I15: =IF(G15<>IF(COUNTA(F15)=0,"",IF(NOT(AND(ISTEXT(F15),LEN(F15)=8,EXACT(LEFT(F15,4),"STF-"),ISNUMBER(FIND(MID(F15,5,1)&"x","0x1x2x3x4x5x6x7x8x9x")),ISNUMBER(FIND(MID(F15,6,1)&"x","0x1x2x3x4x5x6x7x8x9x")),ISNUMBER(FIND(MID(F15,7,1)&"x","0x1x2x3x4x5x6x7x8x9x")),ISNUMBER(FIND(MID(F15,8,1)&"x","0x1x2x3x4x5x6x7x8x9x")))),"IDの形式を確認",IF(COUNTIFS($F$8:$F$27,F15)>1,"IDが重複","確認済み"))),1,IF(COUNTA(F15)=0,IF(H15="",0,1),IF(AND(ISNUMBER(H15),H15=IF(G15="確認済み",0,1)),0,1))) -> 0
B16: =IF(COUNTA(A16)=0,"",IF(NOT(AND(ISTEXT(A16),LEN(A16)=8,EXACT(LEFT(A16,4),"CUS-"),ISNUMBER(FIND(MID(A16,5,1)&"x","0x1x2x3x4x5x6x7x8x9x")),ISNUMBER(FIND(MID(A16,6,1)&"x","0x1x2x3x4x5x6x7x8x9x")),ISNUMBER(FIND(MID(A16,7,1)&"x","0x1x2x3x4x5x6x7x8x9x")),ISNUMBER(FIND(MID(A16,8,1)&"x","0x1x2x3x4x5x6x7x8x9x")))),"IDの形式を確認",IF(COUNTIFS($A$8:$A$57,A16)>1,"IDが重複","確認済み"))) | C16: =IF(B16="","",IF(B16="確認済み",0,1)) | D16: =IF(B16<>IF(COUNTA(A16)=0,"",IF(NOT(AND(ISTEXT(A16),LEN(A16)=8,EXACT(LEFT(A16,4),"CUS-"),ISNUMBER(FIND(MID(A16,5,1)&"x","0x1x2x3x4x5x6x7x8x9x")),ISNUMBER(FIND(MID(A16,6,1)&"x","0x1x2x3x4x5x6x7x8x9x")),ISNUMBER(FIND(MID(A16,7,1)&"x","0x1x2x3x4x5x6x7x8x9x")),ISNUMBER(FIND(MID(A16,8,1)&"x","0x1x2x3x4x5x6x7x8x9x")))),"IDの形式を確認",IF(COUNTIFS($A$8:$A$57,A16)>1,"IDが重複","確認済み"))),1,IF(COUNTA(A16)=0,IF(C16="",0,1),IF(AND(ISNUMBER(C16),C16=IF(B16="確認済み",0,1)),0,1))) -> 0 | G16: =IF(COUNTA(F16)=0,"",IF(NOT(AND(ISTEXT(F16),LEN(F16)=8,EXACT(LEFT(F16,4),"STF-"),ISNUMBER(FIND(MID(F16,5,1)&"x","0x1x2x3x4x5x6x7x8x9x")),ISNUMBER(FIND(MID(F16,6,1)&"x","0x1x2x3x4x5x6x7x8x9x")),ISNUMBER(FIND(MID(F16,7,1)&"x","0x1x2x3x4x5x6x7x8x9x")),ISNUMBER(FIND(MID(F16,8,1)&"x","0x1x2x3x4x5x6x7x8x9x")))),"IDの形式を確認",IF(COUNTIFS($F$8:$F$27,F16)>1,"IDが重複","確認済み"))) | H16: =IF(G16="","",IF(G16="確認済み",0,1)) | I16: =IF(G16<>IF(COUNTA(F16)=0,"",IF(NOT(AND(ISTEXT(F16),LEN(F16)=8,EXACT(LEFT(F16,4),"STF-"),ISNUMBER(FIND(MID(F16,5,1)&"x","0x1x2x3x4x5x6x7x8x9x")),ISNUMBER(FIND(MID(F16,6,1)&"x","0x1x2x3x4x5x6x7x8x9x")),ISNUMBER(FIND(MID(F16,7,1)&"x","0x1x2x3x4x5x6x7x8x9x")),ISNUMBER(FIND(MID(F16,8,1)&"x","0x1x2x3x4x5x6x7x8x9x")))),"IDの形式を確認",IF(COUNTIFS($F$8:$F$27,F16)>1,"IDが重複","確認済み"))),1,IF(COUNTA(F16)=0,IF(H16="",0,1),IF(AND(ISNUMBER(H16),H16=IF(G16="確認済み",0,1)),0,1))) -> 0
B17: =IF(COUNTA(A17)=0,"",IF(NOT(AND(ISTEXT(A17),LEN(A17)=8,EXACT(LEFT(A17,4),"CUS-"),ISNUMBER(FIND(MID(A17,5,1)&"x","0x1x2x3x4x5x6x7x8x9x")),ISNUMBER(FIND(MID(A17,6,1)&"x","0x1x2x3x4x5x6x7x8x9x")),ISNUMBER(FIND(MID(A17,7,1)&"x","0x1x2x3x4x5x6x7x8x9x")),ISNUMBER(FIND(MID(A17,8,1)&"x","0x1x2x3x4x5x6x7x8x9x")))),"IDの形式を確認",IF(COUNTIFS($A$8:$A$57,A17)>1,"IDが重複","確認済み"))) | C17: =IF(B17="","",IF(B17="確認済み",0,1)) | D17: =IF(B17<>IF(COUNTA(A17)=0,"",IF(NOT(AND(ISTEXT(A17),LEN(A17)=8,EXACT(LEFT(A17,4),"CUS-"),ISNUMBER(FIND(MID(A17,5,1)&"x","0x1x2x3x4x5x6x7x8x9x")),ISNUMBER(FIND(MID(A17,6,1)&"x","0x1x2x3x4x5x6x7x8x9x")),ISNUMBER(FIND(MID(A17,7,1)&"x","0x1x2x3x4x5x6x7x8x9x")),ISNUMBER(FIND(MID(A17,8,1)&"x","0x1x2x3x4x5x6x7x8x9x")))),"IDの形式を確認",IF(COUNTIFS($A$8:$A$57,A17)>1,"IDが重複","確認済み"))),1,IF(COUNTA(A17)=0,IF(C17="",0,1),IF(AND(ISNUMBER(C17),C17=IF(B17="確認済み",0,1)),0,1))) -> 0 | G17: =IF(COUNTA(F17)=0,"",IF(NOT(AND(ISTEXT(F17),LEN(F17)=8,EXACT(LEFT(F17,4),"STF-"),ISNUMBER(FIND(MID(F17,5,1)&"x","0x1x2x3x4x5x6x7x8x9x")),ISNUMBER(FIND(MID(F17,6,1)&"x","0x1x2x3x4x5x6x7x8x9x")),ISNUMBER(FIND(MID(F17,7,1)&"x","0x1x2x3x4x5x6x7x8x9x")),ISNUMBER(FIND(MID(F17,8,1)&"x","0x1x2x3x4x5x6x7x8x9x")))),"IDの形式を確認",IF(COUNTIFS($F$8:$F$27,F17)>1,"IDが重複","確認済み"))) | H17: =IF(G17="","",IF(G17="確認済み",0,1)) | I17: =IF(G17<>IF(COUNTA(F17)=0,"",IF(NOT(AND(ISTEXT(F17),LEN(F17)=8,EXACT(LEFT(F17,4),"STF-"),ISNUMBER(FIND(MID(F17,5,1)&"x","0x1x2x3x4x5x6x7x8x9x")),ISNUMBER(FIND(MID(F17,6,1)&"x","0x1x2x3x4x5x6x7x8x9x")),ISNUMBER(FIND(MID(F17,7,1)&"x","0x1x2x3x4x5x6x7x8x9x")),ISNUMBER(FIND(MID(F17,8,1)&"x","0x1x2x3x4x5x6x7x8x9x")))),"IDの形式を確認",IF(COUNTIFS($F$8:$F$27,F17)>1,"IDが重複","確認済み"))),1,IF(COUNTA(F17)=0,IF(H17="",0,1),IF(AND(ISNUMBER(H17),H17=IF(G17="確認済み",0,1)),0,1))) -> 0
B18: =IF(COUNTA(A18)=0,"",IF(NOT(AND(ISTEXT(A18),LEN(A18)=8,EXACT(LEFT(A18,4),"CUS-"),ISNUMBER(FIND(MID(A18,5,1)&"x","0x1x2x3x4x5x6x7x8x9x")),ISNUMBER(FIND(MID(A18,6,1)&"x","0x1x2x3x4x5x6x7x8x9x")),ISNUMBER(FIND(MID(A18,7,1)&"x","0x1x2x3x4x5x6x7x8x9x")),ISNUMBER(FIND(MID(A18,8,1)&"x","0x1x2x3x4x5x6x7x8x9x")))),"IDの形式を確認",IF(COUNTIFS($A$8:$A$57,A18)>1,"IDが重複","確認済み"))) | C18: =IF(B18="","",IF(B18="確認済み",0,1)) | D18: =IF(B18<>IF(COUNTA(A18)=0,"",IF(NOT(AND(ISTEXT(A18),LEN(A18)=8,EXACT(LEFT(A18,4),"CUS-"),ISNUMBER(FIND(MID(A18,5,1)&"x","0x1x2x3x4x5x6x7x8x9x")),ISNUMBER(FIND(MID(A18,6,1)&"x","0x1x2x3x4x5x6x7x8x9x")),ISNUMBER(FIND(MID(A18,7,1)&"x","0x1x2x3x4x5x6x7x8x9x")),ISNUMBER(FIND(MID(A18,8,1)&"x","0x1x2x3x4x5x6x7x8x9x")))),"IDの形式を確認",IF(COUNTIFS($A$8:$A$57,A18)>1,"IDが重複","確認済み"))),1,IF(COUNTA(A18)=0,IF(C18="",0,1),IF(AND(ISNUMBER(C18),C18=IF(B18="確認済み",0,1)),0,1))) -> 0 | G18: =IF(COUNTA(F18)=0,"",IF(NOT(AND(ISTEXT(F18),LEN(F18)=8,EXACT(LEFT(F18,4),"STF-"),ISNUMBER(FIND(MID(F18,5,1)&"x","0x1x2x3x4x5x6x7x8x9x")),ISNUMBER(FIND(MID(F18,6,1)&"x","0x1x2x3x4x5x6x7x8x9x")),ISNUMBER(FIND(MID(F18,7,1)&"x","0x1x2x3x4x5x6x7x8x9x")),ISNUMBER(FIND(MID(F18,8,1)&"x","0x1x2x3x4x5x6x7x8x9x")))),"IDの形式を確認",IF(COUNTIFS($F$8:$F$27,F18)>1,"IDが重複","確認済み"))) | H18: =IF(G18="","",IF(G18="確認済み",0,1)) | I18: =IF(G18<>IF(COUNTA(F18)=0,"",IF(NOT(AND(ISTEXT(F18),LEN(F18)=8,EXACT(LEFT(F18,4),"STF-"),ISNUMBER(FIND(MID(F18,5,1)&"x","0x1x2x3x4x5x6x7x8x9x")),ISNUMBER(FIND(MID(F18,6,1)&"x","0x1x2x3x4x5x6x7x8x9x")),ISNUMBER(FIND(MID(F18,7,1)&"x","0x1x2x3x4x5x6x7x8x9x")),ISNUMBER(FIND(MID(F18,8,1)&"x","0x1x2x3x4x5x6x7x8x9x")))),"IDの形式を確認",IF(COUNTIFS($F$8:$F$27,F18)>1,"IDが重複","確認済み"))),1,IF(COUNTA(F18)=0,IF(H18="",0,1),IF(AND(ISNUMBER(H18),H18=IF(G18="確認済み",0,1)),0,1))) -> 0
B19: =IF(COUNTA(A19)=0,"",IF(NOT(AND(ISTEXT(A19),LEN(A19)=8,EXACT(LEFT(A19,4),"CUS-"),ISNUMBER(FIND(MID(A19,5,1)&"x","0x1x2x3x4x5x6x7x8x9x")),ISNUMBER(FIND(MID(A19,6,1)&"x","0x1x2x3x4x5x6x7x8x9x")),ISNUMBER(FIND(MID(A19,7,1)&"x","0x1x2x3x4x5x6x7x8x9x")),ISNUMBER(FIND(MID(A19,8,1)&"x","0x1x2x3x4x5x6x7x8x9x")))),"IDの形式を確認",IF(COUNTIFS($A$8:$A$57,A19)>1,"IDが重複","確認済み"))) | C19: =IF(B19="","",IF(B19="確認済み",0,1)) | D19: =IF(B19<>IF(COUNTA(A19)=0,"",IF(NOT(AND(ISTEXT(A19),LEN(A19)=8,EXACT(LEFT(A19,4),"CUS-"),ISNUMBER(FIND(MID(A19,5,1)&"x","0x1x2x3x4x5x6x7x8x9x")),ISNUMBER(FIND(MID(A19,6,1)&"x","0x1x2x3x4x5x6x7x8x9x")),ISNUMBER(FIND(MID(A19,7,1)&"x","0x1x2x3x4x5x6x7x8x9x")),ISNUMBER(FIND(MID(A19,8,1)&"x","0x1x2x3x4x5x6x7x8x9x")))),"IDの形式を確認",IF(COUNTIFS($A$8:$A$57,A19)>1,"IDが重複","確認済み"))),1,IF(COUNTA(A19)=0,IF(C19="",0,1),IF(AND(ISNUMBER(C19),C19=IF(B19="確認済み",0,1)),0,1))) -> 0 | G19: =IF(COUNTA(F19)=0,"",IF(NOT(AND(ISTEXT(F19),LEN(F19)=8,EXACT(LEFT(F19,4),"STF-"),ISNUMBER(FIND(MID(F19,5,1)&"x","0x1x2x3x4x5x6x7x8x9x")),ISNUMBER(FIND(MID(F19,6,1)&"x","0x1x2x3x4x5x6x7x8x9x")),ISNUMBER(FIND(MID(F19,7,1)&"x","0x1x2x3x4x5x6x7x8x9x")),ISNUMBER(FIND(MID(F19,8,1)&"x","0x1x2x3x4x5x6x7x8x9x")))),"IDの形式を確認",IF(COUNTIFS($F$8:$F$27,F19)>1,"IDが重複","確認済み"))) | H19: =IF(G19="","",IF(G19="確認済み",0,1)) | I19: =IF(G19<>IF(COUNTA(F19)=0,"",IF(NOT(AND(ISTEXT(F19),LEN(F19)=8,EXACT(LEFT(F19,4),"STF-"),ISNUMBER(FIND(MID(F19,5,1)&"x","0x1x2x3x4x5x6x7x8x9x")),ISNUMBER(FIND(MID(F19,6,1)&"x","0x1x2x3x4x5x6x7x8x9x")),ISNUMBER(FIND(MID(F19,7,1)&"x","0x1x2x3x4x5x6x7x8x9x")),ISNUMBER(FIND(MID(F19,8,1)&"x","0x1x2x3x4x5x6x7x8x9x")))),"IDの形式を確認",IF(COUNTIFS($F$8:$F$27,F19)>1,"IDが重複","確認済み"))),1,IF(COUNTA(F19)=0,IF(H19="",0,1),IF(AND(ISNUMBER(H19),H19=IF(G19="確認済み",0,1)),0,1))) -> 0
B20: =IF(COUNTA(A20)=0,"",IF(NOT(AND(ISTEXT(A20),LEN(A20)=8,EXACT(LEFT(A20,4),"CUS-"),ISNUMBER(FIND(MID(A20,5,1)&"x","0x1x2x3x4x5x6x7x8x9x")),ISNUMBER(FIND(MID(A20,6,1)&"x","0x1x2x3x4x5x6x7x8x9x")),ISNUMBER(FIND(MID(A20,7,1)&"x","0x1x2x3x4x5x6x7x8x9x")),ISNUMBER(FIND(MID(A20,8,1)&"x","0x1x2x3x4x5x6x7x8x9x")))),"IDの形式を確認",IF(COUNTIFS($A$8:$A$57,A20)>1,"IDが重複","確認済み"))) | C20: =IF(B20="","",IF(B20="確認済み",0,1)) | D20: =IF(B20<>IF(COUNTA(A20)=0,"",IF(NOT(AND(ISTEXT(A20),LEN(A20)=8,EXACT(LEFT(A20,4),"CUS-"),ISNUMBER(FIND(MID(A20,5,1)&"x","0x1x2x3x4x5x6x7x8x9x")),ISNUMBER(FIND(MID(A20,6,1)&"x","0x1x2x3x4x5x6x7x8x9x")),ISNUMBER(FIND(MID(A20,7,1)&"x","0x1x2x3x4x5x6x7x8x9x")),ISNUMBER(FIND(MID(A20,8,1)&"x","0x1x2x3x4x5x6x7x8x9x")))),"IDの形式を確認",IF(COUNTIFS($A$8:$A$57,A20)>1,"IDが重複","確認済み"))),1,IF(COUNTA(A20)=0,IF(C20="",0,1),IF(AND(ISNUMBER(C20),C20=IF(B20="確認済み",0,1)),0,1))) -> 0 | G20: =IF(COUNTA(F20)=0,"",IF(NOT(AND(ISTEXT(F20),LEN(F20)=8,EXACT(LEFT(F20,4),"STF-"),ISNUMBER(FIND(MID(F20,5,1)&"x","0x1x2x3x4x5x6x7x8x9x")),ISNUMBER(FIND(MID(F20,6,1)&"x","0x1x2x3x4x5x6x7x8x9x")),ISNUMBER(FIND(MID(F20,7,1)&"x","0x1x2x3x4x5x6x7x8x9x")),ISNUMBER(FIND(MID(F20,8,1)&"x","0x1x2x3x4x5x6x7x8x9x")))),"IDの形式を確認",IF(COUNTIFS($F$8:$F$27,F20)>1,"IDが重複","確認済み"))) | H20: =IF(G20="","",IF(G20="確認済み",0,1)) | I20: =IF(G20<>IF(COUNTA(F20)=0,"",IF(NOT(AND(ISTEXT(F20),LEN(F20)=8,EXACT(LEFT(F20,4),"STF-"),ISNUMBER(FIND(MID(F20,5,1)&"x","0x1x2x3x4x5x6x7x8x9x")),ISNUMBER(FIND(MID(F20,6,1)&"x","0x1x2x3x4x5x6x7x8x9x")),ISNUMBER(FIND(MID(F20,7,1)&"x","0x1x2x3x4x5x6x7x8x9x")),ISNUMBER(FIND(MID(F20,8,1)&"x","0x1x2x3x4x5x6x7x8x9x")))),"IDの形式を確認",IF(COUNTIFS($F$8:$F$27,F20)>1,"IDが重複","確認済み"))),1,IF(COUNTA(F20)=0,IF(H20="",0,1),IF(AND(ISNUMBER(H20),H20=IF(G20="確認済み",0,1)),0,1))) -> 0
B21: =IF(COUNTA(A21)=0,"",IF(NOT(AND(ISTEXT(A21),LEN(A21)=8,EXACT(LEFT(A21,4),"CUS-"),ISNUMBER(FIND(MID(A21,5,1)&"x","0x1x2x3x4x5x6x7x8x9x")),ISNUMBER(FIND(MID(A21,6,1)&"x","0x1x2x3x4x5x6x7x8x9x")),ISNUMBER(FIND(MID(A21,7,1)&"x","0x1x2x3x4x5x6x7x8x9x")),ISNUMBER(FIND(MID(A21,8,1)&"x","0x1x2x3x4x5x6x7x8x9x")))),"IDの形式を確認",IF(COUNTIFS($A$8:$A$57,A21)>1,"IDが重複","確認済み"))) | C21: =IF(B21="","",IF(B21="確認済み",0,1)) | D21: =IF(B21<>IF(COUNTA(A21)=0,"",IF(NOT(AND(ISTEXT(A21),LEN(A21)=8,EXACT(LEFT(A21,4),"CUS-"),ISNUMBER(FIND(MID(A21,5,1)&"x","0x1x2x3x4x5x6x7x8x9x")),ISNUMBER(FIND(MID(A21,6,1)&"x","0x1x2x3x4x5x6x7x8x9x")),ISNUMBER(FIND(MID(A21,7,1)&"x","0x1x2x3x4x5x6x7x8x9x")),ISNUMBER(FIND(MID(A21,8,1)&"x","0x1x2x3x4x5x6x7x8x9x")))),"IDの形式を確認",IF(COUNTIFS($A$8:$A$57,A21)>1,"IDが重複","確認済み"))),1,IF(COUNTA(A21)=0,IF(C21="",0,1),IF(AND(ISNUMBER(C21),C21=IF(B21="確認済み",0,1)),0,1))) -> 0 | G21: =IF(COUNTA(F21)=0,"",IF(NOT(AND(ISTEXT(F21),LEN(F21)=8,EXACT(LEFT(F21,4),"STF-"),ISNUMBER(FIND(MID(F21,5,1)&"x","0x1x2x3x4x5x6x7x8x9x")),ISNUMBER(FIND(MID(F21,6,1)&"x","0x1x2x3x4x5x6x7x8x9x")),ISNUMBER(FIND(MID(F21,7,1)&"x","0x1x2x3x4x5x6x7x8x9x")),ISNUMBER(FIND(MID(F21,8,1)&"x","0x1x2x3x4x5x6x7x8x9x")))),"IDの形式を確認",IF(COUNTIFS($F$8:$F$27,F21)>1,"IDが重複","確認済み"))) | H21: =IF(G21="","",IF(G21="確認済み",0,1)) | I21: =IF(G21<>IF(COUNTA(F21)=0,"",IF(NOT(AND(ISTEXT(F21),LEN(F21)=8,EXACT(LEFT(F21,4),"STF-"),ISNUMBER(FIND(MID(F21,5,1)&"x","0x1x2x3x4x5x6x7x8x9x")),ISNUMBER(FIND(MID(F21,6,1)&"x","0x1x2x3x4x5x6x7x8x9x")),ISNUMBER(FIND(MID(F21,7,1)&"x","0x1x2x3x4x5x6x7x8x9x")),ISNUMBER(FIND(MID(F21,8,1)&"x","0x1x2x3x4x5x6x7x8x9x")))),"IDの形式を確認",IF(COUNTIFS($F$8:$F$27,F21)>1,"IDが重複","確認済み"))),1,IF(COUNTA(F21)=0,IF(H21="",0,1),IF(AND(ISNUMBER(H21),H21=IF(G21="確認済み",0,1)),0,1))) -> 0
B22: =IF(COUNTA(A22)=0,"",IF(NOT(AND(ISTEXT(A22),LEN(A22)=8,EXACT(LEFT(A22,4),"CUS-"),ISNUMBER(FIND(MID(A22,5,1)&"x","0x1x2x3x4x5x6x7x8x9x")),ISNUMBER(FIND(MID(A22,6,1)&"x","0x1x2x3x4x5x6x7x8x9x")),ISNUMBER(FIND(MID(A22,7,1)&"x","0x1x2x3x4x5x6x7x8x9x")),ISNUMBER(FIND(MID(A22,8,1)&"x","0x1x2x3x4x5x6x7x8x9x")))),"IDの形式を確認",IF(COUNTIFS($A$8:$A$57,A22)>1,"IDが重複","確認済み"))) | C22: =IF(B22="","",IF(B22="確認済み",0,1)) | D22: =IF(B22<>IF(COUNTA(A22)=0,"",IF(NOT(AND(ISTEXT(A22),LEN(A22)=8,EXACT(LEFT(A22,4),"CUS-"),ISNUMBER(FIND(MID(A22,5,1)&"x","0x1x2x3x4x5x6x7x8x9x")),ISNUMBER(FIND(MID(A22,6,1)&"x","0x1x2x3x4x5x6x7x8x9x")),ISNUMBER(FIND(MID(A22,7,1)&"x","0x1x2x3x4x5x6x7x8x9x")),ISNUMBER(FIND(MID(A22,8,1)&"x","0x1x2x3x4x5x6x7x8x9x")))),"IDの形式を確認",IF(COUNTIFS($A$8:$A$57,A22)>1,"IDが重複","確認済み"))),1,IF(COUNTA(A22)=0,IF(C22="",0,1),IF(AND(ISNUMBER(C22),C22=IF(B22="確認済み",0,1)),0,1))) -> 0 | G22: =IF(COUNTA(F22)=0,"",IF(NOT(AND(ISTEXT(F22),LEN(F22)=8,EXACT(LEFT(F22,4),"STF-"),ISNUMBER(FIND(MID(F22,5,1)&"x","0x1x2x3x4x5x6x7x8x9x")),ISNUMBER(FIND(MID(F22,6,1)&"x","0x1x2x3x4x5x6x7x8x9x")),ISNUMBER(FIND(MID(F22,7,1)&"x","0x1x2x3x4x5x6x7x8x9x")),ISNUMBER(FIND(MID(F22,8,1)&"x","0x1x2x3x4x5x6x7x8x9x")))),"IDの形式を確認",IF(COUNTIFS($F$8:$F$27,F22)>1,"IDが重複","確認済み"))) | H22: =IF(G22="","",IF(G22="確認済み",0,1)) | I22: =IF(G22<>IF(COUNTA(F22)=0,"",IF(NOT(AND(ISTEXT(F22),LEN(F22)=8,EXACT(LEFT(F22,4),"STF-"),ISNUMBER(FIND(MID(F22,5,1)&"x","0x1x2x3x4x5x6x7x8x9x")),ISNUMBER(FIND(MID(F22,6,1)&"x","0x1x2x3x4x5x6x7x8x9x")),ISNUMBER(FIND(MID(F22,7,1)&"x","0x1x2x3x4x5x6x7x8x9x")),ISNUMBER(FIND(MID(F22,8,1)&"x","0x1x2x3x4x5x6x7x8x9x")))),"IDの形式を確認",IF(COUNTIFS($F$8:$F$27,F22)>1,"IDが重複","確認済み"))),1,IF(COUNTA(F22)=0,IF(H22="",0,1),IF(AND(ISNUMBER(H22),H22=IF(G22="確認済み",0,1)),0,1))) -> 0
B23: =IF(COUNTA(A23)=0,"",IF(NOT(AND(ISTEXT(A23),LEN(A23)=8,EXACT(LEFT(A23,4),"CUS-"),ISNUMBER(FIND(MID(A23,5,1)&"x","0x1x2x3x4x5x6x7x8x9x")),ISNUMBER(FIND(MID(A23,6,1)&"x","0x1x2x3x4x5x6x7x8x9x")),ISNUMBER(FIND(MID(A23,7,1)&"x","0x1x2x3x4x5x6x7x8x9x")),ISNUMBER(FIND(MID(A23,8,1)&"x","0x1x2x3x4x5x6x7x8x9x")))),"IDの形式を確認",IF(COUNTIFS($A$8:$A$57,A23)>1,"IDが重複","確認済み"))) | C23: =IF(B23="","",IF(B23="確認済み",0,1)) | D23: =IF(B23<>IF(COUNTA(A23)=0,"",IF(NOT(AND(ISTEXT(A23),LEN(A23)=8,EXACT(LEFT(A23,4),"CUS-"),ISNUMBER(FIND(MID(A23,5,1)&"x","0x1x2x3x4x5x6x7x8x9x")),ISNUMBER(FIND(MID(A23,6,1)&"x","0x1x2x3x4x5x6x7x8x9x")),ISNUMBER(FIND(MID(A23,7,1)&"x","0x1x2x3x4x5x6x7x8x9x")),ISNUMBER(FIND(MID(A23,8,1)&"x","0x1x2x3x4x5x6x7x8x9x")))),"IDの形式を確認",IF(COUNTIFS($A$8:$A$57,A23)>1,"IDが重複","確認済み"))),1,IF(COUNTA(A23)=0,IF(C23="",0,1),IF(AND(ISNUMBER(C23),C23=IF(B23="確認済み",0,1)),0,1))) -> 0 | G23: =IF(COUNTA(F23)=0,"",IF(NOT(AND(ISTEXT(F23),LEN(F23)=8,EXACT(LEFT(F23,4),"STF-"),ISNUMBER(FIND(MID(F23,5,1)&"x","0x1x2x3x4x5x6x7x8x9x")),ISNUMBER(FIND(MID(F23,6,1)&"x","0x1x2x3x4x5x6x7x8x9x")),ISNUMBER(FIND(MID(F23,7,1)&"x","0x1x2x3x4x5x6x7x8x9x")),ISNUMBER(FIND(MID(F23,8,1)&"x","0x1x2x3x4x5x6x7x8x9x")))),"IDの形式を確認",IF(COUNTIFS($F$8:$F$27,F23)>1,"IDが重複","確認済み"))) | H23: =IF(G23="","",IF(G23="確認済み",0,1)) | I23: =IF(G23<>IF(COUNTA(F23)=0,"",IF(NOT(AND(ISTEXT(F23),LEN(F23)=8,EXACT(LEFT(F23,4),"STF-"),ISNUMBER(FIND(MID(F23,5,1)&"x","0x1x2x3x4x5x6x7x8x9x")),ISNUMBER(FIND(MID(F23,6,1)&"x","0x1x2x3x4x5x6x7x8x9x")),ISNUMBER(FIND(MID(F23,7,1)&"x","0x1x2x3x4x5x6x7x8x9x")),ISNUMBER(FIND(MID(F23,8,1)&"x","0x1x2x3x4x5x6x7x8x9x")))),"IDの形式を確認",IF(COUNTIFS($F$8:$F$27,F23)>1,"IDが重複","確認済み"))),1,IF(COUNTA(F23)=0,IF(H23="",0,1),IF(AND(ISNUMBER(H23),H23=IF(G23="確認済み",0,1)),0,1))) -> 0
... B27: =IF(COUNTA(A27)=0,"",IF(NOT(AND(ISTEXT(A27),LEN(A27)=8,EXACT(LEFT(A27,4),"CUS-"),ISNUMBER(FIND(MID(A27,5,1)&"x","0x1x2x3x4x5x6x7x8x9x")),ISNUMBER(FIND(MID(A27,6,1)&"x","0x1x2x3x4x5x6x7x8x9x")),ISNUMBER(FIND(MID(A27,7,1)&"x","0x1x2x3x4x5x6x7x8x9x")),ISNUMBER(FIND(MID(A27,8,1)&"x","0x1x2x3x4x5x6x7x8x9x")))),"IDの形式を確認",IF(COUNTIFS($A$8:$A$57,A27)>1,"IDが重複","確認済み"))) | C27: =IF(B27="","",IF(B27="確認済み",0,1)) | D27: =IF(B27<>IF(COUNTA(A27)=0,"",IF(NOT(AND(ISTEXT(A27),LEN(A27)=8,EXACT(LEFT(A27,4),"CUS-"),ISNUMBER(FIND(MID(A27,5,1)&"x","0x1x2x3x4x5x6x7x8x9x")),ISNUMBER(FIND(MID(A27,6,1)&"x","0x1x2x3x4x5x6x7x8x9x")),ISNUMBER(FIND(MID(A27,7,1)&"x","0x1x2x3x4x5x6x7x8x9x")),ISNUMBER(FIND(MID(A27,8,1)&"x","0x1x2x3x4x5x6x7x8x9x")))),"IDの形式を確認",IF(COUNTIFS($A$8:$A$57,A27)>1,"IDが重複","確認済み"))),1,IF(COUNTA(A27)=0,IF(C27="",0,1),IF(AND(ISNUMBER(C27),C27=IF(B27="確認済み",0,1)),0,1))) -> 0 | G27: =IF(COUNTA(F27)=0,"",IF(NOT(AND(ISTEXT(F27),LEN(F27)=8,EXACT(LEFT(F27,4),"STF-"),ISNUMBER(FIND(MID(F27,5,1)&"x","0x1x2x3x4x5x6x7x8x9x")),ISNUMBER(FIND(MID(F27,6,1)&"x","0x1x2x3x4x5x6x7x8x9x")),ISNUMBER(FIND(MID(F27,7,1)&"x","0x1x2x3x4x5x6x7x8x9x")),ISNUMBER(FIND(MID(F27,8,1)&"x","0x1x2x3x4x5x6x7x8x9x")))),"IDの形式を確認",IF(COUNTIFS($F$8:$F$27,F27)>1,"IDが重複","確認済み"))) | H27: =IF(G27="","",IF(G27="確認済み",0,1)) | I27: =IF(G27<>IF(COUNTA(F27)=0,"",IF(NOT(AND(ISTEXT(F27),LEN(F27)=8,EXACT(LEFT(F27,4),"STF-"),ISNUMBER(FIND(MID(F27,5,1)&"x","0x1x2x3x4x5x6x7x8x9x")),ISNUMBER(FIND(MID(F27,6,1)&"x","0x1x2x3x4x5x6x7x8x9x")),ISNUMBER(FIND(MID(F27,7,1)&"x","0x1x2x3x4x5x6x7x8x9x")),ISNUMBER(FIND(MID(F27,8,1)&"x","0x1x2x3x4x5x6x7x8x9x")))),"IDの形式を確認",IF(COUNTIFS($F$8:$F$27,F27)>1,"IDが重複","確認済み"))),1,IF(COUNTA(F27)=0,IF(H27="",0,1),IF(AND(ISNUMBER(H27),H27=IF(G27="確認済み",0,1)),0,1))) -> 0
B28: =IF(COUNTA(A28)=0,"",IF(NOT(AND(ISTEXT(A28),LEN(A28)=8,EXACT(LEFT(A28,4),"CUS-"),ISNUMBER(FIND(MID(A28,5,1)&"x","0x1x2x3x4x5x6x7x8x9x")),ISNUMBER(FIND(MID(A28,6,1)&"x","0x1x2x3x4x5x6x7x8x9x")),ISNUMBER(FIND(MID(A28,7,1)&"x","0x1x2x3x4x5x6x7x8x9x")),ISNUMBER(FIND(MID(A28,8,1)&"x","0x1x2x3x4x5x6x7x8x9x")))),"IDの形式を確認",IF(COUNTIFS($A$8:$A$57,A28)>1,"IDが重複","確認済み"))) | C28: =IF(B28="","",IF(B28="確認済み",0,1)) | D28: =IF(B28<>IF(COUNTA(A28)=0,"",IF(NOT(AND(ISTEXT(A28),LEN(A28)=8,EXACT(LEFT(A28,4),"CUS-"),ISNUMBER(FIND(MID(A28,5,1)&"x","0x1x2x3x4x5x6x7x8x9x")),ISNUMBER(FIND(MID(A28,6,1)&"x","0x1x2x3x4x5x6x7x8x9x")),ISNUMBER(FIND(MID(A28,7,1)&"x","0x1x2x3x4x5x6x7x8x9x")),ISNUMBER(FIND(MID(A28,8,1)&"x","0x1x2x3x4x5x6x7x8x9x")))),"IDの形式を確認",IF(COUNTIFS($A$8:$A$57,A28)>1,"IDが重複","確認済み"))),1,IF(COUNTA(A28)=0,IF(C28="",0,1),IF(AND(ISNUMBER(C28),C28=IF(B28="確認済み",0,1)),0,1))) -> 0
B29: =IF(COUNTA(A29)=0,"",IF(NOT(AND(ISTEXT(A29),LEN(A29)=8,EXACT(LEFT(A29,4),"CUS-"),ISNUMBER(FIND(MID(A29,5,1)&"x","0x1x2x3x4x5x6x7x8x9x")),ISNUMBER(FIND(MID(A29,6,1)&"x","0x1x2x3x4x5x6x7x8x9x")),ISNUMBER(FIND(MID(A29,7,1)&"x","0x1x2x3x4x5x6x7x8x9x")),ISNUMBER(FIND(MID(A29,8,1)&"x","0x1x2x3x4x5x6x7x8x9x")))),"IDの形式を確認",IF(COUNTIFS($A$8:$A$57,A29)>1,"IDが重複","確認済み"))) | C29: =IF(B29="","",IF(B29="確認済み",0,1)) | D29: =IF(B29<>IF(COUNTA(A29)=0,"",IF(NOT(AND(ISTEXT(A29),LEN(A29)=8,EXACT(LEFT(A29,4),"CUS-"),ISNUMBER(FIND(MID(A29,5,1)&"x","0x1x2x3x4x5x6x7x8x9x")),ISNUMBER(FIND(MID(A29,6,1)&"x","0x1x2x3x4x5x6x7x8x9x")),ISNUMBER(FIND(MID(A29,7,1)&"x","0x1x2x3x4x5x6x7x8x9x")),ISNUMBER(FIND(MID(A29,8,1)&"x","0x1x2x3x4x5x6x7x8x9x")))),"IDの形式を確認",IF(COUNTIFS($A$8:$A$57,A29)>1,"IDが重複","確認済み"))),1,IF(COUNTA(A29)=0,IF(C29="",0,1),IF(AND(ISNUMBER(C29),C29=IF(B29="確認済み",0,1)),0,1))) -> 0
B30: =IF(COUNTA(A30)=0,"",IF(NOT(AND(ISTEXT(A30),LEN(A30)=8,EXACT(LEFT(A30,4),"CUS-"),ISNUMBER(FIND(MID(A30,5,1)&"x","0x1x2x3x4x5x6x7x8x9x")),ISNUMBER(FIND(MID(A30,6,1)&"x","0x1x2x3x4x5x6x7x8x9x")),ISNUMBER(FIND(MID(A30,7,1)&"x","0x1x2x3x4x5x6x7x8x9x")),ISNUMBER(FIND(MID(A30,8,1)&"x","0x1x2x3x4x5x6x7x8x9x")))),"IDの形式を確認",IF(COUNTIFS($A$8:$A$57,A30)>1,"IDが重複","確認済み"))) | C30: =IF(B30="","",IF(B30="確認済み",0,1)) | D30: =IF(B30<>IF(COUNTA(A30)=0,"",IF(NOT(AND(ISTEXT(A30),LEN(A30)=8,EXACT(LEFT(A30,4),"CUS-"),ISNUMBER(FIND(MID(A30,5,1)&"x","0x1x2x3x4x5x6x7x8x9x")),ISNUMBER(FIND(MID(A30,6,1)&"x","0x1x2x3x4x5x6x7x8x9x")),ISNUMBER(FIND(MID(A30,7,1)&"x","0x1x2x3x4x5x6x7x8x9x")),ISNUMBER(FIND(MID(A30,8,1)&"x","0x1x2x3x4x5x6x7x8x9x")))),"IDの形式を確認",IF(COUNTIFS($A$8:$A$57,A30)>1,"IDが重複","確認済み"))),1,IF(COUNTA(A30)=0,IF(C30="",0,1),IF(AND(ISNUMBER(C30),C30=IF(B30="確認済み",0,1)),0,1))) -> 0
B31: =IF(COUNTA(A31)=0,"",IF(NOT(AND(ISTEXT(A31),LEN(A31)=8,EXACT(LEFT(A31,4),"CUS-"),ISNUMBER(FIND(MID(A31,5,1)&"x","0x1x2x3x4x5x6x7x8x9x")),ISNUMBER(FIND(MID(A31,6,1)&"x","0x1x2x3x4x5x6x7x8x9x")),ISNUMBER(FIND(MID(A31,7,1)&"x","0x1x2x3x4x5x6x7x8x9x")),ISNUMBER(FIND(MID(A31,8,1)&"x","0x1x2x3x4x5x6x7x8x9x")))),"IDの形式を確認",IF(COUNTIFS($A$8:$A$57,A31)>1,"IDが重複","確認済み"))) | C31: =IF(B31="","",IF(B31="確認済み",0,1)) | D31: =IF(B31<>IF(COUNTA(A31)=0,"",IF(NOT(AND(ISTEXT(A31),LEN(A31)=8,EXACT(LEFT(A31,4),"CUS-"),ISNUMBER(FIND(MID(A31,5,1)&"x","0x1x2x3x4x5x6x7x8x9x")),ISNUMBER(FIND(MID(A31,6,1)&"x","0x1x2x3x4x5x6x7x8x9x")),ISNUMBER(FIND(MID(A31,7,1)&"x","0x1x2x3x4x5x6x7x8x9x")),ISNUMBER(FIND(MID(A31,8,1)&"x","0x1x2x3x4x5x6x7x8x9x")))),"IDの形式を確認",IF(COUNTIFS($A$8:$A$57,A31)>1,"IDが重複","確認済み"))),1,IF(COUNTA(A31)=0,IF(C31="",0,1),IF(AND(ISNUMBER(C31),C31=IF(B31="確認済み",0,1)),0,1))) -> 0
B32: =IF(COUNTA(A32)=0,"",IF(NOT(AND(ISTEXT(A32),LEN(A32)=8,EXACT(LEFT(A32,4),"CUS-"),ISNUMBER(FIND(MID(A32,5,1)&"x","0x1x2x3x4x5x6x7x8x9x")),ISNUMBER(FIND(MID(A32,6,1)&"x","0x1x2x3x4x5x6x7x8x9x")),ISNUMBER(FIND(MID(A32,7,1)&"x","0x1x2x3x4x5x6x7x8x9x")),ISNUMBER(FIND(MID(A32,8,1)&"x","0x1x2x3x4x5x6x7x8x9x")))),"IDの形式を確認",IF(COUNTIFS($A$8:$A$57,A32)>1,"IDが重複","確認済み"))) | C32: =IF(B32="","",IF(B32="確認済み",0,1)) | D32: =IF(B32<>IF(COUNTA(A32)=0,"",IF(NOT(AND(ISTEXT(A32),LEN(A32)=8,EXACT(LEFT(A32,4),"CUS-"),ISNUMBER(FIND(MID(A32,5,1)&"x","0x1x2x3x4x5x6x7x8x9x")),ISNUMBER(FIND(MID(A32,6,1)&"x","0x1x2x3x4x5x6x7x8x9x")),ISNUMBER(FIND(MID(A32,7,1)&"x","0x1x2x3x4x5x6x7x8x9x")),ISNUMBER(FIND(MID(A32,8,1)&"x","0x1x2x3x4x5x6x7x8x9x")))),"IDの形式を確認",IF(COUNTIFS($A$8:$A$57,A32)>1,"IDが重複","確認済み"))),1,IF(COUNTA(A32)=0,IF(C32="",0,1),IF(AND(ISNUMBER(C32),C32=IF(B32="確認済み",0,1)),0,1))) -> 0
B33: =IF(COUNTA(A33)=0,"",IF(NOT(AND(ISTEXT(A33),LEN(A33)=8,EXACT(LEFT(A33,4),"CUS-"),ISNUMBER(FIND(MID(A33,5,1)&"x","0x1x2x3x4x5x6x7x8x9x")),ISNUMBER(FIND(MID(A33,6,1)&"x","0x1x2x3x4x5x6x7x8x9x")),ISNUMBER(FIND(MID(A33,7,1)&"x","0x1x2x3x4x5x6x7x8x9x")),ISNUMBER(FIND(MID(A33,8,1)&"x","0x1x2x3x4x5x6x7x8x9x")))),"IDの形式を確認",IF(COUNTIFS($A$8:$A$57,A33)>1,"IDが重複","確認済み"))) | C33: =IF(B33="","",IF(B33="確認済み",0,1)) | D33: =IF(B33<>IF(COUNTA(A33)=0,"",IF(NOT(AND(ISTEXT(A33),LEN(A33)=8,EXACT(LEFT(A33,4),"CUS-"),ISNUMBER(FIND(MID(A33,5,1)&"x","0x1x2x3x4x5x6x7x8x9x")),ISNUMBER(FIND(MID(A33,6,1)&"x","0x1x2x3x4x5x6x7x8x9x")),ISNUMBER(FIND(MID(A33,7,1)&"x","0x1x2x3x4x5x6x7x8x9x")),ISNUMBER(FIND(MID(A33,8,1)&"x","0x1x2x3x4x5x6x7x8x9x")))),"IDの形式を確認",IF(COUNTIFS($A$8:$A$57,A33)>1,"IDが重複","確認済み"))),1,IF(COUNTA(A33)=0,IF(C33="",0,1),IF(AND(ISNUMBER(C33),C33=IF(B33="確認済み",0,1)),0,1))) -> 0
B34: =IF(COUNTA(A34)=0,"",IF(NOT(AND(ISTEXT(A34),LEN(A34)=8,EXACT(LEFT(A34,4),"CUS-"),ISNUMBER(FIND(MID(A34,5,1)&"x","0x1x2x3x4x5x6x7x8x9x")),ISNUMBER(FIND(MID(A34,6,1)&"x","0x1x2x3x4x5x6x7x8x9x")),ISNUMBER(FIND(MID(A34,7,1)&"x","0x1x2x3x4x5x6x7x8x9x")),ISNUMBER(FIND(MID(A34,8,1)&"x","0x1x2x3x4x5x6x7x8x9x")))),"IDの形式を確認",IF(COUNTIFS($A$8:$A$57,A34)>1,"IDが重複","確認済み"))) | C34: =IF(B34="","",IF(B34="確認済み",0,1)) | D34: =IF(B34<>IF(COUNTA(A34)=0,"",IF(NOT(AND(ISTEXT(A34),LEN(A34)=8,EXACT(LEFT(A34,4),"CUS-"),ISNUMBER(FIND(MID(A34,5,1)&"x","0x1x2x3x4x5x6x7x8x9x")),ISNUMBER(FIND(MID(A34,6,1)&"x","0x1x2x3x4x5x6x7x8x9x")),ISNUMBER(FIND(MID(A34,7,1)&"x","0x1x2x3x4x5x6x7x8x9x")),ISNUMBER(FIND(MID(A34,8,1)&"x","0x1x2x3x4x5x6x7x8x9x")))),"IDの形式を確認",IF(COUNTIFS($A$8:$A$57,A34)>1,"IDが重複","確認済み"))),1,IF(COUNTA(A34)=0,IF(C34="",0,1),IF(AND(ISNUMBER(C34),C34=IF(B34="確認済み",0,1)),0,1))) -> 0
B35: =IF(COUNTA(A35)=0,"",IF(NOT(AND(ISTEXT(A35),LEN(A35)=8,EXACT(LEFT(A35,4),"CUS-"),ISNUMBER(FIND(MID(A35,5,1)&"x","0x1x2x3x4x5x6x7x8x9x")),ISNUMBER(FIND(MID(A35,6,1)&"x","0x1x2x3x4x5x6x7x8x9x")),ISNUMBER(FIND(MID(A35,7,1)&"x","0x1x2x3x4x5x6x7x8x9x")),ISNUMBER(FIND(MID(A35,8,1)&"x","0x1x2x3x4x5x6x7x8x9x")))),"IDの形式を確認",IF(COUNTIFS($A$8:$A$57,A35)>1,"IDが重複","確認済み"))) | C35: =IF(B35="","",IF(B35="確認済み",0,1)) | D35: =IF(B35<>IF(COUNTA(A35)=0,"",IF(NOT(AND(ISTEXT(A35),LEN(A35)=8,EXACT(LEFT(A35,4),"CUS-"),ISNUMBER(FIND(MID(A35,5,1)&"x","0x1x2x3x4x5x6x7x8x9x")),ISNUMBER(FIND(MID(A35,6,1)&"x","0x1x2x3x4x5x6x7x8x9x")),ISNUMBER(FIND(MID(A35,7,1)&"x","0x1x2x3x4x5x6x7x8x9x")),ISNUMBER(FIND(MID(A35,8,1)&"x","0x1x2x3x4x5x6x7x8x9x")))),"IDの形式を確認",IF(COUNTIFS($A$8:$A$57,A35)>1,"IDが重複","確認済み"))),1,IF(COUNTA(A35)=0,IF(C35="",0,1),IF(AND(ISNUMBER(C35),C35=IF(B35="確認済み",0,1)),0,1))) -> 0
B36: =IF(COUNTA(A36)=0,"",IF(NOT(AND(ISTEXT(A36),LEN(A36)=8,EXACT(LEFT(A36,4),"CUS-"),ISNUMBER(FIND(MID(A36,5,1)&"x","0x1x2x3x4x5x6x7x8x9x")),ISNUMBER(FIND(MID(A36,6,1)&"x","0x1x2x3x4x5x6x7x8x9x")),ISNUMBER(FIND(MID(A36,7,1)&"x","0x1x2x3x4x5x6x7x8x9x")),ISNUMBER(FIND(MID(A36,8,1)&"x","0x1x2x3x4x5x6x7x8x9x")))),"IDの形式を確認",IF(COUNTIFS($A$8:$A$57,A36)>1,"IDが重複","確認済み"))) | C36: =IF(B36="","",IF(B36="確認済み",0,1)) | D36: =IF(B36<>IF(COUNTA(A36)=0,"",IF(NOT(AND(ISTEXT(A36),LEN(A36)=8,EXACT(LEFT(A36,4),"CUS-"),ISNUMBER(FIND(MID(A36,5,1)&"x","0x1x2x3x4x5x6x7x8x9x")),ISNUMBER(FIND(MID(A36,6,1)&"x","0x1x2x3x4x5x6x7x8x9x")),ISNUMBER(FIND(MID(A36,7,1)&"x","0x1x2x3x4x5x6x7x8x9x")),ISNUMBER(FIND(MID(A36,8,1)&"x","0x1x2x3x4x5x6x7x8x9x")))),"IDの形式を確認",IF(COUNTIFS($A$8:$A$57,A36)>1,"IDが重複","確認済み"))),1,IF(COUNTA(A36)=0,IF(C36="",0,1),IF(AND(ISNUMBER(C36),C36=IF(B36="確認済み",0,1)),0,1))) -> 0
B37: =IF(COUNTA(A37)=0,"",IF(NOT(AND(ISTEXT(A37),LEN(A37)=8,EXACT(LEFT(A37,4),"CUS-"),ISNUMBER(FIND(MID(A37,5,1)&"x","0x1x2x3x4x5x6x7x8x9x")),ISNUMBER(FIND(MID(A37,6,1)&"x","0x1x2x3x4x5x6x7x8x9x")),ISNUMBER(FIND(MID(A37,7,1)&"x","0x1x2x3x4x5x6x7x8x9x")),ISNUMBER(FIND(MID(A37,8,1)&"x","0x1x2x3x4x5x6x7x8x9x")))),"IDの形式を確認",IF(COUNTIFS($A$8:$A$57,A37)>1,"IDが重複","確認済み"))) | C37: =IF(B37="","",IF(B37="確認済み",0,1)) | D37: =IF(B37<>IF(COUNTA(A37)=0,"",IF(NOT(AND(ISTEXT(A37),LEN(A37)=8,EXACT(LEFT(A37,4),"CUS-"),ISNUMBER(FIND(MID(A37,5,1)&"x","0x1x2x3x4x5x6x7x8x9x")),ISNUMBER(FIND(MID(A37,6,1)&"x","0x1x2x3x4x5x6x7x8x9x")),ISNUMBER(FIND(MID(A37,7,1)&"x","0x1x2x3x4x5x6x7x8x9x")),ISNUMBER(FIND(MID(A37,8,1)&"x","0x1x2x3x4x5x6x7x8x9x")))),"IDの形式を確認",IF(COUNTIFS($A$8:$A$57,A37)>1,"IDが重複","確認済み"))),1,IF(COUNTA(A37)=0,IF(C37="",0,1),IF(AND(ISNUMBER(C37),C37=IF(B37="確認済み",0,1)),0,1))) -> 0
B38: =IF(COUNTA(A38)=0,"",IF(NOT(AND(ISTEXT(A38),LEN(A38)=8,EXACT(LEFT(A38,4),"CUS-"),ISNUMBER(FIND(MID(A38,5,1)&"x","0x1x2x3x4x5x6x7x8x9x")),ISNUMBER(FIND(MID(A38,6,1)&"x","0x1x2x3x4x5x6x7x8x9x")),ISNUMBER(FIND(MID(A38,7,1)&"x","0x1x2x3x4x5x6x7x8x9x")),ISNUMBER(FIND(MID(A38,8,1)&"x","0x1x2x3x4x5x6x7x8x9x")))),"IDの形式を確認",IF(COUNTIFS($A$8:$A$57,A38)>1,"IDが重複","確認済み"))) | C38: =IF(B38="","",IF(B38="確認済み",0,1)) | D38: =IF(B38<>IF(COUNTA(A38)=0,"",IF(NOT(AND(ISTEXT(A38),LEN(A38)=8,EXACT(LEFT(A38,4),"CUS-"),ISNUMBER(FIND(MID(A38,5,1)&"x","0x1x2x3x4x5x6x7x8x9x")),ISNUMBER(FIND(MID(A38,6,1)&"x","0x1x2x3x4x5x6x7x8x9x")),ISNUMBER(FIND(MID(A38,7,1)&"x","0x1x2x3x4x5x6x7x8x9x")),ISNUMBER(FIND(MID(A38,8,1)&"x","0x1x2x3x4x5x6x7x8x9x")))),"IDの形式を確認",IF(COUNTIFS($A$8:$A$57,A38)>1,"IDが重複","確認済み"))),1,IF(COUNTA(A38)=0,IF(C38="",0,1),IF(AND(ISNUMBER(C38),C38=IF(B38="確認済み",0,1)),0,1))) -> 0
B39: =IF(COUNTA(A39)=0,"",IF(NOT(AND(ISTEXT(A39),LEN(A39)=8,EXACT(LEFT(A39,4),"CUS-"),ISNUMBER(FIND(MID(A39,5,1)&"x","0x1x2x3x4x5x6x7x8x9x")),ISNUMBER(FIND(MID(A39,6,1)&"x","0x1x2x3x4x5x6x7x8x9x")),ISNUMBER(FIND(MID(A39,7,1)&"x","0x1x2x3x4x5x6x7x8x9x")),ISNUMBER(FIND(MID(A39,8,1)&"x","0x1x2x3x4x5x6x7x8x9x")))),"IDの形式を確認",IF(COUNTIFS($A$8:$A$57,A39)>1,"IDが重複","確認済み"))) | C39: =IF(B39="","",IF(B39="確認済み",0,1)) | D39: =IF(B39<>IF(COUNTA(A39)=0,"",IF(NOT(AND(ISTEXT(A39),LEN(A39)=8,EXACT(LEFT(A39,4),"CUS-"),ISNUMBER(FIND(MID(A39,5,1)&"x","0x1x2x3x4x5x6x7x8x9x")),ISNUMBER(FIND(MID(A39,6,1)&"x","0x1x2x3x4x5x6x7x8x9x")),ISNUMBER(FIND(MID(A39,7,1)&"x","0x1x2x3x4x5x6x7x8x9x")),ISNUMBER(FIND(MID(A39,8,1)&"x","0x1x2x3x4x5x6x7x8x9x")))),"IDの形式を確認",IF(COUNTIFS($A$8:$A$57,A39)>1,"IDが重複","確認済み"))),1,IF(COUNTA(A39)=0,IF(C39="",0,1),IF(AND(ISNUMBER(C39),C39=IF(B39="確認済み",0,1)),0,1))) -> 0
... B57: =IF(COUNTA(A57)=0,"",IF(NOT(AND(ISTEXT(A57),LEN(A57)=8,EXACT(LEFT(A57,4),"CUS-"),ISNUMBER(FIND(MID(A57,5,1)&"x","0x1x2x3x4x5x6x7x8x9x")),ISNUMBER(FIND(MID(A57,6,1)&"x","0x1x2x3x4x5x6x7x8x9x")),ISNUMBER(FIND(MID(A57,7,1)&"x","0x1x2x3x4x5x6x7x8x9x")),ISNUMBER(FIND(MID(A57,8,1)&"x","0x1x2x3x4x5x6x7x8x9x")))),"IDの形式を確認",IF(COUNTIFS($A$8:$A$57,A57)>1,"IDが重複","確認済み"))) | C57: =IF(B57="","",IF(B57="確認済み",0,1)) | D57: =IF(B57<>IF(COUNTA(A57)=0,"",IF(NOT(AND(ISTEXT(A57),LEN(A57)=8,EXACT(LEFT(A57,4),"CUS-"),ISNUMBER(FIND(MID(A57,5,1)&"x","0x1x2x3x4x5x6x7x8x9x")),ISNUMBER(FIND(MID(A57,6,1)&"x","0x1x2x3x4x5x6x7x8x9x")),ISNUMBER(FIND(MID(A57,7,1)&"x","0x1x2x3x4x5x6x7x8x9x")),ISNUMBER(FIND(MID(A57,8,1)&"x","0x1x2x3x4x5x6x7x8x9x")))),"IDの形式を確認",IF(COUNTIFS($A$8:$A$57,A57)>1,"IDが重複","確認済み"))),1,IF(COUNTA(A57)=0,IF(C57="",0,1),IF(AND(ISNUMBER(C57),C57=IF(B57="確認済み",0,1)),0,1))) -> 0
