Workbook

Sheet 日報
A2: 日と担当で活動を確かめる | K2: 対象と基準日の前提 | L2: 入力の前提
A3: 対象日 | B3: 46311 | D3: 担当ID | E3: STF-0001 | G3: 確認基準日 | H3: 46312 | K3: =IF(AND(IF(ISNUMBER(B3),AND(B3>=43831,B3<73051,B3=INT(B3)),FALSE()),IF(ISNUMBER(H3),AND(H3>=43831,H3<73051,H3=INT(H3)),FALSE()),B3<=H3,AND(ISTEXT(E3),LEN(E3)=8,EXACT(LEFT(E3,4),"STF-"),ISNUMBER(FIND(MID(E3,5,1)&"x","0x1x2x3x4x5x6x7x8x9x")),ISNUMBER(FIND(MID(E3,6,1)&"x","0x1x2x3x4x5x6x7x8x9x")),ISNUMBER(FIND(MID(E3,7,1)&"x","0x1x2x3x4x5x6x7x8x9x")),ISNUMBER(FIND(MID(E3,8,1)&"x","0x1x2x3x4x5x6x7x8x9x"))),COUNTIFS(登録ID!F8:F27,E3)=1),0,1) -> 0 | L3: =IF(AND(ISNUMBER(K3),K3=IF(AND(IF(ISNUMBER(B3),AND(B3>=43831,B3<73051,B3=INT(B3)),FALSE()),IF(ISNUMBER(H3),AND(H3>=43831,H3<73051,H3=INT(H3)),FALSE()),B3<=H3,AND(ISTEXT(E3),LEN(E3)=8,EXACT(LEFT(E3,4),"STF-"),ISNUMBER(FIND(MID(E3,5,1)&"x","0x1x2x3x4x5x6x7x8x9x")),ISNUMBER(FIND(MID(E3,6,1)&"x","0x1x2x3x4x5x6x7x8x9x")),ISNUMBER(FIND(MID(E3,7,1)&"x","0x1x2x3x4x5x6x7x8x9x")),ISNUMBER(FIND(MID(E3,8,1)&"x","0x1x2x3x4x5x6x7x8x9x"))),COUNTIFS(登録ID!F8:F27,E3)=1),0,1)),K3,1)+SUM(活動入力!M8:M57)+SUM(活動入力!N8:N57)+SUM(登録ID!C8:D57)+SUM(登録ID!H8:I27)+IF(COUNT(活動入力!N8:N57)=50,0,1)+IF(COUNT(登録ID!D8:D57)=50,0,1)+IF(COUNT(登録ID!I8:I27)=20,0,1) -> 0
A4: 登録（件） | B4: =IF($L$3=0,COUNTIFS(活動入力!B8:B57,$E$3,活動入力!F8:F57,$B$3),NA()) -> 7 | D4: 実施（件） | E4: =IF($L$3=0,COUNTIFS(活動入力!B8:B57,$E$3,活動入力!F8:F57,$B$3,活動入力!E8:E57,"実施"),NA()) -> 5 | G4: 中止（件） | H4: =IF($L$3=0,COUNTIFS(活動入力!B8:B57,$E$3,活動入力!F8:F57,$B$3,活動入力!E8:E57,"中止"),NA()) -> 1
A5: 未確認（件） | B5: =IF($L$3=0,COUNTIFS(活動入力!B8:B57,$E$3,活動入力!F8:F57,$B$3,活動入力!E8:E57,"未確認"),NA()) -> 1 | D5: 確定実施分（分） | E5: =IF($L$3=0,SUMIFS(活動入力!J8:J57,活動入力!B8:B57,$E$3,活動入力!F8:F57,$B$3,活動入力!E8:E57,"実施"),NA()) -> 156 | G5: 時間合計（分） | H5: =IF($L$3<>0,NA(),IF(B5>0,"判定保留",E5)) -> 判定保留
A6: 訪問（件） | B6: =IF($L$3=0,COUNTIFS(活動入力!B8:B57,$E$3,活動入力!F8:F57,$B$3,活動入力!E8:E57,"実施",活動入力!D8:D57,"訪問"),NA()) -> 1 | D6: オンライン（件） | E6: =IF($L$3=0,COUNTIFS(活動入力!B8:B57,$E$3,活動入力!F8:F57,$B$3,活動入力!E8:E57,"実施",活動入力!D8:D57,"オンライン"),NA()) -> 1 | G6: 電話（件） | H6: =IF($L$3=0,COUNTIFS(活動入力!B8:B57,$E$3,活動入力!F8:F57,$B$3,活動入力!E8:E57,"実施",活動入力!D8:D57,"電話"),NA()) -> 1
A7: メール（件） | B7: =IF($L$3=0,COUNTIFS(活動入力!B8:B57,$E$3,活動入力!F8:F57,$B$3,活動入力!E8:E57,"実施",活動入力!D8:D57,"メール"),NA()) -> 0 | D7: 事務（件） | E7: =IF($L$3=0,COUNTIFS(活動入力!B8:B57,$E$3,活動入力!F8:F57,$B$3,活動入力!E8:E57,"実施",活動入力!D8:D57,"事務"),NA()) -> 1 | G7: その他（件） | H7: =IF($L$3=0,COUNTIFS(活動入力!B8:B57,$E$3,活動入力!F8:F57,$B$3,活動入力!E8:E57,"実施",活動入力!D8:D57,"その他"),NA()) -> 1
A8: 照合差額（件） | B8: =B4-E4-H4-B5 -> 0 | D8: 活動件数・時間は受注や成果ではありません。 | I8: =IF(L3=0,"入力不備なし","入力を確認") -> 入力不備なし
A9: 活動ID | B9: 顧客ID | C9: 活動種別 | D9: 実施区分 | E9: 活動日 | F9: 開始日時 | G9: 終了日時 | H9: 実施分 | I9: 担当ID
A10: =IF($L$3<>0,NA(),IF($L10=0,"",IF(TRUE(),INDEX(活動入力!$A$8:$A$57,$L10),""))) -> ACT-0001 | B10: =IF($L$3<>0,NA(),IF($L10=0,"",IF(COUNTA(INDEX(活動入力!$C$8:$C$57,$L10))>0,INDEX(活動入力!$C$8:$C$57,$L10),""))) -> CUS-0001 | C10: =IF($L$3<>0,NA(),IF($L10=0,"",IF(TRUE(),INDEX(活動入力!$D$8:$D$57,$L10),""))) -> 訪問 | D10: =IF($L$3<>0,NA(),IF($L10=0,"",IF(TRUE(),INDEX(活動入力!$E$8:$E$57,$L10),""))) -> 実施 | E10: =IF($L$3<>0,NA(),IF($L10=0,"",IF(TRUE(),INDEX(活動入力!$F$8:$F$57,$L10),""))) -> 46311 | F10: =IF($L$3<>0,NA(),IF($L10=0,"",IF(INDEX(活動入力!$E$8:$E$57,$L10)="実施",INDEX(活動入力!$G$8:$G$57,$L10),""))) -> 46311.375 | G10: =IF($L$3<>0,NA(),IF($L10=0,"",IF(INDEX(活動入力!$E$8:$E$57,$L10)="実施",INDEX(活動入力!$H$8:$H$57,$L10),""))) -> 46311.396 | H10: =IF($L$3<>0,NA(),IF($L10=0,"",IF(INDEX(活動入力!$E$8:$E$57,$L10)="実施",INDEX(活動入力!$J$8:$J$57,$L10),""))) -> 30 | I10: =IF($L$3<>0,NA(),IF($L10=0,"",IF(TRUE(),INDEX(活動入力!$B$8:$B$57,$L10),""))) -> STF-0001 | L10: =IFERROR(MATCH(1,活動入力!$K$8:$K$57,0),0) -> 1
A11: =IF($L$3<>0,NA(),IF($L11=0,"",IF(TRUE(),INDEX(活動入力!$A$8:$A$57,$L11),""))) -> ACT-0002 | B11: =IF($L$3<>0,NA(),IF($L11=0,"",IF(COUNTA(INDEX(活動入力!$C$8:$C$57,$L11))>0,INDEX(活動入力!$C$8:$C$57,$L11),""))) -> CUS-0001 | C11: =IF($L$3<>0,NA(),IF($L11=0,"",IF(TRUE(),INDEX(活動入力!$D$8:$D$57,$L11),""))) -> 電話 | D11: =IF($L$3<>0,NA(),IF($L11=0,"",IF(TRUE(),INDEX(活動入力!$E$8:$E$57,$L11),""))) -> 実施 | E11: =IF($L$3<>0,NA(),IF($L11=0,"",IF(TRUE(),INDEX(活動入力!$F$8:$F$57,$L11),""))) -> 46311 | F11: =IF($L$3<>0,NA(),IF($L11=0,"",IF(INDEX(活動入力!$E$8:$E$57,$L11)="実施",INDEX(活動入力!$G$8:$G$57,$L11),""))) -> 46311.396 | G11: =IF($L$3<>0,NA(),IF($L11=0,"",IF(INDEX(活動入力!$E$8:$E$57,$L11)="実施",INDEX(活動入力!$H$8:$H$57,$L11),""))) -> 46311.397 | H11: =IF($L$3<>0,NA(),IF($L11=0,"",IF(INDEX(活動入力!$E$8:$E$57,$L11)="実施",INDEX(活動入力!$J$8:$J$57,$L11),""))) -> 1 | I11: =IF($L$3<>0,NA(),IF($L11=0,"",IF(TRUE(),INDEX(活動入力!$B$8:$B$57,$L11),""))) -> STF-0001 | L11: =IFERROR(MATCH(2,活動入力!$K$8:$K$57,0),0) -> 2
A12: =IF($L$3<>0,NA(),IF($L12=0,"",IF(TRUE(),INDEX(活動入力!$A$8:$A$57,$L12),""))) -> ACT-0003 | B12: =IF($L$3<>0,NA(),IF($L12=0,"",IF(COUNTA(INDEX(活動入力!$C$8:$C$57,$L12))>0,INDEX(活動入力!$C$8:$C$57,$L12),""))) -> CUS-0002 | C12: =IF($L$3<>0,NA(),IF($L12=0,"",IF(TRUE(),INDEX(活動入力!$D$8:$D$57,$L12),""))) -> オンライン | D12: =IF($L$3<>0,NA(),IF($L12=0,"",IF(TRUE(),INDEX(活動入力!$E$8:$E$57,$L12),""))) -> 実施 | E12: =IF($L$3<>0,NA(),IF($L12=0,"",IF(TRUE(),INDEX(活動入力!$F$8:$F$57,$L12),""))) -> 46311 | F12: =IF($L$3<>0,NA(),IF($L12=0,"",IF(INDEX(活動入力!$E$8:$E$57,$L12)="実施",INDEX(活動入力!$G$8:$G$57,$L12),""))) -> 46311.417 | G12: =IF($L$3<>0,NA(),IF($L12=0,"",IF(INDEX(活動入力!$E$8:$E$57,$L12)="実施",INDEX(活動入力!$H$8:$H$57,$L12),""))) -> 46311.448 | H12: =IF($L$3<>0,NA(),IF($L12=0,"",IF(INDEX(活動入力!$E$8:$E$57,$L12)="実施",INDEX(活動入力!$J$8:$J$57,$L12),""))) -> 45 | I12: =IF($L$3<>0,NA(),IF($L12=0,"",IF(TRUE(),INDEX(活動入力!$B$8:$B$57,$L12),""))) -> STF-0001 | L12: =IFERROR(MATCH(3,活動入力!$K$8:$K$57,0),0) -> 3
A13: =IF($L$3<>0,NA(),IF($L13=0,"",IF(TRUE(),INDEX(活動入力!$A$8:$A$57,$L13),""))) -> ACT-0004 | B13: =IF($L$3<>0,NA(),IF($L13=0,"",IF(COUNTA(INDEX(活動入力!$C$8:$C$57,$L13))>0,INDEX(活動入力!$C$8:$C$57,$L13),""))) | C13: =IF($L$3<>0,NA(),IF($L13=0,"",IF(TRUE(),INDEX(活動入力!$D$8:$D$57,$L13),""))) -> メール | D13: =IF($L$3<>0,NA(),IF($L13=0,"",IF(TRUE(),INDEX(活動入力!$E$8:$E$57,$L13),""))) -> 中止 | E13: =IF($L$3<>0,NA(),IF($L13=0,"",IF(TRUE(),INDEX(活動入力!$F$8:$F$57,$L13),""))) -> 46311 | F13: =IF($L$3<>0,NA(),IF($L13=0,"",IF(INDEX(活動入力!$E$8:$E$57,$L13)="実施",INDEX(活動入力!$G$8:$G$57,$L13),""))) | G13: =IF($L$3<>0,NA(),IF($L13=0,"",IF(INDEX(活動入力!$E$8:$E$57,$L13)="実施",INDEX(活動入力!$H$8:$H$57,$L13),""))) | H13: =IF($L$3<>0,NA(),IF($L13=0,"",IF(INDEX(活動入力!$E$8:$E$57,$L13)="実施",INDEX(活動入力!$J$8:$J$57,$L13),""))) | I13: =IF($L$3<>0,NA(),IF($L13=0,"",IF(TRUE(),INDEX(活動入力!$B$8:$B$57,$L13),""))) -> STF-0001 | L13: =IFERROR(MATCH(4,活動入力!$K$8:$K$57,0),0) -> 4
A14: =IF($L$3<>0,NA(),IF($L14=0,"",IF(TRUE(),INDEX(活動入力!$A$8:$A$57,$L14),""))) -> ACT-0005 | B14: =IF($L$3<>0,NA(),IF($L14=0,"",IF(COUNTA(INDEX(活動入力!$C$8:$C$57,$L14))>0,INDEX(活動入力!$C$8:$C$57,$L14),""))) -> CUS-0003 | C14: =IF($L$3<>0,NA(),IF($L14=0,"",IF(TRUE(),INDEX(活動入力!$D$8:$D$57,$L14),""))) -> 電話 | D14: =IF($L$3<>0,NA(),IF($L14=0,"",IF(TRUE(),INDEX(活動入力!$E$8:$E$57,$L14),""))) -> 未確認 | E14: =IF($L$3<>0,NA(),IF($L14=0,"",IF(TRUE(),INDEX(活動入力!$F$8:$F$57,$L14),""))) -> 46311 | F14: =IF($L$3<>0,NA(),IF($L14=0,"",IF(INDEX(活動入力!$E$8:$E$57,$L14)="実施",INDEX(活動入力!$G$8:$G$57,$L14),""))) | G14: =IF($L$3<>0,NA(),IF($L14=0,"",IF(INDEX(活動入力!$E$8:$E$57,$L14)="実施",INDEX(活動入力!$H$8:$H$57,$L14),""))) | H14: =IF($L$3<>0,NA(),IF($L14=0,"",IF(INDEX(活動入力!$E$8:$E$57,$L14)="実施",INDEX(活動入力!$J$8:$J$57,$L14),""))) | I14: =IF($L$3<>0,NA(),IF($L14=0,"",IF(TRUE(),INDEX(活動入力!$B$8:$B$57,$L14),""))) -> STF-0001 | L14: =IFERROR(MATCH(5,活動入力!$K$8:$K$57,0),0) -> 5
A15: =IF($L$3<>0,NA(),IF($L15=0,"",IF(TRUE(),INDEX(活動入力!$A$8:$A$57,$L15),""))) -> ACT-0008 | B15: =IF($L$3<>0,NA(),IF($L15=0,"",IF(COUNTA(INDEX(活動入力!$C$8:$C$57,$L15))>0,INDEX(活動入力!$C$8:$C$57,$L15),""))) | C15: =IF($L$3<>0,NA(),IF($L15=0,"",IF(TRUE(),INDEX(活動入力!$D$8:$D$57,$L15),""))) -> その他 | D15: =IF($L$3<>0,NA(),IF($L15=0,"",IF(TRUE(),INDEX(活動入力!$E$8:$E$57,$L15),""))) -> 実施 | E15: =IF($L$3<>0,NA(),IF($L15=0,"",IF(TRUE(),INDEX(活動入力!$F$8:$F$57,$L15),""))) -> 46311 | F15: =IF($L$3<>0,NA(),IF($L15=0,"",IF(INDEX(活動入力!$E$8:$E$57,$L15)="実施",INDEX(活動入力!$G$8:$G$57,$L15),""))) -> 46311.958 | G15: =IF($L$3<>0,NA(),IF($L15=0,"",IF(INDEX(活動入力!$E$8:$E$57,$L15)="実施",INDEX(活動入力!$H$8:$H$57,$L15),""))) -> 46312 | H15: =IF($L$3<>0,NA(),IF($L15=0,"",IF(INDEX(活動入力!$E$8:$E$57,$L15)="実施",INDEX(活動入力!$J$8:$J$57,$L15),""))) -> 60 | I15: =IF($L$3<>0,NA(),IF($L15=0,"",IF(TRUE(),INDEX(活動入力!$B$8:$B$57,$L15),""))) -> STF-0001 | L15: =IFERROR(MATCH(6,活動入力!$K$8:$K$57,0),0) -> 8
A16: =IF($L$3<>0,NA(),IF($L16=0,"",IF(TRUE(),INDEX(活動入力!$A$8:$A$57,$L16),""))) -> ACT-0009 | B16: =IF($L$3<>0,NA(),IF($L16=0,"",IF(COUNTA(INDEX(活動入力!$C$8:$C$57,$L16))>0,INDEX(活動入力!$C$8:$C$57,$L16),""))) | C16: =IF($L$3<>0,NA(),IF($L16=0,"",IF(TRUE(),INDEX(活動入力!$D$8:$D$57,$L16),""))) -> 事務 | D16: =IF($L$3<>0,NA(),IF($L16=0,"",IF(TRUE(),INDEX(活動入力!$E$8:$E$57,$L16),""))) -> 実施 | E16: =IF($L$3<>0,NA(),IF($L16=0,"",IF(TRUE(),INDEX(活動入力!$F$8:$F$57,$L16),""))) -> 46311 | F16: =IF($L$3<>0,NA(),IF($L16=0,"",IF(INDEX(活動入力!$E$8:$E$57,$L16)="実施",INDEX(活動入力!$G$8:$G$57,$L16),""))) -> 46311.458 | G16: =IF($L$3<>0,NA(),IF($L16=0,"",IF(INDEX(活動入力!$E$8:$E$57,$L16)="実施",INDEX(活動入力!$H$8:$H$57,$L16),""))) -> 46311.472 | H16: =IF($L$3<>0,NA(),IF($L16=0,"",IF(INDEX(活動入力!$E$8:$E$57,$L16)="実施",INDEX(活動入力!$J$8:$J$57,$L16),""))) -> 20 | I16: =IF($L$3<>0,NA(),IF($L16=0,"",IF(TRUE(),INDEX(活動入力!$B$8:$B$57,$L16),""))) -> STF-0001 | L16: =IFERROR(MATCH(7,活動入力!$K$8:$K$57,0),0) -> 9
A17: =IF($L$3<>0,NA(),IF($L17=0,"",IF(TRUE(),INDEX(活動入力!$A$8:$A$57,$L17),""))) | B17: =IF($L$3<>0,NA(),IF($L17=0,"",IF(COUNTA(INDEX(活動入力!$C$8:$C$57,$L17))>0,INDEX(活動入力!$C$8:$C$57,$L17),""))) | C17: =IF($L$3<>0,NA(),IF($L17=0,"",IF(TRUE(),INDEX(活動入力!$D$8:$D$57,$L17),""))) | D17: =IF($L$3<>0,NA(),IF($L17=0,"",IF(TRUE(),INDEX(活動入力!$E$8:$E$57,$L17),""))) | E17: =IF($L$3<>0,NA(),IF($L17=0,"",IF(TRUE(),INDEX(活動入力!$F$8:$F$57,$L17),""))) | F17: =IF($L$3<>0,NA(),IF($L17=0,"",IF(INDEX(活動入力!$E$8:$E$57,$L17)="実施",INDEX(活動入力!$G$8:$G$57,$L17),""))) | G17: =IF($L$3<>0,NA(),IF($L17=0,"",IF(INDEX(活動入力!$E$8:$E$57,$L17)="実施",INDEX(活動入力!$H$8:$H$57,$L17),""))) | H17: =IF($L$3<>0,NA(),IF($L17=0,"",IF(INDEX(活動入力!$E$8:$E$57,$L17)="実施",INDEX(活動入力!$J$8:$J$57,$L17),""))) | I17: =IF($L$3<>0,NA(),IF($L17=0,"",IF(TRUE(),INDEX(活動入力!$B$8:$B$57,$L17),""))) | L17: =IFERROR(MATCH(8,活動入力!$K$8:$K$57,0),0) -> 0
A18: =IF($L$3<>0,NA(),IF($L18=0,"",IF(TRUE(),INDEX(活動入力!$A$8:$A$57,$L18),""))) | B18: =IF($L$3<>0,NA(),IF($L18=0,"",IF(COUNTA(INDEX(活動入力!$C$8:$C$57,$L18))>0,INDEX(活動入力!$C$8:$C$57,$L18),""))) | C18: =IF($L$3<>0,NA(),IF($L18=0,"",IF(TRUE(),INDEX(活動入力!$D$8:$D$57,$L18),""))) | D18: =IF($L$3<>0,NA(),IF($L18=0,"",IF(TRUE(),INDEX(活動入力!$E$8:$E$57,$L18),""))) | E18: =IF($L$3<>0,NA(),IF($L18=0,"",IF(TRUE(),INDEX(活動入力!$F$8:$F$57,$L18),""))) | F18: =IF($L$3<>0,NA(),IF($L18=0,"",IF(INDEX(活動入力!$E$8:$E$57,$L18)="実施",INDEX(活動入力!$G$8:$G$57,$L18),""))) | G18: =IF($L$3<>0,NA(),IF($L18=0,"",IF(INDEX(活動入力!$E$8:$E$57,$L18)="実施",INDEX(活動入力!$H$8:$H$57,$L18),""))) | H18: =IF($L$3<>0,NA(),IF($L18=0,"",IF(INDEX(活動入力!$E$8:$E$57,$L18)="実施",INDEX(活動入力!$J$8:$J$57,$L18),""))) | I18: =IF($L$3<>0,NA(),IF($L18=0,"",IF(TRUE(),INDEX(活動入力!$B$8:$B$57,$L18),""))) | L18: =IFERROR(MATCH(9,活動入力!$K$8:$K$57,0),0) -> 0
A19: =IF($L$3<>0,NA(),IF($L19=0,"",IF(TRUE(),INDEX(活動入力!$A$8:$A$57,$L19),""))) | B19: =IF($L$3<>0,NA(),IF($L19=0,"",IF(COUNTA(INDEX(活動入力!$C$8:$C$57,$L19))>0,INDEX(活動入力!$C$8:$C$57,$L19),""))) | C19: =IF($L$3<>0,NA(),IF($L19=0,"",IF(TRUE(),INDEX(活動入力!$D$8:$D$57,$L19),""))) | D19: =IF($L$3<>0,NA(),IF($L19=0,"",IF(TRUE(),INDEX(活動入力!$E$8:$E$57,$L19),""))) | E19: =IF($L$3<>0,NA(),IF($L19=0,"",IF(TRUE(),INDEX(活動入力!$F$8:$F$57,$L19),""))) | F19: =IF($L$3<>0,NA(),IF($L19=0,"",IF(INDEX(活動入力!$E$8:$E$57,$L19)="実施",INDEX(活動入力!$G$8:$G$57,$L19),""))) | G19: =IF($L$3<>0,NA(),IF($L19=0,"",IF(INDEX(活動入力!$E$8:$E$57,$L19)="実施",INDEX(活動入力!$H$8:$H$57,$L19),""))) | H19: =IF($L$3<>0,NA(),IF($L19=0,"",IF(INDEX(活動入力!$E$8:$E$57,$L19)="実施",INDEX(活動入力!$J$8:$J$57,$L19),""))) | I19: =IF($L$3<>0,NA(),IF($L19=0,"",IF(TRUE(),INDEX(活動入力!$B$8:$B$57,$L19),""))) | L19: =IFERROR(MATCH(10,活動入力!$K$8:$K$57,0),0) -> 0
A20: =IF($L$3<>0,NA(),IF($L20=0,"",IF(TRUE(),INDEX(活動入力!$A$8:$A$57,$L20),""))) | B20: =IF($L$3<>0,NA(),IF($L20=0,"",IF(COUNTA(INDEX(活動入力!$C$8:$C$57,$L20))>0,INDEX(活動入力!$C$8:$C$57,$L20),""))) | C20: =IF($L$3<>0,NA(),IF($L20=0,"",IF(TRUE(),INDEX(活動入力!$D$8:$D$57,$L20),""))) | D20: =IF($L$3<>0,NA(),IF($L20=0,"",IF(TRUE(),INDEX(活動入力!$E$8:$E$57,$L20),""))) | E20: =IF($L$3<>0,NA(),IF($L20=0,"",IF(TRUE(),INDEX(活動入力!$F$8:$F$57,$L20),""))) | F20: =IF($L$3<>0,NA(),IF($L20=0,"",IF(INDEX(活動入力!$E$8:$E$57,$L20)="実施",INDEX(活動入力!$G$8:$G$57,$L20),""))) | G20: =IF($L$3<>0,NA(),IF($L20=0,"",IF(INDEX(活動入力!$E$8:$E$57,$L20)="実施",INDEX(活動入力!$H$8:$H$57,$L20),""))) | H20: =IF($L$3<>0,NA(),IF($L20=0,"",IF(INDEX(活動入力!$E$8:$E$57,$L20)="実施",INDEX(活動入力!$J$8:$J$57,$L20),""))) | I20: =IF($L$3<>0,NA(),IF($L20=0,"",IF(TRUE(),INDEX(活動入力!$B$8:$B$57,$L20),""))) | L20: =IFERROR(MATCH(11,活動入力!$K$8:$K$57,0),0) -> 0
A21: =IF($L$3<>0,NA(),IF($L21=0,"",IF(TRUE(),INDEX(活動入力!$A$8:$A$57,$L21),""))) | B21: =IF($L$3<>0,NA(),IF($L21=0,"",IF(COUNTA(INDEX(活動入力!$C$8:$C$57,$L21))>0,INDEX(活動入力!$C$8:$C$57,$L21),""))) | C21: =IF($L$3<>0,NA(),IF($L21=0,"",IF(TRUE(),INDEX(活動入力!$D$8:$D$57,$L21),""))) | D21: =IF($L$3<>0,NA(),IF($L21=0,"",IF(TRUE(),INDEX(活動入力!$E$8:$E$57,$L21),""))) | E21: =IF($L$3<>0,NA(),IF($L21=0,"",IF(TRUE(),INDEX(活動入力!$F$8:$F$57,$L21),""))) | F21: =IF($L$3<>0,NA(),IF($L21=0,"",IF(INDEX(活動入力!$E$8:$E$57,$L21)="実施",INDEX(活動入力!$G$8:$G$57,$L21),""))) | G21: =IF($L$3<>0,NA(),IF($L21=0,"",IF(INDEX(活動入力!$E$8:$E$57,$L21)="実施",INDEX(活動入力!$H$8:$H$57,$L21),""))) | H21: =IF($L$3<>0,NA(),IF($L21=0,"",IF(INDEX(活動入力!$E$8:$E$57,$L21)="実施",INDEX(活動入力!$J$8:$J$57,$L21),""))) | I21: =IF($L$3<>0,NA(),IF($L21=0,"",IF(TRUE(),INDEX(活動入力!$B$8:$B$57,$L21),""))) | L21: =IFERROR(MATCH(12,活動入力!$K$8:$K$57,0),0) -> 0
A22: =IF($L$3<>0,NA(),IF($L22=0,"",IF(TRUE(),INDEX(活動入力!$A$8:$A$57,$L22),""))) | B22: =IF($L$3<>0,NA(),IF($L22=0,"",IF(COUNTA(INDEX(活動入力!$C$8:$C$57,$L22))>0,INDEX(活動入力!$C$8:$C$57,$L22),""))) | C22: =IF($L$3<>0,NA(),IF($L22=0,"",IF(TRUE(),INDEX(活動入力!$D$8:$D$57,$L22),""))) | D22: =IF($L$3<>0,NA(),IF($L22=0,"",IF(TRUE(),INDEX(活動入力!$E$8:$E$57,$L22),""))) | E22: =IF($L$3<>0,NA(),IF($L22=0,"",IF(TRUE(),INDEX(活動入力!$F$8:$F$57,$L22),""))) | F22: =IF($L$3<>0,NA(),IF($L22=0,"",IF(INDEX(活動入力!$E$8:$E$57,$L22)="実施",INDEX(活動入力!$G$8:$G$57,$L22),""))) | G22: =IF($L$3<>0,NA(),IF($L22=0,"",IF(INDEX(活動入力!$E$8:$E$57,$L22)="実施",INDEX(活動入力!$H$8:$H$57,$L22),""))) | H22: =IF($L$3<>0,NA(),IF($L22=0,"",IF(INDEX(活動入力!$E$8:$E$57,$L22)="実施",INDEX(活動入力!$J$8:$J$57,$L22),""))) | I22: =IF($L$3<>0,NA(),IF($L22=0,"",IF(TRUE(),INDEX(活動入力!$B$8:$B$57,$L22),""))) | L22: =IFERROR(MATCH(13,活動入力!$K$8:$K$57,0),0) -> 0
A23: =IF($L$3<>0,NA(),IF($L23=0,"",IF(TRUE(),INDEX(活動入力!$A$8:$A$57,$L23),""))) | B23: =IF($L$3<>0,NA(),IF($L23=0,"",IF(COUNTA(INDEX(活動入力!$C$8:$C$57,$L23))>0,INDEX(活動入力!$C$8:$C$57,$L23),""))) | C23: =IF($L$3<>0,NA(),IF($L23=0,"",IF(TRUE(),INDEX(活動入力!$D$8:$D$57,$L23),""))) | D23: =IF($L$3<>0,NA(),IF($L23=0,"",IF(TRUE(),INDEX(活動入力!$E$8:$E$57,$L23),""))) | E23: =IF($L$3<>0,NA(),IF($L23=0,"",IF(TRUE(),INDEX(活動入力!$F$8:$F$57,$L23),""))) | F23: =IF($L$3<>0,NA(),IF($L23=0,"",IF(INDEX(活動入力!$E$8:$E$57,$L23)="実施",INDEX(活動入力!$G$8:$G$57,$L23),""))) | G23: =IF($L$3<>0,NA(),IF($L23=0,"",IF(INDEX(活動入力!$E$8:$E$57,$L23)="実施",INDEX(活動入力!$H$8:$H$57,$L23),""))) | H23: =IF($L$3<>0,NA(),IF($L23=0,"",IF(INDEX(活動入力!$E$8:$E$57,$L23)="実施",INDEX(活動入力!$J$8:$J$57,$L23),""))) | I23: =IF($L$3<>0,NA(),IF($L23=0,"",IF(TRUE(),INDEX(活動入力!$B$8:$B$57,$L23),""))) | L23: =IFERROR(MATCH(14,活動入力!$K$8:$K$57,0),0) -> 0
A24: =IF($L$3<>0,NA(),IF($L24=0,"",IF(TRUE(),INDEX(活動入力!$A$8:$A$57,$L24),""))) | B24: =IF($L$3<>0,NA(),IF($L24=0,"",IF(COUNTA(INDEX(活動入力!$C$8:$C$57,$L24))>0,INDEX(活動入力!$C$8:$C$57,$L24),""))) | C24: =IF($L$3<>0,NA(),IF($L24=0,"",IF(TRUE(),INDEX(活動入力!$D$8:$D$57,$L24),""))) | D24: =IF($L$3<>0,NA(),IF($L24=0,"",IF(TRUE(),INDEX(活動入力!$E$8:$E$57,$L24),""))) | E24: =IF($L$3<>0,NA(),IF($L24=0,"",IF(TRUE(),INDEX(活動入力!$F$8:$F$57,$L24),""))) | F24: =IF($L$3<>0,NA(),IF($L24=0,"",IF(INDEX(活動入力!$E$8:$E$57,$L24)="実施",INDEX(活動入力!$G$8:$G$57,$L24),""))) | G24: =IF($L$3<>0,NA(),IF($L24=0,"",IF(INDEX(活動入力!$E$8:$E$57,$L24)="実施",INDEX(活動入力!$H$8:$H$57,$L24),""))) | H24: =IF($L$3<>0,NA(),IF($L24=0,"",IF(INDEX(活動入力!$E$8:$E$57,$L24)="実施",INDEX(活動入力!$J$8:$J$57,$L24),""))) | I24: =IF($L$3<>0,NA(),IF($L24=0,"",IF(TRUE(),INDEX(活動入力!$B$8:$B$57,$L24),""))) | L24: =IFERROR(MATCH(15,活動入力!$K$8:$K$57,0),0) -> 0
A25: =IF($L$3<>0,NA(),IF($L25=0,"",IF(TRUE(),INDEX(活動入力!$A$8:$A$57,$L25),""))) | B25: =IF($L$3<>0,NA(),IF($L25=0,"",IF(COUNTA(INDEX(活動入力!$C$8:$C$57,$L25))>0,INDEX(活動入力!$C$8:$C$57,$L25),""))) | C25: =IF($L$3<>0,NA(),IF($L25=0,"",IF(TRUE(),INDEX(活動入力!$D$8:$D$57,$L25),""))) | D25: =IF($L$3<>0,NA(),IF($L25=0,"",IF(TRUE(),INDEX(活動入力!$E$8:$E$57,$L25),""))) | E25: =IF($L$3<>0,NA(),IF($L25=0,"",IF(TRUE(),INDEX(活動入力!$F$8:$F$57,$L25),""))) | F25: =IF($L$3<>0,NA(),IF($L25=0,"",IF(INDEX(活動入力!$E$8:$E$57,$L25)="実施",INDEX(活動入力!$G$8:$G$57,$L25),""))) | G25: =IF($L$3<>0,NA(),IF($L25=0,"",IF(INDEX(活動入力!$E$8:$E$57,$L25)="実施",INDEX(活動入力!$H$8:$H$57,$L25),""))) | H25: =IF($L$3<>0,NA(),IF($L25=0,"",IF(INDEX(活動入力!$E$8:$E$57,$L25)="実施",INDEX(活動入力!$J$8:$J$57,$L25),""))) | I25: =IF($L$3<>0,NA(),IF($L25=0,"",IF(TRUE(),INDEX(活動入力!$B$8:$B$57,$L25),""))) | L25: =IFERROR(MATCH(16,活動入力!$K$8:$K$57,0),0) -> 0
A26: =IF($L$3<>0,NA(),IF($L26=0,"",IF(TRUE(),INDEX(活動入力!$A$8:$A$57,$L26),""))) | B26: =IF($L$3<>0,NA(),IF($L26=0,"",IF(COUNTA(INDEX(活動入力!$C$8:$C$57,$L26))>0,INDEX(活動入力!$C$8:$C$57,$L26),""))) | C26: =IF($L$3<>0,NA(),IF($L26=0,"",IF(TRUE(),INDEX(活動入力!$D$8:$D$57,$L26),""))) | D26: =IF($L$3<>0,NA(),IF($L26=0,"",IF(TRUE(),INDEX(活動入力!$E$8:$E$57,$L26),""))) | E26: =IF($L$3<>0,NA(),IF($L26=0,"",IF(TRUE(),INDEX(活動入力!$F$8:$F$57,$L26),""))) | F26: =IF($L$3<>0,NA(),IF($L26=0,"",IF(INDEX(活動入力!$E$8:$E$57,$L26)="実施",INDEX(活動入力!$G$8:$G$57,$L26),""))) | G26: =IF($L$3<>0,NA(),IF($L26=0,"",IF(INDEX(活動入力!$E$8:$E$57,$L26)="実施",INDEX(活動入力!$H$8:$H$57,$L26),""))) | H26: =IF($L$3<>0,NA(),IF($L26=0,"",IF(INDEX(活動入力!$E$8:$E$57,$L26)="実施",INDEX(活動入力!$J$8:$J$57,$L26),""))) | I26: =IF($L$3<>0,NA(),IF($L26=0,"",IF(TRUE(),INDEX(活動入力!$B$8:$B$57,$L26),""))) | L26: =IFERROR(MATCH(17,活動入力!$K$8:$K$57,0),0) -> 0
A27: =IF($L$3<>0,NA(),IF($L27=0,"",IF(TRUE(),INDEX(活動入力!$A$8:$A$57,$L27),""))) | B27: =IF($L$3<>0,NA(),IF($L27=0,"",IF(COUNTA(INDEX(活動入力!$C$8:$C$57,$L27))>0,INDEX(活動入力!$C$8:$C$57,$L27),""))) | C27: =IF($L$3<>0,NA(),IF($L27=0,"",IF(TRUE(),INDEX(活動入力!$D$8:$D$57,$L27),""))) | D27: =IF($L$3<>0,NA(),IF($L27=0,"",IF(TRUE(),INDEX(活動入力!$E$8:$E$57,$L27),""))) | E27: =IF($L$3<>0,NA(),IF($L27=0,"",IF(TRUE(),INDEX(活動入力!$F$8:$F$57,$L27),""))) | F27: =IF($L$3<>0,NA(),IF($L27=0,"",IF(INDEX(活動入力!$E$8:$E$57,$L27)="実施",INDEX(活動入力!$G$8:$G$57,$L27),""))) | G27: =IF($L$3<>0,NA(),IF($L27=0,"",IF(INDEX(活動入力!$E$8:$E$57,$L27)="実施",INDEX(活動入力!$H$8:$H$57,$L27),""))) | H27: =IF($L$3<>0,NA(),IF($L27=0,"",IF(INDEX(活動入力!$E$8:$E$57,$L27)="実施",INDEX(活動入力!$J$8:$J$57,$L27),""))) | I27: =IF($L$3<>0,NA(),IF($L27=0,"",IF(TRUE(),INDEX(活動入力!$B$8:$B$57,$L27),""))) | L27: =IFERROR(MATCH(18,活動入力!$K$8:$K$57,0),0) -> 0
A28: =IF($L$3<>0,NA(),IF($L28=0,"",IF(TRUE(),INDEX(活動入力!$A$8:$A$57,$L28),""))) | B28: =IF($L$3<>0,NA(),IF($L28=0,"",IF(COUNTA(INDEX(活動入力!$C$8:$C$57,$L28))>0,INDEX(活動入力!$C$8:$C$57,$L28),""))) | C28: =IF($L$3<>0,NA(),IF($L28=0,"",IF(TRUE(),INDEX(活動入力!$D$8:$D$57,$L28),""))) | D28: =IF($L$3<>0,NA(),IF($L28=0,"",IF(TRUE(),INDEX(活動入力!$E$8:$E$57,$L28),""))) | E28: =IF($L$3<>0,NA(),IF($L28=0,"",IF(TRUE(),INDEX(活動入力!$F$8:$F$57,$L28),""))) | F28: =IF($L$3<>0,NA(),IF($L28=0,"",IF(INDEX(活動入力!$E$8:$E$57,$L28)="実施",INDEX(活動入力!$G$8:$G$57,$L28),""))) | G28: =IF($L$3<>0,NA(),IF($L28=0,"",IF(INDEX(活動入力!$E$8:$E$57,$L28)="実施",INDEX(活動入力!$H$8:$H$57,$L28),""))) | H28: =IF($L$3<>0,NA(),IF($L28=0,"",IF(INDEX(活動入力!$E$8:$E$57,$L28)="実施",INDEX(活動入力!$J$8:$J$57,$L28),""))) | I28: =IF($L$3<>0,NA(),IF($L28=0,"",IF(TRUE(),INDEX(活動入力!$B$8:$B$57,$L28),""))) | L28: =IFERROR(MATCH(19,活動入力!$K$8:$K$57,0),0) -> 0
A29: =IF($L$3<>0,NA(),IF($L29=0,"",IF(TRUE(),INDEX(活動入力!$A$8:$A$57,$L29),""))) | B29: =IF($L$3<>0,NA(),IF($L29=0,"",IF(COUNTA(INDEX(活動入力!$C$8:$C$57,$L29))>0,INDEX(活動入力!$C$8:$C$57,$L29),""))) | C29: =IF($L$3<>0,NA(),IF($L29=0,"",IF(TRUE(),INDEX(活動入力!$D$8:$D$57,$L29),""))) | D29: =IF($L$3<>0,NA(),IF($L29=0,"",IF(TRUE(),INDEX(活動入力!$E$8:$E$57,$L29),""))) | E29: =IF($L$3<>0,NA(),IF($L29=0,"",IF(TRUE(),INDEX(活動入力!$F$8:$F$57,$L29),""))) | F29: =IF($L$3<>0,NA(),IF($L29=0,"",IF(INDEX(活動入力!$E$8:$E$57,$L29)="実施",INDEX(活動入力!$G$8:$G$57,$L29),""))) | G29: =IF($L$3<>0,NA(),IF($L29=0,"",IF(INDEX(活動入力!$E$8:$E$57,$L29)="実施",INDEX(活動入力!$H$8:$H$57,$L29),""))) | H29: =IF($L$3<>0,NA(),IF($L29=0,"",IF(INDEX(活動入力!$E$8:$E$57,$L29)="実施",INDEX(活動入力!$J$8:$J$57,$L29),""))) | I29: =IF($L$3<>0,NA(),IF($L29=0,"",IF(TRUE(),INDEX(活動入力!$B$8:$B$57,$L29),""))) | L29: =IFERROR(MATCH(20,活動入力!$K$8:$K$57,0),0) -> 0
A30: =IF($L$3<>0,NA(),IF($L30=0,"",IF(TRUE(),INDEX(活動入力!$A$8:$A$57,$L30),""))) | B30: =IF($L$3<>0,NA(),IF($L30=0,"",IF(COUNTA(INDEX(活動入力!$C$8:$C$57,$L30))>0,INDEX(活動入力!$C$8:$C$57,$L30),""))) | C30: =IF($L$3<>0,NA(),IF($L30=0,"",IF(TRUE(),INDEX(活動入力!$D$8:$D$57,$L30),""))) | D30: =IF($L$3<>0,NA(),IF($L30=0,"",IF(TRUE(),INDEX(活動入力!$E$8:$E$57,$L30),""))) | E30: =IF($L$3<>0,NA(),IF($L30=0,"",IF(TRUE(),INDEX(活動入力!$F$8:$F$57,$L30),""))) | F30: =IF($L$3<>0,NA(),IF($L30=0,"",IF(INDEX(活動入力!$E$8:$E$57,$L30)="実施",INDEX(活動入力!$G$8:$G$57,$L30),""))) | G30: =IF($L$3<>0,NA(),IF($L30=0,"",IF(INDEX(活動入力!$E$8:$E$57,$L30)="実施",INDEX(活動入力!$H$8:$H$57,$L30),""))) | H30: =IF($L$3<>0,NA(),IF($L30=0,"",IF(INDEX(活動入力!$E$8:$E$57,$L30)="実施",INDEX(活動入力!$J$8:$J$57,$L30),""))) | I30: =IF($L$3<>0,NA(),IF($L30=0,"",IF(TRUE(),INDEX(活動入力!$B$8:$B$57,$L30),""))) | L30: =IFERROR(MATCH(21,活動入力!$K$8:$K$57,0),0) -> 0
A31: =IF($L$3<>0,NA(),IF($L31=0,"",IF(TRUE(),INDEX(活動入力!$A$8:$A$57,$L31),""))) | B31: =IF($L$3<>0,NA(),IF($L31=0,"",IF(COUNTA(INDEX(活動入力!$C$8:$C$57,$L31))>0,INDEX(活動入力!$C$8:$C$57,$L31),""))) | C31: =IF($L$3<>0,NA(),IF($L31=0,"",IF(TRUE(),INDEX(活動入力!$D$8:$D$57,$L31),""))) | D31: =IF($L$3<>0,NA(),IF($L31=0,"",IF(TRUE(),INDEX(活動入力!$E$8:$E$57,$L31),""))) | E31: =IF($L$3<>0,NA(),IF($L31=0,"",IF(TRUE(),INDEX(活動入力!$F$8:$F$57,$L31),""))) | F31: =IF($L$3<>0,NA(),IF($L31=0,"",IF(INDEX(活動入力!$E$8:$E$57,$L31)="実施",INDEX(活動入力!$G$8:$G$57,$L31),""))) | G31: =IF($L$3<>0,NA(),IF($L31=0,"",IF(INDEX(活動入力!$E$8:$E$57,$L31)="実施",INDEX(活動入力!$H$8:$H$57,$L31),""))) | H31: =IF($L$3<>0,NA(),IF($L31=0,"",IF(INDEX(活動入力!$E$8:$E$57,$L31)="実施",INDEX(活動入力!$J$8:$J$57,$L31),""))) | I31: =IF($L$3<>0,NA(),IF($L31=0,"",IF(TRUE(),INDEX(活動入力!$B$8:$B$57,$L31),""))) | L31: =IFERROR(MATCH(22,活動入力!$K$8:$K$57,0),0) -> 0
A32: =IF($L$3<>0,NA(),IF($L32=0,"",IF(TRUE(),INDEX(活動入力!$A$8:$A$57,$L32),""))) | B32: =IF($L$3<>0,NA(),IF($L32=0,"",IF(COUNTA(INDEX(活動入力!$C$8:$C$57,$L32))>0,INDEX(活動入力!$C$8:$C$57,$L32),""))) | C32: =IF($L$3<>0,NA(),IF($L32=0,"",IF(TRUE(),INDEX(活動入力!$D$8:$D$57,$L32),""))) | D32: =IF($L$3<>0,NA(),IF($L32=0,"",IF(TRUE(),INDEX(活動入力!$E$8:$E$57,$L32),""))) | E32: =IF($L$3<>0,NA(),IF($L32=0,"",IF(TRUE(),INDEX(活動入力!$F$8:$F$57,$L32),""))) | F32: =IF($L$3<>0,NA(),IF($L32=0,"",IF(INDEX(活動入力!$E$8:$E$57,$L32)="実施",INDEX(活動入力!$G$8:$G$57,$L32),""))) | G32: =IF($L$3<>0,NA(),IF($L32=0,"",IF(INDEX(活動入力!$E$8:$E$57,$L32)="実施",INDEX(活動入力!$H$8:$H$57,$L32),""))) | H32: =IF($L$3<>0,NA(),IF($L32=0,"",IF(INDEX(活動入力!$E$8:$E$57,$L32)="実施",INDEX(活動入力!$J$8:$J$57,$L32),""))) | I32: =IF($L$3<>0,NA(),IF($L32=0,"",IF(TRUE(),INDEX(活動入力!$B$8:$B$57,$L32),""))) | L32: =IFERROR(MATCH(23,活動入力!$K$8:$K$57,0),0) -> 0
A33: =IF($L$3<>0,NA(),IF($L33=0,"",IF(TRUE(),INDEX(活動入力!$A$8:$A$57,$L33),""))) | B33: =IF($L$3<>0,NA(),IF($L33=0,"",IF(COUNTA(INDEX(活動入力!$C$8:$C$57,$L33))>0,INDEX(活動入力!$C$8:$C$57,$L33),""))) | C33: =IF($L$3<>0,NA(),IF($L33=0,"",IF(TRUE(),INDEX(活動入力!$D$8:$D$57,$L33),""))) | D33: =IF($L$3<>0,NA(),IF($L33=0,"",IF(TRUE(),INDEX(活動入力!$E$8:$E$57,$L33),""))) | E33: =IF($L$3<>0,NA(),IF($L33=0,"",IF(TRUE(),INDEX(活動入力!$F$8:$F$57,$L33),""))) | F33: =IF($L$3<>0,NA(),IF($L33=0,"",IF(INDEX(活動入力!$E$8:$E$57,$L33)="実施",INDEX(活動入力!$G$8:$G$57,$L33),""))) | G33: =IF($L$3<>0,NA(),IF($L33=0,"",IF(INDEX(活動入力!$E$8:$E$57,$L33)="実施",INDEX(活動入力!$H$8:$H$57,$L33),""))) | H33: =IF($L$3<>0,NA(),IF($L33=0,"",IF(INDEX(活動入力!$E$8:$E$57,$L33)="実施",INDEX(活動入力!$J$8:$J$57,$L33),""))) | I33: =IF($L$3<>0,NA(),IF($L33=0,"",IF(TRUE(),INDEX(活動入力!$B$8:$B$57,$L33),""))) | L33: =IFERROR(MATCH(24,活動入力!$K$8:$K$57,0),0) -> 0
A34: =IF($L$3<>0,NA(),IF($L34=0,"",IF(TRUE(),INDEX(活動入力!$A$8:$A$57,$L34),""))) | B34: =IF($L$3<>0,NA(),IF($L34=0,"",IF(COUNTA(INDEX(活動入力!$C$8:$C$57,$L34))>0,INDEX(活動入力!$C$8:$C$57,$L34),""))) | C34: =IF($L$3<>0,NA(),IF($L34=0,"",IF(TRUE(),INDEX(活動入力!$D$8:$D$57,$L34),""))) | D34: =IF($L$3<>0,NA(),IF($L34=0,"",IF(TRUE(),INDEX(活動入力!$E$8:$E$57,$L34),""))) | E34: =IF($L$3<>0,NA(),IF($L34=0,"",IF(TRUE(),INDEX(活動入力!$F$8:$F$57,$L34),""))) | F34: =IF($L$3<>0,NA(),IF($L34=0,"",IF(INDEX(活動入力!$E$8:$E$57,$L34)="実施",INDEX(活動入力!$G$8:$G$57,$L34),""))) | G34: =IF($L$3<>0,NA(),IF($L34=0,"",IF(INDEX(活動入力!$E$8:$E$57,$L34)="実施",INDEX(活動入力!$H$8:$H$57,$L34),""))) | H34: =IF($L$3<>0,NA(),IF($L34=0,"",IF(INDEX(活動入力!$E$8:$E$57,$L34)="実施",INDEX(活動入力!$J$8:$J$57,$L34),""))) | I34: =IF($L$3<>0,NA(),IF($L34=0,"",IF(TRUE(),INDEX(活動入力!$B$8:$B$57,$L34),""))) | L34: =IFERROR(MATCH(25,活動入力!$K$8:$K$57,0),0) -> 0
A35: =IF($L$3<>0,NA(),IF($L35=0,"",IF(TRUE(),INDEX(活動入力!$A$8:$A$57,$L35),""))) | B35: =IF($L$3<>0,NA(),IF($L35=0,"",IF(COUNTA(INDEX(活動入力!$C$8:$C$57,$L35))>0,INDEX(活動入力!$C$8:$C$57,$L35),""))) | C35: =IF($L$3<>0,NA(),IF($L35=0,"",IF(TRUE(),INDEX(活動入力!$D$8:$D$57,$L35),""))) | D35: =IF($L$3<>0,NA(),IF($L35=0,"",IF(TRUE(),INDEX(活動入力!$E$8:$E$57,$L35),""))) | E35: =IF($L$3<>0,NA(),IF($L35=0,"",IF(TRUE(),INDEX(活動入力!$F$8:$F$57,$L35),""))) | F35: =IF($L$3<>0,NA(),IF($L35=0,"",IF(INDEX(活動入力!$E$8:$E$57,$L35)="実施",INDEX(活動入力!$G$8:$G$57,$L35),""))) | G35: =IF($L$3<>0,NA(),IF($L35=0,"",IF(INDEX(活動入力!$E$8:$E$57,$L35)="実施",INDEX(活動入力!$H$8:$H$57,$L35),""))) | H35: =IF($L$3<>0,NA(),IF($L35=0,"",IF(INDEX(活動入力!$E$8:$E$57,$L35)="実施",INDEX(活動入力!$J$8:$J$57,$L35),""))) | I35: =IF($L$3<>0,NA(),IF($L35=0,"",IF(TRUE(),INDEX(活動入力!$B$8:$B$57,$L35),""))) | L35: =IFERROR(MATCH(26,活動入力!$K$8:$K$57,0),0) -> 0
A36: =IF($L$3<>0,NA(),IF($L36=0,"",IF(TRUE(),INDEX(活動入力!$A$8:$A$57,$L36),""))) | B36: =IF($L$3<>0,NA(),IF($L36=0,"",IF(COUNTA(INDEX(活動入力!$C$8:$C$57,$L36))>0,INDEX(活動入力!$C$8:$C$57,$L36),""))) | C36: =IF($L$3<>0,NA(),IF($L36=0,"",IF(TRUE(),INDEX(活動入力!$D$8:$D$57,$L36),""))) | D36: =IF($L$3<>0,NA(),IF($L36=0,"",IF(TRUE(),INDEX(活動入力!$E$8:$E$57,$L36),""))) | E36: =IF($L$3<>0,NA(),IF($L36=0,"",IF(TRUE(),INDEX(活動入力!$F$8:$F$57,$L36),""))) | F36: =IF($L$3<>0,NA(),IF($L36=0,"",IF(INDEX(活動入力!$E$8:$E$57,$L36)="実施",INDEX(活動入力!$G$8:$G$57,$L36),""))) | G36: =IF($L$3<>0,NA(),IF($L36=0,"",IF(INDEX(活動入力!$E$8:$E$57,$L36)="実施",INDEX(活動入力!$H$8:$H$57,$L36),""))) | H36: =IF($L$3<>0,NA(),IF($L36=0,"",IF(INDEX(活動入力!$E$8:$E$57,$L36)="実施",INDEX(活動入力!$J$8:$J$57,$L36),""))) | I36: =IF($L$3<>0,NA(),IF($L36=0,"",IF(TRUE(),INDEX(活動入力!$B$8:$B$57,$L36),""))) | L36: =IFERROR(MATCH(27,活動入力!$K$8:$K$57,0),0) -> 0
A37: =IF($L$3<>0,NA(),IF($L37=0,"",IF(TRUE(),INDEX(活動入力!$A$8:$A$57,$L37),""))) | B37: =IF($L$3<>0,NA(),IF($L37=0,"",IF(COUNTA(INDEX(活動入力!$C$8:$C$57,$L37))>0,INDEX(活動入力!$C$8:$C$57,$L37),""))) | C37: =IF($L$3<>0,NA(),IF($L37=0,"",IF(TRUE(),INDEX(活動入力!$D$8:$D$57,$L37),""))) | D37: =IF($L$3<>0,NA(),IF($L37=0,"",IF(TRUE(),INDEX(活動入力!$E$8:$E$57,$L37),""))) | E37: =IF($L$3<>0,NA(),IF($L37=0,"",IF(TRUE(),INDEX(活動入力!$F$8:$F$57,$L37),""))) | F37: =IF($L$3<>0,NA(),IF($L37=0,"",IF(INDEX(活動入力!$E$8:$E$57,$L37)="実施",INDEX(活動入力!$G$8:$G$57,$L37),""))) | G37: =IF($L$3<>0,NA(),IF($L37=0,"",IF(INDEX(活動入力!$E$8:$E$57,$L37)="実施",INDEX(活動入力!$H$8:$H$57,$L37),""))) | H37: =IF($L$3<>0,NA(),IF($L37=0,"",IF(INDEX(活動入力!$E$8:$E$57,$L37)="実施",INDEX(活動入力!$J$8:$J$57,$L37),""))) | I37: =IF($L$3<>0,NA(),IF($L37=0,"",IF(TRUE(),INDEX(活動入力!$B$8:$B$57,$L37),""))) | L37: =IFERROR(MATCH(28,活動入力!$K$8:$K$57,0),0) -> 0
A38: =IF($L$3<>0,NA(),IF($L38=0,"",IF(TRUE(),INDEX(活動入力!$A$8:$A$57,$L38),""))) | B38: =IF($L$3<>0,NA(),IF($L38=0,"",IF(COUNTA(INDEX(活動入力!$C$8:$C$57,$L38))>0,INDEX(活動入力!$C$8:$C$57,$L38),""))) | C38: =IF($L$3<>0,NA(),IF($L38=0,"",IF(TRUE(),INDEX(活動入力!$D$8:$D$57,$L38),""))) | D38: =IF($L$3<>0,NA(),IF($L38=0,"",IF(TRUE(),INDEX(活動入力!$E$8:$E$57,$L38),""))) | E38: =IF($L$3<>0,NA(),IF($L38=0,"",IF(TRUE(),INDEX(活動入力!$F$8:$F$57,$L38),""))) | F38: =IF($L$3<>0,NA(),IF($L38=0,"",IF(INDEX(活動入力!$E$8:$E$57,$L38)="実施",INDEX(活動入力!$G$8:$G$57,$L38),""))) | G38: =IF($L$3<>0,NA(),IF($L38=0,"",IF(INDEX(活動入力!$E$8:$E$57,$L38)="実施",INDEX(活動入力!$H$8:$H$57,$L38),""))) | H38: =IF($L$3<>0,NA(),IF($L38=0,"",IF(INDEX(活動入力!$E$8:$E$57,$L38)="実施",INDEX(活動入力!$J$8:$J$57,$L38),""))) | I38: =IF($L$3<>0,NA(),IF($L38=0,"",IF(TRUE(),INDEX(活動入力!$B$8:$B$57,$L38),""))) | L38: =IFERROR(MATCH(29,活動入力!$K$8:$K$57,0),0) -> 0
A39: =IF($L$3<>0,NA(),IF($L39=0,"",IF(TRUE(),INDEX(活動入力!$A$8:$A$57,$L39),""))) | B39: =IF($L$3<>0,NA(),IF($L39=0,"",IF(COUNTA(INDEX(活動入力!$C$8:$C$57,$L39))>0,INDEX(活動入力!$C$8:$C$57,$L39),""))) | C39: =IF($L$3<>0,NA(),IF($L39=0,"",IF(TRUE(),INDEX(活動入力!$D$8:$D$57,$L39),""))) | D39: =IF($L$3<>0,NA(),IF($L39=0,"",IF(TRUE(),INDEX(活動入力!$E$8:$E$57,$L39),""))) | E39: =IF($L$3<>0,NA(),IF($L39=0,"",IF(TRUE(),INDEX(活動入力!$F$8:$F$57,$L39),""))) | F39: =IF($L$3<>0,NA(),IF($L39=0,"",IF(INDEX(活動入力!$E$8:$E$57,$L39)="実施",INDEX(活動入力!$G$8:$G$57,$L39),""))) | G39: =IF($L$3<>0,NA(),IF($L39=0,"",IF(INDEX(活動入力!$E$8:$E$57,$L39)="実施",INDEX(活動入力!$H$8:$H$57,$L39),""))) | H39: =IF($L$3<>0,NA(),IF($L39=0,"",IF(INDEX(活動入力!$E$8:$E$57,$L39)="実施",INDEX(活動入力!$J$8:$J$57,$L39),""))) | I39: =IF($L$3<>0,NA(),IF($L39=0,"",IF(TRUE(),INDEX(活動入力!$B$8:$B$57,$L39),""))) | L39: =IFERROR(MATCH(30,活動入力!$K$8:$K$57,0),0) -> 0
A40: =IF($L$3<>0,NA(),IF($L40=0,"",IF(TRUE(),INDEX(活動入力!$A$8:$A$57,$L40),""))) | B40: =IF($L$3<>0,NA(),IF($L40=0,"",IF(COUNTA(INDEX(活動入力!$C$8:$C$57,$L40))>0,INDEX(活動入力!$C$8:$C$57,$L40),""))) | C40: =IF($L$3<>0,NA(),IF($L40=0,"",IF(TRUE(),INDEX(活動入力!$D$8:$D$57,$L40),""))) | D40: =IF($L$3<>0,NA(),IF($L40=0,"",IF(TRUE(),INDEX(活動入力!$E$8:$E$57,$L40),""))) | E40: =IF($L$3<>0,NA(),IF($L40=0,"",IF(TRUE(),INDEX(活動入力!$F$8:$F$57,$L40),""))) | F40: =IF($L$3<>0,NA(),IF($L40=0,"",IF(INDEX(活動入力!$E$8:$E$57,$L40)="実施",INDEX(活動入力!$G$8:$G$57,$L40),""))) | G40: =IF($L$3<>0,NA(),IF($L40=0,"",IF(INDEX(活動入力!$E$8:$E$57,$L40)="実施",INDEX(活動入力!$H$8:$H$57,$L40),""))) | H40: =IF($L$3<>0,NA(),IF($L40=0,"",IF(INDEX(活動入力!$E$8:$E$57,$L40)="実施",INDEX(活動入力!$J$8:$J$57,$L40),""))) | I40: =IF($L$3<>0,NA(),IF($L40=0,"",IF(TRUE(),INDEX(活動入力!$B$8:$B$57,$L40),""))) | L40: =IFERROR(MATCH(31,活動入力!$K$8:$K$57,0),0) -> 0
A41: =IF($L$3<>0,NA(),IF($L41=0,"",IF(TRUE(),INDEX(活動入力!$A$8:$A$57,$L41),""))) | B41: =IF($L$3<>0,NA(),IF($L41=0,"",IF(COUNTA(INDEX(活動入力!$C$8:$C$57,$L41))>0,INDEX(活動入力!$C$8:$C$57,$L41),""))) | C41: =IF($L$3<>0,NA(),IF($L41=0,"",IF(TRUE(),INDEX(活動入力!$D$8:$D$57,$L41),""))) | D41: =IF($L$3<>0,NA(),IF($L41=0,"",IF(TRUE(),INDEX(活動入力!$E$8:$E$57,$L41),""))) | E41: =IF($L$3<>0,NA(),IF($L41=0,"",IF(TRUE(),INDEX(活動入力!$F$8:$F$57,$L41),""))) | F41: =IF($L$3<>0,NA(),IF($L41=0,"",IF(INDEX(活動入力!$E$8:$E$57,$L41)="実施",INDEX(活動入力!$G$8:$G$57,$L41),""))) | G41: =IF($L$3<>0,NA(),IF($L41=0,"",IF(INDEX(活動入力!$E$8:$E$57,$L41)="実施",INDEX(活動入力!$H$8:$H$57,$L41),""))) | H41: =IF($L$3<>0,NA(),IF($L41=0,"",IF(INDEX(活動入力!$E$8:$E$57,$L41)="実施",INDEX(活動入力!$J$8:$J$57,$L41),""))) | I41: =IF($L$3<>0,NA(),IF($L41=0,"",IF(TRUE(),INDEX(活動入力!$B$8:$B$57,$L41),""))) | L41: =IFERROR(MATCH(32,活動入力!$K$8:$K$57,0),0) -> 0
...

Sheet 活動入力
A2: 活動の実施区分と日時を記録
A3: 黄色A〜Iへ。50活動/50顧客ID/20担当ID。案件・顧客名・本人との対応や結果は元記録で管理。
A5: 実施は分単位の日時。中止/未確認は開始・終了を空欄。同じ担当の時間は重ねず、日またぎは日別に分割。
A7: 活動ID | B7: 担当者ID | C7: 顧客ID（任意） | D7: 活動種別 | E7: 実施区分 | F7: 活動日 | G7: 開始日時 | H7: 終了日時 | I7: 記録確認日 | J7: 確定実施分 | K7: 日報の表示順 | L7: 入力の確認 | M7: 入力不備 | N7: 計算の前提
A8: ACT-0001 | B8: STF-0001 | C8: CUS-0001 | D8: 訪問 | E8: 実施 | F8: 46311 | G8: 46311.375 | H8: 46311.396 | I8: 46311 | J8: =IF(L8="","",IF(M8<>0,NA(),IF(E8="実施",ROUND((H8-G8)*1440,0),""))) -> 30 | K8: =IF(L8="","",IF(M8<>0,NA(),IF(AND(B8=日報!$E$3,F8=日報!$B$3),COUNTIFS($B$8:B8,B8,$F$8:F8,F8),0))) -> 1 | L8: =IF(COUNTA(A8:I8)=0,"",IF(NOT(AND(ISTEXT(A8),LEN(A8)=8,EXACT(LEFT(A8,4),"ACT-"),ISNUMBER(FIND(MID(A8,5,1)&"x","0x1x2x3x4x5x6x7x8x9x")),ISNUMBER(FIND(MID(A8,6,1)&"x","0x1x2x3x4x5x6x7x8x9x")),ISNUMBER(FIND(MID(A8,7,1)&"x","0x1x2x3x4x5x6x7x8x9x")),ISNUMBER(FIND(MID(A8,8,1)&"x","0x1x2x3x4x5x6x7x8x9x")))),"活動IDはACT-と半角数字4桁",IF(COUNTIFS($A$8:$A$57,A8)>1,"活動IDが重複",IF(NOT(AND(ISTEXT(B8),LEN(B8)=8,EXACT(LEFT(B8,4),"STF-"),ISNUMBER(FIND(MID(B8,5,1)&"x","0x1x2x3x4x5x6x7x8x9x")),ISNUMBER(FIND(MID(B8,6,1)&"x","0x1x2x3x4x5x6x7x8x9x")),ISNUMBER(FIND(MID(B8,7,1)&"x","0x1x2x3x4x5x6x7x8x9x")),ISNUMBER(FIND(MID(B8,8,1)&"x","0x1x2x3x4x5x6x7x8x9x")))),"担当IDの形式を確認",IF(COUNTIFS(登録ID!$F$8:$F$27,B8)<>1,"担当が未登録/重複",IF(AND(COUNTA(C8)>0,NOT(AND(ISTEXT(C8),LEN(C8)=8,EXACT(LEFT(C8,4),"CUS-"),ISNUMBER(FIND(MID(C8,5,1)&"x","0x1x2x3x4x5x6x7x8x9x")),ISNUMBER(FIND(MID(C8,6,1)&"x","0x1x2x3x4x5x6x7x8x9x")),ISNUMBER(FIND(MID(C8,7,1)&"x","0x1x2x3x4x5x6x7x8x9x")),ISNUMBER(FIND(MID(C8,8,1)&"x","0x1x2x3x4x5x6x7x8x9x"))))),"顧客IDの形式を確認",IF(AND(COUNTA(C8)>0,COUNTIFS(登録ID!$A$8:$A$57,C8)<>1),"顧客が未登録/重複",IF(NOT(OR(D8="訪問",D8="オンライン",D8="電話",D8="メール",D8="事務",D8="その他")),"活動種別を確認",IF(NOT(OR(E8="実施",E8="中止",E8="未確認")),"実施区分を確認",IF(NOT(IF(ISNUMBER(F8),AND(F8>=43831,F8<73051,F8=INT(F8)),FALSE())),"活動日は時刻なしで必須",IF(NOT(IF(ISNUMBER(I8),AND(I8>=43831,I8<73051,I8=INT(I8)),FALSE())),"記録確認日は時刻なしで必須",IF(OR(F8>I8,I8>日報!$H$3),"活動日≦確認日≦基準日を確認",IF(AND(E8="実施",NOT(AND(IF(ISNUMBER(G8),AND(G8>=43831,G8<73051,ABS(G8*1440-ROUND(G8*1440,0))<0.00001),FALSE()),IF(ISNUMBER(H8),AND(H8>=43831,H8<73051,ABS(H8*1440-ROUND(H8*1440,0))<0.00001),FALSE())))),"実施は分単位の開始/終了日時が必須",IF(AND(E8<>"実施",COUNTA(G8:H8)>0),"中止/未確認の開始/終了は空欄",IF(AND(E8="実施",OR(G8<F8,G8>=F8+1,H8<=G8,H8>F8+1,H8>=I8+1)),"時間の順序・活動日/確認日を確認",IF(AND(E8="実施",COUNTIFS($B$8:$B$57,B8,$E$8:$E$57,"実施",$G$8:$G$57,"<"&H8,$H$8:$H$57,">"&G8)>1),"同じ担当の実施時間が重複","確認済み")))))))))))))))) -> 確認済み | M8: =IF(L8="","",IF(L8="確認済み",0,1)) -> 0 | N8: =IF(COUNTA(A8:I8)=0,IF(AND(L8="",M8="",J8="",K8=""),0,1),IF(NOT(AND(ISTEXT(L8),L8=IF(COUNTA(A8:I8)=0,"",IF(NOT(AND(ISTEXT(A8),LEN(A8)=8,EXACT(LEFT(A8,4),"ACT-"),ISNUMBER(FIND(MID(A8,5,1)&"x","0x1x2x3x4x5x6x7x8x9x")),ISNUMBER(FIND(MID(A8,6,1)&"x","0x1x2x3x4x5x6x7x8x9x")),ISNUMBER(FIND(MID(A8,7,1)&"x","0x1x2x3x4x5x6x7x8x9x")),ISNUMBER(FIND(MID(A8,8,1)&"x","0x1x2x3x4x5x6x7x8x9x")))),"活動IDはACT-と半角数字4桁",IF(COUNTIFS($A$8:$A$57,A8)>1,"活動IDが重複",IF(NOT(AND(ISTEXT(B8),LEN(B8)=8,EXACT(LEFT(B8,4),"STF-"),ISNUMBER(FIND(MID(B8,5,1)&"x","0x1x2x3x4x5x6x7x8x9x")),ISNUMBER(FIND(MID(B8,6,1)&"x","0x1x2x3x4x5x6x7x8x9x")),ISNUMBER(FIND(MID(B8,7,1)&"x","0x1x2x3x4x5x6x7x8x9x")),ISNUMBER(FIND(MID(B8,8,1)&"x","0x1x2x3x4x5x6x7x8x9x")))),"担当IDの形式を確認",IF(COUNTIFS(登録ID!$F$8:$F$27,B8)<>1,"担当が未登録/重複",IF(AND(COUNTA(C8)>0,NOT(AND(ISTEXT(C8),LEN(C8)=8,EXACT(LEFT(C8,4),"CUS-"),ISNUMBER(FIND(MID(C8,5,1)&"x","0x1x2x3x4x5x6x7x8x9x")),ISNUMBER(FIND(MID(C8,6,1)&"x","0x1x2x3x4x5x6x7x8x9x")),ISNUMBER(FIND(MID(C8,7,1)&"x","0x1x2x3x4x5x6x7x8x9x")),ISNUMBER(FIND(MID(C8,8,1)&"x","0x1x2x3x4x5x6x7x8x9x"))))),"顧客IDの形式を確認",IF(AND(COUNTA(C8)>0,COUNTIFS(登録ID!$A$8:$A$57,C8)<>1),"顧客が未登録/重複",IF(NOT(OR(D8="訪問",D8="オンライン",D8="電話",D8="メール",D8="事務",D8="その他")),"活動種別を確認",IF(NOT(OR(E8="実施",E8="中止",E8="未確認")),"実施区分を確認",IF(NOT(IF(ISNUMBER(F8),AND(F8>=43831,F8<73051,F8=INT(F8)),FALSE())),"活動日は時刻なしで必須",IF(NOT(IF(ISNUMBER(I8),AND(I8>=43831,I8<73051,I8=INT(I8)),FALSE())),"記録確認日は時刻なしで必須",IF(OR(F8>I8,I8>日報!$H$3),"活動日≦確認日≦基準日を確認",IF(AND(E8="実施",NOT(AND(IF(ISNUMBER(G8),AND(G8>=43831,G8<73051,ABS(G8*1440-ROUND(G8*1440,0))<0.00001),FALSE()),IF(ISNUMBER(H8),AND(H8>=43831,H8<73051,ABS(H8*1440-ROUND(H8*1440,0))<0.00001),FALSE())))),"実施は分単位の開始/終了日時が必須",IF(AND(E8<>"実施",COUNTA(G8:H8)>0),"中止/未確認の開始/終了は空欄",IF(AND(E8="実施",OR(G8<F8,G8>=F8+1,H8<=G8,H8>F8+1,H8>=I8+1)),"時間の順序・活動日/確認日を確認",IF(AND(E8="実施",COUNTIFS($B$8:$B$57,B8,$E$8:$E$57,"実施",$G$8:$G$57,"<"&H8,$H$8:$H$57,">"&G8)>1),"同じ担当の実施時間が重複","確認済み")))))))))))))))),ISNUMBER(M8),M8=IF(L8="確認済み",0,1))),1,IF(M8<>0,0,IF(AND(IF(E8="実施",ISNUMBER(J8),ISTEXT(J8)),J8=IF(E8="実施",ROUND((H8-G8)*1440,0),""),ISNUMBER(K8),K8=IF(AND(B8=日報!$E$3,F8=日報!$B$3),COUNTIFS($B$8:B8,B8,$F$8:F8,F8),0)),0,1)))) -> 0
A9: ACT-0002 | B9: STF-0001 | C9: CUS-0001 | D9: 電話 | E9: 実施 | F9: 46311 | G9: 46311.396 | H9: 46311.397 | I9: 46311 | J9: =IF(L9="","",IF(M9<>0,NA(),IF(E9="実施",ROUND((H9-G9)*1440,0),""))) -> 1 | K9: =IF(L9="","",IF(M9<>0,NA(),IF(AND(B9=日報!$E$3,F9=日報!$B$3),COUNTIFS($B$8:B9,B9,$F$8:F9,F9),0))) -> 2 | L9: =IF(COUNTA(A9:I9)=0,"",IF(NOT(AND(ISTEXT(A9),LEN(A9)=8,EXACT(LEFT(A9,4),"ACT-"),ISNUMBER(FIND(MID(A9,5,1)&"x","0x1x2x3x4x5x6x7x8x9x")),ISNUMBER(FIND(MID(A9,6,1)&"x","0x1x2x3x4x5x6x7x8x9x")),ISNUMBER(FIND(MID(A9,7,1)&"x","0x1x2x3x4x5x6x7x8x9x")),ISNUMBER(FIND(MID(A9,8,1)&"x","0x1x2x3x4x5x6x7x8x9x")))),"活動IDはACT-と半角数字4桁",IF(COUNTIFS($A$8:$A$57,A9)>1,"活動IDが重複",IF(NOT(AND(ISTEXT(B9),LEN(B9)=8,EXACT(LEFT(B9,4),"STF-"),ISNUMBER(FIND(MID(B9,5,1)&"x","0x1x2x3x4x5x6x7x8x9x")),ISNUMBER(FIND(MID(B9,6,1)&"x","0x1x2x3x4x5x6x7x8x9x")),ISNUMBER(FIND(MID(B9,7,1)&"x","0x1x2x3x4x5x6x7x8x9x")),ISNUMBER(FIND(MID(B9,8,1)&"x","0x1x2x3x4x5x6x7x8x9x")))),"担当IDの形式を確認",IF(COUNTIFS(登録ID!$F$8:$F$27,B9)<>1,"担当が未登録/重複",IF(AND(COUNTA(C9)>0,NOT(AND(ISTEXT(C9),LEN(C9)=8,EXACT(LEFT(C9,4),"CUS-"),ISNUMBER(FIND(MID(C9,5,1)&"x","0x1x2x3x4x5x6x7x8x9x")),ISNUMBER(FIND(MID(C9,6,1)&"x","0x1x2x3x4x5x6x7x8x9x")),ISNUMBER(FIND(MID(C9,7,1)&"x","0x1x2x3x4x5x6x7x8x9x")),ISNUMBER(FIND(MID(C9,8,1)&"x","0x1x2x3x4x5x6x7x8x9x"))))),"顧客IDの形式を確認",IF(AND(COUNTA(C9)>0,COUNTIFS(登録ID!$A$8:$A$57,C9)<>1),"顧客が未登録/重複",IF(NOT(OR(D9="訪問",D9="オンライン",D9="電話",D9="メール",D9="事務",D9="その他")),"活動種別を確認",IF(NOT(OR(E9="実施",E9="中止",E9="未確認")),"実施区分を確認",IF(NOT(IF(ISNUMBER(F9),AND(F9>=43831,F9<73051,F9=INT(F9)),FALSE())),"活動日は時刻なしで必須",IF(NOT(IF(ISNUMBER(I9),AND(I9>=43831,I9<73051,I9=INT(I9)),FALSE())),"記録確認日は時刻なしで必須",IF(OR(F9>I9,I9>日報!$H$3),"活動日≦確認日≦基準日を確認",IF(AND(E9="実施",NOT(AND(IF(ISNUMBER(G9),AND(G9>=43831,G9<73051,ABS(G9*1440-ROUND(G9*1440,0))<0.00001),FALSE()),IF(ISNUMBER(H9),AND(H9>=43831,H9<73051,ABS(H9*1440-ROUND(H9*1440,0))<0.00001),FALSE())))),"実施は分単位の開始/終了日時が必須",IF(AND(E9<>"実施",COUNTA(G9:H9)>0),"中止/未確認の開始/終了は空欄",IF(AND(E9="実施",OR(G9<F9,G9>=F9+1,H9<=G9,H9>F9+1,H9>=I9+1)),"時間の順序・活動日/確認日を確認",IF(AND(E9="実施",COUNTIFS($B$8:$B$57,B9,$E$8:$E$57,"実施",$G$8:$G$57,"<"&H9,$H$8:$H$57,">"&G9)>1),"同じ担当の実施時間が重複","確認済み")))))))))))))))) -> 確認済み | M9: =IF(L9="","",IF(L9="確認済み",0,1)) -> 0 | N9: =IF(COUNTA(A9:I9)=0,IF(AND(L9="",M9="",J9="",K9=""),0,1),IF(NOT(AND(ISTEXT(L9),L9=IF(COUNTA(A9:I9)=0,"",IF(NOT(AND(ISTEXT(A9),LEN(A9)=8,EXACT(LEFT(A9,4),"ACT-"),ISNUMBER(FIND(MID(A9,5,1)&"x","0x1x2x3x4x5x6x7x8x9x")),ISNUMBER(FIND(MID(A9,6,1)&"x","0x1x2x3x4x5x6x7x8x9x")),ISNUMBER(FIND(MID(A9,7,1)&"x","0x1x2x3x4x5x6x7x8x9x")),ISNUMBER(FIND(MID(A9,8,1)&"x","0x1x2x3x4x5x6x7x8x9x")))),"活動IDはACT-と半角数字4桁",IF(COUNTIFS($A$8:$A$57,A9)>1,"活動IDが重複",IF(NOT(AND(ISTEXT(B9),LEN(B9)=8,EXACT(LEFT(B9,4),"STF-"),ISNUMBER(FIND(MID(B9,5,1)&"x","0x1x2x3x4x5x6x7x8x9x")),ISNUMBER(FIND(MID(B9,6,1)&"x","0x1x2x3x4x5x6x7x8x9x")),ISNUMBER(FIND(MID(B9,7,1)&"x","0x1x2x3x4x5x6x7x8x9x")),ISNUMBER(FIND(MID(B9,8,1)&"x","0x1x2x3x4x5x6x7x8x9x")))),"担当IDの形式を確認",IF(COUNTIFS(登録ID!$F$8:$F$27,B9)<>1,"担当が未登録/重複",IF(AND(COUNTA(C9)>0,NOT(AND(ISTEXT(C9),LEN(C9)=8,EXACT(LEFT(C9,4),"CUS-"),ISNUMBER(FIND(MID(C9,5,1)&"x","0x1x2x3x4x5x6x7x8x9x")),ISNUMBER(FIND(MID(C9,6,1)&"x","0x1x2x3x4x5x6x7x8x9x")),ISNUMBER(FIND(MID(C9,7,1)&"x","0x1x2x3x4x5x6x7x8x9x")),ISNUMBER(FIND(MID(C9,8,1)&"x","0x1x2x3x4x5x6x7x8x9x"))))),"顧客IDの形式を確認",IF(AND(COUNTA(C9)>0,COUNTIFS(登録ID!$A$8:$A$57,C9)<>1),"顧客が未登録/重複",IF(NOT(OR(D9="訪問",D9="オンライン",D9="電話",D9="メール",D9="事務",D9="その他")),"活動種別を確認",IF(NOT(OR(E9="実施",E9="中止",E9="未確認")),"実施区分を確認",IF(NOT(IF(ISNUMBER(F9),AND(F9>=43831,F9<73051,F9=INT(F9)),FALSE())),"活動日は時刻なしで必須",IF(NOT(IF(ISNUMBER(I9),AND(I9>=43831,I9<73051,I9=INT(I9)),FALSE())),"記録確認日は時刻なしで必須",IF(OR(F9>I9,I9>日報!$H$3),"活動日≦確認日≦基準日を確認",IF(AND(E9="実施",NOT(AND(IF(ISNUMBER(G9),AND(G9>=43831,G9<73051,ABS(G9*1440-ROUND(G9*1440,0))<0.00001),FALSE()),IF(ISNUMBER(H9),AND(H9>=43831,H9<73051,ABS(H9*1440-ROUND(H9*1440,0))<0.00001),FALSE())))),"実施は分単位の開始/終了日時が必須",IF(AND(E9<>"実施",COUNTA(G9:H9)>0),"中止/未確認の開始/終了は空欄",IF(AND(E9="実施",OR(G9<F9,G9>=F9+1,H9<=G9,H9>F9+1,H9>=I9+1)),"時間の順序・活動日/確認日を確認",IF(AND(E9="実施",COUNTIFS($B$8:$B$57,B9,$E$8:$E$57,"実施",$G$8:$G$57,"<"&H9,$H$8:$H$57,">"&G9)>1),"同じ担当の実施時間が重複","確認済み")))))))))))))))),ISNUMBER(M9),M9=IF(L9="確認済み",0,1))),1,IF(M9<>0,0,IF(AND(IF(E9="実施",ISNUMBER(J9),ISTEXT(J9)),J9=IF(E9="実施",ROUND((H9-G9)*1440,0),""),ISNUMBER(K9),K9=IF(AND(B9=日報!$E$3,F9=日報!$B$3),COUNTIFS($B$8:B9,B9,$F$8:F9,F9),0)),0,1)))) -> 0
A10: ACT-0003 | B10: STF-0001 | C10: CUS-0002 | D10: オンライン | E10: 実施 | F10: 46311 | G10: 46311.417 | H10: 46311.448 | I10: 46311 | J10: =IF(L10="","",IF(M10<>0,NA(),IF(E10="実施",ROUND((H10-G10)*1440,0),""))) -> 45 | K10: =IF(L10="","",IF(M10<>0,NA(),IF(AND(B10=日報!$E$3,F10=日報!$B$3),COUNTIFS($B$8:B10,B10,$F$8:F10,F10),0))) -> 3 | L10: =IF(COUNTA(A10:I10)=0,"",IF(NOT(AND(ISTEXT(A10),LEN(A10)=8,EXACT(LEFT(A10,4),"ACT-"),ISNUMBER(FIND(MID(A10,5,1)&"x","0x1x2x3x4x5x6x7x8x9x")),ISNUMBER(FIND(MID(A10,6,1)&"x","0x1x2x3x4x5x6x7x8x9x")),ISNUMBER(FIND(MID(A10,7,1)&"x","0x1x2x3x4x5x6x7x8x9x")),ISNUMBER(FIND(MID(A10,8,1)&"x","0x1x2x3x4x5x6x7x8x9x")))),"活動IDはACT-と半角数字4桁",IF(COUNTIFS($A$8:$A$57,A10)>1,"活動IDが重複",IF(NOT(AND(ISTEXT(B10),LEN(B10)=8,EXACT(LEFT(B10,4),"STF-"),ISNUMBER(FIND(MID(B10,5,1)&"x","0x1x2x3x4x5x6x7x8x9x")),ISNUMBER(FIND(MID(B10,6,1)&"x","0x1x2x3x4x5x6x7x8x9x")),ISNUMBER(FIND(MID(B10,7,1)&"x","0x1x2x3x4x5x6x7x8x9x")),ISNUMBER(FIND(MID(B10,8,1)&"x","0x1x2x3x4x5x6x7x8x9x")))),"担当IDの形式を確認",IF(COUNTIFS(登録ID!$F$8:$F$27,B10)<>1,"担当が未登録/重複",IF(AND(COUNTA(C10)>0,NOT(AND(ISTEXT(C10),LEN(C10)=8,EXACT(LEFT(C10,4),"CUS-"),ISNUMBER(FIND(MID(C10,5,1)&"x","0x1x2x3x4x5x6x7x8x9x")),ISNUMBER(FIND(MID(C10,6,1)&"x","0x1x2x3x4x5x6x7x8x9x")),ISNUMBER(FIND(MID(C10,7,1)&"x","0x1x2x3x4x5x6x7x8x9x")),ISNUMBER(FIND(MID(C10,8,1)&"x","0x1x2x3x4x5x6x7x8x9x"))))),"顧客IDの形式を確認",IF(AND(COUNTA(C10)>0,COUNTIFS(登録ID!$A$8:$A$57,C10)<>1),"顧客が未登録/重複",IF(NOT(OR(D10="訪問",D10="オンライン",D10="電話",D10="メール",D10="事務",D10="その他")),"活動種別を確認",IF(NOT(OR(E10="実施",E10="中止",E10="未確認")),"実施区分を確認",IF(NOT(IF(ISNUMBER(F10),AND(F10>=43831,F10<73051,F10=INT(F10)),FALSE())),"活動日は時刻なしで必須",IF(NOT(IF(ISNUMBER(I10),AND(I10>=43831,I10<73051,I10=INT(I10)),FALSE())),"記録確認日は時刻なしで必須",IF(OR(F10>I10,I10>日報!$H$3),"活動日≦確認日≦基準日を確認",IF(AND(E10="実施",NOT(AND(IF(ISNUMBER(G10),AND(G10>=43831,G10<73051,ABS(G10*1440-ROUND(G10*1440,0))<0.00001),FALSE()),IF(ISNUMBER(H10),AND(H10>=43831,H10<73051,ABS(H10*1440-ROUND(H10*1440,0))<0.00001),FALSE())))),"実施は分単位の開始/終了日時が必須",IF(AND(E10<>"実施",COUNTA(G10:H10)>0),"中止/未確認の開始/終了は空欄",IF(AND(E10="実施",OR(G10<F10,G10>=F10+1,H10<=G10,H10>F10+1,H10>=I10+1)),"時間の順序・活動日/確認日を確認",IF(AND(E10="実施",COUNTIFS($B$8:$B$57,B10,$E$8:$E$57,"実施",$G$8:$G$57,"<"&H10,$H$8:$H$57,">"&G10)>1),"同じ担当の実施時間が重複","確認済み")))))))))))))))) -> 確認済み | M10: =IF(L10="","",IF(L10="確認済み",0,1)) -> 0 | N10: =IF(COUNTA(A10:I10)=0,IF(AND(L10="",M10="",J10="",K10=""),0,1),IF(NOT(AND(ISTEXT(L10),L10=IF(COUNTA(A10:I10)=0,"",IF(NOT(AND(ISTEXT(A10),LEN(A10)=8,EXACT(LEFT(A10,4),"ACT-"),ISNUMBER(FIND(MID(A10,5,1)&"x","0x1x2x3x4x5x6x7x8x9x")),ISNUMBER(FIND(MID(A10,6,1)&"x","0x1x2x3x4x5x6x7x8x9x")),ISNUMBER(FIND(MID(A10,7,1)&"x","0x1x2x3x4x5x6x7x8x9x")),ISNUMBER(FIND(MID(A10,8,1)&"x","0x1x2x3x4x5x6x7x8x9x")))),"活動IDはACT-と半角数字4桁",IF(COUNTIFS($A$8:$A$57,A10)>1,"活動IDが重複",IF(NOT(AND(ISTEXT(B10),LEN(B10)=8,EXACT(LEFT(B10,4),"STF-"),ISNUMBER(FIND(MID(B10,5,1)&"x","0x1x2x3x4x5x6x7x8x9x")),ISNUMBER(FIND(MID(B10,6,1)&"x","0x1x2x3x4x5x6x7x8x9x")),ISNUMBER(FIND(MID(B10,7,1)&"x","0x1x2x3x4x5x6x7x8x9x")),ISNUMBER(FIND(MID(B10,8,1)&"x","0x1x2x3x4x5x6x7x8x9x")))),"担当IDの形式を確認",IF(COUNTIFS(登録ID!$F$8:$F$27,B10)<>1,"担当が未登録/重複",IF(AND(COUNTA(C10)>0,NOT(AND(ISTEXT(C10),LEN(C10)=8,EXACT(LEFT(C10,4),"CUS-"),ISNUMBER(FIND(MID(C10,5,1)&"x","0x1x2x3x4x5x6x7x8x9x")),ISNUMBER(FIND(MID(C10,6,1)&"x","0x1x2x3x4x5x6x7x8x9x")),ISNUMBER(FIND(MID(C10,7,1)&"x","0x1x2x3x4x5x6x7x8x9x")),ISNUMBER(FIND(MID(C10,8,1)&"x","0x1x2x3x4x5x6x7x8x9x"))))),"顧客IDの形式を確認",IF(AND(COUNTA(C10)>0,COUNTIFS(登録ID!$A$8:$A$57,C10)<>1),"顧客が未登録/重複",IF(NOT(OR(D10="訪問",D10="オンライン",D10="電話",D10="メール",D10="事務",D10="その他")),"活動種別を確認",IF(NOT(OR(E10="実施",E10="中止",E10="未確認")),"実施区分を確認",IF(NOT(IF(ISNUMBER(F10),AND(F10>=43831,F10<73051,F10=INT(F10)),FALSE())),"活動日は時刻なしで必須",IF(NOT(IF(ISNUMBER(I10),AND(I10>=43831,I10<73051,I10=INT(I10)),FALSE())),"記録確認日は時刻なしで必須",IF(OR(F10>I10,I10>日報!$H$3),"活動日≦確認日≦基準日を確認",IF(AND(E10="実施",NOT(AND(IF(ISNUMBER(G10),AND(G10>=43831,G10<73051,ABS(G10*1440-ROUND(G10*1440,0))<0.00001),FALSE()),IF(ISNUMBER(H10),AND(H10>=43831,H10<73051,ABS(H10*1440-ROUND(H10*1440,0))<0.00001),FALSE())))),"実施は分単位の開始/終了日時が必須",IF(AND(E10<>"実施",COUNTA(G10:H10)>0),"中止/未確認の開始/終了は空欄",IF(AND(E10="実施",OR(G10<F10,G10>=F10+1,H10<=G10,H10>F10+1,H10>=I10+1)),"時間の順序・活動日/確認日を確認",IF(AND(E10="実施",COUNTIFS($B$8:$B$57,B10,$E$8:$E$57,"実施",$G$8:$G$57,"<"&H10,$H$8:$H$57,">"&G10)>1),"同じ担当の実施時間が重複","確認済み")))))))))))))))),ISNUMBER(M10),M10=IF(L10="確認済み",0,1))),1,IF(M10<>0,0,IF(AND(IF(E10="実施",ISNUMBER(J10),ISTEXT(J10)),J10=IF(E10="実施",ROUND((H10-G10)*1440,0),""),ISNUMBER(K10),K10=IF(AND(B10=日報!$E$3,F10=日報!$B$3),COUNTIFS($B$8:B10,B10,$F$8:F10,F10),0)),0,1)))) -> 0
A11: ACT-0004 | B11: STF-0001 | D11: メール | E11: 中止 | F11: 46311 | I11: 46311 | J11: =IF(L11="","",IF(M11<>0,NA(),IF(E11="実施",ROUND((H11-G11)*1440,0),""))) | K11: =IF(L11="","",IF(M11<>0,NA(),IF(AND(B11=日報!$E$3,F11=日報!$B$3),COUNTIFS($B$8:B11,B11,$F$8:F11,F11),0))) -> 4 | L11: =IF(COUNTA(A11:I11)=0,"",IF(NOT(AND(ISTEXT(A11),LEN(A11)=8,EXACT(LEFT(A11,4),"ACT-"),ISNUMBER(FIND(MID(A11,5,1)&"x","0x1x2x3x4x5x6x7x8x9x")),ISNUMBER(FIND(MID(A11,6,1)&"x","0x1x2x3x4x5x6x7x8x9x")),ISNUMBER(FIND(MID(A11,7,1)&"x","0x1x2x3x4x5x6x7x8x9x")),ISNUMBER(FIND(MID(A11,8,1)&"x","0x1x2x3x4x5x6x7x8x9x")))),"活動IDはACT-と半角数字4桁",IF(COUNTIFS($A$8:$A$57,A11)>1,"活動IDが重複",IF(NOT(AND(ISTEXT(B11),LEN(B11)=8,EXACT(LEFT(B11,4),"STF-"),ISNUMBER(FIND(MID(B11,5,1)&"x","0x1x2x3x4x5x6x7x8x9x")),ISNUMBER(FIND(MID(B11,6,1)&"x","0x1x2x3x4x5x6x7x8x9x")),ISNUMBER(FIND(MID(B11,7,1)&"x","0x1x2x3x4x5x6x7x8x9x")),ISNUMBER(FIND(MID(B11,8,1)&"x","0x1x2x3x4x5x6x7x8x9x")))),"担当IDの形式を確認",IF(COUNTIFS(登録ID!$F$8:$F$27,B11)<>1,"担当が未登録/重複",IF(AND(COUNTA(C11)>0,NOT(AND(ISTEXT(C11),LEN(C11)=8,EXACT(LEFT(C11,4),"CUS-"),ISNUMBER(FIND(MID(C11,5,1)&"x","0x1x2x3x4x5x6x7x8x9x")),ISNUMBER(FIND(MID(C11,6,1)&"x","0x1x2x3x4x5x6x7x8x9x")),ISNUMBER(FIND(MID(C11,7,1)&"x","0x1x2x3x4x5x6x7x8x9x")),ISNUMBER(FIND(MID(C11,8,1)&"x","0x1x2x3x4x5x6x7x8x9x"))))),"顧客IDの形式を確認",IF(AND(COUNTA(C11)>0,COUNTIFS(登録ID!$A$8:$A$57,C11)<>1),"顧客が未登録/重複",IF(NOT(OR(D11="訪問",D11="オンライン",D11="電話",D11="メール",D11="事務",D11="その他")),"活動種別を確認",IF(NOT(OR(E11="実施",E11="中止",E11="未確認")),"実施区分を確認",IF(NOT(IF(ISNUMBER(F11),AND(F11>=43831,F11<73051,F11=INT(F11)),FALSE())),"活動日は時刻なしで必須",IF(NOT(IF(ISNUMBER(I11),AND(I11>=43831,I11<73051,I11=INT(I11)),FALSE())),"記録確認日は時刻なしで必須",IF(OR(F11>I11,I11>日報!$H$3),"活動日≦確認日≦基準日を確認",IF(AND(E11="実施",NOT(AND(IF(ISNUMBER(G11),AND(G11>=43831,G11<73051,ABS(G11*1440-ROUND(G11*1440,0))<0.00001),FALSE()),IF(ISNUMBER(H11),AND(H11>=43831,H11<73051,ABS(H11*1440-ROUND(H11*1440,0))<0.00001),FALSE())))),"実施は分単位の開始/終了日時が必須",IF(AND(E11<>"実施",COUNTA(G11:H11)>0),"中止/未確認の開始/終了は空欄",IF(AND(E11="実施",OR(G11<F11,G11>=F11+1,H11<=G11,H11>F11+1,H11>=I11+1)),"時間の順序・活動日/確認日を確認",IF(AND(E11="実施",COUNTIFS($B$8:$B$57,B11,$E$8:$E$57,"実施",$G$8:$G$57,"<"&H11,$H$8:$H$57,">"&G11)>1),"同じ担当の実施時間が重複","確認済み")))))))))))))))) -> 確認済み | M11: =IF(L11="","",IF(L11="確認済み",0,1)) -> 0 | N11: =IF(COUNTA(A11:I11)=0,IF(AND(L11="",M11="",J11="",K11=""),0,1),IF(NOT(AND(ISTEXT(L11),L11=IF(COUNTA(A11:I11)=0,"",IF(NOT(AND(ISTEXT(A11),LEN(A11)=8,EXACT(LEFT(A11,4),"ACT-"),ISNUMBER(FIND(MID(A11,5,1)&"x","0x1x2x3x4x5x6x7x8x9x")),ISNUMBER(FIND(MID(A11,6,1)&"x","0x1x2x3x4x5x6x7x8x9x")),ISNUMBER(FIND(MID(A11,7,1)&"x","0x1x2x3x4x5x6x7x8x9x")),ISNUMBER(FIND(MID(A11,8,1)&"x","0x1x2x3x4x5x6x7x8x9x")))),"活動IDはACT-と半角数字4桁",IF(COUNTIFS($A$8:$A$57,A11)>1,"活動IDが重複",IF(NOT(AND(ISTEXT(B11),LEN(B11)=8,EXACT(LEFT(B11,4),"STF-"),ISNUMBER(FIND(MID(B11,5,1)&"x","0x1x2x3x4x5x6x7x8x9x")),ISNUMBER(FIND(MID(B11,6,1)&"x","0x1x2x3x4x5x6x7x8x9x")),ISNUMBER(FIND(MID(B11,7,1)&"x","0x1x2x3x4x5x6x7x8x9x")),ISNUMBER(FIND(MID(B11,8,1)&"x","0x1x2x3x4x5x6x7x8x9x")))),"担当IDの形式を確認",IF(COUNTIFS(登録ID!$F$8:$F$27,B11)<>1,"担当が未登録/重複",IF(AND(COUNTA(C11)>0,NOT(AND(ISTEXT(C11),LEN(C11)=8,EXACT(LEFT(C11,4),"CUS-"),ISNUMBER(FIND(MID(C11,5,1)&"x","0x1x2x3x4x5x6x7x8x9x")),ISNUMBER(FIND(MID(C11,6,1)&"x","0x1x2x3x4x5x6x7x8x9x")),ISNUMBER(FIND(MID(C11,7,1)&"x","0x1x2x3x4x5x6x7x8x9x")),ISNUMBER(FIND(MID(C11,8,1)&"x","0x1x2x3x4x5x6x7x8x9x"))))),"顧客IDの形式を確認",IF(AND(COUNTA(C11)>0,COUNTIFS(登録ID!$A$8:$A$57,C11)<>1),"顧客が未登録/重複",IF(NOT(OR(D11="訪問",D11="オンライン",D11="電話",D11="メール",D11="事務",D11="その他")),"活動種別を確認",IF(NOT(OR(E11="実施",E11="中止",E11="未確認")),"実施区分を確認",IF(NOT(IF(ISNUMBER(F11),AND(F11>=43831,F11<73051,F11=INT(F11)),FALSE())),"活動日は時刻なしで必須",IF(NOT(IF(ISNUMBER(I11),AND(I11>=43831,I11<73051,I11=INT(I11)),FALSE())),"記録確認日は時刻なしで必須",IF(OR(F11>I11,I11>日報!$H$3),"活動日≦確認日≦基準日を確認",IF(AND(E11="実施",NOT(AND(IF(ISNUMBER(G11),AND(G11>=43831,G11<73051,ABS(G11*1440-ROUND(G11*1440,0))<0.00001),FALSE()),IF(ISNUMBER(H11),AND(H11>=43831,H11<73051,ABS(H11*1440-ROUND(H11*1440,0))<0.00001),FALSE())))),"実施は分単位の開始/終了日時が必須",IF(AND(E11<>"実施",COUNTA(G11:H11)>0),"中止/未確認の開始/終了は空欄",IF(AND(E11="実施",OR(G11<F11,G11>=F11+1,H11<=G11,H11>F11+1,H11>=I11+1)),"時間の順序・活動日/確認日を確認",IF(AND(E11="実施",COUNTIFS($B$8:$B$57,B11,$E$8:$E$57,"実施",$G$8:$G$57,"<"&H11,$H$8:$H$57,">"&G11)>1),"同じ担当の実施時間が重複","確認済み")))))))))))))))),ISNUMBER(M11),M11=IF(L11="確認済み",0,1))),1,IF(M11<>0,0,IF(AND(IF(E11="実施",ISNUMBER(J11),ISTEXT(J11)),J11=IF(E11="実施",ROUND((H11-G11)*1440,0),""),ISNUMBER(K11),K11=IF(AND(B11=日報!$E$3,F11=日報!$B$3),COUNTIFS($B$8:B11,B11,$F$8:F11,F11),0)),0,1)))) -> 0
A12: ACT-0005 | B12: STF-0001 | C12: CUS-0003 | D12: 電話 | E12: 未確認 | F12: 46311 | I12: 46312 | J12: =IF(L12="","",IF(M12<>0,NA(),IF(E12="実施",ROUND((H12-G12)*1440,0),""))) | K12: =IF(L12="","",IF(M12<>0,NA(),IF(AND(B12=日報!$E$3,F12=日報!$B$3),COUNTIFS($B$8:B12,B12,$F$8:F12,F12),0))) -> 5 | L12: =IF(COUNTA(A12:I12)=0,"",IF(NOT(AND(ISTEXT(A12),LEN(A12)=8,EXACT(LEFT(A12,4),"ACT-"),ISNUMBER(FIND(MID(A12,5,1)&"x","0x1x2x3x4x5x6x7x8x9x")),ISNUMBER(FIND(MID(A12,6,1)&"x","0x1x2x3x4x5x6x7x8x9x")),ISNUMBER(FIND(MID(A12,7,1)&"x","0x1x2x3x4x5x6x7x8x9x")),ISNUMBER(FIND(MID(A12,8,1)&"x","0x1x2x3x4x5x6x7x8x9x")))),"活動IDはACT-と半角数字4桁",IF(COUNTIFS($A$8:$A$57,A12)>1,"活動IDが重複",IF(NOT(AND(ISTEXT(B12),LEN(B12)=8,EXACT(LEFT(B12,4),"STF-"),ISNUMBER(FIND(MID(B12,5,1)&"x","0x1x2x3x4x5x6x7x8x9x")),ISNUMBER(FIND(MID(B12,6,1)&"x","0x1x2x3x4x5x6x7x8x9x")),ISNUMBER(FIND(MID(B12,7,1)&"x","0x1x2x3x4x5x6x7x8x9x")),ISNUMBER(FIND(MID(B12,8,1)&"x","0x1x2x3x4x5x6x7x8x9x")))),"担当IDの形式を確認",IF(COUNTIFS(登録ID!$F$8:$F$27,B12)<>1,"担当が未登録/重複",IF(AND(COUNTA(C12)>0,NOT(AND(ISTEXT(C12),LEN(C12)=8,EXACT(LEFT(C12,4),"CUS-"),ISNUMBER(FIND(MID(C12,5,1)&"x","0x1x2x3x4x5x6x7x8x9x")),ISNUMBER(FIND(MID(C12,6,1)&"x","0x1x2x3x4x5x6x7x8x9x")),ISNUMBER(FIND(MID(C12,7,1)&"x","0x1x2x3x4x5x6x7x8x9x")),ISNUMBER(FIND(MID(C12,8,1)&"x","0x1x2x3x4x5x6x7x8x9x"))))),"顧客IDの形式を確認",IF(AND(COUNTA(C12)>0,COUNTIFS(登録ID!$A$8:$A$57,C12)<>1),"顧客が未登録/重複",IF(NOT(OR(D12="訪問",D12="オンライン",D12="電話",D12="メール",D12="事務",D12="その他")),"活動種別を確認",IF(NOT(OR(E12="実施",E12="中止",E12="未確認")),"実施区分を確認",IF(NOT(IF(ISNUMBER(F12),AND(F12>=43831,F12<73051,F12=INT(F12)),FALSE())),"活動日は時刻なしで必須",IF(NOT(IF(ISNUMBER(I12),AND(I12>=43831,I12<73051,I12=INT(I12)),FALSE())),"記録確認日は時刻なしで必須",IF(OR(F12>I12,I12>日報!$H$3),"活動日≦確認日≦基準日を確認",IF(AND(E12="実施",NOT(AND(IF(ISNUMBER(G12),AND(G12>=43831,G12<73051,ABS(G12*1440-ROUND(G12*1440,0))<0.00001),FALSE()),IF(ISNUMBER(H12),AND(H12>=43831,H12<73051,ABS(H12*1440-ROUND(H12*1440,0))<0.00001),FALSE())))),"実施は分単位の開始/終了日時が必須",IF(AND(E12<>"実施",COUNTA(G12:H12)>0),"中止/未確認の開始/終了は空欄",IF(AND(E12="実施",OR(G12<F12,G12>=F12+1,H12<=G12,H12>F12+1,H12>=I12+1)),"時間の順序・活動日/確認日を確認",IF(AND(E12="実施",COUNTIFS($B$8:$B$57,B12,$E$8:$E$57,"実施",$G$8:$G$57,"<"&H12,$H$8:$H$57,">"&G12)>1),"同じ担当の実施時間が重複","確認済み")))))))))))))))) -> 確認済み | M12: =IF(L12="","",IF(L12="確認済み",0,1)) -> 0 | N12: =IF(COUNTA(A12:I12)=0,IF(AND(L12="",M12="",J12="",K12=""),0,1),IF(NOT(AND(ISTEXT(L12),L12=IF(COUNTA(A12:I12)=0,"",IF(NOT(AND(ISTEXT(A12),LEN(A12)=8,EXACT(LEFT(A12,4),"ACT-"),ISNUMBER(FIND(MID(A12,5,1)&"x","0x1x2x3x4x5x6x7x8x9x")),ISNUMBER(FIND(MID(A12,6,1)&"x","0x1x2x3x4x5x6x7x8x9x")),ISNUMBER(FIND(MID(A12,7,1)&"x","0x1x2x3x4x5x6x7x8x9x")),ISNUMBER(FIND(MID(A12,8,1)&"x","0x1x2x3x4x5x6x7x8x9x")))),"活動IDはACT-と半角数字4桁",IF(COUNTIFS($A$8:$A$57,A12)>1,"活動IDが重複",IF(NOT(AND(ISTEXT(B12),LEN(B12)=8,EXACT(LEFT(B12,4),"STF-"),ISNUMBER(FIND(MID(B12,5,1)&"x","0x1x2x3x4x5x6x7x8x9x")),ISNUMBER(FIND(MID(B12,6,1)&"x","0x1x2x3x4x5x6x7x8x9x")),ISNUMBER(FIND(MID(B12,7,1)&"x","0x1x2x3x4x5x6x7x8x9x")),ISNUMBER(FIND(MID(B12,8,1)&"x","0x1x2x3x4x5x6x7x8x9x")))),"担当IDの形式を確認",IF(COUNTIFS(登録ID!$F$8:$F$27,B12)<>1,"担当が未登録/重複",IF(AND(COUNTA(C12)>0,NOT(AND(ISTEXT(C12),LEN(C12)=8,EXACT(LEFT(C12,4),"CUS-"),ISNUMBER(FIND(MID(C12,5,1)&"x","0x1x2x3x4x5x6x7x8x9x")),ISNUMBER(FIND(MID(C12,6,1)&"x","0x1x2x3x4x5x6x7x8x9x")),ISNUMBER(FIND(MID(C12,7,1)&"x","0x1x2x3x4x5x6x7x8x9x")),ISNUMBER(FIND(MID(C12,8,1)&"x","0x1x2x3x4x5x6x7x8x9x"))))),"顧客IDの形式を確認",IF(AND(COUNTA(C12)>0,COUNTIFS(登録ID!$A$8:$A$57,C12)<>1),"顧客が未登録/重複",IF(NOT(OR(D12="訪問",D12="オンライン",D12="電話",D12="メール",D12="事務",D12="その他")),"活動種別を確認",IF(NOT(OR(E12="実施",E12="中止",E12="未確認")),"実施区分を確認",IF(NOT(IF(ISNUMBER(F12),AND(F12>=43831,F12<73051,F12=INT(F12)),FALSE())),"活動日は時刻なしで必須",IF(NOT(IF(ISNUMBER(I12),AND(I12>=43831,I12<73051,I12=INT(I12)),FALSE())),"記録確認日は時刻なしで必須",IF(OR(F12>I12,I12>日報!$H$3),"活動日≦確認日≦基準日を確認",IF(AND(E12="実施",NOT(AND(IF(ISNUMBER(G12),AND(G12>=43831,G12<73051,ABS(G12*1440-ROUND(G12*1440,0))<0.00001),FALSE()),IF(ISNUMBER(H12),AND(H12>=43831,H12<73051,ABS(H12*1440-ROUND(H12*1440,0))<0.00001),FALSE())))),"実施は分単位の開始/終了日時が必須",IF(AND(E12<>"実施",COUNTA(G12:H12)>0),"中止/未確認の開始/終了は空欄",IF(AND(E12="実施",OR(G12<F12,G12>=F12+1,H12<=G12,H12>F12+1,H12>=I12+1)),"時間の順序・活動日/確認日を確認",IF(AND(E12="実施",COUNTIFS($B$8:$B$57,B12,$E$8:$E$57,"実施",$G$8:$G$57,"<"&H12,$H$8:$H$57,">"&G12)>1),"同じ担当の実施時間が重複","確認済み")))))))))))))))),ISNUMBER(M12),M12=IF(L12="確認済み",0,1))),1,IF(M12<>0,0,IF(AND(IF(E12="実施",ISNUMBER(J12),ISTEXT(J12)),J12=IF(E12="実施",ROUND((H12-G12)*1440,0),""),ISNUMBER(K12),K12=IF(AND(B12=日報!$E$3,F12=日報!$B$3),COUNTIFS($B$8:B12,B12,$F$8:F12,F12),0)),0,1)))) -> 0
A13: ACT-0006 | B13: STF-0002 | C13: CUS-0003 | D13: 訪問 | E13: 実施 | F13: 46311 | G13: 46311.375 | H13: 46311.417 | I13: 46311 | J13: =IF(L13="","",IF(M13<>0,NA(),IF(E13="実施",ROUND((H13-G13)*1440,0),""))) -> 60 | K13: =IF(L13="","",IF(M13<>0,NA(),IF(AND(B13=日報!$E$3,F13=日報!$B$3),COUNTIFS($B$8:B13,B13,$F$8:F13,F13),0))) -> 0 | L13: =IF(COUNTA(A13:I13)=0,"",IF(NOT(AND(ISTEXT(A13),LEN(A13)=8,EXACT(LEFT(A13,4),"ACT-"),ISNUMBER(FIND(MID(A13,5,1)&"x","0x1x2x3x4x5x6x7x8x9x")),ISNUMBER(FIND(MID(A13,6,1)&"x","0x1x2x3x4x5x6x7x8x9x")),ISNUMBER(FIND(MID(A13,7,1)&"x","0x1x2x3x4x5x6x7x8x9x")),ISNUMBER(FIND(MID(A13,8,1)&"x","0x1x2x3x4x5x6x7x8x9x")))),"活動IDはACT-と半角数字4桁",IF(COUNTIFS($A$8:$A$57,A13)>1,"活動IDが重複",IF(NOT(AND(ISTEXT(B13),LEN(B13)=8,EXACT(LEFT(B13,4),"STF-"),ISNUMBER(FIND(MID(B13,5,1)&"x","0x1x2x3x4x5x6x7x8x9x")),ISNUMBER(FIND(MID(B13,6,1)&"x","0x1x2x3x4x5x6x7x8x9x")),ISNUMBER(FIND(MID(B13,7,1)&"x","0x1x2x3x4x5x6x7x8x9x")),ISNUMBER(FIND(MID(B13,8,1)&"x","0x1x2x3x4x5x6x7x8x9x")))),"担当IDの形式を確認",IF(COUNTIFS(登録ID!$F$8:$F$27,B13)<>1,"担当が未登録/重複",IF(AND(COUNTA(C13)>0,NOT(AND(ISTEXT(C13),LEN(C13)=8,EXACT(LEFT(C13,4),"CUS-"),ISNUMBER(FIND(MID(C13,5,1)&"x","0x1x2x3x4x5x6x7x8x9x")),ISNUMBER(FIND(MID(C13,6,1)&"x","0x1x2x3x4x5x6x7x8x9x")),ISNUMBER(FIND(MID(C13,7,1)&"x","0x1x2x3x4x5x6x7x8x9x")),ISNUMBER(FIND(MID(C13,8,1)&"x","0x1x2x3x4x5x6x7x8x9x"))))),"顧客IDの形式を確認",IF(AND(COUNTA(C13)>0,COUNTIFS(登録ID!$A$8:$A$57,C13)<>1),"顧客が未登録/重複",IF(NOT(OR(D13="訪問",D13="オンライン",D13="電話",D13="メール",D13="事務",D13="その他")),"活動種別を確認",IF(NOT(OR(E13="実施",E13="中止",E13="未確認")),"実施区分を確認",IF(NOT(IF(ISNUMBER(F13),AND(F13>=43831,F13<73051,F13=INT(F13)),FALSE())),"活動日は時刻なしで必須",IF(NOT(IF(ISNUMBER(I13),AND(I13>=43831,I13<73051,I13=INT(I13)),FALSE())),"記録確認日は時刻なしで必須",IF(OR(F13>I13,I13>日報!$H$3),"活動日≦確認日≦基準日を確認",IF(AND(E13="実施",NOT(AND(IF(ISNUMBER(G13),AND(G13>=43831,G13<73051,ABS(G13*1440-ROUND(G13*1440,0))<0.00001),FALSE()),IF(ISNUMBER(H13),AND(H13>=43831,H13<73051,ABS(H13*1440-ROUND(H13*1440,0))<0.00001),FALSE())))),"実施は分単位の開始/終了日時が必須",IF(AND(E13<>"実施",COUNTA(G13:H13)>0),"中止/未確認の開始/終了は空欄",IF(AND(E13="実施",OR(G13<F13,G13>=F13+1,H13<=G13,H13>F13+1,H13>=I13+1)),"時間の順序・活動日/確認日を確認",IF(AND(E13="実施",COUNTIFS($B$8:$B$57,B13,$E$8:$E$57,"実施",$G$8:$G$57,"<"&H13,$H$8:$H$57,">"&G13)>1),"同じ担当の実施時間が重複","確認済み")))))))))))))))) -> 確認済み | M13: =IF(L13="","",IF(L13="確認済み",0,1)) -> 0 | N13: =IF(COUNTA(A13:I13)=0,IF(AND(L13="",M13="",J13="",K13=""),0,1),IF(NOT(AND(ISTEXT(L13),L13=IF(COUNTA(A13:I13)=0,"",IF(NOT(AND(ISTEXT(A13),LEN(A13)=8,EXACT(LEFT(A13,4),"ACT-"),ISNUMBER(FIND(MID(A13,5,1)&"x","0x1x2x3x4x5x6x7x8x9x")),ISNUMBER(FIND(MID(A13,6,1)&"x","0x1x2x3x4x5x6x7x8x9x")),ISNUMBER(FIND(MID(A13,7,1)&"x","0x1x2x3x4x5x6x7x8x9x")),ISNUMBER(FIND(MID(A13,8,1)&"x","0x1x2x3x4x5x6x7x8x9x")))),"活動IDはACT-と半角数字4桁",IF(COUNTIFS($A$8:$A$57,A13)>1,"活動IDが重複",IF(NOT(AND(ISTEXT(B13),LEN(B13)=8,EXACT(LEFT(B13,4),"STF-"),ISNUMBER(FIND(MID(B13,5,1)&"x","0x1x2x3x4x5x6x7x8x9x")),ISNUMBER(FIND(MID(B13,6,1)&"x","0x1x2x3x4x5x6x7x8x9x")),ISNUMBER(FIND(MID(B13,7,1)&"x","0x1x2x3x4x5x6x7x8x9x")),ISNUMBER(FIND(MID(B13,8,1)&"x","0x1x2x3x4x5x6x7x8x9x")))),"担当IDの形式を確認",IF(COUNTIFS(登録ID!$F$8:$F$27,B13)<>1,"担当が未登録/重複",IF(AND(COUNTA(C13)>0,NOT(AND(ISTEXT(C13),LEN(C13)=8,EXACT(LEFT(C13,4),"CUS-"),ISNUMBER(FIND(MID(C13,5,1)&"x","0x1x2x3x4x5x6x7x8x9x")),ISNUMBER(FIND(MID(C13,6,1)&"x","0x1x2x3x4x5x6x7x8x9x")),ISNUMBER(FIND(MID(C13,7,1)&"x","0x1x2x3x4x5x6x7x8x9x")),ISNUMBER(FIND(MID(C13,8,1)&"x","0x1x2x3x4x5x6x7x8x9x"))))),"顧客IDの形式を確認",IF(AND(COUNTA(C13)>0,COUNTIFS(登録ID!$A$8:$A$57,C13)<>1),"顧客が未登録/重複",IF(NOT(OR(D13="訪問",D13="オンライン",D13="電話",D13="メール",D13="事務",D13="その他")),"活動種別を確認",IF(NOT(OR(E13="実施",E13="中止",E13="未確認")),"実施区分を確認",IF(NOT(IF(ISNUMBER(F13),AND(F13>=43831,F13<73051,F13=INT(F13)),FALSE())),"活動日は時刻なしで必須",IF(NOT(IF(ISNUMBER(I13),AND(I13>=43831,I13<73051,I13=INT(I13)),FALSE())),"記録確認日は時刻なしで必須",IF(OR(F13>I13,I13>日報!$H$3),"活動日≦確認日≦基準日を確認",IF(AND(E13="実施",NOT(AND(IF(ISNUMBER(G13),AND(G13>=43831,G13<73051,ABS(G13*1440-ROUND(G13*1440,0))<0.00001),FALSE()),IF(ISNUMBER(H13),AND(H13>=43831,H13<73051,ABS(H13*1440-ROUND(H13*1440,0))<0.00001),FALSE())))),"実施は分単位の開始/終了日時が必須",IF(AND(E13<>"実施",COUNTA(G13:H13)>0),"中止/未確認の開始/終了は空欄",IF(AND(E13="実施",OR(G13<F13,G13>=F13+1,H13<=G13,H13>F13+1,H13>=I13+1)),"時間の順序・活動日/確認日を確認",IF(AND(E13="実施",COUNTIFS($B$8:$B$57,B13,$E$8:$E$57,"実施",$G$8:$G$57,"<"&H13,$H$8:$H$57,">"&G13)>1),"同じ担当の実施時間が重複","確認済み")))))))))))))))),ISNUMBER(M13),M13=IF(L13="確認済み",0,1))),1,IF(M13<>0,0,IF(AND(IF(E13="実施",ISNUMBER(J13),ISTEXT(J13)),J13=IF(E13="実施",ROUND((H13-G13)*1440,0),""),ISNUMBER(K13),K13=IF(AND(B13=日報!$E$3,F13=日報!$B$3),COUNTIFS($B$8:B13,B13,$F$8:F13,F13),0)),0,1)))) -> 0
