Workbook

Sheet 入金状況
A2: 売上と入金の確認
A3: 基準日 | B3: 46309 | D3: =IF(AND(ISNUMBER(B3),B3>=43831,B3<=73050,B3=INT(B3)),"確認済み","基準日を確認") -> 確認済み | F3: 入力要確認 | H3: =SUM(売上!G8:G57)+SUM(入金!G8:G107) -> 0
A4: 売上額（円） | B4: =IF(AND($D$3="確認済み",$H$3=0),SUM(C8:C57),NA()) -> 300000 | D4: 入金額（円） | E4: =IF(AND($D$3="確認済み",$H$3=0),SUM(D8:D57),NA()) -> 160000 | G4: 未入金（円） | H4: =IF(AND($D$3="確認済み",$H$3=0),SUMIF(E8:E57,">0",E8:E57),NA()) -> 140000
A5: 期限超過（円） | B5: =IF(AND($D$3="確認済み",$H$3=0),SUMIFS(E8:E57,G8:G57,">0",E8:E57,">0"),NA()) -> 60000 | D5: 過入金（円） | E5: =IF(AND($D$3="確認済み",$H$3=0),-SUMIF(E8:E57,"<0",E8:E57),NA()) -> 0 | G5: 対象件数 | H5: =IF(AND($D$3="確認済み",$H$3=0),COUNTIFS(売上!B8:B57,"<="&$B$3,売上!F8:F57,"確認済み"),NA()) -> 4
A6: 合計差額（円） | B6: =IF(AND($D$3="確認済み",$H$3=0),B4-E4-H4+E5,NA()) -> 0 | D6: 売上−入金−未入金＋過入金
A7: 請求ID | B7: 取引先 | C7: 売上額（円） | D7: 入金額（円） | E7: 残額（円） | F7: 入金期日 | G7: 超過日数 | H7: 状態
A8: =IF(売上!F8="","",売上!A8) -> INV-0001 | B8: =IF(売上!F8="","",売上!C8) -> 架空商店A | C8: =IF(売上!F8="","",IF(NOT(AND($D$3="確認済み",$H$3=0)),NA(),IF(売上!B8>$B$3,"",売上!E8))) -> 100000 | D8: =IF(売上!F8="","",IF(NOT(AND($D$3="確認済み",$H$3=0)),NA(),IF(売上!B8>$B$3,"",SUMIFS(入金!$F$8:$F$107,入金!$B$8:$B$107,A8)))) -> 100000 | E8: =IF(売上!F8="","",IF(NOT(AND($D$3="確認済み",$H$3=0)),NA(),IF(売上!B8>$B$3,"",C8-D8))) -> 0 | F8: =IF(売上!F8="","",売上!D8) -> 46295 | G8: =IF(売上!F8="","",IF(NOT(AND($D$3="確認済み",$H$3=0)),NA(),IF(売上!B8>$B$3,"",IF(E8>0,MAX(0,$B$3-F8),0)))) -> 0 | H8: =IF(売上!F8="","",IF(NOT(AND($D$3="確認済み",$H$3=0)),"入力を確認",IF(売上!B8>$B$3,"基準日より後",IF(E8<0,"過入金",IF(E8=0,IF(C8=0,"入金不要","入金済"),IF(G8>0,IF(D8>0,"期限超過・一部入金","期限超過"),IF(D8>0,"一部入金","未入金"))))))) -> 入金済
A9: =IF(売上!F9="","",売上!A9) -> INV-0002 | B9: =IF(売上!F9="","",売上!C9) -> 架空商店B | C9: =IF(売上!F9="","",IF(NOT(AND($D$3="確認済み",$H$3=0)),NA(),IF(売上!B9>$B$3,"",売上!E9))) -> 120000 | D9: =IF(売上!F9="","",IF(NOT(AND($D$3="確認済み",$H$3=0)),NA(),IF(売上!B9>$B$3,"",SUMIFS(入金!$F$8:$F$107,入金!$B$8:$B$107,A9)))) -> 60000 | E9: =IF(売上!F9="","",IF(NOT(AND($D$3="確認済み",$H$3=0)),NA(),IF(売上!B9>$B$3,"",C9-D9))) -> 60000 | F9: =IF(売上!F9="","",売上!D9) -> 46305 | G9: =IF(売上!F9="","",IF(NOT(AND($D$3="確認済み",$H$3=0)),NA(),IF(売上!B9>$B$3,"",IF(E9>0,MAX(0,$B$3-F9),0)))) -> 4 | H9: =IF(売上!F9="","",IF(NOT(AND($D$3="確認済み",$H$3=0)),"入力を確認",IF(売上!B9>$B$3,"基準日より後",IF(E9<0,"過入金",IF(E9=0,IF(C9=0,"入金不要","入金済"),IF(G9>0,IF(D9>0,"期限超過・一部入金","期限超過"),IF(D9>0,"一部入金","未入金"))))))) -> 期限超過・一部入金
A10: =IF(売上!F10="","",売上!A10) -> INV-0003 | B10: =IF(売上!F10="","",売上!C10) -> 架空商店C | C10: =IF(売上!F10="","",IF(NOT(AND($D$3="確認済み",$H$3=0)),NA(),IF(売上!B10>$B$3,"",売上!E10))) -> 80000 | D10: =IF(売上!F10="","",IF(NOT(AND($D$3="確認済み",$H$3=0)),NA(),IF(売上!B10>$B$3,"",SUMIFS(入金!$F$8:$F$107,入金!$B$8:$B$107,A10)))) -> 0 | E10: =IF(売上!F10="","",IF(NOT(AND($D$3="確認済み",$H$3=0)),NA(),IF(売上!B10>$B$3,"",C10-D10))) -> 80000 | F10: =IF(売上!F10="","",売上!D10) -> 46326 | G10: =IF(売上!F10="","",IF(NOT(AND($D$3="確認済み",$H$3=0)),NA(),IF(売上!B10>$B$3,"",IF(E10>0,MAX(0,$B$3-F10),0)))) -> 0 | H10: =IF(売上!F10="","",IF(NOT(AND($D$3="確認済み",$H$3=0)),"入力を確認",IF(売上!B10>$B$3,"基準日より後",IF(E10<0,"過入金",IF(E10=0,IF(C10=0,"入金不要","入金済"),IF(G10>0,IF(D10>0,"期限超過・一部入金","期限超過"),IF(D10>0,"一部入金","未入金"))))))) -> 未入金
A11: =IF(売上!F11="","",売上!A11) -> INV-0004 | B11: =IF(売上!F11="","",売上!C11) -> 架空商店D | C11: =IF(売上!F11="","",IF(NOT(AND($D$3="確認済み",$H$3=0)),NA(),IF(売上!B11>$B$3,"",売上!E11))) | D11: =IF(売上!F11="","",IF(NOT(AND($D$3="確認済み",$H$3=0)),NA(),IF(売上!B11>$B$3,"",SUMIFS(入金!$F$8:$F$107,入金!$B$8:$B$107,A11)))) | E11: =IF(売上!F11="","",IF(NOT(AND($D$3="確認済み",$H$3=0)),NA(),IF(売上!B11>$B$3,"",C11-D11))) | F11: =IF(売上!F11="","",売上!D11) -> 46341 | G11: =IF(売上!F11="","",IF(NOT(AND($D$3="確認済み",$H$3=0)),NA(),IF(売上!B11>$B$3,"",IF(E11>0,MAX(0,$B$3-F11),0)))) | H11: =IF(売上!F11="","",IF(NOT(AND($D$3="確認済み",$H$3=0)),"入力を確認",IF(売上!B11>$B$3,"基準日より後",IF(E11<0,"過入金",IF(E11=0,IF(C11=0,"入金不要","入金済"),IF(G11>0,IF(D11>0,"期限超過・一部入金","期限超過"),IF(D11>0,"一部入金","未入金"))))))) -> 基準日より後
A12: =IF(売上!F12="","",売上!A12) -> INV-0005 | B12: =IF(売上!F12="","",売上!C12) -> 架空商店E | C12: =IF(売上!F12="","",IF(NOT(AND($D$3="確認済み",$H$3=0)),NA(),IF(売上!B12>$B$3,"",売上!E12))) -> 0 | D12: =IF(売上!F12="","",IF(NOT(AND($D$3="確認済み",$H$3=0)),NA(),IF(売上!B12>$B$3,"",SUMIFS(入金!$F$8:$F$107,入金!$B$8:$B$107,A12)))) -> 0 | E12: =IF(売上!F12="","",IF(NOT(AND($D$3="確認済み",$H$3=0)),NA(),IF(売上!B12>$B$3,"",C12-D12))) -> 0 | F12: =IF(売上!F12="","",売上!D12) -> 46305 | G12: =IF(売上!F12="","",IF(NOT(AND($D$3="確認済み",$H$3=0)),NA(),IF(売上!B12>$B$3,"",IF(E12>0,MAX(0,$B$3-F12),0)))) -> 0 | H12: =IF(売上!F12="","",IF(NOT(AND($D$3="確認済み",$H$3=0)),"入力を確認",IF(売上!B12>$B$3,"基準日より後",IF(E12<0,"過入金",IF(E12=0,IF(C12=0,"入金不要","入金済"),IF(G12>0,IF(D12>0,"期限超過・一部入金","期限超過"),IF(D12>0,"一部入金","未入金"))))))) -> 入金不要
A13: =IF(売上!F13="","",売上!A13) | B13: =IF(売上!F13="","",売上!C13) | C13: =IF(売上!F13="","",IF(NOT(AND($D$3="確認済み",$H$3=0)),NA(),IF(売上!B13>$B$3,"",売上!E13))) | D13: =IF(売上!F13="","",IF(NOT(AND($D$3="確認済み",$H$3=0)),NA(),IF(売上!B13>$B$3,"",SUMIFS(入金!$F$8:$F$107,入金!$B$8:$B$107,A13)))) | E13: =IF(売上!F13="","",IF(NOT(AND($D$3="確認済み",$H$3=0)),NA(),IF(売上!B13>$B$3,"",C13-D13))) | F13: =IF(売上!F13="","",売上!D13) | G13: =IF(売上!F13="","",IF(NOT(AND($D$3="確認済み",$H$3=0)),NA(),IF(売上!B13>$B$3,"",IF(E13>0,MAX(0,$B$3-F13),0)))) | H13: =IF(売上!F13="","",IF(NOT(AND($D$3="確認済み",$H$3=0)),"入力を確認",IF(売上!B13>$B$3,"基準日より後",IF(E13<0,"過入金",IF(E13=0,IF(C13=0,"入金不要","入金済"),IF(G13>0,IF(D13>0,"期限超過・一部入金","期限超過"),IF(D13>0,"一部入金","未入金")))))))
A14: =IF(売上!F14="","",売上!A14) | B14: =IF(売上!F14="","",売上!C14) | C14: =IF(売上!F14="","",IF(NOT(AND($D$3="確認済み",$H$3=0)),NA(),IF(売上!B14>$B$3,"",売上!E14))) | D14: =IF(売上!F14="","",IF(NOT(AND($D$3="確認済み",$H$3=0)),NA(),IF(売上!B14>$B$3,"",SUMIFS(入金!$F$8:$F$107,入金!$B$8:$B$107,A14)))) | E14: =IF(売上!F14="","",IF(NOT(AND($D$3="確認済み",$H$3=0)),NA(),IF(売上!B14>$B$3,"",C14-D14))) | F14: =IF(売上!F14="","",売上!D14) | G14: =IF(売上!F14="","",IF(NOT(AND($D$3="確認済み",$H$3=0)),NA(),IF(売上!B14>$B$3,"",IF(E14>0,MAX(0,$B$3-F14),0)))) | H14: =IF(売上!F14="","",IF(NOT(AND($D$3="確認済み",$H$3=0)),"入力を確認",IF(売上!B14>$B$3,"基準日より後",IF(E14<0,"過入金",IF(E14=0,IF(C14=0,"入金不要","入金済"),IF(G14>0,IF(D14>0,"期限超過・一部入金","期限超過"),IF(D14>0,"一部入金","未入金")))))))
A15: =IF(売上!F15="","",売上!A15) | B15: =IF(売上!F15="","",売上!C15) | C15: =IF(売上!F15="","",IF(NOT(AND($D$3="確認済み",$H$3=0)),NA(),IF(売上!B15>$B$3,"",売上!E15))) | D15: =IF(売上!F15="","",IF(NOT(AND($D$3="確認済み",$H$3=0)),NA(),IF(売上!B15>$B$3,"",SUMIFS(入金!$F$8:$F$107,入金!$B$8:$B$107,A15)))) | E15: =IF(売上!F15="","",IF(NOT(AND($D$3="確認済み",$H$3=0)),NA(),IF(売上!B15>$B$3,"",C15-D15))) | F15: =IF(売上!F15="","",売上!D15) | G15: =IF(売上!F15="","",IF(NOT(AND($D$3="確認済み",$H$3=0)),NA(),IF(売上!B15>$B$3,"",IF(E15>0,MAX(0,$B$3-F15),0)))) | H15: =IF(売上!F15="","",IF(NOT(AND($D$3="確認済み",$H$3=0)),"入力を確認",IF(売上!B15>$B$3,"基準日より後",IF(E15<0,"過入金",IF(E15=0,IF(C15=0,"入金不要","入金済"),IF(G15>0,IF(D15>0,"期限超過・一部入金","期限超過"),IF(D15>0,"一部入金","未入金")))))))
A16: =IF(売上!F16="","",売上!A16) | B16: =IF(売上!F16="","",売上!C16) | C16: =IF(売上!F16="","",IF(NOT(AND($D$3="確認済み",$H$3=0)),NA(),IF(売上!B16>$B$3,"",売上!E16))) | D16: =IF(売上!F16="","",IF(NOT(AND($D$3="確認済み",$H$3=0)),NA(),IF(売上!B16>$B$3,"",SUMIFS(入金!$F$8:$F$107,入金!$B$8:$B$107,A16)))) | E16: =IF(売上!F16="","",IF(NOT(AND($D$3="確認済み",$H$3=0)),NA(),IF(売上!B16>$B$3,"",C16-D16))) | F16: =IF(売上!F16="","",売上!D16) | G16: =IF(売上!F16="","",IF(NOT(AND($D$3="確認済み",$H$3=0)),NA(),IF(売上!B16>$B$3,"",IF(E16>0,MAX(0,$B$3-F16),0)))) | H16: =IF(売上!F16="","",IF(NOT(AND($D$3="確認済み",$H$3=0)),"入力を確認",IF(売上!B16>$B$3,"基準日より後",IF(E16<0,"過入金",IF(E16=0,IF(C16=0,"入金不要","入金済"),IF(G16>0,IF(D16>0,"期限超過・一部入金","期限超過"),IF(D16>0,"一部入金","未入金")))))))
A17: =IF(売上!F17="","",売上!A17) | B17: =IF(売上!F17="","",売上!C17) | C17: =IF(売上!F17="","",IF(NOT(AND($D$3="確認済み",$H$3=0)),NA(),IF(売上!B17>$B$3,"",売上!E17))) | D17: =IF(売上!F17="","",IF(NOT(AND($D$3="確認済み",$H$3=0)),NA(),IF(売上!B17>$B$3,"",SUMIFS(入金!$F$8:$F$107,入金!$B$8:$B$107,A17)))) | E17: =IF(売上!F17="","",IF(NOT(AND($D$3="確認済み",$H$3=0)),NA(),IF(売上!B17>$B$3,"",C17-D17))) | F17: =IF(売上!F17="","",売上!D17) | G17: =IF(売上!F17="","",IF(NOT(AND($D$3="確認済み",$H$3=0)),NA(),IF(売上!B17>$B$3,"",IF(E17>0,MAX(0,$B$3-F17),0)))) | H17: =IF(売上!F17="","",IF(NOT(AND($D$3="確認済み",$H$3=0)),"入力を確認",IF(売上!B17>$B$3,"基準日より後",IF(E17<0,"過入金",IF(E17=0,IF(C17=0,"入金不要","入金済"),IF(G17>0,IF(D17>0,"期限超過・一部入金","期限超過"),IF(D17>0,"一部入金","未入金")))))))
A18: =IF(売上!F18="","",売上!A18) | B18: =IF(売上!F18="","",売上!C18) | C18: =IF(売上!F18="","",IF(NOT(AND($D$3="確認済み",$H$3=0)),NA(),IF(売上!B18>$B$3,"",売上!E18))) | D18: =IF(売上!F18="","",IF(NOT(AND($D$3="確認済み",$H$3=0)),NA(),IF(売上!B18>$B$3,"",SUMIFS(入金!$F$8:$F$107,入金!$B$8:$B$107,A18)))) | E18: =IF(売上!F18="","",IF(NOT(AND($D$3="確認済み",$H$3=0)),NA(),IF(売上!B18>$B$3,"",C18-D18))) | F18: =IF(売上!F18="","",売上!D18) | G18: =IF(売上!F18="","",IF(NOT(AND($D$3="確認済み",$H$3=0)),NA(),IF(売上!B18>$B$3,"",IF(E18>0,MAX(0,$B$3-F18),0)))) | H18: =IF(売上!F18="","",IF(NOT(AND($D$3="確認済み",$H$3=0)),"入力を確認",IF(売上!B18>$B$3,"基準日より後",IF(E18<0,"過入金",IF(E18=0,IF(C18=0,"入金不要","入金済"),IF(G18>0,IF(D18>0,"期限超過・一部入金","期限超過"),IF(D18>0,"一部入金","未入金")))))))
A19: =IF(売上!F19="","",売上!A19) | B19: =IF(売上!F19="","",売上!C19) | C19: =IF(売上!F19="","",IF(NOT(AND($D$3="確認済み",$H$3=0)),NA(),IF(売上!B19>$B$3,"",売上!E19))) | D19: =IF(売上!F19="","",IF(NOT(AND($D$3="確認済み",$H$3=0)),NA(),IF(売上!B19>$B$3,"",SUMIFS(入金!$F$8:$F$107,入金!$B$8:$B$107,A19)))) | E19: =IF(売上!F19="","",IF(NOT(AND($D$3="確認済み",$H$3=0)),NA(),IF(売上!B19>$B$3,"",C19-D19))) | F19: =IF(売上!F19="","",売上!D19) | G19: =IF(売上!F19="","",IF(NOT(AND($D$3="確認済み",$H$3=0)),NA(),IF(売上!B19>$B$3,"",IF(E19>0,MAX(0,$B$3-F19),0)))) | H19: =IF(売上!F19="","",IF(NOT(AND($D$3="確認済み",$H$3=0)),"入力を確認",IF(売上!B19>$B$3,"基準日より後",IF(E19<0,"過入金",IF(E19=0,IF(C19=0,"入金不要","入金済"),IF(G19>0,IF(D19>0,"期限超過・一部入金","期限超過"),IF(D19>0,"一部入金","未入金")))))))
... A57: =IF(売上!F57="","",売上!A57) | B57: =IF(売上!F57="","",売上!C57) | C57: =IF(売上!F57="","",IF(NOT(AND($D$3="確認済み",$H$3=0)),NA(),IF(売上!B57>$B$3,"",売上!E57))) | D57: =IF(売上!F57="","",IF(NOT(AND($D$3="確認済み",$H$3=0)),NA(),IF(売上!B57>$B$3,"",SUMIFS(入金!$F$8:$F$107,入金!$B$8:$B$107,A57)))) | E57: =IF(売上!F57="","",IF(NOT(AND($D$3="確認済み",$H$3=0)),NA(),IF(売上!B57>$B$3,"",C57-D57))) | F57: =IF(売上!F57="","",売上!D57) | G57: =IF(売上!F57="","",IF(NOT(AND($D$3="確認済み",$H$3=0)),NA(),IF(売上!B57>$B$3,"",IF(E57>0,MAX(0,$B$3-F57),0)))) | H57: =IF(売上!F57="","",IF(NOT(AND($D$3="確認済み",$H$3=0)),"入力を確認",IF(売上!B57>$B$3,"基準日より後",IF(E57<0,"過入金",IF(E57=0,IF(C57=0,"入金不要","入金済"),IF(G57>0,IF(D57>0,"期限超過・一部入金","期限超過"),IF(D57>0,"一部入金","未入金")))))))

Sheet 売上
A2: 売上明細
A3: 黄色のセルに入力。1請求1行、最大50件。金額は確定した円の整数です。
A5: IDはINV-と半角数字4桁。売上日・期日を日付として入力します。
A7: 請求ID | B7: 売上日 | C7: 取引先 | D7: 入金期日 | E7: 売上額（円） | F7: 入力の確認 | G7: 要確認
A8: INV-0001 | B8: 46266 | C8: 架空商店A | D8: 46295 | E8: 100000 | F8: =IF(COUNTA(A8:E8)=0,"",IF(NOT(AND(ISTEXT(A8),LEN(A8)=8,EXACT(LEFT(A8,4),"INV-"),ISNUMBER(FIND(MID(A8,5,1)&"x","0x1x2x3x4x5x6x7x8x9x")),ISNUMBER(FIND(MID(A8,6,1)&"x","0x1x2x3x4x5x6x7x8x9x")),ISNUMBER(FIND(MID(A8,7,1)&"x","0x1x2x3x4x5x6x7x8x9x")),ISNUMBER(FIND(MID(A8,8,1)&"x","0x1x2x3x4x5x6x7x8x9x")))),"請求IDの形式を確認",IF(COUNTIF($A$8:$A$57,A8)<>1,"請求ID重複",IF(NOT(AND(ISNUMBER(B8),B8>=43831,B8<=73050,B8=INT(B8))),"売上日を確認",IF(OR(C8="",LEN(C8)>30),"取引先を確認",IF(NOT(AND(ISNUMBER(D8),D8>=43831,D8<=73050,D8=INT(D8))),"期日を確認",IF(D8<B8,"期日が売上日より前",IF(NOT(AND(ISNUMBER(E8),E8>=0,E8<=1000000000,E8=INT(E8))),"売上額を確認","確認済み")))))))) -> 確認済み | G8: =IF(F8="","",IF(F8="確認済み",0,1)) -> 0
A9: INV-0002 | B9: 46296 | C9: 架空商店B | D9: 46305 | E9: 120000 | F9: =IF(COUNTA(A9:E9)=0,"",IF(NOT(AND(ISTEXT(A9),LEN(A9)=8,EXACT(LEFT(A9,4),"INV-"),ISNUMBER(FIND(MID(A9,5,1)&"x","0x1x2x3x4x5x6x7x8x9x")),ISNUMBER(FIND(MID(A9,6,1)&"x","0x1x2x3x4x5x6x7x8x9x")),ISNUMBER(FIND(MID(A9,7,1)&"x","0x1x2x3x4x5x6x7x8x9x")),ISNUMBER(FIND(MID(A9,8,1)&"x","0x1x2x3x4x5x6x7x8x9x")))),"請求IDの形式を確認",IF(COUNTIF($A$8:$A$57,A9)<>1,"請求ID重複",IF(NOT(AND(ISNUMBER(B9),B9>=43831,B9<=73050,B9=INT(B9))),"売上日を確認",IF(OR(C9="",LEN(C9)>30),"取引先を確認",IF(NOT(AND(ISNUMBER(D9),D9>=43831,D9<=73050,D9=INT(D9))),"期日を確認",IF(D9<B9,"期日が売上日より前",IF(NOT(AND(ISNUMBER(E9),E9>=0,E9<=1000000000,E9=INT(E9))),"売上額を確認","確認済み")))))))) -> 確認済み | G9: =IF(F9="","",IF(F9="確認済み",0,1)) -> 0
A10: INV-0003 | B10: 46305 | C10: 架空商店C | D10: 46326 | E10: 80000 | F10: =IF(COUNTA(A10:E10)=0,"",IF(NOT(AND(ISTEXT(A10),LEN(A10)=8,EXACT(LEFT(A10,4),"INV-"),ISNUMBER(FIND(MID(A10,5,1)&"x","0x1x2x3x4x5x6x7x8x9x")),ISNUMBER(FIND(MID(A10,6,1)&"x","0x1x2x3x4x5x6x7x8x9x")),ISNUMBER(FIND(MID(A10,7,1)&"x","0x1x2x3x4x5x6x7x8x9x")),ISNUMBER(FIND(MID(A10,8,1)&"x","0x1x2x3x4x5x6x7x8x9x")))),"請求IDの形式を確認",IF(COUNTIF($A$8:$A$57,A10)<>1,"請求ID重複",IF(NOT(AND(ISNUMBER(B10),B10>=43831,B10<=73050,B10=INT(B10))),"売上日を確認",IF(OR(C10="",LEN(C10)>30),"取引先を確認",IF(NOT(AND(ISNUMBER(D10),D10>=43831,D10<=73050,D10=INT(D10))),"期日を確認",IF(D10<B10,"期日が売上日より前",IF(NOT(AND(ISNUMBER(E10),E10>=0,E10<=1000000000,E10=INT(E10))),"売上額を確認","確認済み")))))))) -> 確認済み | G10: =IF(F10="","",IF(F10="確認済み",0,1)) -> 0
A11: INV-0004 | B11: 46315 | C11: 架空商店D | D11: 46341 | E11: 50000 | F11: =IF(COUNTA(A11:E11)=0,"",IF(NOT(AND(ISTEXT(A11),LEN(A11)=8,EXACT(LEFT(A11,4),"INV-"),ISNUMBER(FIND(MID(A11,5,1)&"x","0x1x2x3x4x5x6x7x8x9x")),ISNUMBER(FIND(MID(A11,6,1)&"x","0x1x2x3x4x5x6x7x8x9x")),ISNUMBER(FIND(MID(A11,7,1)&"x","0x1x2x3x4x5x6x7x8x9x")),ISNUMBER(FIND(MID(A11,8,1)&"x","0x1x2x3x4x5x6x7x8x9x")))),"請求IDの形式を確認",IF(COUNTIF($A$8:$A$57,A11)<>1,"請求ID重複",IF(NOT(AND(ISNUMBER(B11),B11>=43831,B11<=73050,B11=INT(B11))),"売上日を確認",IF(OR(C11="",LEN(C11)>30),"取引先を確認",IF(NOT(AND(ISNUMBER(D11),D11>=43831,D11<=73050,D11=INT(D11))),"期日を確認",IF(D11<B11,"期日が売上日より前",IF(NOT(AND(ISNUMBER(E11),E11>=0,E11<=1000000000,E11=INT(E11))),"売上額を確認","確認済み")))))))) -> 確認済み | G11: =IF(F11="","",IF(F11="確認済み",0,1)) -> 0
A12: INV-0005 | B12: 46296 | C12: 架空商店E | D12: 46305 | E12: 0 | F12: =IF(COUNTA(A12:E12)=0,"",IF(NOT(AND(ISTEXT(A12),LEN(A12)=8,EXACT(LEFT(A12,4),"INV-"),ISNUMBER(FIND(MID(A12,5,1)&"x","0x1x2x3x4x5x6x7x8x9x")),ISNUMBER(FIND(MID(A12,6,1)&"x","0x1x2x3x4x5x6x7x8x9x")),ISNUMBER(FIND(MID(A12,7,1)&"x","0x1x2x3x4x5x6x7x8x9x")),ISNUMBER(FIND(MID(A12,8,1)&"x","0x1x2x3x4x5x6x7x8x9x")))),"請求IDの形式を確認",IF(COUNTIF($A$8:$A$57,A12)<>1,"請求ID重複",IF(NOT(AND(ISNUMBER(B12),B12>=43831,B12<=73050,B12=INT(B12))),"売上日を確認",IF(OR(C12="",LEN(C12)>30),"取引先を確認",IF(NOT(AND(ISNUMBER(D12),D12>=43831,D12<=73050,D12=INT(D12))),"期日を確認",IF(D12<B12,"期日が売上日より前",IF(NOT(AND(ISNUMBER(E12),E12>=0,E12<=1000000000,E12=INT(E12))),"売上額を確認","確認済み")))))))) -> 確認済み | G12: =IF(F12="","",IF(F12="確認済み",0,1)) -> 0
F13: =IF(COUNTA(A13:E13)=0,"",IF(NOT(AND(ISTEXT(A13),LEN(A13)=8,EXACT(LEFT(A13,4),"INV-"),ISNUMBER(FIND(MID(A13,5,1)&"x","0x1x2x3x4x5x6x7x8x9x")),ISNUMBER(FIND(MID(A13,6,1)&"x","0x1x2x3x4x5x6x7x8x9x")),ISNUMBER(FIND(MID(A13,7,1)&"x","0x1x2x3x4x5x6x7x8x9x")),ISNUMBER(FIND(MID(A13,8,1)&"x","0x1x2x3x4x5x6x7x8x9x")))),"請求IDの形式を確認",IF(COUNTIF($A$8:$A$57,A13)<>1,"請求ID重複",IF(NOT(AND(ISNUMBER(B13),B13>=43831,B13<=73050,B13=INT(B13))),"売上日を確認",IF(OR(C13="",LEN(C13)>30),"取引先を確認",IF(NOT(AND(ISNUMBER(D13),D13>=43831,D13<=73050,D13=INT(D13))),"期日を確認",IF(D13<B13,"期日が売上日より前",IF(NOT(AND(ISNUMBER(E13),E13>=0,E13<=1000000000,E13=INT(E13))),"売上額を確認","確認済み")))))))) | G13: =IF(F13="","",IF(F13="確認済み",0,1))
F14: =IF(COUNTA(A14:E14)=0,"",IF(NOT(AND(ISTEXT(A14),LEN(A14)=8,EXACT(LEFT(A14,4),"INV-"),ISNUMBER(FIND(MID(A14,5,1)&"x","0x1x2x3x4x5x6x7x8x9x")),ISNUMBER(FIND(MID(A14,6,1)&"x","0x1x2x3x4x5x6x7x8x9x")),ISNUMBER(FIND(MID(A14,7,1)&"x","0x1x2x3x4x5x6x7x8x9x")),ISNUMBER(FIND(MID(A14,8,1)&"x","0x1x2x3x4x5x6x7x8x9x")))),"請求IDの形式を確認",IF(COUNTIF($A$8:$A$57,A14)<>1,"請求ID重複",IF(NOT(AND(ISNUMBER(B14),B14>=43831,B14<=73050,B14=INT(B14))),"売上日を確認",IF(OR(C14="",LEN(C14)>30),"取引先を確認",IF(NOT(AND(ISNUMBER(D14),D14>=43831,D14<=73050,D14=INT(D14))),"期日を確認",IF(D14<B14,"期日が売上日より前",IF(NOT(AND(ISNUMBER(E14),E14>=0,E14<=1000000000,E14=INT(E14))),"売上額を確認","確認済み")))))))) | G14: =IF(F14="","",IF(F14="確認済み",0,1))
F15: =IF(COUNTA(A15:E15)=0,"",IF(NOT(AND(ISTEXT(A15),LEN(A15)=8,EXACT(LEFT(A15,4),"INV-"),ISNUMBER(FIND(MID(A15,5,1)&"x","0x1x2x3x4x5x6x7x8x9x")),ISNUMBER(FIND(MID(A15,6,1)&"x","0x1x2x3x4x5x6x7x8x9x")),ISNUMBER(FIND(MID(A15,7,1)&"x","0x1x2x3x4x5x6x7x8x9x")),ISNUMBER(FIND(MID(A15,8,1)&"x","0x1x2x3x4x5x6x7x8x9x")))),"請求IDの形式を確認",IF(COUNTIF($A$8:$A$57,A15)<>1,"請求ID重複",IF(NOT(AND(ISNUMBER(B15),B15>=43831,B15<=73050,B15=INT(B15))),"売上日を確認",IF(OR(C15="",LEN(C15)>30),"取引先を確認",IF(NOT(AND(ISNUMBER(D15),D15>=43831,D15<=73050,D15=INT(D15))),"期日を確認",IF(D15<B15,"期日が売上日より前",IF(NOT(AND(ISNUMBER(E15),E15>=0,E15<=1000000000,E15=INT(E15))),"売上額を確認","確認済み")))))))) | G15: =IF(F15="","",IF(F15="確認済み",0,1))
F16: =IF(COUNTA(A16:E16)=0,"",IF(NOT(AND(ISTEXT(A16),LEN(A16)=8,EXACT(LEFT(A16,4),"INV-"),ISNUMBER(FIND(MID(A16,5,1)&"x","0x1x2x3x4x5x6x7x8x9x")),ISNUMBER(FIND(MID(A16,6,1)&"x","0x1x2x3x4x5x6x7x8x9x")),ISNUMBER(FIND(MID(A16,7,1)&"x","0x1x2x3x4x5x6x7x8x9x")),ISNUMBER(FIND(MID(A16,8,1)&"x","0x1x2x3x4x5x6x7x8x9x")))),"請求IDの形式を確認",IF(COUNTIF($A$8:$A$57,A16)<>1,"請求ID重複",IF(NOT(AND(ISNUMBER(B16),B16>=43831,B16<=73050,B16=INT(B16))),"売上日を確認",IF(OR(C16="",LEN(C16)>30),"取引先を確認",IF(NOT(AND(ISNUMBER(D16),D16>=43831,D16<=73050,D16=INT(D16))),"期日を確認",IF(D16<B16,"期日が売上日より前",IF(NOT(AND(ISNUMBER(E16),E16>=0,E16<=1000000000,E16=INT(E16))),"売上額を確認","確認済み")))))))) | G16: =IF(F16="","",IF(F16="確認済み",0,1))
F17: =IF(COUNTA(A17:E17)=0,"",IF(NOT(AND(ISTEXT(A17),LEN(A17)=8,EXACT(LEFT(A17,4),"INV-"),ISNUMBER(FIND(MID(A17,5,1)&"x","0x1x2x3x4x5x6x7x8x9x")),ISNUMBER(FIND(MID(A17,6,1)&"x","0x1x2x3x4x5x6x7x8x9x")),ISNUMBER(FIND(MID(A17,7,1)&"x","0x1x2x3x4x5x6x7x8x9x")),ISNUMBER(FIND(MID(A17,8,1)&"x","0x1x2x3x4x5x6x7x8x9x")))),"請求IDの形式を確認",IF(COUNTIF($A$8:$A$57,A17)<>1,"請求ID重複",IF(NOT(AND(ISNUMBER(B17),B17>=43831,B17<=73050,B17=INT(B17))),"売上日を確認",IF(OR(C17="",LEN(C17)>30),"取引先を確認",IF(NOT(AND(ISNUMBER(D17),D17>=43831,D17<=73050,D17=INT(D17))),"期日を確認",IF(D17<B17,"期日が売上日より前",IF(NOT(AND(ISNUMBER(E17),E17>=0,E17<=1000000000,E17=INT(E17))),"売上額を確認","確認済み")))))))) | G17: =IF(F17="","",IF(F17="確認済み",0,1))
F18: =IF(COUNTA(A18:E18)=0,"",IF(NOT(AND(ISTEXT(A18),LEN(A18)=8,EXACT(LEFT(A18,4),"INV-"),ISNUMBER(FIND(MID(A18,5,1)&"x","0x1x2x3x4x5x6x7x8x9x")),ISNUMBER(FIND(MID(A18,6,1)&"x","0x1x2x3x4x5x6x7x8x9x")),ISNUMBER(FIND(MID(A18,7,1)&"x","0x1x2x3x4x5x6x7x8x9x")),ISNUMBER(FIND(MID(A18,8,1)&"x","0x1x2x3x4x5x6x7x8x9x")))),"請求IDの形式を確認",IF(COUNTIF($A$8:$A$57,A18)<>1,"請求ID重複",IF(NOT(AND(ISNUMBER(B18),B18>=43831,B18<=73050,B18=INT(B18))),"売上日を確認",IF(OR(C18="",LEN(C18)>30),"取引先を確認",IF(NOT(AND(ISNUMBER(D18),D18>=43831,D18<=73050,D18=INT(D18))),"期日を確認",IF(D18<B18,"期日が売上日より前",IF(NOT(AND(ISNUMBER(E18),E18>=0,E18<=1000000000,E18=INT(E18))),"売上額を確認","確認済み")))))))) | G18: =IF(F18="","",IF(F18="確認済み",0,1))
F19: =IF(COUNTA(A19:E19)=0,"",IF(NOT(AND(ISTEXT(A19),LEN(A19)=8,EXACT(LEFT(A19,4),"INV-"),ISNUMBER(FIND(MID(A19,5,1)&"x","0x1x2x3x4x5x6x7x8x9x")),ISNUMBER(FIND(MID(A19,6,1)&"x","0x1x2x3x4x5x6x7x8x9x")),ISNUMBER(FIND(MID(A19,7,1)&"x","0x1x2x3x4x5x6x7x8x9x")),ISNUMBER(FIND(MID(A19,8,1)&"x","0x1x2x3x4x5x6x7x8x9x")))),"請求IDの形式を確認",IF(COUNTIF($A$8:$A$57,A19)<>1,"請求ID重複",IF(NOT(AND(ISNUMBER(B19),B19>=43831,B19<=73050,B19=INT(B19))),"売上日を確認",IF(OR(C19="",LEN(C19)>30),"取引先を確認",IF(NOT(AND(ISNUMBER(D19),D19>=43831,D19<=73050,D19=INT(D19))),"期日を確認",IF(D19<B19,"期日が売上日より前",IF(NOT(AND(ISNUMBER(E19),E19>=0,E19<=1000000000,E19=INT(E19))),"売上額を確認","確認済み")))))))) | G19: =IF(F19="","",IF(F19="確認済み",0,1))
F20: =IF(COUNTA(A20:E20)=0,"",IF(NOT(AND(ISTEXT(A20),LEN(A20)=8,EXACT(LEFT(A20,4),"INV-"),ISNUMBER(FIND(MID(A20,5,1)&"x","0x1x2x3x4x5x6x7x8x9x")),ISNUMBER(FIND(MID(A20,6,1)&"x","0x1x2x3x4x5x6x7x8x9x")),ISNUMBER(FIND(MID(A20,7,1)&"x","0x1x2x3x4x5x6x7x8x9x")),ISNUMBER(FIND(MID(A20,8,1)&"x","0x1x2x3x4x5x6x7x8x9x")))),"請求IDの形式を確認",IF(COUNTIF($A$8:$A$57,A20)<>1,"請求ID重複",IF(NOT(AND(ISNUMBER(B20),B20>=43831,B20<=73050,B20=INT(B20))),"売上日を確認",IF(OR(C20="",LEN(C20)>30),"取引先を確認",IF(NOT(AND(ISNUMBER(D20),D20>=43831,D20<=73050,D20=INT(D20))),"期日を確認",IF(D20<B20,"期日が売上日より前",IF(NOT(AND(ISNUMBER(E20),E20>=0,E20<=1000000000,E20=INT(E20))),"売上額を確認","確認済み")))))))) | G20: =IF(F20="","",IF(F20="確認済み",0,1))
F21: =IF(COUNTA(A21:E21)=0,"",IF(NOT(AND(ISTEXT(A21),LEN(A21)=8,EXACT(LEFT(A21,4),"INV-"),ISNUMBER(FIND(MID(A21,5,1)&"x","0x1x2x3x4x5x6x7x8x9x")),ISNUMBER(FIND(MID(A21,6,1)&"x","0x1x2x3x4x5x6x7x8x9x")),ISNUMBER(FIND(MID(A21,7,1)&"x","0x1x2x3x4x5x6x7x8x9x")),ISNUMBER(FIND(MID(A21,8,1)&"x","0x1x2x3x4x5x6x7x8x9x")))),"請求IDの形式を確認",IF(COUNTIF($A$8:$A$57,A21)<>1,"請求ID重複",IF(NOT(AND(ISNUMBER(B21),B21>=43831,B21<=73050,B21=INT(B21))),"売上日を確認",IF(OR(C21="",LEN(C21)>30),"取引先を確認",IF(NOT(AND(ISNUMBER(D21),D21>=43831,D21<=73050,D21=INT(D21))),"期日を確認",IF(D21<B21,"期日が売上日より前",IF(NOT(AND(ISNUMBER(E21),E21>=0,E21<=1000000000,E21=INT(E21))),"売上額を確認","確認済み")))))))) | G21: =IF(F21="","",IF(F21="確認済み",0,1))
F22: =IF(COUNTA(A22:E22)=0,"",IF(NOT(AND(ISTEXT(A22),LEN(A22)=8,EXACT(LEFT(A22,4),"INV-"),ISNUMBER(FIND(MID(A22,5,1)&"x","0x1x2x3x4x5x6x7x8x9x")),ISNUMBER(FIND(MID(A22,6,1)&"x","0x1x2x3x4x5x6x7x8x9x")),ISNUMBER(FIND(MID(A22,7,1)&"x","0x1x2x3x4x5x6x7x8x9x")),ISNUMBER(FIND(MID(A22,8,1)&"x","0x1x2x3x4x5x6x7x8x9x")))),"請求IDの形式を確認",IF(COUNTIF($A$8:$A$57,A22)<>1,"請求ID重複",IF(NOT(AND(ISNUMBER(B22),B22>=43831,B22<=73050,B22=INT(B22))),"売上日を確認",IF(OR(C22="",LEN(C22)>30),"取引先を確認",IF(NOT(AND(ISNUMBER(D22),D22>=43831,D22<=73050,D22=INT(D22))),"期日を確認",IF(D22<B22,"期日が売上日より前",IF(NOT(AND(ISNUMBER(E22),E22>=0,E22<=1000000000,E22=INT(E22))),"売上額を確認","確認済み")))))))) | G22: =IF(F22="","",IF(F22="確認済み",0,1))
F23: =IF(COUNTA(A23:E23)=0,"",IF(NOT(AND(ISTEXT(A23),LEN(A23)=8,EXACT(LEFT(A23,4),"INV-"),ISNUMBER(FIND(MID(A23,5,1)&"x","0x1x2x3x4x5x6x7x8x9x")),ISNUMBER(FIND(MID(A23,6,1)&"x","0x1x2x3x4x5x6x7x8x9x")),ISNUMBER(FIND(MID(A23,7,1)&"x","0x1x2x3x4x5x6x7x8x9x")),ISNUMBER(FIND(MID(A23,8,1)&"x","0x1x2x3x4x5x6x7x8x9x")))),"請求IDの形式を確認",IF(COUNTIF($A$8:$A$57,A23)<>1,"請求ID重複",IF(NOT(AND(ISNUMBER(B23),B23>=43831,B23<=73050,B23=INT(B23))),"売上日を確認",IF(OR(C23="",LEN(C23)>30),"取引先を確認",IF(NOT(AND(ISNUMBER(D23),D23>=43831,D23<=73050,D23=INT(D23))),"期日を確認",IF(D23<B23,"期日が売上日より前",IF(NOT(AND(ISNUMBER(E23),E23>=0,E23<=1000000000,E23=INT(E23))),"売上額を確認","確認済み")))))))) | G23: =IF(F23="","",IF(F23="確認済み",0,1))
F24: =IF(COUNTA(A24:E24)=0,"",IF(NOT(AND(ISTEXT(A24),LEN(A24)=8,EXACT(LEFT(A24,4),"INV-"),ISNUMBER(FIND(MID(A24,5,1)&"x","0x1x2x3x4x5x6x7x8x9x")),ISNUMBER(FIND(MID(A24,6,1)&"x","0x1x2x3x4x5x6x7x8x9x")),ISNUMBER(FIND(MID(A24,7,1)&"x","0x1x2x3x4x5x6x7x8x9x")),ISNUMBER(FIND(MID(A24,8,1)&"x","0x1x2x3x4x5x6x7x8x9x")))),"請求IDの形式を確認",IF(COUNTIF($A$8:$A$57,A24)<>1,"請求ID重複",IF(NOT(AND(ISNUMBER(B24),B24>=43831,B24<=73050,B24=INT(B24))),"売上日を確認",IF(OR(C24="",LEN(C24)>30),"取引先を確認",IF(NOT(AND(ISNUMBER(D24),D24>=43831,D24<=73050,D24=INT(D24))),"期日を確認",IF(D24<B24,"期日が売上日より前",IF(NOT(AND(ISNUMBER(E24),E24>=0,E24<=1000000000,E24=INT(E24))),"売上額を確認","確認済み")))))))) | G24: =IF(F24="","",IF(F24="確認済み",0,1))
... F57: =IF(COUNTA(A57:E57)=0,"",IF(NOT(AND(ISTEXT(A57),LEN(A57)=8,EXACT(LEFT(A57,4),"INV-"),ISNUMBER(FIND(MID(A57,5,1)&"x","0x1x2x3x4x5x6x7x8x9x")),ISNUMBER(FIND(MID(A57,6,1)&"x","0x1x2x3x4x5x6x7x8x9x")),ISNUMBER(FIND(MID(A57,7,1)&"x","0x1x2x3x4x5x6x7x8x9x")),ISNUMBER(FIND(MID(A57,8,1)&"x","0x1x2x3x4x5x6x7x8x9x")))),"請求IDの形式を確認",IF(COUNTIF($A$8:$A$57,A57)<>1,"請求ID重複",IF(NOT(AND(ISNUMBER(B57),B57>=43831,B57<=73050,B57=INT(B57))),"売上日を確認",IF(OR(C57="",LEN(C57)>30),"取引先を確認",IF(NOT(AND(ISNUMBER(D57),D57>=43831,D57<=73050,D57=INT(D57))),"期日を確認",IF(D57<B57,"期日が売上日より前",IF(NOT(AND(ISNUMBER(E57),E57>=0,E57<=1000000000,E57=INT(E57))),"売上額を確認","確認済み")))))))) | G57: =IF(F57="","",IF(F57="確認済み",0,1))
A60: 架空データ。取引額は確定額を入力。税計算・法定帳簿・前受金・返金は扱いません。
A61: 売上は50件、入金は100件。行挿入・範囲の自動拡張は非対応。予約行へ追加します。
A62: 版1。オリジナル配布物はCC0 1.0。元資料と作業前の原本を別に残します。
A63: https://creativecommons.org/publicdomain/zero/1.0/
A65: 一次情報の確認日2026-10-14。SUMIFSの条件・範囲とCOUNTIFの照合を参照。
A66: https://support.microsoft.com/en-us/excel/functions/sumifs-function
A68: 印刷は入金状況のみ、A4横・見出し繰返し。Excel/実プリンターでの確認は別途。

Sheet 入金
A2: 入金明細
A3: 1回の入金を1行で記録。部分入金を別の入金IDで追加します。最大100件。
A5: IDはPAY-と半角数字4桁。請求IDは売上明細のIDと一致させます。
A7: 入金ID | B7: 請求ID | C7: 入金日 | D7: 入金額（円） | E7: 入力の確認 | F7: 基準日まで（円） | G7: 要確認
A8: PAY-0001 | B8: INV-0001 | C8: 46280 | D8: 100000 | E8: =IF(COUNTA(A8:D8)=0,"",IF(NOT(AND(ISTEXT(A8),LEN(A8)=8,EXACT(LEFT(A8,4),"PAY-"),ISNUMBER(FIND(MID(A8,5,1)&"x","0x1x2x3x4x5x6x7x8x9x")),ISNUMBER(FIND(MID(A8,6,1)&"x","0x1x2x3x4x5x6x7x8x9x")),ISNUMBER(FIND(MID(A8,7,1)&"x","0x1x2x3x4x5x6x7x8x9x")),ISNUMBER(FIND(MID(A8,8,1)&"x","0x1x2x3x4x5x6x7x8x9x")))),"入金IDの形式を確認",IF(COUNTIF($A$8:$A$107,A8)<>1,"入金ID重複",IF(NOT(AND(ISTEXT(B8),LEN(B8)=8,EXACT(LEFT(B8,4),"INV-"),ISNUMBER(FIND(MID(B8,5,1)&"x","0x1x2x3x4x5x6x7x8x9x")),ISNUMBER(FIND(MID(B8,6,1)&"x","0x1x2x3x4x5x6x7x8x9x")),ISNUMBER(FIND(MID(B8,7,1)&"x","0x1x2x3x4x5x6x7x8x9x")),ISNUMBER(FIND(MID(B8,8,1)&"x","0x1x2x3x4x5x6x7x8x9x")))),"請求IDの形式を確認",IF(COUNTIF(売上!$A$8:$A$57,B8)<>1,"請求IDが不明・重複",IF(VLOOKUP(B8,売上!$A$8:$F$57,6,FALSE())<>"確認済み","売上入力を確認",IF(NOT(AND(ISNUMBER(C8),C8>=43831,C8<=73050,C8=INT(C8))),"入金日を確認",IF(C8<VLOOKUP(B8,売上!$A$8:$F$57,2,FALSE()),"入金日が売上日より前",IF(NOT(AND(ISNUMBER(D8),D8>=0,D8<=1000000000,D8=INT(D8))),"入金額を確認","確認済み"))))))))) -> 確認済み | F8: =IF(E8="","",IF(OR(E8<>"確認済み",入金状況!$D$3<>"確認済み"),NA(),IF(C8<=入金状況!$B$3,D8,0))) -> 100000 | G8: =IF(E8="","",IF(E8="確認済み",0,1)) -> 0
A9: PAY-0002 | B9: INV-0002 | C9: 46300 | D9: 60000 | E9: =IF(COUNTA(A9:D9)=0,"",IF(NOT(AND(ISTEXT(A9),LEN(A9)=8,EXACT(LEFT(A9,4),"PAY-"),ISNUMBER(FIND(MID(A9,5,1)&"x","0x1x2x3x4x5x6x7x8x9x")),ISNUMBER(FIND(MID(A9,6,1)&"x","0x1x2x3x4x5x6x7x8x9x")),ISNUMBER(FIND(MID(A9,7,1)&"x","0x1x2x3x4x5x6x7x8x9x")),ISNUMBER(FIND(MID(A9,8,1)&"x","0x1x2x3x4x5x6x7x8x9x")))),"入金IDの形式を確認",IF(COUNTIF($A$8:$A$107,A9)<>1,"入金ID重複",IF(NOT(AND(ISTEXT(B9),LEN(B9)=8,EXACT(LEFT(B9,4),"INV-"),ISNUMBER(FIND(MID(B9,5,1)&"x","0x1x2x3x4x5x6x7x8x9x")),ISNUMBER(FIND(MID(B9,6,1)&"x","0x1x2x3x4x5x6x7x8x9x")),ISNUMBER(FIND(MID(B9,7,1)&"x","0x1x2x3x4x5x6x7x8x9x")),ISNUMBER(FIND(MID(B9,8,1)&"x","0x1x2x3x4x5x6x7x8x9x")))),"請求IDの形式を確認",IF(COUNTIF(売上!$A$8:$A$57,B9)<>1,"請求IDが不明・重複",IF(VLOOKUP(B9,売上!$A$8:$F$57,6,FALSE())<>"確認済み","売上入力を確認",IF(NOT(AND(ISNUMBER(C9),C9>=43831,C9<=73050,C9=INT(C9))),"入金日を確認",IF(C9<VLOOKUP(B9,売上!$A$8:$F$57,2,FALSE()),"入金日が売上日より前",IF(NOT(AND(ISNUMBER(D9),D9>=0,D9<=1000000000,D9=INT(D9))),"入金額を確認","確認済み"))))))))) -> 確認済み | F9: =IF(E9="","",IF(OR(E9<>"確認済み",入金状況!$D$3<>"確認済み"),NA(),IF(C9<=入金状況!$B$3,D9,0))) -> 60000 | G9: =IF(E9="","",IF(E9="確認済み",0,1)) -> 0
A10: PAY-0003 | B10: INV-0002 | C10: 46315 | D10: 40000 | E10: =IF(COUNTA(A10:D10)=0,"",IF(NOT(AND(ISTEXT(A10),LEN(A10)=8,EXACT(LEFT(A10,4),"PAY-"),ISNUMBER(FIND(MID(A10,5,1)&"x","0x1x2x3x4x5x6x7x8x9x")),ISNUMBER(FIND(MID(A10,6,1)&"x","0x1x2x3x4x5x6x7x8x9x")),ISNUMBER(FIND(MID(A10,7,1)&"x","0x1x2x3x4x5x6x7x8x9x")),ISNUMBER(FIND(MID(A10,8,1)&"x","0x1x2x3x4x5x6x7x8x9x")))),"入金IDの形式を確認",IF(COUNTIF($A$8:$A$107,A10)<>1,"入金ID重複",IF(NOT(AND(ISTEXT(B10),LEN(B10)=8,EXACT(LEFT(B10,4),"INV-"),ISNUMBER(FIND(MID(B10,5,1)&"x","0x1x2x3x4x5x6x7x8x9x")),ISNUMBER(FIND(MID(B10,6,1)&"x","0x1x2x3x4x5x6x7x8x9x")),ISNUMBER(FIND(MID(B10,7,1)&"x","0x1x2x3x4x5x6x7x8x9x")),ISNUMBER(FIND(MID(B10,8,1)&"x","0x1x2x3x4x5x6x7x8x9x")))),"請求IDの形式を確認",IF(COUNTIF(売上!$A$8:$A$57,B10)<>1,"請求IDが不明・重複",IF(VLOOKUP(B10,売上!$A$8:$F$57,6,FALSE())<>"確認済み","売上入力を確認",IF(NOT(AND(ISNUMBER(C10),C10>=43831,C10<=73050,C10=INT(C10))),"入金日を確認",IF(C10<VLOOKUP(B10,売上!$A$8:$F$57,2,FALSE()),"入金日が売上日より前",IF(NOT(AND(ISNUMBER(D10),D10>=0,D10<=1000000000,D10=INT(D10))),"入金額を確認","確認済み"))))))))) -> 確認済み | F10: =IF(E10="","",IF(OR(E10<>"確認済み",入金状況!$D$3<>"確認済み"),NA(),IF(C10<=入金状況!$B$3,D10,0))) -> 0 | G10: =IF(E10="","",IF(E10="確認済み",0,1)) -> 0
A11: PAY-0004 | B11: INV-0003 | C11: 46315 | D11: 30000 | E11: =IF(COUNTA(A11:D11)=0,"",IF(NOT(AND(ISTEXT(A11),LEN(A11)=8,EXACT(LEFT(A11,4),"PAY-"),ISNUMBER(FIND(MID(A11,5,1)&"x","0x1x2x3x4x5x6x7x8x9x")),ISNUMBER(FIND(MID(A11,6,1)&"x","0x1x2x3x4x5x6x7x8x9x")),ISNUMBER(FIND(MID(A11,7,1)&"x","0x1x2x3x4x5x6x7x8x9x")),ISNUMBER(FIND(MID(A11,8,1)&"x","0x1x2x3x4x5x6x7x8x9x")))),"入金IDの形式を確認",IF(COUNTIF($A$8:$A$107,A11)<>1,"入金ID重複",IF(NOT(AND(ISTEXT(B11),LEN(B11)=8,EXACT(LEFT(B11,4),"INV-"),ISNUMBER(FIND(MID(B11,5,1)&"x","0x1x2x3x4x5x6x7x8x9x")),ISNUMBER(FIND(MID(B11,6,1)&"x","0x1x2x3x4x5x6x7x8x9x")),ISNUMBER(FIND(MID(B11,7,1)&"x","0x1x2x3x4x5x6x7x8x9x")),ISNUMBER(FIND(MID(B11,8,1)&"x","0x1x2x3x4x5x6x7x8x9x")))),"請求IDの形式を確認",IF(COUNTIF(売上!$A$8:$A$57,B11)<>1,"請求IDが不明・重複",IF(VLOOKUP(B11,売上!$A$8:$F$57,6,FALSE())<>"確認済み","売上入力を確認",IF(NOT(AND(ISNUMBER(C11),C11>=43831,C11<=73050,C11=INT(C11))),"入金日を確認",IF(C11<VLOOKUP(B11,売上!$A$8:$F$57,2,FALSE()),"入金日が売上日より前",IF(NOT(AND(ISNUMBER(D11),D11>=0,D11<=1000000000,D11=INT(D11))),"入金額を確認","確認済み"))))))))) -> 確認済み | F11: =IF(E11="","",IF(OR(E11<>"確認済み",入金状況!$D$3<>"確認済み"),NA(),IF(C11<=入金状況!$B$3,D11,0))) -> 0 | G11: =IF(E11="","",IF(E11="確認済み",0,1)) -> 0
E12: =IF(COUNTA(A12:D12)=0,"",IF(NOT(AND(ISTEXT(A12),LEN(A12)=8,EXACT(LEFT(A12,4),"PAY-"),ISNUMBER(FIND(MID(A12,5,1)&"x","0x1x2x3x4x5x6x7x8x9x")),ISNUMBER(FIND(MID(A12,6,1)&"x","0x1x2x3x4x5x6x7x8x9x")),ISNUMBER(FIND(MID(A12,7,1)&"x","0x1x2x3x4x5x6x7x8x9x")),ISNUMBER(FIND(MID(A12,8,1)&"x","0x1x2x3x4x5x6x7x8x9x")))),"入金IDの形式を確認",IF(COUNTIF($A$8:$A$107,A12)<>1,"入金ID重複",IF(NOT(AND(ISTEXT(B12),LEN(B12)=8,EXACT(LEFT(B12,4),"INV-"),ISNUMBER(FIND(MID(B12,5,1)&"x","0x1x2x3x4x5x6x7x8x9x")),ISNUMBER(FIND(MID(B12,6,1)&"x","0x1x2x3x4x5x6x7x8x9x")),ISNUMBER(FIND(MID(B12,7,1)&"x","0x1x2x3x4x5x6x7x8x9x")),ISNUMBER(FIND(MID(B12,8,1)&"x","0x1x2x3x4x5x6x7x8x9x")))),"請求IDの形式を確認",IF(COUNTIF(売上!$A$8:$A$57,B12)<>1,"請求IDが不明・重複",IF(VLOOKUP(B12,売上!$A$8:$F$57,6,FALSE())<>"確認済み","売上入力を確認",IF(NOT(AND(ISNUMBER(C12),C12>=43831,C12<=73050,C12=INT(C12))),"入金日を確認",IF(C12<VLOOKUP(B12,売上!$A$8:$F$57,2,FALSE()),"入金日が売上日より前",IF(NOT(AND(ISNUMBER(D12),D12>=0,D12<=1000000000,D12=INT(D12))),"入金額を確認","確認済み"))))))))) | F12: =IF(E12="","",IF(OR(E12<>"確認済み",入金状況!$D$3<>"確認済み"),NA(),IF(C12<=入金状況!$B$3,D12,0))) | G12: =IF(E12="","",IF(E12="確認済み",0,1))
E13: =IF(COUNTA(A13:D13)=0,"",IF(NOT(AND(ISTEXT(A13),LEN(A13)=8,EXACT(LEFT(A13,4),"PAY-"),ISNUMBER(FIND(MID(A13,5,1)&"x","0x1x2x3x4x5x6x7x8x9x")),ISNUMBER(FIND(MID(A13,6,1)&"x","0x1x2x3x4x5x6x7x8x9x")),ISNUMBER(FIND(MID(A13,7,1)&"x","0x1x2x3x4x5x6x7x8x9x")),ISNUMBER(FIND(MID(A13,8,1)&"x","0x1x2x3x4x5x6x7x8x9x")))),"入金IDの形式を確認",IF(COUNTIF($A$8:$A$107,A13)<>1,"入金ID重複",IF(NOT(AND(ISTEXT(B13),LEN(B13)=8,EXACT(LEFT(B13,4),"INV-"),ISNUMBER(FIND(MID(B13,5,1)&"x","0x1x2x3x4x5x6x7x8x9x")),ISNUMBER(FIND(MID(B13,6,1)&"x","0x1x2x3x4x5x6x7x8x9x")),ISNUMBER(FIND(MID(B13,7,1)&"x","0x1x2x3x4x5x6x7x8x9x")),ISNUMBER(FIND(MID(B13,8,1)&"x","0x1x2x3x4x5x6x7x8x9x")))),"請求IDの形式を確認",IF(COUNTIF(売上!$A$8:$A$57,B13)<>1,"請求IDが不明・重複",IF(VLOOKUP(B13,売上!$A$8:$F$57,6,FALSE())<>"確認済み","売上入力を確認",IF(NOT(AND(ISNUMBER(C13),C13>=43831,C13<=73050,C13=INT(C13))),"入金日を確認",IF(C13<VLOOKUP(B13,売上!$A$8:$F$57,2,FALSE()),"入金日が売上日より前",IF(NOT(AND(ISNUMBER(D13),D13>=0,D13<=1000000000,D13=INT(D13))),"入金額を確認","確認済み"))))))))) | F13: =IF(E13="","",IF(OR(E13<>"確認済み",入金状況!$D$3<>"確認済み"),NA(),IF(C13<=入金状況!$B$3,D13,0))) | G13: =IF(E13="","",IF(E13="確認済み",0,1))
E14: =IF(COUNTA(A14:D14)=0,"",IF(NOT(AND(ISTEXT(A14),LEN(A14)=8,EXACT(LEFT(A14,4),"PAY-"),ISNUMBER(FIND(MID(A14,5,1)&"x","0x1x2x3x4x5x6x7x8x9x")),ISNUMBER(FIND(MID(A14,6,1)&"x","0x1x2x3x4x5x6x7x8x9x")),ISNUMBER(FIND(MID(A14,7,1)&"x","0x1x2x3x4x5x6x7x8x9x")),ISNUMBER(FIND(MID(A14,8,1)&"x","0x1x2x3x4x5x6x7x8x9x")))),"入金IDの形式を確認",IF(COUNTIF($A$8:$A$107,A14)<>1,"入金ID重複",IF(NOT(AND(ISTEXT(B14),LEN(B14)=8,EXACT(LEFT(B14,4),"INV-"),ISNUMBER(FIND(MID(B14,5,1)&"x","0x1x2x3x4x5x6x7x8x9x")),ISNUMBER(FIND(MID(B14,6,1)&"x","0x1x2x3x4x5x6x7x8x9x")),ISNUMBER(FIND(MID(B14,7,1)&"x","0x1x2x3x4x5x6x7x8x9x")),ISNUMBER(FIND(MID(B14,8,1)&"x","0x1x2x3x4x5x6x7x8x9x")))),"請求IDの形式を確認",IF(COUNTIF(売上!$A$8:$A$57,B14)<>1,"請求IDが不明・重複",IF(VLOOKUP(B14,売上!$A$8:$F$57,6,FALSE())<>"確認済み","売上入力を確認",IF(NOT(AND(ISNUMBER(C14),C14>=43831,C14<=73050,C14=INT(C14))),"入金日を確認",IF(C14<VLOOKUP(B14,売上!$A$8:$F$57,2,FALSE()),"入金日が売上日より前",IF(NOT(AND(ISNUMBER(D14),D14>=0,D14<=1000000000,D14=INT(D14))),"入金額を確認","確認済み"))))))))) | F14: =IF(E14="","",IF(OR(E14<>"確認済み",入金状況!$D$3<>"確認済み"),NA(),IF(C14<=入金状況!$B$3,D14,0))) | G14: =IF(E14="","",IF(E14="確認済み",0,1))
E15: =IF(COUNTA(A15:D15)=0,"",IF(NOT(AND(ISTEXT(A15),LEN(A15)=8,EXACT(LEFT(A15,4),"PAY-"),ISNUMBER(FIND(MID(A15,5,1)&"x","0x1x2x3x4x5x6x7x8x9x")),ISNUMBER(FIND(MID(A15,6,1)&"x","0x1x2x3x4x5x6x7x8x9x")),ISNUMBER(FIND(MID(A15,7,1)&"x","0x1x2x3x4x5x6x7x8x9x")),ISNUMBER(FIND(MID(A15,8,1)&"x","0x1x2x3x4x5x6x7x8x9x")))),"入金IDの形式を確認",IF(COUNTIF($A$8:$A$107,A15)<>1,"入金ID重複",IF(NOT(AND(ISTEXT(B15),LEN(B15)=8,EXACT(LEFT(B15,4),"INV-"),ISNUMBER(FIND(MID(B15,5,1)&"x","0x1x2x3x4x5x6x7x8x9x")),ISNUMBER(FIND(MID(B15,6,1)&"x","0x1x2x3x4x5x6x7x8x9x")),ISNUMBER(FIND(MID(B15,7,1)&"x","0x1x2x3x4x5x6x7x8x9x")),ISNUMBER(FIND(MID(B15,8,1)&"x","0x1x2x3x4x5x6x7x8x9x")))),"請求IDの形式を確認",IF(COUNTIF(売上!$A$8:$A$57,B15)<>1,"請求IDが不明・重複",IF(VLOOKUP(B15,売上!$A$8:$F$57,6,FALSE())<>"確認済み","売上入力を確認",IF(NOT(AND(ISNUMBER(C15),C15>=43831,C15<=73050,C15=INT(C15))),"入金日を確認",IF(C15<VLOOKUP(B15,売上!$A$8:$F$57,2,FALSE()),"入金日が売上日より前",IF(NOT(AND(ISNUMBER(D15),D15>=0,D15<=1000000000,D15=INT(D15))),"入金額を確認","確認済み"))))))))) | F15: =IF(E15="","",IF(OR(E15<>"確認済み",入金状況!$D$3<>"確認済み"),NA(),IF(C15<=入金状況!$B$3,D15,0))) | G15: =IF(E15="","",IF(E15="確認済み",0,1))
E16: =IF(COUNTA(A16:D16)=0,"",IF(NOT(AND(ISTEXT(A16),LEN(A16)=8,EXACT(LEFT(A16,4),"PAY-"),ISNUMBER(FIND(MID(A16,5,1)&"x","0x1x2x3x4x5x6x7x8x9x")),ISNUMBER(FIND(MID(A16,6,1)&"x","0x1x2x3x4x5x6x7x8x9x")),ISNUMBER(FIND(MID(A16,7,1)&"x","0x1x2x3x4x5x6x7x8x9x")),ISNUMBER(FIND(MID(A16,8,1)&"x","0x1x2x3x4x5x6x7x8x9x")))),"入金IDの形式を確認",IF(COUNTIF($A$8:$A$107,A16)<>1,"入金ID重複",IF(NOT(AND(ISTEXT(B16),LEN(B16)=8,EXACT(LEFT(B16,4),"INV-"),ISNUMBER(FIND(MID(B16,5,1)&"x","0x1x2x3x4x5x6x7x8x9x")),ISNUMBER(FIND(MID(B16,6,1)&"x","0x1x2x3x4x5x6x7x8x9x")),ISNUMBER(FIND(MID(B16,7,1)&"x","0x1x2x3x4x5x6x7x8x9x")),ISNUMBER(FIND(MID(B16,8,1)&"x","0x1x2x3x4x5x6x7x8x9x")))),"請求IDの形式を確認",IF(COUNTIF(売上!$A$8:$A$57,B16)<>1,"請求IDが不明・重複",IF(VLOOKUP(B16,売上!$A$8:$F$57,6,FALSE())<>"確認済み","売上入力を確認",IF(NOT(AND(ISNUMBER(C16),C16>=43831,C16<=73050,C16=INT(C16))),"入金日を確認",IF(C16<VLOOKUP(B16,売上!$A$8:$F$57,2,FALSE()),"入金日が売上日より前",IF(NOT(AND(ISNUMBER(D16),D16>=0,D16<=1000000000,D16=INT(D16))),"入金額を確認","確認済み"))))))))) | F16: =IF(E16="","",IF(OR(E16<>"確認済み",入金状況!$D$3<>"確認済み"),NA(),IF(C16<=入金状況!$B$3,D16,0))) | G16: =IF(E16="","",IF(E16="確認済み",0,1))
E17: =IF(COUNTA(A17:D17)=0,"",IF(NOT(AND(ISTEXT(A17),LEN(A17)=8,EXACT(LEFT(A17,4),"PAY-"),ISNUMBER(FIND(MID(A17,5,1)&"x","0x1x2x3x4x5x6x7x8x9x")),ISNUMBER(FIND(MID(A17,6,1)&"x","0x1x2x3x4x5x6x7x8x9x")),ISNUMBER(FIND(MID(A17,7,1)&"x","0x1x2x3x4x5x6x7x8x9x")),ISNUMBER(FIND(MID(A17,8,1)&"x","0x1x2x3x4x5x6x7x8x9x")))),"入金IDの形式を確認",IF(COUNTIF($A$8:$A$107,A17)<>1,"入金ID重複",IF(NOT(AND(ISTEXT(B17),LEN(B17)=8,EXACT(LEFT(B17,4),"INV-"),ISNUMBER(FIND(MID(B17,5,1)&"x","0x1x2x3x4x5x6x7x8x9x")),ISNUMBER(FIND(MID(B17,6,1)&"x","0x1x2x3x4x5x6x7x8x9x")),ISNUMBER(FIND(MID(B17,7,1)&"x","0x1x2x3x4x5x6x7x8x9x")),ISNUMBER(FIND(MID(B17,8,1)&"x","0x1x2x3x4x5x6x7x8x9x")))),"請求IDの形式を確認",IF(COUNTIF(売上!$A$8:$A$57,B17)<>1,"請求IDが不明・重複",IF(VLOOKUP(B17,売上!$A$8:$F$57,6,FALSE())<>"確認済み","売上入力を確認",IF(NOT(AND(ISNUMBER(C17),C17>=43831,C17<=73050,C17=INT(C17))),"入金日を確認",IF(C17<VLOOKUP(B17,売上!$A$8:$F$57,2,FALSE()),"入金日が売上日より前",IF(NOT(AND(ISNUMBER(D17),D17>=0,D17<=1000000000,D17=INT(D17))),"入金額を確認","確認済み"))))))))) | F17: =IF(E17="","",IF(OR(E17<>"確認済み",入金状況!$D$3<>"確認済み"),NA(),IF(C17<=入金状況!$B$3,D17,0))) | G17: =IF(E17="","",IF(E17="確認済み",0,1))
E18: =IF(COUNTA(A18:D18)=0,"",IF(NOT(AND(ISTEXT(A18),LEN(A18)=8,EXACT(LEFT(A18,4),"PAY-"),ISNUMBER(FIND(MID(A18,5,1)&"x","0x1x2x3x4x5x6x7x8x9x")),ISNUMBER(FIND(MID(A18,6,1)&"x","0x1x2x3x4x5x6x7x8x9x")),ISNUMBER(FIND(MID(A18,7,1)&"x","0x1x2x3x4x5x6x7x8x9x")),ISNUMBER(FIND(MID(A18,8,1)&"x","0x1x2x3x4x5x6x7x8x9x")))),"入金IDの形式を確認",IF(COUNTIF($A$8:$A$107,A18)<>1,"入金ID重複",IF(NOT(AND(ISTEXT(B18),LEN(B18)=8,EXACT(LEFT(B18,4),"INV-"),ISNUMBER(FIND(MID(B18,5,1)&"x","0x1x2x3x4x5x6x7x8x9x")),ISNUMBER(FIND(MID(B18,6,1)&"x","0x1x2x3x4x5x6x7x8x9x")),ISNUMBER(FIND(MID(B18,7,1)&"x","0x1x2x3x4x5x6x7x8x9x")),ISNUMBER(FIND(MID(B18,8,1)&"x","0x1x2x3x4x5x6x7x8x9x")))),"請求IDの形式を確認",IF(COUNTIF(売上!$A$8:$A$57,B18)<>1,"請求IDが不明・重複",IF(VLOOKUP(B18,売上!$A$8:$F$57,6,FALSE())<>"確認済み","売上入力を確認",IF(NOT(AND(ISNUMBER(C18),C18>=43831,C18<=73050,C18=INT(C18))),"入金日を確認",IF(C18<VLOOKUP(B18,売上!$A$8:$F$57,2,FALSE()),"入金日が売上日より前",IF(NOT(AND(ISNUMBER(D18),D18>=0,D18<=1000000000,D18=INT(D18))),"入金額を確認","確認済み"))))))))) | F18: =IF(E18="","",IF(OR(E18<>"確認済み",入金状況!$D$3<>"確認済み"),NA(),IF(C18<=入金状況!$B$3,D18,0))) | G18: =IF(E18="","",IF(E18="確認済み",0,1))
E19: =IF(COUNTA(A19:D19)=0,"",IF(NOT(AND(ISTEXT(A19),LEN(A19)=8,EXACT(LEFT(A19,4),"PAY-"),ISNUMBER(FIND(MID(A19,5,1)&"x","0x1x2x3x4x5x6x7x8x9x")),ISNUMBER(FIND(MID(A19,6,1)&"x","0x1x2x3x4x5x6x7x8x9x")),ISNUMBER(FIND(MID(A19,7,1)&"x","0x1x2x3x4x5x6x7x8x9x")),ISNUMBER(FIND(MID(A19,8,1)&"x","0x1x2x3x4x5x6x7x8x9x")))),"入金IDの形式を確認",IF(COUNTIF($A$8:$A$107,A19)<>1,"入金ID重複",IF(NOT(AND(ISTEXT(B19),LEN(B19)=8,EXACT(LEFT(B19,4),"INV-"),ISNUMBER(FIND(MID(B19,5,1)&"x","0x1x2x3x4x5x6x7x8x9x")),ISNUMBER(FIND(MID(B19,6,1)&"x","0x1x2x3x4x5x6x7x8x9x")),ISNUMBER(FIND(MID(B19,7,1)&"x","0x1x2x3x4x5x6x7x8x9x")),ISNUMBER(FIND(MID(B19,8,1)&"x","0x1x2x3x4x5x6x7x8x9x")))),"請求IDの形式を確認",IF(COUNTIF(売上!$A$8:$A$57,B19)<>1,"請求IDが不明・重複",IF(VLOOKUP(B19,売上!$A$8:$F$57,6,FALSE())<>"確認済み","売上入力を確認",IF(NOT(AND(ISNUMBER(C19),C19>=43831,C19<=73050,C19=INT(C19))),"入金日を確認",IF(C19<VLOOKUP(B19,売上!$A$8:$F$57,2,FALSE()),"入金日が売上日より前",IF(NOT(AND(ISNUMBER(D19),D19>=0,D19<=1000000000,D19=INT(D19))),"入金額を確認","確認済み"))))))))) | F19: =IF(E19="","",IF(OR(E19<>"確認済み",入金状況!$D$3<>"確認済み"),NA(),IF(C19<=入金状況!$B$3,D19,0))) | G19: =IF(E19="","",IF(E19="確認済み",0,1))
E20: =IF(COUNTA(A20:D20)=0,"",IF(NOT(AND(ISTEXT(A20),LEN(A20)=8,EXACT(LEFT(A20,4),"PAY-"),ISNUMBER(FIND(MID(A20,5,1)&"x","0x1x2x3x4x5x6x7x8x9x")),ISNUMBER(FIND(MID(A20,6,1)&"x","0x1x2x3x4x5x6x7x8x9x")),ISNUMBER(FIND(MID(A20,7,1)&"x","0x1x2x3x4x5x6x7x8x9x")),ISNUMBER(FIND(MID(A20,8,1)&"x","0x1x2x3x4x5x6x7x8x9x")))),"入金IDの形式を確認",IF(COUNTIF($A$8:$A$107,A20)<>1,"入金ID重複",IF(NOT(AND(ISTEXT(B20),LEN(B20)=8,EXACT(LEFT(B20,4),"INV-"),ISNUMBER(FIND(MID(B20,5,1)&"x","0x1x2x3x4x5x6x7x8x9x")),ISNUMBER(FIND(MID(B20,6,1)&"x","0x1x2x3x4x5x6x7x8x9x")),ISNUMBER(FIND(MID(B20,7,1)&"x","0x1x2x3x4x5x6x7x8x9x")),ISNUMBER(FIND(MID(B20,8,1)&"x","0x1x2x3x4x5x6x7x8x9x")))),"請求IDの形式を確認",IF(COUNTIF(売上!$A$8:$A$57,B20)<>1,"請求IDが不明・重複",IF(VLOOKUP(B20,売上!$A$8:$F$57,6,FALSE())<>"確認済み","売上入力を確認",IF(NOT(AND(ISNUMBER(C20),C20>=43831,C20<=73050,C20=INT(C20))),"入金日を確認",IF(C20<VLOOKUP(B20,売上!$A$8:$F$57,2,FALSE()),"入金日が売上日より前",IF(NOT(AND(ISNUMBER(D20),D20>=0,D20<=1000000000,D20=INT(D20))),"入金額を確認","確認済み"))))))))) | F20: =IF(E20="","",IF(OR(E20<>"確認済み",入金状況!$D$3<>"確認済み"),NA(),IF(C20<=入金状況!$B$3,D20,0))) | G20: =IF(E20="","",IF(E20="確認済み",0,1))
E21: =IF(COUNTA(A21:D21)=0,"",IF(NOT(AND(ISTEXT(A21),LEN(A21)=8,EXACT(LEFT(A21,4),"PAY-"),ISNUMBER(FIND(MID(A21,5,1)&"x","0x1x2x3x4x5x6x7x8x9x")),ISNUMBER(FIND(MID(A21,6,1)&"x","0x1x2x3x4x5x6x7x8x9x")),ISNUMBER(FIND(MID(A21,7,1)&"x","0x1x2x3x4x5x6x7x8x9x")),ISNUMBER(FIND(MID(A21,8,1)&"x","0x1x2x3x4x5x6x7x8x9x")))),"入金IDの形式を確認",IF(COUNTIF($A$8:$A$107,A21)<>1,"入金ID重複",IF(NOT(AND(ISTEXT(B21),LEN(B21)=8,EXACT(LEFT(B21,4),"INV-"),ISNUMBER(FIND(MID(B21,5,1)&"x","0x1x2x3x4x5x6x7x8x9x")),ISNUMBER(FIND(MID(B21,6,1)&"x","0x1x2x3x4x5x6x7x8x9x")),ISNUMBER(FIND(MID(B21,7,1)&"x","0x1x2x3x4x5x6x7x8x9x")),ISNUMBER(FIND(MID(B21,8,1)&"x","0x1x2x3x4x5x6x7x8x9x")))),"請求IDの形式を確認",IF(COUNTIF(売上!$A$8:$A$57,B21)<>1,"請求IDが不明・重複",IF(VLOOKUP(B21,売上!$A$8:$F$57,6,FALSE())<>"確認済み","売上入力を確認",IF(NOT(AND(ISNUMBER(C21),C21>=43831,C21<=73050,C21=INT(C21))),"入金日を確認",IF(C21<VLOOKUP(B21,売上!$A$8:$F$57,2,FALSE()),"入金日が売上日より前",IF(NOT(AND(ISNUMBER(D21),D21>=0,D21<=1000000000,D21=INT(D21))),"入金額を確認","確認済み"))))))))) | F21: =IF(E21="","",IF(OR(E21<>"確認済み",入金状況!$D$3<>"確認済み"),NA(),IF(C21<=入金状況!$B$3,D21,0))) | G21: =IF(E21="","",IF(E21="確認済み",0,1))
E22: =IF(COUNTA(A22:D22)=0,"",IF(NOT(AND(ISTEXT(A22),LEN(A22)=8,EXACT(LEFT(A22,4),"PAY-"),ISNUMBER(FIND(MID(A22,5,1)&"x","0x1x2x3x4x5x6x7x8x9x")),ISNUMBER(FIND(MID(A22,6,1)&"x","0x1x2x3x4x5x6x7x8x9x")),ISNUMBER(FIND(MID(A22,7,1)&"x","0x1x2x3x4x5x6x7x8x9x")),ISNUMBER(FIND(MID(A22,8,1)&"x","0x1x2x3x4x5x6x7x8x9x")))),"入金IDの形式を確認",IF(COUNTIF($A$8:$A$107,A22)<>1,"入金ID重複",IF(NOT(AND(ISTEXT(B22),LEN(B22)=8,EXACT(LEFT(B22,4),"INV-"),ISNUMBER(FIND(MID(B22,5,1)&"x","0x1x2x3x4x5x6x7x8x9x")),ISNUMBER(FIND(MID(B22,6,1)&"x","0x1x2x3x4x5x6x7x8x9x")),ISNUMBER(FIND(MID(B22,7,1)&"x","0x1x2x3x4x5x6x7x8x9x")),ISNUMBER(FIND(MID(B22,8,1)&"x","0x1x2x3x4x5x6x7x8x9x")))),"請求IDの形式を確認",IF(COUNTIF(売上!$A$8:$A$57,B22)<>1,"請求IDが不明・重複",IF(VLOOKUP(B22,売上!$A$8:$F$57,6,FALSE())<>"確認済み","売上入力を確認",IF(NOT(AND(ISNUMBER(C22),C22>=43831,C22<=73050,C22=INT(C22))),"入金日を確認",IF(C22<VLOOKUP(B22,売上!$A$8:$F$57,2,FALSE()),"入金日が売上日より前",IF(NOT(AND(ISNUMBER(D22),D22>=0,D22<=1000000000,D22=INT(D22))),"入金額を確認","確認済み"))))))))) | F22: =IF(E22="","",IF(OR(E22<>"確認済み",入金状況!$D$3<>"確認済み"),NA(),IF(C22<=入金状況!$B$3,D22,0))) | G22: =IF(E22="","",IF(E22="確認済み",0,1))
E23: =IF(COUNTA(A23:D23)=0,"",IF(NOT(AND(ISTEXT(A23),LEN(A23)=8,EXACT(LEFT(A23,4),"PAY-"),ISNUMBER(FIND(MID(A23,5,1)&"x","0x1x2x3x4x5x6x7x8x9x")),ISNUMBER(FIND(MID(A23,6,1)&"x","0x1x2x3x4x5x6x7x8x9x")),ISNUMBER(FIND(MID(A23,7,1)&"x","0x1x2x3x4x5x6x7x8x9x")),ISNUMBER(FIND(MID(A23,8,1)&"x","0x1x2x3x4x5x6x7x8x9x")))),"入金IDの形式を確認",IF(COUNTIF($A$8:$A$107,A23)<>1,"入金ID重複",IF(NOT(AND(ISTEXT(B23),LEN(B23)=8,EXACT(LEFT(B23,4),"INV-"),ISNUMBER(FIND(MID(B23,5,1)&"x","0x1x2x3x4x5x6x7x8x9x")),ISNUMBER(FIND(MID(B23,6,1)&"x","0x1x2x3x4x5x6x7x8x9x")),ISNUMBER(FIND(MID(B23,7,1)&"x","0x1x2x3x4x5x6x7x8x9x")),ISNUMBER(FIND(MID(B23,8,1)&"x","0x1x2x3x4x5x6x7x8x9x")))),"請求IDの形式を確認",IF(COUNTIF(売上!$A$8:$A$57,B23)<>1,"請求IDが不明・重複",IF(VLOOKUP(B23,売上!$A$8:$F$57,6,FALSE())<>"確認済み","売上入力を確認",IF(NOT(AND(ISNUMBER(C23),C23>=43831,C23<=73050,C23=INT(C23))),"入金日を確認",IF(C23<VLOOKUP(B23,売上!$A$8:$F$57,2,FALSE()),"入金日が売上日より前",IF(NOT(AND(ISNUMBER(D23),D23>=0,D23<=1000000000,D23=INT(D23))),"入金額を確認","確認済み"))))))))) | F23: =IF(E23="","",IF(OR(E23<>"確認済み",入金状況!$D$3<>"確認済み"),NA(),IF(C23<=入金状況!$B$3,D23,0))) | G23: =IF(E23="","",IF(E23="確認済み",0,1))
... E107: =IF(COUNTA(A107:D107)=0,"",IF(NOT(AND(ISTEXT(A107),LEN(A107)=8,EXACT(LEFT(A107,4),"PAY-"),ISNUMBER(FIND(MID(A107,5,1)&"x","0x1x2x3x4x5x6x7x8x9x")),ISNUMBER(FIND(MID(A107,6,1)&"x","0x1x2x3x4x5x6x7x8x9x")),ISNUMBER(FIND(MID(A107,7,1)&"x","0x1x2x3x4x5x6x7x8x9x")),ISNUMBER(FIND(MID(A107,8,1)&"x","0x1x2x3x4x5x6x7x8x9x")))),"入金IDの形式を確認",IF(COUNTIF($A$8:$A$107,A107)<>1,"入金ID重複",IF(NOT(AND(ISTEXT(B107),LEN(B107)=8,EXACT(LEFT(B107,4),"INV-"),ISNUMBER(FIND(MID(B107,5,1)&"x","0x1x2x3x4x5x6x7x8x9x")),ISNUMBER(FIND(MID(B107,6,1)&"x","0x1x2x3x4x5x6x7x8x9x")),ISNUMBER(FIND(MID(B107,7,1)&"x","0x1x2x3x4x5x6x7x8x9x")),ISNUMBER(FIND(MID(B107,8,1)&"x","0x1x2x3x4x5x6x7x8x9x")))),"請求IDの形式を確認",IF(COUNTIF(売上!$A$8:$A$57,B107)<>1,"請求IDが不明・重複",IF(VLOOKUP(B107,売上!$A$8:$F$57,6,FALSE())<>"確認済み","売上入力を確認",IF(NOT(AND(ISNUMBER(C107),C107>=43831,C107<=73050,C107=INT(C107))),"入金日を確認",IF(C107<VLOOKUP(B107,売上!$A$8:$F$57,2,FALSE()),"入金日が売上日より前",IF(NOT(AND(ISNUMBER(D107),D107>=0,D107<=1000000000,D107=INT(D107))),"入金額を確認","確認済み"))))))))) | F107: =IF(E107="","",IF(OR(E107<>"確認済み",入金状況!$D$3<>"確認済み"),NA(),IF(C107<=入金状況!$B$3,D107,0))) | G107: =IF(E107="","",IF(E107="確認済み",0,1))
A110: 基準日より後の入金は合計に含めません。1入金IDを二重入力しないでください。
A111: 過入金を別の請求へ相殺しません。請求IDの変更・返金・手数料等は別途確認します。
