Workbook

Sheet 配置状況
A2: 勤務シフトの配置を確認 | J2: 入力の前提
A3: 全時間を担当できる人を枠へ割当。入力した全枠を集計し、日付で絞り込みません。 | H3: =IF(J3=0,"入力不備なし","入力を確認") -> 入力不備なし | J3: =SUM(必要枠!F8:F38)+SUM(必要枠!H8:H38)+SUM(割当!H8:H107)+SUM(割当!I8:I107)+SUM(割当!M8:M27) -> 0
A4: 必要人枠 | B4: =IF($J$3=0,SUM(D10:D40),NA()) -> 6 | D4: 割当人枠 | E4: =IF($J$3=0,SUM(E10:E40),NA()) -> 5 | G4: 不足人枠 | H4: =IF($J$3=0,SUM(F10:F40),NA()) -> 2
A5: 過剰人枠 | B5: =IF($J$3=0,SUM(G10:G40),NA()) -> 1 | D5: 不足人分 | E5: =IF($J$3=0,SUM(I10:I40),NA()) -> 660 | G5: 過剰人分 | H5: =IF($J$3=0,SUM(J10:J40),NA()) -> 180
A6: 枠件数 | B6: =IF($J$3=0,COUNTIFS(必要枠!E8:E38,"確認済み"),NA()) -> 5 | D6: 不足の枠件数 | E6: =IF($J$3=0,COUNTIFS(H10:H40,"不足"),NA()) -> 2 | G6: 照合差額（人枠） | H6: =B4-E4-H4+B5 -> 0
A8: 不足と過剰は別集計。人枠は延べ配置数、人分は人数×分です。自動配置・実績・給与の判定なし。
A9: 必要枠ID | B9: 開始日時 | C9: 終了日時 | D9: 必要人数 | E9: 割当人数 | F9: 不足人数 | G9: 過剰人数 | H9: 配置状態 | I9: 不足人分 | J9: 過剰人分
A10: =IF(COUNTA(必要枠!A8:D8)=0,"",必要枠!A8) -> REQ-0001 | B10: =IF(COUNTA(必要枠!A8:D8)=0,"",必要枠!B8) -> 46314.375 | C10: =IF(COUNTA(必要枠!A8:D8)=0,"",必要枠!C8) -> 46314.5 | D10: =IF(COUNTA(必要枠!A8:D8)=0,"",IF($J$3<>0,NA(),必要枠!D8)) -> 2 | E10: =IF(COUNTA(必要枠!A8:D8)=0,"",IF($J$3<>0,NA(),COUNTIFS(割当!$B$8:$B$107,A10,割当!$G$8:$G$107,"確認済み"))) -> 1 | F10: =IF(COUNTA(必要枠!A8:D8)=0,"",IF($J$3<>0,NA(),MAX(0,D10-E10))) -> 1 | G10: =IF(COUNTA(必要枠!A8:D8)=0,"",IF($J$3<>0,NA(),MAX(0,E10-D10))) -> 0 | H10: =IF(COUNTA(必要枠!A8:D8)=0,"",IF($J$3<>0,"入力を確認",IF(F10>0,"不足",IF(G10>0,"過剰",IF(D10=0,"配置不要","充足"))))) -> 不足 | I10: =IF(COUNTA(必要枠!A8:D8)=0,"",IF($J$3<>0,NA(),F10*必要枠!G8)) -> 180 | J10: =IF(COUNTA(必要枠!A8:D8)=0,"",IF($J$3<>0,NA(),G10*必要枠!G8)) -> 0
A11: =IF(COUNTA(必要枠!A9:D9)=0,"",必要枠!A9) -> REQ-0002 | B11: =IF(COUNTA(必要枠!A9:D9)=0,"",必要枠!B9) -> 46314.542 | C11: =IF(COUNTA(必要枠!A9:D9)=0,"",必要枠!C9) -> 46314.708 | D11: =IF(COUNTA(必要枠!A9:D9)=0,"",IF($J$3<>0,NA(),必要枠!D9)) -> 2 | E11: =IF(COUNTA(必要枠!A9:D9)=0,"",IF($J$3<>0,NA(),COUNTIFS(割当!$B$8:$B$107,A11,割当!$G$8:$G$107,"確認済み"))) -> 2 | F11: =IF(COUNTA(必要枠!A9:D9)=0,"",IF($J$3<>0,NA(),MAX(0,D11-E11))) -> 0 | G11: =IF(COUNTA(必要枠!A9:D9)=0,"",IF($J$3<>0,NA(),MAX(0,E11-D11))) -> 0 | H11: =IF(COUNTA(必要枠!A9:D9)=0,"",IF($J$3<>0,"入力を確認",IF(F11>0,"不足",IF(G11>0,"過剰",IF(D11=0,"配置不要","充足"))))) -> 充足 | I11: =IF(COUNTA(必要枠!A9:D9)=0,"",IF($J$3<>0,NA(),F11*必要枠!G9)) -> 0 | J11: =IF(COUNTA(必要枠!A9:D9)=0,"",IF($J$3<>0,NA(),G11*必要枠!G9)) -> 0
A12: =IF(COUNTA(必要枠!A10:D10)=0,"",必要枠!A10) -> REQ-0003 | B12: =IF(COUNTA(必要枠!A10:D10)=0,"",必要枠!B10) -> 46315.375 | C12: =IF(COUNTA(必要枠!A10:D10)=0,"",必要枠!C10) -> 46315.5 | D12: =IF(COUNTA(必要枠!A10:D10)=0,"",IF($J$3<>0,NA(),必要枠!D10)) -> 1 | E12: =IF(COUNTA(必要枠!A10:D10)=0,"",IF($J$3<>0,NA(),COUNTIFS(割当!$B$8:$B$107,A12,割当!$G$8:$G$107,"確認済み"))) -> 2 | F12: =IF(COUNTA(必要枠!A10:D10)=0,"",IF($J$3<>0,NA(),MAX(0,D12-E12))) -> 0 | G12: =IF(COUNTA(必要枠!A10:D10)=0,"",IF($J$3<>0,NA(),MAX(0,E12-D12))) -> 1 | H12: =IF(COUNTA(必要枠!A10:D10)=0,"",IF($J$3<>0,"入力を確認",IF(F12>0,"不足",IF(G12>0,"過剰",IF(D12=0,"配置不要","充足"))))) -> 過剰 | I12: =IF(COUNTA(必要枠!A10:D10)=0,"",IF($J$3<>0,NA(),F12*必要枠!G10)) -> 0 | J12: =IF(COUNTA(必要枠!A10:D10)=0,"",IF($J$3<>0,NA(),G12*必要枠!G10)) -> 180
A13: =IF(COUNTA(必要枠!A11:D11)=0,"",必要枠!A11) -> REQ-0004 | B13: =IF(COUNTA(必要枠!A11:D11)=0,"",必要枠!B11) -> 46315.917 | C13: =IF(COUNTA(必要枠!A11:D11)=0,"",必要枠!C11) -> 46316.25 | D13: =IF(COUNTA(必要枠!A11:D11)=0,"",IF($J$3<>0,NA(),必要枠!D11)) -> 1 | E13: =IF(COUNTA(必要枠!A11:D11)=0,"",IF($J$3<>0,NA(),COUNTIFS(割当!$B$8:$B$107,A13,割当!$G$8:$G$107,"確認済み"))) -> 0 | F13: =IF(COUNTA(必要枠!A11:D11)=0,"",IF($J$3<>0,NA(),MAX(0,D13-E13))) -> 1 | G13: =IF(COUNTA(必要枠!A11:D11)=0,"",IF($J$3<>0,NA(),MAX(0,E13-D13))) -> 0 | H13: =IF(COUNTA(必要枠!A11:D11)=0,"",IF($J$3<>0,"入力を確認",IF(F13>0,"不足",IF(G13>0,"過剰",IF(D13=0,"配置不要","充足"))))) -> 不足 | I13: =IF(COUNTA(必要枠!A11:D11)=0,"",IF($J$3<>0,NA(),F13*必要枠!G11)) -> 480 | J13: =IF(COUNTA(必要枠!A11:D11)=0,"",IF($J$3<>0,NA(),G13*必要枠!G11)) -> 0
A14: =IF(COUNTA(必要枠!A12:D12)=0,"",必要枠!A12) -> REQ-0005 | B14: =IF(COUNTA(必要枠!A12:D12)=0,"",必要枠!B12) -> 46316.375 | C14: =IF(COUNTA(必要枠!A12:D12)=0,"",必要枠!C12) -> 46316.417 | D14: =IF(COUNTA(必要枠!A12:D12)=0,"",IF($J$3<>0,NA(),必要枠!D12)) -> 0 | E14: =IF(COUNTA(必要枠!A12:D12)=0,"",IF($J$3<>0,NA(),COUNTIFS(割当!$B$8:$B$107,A14,割当!$G$8:$G$107,"確認済み"))) -> 0 | F14: =IF(COUNTA(必要枠!A12:D12)=0,"",IF($J$3<>0,NA(),MAX(0,D14-E14))) -> 0 | G14: =IF(COUNTA(必要枠!A12:D12)=0,"",IF($J$3<>0,NA(),MAX(0,E14-D14))) -> 0 | H14: =IF(COUNTA(必要枠!A12:D12)=0,"",IF($J$3<>0,"入力を確認",IF(F14>0,"不足",IF(G14>0,"過剰",IF(D14=0,"配置不要","充足"))))) -> 配置不要 | I14: =IF(COUNTA(必要枠!A12:D12)=0,"",IF($J$3<>0,NA(),F14*必要枠!G12)) -> 0 | J14: =IF(COUNTA(必要枠!A12:D12)=0,"",IF($J$3<>0,NA(),G14*必要枠!G12)) -> 0
A15: =IF(COUNTA(必要枠!A13:D13)=0,"",必要枠!A13) | B15: =IF(COUNTA(必要枠!A13:D13)=0,"",必要枠!B13) | C15: =IF(COUNTA(必要枠!A13:D13)=0,"",必要枠!C13) | D15: =IF(COUNTA(必要枠!A13:D13)=0,"",IF($J$3<>0,NA(),必要枠!D13)) | E15: =IF(COUNTA(必要枠!A13:D13)=0,"",IF($J$3<>0,NA(),COUNTIFS(割当!$B$8:$B$107,A15,割当!$G$8:$G$107,"確認済み"))) | F15: =IF(COUNTA(必要枠!A13:D13)=0,"",IF($J$3<>0,NA(),MAX(0,D15-E15))) | G15: =IF(COUNTA(必要枠!A13:D13)=0,"",IF($J$3<>0,NA(),MAX(0,E15-D15))) | H15: =IF(COUNTA(必要枠!A13:D13)=0,"",IF($J$3<>0,"入力を確認",IF(F15>0,"不足",IF(G15>0,"過剰",IF(D15=0,"配置不要","充足"))))) | I15: =IF(COUNTA(必要枠!A13:D13)=0,"",IF($J$3<>0,NA(),F15*必要枠!G13)) | J15: =IF(COUNTA(必要枠!A13:D13)=0,"",IF($J$3<>0,NA(),G15*必要枠!G13))
A16: =IF(COUNTA(必要枠!A14:D14)=0,"",必要枠!A14) | B16: =IF(COUNTA(必要枠!A14:D14)=0,"",必要枠!B14) | C16: =IF(COUNTA(必要枠!A14:D14)=0,"",必要枠!C14) | D16: =IF(COUNTA(必要枠!A14:D14)=0,"",IF($J$3<>0,NA(),必要枠!D14)) | E16: =IF(COUNTA(必要枠!A14:D14)=0,"",IF($J$3<>0,NA(),COUNTIFS(割当!$B$8:$B$107,A16,割当!$G$8:$G$107,"確認済み"))) | F16: =IF(COUNTA(必要枠!A14:D14)=0,"",IF($J$3<>0,NA(),MAX(0,D16-E16))) | G16: =IF(COUNTA(必要枠!A14:D14)=0,"",IF($J$3<>0,NA(),MAX(0,E16-D16))) | H16: =IF(COUNTA(必要枠!A14:D14)=0,"",IF($J$3<>0,"入力を確認",IF(F16>0,"不足",IF(G16>0,"過剰",IF(D16=0,"配置不要","充足"))))) | I16: =IF(COUNTA(必要枠!A14:D14)=0,"",IF($J$3<>0,NA(),F16*必要枠!G14)) | J16: =IF(COUNTA(必要枠!A14:D14)=0,"",IF($J$3<>0,NA(),G16*必要枠!G14))
A17: =IF(COUNTA(必要枠!A15:D15)=0,"",必要枠!A15) | B17: =IF(COUNTA(必要枠!A15:D15)=0,"",必要枠!B15) | C17: =IF(COUNTA(必要枠!A15:D15)=0,"",必要枠!C15) | D17: =IF(COUNTA(必要枠!A15:D15)=0,"",IF($J$3<>0,NA(),必要枠!D15)) | E17: =IF(COUNTA(必要枠!A15:D15)=0,"",IF($J$3<>0,NA(),COUNTIFS(割当!$B$8:$B$107,A17,割当!$G$8:$G$107,"確認済み"))) | F17: =IF(COUNTA(必要枠!A15:D15)=0,"",IF($J$3<>0,NA(),MAX(0,D17-E17))) | G17: =IF(COUNTA(必要枠!A15:D15)=0,"",IF($J$3<>0,NA(),MAX(0,E17-D17))) | H17: =IF(COUNTA(必要枠!A15:D15)=0,"",IF($J$3<>0,"入力を確認",IF(F17>0,"不足",IF(G17>0,"過剰",IF(D17=0,"配置不要","充足"))))) | I17: =IF(COUNTA(必要枠!A15:D15)=0,"",IF($J$3<>0,NA(),F17*必要枠!G15)) | J17: =IF(COUNTA(必要枠!A15:D15)=0,"",IF($J$3<>0,NA(),G17*必要枠!G15))
A18: =IF(COUNTA(必要枠!A16:D16)=0,"",必要枠!A16) | B18: =IF(COUNTA(必要枠!A16:D16)=0,"",必要枠!B16) | C18: =IF(COUNTA(必要枠!A16:D16)=0,"",必要枠!C16) | D18: =IF(COUNTA(必要枠!A16:D16)=0,"",IF($J$3<>0,NA(),必要枠!D16)) | E18: =IF(COUNTA(必要枠!A16:D16)=0,"",IF($J$3<>0,NA(),COUNTIFS(割当!$B$8:$B$107,A18,割当!$G$8:$G$107,"確認済み"))) | F18: =IF(COUNTA(必要枠!A16:D16)=0,"",IF($J$3<>0,NA(),MAX(0,D18-E18))) | G18: =IF(COUNTA(必要枠!A16:D16)=0,"",IF($J$3<>0,NA(),MAX(0,E18-D18))) | H18: =IF(COUNTA(必要枠!A16:D16)=0,"",IF($J$3<>0,"入力を確認",IF(F18>0,"不足",IF(G18>0,"過剰",IF(D18=0,"配置不要","充足"))))) | I18: =IF(COUNTA(必要枠!A16:D16)=0,"",IF($J$3<>0,NA(),F18*必要枠!G16)) | J18: =IF(COUNTA(必要枠!A16:D16)=0,"",IF($J$3<>0,NA(),G18*必要枠!G16))
A19: =IF(COUNTA(必要枠!A17:D17)=0,"",必要枠!A17) | B19: =IF(COUNTA(必要枠!A17:D17)=0,"",必要枠!B17) | C19: =IF(COUNTA(必要枠!A17:D17)=0,"",必要枠!C17) | D19: =IF(COUNTA(必要枠!A17:D17)=0,"",IF($J$3<>0,NA(),必要枠!D17)) | E19: =IF(COUNTA(必要枠!A17:D17)=0,"",IF($J$3<>0,NA(),COUNTIFS(割当!$B$8:$B$107,A19,割当!$G$8:$G$107,"確認済み"))) | F19: =IF(COUNTA(必要枠!A17:D17)=0,"",IF($J$3<>0,NA(),MAX(0,D19-E19))) | G19: =IF(COUNTA(必要枠!A17:D17)=0,"",IF($J$3<>0,NA(),MAX(0,E19-D19))) | H19: =IF(COUNTA(必要枠!A17:D17)=0,"",IF($J$3<>0,"入力を確認",IF(F19>0,"不足",IF(G19>0,"過剰",IF(D19=0,"配置不要","充足"))))) | I19: =IF(COUNTA(必要枠!A17:D17)=0,"",IF($J$3<>0,NA(),F19*必要枠!G17)) | J19: =IF(COUNTA(必要枠!A17:D17)=0,"",IF($J$3<>0,NA(),G19*必要枠!G17))
A20: =IF(COUNTA(必要枠!A18:D18)=0,"",必要枠!A18) | B20: =IF(COUNTA(必要枠!A18:D18)=0,"",必要枠!B18) | C20: =IF(COUNTA(必要枠!A18:D18)=0,"",必要枠!C18) | D20: =IF(COUNTA(必要枠!A18:D18)=0,"",IF($J$3<>0,NA(),必要枠!D18)) | E20: =IF(COUNTA(必要枠!A18:D18)=0,"",IF($J$3<>0,NA(),COUNTIFS(割当!$B$8:$B$107,A20,割当!$G$8:$G$107,"確認済み"))) | F20: =IF(COUNTA(必要枠!A18:D18)=0,"",IF($J$3<>0,NA(),MAX(0,D20-E20))) | G20: =IF(COUNTA(必要枠!A18:D18)=0,"",IF($J$3<>0,NA(),MAX(0,E20-D20))) | H20: =IF(COUNTA(必要枠!A18:D18)=0,"",IF($J$3<>0,"入力を確認",IF(F20>0,"不足",IF(G20>0,"過剰",IF(D20=0,"配置不要","充足"))))) | I20: =IF(COUNTA(必要枠!A18:D18)=0,"",IF($J$3<>0,NA(),F20*必要枠!G18)) | J20: =IF(COUNTA(必要枠!A18:D18)=0,"",IF($J$3<>0,NA(),G20*必要枠!G18))
A21: =IF(COUNTA(必要枠!A19:D19)=0,"",必要枠!A19) | B21: =IF(COUNTA(必要枠!A19:D19)=0,"",必要枠!B19) | C21: =IF(COUNTA(必要枠!A19:D19)=0,"",必要枠!C19) | D21: =IF(COUNTA(必要枠!A19:D19)=0,"",IF($J$3<>0,NA(),必要枠!D19)) | E21: =IF(COUNTA(必要枠!A19:D19)=0,"",IF($J$3<>0,NA(),COUNTIFS(割当!$B$8:$B$107,A21,割当!$G$8:$G$107,"確認済み"))) | F21: =IF(COUNTA(必要枠!A19:D19)=0,"",IF($J$3<>0,NA(),MAX(0,D21-E21))) | G21: =IF(COUNTA(必要枠!A19:D19)=0,"",IF($J$3<>0,NA(),MAX(0,E21-D21))) | H21: =IF(COUNTA(必要枠!A19:D19)=0,"",IF($J$3<>0,"入力を確認",IF(F21>0,"不足",IF(G21>0,"過剰",IF(D21=0,"配置不要","充足"))))) | I21: =IF(COUNTA(必要枠!A19:D19)=0,"",IF($J$3<>0,NA(),F21*必要枠!G19)) | J21: =IF(COUNTA(必要枠!A19:D19)=0,"",IF($J$3<>0,NA(),G21*必要枠!G19))
... A40: =IF(COUNTA(必要枠!A38:D38)=0,"",必要枠!A38) | B40: =IF(COUNTA(必要枠!A38:D38)=0,"",必要枠!B38) | C40: =IF(COUNTA(必要枠!A38:D38)=0,"",必要枠!C38) | D40: =IF(COUNTA(必要枠!A38:D38)=0,"",IF($J$3<>0,NA(),必要枠!D38)) | E40: =IF(COUNTA(必要枠!A38:D38)=0,"",IF($J$3<>0,NA(),COUNTIFS(割当!$B$8:$B$107,A40,割当!$G$8:$G$107,"確認済み"))) | F40: =IF(COUNTA(必要枠!A38:D38)=0,"",IF($J$3<>0,NA(),MAX(0,D40-E40))) | G40: =IF(COUNTA(必要枠!A38:D38)=0,"",IF($J$3<>0,NA(),MAX(0,E40-D40))) | H40: =IF(COUNTA(必要枠!A38:D38)=0,"",IF($J$3<>0,"入力を確認",IF(F40>0,"不足",IF(G40>0,"過剰",IF(D40=0,"配置不要","充足"))))) | I40: =IF(COUNTA(必要枠!A38:D38)=0,"",IF($J$3<>0,NA(),F40*必要枠!G38)) | J40: =IF(COUNTA(必要枠!A38:D38)=0,"",IF($J$3<>0,NA(),G40*必要枠!G38))

Sheet 必要枠
A2: 必要な時間枠
A3: 1拠点・同じ役割の必要枠を31件まで。黄色のA〜Dへ。必要人数0も明示できます。
A5: 重なる必要枠は不可。休憩・交代がある場合は重ならない枠へ分割し、全時間を担当する人を割当。
A7: 必要枠ID | B7: 開始日時 | C7: 終了日時 | D7: 必要人数 | E7: 枠の確認 | F7: 入力不備 | G7: 枠の分数 | H7: 分数の前提
A8: REQ-0001 | B8: 46314.375 | C8: 46314.5 | D8: 2 | E8: =IF(COUNTA(A8:D8)=0,"",IF(NOT(AND(ISTEXT(A8),LEN(A8)=8,EXACT(LEFT(A8,4),"REQ-"),ISNUMBER(FIND(MID(A8,5,1)&"x","0x1x2x3x4x5x6x7x8x9x")),ISNUMBER(FIND(MID(A8,6,1)&"x","0x1x2x3x4x5x6x7x8x9x")),ISNUMBER(FIND(MID(A8,7,1)&"x","0x1x2x3x4x5x6x7x8x9x")),ISNUMBER(FIND(MID(A8,8,1)&"x","0x1x2x3x4x5x6x7x8x9x")))),"IDはREQ-と半角数字4桁",IF(COUNTIFS($A$8:$A$38,A8)>1,"必要枠IDが重複",IF(NOT(AND(ISNUMBER(B8),B8>=43831,B8<73051,ABS(B8*1440-ROUND(B8*1440,0))<0.00001)),"開始は実日時・分単位",IF(NOT(AND(ISNUMBER(C8),C8>=43831,C8<73052,ABS(C8*1440-ROUND(C8*1440,0))<0.00001)),"終了は実日時・分単位",IF(OR(C8<=B8,ROUND((C8-B8)*1440,0)>1440),"順序と24時間以内を確認",IF(NOT(AND(ISNUMBER(D8),D8>=0,D8<=20,D8=INT(D8))),"必要人数は0〜20（空欄不可）",IF(COUNTIFS($B$8:$B$38,"<"&C8,$C$8:$C$38,">"&B8)>1,"必要枠の時間帯が重複","確認済み")))))))) -> 確認済み | F8: =IF(E8="","",IF(E8="確認済み",0,1)) -> 0 | G8: =IF(E8="","",IF(F8<>0,NA(),ROUND((C8-B8)*1440,0))) -> 180 | H8: =IF(E8="","",IF(F8<>0,0,IF(AND(ISNUMBER(G8),G8=ROUND((C8-B8)*1440,0)),0,1))) -> 0
A9: REQ-0002 | B9: 46314.542 | C9: 46314.708 | D9: 2 | E9: =IF(COUNTA(A9:D9)=0,"",IF(NOT(AND(ISTEXT(A9),LEN(A9)=8,EXACT(LEFT(A9,4),"REQ-"),ISNUMBER(FIND(MID(A9,5,1)&"x","0x1x2x3x4x5x6x7x8x9x")),ISNUMBER(FIND(MID(A9,6,1)&"x","0x1x2x3x4x5x6x7x8x9x")),ISNUMBER(FIND(MID(A9,7,1)&"x","0x1x2x3x4x5x6x7x8x9x")),ISNUMBER(FIND(MID(A9,8,1)&"x","0x1x2x3x4x5x6x7x8x9x")))),"IDはREQ-と半角数字4桁",IF(COUNTIFS($A$8:$A$38,A9)>1,"必要枠IDが重複",IF(NOT(AND(ISNUMBER(B9),B9>=43831,B9<73051,ABS(B9*1440-ROUND(B9*1440,0))<0.00001)),"開始は実日時・分単位",IF(NOT(AND(ISNUMBER(C9),C9>=43831,C9<73052,ABS(C9*1440-ROUND(C9*1440,0))<0.00001)),"終了は実日時・分単位",IF(OR(C9<=B9,ROUND((C9-B9)*1440,0)>1440),"順序と24時間以内を確認",IF(NOT(AND(ISNUMBER(D9),D9>=0,D9<=20,D9=INT(D9))),"必要人数は0〜20（空欄不可）",IF(COUNTIFS($B$8:$B$38,"<"&C9,$C$8:$C$38,">"&B9)>1,"必要枠の時間帯が重複","確認済み")))))))) -> 確認済み | F9: =IF(E9="","",IF(E9="確認済み",0,1)) -> 0 | G9: =IF(E9="","",IF(F9<>0,NA(),ROUND((C9-B9)*1440,0))) -> 240 | H9: =IF(E9="","",IF(F9<>0,0,IF(AND(ISNUMBER(G9),G9=ROUND((C9-B9)*1440,0)),0,1))) -> 0
A10: REQ-0003 | B10: 46315.375 | C10: 46315.5 | D10: 1 | E10: =IF(COUNTA(A10:D10)=0,"",IF(NOT(AND(ISTEXT(A10),LEN(A10)=8,EXACT(LEFT(A10,4),"REQ-"),ISNUMBER(FIND(MID(A10,5,1)&"x","0x1x2x3x4x5x6x7x8x9x")),ISNUMBER(FIND(MID(A10,6,1)&"x","0x1x2x3x4x5x6x7x8x9x")),ISNUMBER(FIND(MID(A10,7,1)&"x","0x1x2x3x4x5x6x7x8x9x")),ISNUMBER(FIND(MID(A10,8,1)&"x","0x1x2x3x4x5x6x7x8x9x")))),"IDはREQ-と半角数字4桁",IF(COUNTIFS($A$8:$A$38,A10)>1,"必要枠IDが重複",IF(NOT(AND(ISNUMBER(B10),B10>=43831,B10<73051,ABS(B10*1440-ROUND(B10*1440,0))<0.00001)),"開始は実日時・分単位",IF(NOT(AND(ISNUMBER(C10),C10>=43831,C10<73052,ABS(C10*1440-ROUND(C10*1440,0))<0.00001)),"終了は実日時・分単位",IF(OR(C10<=B10,ROUND((C10-B10)*1440,0)>1440),"順序と24時間以内を確認",IF(NOT(AND(ISNUMBER(D10),D10>=0,D10<=20,D10=INT(D10))),"必要人数は0〜20（空欄不可）",IF(COUNTIFS($B$8:$B$38,"<"&C10,$C$8:$C$38,">"&B10)>1,"必要枠の時間帯が重複","確認済み")))))))) -> 確認済み | F10: =IF(E10="","",IF(E10="確認済み",0,1)) -> 0 | G10: =IF(E10="","",IF(F10<>0,NA(),ROUND((C10-B10)*1440,0))) -> 180 | H10: =IF(E10="","",IF(F10<>0,0,IF(AND(ISNUMBER(G10),G10=ROUND((C10-B10)*1440,0)),0,1))) -> 0
A11: REQ-0004 | B11: 46315.917 | C11: 46316.25 | D11: 1 | E11: =IF(COUNTA(A11:D11)=0,"",IF(NOT(AND(ISTEXT(A11),LEN(A11)=8,EXACT(LEFT(A11,4),"REQ-"),ISNUMBER(FIND(MID(A11,5,1)&"x","0x1x2x3x4x5x6x7x8x9x")),ISNUMBER(FIND(MID(A11,6,1)&"x","0x1x2x3x4x5x6x7x8x9x")),ISNUMBER(FIND(MID(A11,7,1)&"x","0x1x2x3x4x5x6x7x8x9x")),ISNUMBER(FIND(MID(A11,8,1)&"x","0x1x2x3x4x5x6x7x8x9x")))),"IDはREQ-と半角数字4桁",IF(COUNTIFS($A$8:$A$38,A11)>1,"必要枠IDが重複",IF(NOT(AND(ISNUMBER(B11),B11>=43831,B11<73051,ABS(B11*1440-ROUND(B11*1440,0))<0.00001)),"開始は実日時・分単位",IF(NOT(AND(ISNUMBER(C11),C11>=43831,C11<73052,ABS(C11*1440-ROUND(C11*1440,0))<0.00001)),"終了は実日時・分単位",IF(OR(C11<=B11,ROUND((C11-B11)*1440,0)>1440),"順序と24時間以内を確認",IF(NOT(AND(ISNUMBER(D11),D11>=0,D11<=20,D11=INT(D11))),"必要人数は0〜20（空欄不可）",IF(COUNTIFS($B$8:$B$38,"<"&C11,$C$8:$C$38,">"&B11)>1,"必要枠の時間帯が重複","確認済み")))))))) -> 確認済み | F11: =IF(E11="","",IF(E11="確認済み",0,1)) -> 0 | G11: =IF(E11="","",IF(F11<>0,NA(),ROUND((C11-B11)*1440,0))) -> 480 | H11: =IF(E11="","",IF(F11<>0,0,IF(AND(ISNUMBER(G11),G11=ROUND((C11-B11)*1440,0)),0,1))) -> 0
A12: REQ-0005 | B12: 46316.375 | C12: 46316.417 | D12: 0 | E12: =IF(COUNTA(A12:D12)=0,"",IF(NOT(AND(ISTEXT(A12),LEN(A12)=8,EXACT(LEFT(A12,4),"REQ-"),ISNUMBER(FIND(MID(A12,5,1)&"x","0x1x2x3x4x5x6x7x8x9x")),ISNUMBER(FIND(MID(A12,6,1)&"x","0x1x2x3x4x5x6x7x8x9x")),ISNUMBER(FIND(MID(A12,7,1)&"x","0x1x2x3x4x5x6x7x8x9x")),ISNUMBER(FIND(MID(A12,8,1)&"x","0x1x2x3x4x5x6x7x8x9x")))),"IDはREQ-と半角数字4桁",IF(COUNTIFS($A$8:$A$38,A12)>1,"必要枠IDが重複",IF(NOT(AND(ISNUMBER(B12),B12>=43831,B12<73051,ABS(B12*1440-ROUND(B12*1440,0))<0.00001)),"開始は実日時・分単位",IF(NOT(AND(ISNUMBER(C12),C12>=43831,C12<73052,ABS(C12*1440-ROUND(C12*1440,0))<0.00001)),"終了は実日時・分単位",IF(OR(C12<=B12,ROUND((C12-B12)*1440,0)>1440),"順序と24時間以内を確認",IF(NOT(AND(ISNUMBER(D12),D12>=0,D12<=20,D12=INT(D12))),"必要人数は0〜20（空欄不可）",IF(COUNTIFS($B$8:$B$38,"<"&C12,$C$8:$C$38,">"&B12)>1,"必要枠の時間帯が重複","確認済み")))))))) -> 確認済み | F12: =IF(E12="","",IF(E12="確認済み",0,1)) -> 0 | G12: =IF(E12="","",IF(F12<>0,NA(),ROUND((C12-B12)*1440,0))) -> 60 | H12: =IF(E12="","",IF(F12<>0,0,IF(AND(ISNUMBER(G12),G12=ROUND((C12-B12)*1440,0)),0,1))) -> 0
E13: =IF(COUNTA(A13:D13)=0,"",IF(NOT(AND(ISTEXT(A13),LEN(A13)=8,EXACT(LEFT(A13,4),"REQ-"),ISNUMBER(FIND(MID(A13,5,1)&"x","0x1x2x3x4x5x6x7x8x9x")),ISNUMBER(FIND(MID(A13,6,1)&"x","0x1x2x3x4x5x6x7x8x9x")),ISNUMBER(FIND(MID(A13,7,1)&"x","0x1x2x3x4x5x6x7x8x9x")),ISNUMBER(FIND(MID(A13,8,1)&"x","0x1x2x3x4x5x6x7x8x9x")))),"IDはREQ-と半角数字4桁",IF(COUNTIFS($A$8:$A$38,A13)>1,"必要枠IDが重複",IF(NOT(AND(ISNUMBER(B13),B13>=43831,B13<73051,ABS(B13*1440-ROUND(B13*1440,0))<0.00001)),"開始は実日時・分単位",IF(NOT(AND(ISNUMBER(C13),C13>=43831,C13<73052,ABS(C13*1440-ROUND(C13*1440,0))<0.00001)),"終了は実日時・分単位",IF(OR(C13<=B13,ROUND((C13-B13)*1440,0)>1440),"順序と24時間以内を確認",IF(NOT(AND(ISNUMBER(D13),D13>=0,D13<=20,D13=INT(D13))),"必要人数は0〜20（空欄不可）",IF(COUNTIFS($B$8:$B$38,"<"&C13,$C$8:$C$38,">"&B13)>1,"必要枠の時間帯が重複","確認済み")))))))) | F13: =IF(E13="","",IF(E13="確認済み",0,1)) | G13: =IF(E13="","",IF(F13<>0,NA(),ROUND((C13-B13)*1440,0))) | H13: =IF(E13="","",IF(F13<>0,0,IF(AND(ISNUMBER(G13),G13=ROUND((C13-B13)*1440,0)),0,1)))
E14: =IF(COUNTA(A14:D14)=0,"",IF(NOT(AND(ISTEXT(A14),LEN(A14)=8,EXACT(LEFT(A14,4),"REQ-"),ISNUMBER(FIND(MID(A14,5,1)&"x","0x1x2x3x4x5x6x7x8x9x")),ISNUMBER(FIND(MID(A14,6,1)&"x","0x1x2x3x4x5x6x7x8x9x")),ISNUMBER(FIND(MID(A14,7,1)&"x","0x1x2x3x4x5x6x7x8x9x")),ISNUMBER(FIND(MID(A14,8,1)&"x","0x1x2x3x4x5x6x7x8x9x")))),"IDはREQ-と半角数字4桁",IF(COUNTIFS($A$8:$A$38,A14)>1,"必要枠IDが重複",IF(NOT(AND(ISNUMBER(B14),B14>=43831,B14<73051,ABS(B14*1440-ROUND(B14*1440,0))<0.00001)),"開始は実日時・分単位",IF(NOT(AND(ISNUMBER(C14),C14>=43831,C14<73052,ABS(C14*1440-ROUND(C14*1440,0))<0.00001)),"終了は実日時・分単位",IF(OR(C14<=B14,ROUND((C14-B14)*1440,0)>1440),"順序と24時間以内を確認",IF(NOT(AND(ISNUMBER(D14),D14>=0,D14<=20,D14=INT(D14))),"必要人数は0〜20（空欄不可）",IF(COUNTIFS($B$8:$B$38,"<"&C14,$C$8:$C$38,">"&B14)>1,"必要枠の時間帯が重複","確認済み")))))))) | F14: =IF(E14="","",IF(E14="確認済み",0,1)) | G14: =IF(E14="","",IF(F14<>0,NA(),ROUND((C14-B14)*1440,0))) | H14: =IF(E14="","",IF(F14<>0,0,IF(AND(ISNUMBER(G14),G14=ROUND((C14-B14)*1440,0)),0,1)))
E15: =IF(COUNTA(A15:D15)=0,"",IF(NOT(AND(ISTEXT(A15),LEN(A15)=8,EXACT(LEFT(A15,4),"REQ-"),ISNUMBER(FIND(MID(A15,5,1)&"x","0x1x2x3x4x5x6x7x8x9x")),ISNUMBER(FIND(MID(A15,6,1)&"x","0x1x2x3x4x5x6x7x8x9x")),ISNUMBER(FIND(MID(A15,7,1)&"x","0x1x2x3x4x5x6x7x8x9x")),ISNUMBER(FIND(MID(A15,8,1)&"x","0x1x2x3x4x5x6x7x8x9x")))),"IDはREQ-と半角数字4桁",IF(COUNTIFS($A$8:$A$38,A15)>1,"必要枠IDが重複",IF(NOT(AND(ISNUMBER(B15),B15>=43831,B15<73051,ABS(B15*1440-ROUND(B15*1440,0))<0.00001)),"開始は実日時・分単位",IF(NOT(AND(ISNUMBER(C15),C15>=43831,C15<73052,ABS(C15*1440-ROUND(C15*1440,0))<0.00001)),"終了は実日時・分単位",IF(OR(C15<=B15,ROUND((C15-B15)*1440,0)>1440),"順序と24時間以内を確認",IF(NOT(AND(ISNUMBER(D15),D15>=0,D15<=20,D15=INT(D15))),"必要人数は0〜20（空欄不可）",IF(COUNTIFS($B$8:$B$38,"<"&C15,$C$8:$C$38,">"&B15)>1,"必要枠の時間帯が重複","確認済み")))))))) | F15: =IF(E15="","",IF(E15="確認済み",0,1)) | G15: =IF(E15="","",IF(F15<>0,NA(),ROUND((C15-B15)*1440,0))) | H15: =IF(E15="","",IF(F15<>0,0,IF(AND(ISNUMBER(G15),G15=ROUND((C15-B15)*1440,0)),0,1)))
E16: =IF(COUNTA(A16:D16)=0,"",IF(NOT(AND(ISTEXT(A16),LEN(A16)=8,EXACT(LEFT(A16,4),"REQ-"),ISNUMBER(FIND(MID(A16,5,1)&"x","0x1x2x3x4x5x6x7x8x9x")),ISNUMBER(FIND(MID(A16,6,1)&"x","0x1x2x3x4x5x6x7x8x9x")),ISNUMBER(FIND(MID(A16,7,1)&"x","0x1x2x3x4x5x6x7x8x9x")),ISNUMBER(FIND(MID(A16,8,1)&"x","0x1x2x3x4x5x6x7x8x9x")))),"IDはREQ-と半角数字4桁",IF(COUNTIFS($A$8:$A$38,A16)>1,"必要枠IDが重複",IF(NOT(AND(ISNUMBER(B16),B16>=43831,B16<73051,ABS(B16*1440-ROUND(B16*1440,0))<0.00001)),"開始は実日時・分単位",IF(NOT(AND(ISNUMBER(C16),C16>=43831,C16<73052,ABS(C16*1440-ROUND(C16*1440,0))<0.00001)),"終了は実日時・分単位",IF(OR(C16<=B16,ROUND((C16-B16)*1440,0)>1440),"順序と24時間以内を確認",IF(NOT(AND(ISNUMBER(D16),D16>=0,D16<=20,D16=INT(D16))),"必要人数は0〜20（空欄不可）",IF(COUNTIFS($B$8:$B$38,"<"&C16,$C$8:$C$38,">"&B16)>1,"必要枠の時間帯が重複","確認済み")))))))) | F16: =IF(E16="","",IF(E16="確認済み",0,1)) | G16: =IF(E16="","",IF(F16<>0,NA(),ROUND((C16-B16)*1440,0))) | H16: =IF(E16="","",IF(F16<>0,0,IF(AND(ISNUMBER(G16),G16=ROUND((C16-B16)*1440,0)),0,1)))
E17: =IF(COUNTA(A17:D17)=0,"",IF(NOT(AND(ISTEXT(A17),LEN(A17)=8,EXACT(LEFT(A17,4),"REQ-"),ISNUMBER(FIND(MID(A17,5,1)&"x","0x1x2x3x4x5x6x7x8x9x")),ISNUMBER(FIND(MID(A17,6,1)&"x","0x1x2x3x4x5x6x7x8x9x")),ISNUMBER(FIND(MID(A17,7,1)&"x","0x1x2x3x4x5x6x7x8x9x")),ISNUMBER(FIND(MID(A17,8,1)&"x","0x1x2x3x4x5x6x7x8x9x")))),"IDはREQ-と半角数字4桁",IF(COUNTIFS($A$8:$A$38,A17)>1,"必要枠IDが重複",IF(NOT(AND(ISNUMBER(B17),B17>=43831,B17<73051,ABS(B17*1440-ROUND(B17*1440,0))<0.00001)),"開始は実日時・分単位",IF(NOT(AND(ISNUMBER(C17),C17>=43831,C17<73052,ABS(C17*1440-ROUND(C17*1440,0))<0.00001)),"終了は実日時・分単位",IF(OR(C17<=B17,ROUND((C17-B17)*1440,0)>1440),"順序と24時間以内を確認",IF(NOT(AND(ISNUMBER(D17),D17>=0,D17<=20,D17=INT(D17))),"必要人数は0〜20（空欄不可）",IF(COUNTIFS($B$8:$B$38,"<"&C17,$C$8:$C$38,">"&B17)>1,"必要枠の時間帯が重複","確認済み")))))))) | F17: =IF(E17="","",IF(E17="確認済み",0,1)) | G17: =IF(E17="","",IF(F17<>0,NA(),ROUND((C17-B17)*1440,0))) | H17: =IF(E17="","",IF(F17<>0,0,IF(AND(ISNUMBER(G17),G17=ROUND((C17-B17)*1440,0)),0,1)))
E18: =IF(COUNTA(A18:D18)=0,"",IF(NOT(AND(ISTEXT(A18),LEN(A18)=8,EXACT(LEFT(A18,4),"REQ-"),ISNUMBER(FIND(MID(A18,5,1)&"x","0x1x2x3x4x5x6x7x8x9x")),ISNUMBER(FIND(MID(A18,6,1)&"x","0x1x2x3x4x5x6x7x8x9x")),ISNUMBER(FIND(MID(A18,7,1)&"x","0x1x2x3x4x5x6x7x8x9x")),ISNUMBER(FIND(MID(A18,8,1)&"x","0x1x2x3x4x5x6x7x8x9x")))),"IDはREQ-と半角数字4桁",IF(COUNTIFS($A$8:$A$38,A18)>1,"必要枠IDが重複",IF(NOT(AND(ISNUMBER(B18),B18>=43831,B18<73051,ABS(B18*1440-ROUND(B18*1440,0))<0.00001)),"開始は実日時・分単位",IF(NOT(AND(ISNUMBER(C18),C18>=43831,C18<73052,ABS(C18*1440-ROUND(C18*1440,0))<0.00001)),"終了は実日時・分単位",IF(OR(C18<=B18,ROUND((C18-B18)*1440,0)>1440),"順序と24時間以内を確認",IF(NOT(AND(ISNUMBER(D18),D18>=0,D18<=20,D18=INT(D18))),"必要人数は0〜20（空欄不可）",IF(COUNTIFS($B$8:$B$38,"<"&C18,$C$8:$C$38,">"&B18)>1,"必要枠の時間帯が重複","確認済み")))))))) | F18: =IF(E18="","",IF(E18="確認済み",0,1)) | G18: =IF(E18="","",IF(F18<>0,NA(),ROUND((C18-B18)*1440,0))) | H18: =IF(E18="","",IF(F18<>0,0,IF(AND(ISNUMBER(G18),G18=ROUND((C18-B18)*1440,0)),0,1)))
E19: =IF(COUNTA(A19:D19)=0,"",IF(NOT(AND(ISTEXT(A19),LEN(A19)=8,EXACT(LEFT(A19,4),"REQ-"),ISNUMBER(FIND(MID(A19,5,1)&"x","0x1x2x3x4x5x6x7x8x9x")),ISNUMBER(FIND(MID(A19,6,1)&"x","0x1x2x3x4x5x6x7x8x9x")),ISNUMBER(FIND(MID(A19,7,1)&"x","0x1x2x3x4x5x6x7x8x9x")),ISNUMBER(FIND(MID(A19,8,1)&"x","0x1x2x3x4x5x6x7x8x9x")))),"IDはREQ-と半角数字4桁",IF(COUNTIFS($A$8:$A$38,A19)>1,"必要枠IDが重複",IF(NOT(AND(ISNUMBER(B19),B19>=43831,B19<73051,ABS(B19*1440-ROUND(B19*1440,0))<0.00001)),"開始は実日時・分単位",IF(NOT(AND(ISNUMBER(C19),C19>=43831,C19<73052,ABS(C19*1440-ROUND(C19*1440,0))<0.00001)),"終了は実日時・分単位",IF(OR(C19<=B19,ROUND((C19-B19)*1440,0)>1440),"順序と24時間以内を確認",IF(NOT(AND(ISNUMBER(D19),D19>=0,D19<=20,D19=INT(D19))),"必要人数は0〜20（空欄不可）",IF(COUNTIFS($B$8:$B$38,"<"&C19,$C$8:$C$38,">"&B19)>1,"必要枠の時間帯が重複","確認済み")))))))) | F19: =IF(E19="","",IF(E19="確認済み",0,1)) | G19: =IF(E19="","",IF(F19<>0,NA(),ROUND((C19-B19)*1440,0))) | H19: =IF(E19="","",IF(F19<>0,0,IF(AND(ISNUMBER(G19),G19=ROUND((C19-B19)*1440,0)),0,1)))
E20: =IF(COUNTA(A20:D20)=0,"",IF(NOT(AND(ISTEXT(A20),LEN(A20)=8,EXACT(LEFT(A20,4),"REQ-"),ISNUMBER(FIND(MID(A20,5,1)&"x","0x1x2x3x4x5x6x7x8x9x")),ISNUMBER(FIND(MID(A20,6,1)&"x","0x1x2x3x4x5x6x7x8x9x")),ISNUMBER(FIND(MID(A20,7,1)&"x","0x1x2x3x4x5x6x7x8x9x")),ISNUMBER(FIND(MID(A20,8,1)&"x","0x1x2x3x4x5x6x7x8x9x")))),"IDはREQ-と半角数字4桁",IF(COUNTIFS($A$8:$A$38,A20)>1,"必要枠IDが重複",IF(NOT(AND(ISNUMBER(B20),B20>=43831,B20<73051,ABS(B20*1440-ROUND(B20*1440,0))<0.00001)),"開始は実日時・分単位",IF(NOT(AND(ISNUMBER(C20),C20>=43831,C20<73052,ABS(C20*1440-ROUND(C20*1440,0))<0.00001)),"終了は実日時・分単位",IF(OR(C20<=B20,ROUND((C20-B20)*1440,0)>1440),"順序と24時間以内を確認",IF(NOT(AND(ISNUMBER(D20),D20>=0,D20<=20,D20=INT(D20))),"必要人数は0〜20（空欄不可）",IF(COUNTIFS($B$8:$B$38,"<"&C20,$C$8:$C$38,">"&B20)>1,"必要枠の時間帯が重複","確認済み")))))))) | F20: =IF(E20="","",IF(E20="確認済み",0,1)) | G20: =IF(E20="","",IF(F20<>0,NA(),ROUND((C20-B20)*1440,0))) | H20: =IF(E20="","",IF(F20<>0,0,IF(AND(ISNUMBER(G20),G20=ROUND((C20-B20)*1440,0)),0,1)))
E21: =IF(COUNTA(A21:D21)=0,"",IF(NOT(AND(ISTEXT(A21),LEN(A21)=8,EXACT(LEFT(A21,4),"REQ-"),ISNUMBER(FIND(MID(A21,5,1)&"x","0x1x2x3x4x5x6x7x8x9x")),ISNUMBER(FIND(MID(A21,6,1)&"x","0x1x2x3x4x5x6x7x8x9x")),ISNUMBER(FIND(MID(A21,7,1)&"x","0x1x2x3x4x5x6x7x8x9x")),ISNUMBER(FIND(MID(A21,8,1)&"x","0x1x2x3x4x5x6x7x8x9x")))),"IDはREQ-と半角数字4桁",IF(COUNTIFS($A$8:$A$38,A21)>1,"必要枠IDが重複",IF(NOT(AND(ISNUMBER(B21),B21>=43831,B21<73051,ABS(B21*1440-ROUND(B21*1440,0))<0.00001)),"開始は実日時・分単位",IF(NOT(AND(ISNUMBER(C21),C21>=43831,C21<73052,ABS(C21*1440-ROUND(C21*1440,0))<0.00001)),"終了は実日時・分単位",IF(OR(C21<=B21,ROUND((C21-B21)*1440,0)>1440),"順序と24時間以内を確認",IF(NOT(AND(ISNUMBER(D21),D21>=0,D21<=20,D21=INT(D21))),"必要人数は0〜20（空欄不可）",IF(COUNTIFS($B$8:$B$38,"<"&C21,$C$8:$C$38,">"&B21)>1,"必要枠の時間帯が重複","確認済み")))))))) | F21: =IF(E21="","",IF(E21="確認済み",0,1)) | G21: =IF(E21="","",IF(F21<>0,NA(),ROUND((C21-B21)*1440,0))) | H21: =IF(E21="","",IF(F21<>0,0,IF(AND(ISNUMBER(G21),G21=ROUND((C21-B21)*1440,0)),0,1)))
E22: =IF(COUNTA(A22:D22)=0,"",IF(NOT(AND(ISTEXT(A22),LEN(A22)=8,EXACT(LEFT(A22,4),"REQ-"),ISNUMBER(FIND(MID(A22,5,1)&"x","0x1x2x3x4x5x6x7x8x9x")),ISNUMBER(FIND(MID(A22,6,1)&"x","0x1x2x3x4x5x6x7x8x9x")),ISNUMBER(FIND(MID(A22,7,1)&"x","0x1x2x3x4x5x6x7x8x9x")),ISNUMBER(FIND(MID(A22,8,1)&"x","0x1x2x3x4x5x6x7x8x9x")))),"IDはREQ-と半角数字4桁",IF(COUNTIFS($A$8:$A$38,A22)>1,"必要枠IDが重複",IF(NOT(AND(ISNUMBER(B22),B22>=43831,B22<73051,ABS(B22*1440-ROUND(B22*1440,0))<0.00001)),"開始は実日時・分単位",IF(NOT(AND(ISNUMBER(C22),C22>=43831,C22<73052,ABS(C22*1440-ROUND(C22*1440,0))<0.00001)),"終了は実日時・分単位",IF(OR(C22<=B22,ROUND((C22-B22)*1440,0)>1440),"順序と24時間以内を確認",IF(NOT(AND(ISNUMBER(D22),D22>=0,D22<=20,D22=INT(D22))),"必要人数は0〜20（空欄不可）",IF(COUNTIFS($B$8:$B$38,"<"&C22,$C$8:$C$38,">"&B22)>1,"必要枠の時間帯が重複","確認済み")))))))) | F22: =IF(E22="","",IF(E22="確認済み",0,1)) | G22: =IF(E22="","",IF(F22<>0,NA(),ROUND((C22-B22)*1440,0))) | H22: =IF(E22="","",IF(F22<>0,0,IF(AND(ISNUMBER(G22),G22=ROUND((C22-B22)*1440,0)),0,1)))
E23: =IF(COUNTA(A23:D23)=0,"",IF(NOT(AND(ISTEXT(A23),LEN(A23)=8,EXACT(LEFT(A23,4),"REQ-"),ISNUMBER(FIND(MID(A23,5,1)&"x","0x1x2x3x4x5x6x7x8x9x")),ISNUMBER(FIND(MID(A23,6,1)&"x","0x1x2x3x4x5x6x7x8x9x")),ISNUMBER(FIND(MID(A23,7,1)&"x","0x1x2x3x4x5x6x7x8x9x")),ISNUMBER(FIND(MID(A23,8,1)&"x","0x1x2x3x4x5x6x7x8x9x")))),"IDはREQ-と半角数字4桁",IF(COUNTIFS($A$8:$A$38,A23)>1,"必要枠IDが重複",IF(NOT(AND(ISNUMBER(B23),B23>=43831,B23<73051,ABS(B23*1440-ROUND(B23*1440,0))<0.00001)),"開始は実日時・分単位",IF(NOT(AND(ISNUMBER(C23),C23>=43831,C23<73052,ABS(C23*1440-ROUND(C23*1440,0))<0.00001)),"終了は実日時・分単位",IF(OR(C23<=B23,ROUND((C23-B23)*1440,0)>1440),"順序と24時間以内を確認",IF(NOT(AND(ISNUMBER(D23),D23>=0,D23<=20,D23=INT(D23))),"必要人数は0〜20（空欄不可）",IF(COUNTIFS($B$8:$B$38,"<"&C23,$C$8:$C$38,">"&B23)>1,"必要枠の時間帯が重複","確認済み")))))))) | F23: =IF(E23="","",IF(E23="確認済み",0,1)) | G23: =IF(E23="","",IF(F23<>0,NA(),ROUND((C23-B23)*1440,0))) | H23: =IF(E23="","",IF(F23<>0,0,IF(AND(ISNUMBER(G23),G23=ROUND((C23-B23)*1440,0)),0,1)))
E24: =IF(COUNTA(A24:D24)=0,"",IF(NOT(AND(ISTEXT(A24),LEN(A24)=8,EXACT(LEFT(A24,4),"REQ-"),ISNUMBER(FIND(MID(A24,5,1)&"x","0x1x2x3x4x5x6x7x8x9x")),ISNUMBER(FIND(MID(A24,6,1)&"x","0x1x2x3x4x5x6x7x8x9x")),ISNUMBER(FIND(MID(A24,7,1)&"x","0x1x2x3x4x5x6x7x8x9x")),ISNUMBER(FIND(MID(A24,8,1)&"x","0x1x2x3x4x5x6x7x8x9x")))),"IDはREQ-と半角数字4桁",IF(COUNTIFS($A$8:$A$38,A24)>1,"必要枠IDが重複",IF(NOT(AND(ISNUMBER(B24),B24>=43831,B24<73051,ABS(B24*1440-ROUND(B24*1440,0))<0.00001)),"開始は実日時・分単位",IF(NOT(AND(ISNUMBER(C24),C24>=43831,C24<73052,ABS(C24*1440-ROUND(C24*1440,0))<0.00001)),"終了は実日時・分単位",IF(OR(C24<=B24,ROUND((C24-B24)*1440,0)>1440),"順序と24時間以内を確認",IF(NOT(AND(ISNUMBER(D24),D24>=0,D24<=20,D24=INT(D24))),"必要人数は0〜20（空欄不可）",IF(COUNTIFS($B$8:$B$38,"<"&C24,$C$8:$C$38,">"&B24)>1,"必要枠の時間帯が重複","確認済み")))))))) | F24: =IF(E24="","",IF(E24="確認済み",0,1)) | G24: =IF(E24="","",IF(F24<>0,NA(),ROUND((C24-B24)*1440,0))) | H24: =IF(E24="","",IF(F24<>0,0,IF(AND(ISNUMBER(G24),G24=ROUND((C24-B24)*1440,0)),0,1)))
... E38: =IF(COUNTA(A38:D38)=0,"",IF(NOT(AND(ISTEXT(A38),LEN(A38)=8,EXACT(LEFT(A38,4),"REQ-"),ISNUMBER(FIND(MID(A38,5,1)&"x","0x1x2x3x4x5x6x7x8x9x")),ISNUMBER(FIND(MID(A38,6,1)&"x","0x1x2x3x4x5x6x7x8x9x")),ISNUMBER(FIND(MID(A38,7,1)&"x","0x1x2x3x4x5x6x7x8x9x")),ISNUMBER(FIND(MID(A38,8,1)&"x","0x1x2x3x4x5x6x7x8x9x")))),"IDはREQ-と半角数字4桁",IF(COUNTIFS($A$8:$A$38,A38)>1,"必要枠IDが重複",IF(NOT(AND(ISNUMBER(B38),B38>=43831,B38<73051,ABS(B38*1440-ROUND(B38*1440,0))<0.00001)),"開始は実日時・分単位",IF(NOT(AND(ISNUMBER(C38),C38>=43831,C38<73052,ABS(C38*1440-ROUND(C38*1440,0))<0.00001)),"終了は実日時・分単位",IF(OR(C38<=B38,ROUND((C38-B38)*1440,0)>1440),"順序と24時間以内を確認",IF(NOT(AND(ISNUMBER(D38),D38>=0,D38<=20,D38=INT(D38))),"必要人数は0〜20（空欄不可）",IF(COUNTIFS($B$8:$B$38,"<"&C38,$C$8:$C$38,">"&B38)>1,"必要枠の時間帯が重複","確認済み")))))))) | F38: =IF(E38="","",IF(E38="確認済み",0,1)) | G38: =IF(E38="","",IF(F38<>0,NA(),ROUND((C38-B38)*1440,0))) | H38: =IF(E38="","",IF(F38<>0,0,IF(AND(ISNUMBER(G38),G38=ROUND((C38-B38)*1440,0)),0,1)))
A42: 架空の予定表。1拠点/同じ役割、31必要枠・100割当・20担当ID。入力した全枠を集計。
A43: 分単位・2020〜2099年開始、正の長さで24時間以内。同じタイムゾーン・夏時間なし。
A44: 必要枠は重複不可。担当は枠の全時間を担当。休憩/交代は必要枠を分割し、別途確認。
A45: 担当は1人1ID。同じ人に複数IDを作らず、IDと本人の対応は社内の別管理元へ保持。
A46: 同じ枠への同じ人の二重割当を停止。異なる枠でも時間重複は不可。境界の隣接は可。
A47: 不足/過剰を相殺しません。人枠は延べ配置数、人分は人数×分。勤務日数/実人数ではありません。
A48: 給与/法定区分/休暇/資格/連続勤務/承認/自動配置/打刻の管理は対象外。マクロ・外部接続なし。
A49: 印刷は配置状況のみ。初期A1:H14、31枠はA1:H40へ手動拡張。A4横・9行目繰返し。
A50: 版1 / CC0 1.0。https://creativecommons.org/publicdomain/zero/1.0/

Sheet 割当
A2: 枠への割当と担当ID
A3: K列へ担当IDを登録（20人まで）。A〜Cへ割当ID・枠ID・担当IDを入力（100件まで）。
A5: 割当はその枠の全時間を担当する予定です。担当の都合や休憩・休暇・資格・承認は別途確認。
A7: 割当ID | B7: 必要枠ID | C7: 担当ID | D7: 枠の開始 | E7: 枠の終了 | F7: 予定分 | G7: IDの確認 | H7: ID不備 | I7: 日時/重複不備 | K7: 登録担当ID | L7: 担当の確認 | M7: 担当不備
A8: ASG-0001 | B8: REQ-0001 | C8: STF-0001 | D8: =IF(COUNTA(A8:C8)=0,"",IF(AND(ISTEXT(B8),LEN(B8)=8,EXACT(LEFT(B8,4),"REQ-"),ISNUMBER(FIND(MID(B8,5,1)&"x","0x1x2x3x4x5x6x7x8x9x")),ISNUMBER(FIND(MID(B8,6,1)&"x","0x1x2x3x4x5x6x7x8x9x")),ISNUMBER(FIND(MID(B8,7,1)&"x","0x1x2x3x4x5x6x7x8x9x")),ISNUMBER(FIND(MID(B8,8,1)&"x","0x1x2x3x4x5x6x7x8x9x"))),IF(COUNTIFS(必要枠!$A$8:$A$38,B8)=1,INDEX(必要枠!$B$8:$B$38,MATCH(B8,必要枠!$A$8:$A$38,0)),NA()),NA())) -> 46314.375 | E8: =IF(COUNTA(A8:C8)=0,"",IF(AND(ISTEXT(B8),LEN(B8)=8,EXACT(LEFT(B8,4),"REQ-"),ISNUMBER(FIND(MID(B8,5,1)&"x","0x1x2x3x4x5x6x7x8x9x")),ISNUMBER(FIND(MID(B8,6,1)&"x","0x1x2x3x4x5x6x7x8x9x")),ISNUMBER(FIND(MID(B8,7,1)&"x","0x1x2x3x4x5x6x7x8x9x")),ISNUMBER(FIND(MID(B8,8,1)&"x","0x1x2x3x4x5x6x7x8x9x"))),IF(COUNTIFS(必要枠!$A$8:$A$38,B8)=1,INDEX(必要枠!$C$8:$C$38,MATCH(B8,必要枠!$A$8:$A$38,0)),NA()),NA())) -> 46314.5 | F8: =IF(G8="","",IF(H8<>0,NA(),ROUND((E8-D8)*1440,0))) -> 180 | G8: =IF(COUNTA(A8:C8)=0,"",IF(NOT(AND(ISTEXT(A8),LEN(A8)=8,EXACT(LEFT(A8,4),"ASG-"),ISNUMBER(FIND(MID(A8,5,1)&"x","0x1x2x3x4x5x6x7x8x9x")),ISNUMBER(FIND(MID(A8,6,1)&"x","0x1x2x3x4x5x6x7x8x9x")),ISNUMBER(FIND(MID(A8,7,1)&"x","0x1x2x3x4x5x6x7x8x9x")),ISNUMBER(FIND(MID(A8,8,1)&"x","0x1x2x3x4x5x6x7x8x9x")))),"IDはASG-と半角数字4桁",IF(COUNTIFS($A$8:$A$107,A8)>1,"割当IDが重複",IF(NOT(AND(ISTEXT(B8),LEN(B8)=8,EXACT(LEFT(B8,4),"REQ-"),ISNUMBER(FIND(MID(B8,5,1)&"x","0x1x2x3x4x5x6x7x8x9x")),ISNUMBER(FIND(MID(B8,6,1)&"x","0x1x2x3x4x5x6x7x8x9x")),ISNUMBER(FIND(MID(B8,7,1)&"x","0x1x2x3x4x5x6x7x8x9x")),ISNUMBER(FIND(MID(B8,8,1)&"x","0x1x2x3x4x5x6x7x8x9x")))),"必要枠IDの形式を確認",IF(COUNTIFS(必要枠!$A$8:$A$38,B8)<>1,"必要枠IDが不明・重複",IF(NOT(AND(ISTEXT(C8),LEN(C8)=8,EXACT(LEFT(C8,4),"STF-"),ISNUMBER(FIND(MID(C8,5,1)&"x","0x1x2x3x4x5x6x7x8x9x")),ISNUMBER(FIND(MID(C8,6,1)&"x","0x1x2x3x4x5x6x7x8x9x")),ISNUMBER(FIND(MID(C8,7,1)&"x","0x1x2x3x4x5x6x7x8x9x")),ISNUMBER(FIND(MID(C8,8,1)&"x","0x1x2x3x4x5x6x7x8x9x")))),"担当IDの形式を確認",IF(COUNTIFS($K$8:$K$27,C8)<>1,"担当IDが未登録・重複","確認済み"))))))) -> 確認済み | H8: =IF(G8="","",IF(G8="確認済み",0,1)) -> 0 | I8: =IF(G8="","",IF(H8<>0,0,IF(AND(ISNUMBER(D8),ISNUMBER(E8),ISNUMBER(F8),D8=INDEX(必要枠!$B$8:$B$38,MATCH(B8,必要枠!$A$8:$A$38,0)),E8=INDEX(必要枠!$C$8:$C$38,MATCH(B8,必要枠!$A$8:$A$38,0)),F8=ROUND((E8-D8)*1440,0),COUNTIFS($C$8:$C$107,C8,$D$8:$D$107,"<"&E8,$E$8:$E$107,">"&D8)=1),0,1))) -> 0 | K8: STF-0001 | L8: =IF(COUNTA(K8)=0,"",IF(NOT(AND(ISTEXT(K8),LEN(K8)=8,EXACT(LEFT(K8,4),"STF-"),ISNUMBER(FIND(MID(K8,5,1)&"x","0x1x2x3x4x5x6x7x8x9x")),ISNUMBER(FIND(MID(K8,6,1)&"x","0x1x2x3x4x5x6x7x8x9x")),ISNUMBER(FIND(MID(K8,7,1)&"x","0x1x2x3x4x5x6x7x8x9x")),ISNUMBER(FIND(MID(K8,8,1)&"x","0x1x2x3x4x5x6x7x8x9x")))),"IDはSTF-と半角数字4桁",IF(COUNTIFS($K$8:$K$27,K8)>1,"登録担当IDが重複","確認済み"))) -> 確認済み | M8: =IF(L8="","",IF(L8="確認済み",0,1)) -> 0
A9: ASG-0002 | B9: REQ-0002 | C9: STF-0001 | D9: =IF(COUNTA(A9:C9)=0,"",IF(AND(ISTEXT(B9),LEN(B9)=8,EXACT(LEFT(B9,4),"REQ-"),ISNUMBER(FIND(MID(B9,5,1)&"x","0x1x2x3x4x5x6x7x8x9x")),ISNUMBER(FIND(MID(B9,6,1)&"x","0x1x2x3x4x5x6x7x8x9x")),ISNUMBER(FIND(MID(B9,7,1)&"x","0x1x2x3x4x5x6x7x8x9x")),ISNUMBER(FIND(MID(B9,8,1)&"x","0x1x2x3x4x5x6x7x8x9x"))),IF(COUNTIFS(必要枠!$A$8:$A$38,B9)=1,INDEX(必要枠!$B$8:$B$38,MATCH(B9,必要枠!$A$8:$A$38,0)),NA()),NA())) -> 46314.542 | E9: =IF(COUNTA(A9:C9)=0,"",IF(AND(ISTEXT(B9),LEN(B9)=8,EXACT(LEFT(B9,4),"REQ-"),ISNUMBER(FIND(MID(B9,5,1)&"x","0x1x2x3x4x5x6x7x8x9x")),ISNUMBER(FIND(MID(B9,6,1)&"x","0x1x2x3x4x5x6x7x8x9x")),ISNUMBER(FIND(MID(B9,7,1)&"x","0x1x2x3x4x5x6x7x8x9x")),ISNUMBER(FIND(MID(B9,8,1)&"x","0x1x2x3x4x5x6x7x8x9x"))),IF(COUNTIFS(必要枠!$A$8:$A$38,B9)=1,INDEX(必要枠!$C$8:$C$38,MATCH(B9,必要枠!$A$8:$A$38,0)),NA()),NA())) -> 46314.708 | F9: =IF(G9="","",IF(H9<>0,NA(),ROUND((E9-D9)*1440,0))) -> 240 | G9: =IF(COUNTA(A9:C9)=0,"",IF(NOT(AND(ISTEXT(A9),LEN(A9)=8,EXACT(LEFT(A9,4),"ASG-"),ISNUMBER(FIND(MID(A9,5,1)&"x","0x1x2x3x4x5x6x7x8x9x")),ISNUMBER(FIND(MID(A9,6,1)&"x","0x1x2x3x4x5x6x7x8x9x")),ISNUMBER(FIND(MID(A9,7,1)&"x","0x1x2x3x4x5x6x7x8x9x")),ISNUMBER(FIND(MID(A9,8,1)&"x","0x1x2x3x4x5x6x7x8x9x")))),"IDはASG-と半角数字4桁",IF(COUNTIFS($A$8:$A$107,A9)>1,"割当IDが重複",IF(NOT(AND(ISTEXT(B9),LEN(B9)=8,EXACT(LEFT(B9,4),"REQ-"),ISNUMBER(FIND(MID(B9,5,1)&"x","0x1x2x3x4x5x6x7x8x9x")),ISNUMBER(FIND(MID(B9,6,1)&"x","0x1x2x3x4x5x6x7x8x9x")),ISNUMBER(FIND(MID(B9,7,1)&"x","0x1x2x3x4x5x6x7x8x9x")),ISNUMBER(FIND(MID(B9,8,1)&"x","0x1x2x3x4x5x6x7x8x9x")))),"必要枠IDの形式を確認",IF(COUNTIFS(必要枠!$A$8:$A$38,B9)<>1,"必要枠IDが不明・重複",IF(NOT(AND(ISTEXT(C9),LEN(C9)=8,EXACT(LEFT(C9,4),"STF-"),ISNUMBER(FIND(MID(C9,5,1)&"x","0x1x2x3x4x5x6x7x8x9x")),ISNUMBER(FIND(MID(C9,6,1)&"x","0x1x2x3x4x5x6x7x8x9x")),ISNUMBER(FIND(MID(C9,7,1)&"x","0x1x2x3x4x5x6x7x8x9x")),ISNUMBER(FIND(MID(C9,8,1)&"x","0x1x2x3x4x5x6x7x8x9x")))),"担当IDの形式を確認",IF(COUNTIFS($K$8:$K$27,C9)<>1,"担当IDが未登録・重複","確認済み"))))))) -> 確認済み | H9: =IF(G9="","",IF(G9="確認済み",0,1)) -> 0 | I9: =IF(G9="","",IF(H9<>0,0,IF(AND(ISNUMBER(D9),ISNUMBER(E9),ISNUMBER(F9),D9=INDEX(必要枠!$B$8:$B$38,MATCH(B9,必要枠!$A$8:$A$38,0)),E9=INDEX(必要枠!$C$8:$C$38,MATCH(B9,必要枠!$A$8:$A$38,0)),F9=ROUND((E9-D9)*1440,0),COUNTIFS($C$8:$C$107,C9,$D$8:$D$107,"<"&E9,$E$8:$E$107,">"&D9)=1),0,1))) -> 0 | K9: STF-0002 | L9: =IF(COUNTA(K9)=0,"",IF(NOT(AND(ISTEXT(K9),LEN(K9)=8,EXACT(LEFT(K9,4),"STF-"),ISNUMBER(FIND(MID(K9,5,1)&"x","0x1x2x3x4x5x6x7x8x9x")),ISNUMBER(FIND(MID(K9,6,1)&"x","0x1x2x3x4x5x6x7x8x9x")),ISNUMBER(FIND(MID(K9,7,1)&"x","0x1x2x3x4x5x6x7x8x9x")),ISNUMBER(FIND(MID(K9,8,1)&"x","0x1x2x3x4x5x6x7x8x9x")))),"IDはSTF-と半角数字4桁",IF(COUNTIFS($K$8:$K$27,K9)>1,"登録担当IDが重複","確認済み"))) -> 確認済み | M9: =IF(L9="","",IF(L9="確認済み",0,1)) -> 0
A10: ASG-0003 | B10: REQ-0002 | C10: STF-0002 | D10: =IF(COUNTA(A10:C10)=0,"",IF(AND(ISTEXT(B10),LEN(B10)=8,EXACT(LEFT(B10,4),"REQ-"),ISNUMBER(FIND(MID(B10,5,1)&"x","0x1x2x3x4x5x6x7x8x9x")),ISNUMBER(FIND(MID(B10,6,1)&"x","0x1x2x3x4x5x6x7x8x9x")),ISNUMBER(FIND(MID(B10,7,1)&"x","0x1x2x3x4x5x6x7x8x9x")),ISNUMBER(FIND(MID(B10,8,1)&"x","0x1x2x3x4x5x6x7x8x9x"))),IF(COUNTIFS(必要枠!$A$8:$A$38,B10)=1,INDEX(必要枠!$B$8:$B$38,MATCH(B10,必要枠!$A$8:$A$38,0)),NA()),NA())) -> 46314.542 | E10: =IF(COUNTA(A10:C10)=0,"",IF(AND(ISTEXT(B10),LEN(B10)=8,EXACT(LEFT(B10,4),"REQ-"),ISNUMBER(FIND(MID(B10,5,1)&"x","0x1x2x3x4x5x6x7x8x9x")),ISNUMBER(FIND(MID(B10,6,1)&"x","0x1x2x3x4x5x6x7x8x9x")),ISNUMBER(FIND(MID(B10,7,1)&"x","0x1x2x3x4x5x6x7x8x9x")),ISNUMBER(FIND(MID(B10,8,1)&"x","0x1x2x3x4x5x6x7x8x9x"))),IF(COUNTIFS(必要枠!$A$8:$A$38,B10)=1,INDEX(必要枠!$C$8:$C$38,MATCH(B10,必要枠!$A$8:$A$38,0)),NA()),NA())) -> 46314.708 | F10: =IF(G10="","",IF(H10<>0,NA(),ROUND((E10-D10)*1440,0))) -> 240 | G10: =IF(COUNTA(A10:C10)=0,"",IF(NOT(AND(ISTEXT(A10),LEN(A10)=8,EXACT(LEFT(A10,4),"ASG-"),ISNUMBER(FIND(MID(A10,5,1)&"x","0x1x2x3x4x5x6x7x8x9x")),ISNUMBER(FIND(MID(A10,6,1)&"x","0x1x2x3x4x5x6x7x8x9x")),ISNUMBER(FIND(MID(A10,7,1)&"x","0x1x2x3x4x5x6x7x8x9x")),ISNUMBER(FIND(MID(A10,8,1)&"x","0x1x2x3x4x5x6x7x8x9x")))),"IDはASG-と半角数字4桁",IF(COUNTIFS($A$8:$A$107,A10)>1,"割当IDが重複",IF(NOT(AND(ISTEXT(B10),LEN(B10)=8,EXACT(LEFT(B10,4),"REQ-"),ISNUMBER(FIND(MID(B10,5,1)&"x","0x1x2x3x4x5x6x7x8x9x")),ISNUMBER(FIND(MID(B10,6,1)&"x","0x1x2x3x4x5x6x7x8x9x")),ISNUMBER(FIND(MID(B10,7,1)&"x","0x1x2x3x4x5x6x7x8x9x")),ISNUMBER(FIND(MID(B10,8,1)&"x","0x1x2x3x4x5x6x7x8x9x")))),"必要枠IDの形式を確認",IF(COUNTIFS(必要枠!$A$8:$A$38,B10)<>1,"必要枠IDが不明・重複",IF(NOT(AND(ISTEXT(C10),LEN(C10)=8,EXACT(LEFT(C10,4),"STF-"),ISNUMBER(FIND(MID(C10,5,1)&"x","0x1x2x3x4x5x6x7x8x9x")),ISNUMBER(FIND(MID(C10,6,1)&"x","0x1x2x3x4x5x6x7x8x9x")),ISNUMBER(FIND(MID(C10,7,1)&"x","0x1x2x3x4x5x6x7x8x9x")),ISNUMBER(FIND(MID(C10,8,1)&"x","0x1x2x3x4x5x6x7x8x9x")))),"担当IDの形式を確認",IF(COUNTIFS($K$8:$K$27,C10)<>1,"担当IDが未登録・重複","確認済み"))))))) -> 確認済み | H10: =IF(G10="","",IF(G10="確認済み",0,1)) -> 0 | I10: =IF(G10="","",IF(H10<>0,0,IF(AND(ISNUMBER(D10),ISNUMBER(E10),ISNUMBER(F10),D10=INDEX(必要枠!$B$8:$B$38,MATCH(B10,必要枠!$A$8:$A$38,0)),E10=INDEX(必要枠!$C$8:$C$38,MATCH(B10,必要枠!$A$8:$A$38,0)),F10=ROUND((E10-D10)*1440,0),COUNTIFS($C$8:$C$107,C10,$D$8:$D$107,"<"&E10,$E$8:$E$107,">"&D10)=1),0,1))) -> 0 | K10: STF-0003 | L10: =IF(COUNTA(K10)=0,"",IF(NOT(AND(ISTEXT(K10),LEN(K10)=8,EXACT(LEFT(K10,4),"STF-"),ISNUMBER(FIND(MID(K10,5,1)&"x","0x1x2x3x4x5x6x7x8x9x")),ISNUMBER(FIND(MID(K10,6,1)&"x","0x1x2x3x4x5x6x7x8x9x")),ISNUMBER(FIND(MID(K10,7,1)&"x","0x1x2x3x4x5x6x7x8x9x")),ISNUMBER(FIND(MID(K10,8,1)&"x","0x1x2x3x4x5x6x7x8x9x")))),"IDはSTF-と半角数字4桁",IF(COUNTIFS($K$8:$K$27,K10)>1,"登録担当IDが重複","確認済み"))) -> 確認済み | M10: =IF(L10="","",IF(L10="確認済み",0,1)) -> 0
A11: ASG-0004 | B11: REQ-0003 | C11: STF-0002 | D11: =IF(COUNTA(A11:C11)=0,"",IF(AND(ISTEXT(B11),LEN(B11)=8,EXACT(LEFT(B11,4),"REQ-"),ISNUMBER(FIND(MID(B11,5,1)&"x","0x1x2x3x4x5x6x7x8x9x")),ISNUMBER(FIND(MID(B11,6,1)&"x","0x1x2x3x4x5x6x7x8x9x")),ISNUMBER(FIND(MID(B11,7,1)&"x","0x1x2x3x4x5x6x7x8x9x")),ISNUMBER(FIND(MID(B11,8,1)&"x","0x1x2x3x4x5x6x7x8x9x"))),IF(COUNTIFS(必要枠!$A$8:$A$38,B11)=1,INDEX(必要枠!$B$8:$B$38,MATCH(B11,必要枠!$A$8:$A$38,0)),NA()),NA())) -> 46315.375 | E11: =IF(COUNTA(A11:C11)=0,"",IF(AND(ISTEXT(B11),LEN(B11)=8,EXACT(LEFT(B11,4),"REQ-"),ISNUMBER(FIND(MID(B11,5,1)&"x","0x1x2x3x4x5x6x7x8x9x")),ISNUMBER(FIND(MID(B11,6,1)&"x","0x1x2x3x4x5x6x7x8x9x")),ISNUMBER(FIND(MID(B11,7,1)&"x","0x1x2x3x4x5x6x7x8x9x")),ISNUMBER(FIND(MID(B11,8,1)&"x","0x1x2x3x4x5x6x7x8x9x"))),IF(COUNTIFS(必要枠!$A$8:$A$38,B11)=1,INDEX(必要枠!$C$8:$C$38,MATCH(B11,必要枠!$A$8:$A$38,0)),NA()),NA())) -> 46315.5 | F11: =IF(G11="","",IF(H11<>0,NA(),ROUND((E11-D11)*1440,0))) -> 180 | G11: =IF(COUNTA(A11:C11)=0,"",IF(NOT(AND(ISTEXT(A11),LEN(A11)=8,EXACT(LEFT(A11,4),"ASG-"),ISNUMBER(FIND(MID(A11,5,1)&"x","0x1x2x3x4x5x6x7x8x9x")),ISNUMBER(FIND(MID(A11,6,1)&"x","0x1x2x3x4x5x6x7x8x9x")),ISNUMBER(FIND(MID(A11,7,1)&"x","0x1x2x3x4x5x6x7x8x9x")),ISNUMBER(FIND(MID(A11,8,1)&"x","0x1x2x3x4x5x6x7x8x9x")))),"IDはASG-と半角数字4桁",IF(COUNTIFS($A$8:$A$107,A11)>1,"割当IDが重複",IF(NOT(AND(ISTEXT(B11),LEN(B11)=8,EXACT(LEFT(B11,4),"REQ-"),ISNUMBER(FIND(MID(B11,5,1)&"x","0x1x2x3x4x5x6x7x8x9x")),ISNUMBER(FIND(MID(B11,6,1)&"x","0x1x2x3x4x5x6x7x8x9x")),ISNUMBER(FIND(MID(B11,7,1)&"x","0x1x2x3x4x5x6x7x8x9x")),ISNUMBER(FIND(MID(B11,8,1)&"x","0x1x2x3x4x5x6x7x8x9x")))),"必要枠IDの形式を確認",IF(COUNTIFS(必要枠!$A$8:$A$38,B11)<>1,"必要枠IDが不明・重複",IF(NOT(AND(ISTEXT(C11),LEN(C11)=8,EXACT(LEFT(C11,4),"STF-"),ISNUMBER(FIND(MID(C11,5,1)&"x","0x1x2x3x4x5x6x7x8x9x")),ISNUMBER(FIND(MID(C11,6,1)&"x","0x1x2x3x4x5x6x7x8x9x")),ISNUMBER(FIND(MID(C11,7,1)&"x","0x1x2x3x4x5x6x7x8x9x")),ISNUMBER(FIND(MID(C11,8,1)&"x","0x1x2x3x4x5x6x7x8x9x")))),"担当IDの形式を確認",IF(COUNTIFS($K$8:$K$27,C11)<>1,"担当IDが未登録・重複","確認済み"))))))) -> 確認済み | H11: =IF(G11="","",IF(G11="確認済み",0,1)) -> 0 | I11: =IF(G11="","",IF(H11<>0,0,IF(AND(ISNUMBER(D11),ISNUMBER(E11),ISNUMBER(F11),D11=INDEX(必要枠!$B$8:$B$38,MATCH(B11,必要枠!$A$8:$A$38,0)),E11=INDEX(必要枠!$C$8:$C$38,MATCH(B11,必要枠!$A$8:$A$38,0)),F11=ROUND((E11-D11)*1440,0),COUNTIFS($C$8:$C$107,C11,$D$8:$D$107,"<"&E11,$E$8:$E$107,">"&D11)=1),0,1))) -> 0 | L11: =IF(COUNTA(K11)=0,"",IF(NOT(AND(ISTEXT(K11),LEN(K11)=8,EXACT(LEFT(K11,4),"STF-"),ISNUMBER(FIND(MID(K11,5,1)&"x","0x1x2x3x4x5x6x7x8x9x")),ISNUMBER(FIND(MID(K11,6,1)&"x","0x1x2x3x4x5x6x7x8x9x")),ISNUMBER(FIND(MID(K11,7,1)&"x","0x1x2x3x4x5x6x7x8x9x")),ISNUMBER(FIND(MID(K11,8,1)&"x","0x1x2x3x4x5x6x7x8x9x")))),"IDはSTF-と半角数字4桁",IF(COUNTIFS($K$8:$K$27,K11)>1,"登録担当IDが重複","確認済み"))) | M11: =IF(L11="","",IF(L11="確認済み",0,1))
A12: ASG-0005 | B12: REQ-0003 | C12: STF-0003 | D12: =IF(COUNTA(A12:C12)=0,"",IF(AND(ISTEXT(B12),LEN(B12)=8,EXACT(LEFT(B12,4),"REQ-"),ISNUMBER(FIND(MID(B12,5,1)&"x","0x1x2x3x4x5x6x7x8x9x")),ISNUMBER(FIND(MID(B12,6,1)&"x","0x1x2x3x4x5x6x7x8x9x")),ISNUMBER(FIND(MID(B12,7,1)&"x","0x1x2x3x4x5x6x7x8x9x")),ISNUMBER(FIND(MID(B12,8,1)&"x","0x1x2x3x4x5x6x7x8x9x"))),IF(COUNTIFS(必要枠!$A$8:$A$38,B12)=1,INDEX(必要枠!$B$8:$B$38,MATCH(B12,必要枠!$A$8:$A$38,0)),NA()),NA())) -> 46315.375 | E12: =IF(COUNTA(A12:C12)=0,"",IF(AND(ISTEXT(B12),LEN(B12)=8,EXACT(LEFT(B12,4),"REQ-"),ISNUMBER(FIND(MID(B12,5,1)&"x","0x1x2x3x4x5x6x7x8x9x")),ISNUMBER(FIND(MID(B12,6,1)&"x","0x1x2x3x4x5x6x7x8x9x")),ISNUMBER(FIND(MID(B12,7,1)&"x","0x1x2x3x4x5x6x7x8x9x")),ISNUMBER(FIND(MID(B12,8,1)&"x","0x1x2x3x4x5x6x7x8x9x"))),IF(COUNTIFS(必要枠!$A$8:$A$38,B12)=1,INDEX(必要枠!$C$8:$C$38,MATCH(B12,必要枠!$A$8:$A$38,0)),NA()),NA())) -> 46315.5 | F12: =IF(G12="","",IF(H12<>0,NA(),ROUND((E12-D12)*1440,0))) -> 180 | G12: =IF(COUNTA(A12:C12)=0,"",IF(NOT(AND(ISTEXT(A12),LEN(A12)=8,EXACT(LEFT(A12,4),"ASG-"),ISNUMBER(FIND(MID(A12,5,1)&"x","0x1x2x3x4x5x6x7x8x9x")),ISNUMBER(FIND(MID(A12,6,1)&"x","0x1x2x3x4x5x6x7x8x9x")),ISNUMBER(FIND(MID(A12,7,1)&"x","0x1x2x3x4x5x6x7x8x9x")),ISNUMBER(FIND(MID(A12,8,1)&"x","0x1x2x3x4x5x6x7x8x9x")))),"IDはASG-と半角数字4桁",IF(COUNTIFS($A$8:$A$107,A12)>1,"割当IDが重複",IF(NOT(AND(ISTEXT(B12),LEN(B12)=8,EXACT(LEFT(B12,4),"REQ-"),ISNUMBER(FIND(MID(B12,5,1)&"x","0x1x2x3x4x5x6x7x8x9x")),ISNUMBER(FIND(MID(B12,6,1)&"x","0x1x2x3x4x5x6x7x8x9x")),ISNUMBER(FIND(MID(B12,7,1)&"x","0x1x2x3x4x5x6x7x8x9x")),ISNUMBER(FIND(MID(B12,8,1)&"x","0x1x2x3x4x5x6x7x8x9x")))),"必要枠IDの形式を確認",IF(COUNTIFS(必要枠!$A$8:$A$38,B12)<>1,"必要枠IDが不明・重複",IF(NOT(AND(ISTEXT(C12),LEN(C12)=8,EXACT(LEFT(C12,4),"STF-"),ISNUMBER(FIND(MID(C12,5,1)&"x","0x1x2x3x4x5x6x7x8x9x")),ISNUMBER(FIND(MID(C12,6,1)&"x","0x1x2x3x4x5x6x7x8x9x")),ISNUMBER(FIND(MID(C12,7,1)&"x","0x1x2x3x4x5x6x7x8x9x")),ISNUMBER(FIND(MID(C12,8,1)&"x","0x1x2x3x4x5x6x7x8x9x")))),"担当IDの形式を確認",IF(COUNTIFS($K$8:$K$27,C12)<>1,"担当IDが未登録・重複","確認済み"))))))) -> 確認済み | H12: =IF(G12="","",IF(G12="確認済み",0,1)) -> 0 | I12: =IF(G12="","",IF(H12<>0,0,IF(AND(ISNUMBER(D12),ISNUMBER(E12),ISNUMBER(F12),D12=INDEX(必要枠!$B$8:$B$38,MATCH(B12,必要枠!$A$8:$A$38,0)),E12=INDEX(必要枠!$C$8:$C$38,MATCH(B12,必要枠!$A$8:$A$38,0)),F12=ROUND((E12-D12)*1440,0),COUNTIFS($C$8:$C$107,C12,$D$8:$D$107,"<"&E12,$E$8:$E$107,">"&D12)=1),0,1))) -> 0 | L12: =IF(COUNTA(K12)=0,"",IF(NOT(AND(ISTEXT(K12),LEN(K12)=8,EXACT(LEFT(K12,4),"STF-"),ISNUMBER(FIND(MID(K12,5,1)&"x","0x1x2x3x4x5x6x7x8x9x")),ISNUMBER(FIND(MID(K12,6,1)&"x","0x1x2x3x4x5x6x7x8x9x")),ISNUMBER(FIND(MID(K12,7,1)&"x","0x1x2x3x4x5x6x7x8x9x")),ISNUMBER(FIND(MID(K12,8,1)&"x","0x1x2x3x4x5x6x7x8x9x")))),"IDはSTF-と半角数字4桁",IF(COUNTIFS($K$8:$K$27,K12)>1,"登録担当IDが重複","確認済み"))) | M12: =IF(L12="","",IF(L12="確認済み",0,1))
D13: =IF(COUNTA(A13:C13)=0,"",IF(AND(ISTEXT(B13),LEN(B13)=8,EXACT(LEFT(B13,4),"REQ-"),ISNUMBER(FIND(MID(B13,5,1)&"x","0x1x2x3x4x5x6x7x8x9x")),ISNUMBER(FIND(MID(B13,6,1)&"x","0x1x2x3x4x5x6x7x8x9x")),ISNUMBER(FIND(MID(B13,7,1)&"x","0x1x2x3x4x5x6x7x8x9x")),ISNUMBER(FIND(MID(B13,8,1)&"x","0x1x2x3x4x5x6x7x8x9x"))),IF(COUNTIFS(必要枠!$A$8:$A$38,B13)=1,INDEX(必要枠!$B$8:$B$38,MATCH(B13,必要枠!$A$8:$A$38,0)),NA()),NA())) | E13: =IF(COUNTA(A13:C13)=0,"",IF(AND(ISTEXT(B13),LEN(B13)=8,EXACT(LEFT(B13,4),"REQ-"),ISNUMBER(FIND(MID(B13,5,1)&"x","0x1x2x3x4x5x6x7x8x9x")),ISNUMBER(FIND(MID(B13,6,1)&"x","0x1x2x3x4x5x6x7x8x9x")),ISNUMBER(FIND(MID(B13,7,1)&"x","0x1x2x3x4x5x6x7x8x9x")),ISNUMBER(FIND(MID(B13,8,1)&"x","0x1x2x3x4x5x6x7x8x9x"))),IF(COUNTIFS(必要枠!$A$8:$A$38,B13)=1,INDEX(必要枠!$C$8:$C$38,MATCH(B13,必要枠!$A$8:$A$38,0)),NA()),NA())) | F13: =IF(G13="","",IF(H13<>0,NA(),ROUND((E13-D13)*1440,0))) | G13: =IF(COUNTA(A13:C13)=0,"",IF(NOT(AND(ISTEXT(A13),LEN(A13)=8,EXACT(LEFT(A13,4),"ASG-"),ISNUMBER(FIND(MID(A13,5,1)&"x","0x1x2x3x4x5x6x7x8x9x")),ISNUMBER(FIND(MID(A13,6,1)&"x","0x1x2x3x4x5x6x7x8x9x")),ISNUMBER(FIND(MID(A13,7,1)&"x","0x1x2x3x4x5x6x7x8x9x")),ISNUMBER(FIND(MID(A13,8,1)&"x","0x1x2x3x4x5x6x7x8x9x")))),"IDはASG-と半角数字4桁",IF(COUNTIFS($A$8:$A$107,A13)>1,"割当IDが重複",IF(NOT(AND(ISTEXT(B13),LEN(B13)=8,EXACT(LEFT(B13,4),"REQ-"),ISNUMBER(FIND(MID(B13,5,1)&"x","0x1x2x3x4x5x6x7x8x9x")),ISNUMBER(FIND(MID(B13,6,1)&"x","0x1x2x3x4x5x6x7x8x9x")),ISNUMBER(FIND(MID(B13,7,1)&"x","0x1x2x3x4x5x6x7x8x9x")),ISNUMBER(FIND(MID(B13,8,1)&"x","0x1x2x3x4x5x6x7x8x9x")))),"必要枠IDの形式を確認",IF(COUNTIFS(必要枠!$A$8:$A$38,B13)<>1,"必要枠IDが不明・重複",IF(NOT(AND(ISTEXT(C13),LEN(C13)=8,EXACT(LEFT(C13,4),"STF-"),ISNUMBER(FIND(MID(C13,5,1)&"x","0x1x2x3x4x5x6x7x8x9x")),ISNUMBER(FIND(MID(C13,6,1)&"x","0x1x2x3x4x5x6x7x8x9x")),ISNUMBER(FIND(MID(C13,7,1)&"x","0x1x2x3x4x5x6x7x8x9x")),ISNUMBER(FIND(MID(C13,8,1)&"x","0x1x2x3x4x5x6x7x8x9x")))),"担当IDの形式を確認",IF(COUNTIFS($K$8:$K$27,C13)<>1,"担当IDが未登録・重複","確認済み"))))))) | H13: =IF(G13="","",IF(G13="確認済み",0,1)) | I13: =IF(G13="","",IF(H13<>0,0,IF(AND(ISNUMBER(D13),ISNUMBER(E13),ISNUMBER(F13),D13=INDEX(必要枠!$B$8:$B$38,MATCH(B13,必要枠!$A$8:$A$38,0)),E13=INDEX(必要枠!$C$8:$C$38,MATCH(B13,必要枠!$A$8:$A$38,0)),F13=ROUND((E13-D13)*1440,0),COUNTIFS($C$8:$C$107,C13,$D$8:$D$107,"<"&E13,$E$8:$E$107,">"&D13)=1),0,1))) | L13: =IF(COUNTA(K13)=0,"",IF(NOT(AND(ISTEXT(K13),LEN(K13)=8,EXACT(LEFT(K13,4),"STF-"),ISNUMBER(FIND(MID(K13,5,1)&"x","0x1x2x3x4x5x6x7x8x9x")),ISNUMBER(FIND(MID(K13,6,1)&"x","0x1x2x3x4x5x6x7x8x9x")),ISNUMBER(FIND(MID(K13,7,1)&"x","0x1x2x3x4x5x6x7x8x9x")),ISNUMBER(FIND(MID(K13,8,1)&"x","0x1x2x3x4x5x6x7x8x9x")))),"IDはSTF-と半角数字4桁",IF(COUNTIFS($K$8:$K$27,K13)>1,"登録担当IDが重複","確認済み"))) | M13: =IF(L13="","",IF(L13="確認済み",0,1))
D14: =IF(COUNTA(A14:C14)=0,"",IF(AND(ISTEXT(B14),LEN(B14)=8,EXACT(LEFT(B14,4),"REQ-"),ISNUMBER(FIND(MID(B14,5,1)&"x","0x1x2x3x4x5x6x7x8x9x")),ISNUMBER(FIND(MID(B14,6,1)&"x","0x1x2x3x4x5x6x7x8x9x")),ISNUMBER(FIND(MID(B14,7,1)&"x","0x1x2x3x4x5x6x7x8x9x")),ISNUMBER(FIND(MID(B14,8,1)&"x","0x1x2x3x4x5x6x7x8x9x"))),IF(COUNTIFS(必要枠!$A$8:$A$38,B14)=1,INDEX(必要枠!$B$8:$B$38,MATCH(B14,必要枠!$A$8:$A$38,0)),NA()),NA())) | E14: =IF(COUNTA(A14:C14)=0,"",IF(AND(ISTEXT(B14),LEN(B14)=8,EXACT(LEFT(B14,4),"REQ-"),ISNUMBER(FIND(MID(B14,5,1)&"x","0x1x2x3x4x5x6x7x8x9x")),ISNUMBER(FIND(MID(B14,6,1)&"x","0x1x2x3x4x5x6x7x8x9x")),ISNUMBER(FIND(MID(B14,7,1)&"x","0x1x2x3x4x5x6x7x8x9x")),ISNUMBER(FIND(MID(B14,8,1)&"x","0x1x2x3x4x5x6x7x8x9x"))),IF(COUNTIFS(必要枠!$A$8:$A$38,B14)=1,INDEX(必要枠!$C$8:$C$38,MATCH(B14,必要枠!$A$8:$A$38,0)),NA()),NA())) | F14: =IF(G14="","",IF(H14<>0,NA(),ROUND((E14-D14)*1440,0))) | G14: =IF(COUNTA(A14:C14)=0,"",IF(NOT(AND(ISTEXT(A14),LEN(A14)=8,EXACT(LEFT(A14,4),"ASG-"),ISNUMBER(FIND(MID(A14,5,1)&"x","0x1x2x3x4x5x6x7x8x9x")),ISNUMBER(FIND(MID(A14,6,1)&"x","0x1x2x3x4x5x6x7x8x9x")),ISNUMBER(FIND(MID(A14,7,1)&"x","0x1x2x3x4x5x6x7x8x9x")),ISNUMBER(FIND(MID(A14,8,1)&"x","0x1x2x3x4x5x6x7x8x9x")))),"IDはASG-と半角数字4桁",IF(COUNTIFS($A$8:$A$107,A14)>1,"割当IDが重複",IF(NOT(AND(ISTEXT(B14),LEN(B14)=8,EXACT(LEFT(B14,4),"REQ-"),ISNUMBER(FIND(MID(B14,5,1)&"x","0x1x2x3x4x5x6x7x8x9x")),ISNUMBER(FIND(MID(B14,6,1)&"x","0x1x2x3x4x5x6x7x8x9x")),ISNUMBER(FIND(MID(B14,7,1)&"x","0x1x2x3x4x5x6x7x8x9x")),ISNUMBER(FIND(MID(B14,8,1)&"x","0x1x2x3x4x5x6x7x8x9x")))),"必要枠IDの形式を確認",IF(COUNTIFS(必要枠!$A$8:$A$38,B14)<>1,"必要枠IDが不明・重複",IF(NOT(AND(ISTEXT(C14),LEN(C14)=8,EXACT(LEFT(C14,4),"STF-"),ISNUMBER(FIND(MID(C14,5,1)&"x","0x1x2x3x4x5x6x7x8x9x")),ISNUMBER(FIND(MID(C14,6,1)&"x","0x1x2x3x4x5x6x7x8x9x")),ISNUMBER(FIND(MID(C14,7,1)&"x","0x1x2x3x4x5x6x7x8x9x")),ISNUMBER(FIND(MID(C14,8,1)&"x","0x1x2x3x4x5x6x7x8x9x")))),"担当IDの形式を確認",IF(COUNTIFS($K$8:$K$27,C14)<>1,"担当IDが未登録・重複","確認済み"))))))) | H14: =IF(G14="","",IF(G14="確認済み",0,1)) | I14: =IF(G14="","",IF(H14<>0,0,IF(AND(ISNUMBER(D14),ISNUMBER(E14),ISNUMBER(F14),D14=INDEX(必要枠!$B$8:$B$38,MATCH(B14,必要枠!$A$8:$A$38,0)),E14=INDEX(必要枠!$C$8:$C$38,MATCH(B14,必要枠!$A$8:$A$38,0)),F14=ROUND((E14-D14)*1440,0),COUNTIFS($C$8:$C$107,C14,$D$8:$D$107,"<"&E14,$E$8:$E$107,">"&D14)=1),0,1))) | L14: =IF(COUNTA(K14)=0,"",IF(NOT(AND(ISTEXT(K14),LEN(K14)=8,EXACT(LEFT(K14,4),"STF-"),ISNUMBER(FIND(MID(K14,5,1)&"x","0x1x2x3x4x5x6x7x8x9x")),ISNUMBER(FIND(MID(K14,6,1)&"x","0x1x2x3x4x5x6x7x8x9x")),ISNUMBER(FIND(MID(K14,7,1)&"x","0x1x2x3x4x5x6x7x8x9x")),ISNUMBER(FIND(MID(K14,8,1)&"x","0x1x2x3x4x5x6x7x8x9x")))),"IDはSTF-と半角数字4桁",IF(COUNTIFS($K$8:$K$27,K14)>1,"登録担当IDが重複","確認済み"))) | M14: =IF(L14="","",IF(L14="確認済み",0,1))
D15: =IF(COUNTA(A15:C15)=0,"",IF(AND(ISTEXT(B15),LEN(B15)=8,EXACT(LEFT(B15,4),"REQ-"),ISNUMBER(FIND(MID(B15,5,1)&"x","0x1x2x3x4x5x6x7x8x9x")),ISNUMBER(FIND(MID(B15,6,1)&"x","0x1x2x3x4x5x6x7x8x9x")),ISNUMBER(FIND(MID(B15,7,1)&"x","0x1x2x3x4x5x6x7x8x9x")),ISNUMBER(FIND(MID(B15,8,1)&"x","0x1x2x3x4x5x6x7x8x9x"))),IF(COUNTIFS(必要枠!$A$8:$A$38,B15)=1,INDEX(必要枠!$B$8:$B$38,MATCH(B15,必要枠!$A$8:$A$38,0)),NA()),NA())) | E15: =IF(COUNTA(A15:C15)=0,"",IF(AND(ISTEXT(B15),LEN(B15)=8,EXACT(LEFT(B15,4),"REQ-"),ISNUMBER(FIND(MID(B15,5,1)&"x","0x1x2x3x4x5x6x7x8x9x")),ISNUMBER(FIND(MID(B15,6,1)&"x","0x1x2x3x4x5x6x7x8x9x")),ISNUMBER(FIND(MID(B15,7,1)&"x","0x1x2x3x4x5x6x7x8x9x")),ISNUMBER(FIND(MID(B15,8,1)&"x","0x1x2x3x4x5x6x7x8x9x"))),IF(COUNTIFS(必要枠!$A$8:$A$38,B15)=1,INDEX(必要枠!$C$8:$C$38,MATCH(B15,必要枠!$A$8:$A$38,0)),NA()),NA())) | F15: =IF(G15="","",IF(H15<>0,NA(),ROUND((E15-D15)*1440,0))) | G15: =IF(COUNTA(A15:C15)=0,"",IF(NOT(AND(ISTEXT(A15),LEN(A15)=8,EXACT(LEFT(A15,4),"ASG-"),ISNUMBER(FIND(MID(A15,5,1)&"x","0x1x2x3x4x5x6x7x8x9x")),ISNUMBER(FIND(MID(A15,6,1)&"x","0x1x2x3x4x5x6x7x8x9x")),ISNUMBER(FIND(MID(A15,7,1)&"x","0x1x2x3x4x5x6x7x8x9x")),ISNUMBER(FIND(MID(A15,8,1)&"x","0x1x2x3x4x5x6x7x8x9x")))),"IDはASG-と半角数字4桁",IF(COUNTIFS($A$8:$A$107,A15)>1,"割当IDが重複",IF(NOT(AND(ISTEXT(B15),LEN(B15)=8,EXACT(LEFT(B15,4),"REQ-"),ISNUMBER(FIND(MID(B15,5,1)&"x","0x1x2x3x4x5x6x7x8x9x")),ISNUMBER(FIND(MID(B15,6,1)&"x","0x1x2x3x4x5x6x7x8x9x")),ISNUMBER(FIND(MID(B15,7,1)&"x","0x1x2x3x4x5x6x7x8x9x")),ISNUMBER(FIND(MID(B15,8,1)&"x","0x1x2x3x4x5x6x7x8x9x")))),"必要枠IDの形式を確認",IF(COUNTIFS(必要枠!$A$8:$A$38,B15)<>1,"必要枠IDが不明・重複",IF(NOT(AND(ISTEXT(C15),LEN(C15)=8,EXACT(LEFT(C15,4),"STF-"),ISNUMBER(FIND(MID(C15,5,1)&"x","0x1x2x3x4x5x6x7x8x9x")),ISNUMBER(FIND(MID(C15,6,1)&"x","0x1x2x3x4x5x6x7x8x9x")),ISNUMBER(FIND(MID(C15,7,1)&"x","0x1x2x3x4x5x6x7x8x9x")),ISNUMBER(FIND(MID(C15,8,1)&"x","0x1x2x3x4x5x6x7x8x9x")))),"担当IDの形式を確認",IF(COUNTIFS($K$8:$K$27,C15)<>1,"担当IDが未登録・重複","確認済み"))))))) | H15: =IF(G15="","",IF(G15="確認済み",0,1)) | I15: =IF(G15="","",IF(H15<>0,0,IF(AND(ISNUMBER(D15),ISNUMBER(E15),ISNUMBER(F15),D15=INDEX(必要枠!$B$8:$B$38,MATCH(B15,必要枠!$A$8:$A$38,0)),E15=INDEX(必要枠!$C$8:$C$38,MATCH(B15,必要枠!$A$8:$A$38,0)),F15=ROUND((E15-D15)*1440,0),COUNTIFS($C$8:$C$107,C15,$D$8:$D$107,"<"&E15,$E$8:$E$107,">"&D15)=1),0,1))) | L15: =IF(COUNTA(K15)=0,"",IF(NOT(AND(ISTEXT(K15),LEN(K15)=8,EXACT(LEFT(K15,4),"STF-"),ISNUMBER(FIND(MID(K15,5,1)&"x","0x1x2x3x4x5x6x7x8x9x")),ISNUMBER(FIND(MID(K15,6,1)&"x","0x1x2x3x4x5x6x7x8x9x")),ISNUMBER(FIND(MID(K15,7,1)&"x","0x1x2x3x4x5x6x7x8x9x")),ISNUMBER(FIND(MID(K15,8,1)&"x","0x1x2x3x4x5x6x7x8x9x")))),"IDはSTF-と半角数字4桁",IF(COUNTIFS($K$8:$K$27,K15)>1,"登録担当IDが重複","確認済み"))) | M15: =IF(L15="","",IF(L15="確認済み",0,1))
D16: =IF(COUNTA(A16:C16)=0,"",IF(AND(ISTEXT(B16),LEN(B16)=8,EXACT(LEFT(B16,4),"REQ-"),ISNUMBER(FIND(MID(B16,5,1)&"x","0x1x2x3x4x5x6x7x8x9x")),ISNUMBER(FIND(MID(B16,6,1)&"x","0x1x2x3x4x5x6x7x8x9x")),ISNUMBER(FIND(MID(B16,7,1)&"x","0x1x2x3x4x5x6x7x8x9x")),ISNUMBER(FIND(MID(B16,8,1)&"x","0x1x2x3x4x5x6x7x8x9x"))),IF(COUNTIFS(必要枠!$A$8:$A$38,B16)=1,INDEX(必要枠!$B$8:$B$38,MATCH(B16,必要枠!$A$8:$A$38,0)),NA()),NA())) | E16: =IF(COUNTA(A16:C16)=0,"",IF(AND(ISTEXT(B16),LEN(B16)=8,EXACT(LEFT(B16,4),"REQ-"),ISNUMBER(FIND(MID(B16,5,1)&"x","0x1x2x3x4x5x6x7x8x9x")),ISNUMBER(FIND(MID(B16,6,1)&"x","0x1x2x3x4x5x6x7x8x9x")),ISNUMBER(FIND(MID(B16,7,1)&"x","0x1x2x3x4x5x6x7x8x9x")),ISNUMBER(FIND(MID(B16,8,1)&"x","0x1x2x3x4x5x6x7x8x9x"))),IF(COUNTIFS(必要枠!$A$8:$A$38,B16)=1,INDEX(必要枠!$C$8:$C$38,MATCH(B16,必要枠!$A$8:$A$38,0)),NA()),NA())) | F16: =IF(G16="","",IF(H16<>0,NA(),ROUND((E16-D16)*1440,0))) | G16: =IF(COUNTA(A16:C16)=0,"",IF(NOT(AND(ISTEXT(A16),LEN(A16)=8,EXACT(LEFT(A16,4),"ASG-"),ISNUMBER(FIND(MID(A16,5,1)&"x","0x1x2x3x4x5x6x7x8x9x")),ISNUMBER(FIND(MID(A16,6,1)&"x","0x1x2x3x4x5x6x7x8x9x")),ISNUMBER(FIND(MID(A16,7,1)&"x","0x1x2x3x4x5x6x7x8x9x")),ISNUMBER(FIND(MID(A16,8,1)&"x","0x1x2x3x4x5x6x7x8x9x")))),"IDはASG-と半角数字4桁",IF(COUNTIFS($A$8:$A$107,A16)>1,"割当IDが重複",IF(NOT(AND(ISTEXT(B16),LEN(B16)=8,EXACT(LEFT(B16,4),"REQ-"),ISNUMBER(FIND(MID(B16,5,1)&"x","0x1x2x3x4x5x6x7x8x9x")),ISNUMBER(FIND(MID(B16,6,1)&"x","0x1x2x3x4x5x6x7x8x9x")),ISNUMBER(FIND(MID(B16,7,1)&"x","0x1x2x3x4x5x6x7x8x9x")),ISNUMBER(FIND(MID(B16,8,1)&"x","0x1x2x3x4x5x6x7x8x9x")))),"必要枠IDの形式を確認",IF(COUNTIFS(必要枠!$A$8:$A$38,B16)<>1,"必要枠IDが不明・重複",IF(NOT(AND(ISTEXT(C16),LEN(C16)=8,EXACT(LEFT(C16,4),"STF-"),ISNUMBER(FIND(MID(C16,5,1)&"x","0x1x2x3x4x5x6x7x8x9x")),ISNUMBER(FIND(MID(C16,6,1)&"x","0x1x2x3x4x5x6x7x8x9x")),ISNUMBER(FIND(MID(C16,7,1)&"x","0x1x2x3x4x5x6x7x8x9x")),ISNUMBER(FIND(MID(C16,8,1)&"x","0x1x2x3x4x5x6x7x8x9x")))),"担当IDの形式を確認",IF(COUNTIFS($K$8:$K$27,C16)<>1,"担当IDが未登録・重複","確認済み"))))))) | H16: =IF(G16="","",IF(G16="確認済み",0,1)) | I16: =IF(G16="","",IF(H16<>0,0,IF(AND(ISNUMBER(D16),ISNUMBER(E16),ISNUMBER(F16),D16=INDEX(必要枠!$B$8:$B$38,MATCH(B16,必要枠!$A$8:$A$38,0)),E16=INDEX(必要枠!$C$8:$C$38,MATCH(B16,必要枠!$A$8:$A$38,0)),F16=ROUND((E16-D16)*1440,0),COUNTIFS($C$8:$C$107,C16,$D$8:$D$107,"<"&E16,$E$8:$E$107,">"&D16)=1),0,1))) | L16: =IF(COUNTA(K16)=0,"",IF(NOT(AND(ISTEXT(K16),LEN(K16)=8,EXACT(LEFT(K16,4),"STF-"),ISNUMBER(FIND(MID(K16,5,1)&"x","0x1x2x3x4x5x6x7x8x9x")),ISNUMBER(FIND(MID(K16,6,1)&"x","0x1x2x3x4x5x6x7x8x9x")),ISNUMBER(FIND(MID(K16,7,1)&"x","0x1x2x3x4x5x6x7x8x9x")),ISNUMBER(FIND(MID(K16,8,1)&"x","0x1x2x3x4x5x6x7x8x9x")))),"IDはSTF-と半角数字4桁",IF(COUNTIFS($K$8:$K$27,K16)>1,"登録担当IDが重複","確認済み"))) | M16: =IF(L16="","",IF(L16="確認済み",0,1))
D17: =IF(COUNTA(A17:C17)=0,"",IF(AND(ISTEXT(B17),LEN(B17)=8,EXACT(LEFT(B17,4),"REQ-"),ISNUMBER(FIND(MID(B17,5,1)&"x","0x1x2x3x4x5x6x7x8x9x")),ISNUMBER(FIND(MID(B17,6,1)&"x","0x1x2x3x4x5x6x7x8x9x")),ISNUMBER(FIND(MID(B17,7,1)&"x","0x1x2x3x4x5x6x7x8x9x")),ISNUMBER(FIND(MID(B17,8,1)&"x","0x1x2x3x4x5x6x7x8x9x"))),IF(COUNTIFS(必要枠!$A$8:$A$38,B17)=1,INDEX(必要枠!$B$8:$B$38,MATCH(B17,必要枠!$A$8:$A$38,0)),NA()),NA())) | E17: =IF(COUNTA(A17:C17)=0,"",IF(AND(ISTEXT(B17),LEN(B17)=8,EXACT(LEFT(B17,4),"REQ-"),ISNUMBER(FIND(MID(B17,5,1)&"x","0x1x2x3x4x5x6x7x8x9x")),ISNUMBER(FIND(MID(B17,6,1)&"x","0x1x2x3x4x5x6x7x8x9x")),ISNUMBER(FIND(MID(B17,7,1)&"x","0x1x2x3x4x5x6x7x8x9x")),ISNUMBER(FIND(MID(B17,8,1)&"x","0x1x2x3x4x5x6x7x8x9x"))),IF(COUNTIFS(必要枠!$A$8:$A$38,B17)=1,INDEX(必要枠!$C$8:$C$38,MATCH(B17,必要枠!$A$8:$A$38,0)),NA()),NA())) | F17: =IF(G17="","",IF(H17<>0,NA(),ROUND((E17-D17)*1440,0))) | G17: =IF(COUNTA(A17:C17)=0,"",IF(NOT(AND(ISTEXT(A17),LEN(A17)=8,EXACT(LEFT(A17,4),"ASG-"),ISNUMBER(FIND(MID(A17,5,1)&"x","0x1x2x3x4x5x6x7x8x9x")),ISNUMBER(FIND(MID(A17,6,1)&"x","0x1x2x3x4x5x6x7x8x9x")),ISNUMBER(FIND(MID(A17,7,1)&"x","0x1x2x3x4x5x6x7x8x9x")),ISNUMBER(FIND(MID(A17,8,1)&"x","0x1x2x3x4x5x6x7x8x9x")))),"IDはASG-と半角数字4桁",IF(COUNTIFS($A$8:$A$107,A17)>1,"割当IDが重複",IF(NOT(AND(ISTEXT(B17),LEN(B17)=8,EXACT(LEFT(B17,4),"REQ-"),ISNUMBER(FIND(MID(B17,5,1)&"x","0x1x2x3x4x5x6x7x8x9x")),ISNUMBER(FIND(MID(B17,6,1)&"x","0x1x2x3x4x5x6x7x8x9x")),ISNUMBER(FIND(MID(B17,7,1)&"x","0x1x2x3x4x5x6x7x8x9x")),ISNUMBER(FIND(MID(B17,8,1)&"x","0x1x2x3x4x5x6x7x8x9x")))),"必要枠IDの形式を確認",IF(COUNTIFS(必要枠!$A$8:$A$38,B17)<>1,"必要枠IDが不明・重複",IF(NOT(AND(ISTEXT(C17),LEN(C17)=8,EXACT(LEFT(C17,4),"STF-"),ISNUMBER(FIND(MID(C17,5,1)&"x","0x1x2x3x4x5x6x7x8x9x")),ISNUMBER(FIND(MID(C17,6,1)&"x","0x1x2x3x4x5x6x7x8x9x")),ISNUMBER(FIND(MID(C17,7,1)&"x","0x1x2x3x4x5x6x7x8x9x")),ISNUMBER(FIND(MID(C17,8,1)&"x","0x1x2x3x4x5x6x7x8x9x")))),"担当IDの形式を確認",IF(COUNTIFS($K$8:$K$27,C17)<>1,"担当IDが未登録・重複","確認済み"))))))) | H17: =IF(G17="","",IF(G17="確認済み",0,1)) | I17: =IF(G17="","",IF(H17<>0,0,IF(AND(ISNUMBER(D17),ISNUMBER(E17),ISNUMBER(F17),D17=INDEX(必要枠!$B$8:$B$38,MATCH(B17,必要枠!$A$8:$A$38,0)),E17=INDEX(必要枠!$C$8:$C$38,MATCH(B17,必要枠!$A$8:$A$38,0)),F17=ROUND((E17-D17)*1440,0),COUNTIFS($C$8:$C$107,C17,$D$8:$D$107,"<"&E17,$E$8:$E$107,">"&D17)=1),0,1))) | L17: =IF(COUNTA(K17)=0,"",IF(NOT(AND(ISTEXT(K17),LEN(K17)=8,EXACT(LEFT(K17,4),"STF-"),ISNUMBER(FIND(MID(K17,5,1)&"x","0x1x2x3x4x5x6x7x8x9x")),ISNUMBER(FIND(MID(K17,6,1)&"x","0x1x2x3x4x5x6x7x8x9x")),ISNUMBER(FIND(MID(K17,7,1)&"x","0x1x2x3x4x5x6x7x8x9x")),ISNUMBER(FIND(MID(K17,8,1)&"x","0x1x2x3x4x5x6x7x8x9x")))),"IDはSTF-と半角数字4桁",IF(COUNTIFS($K$8:$K$27,K17)>1,"登録担当IDが重複","確認済み"))) | M17: =IF(L17="","",IF(L17="確認済み",0,1))
D18: =IF(COUNTA(A18:C18)=0,"",IF(AND(ISTEXT(B18),LEN(B18)=8,EXACT(LEFT(B18,4),"REQ-"),ISNUMBER(FIND(MID(B18,5,1)&"x","0x1x2x3x4x5x6x7x8x9x")),ISNUMBER(FIND(MID(B18,6,1)&"x","0x1x2x3x4x5x6x7x8x9x")),ISNUMBER(FIND(MID(B18,7,1)&"x","0x1x2x3x4x5x6x7x8x9x")),ISNUMBER(FIND(MID(B18,8,1)&"x","0x1x2x3x4x5x6x7x8x9x"))),IF(COUNTIFS(必要枠!$A$8:$A$38,B18)=1,INDEX(必要枠!$B$8:$B$38,MATCH(B18,必要枠!$A$8:$A$38,0)),NA()),NA())) | E18: =IF(COUNTA(A18:C18)=0,"",IF(AND(ISTEXT(B18),LEN(B18)=8,EXACT(LEFT(B18,4),"REQ-"),ISNUMBER(FIND(MID(B18,5,1)&"x","0x1x2x3x4x5x6x7x8x9x")),ISNUMBER(FIND(MID(B18,6,1)&"x","0x1x2x3x4x5x6x7x8x9x")),ISNUMBER(FIND(MID(B18,7,1)&"x","0x1x2x3x4x5x6x7x8x9x")),ISNUMBER(FIND(MID(B18,8,1)&"x","0x1x2x3x4x5x6x7x8x9x"))),IF(COUNTIFS(必要枠!$A$8:$A$38,B18)=1,INDEX(必要枠!$C$8:$C$38,MATCH(B18,必要枠!$A$8:$A$38,0)),NA()),NA())) | F18: =IF(G18="","",IF(H18<>0,NA(),ROUND((E18-D18)*1440,0))) | G18: =IF(COUNTA(A18:C18)=0,"",IF(NOT(AND(ISTEXT(A18),LEN(A18)=8,EXACT(LEFT(A18,4),"ASG-"),ISNUMBER(FIND(MID(A18,5,1)&"x","0x1x2x3x4x5x6x7x8x9x")),ISNUMBER(FIND(MID(A18,6,1)&"x","0x1x2x3x4x5x6x7x8x9x")),ISNUMBER(FIND(MID(A18,7,1)&"x","0x1x2x3x4x5x6x7x8x9x")),ISNUMBER(FIND(MID(A18,8,1)&"x","0x1x2x3x4x5x6x7x8x9x")))),"IDはASG-と半角数字4桁",IF(COUNTIFS($A$8:$A$107,A18)>1,"割当IDが重複",IF(NOT(AND(ISTEXT(B18),LEN(B18)=8,EXACT(LEFT(B18,4),"REQ-"),ISNUMBER(FIND(MID(B18,5,1)&"x","0x1x2x3x4x5x6x7x8x9x")),ISNUMBER(FIND(MID(B18,6,1)&"x","0x1x2x3x4x5x6x7x8x9x")),ISNUMBER(FIND(MID(B18,7,1)&"x","0x1x2x3x4x5x6x7x8x9x")),ISNUMBER(FIND(MID(B18,8,1)&"x","0x1x2x3x4x5x6x7x8x9x")))),"必要枠IDの形式を確認",IF(COUNTIFS(必要枠!$A$8:$A$38,B18)<>1,"必要枠IDが不明・重複",IF(NOT(AND(ISTEXT(C18),LEN(C18)=8,EXACT(LEFT(C18,4),"STF-"),ISNUMBER(FIND(MID(C18,5,1)&"x","0x1x2x3x4x5x6x7x8x9x")),ISNUMBER(FIND(MID(C18,6,1)&"x","0x1x2x3x4x5x6x7x8x9x")),ISNUMBER(FIND(MID(C18,7,1)&"x","0x1x2x3x4x5x6x7x8x9x")),ISNUMBER(FIND(MID(C18,8,1)&"x","0x1x2x3x4x5x6x7x8x9x")))),"担当IDの形式を確認",IF(COUNTIFS($K$8:$K$27,C18)<>1,"担当IDが未登録・重複","確認済み"))))))) | H18: =IF(G18="","",IF(G18="確認済み",0,1)) | I18: =IF(G18="","",IF(H18<>0,0,IF(AND(ISNUMBER(D18),ISNUMBER(E18),ISNUMBER(F18),D18=INDEX(必要枠!$B$8:$B$38,MATCH(B18,必要枠!$A$8:$A$38,0)),E18=INDEX(必要枠!$C$8:$C$38,MATCH(B18,必要枠!$A$8:$A$38,0)),F18=ROUND((E18-D18)*1440,0),COUNTIFS($C$8:$C$107,C18,$D$8:$D$107,"<"&E18,$E$8:$E$107,">"&D18)=1),0,1))) | L18: =IF(COUNTA(K18)=0,"",IF(NOT(AND(ISTEXT(K18),LEN(K18)=8,EXACT(LEFT(K18,4),"STF-"),ISNUMBER(FIND(MID(K18,5,1)&"x","0x1x2x3x4x5x6x7x8x9x")),ISNUMBER(FIND(MID(K18,6,1)&"x","0x1x2x3x4x5x6x7x8x9x")),ISNUMBER(FIND(MID(K18,7,1)&"x","0x1x2x3x4x5x6x7x8x9x")),ISNUMBER(FIND(MID(K18,8,1)&"x","0x1x2x3x4x5x6x7x8x9x")))),"IDはSTF-と半角数字4桁",IF(COUNTIFS($K$8:$K$27,K18)>1,"登録担当IDが重複","確認済み"))) | M18: =IF(L18="","",IF(L18="確認済み",0,1))
D19: =IF(COUNTA(A19:C19)=0,"",IF(AND(ISTEXT(B19),LEN(B19)=8,EXACT(LEFT(B19,4),"REQ-"),ISNUMBER(FIND(MID(B19,5,1)&"x","0x1x2x3x4x5x6x7x8x9x")),ISNUMBER(FIND(MID(B19,6,1)&"x","0x1x2x3x4x5x6x7x8x9x")),ISNUMBER(FIND(MID(B19,7,1)&"x","0x1x2x3x4x5x6x7x8x9x")),ISNUMBER(FIND(MID(B19,8,1)&"x","0x1x2x3x4x5x6x7x8x9x"))),IF(COUNTIFS(必要枠!$A$8:$A$38,B19)=1,INDEX(必要枠!$B$8:$B$38,MATCH(B19,必要枠!$A$8:$A$38,0)),NA()),NA())) | E19: =IF(COUNTA(A19:C19)=0,"",IF(AND(ISTEXT(B19),LEN(B19)=8,EXACT(LEFT(B19,4),"REQ-"),ISNUMBER(FIND(MID(B19,5,1)&"x","0x1x2x3x4x5x6x7x8x9x")),ISNUMBER(FIND(MID(B19,6,1)&"x","0x1x2x3x4x5x6x7x8x9x")),ISNUMBER(FIND(MID(B19,7,1)&"x","0x1x2x3x4x5x6x7x8x9x")),ISNUMBER(FIND(MID(B19,8,1)&"x","0x1x2x3x4x5x6x7x8x9x"))),IF(COUNTIFS(必要枠!$A$8:$A$38,B19)=1,INDEX(必要枠!$C$8:$C$38,MATCH(B19,必要枠!$A$8:$A$38,0)),NA()),NA())) | F19: =IF(G19="","",IF(H19<>0,NA(),ROUND((E19-D19)*1440,0))) | G19: =IF(COUNTA(A19:C19)=0,"",IF(NOT(AND(ISTEXT(A19),LEN(A19)=8,EXACT(LEFT(A19,4),"ASG-"),ISNUMBER(FIND(MID(A19,5,1)&"x","0x1x2x3x4x5x6x7x8x9x")),ISNUMBER(FIND(MID(A19,6,1)&"x","0x1x2x3x4x5x6x7x8x9x")),ISNUMBER(FIND(MID(A19,7,1)&"x","0x1x2x3x4x5x6x7x8x9x")),ISNUMBER(FIND(MID(A19,8,1)&"x","0x1x2x3x4x5x6x7x8x9x")))),"IDはASG-と半角数字4桁",IF(COUNTIFS($A$8:$A$107,A19)>1,"割当IDが重複",IF(NOT(AND(ISTEXT(B19),LEN(B19)=8,EXACT(LEFT(B19,4),"REQ-"),ISNUMBER(FIND(MID(B19,5,1)&"x","0x1x2x3x4x5x6x7x8x9x")),ISNUMBER(FIND(MID(B19,6,1)&"x","0x1x2x3x4x5x6x7x8x9x")),ISNUMBER(FIND(MID(B19,7,1)&"x","0x1x2x3x4x5x6x7x8x9x")),ISNUMBER(FIND(MID(B19,8,1)&"x","0x1x2x3x4x5x6x7x8x9x")))),"必要枠IDの形式を確認",IF(COUNTIFS(必要枠!$A$8:$A$38,B19)<>1,"必要枠IDが不明・重複",IF(NOT(AND(ISTEXT(C19),LEN(C19)=8,EXACT(LEFT(C19,4),"STF-"),ISNUMBER(FIND(MID(C19,5,1)&"x","0x1x2x3x4x5x6x7x8x9x")),ISNUMBER(FIND(MID(C19,6,1)&"x","0x1x2x3x4x5x6x7x8x9x")),ISNUMBER(FIND(MID(C19,7,1)&"x","0x1x2x3x4x5x6x7x8x9x")),ISNUMBER(FIND(MID(C19,8,1)&"x","0x1x2x3x4x5x6x7x8x9x")))),"担当IDの形式を確認",IF(COUNTIFS($K$8:$K$27,C19)<>1,"担当IDが未登録・重複","確認済み"))))))) | H19: =IF(G19="","",IF(G19="確認済み",0,1)) | I19: =IF(G19="","",IF(H19<>0,0,IF(AND(ISNUMBER(D19),ISNUMBER(E19),ISNUMBER(F19),D19=INDEX(必要枠!$B$8:$B$38,MATCH(B19,必要枠!$A$8:$A$38,0)),E19=INDEX(必要枠!$C$8:$C$38,MATCH(B19,必要枠!$A$8:$A$38,0)),F19=ROUND((E19-D19)*1440,0),COUNTIFS($C$8:$C$107,C19,$D$8:$D$107,"<"&E19,$E$8:$E$107,">"&D19)=1),0,1))) | L19: =IF(COUNTA(K19)=0,"",IF(NOT(AND(ISTEXT(K19),LEN(K19)=8,EXACT(LEFT(K19,4),"STF-"),ISNUMBER(FIND(MID(K19,5,1)&"x","0x1x2x3x4x5x6x7x8x9x")),ISNUMBER(FIND(MID(K19,6,1)&"x","0x1x2x3x4x5x6x7x8x9x")),ISNUMBER(FIND(MID(K19,7,1)&"x","0x1x2x3x4x5x6x7x8x9x")),ISNUMBER(FIND(MID(K19,8,1)&"x","0x1x2x3x4x5x6x7x8x9x")))),"IDはSTF-と半角数字4桁",IF(COUNTIFS($K$8:$K$27,K19)>1,"登録担当IDが重複","確認済み"))) | M19: =IF(L19="","",IF(L19="確認済み",0,1))
D20: =IF(COUNTA(A20:C20)=0,"",IF(AND(ISTEXT(B20),LEN(B20)=8,EXACT(LEFT(B20,4),"REQ-"),ISNUMBER(FIND(MID(B20,5,1)&"x","0x1x2x3x4x5x6x7x8x9x")),ISNUMBER(FIND(MID(B20,6,1)&"x","0x1x2x3x4x5x6x7x8x9x")),ISNUMBER(FIND(MID(B20,7,1)&"x","0x1x2x3x4x5x6x7x8x9x")),ISNUMBER(FIND(MID(B20,8,1)&"x","0x1x2x3x4x5x6x7x8x9x"))),IF(COUNTIFS(必要枠!$A$8:$A$38,B20)=1,INDEX(必要枠!$B$8:$B$38,MATCH(B20,必要枠!$A$8:$A$38,0)),NA()),NA())) | E20: =IF(COUNTA(A20:C20)=0,"",IF(AND(ISTEXT(B20),LEN(B20)=8,EXACT(LEFT(B20,4),"REQ-"),ISNUMBER(FIND(MID(B20,5,1)&"x","0x1x2x3x4x5x6x7x8x9x")),ISNUMBER(FIND(MID(B20,6,1)&"x","0x1x2x3x4x5x6x7x8x9x")),ISNUMBER(FIND(MID(B20,7,1)&"x","0x1x2x3x4x5x6x7x8x9x")),ISNUMBER(FIND(MID(B20,8,1)&"x","0x1x2x3x4x5x6x7x8x9x"))),IF(COUNTIFS(必要枠!$A$8:$A$38,B20)=1,INDEX(必要枠!$C$8:$C$38,MATCH(B20,必要枠!$A$8:$A$38,0)),NA()),NA())) | F20: =IF(G20="","",IF(H20<>0,NA(),ROUND((E20-D20)*1440,0))) | G20: =IF(COUNTA(A20:C20)=0,"",IF(NOT(AND(ISTEXT(A20),LEN(A20)=8,EXACT(LEFT(A20,4),"ASG-"),ISNUMBER(FIND(MID(A20,5,1)&"x","0x1x2x3x4x5x6x7x8x9x")),ISNUMBER(FIND(MID(A20,6,1)&"x","0x1x2x3x4x5x6x7x8x9x")),ISNUMBER(FIND(MID(A20,7,1)&"x","0x1x2x3x4x5x6x7x8x9x")),ISNUMBER(FIND(MID(A20,8,1)&"x","0x1x2x3x4x5x6x7x8x9x")))),"IDはASG-と半角数字4桁",IF(COUNTIFS($A$8:$A$107,A20)>1,"割当IDが重複",IF(NOT(AND(ISTEXT(B20),LEN(B20)=8,EXACT(LEFT(B20,4),"REQ-"),ISNUMBER(FIND(MID(B20,5,1)&"x","0x1x2x3x4x5x6x7x8x9x")),ISNUMBER(FIND(MID(B20,6,1)&"x","0x1x2x3x4x5x6x7x8x9x")),ISNUMBER(FIND(MID(B20,7,1)&"x","0x1x2x3x4x5x6x7x8x9x")),ISNUMBER(FIND(MID(B20,8,1)&"x","0x1x2x3x4x5x6x7x8x9x")))),"必要枠IDの形式を確認",IF(COUNTIFS(必要枠!$A$8:$A$38,B20)<>1,"必要枠IDが不明・重複",IF(NOT(AND(ISTEXT(C20),LEN(C20)=8,EXACT(LEFT(C20,4),"STF-"),ISNUMBER(FIND(MID(C20,5,1)&"x","0x1x2x3x4x5x6x7x8x9x")),ISNUMBER(FIND(MID(C20,6,1)&"x","0x1x2x3x4x5x6x7x8x9x")),ISNUMBER(FIND(MID(C20,7,1)&"x","0x1x2x3x4x5x6x7x8x9x")),ISNUMBER(FIND(MID(C20,8,1)&"x","0x1x2x3x4x5x6x7x8x9x")))),"担当IDの形式を確認",IF(COUNTIFS($K$8:$K$27,C20)<>1,"担当IDが未登録・重複","確認済み"))))))) | H20: =IF(G20="","",IF(G20="確認済み",0,1)) | I20: =IF(G20="","",IF(H20<>0,0,IF(AND(ISNUMBER(D20),ISNUMBER(E20),ISNUMBER(F20),D20=INDEX(必要枠!$B$8:$B$38,MATCH(B20,必要枠!$A$8:$A$38,0)),E20=INDEX(必要枠!$C$8:$C$38,MATCH(B20,必要枠!$A$8:$A$38,0)),F20=ROUND((E20-D20)*1440,0),COUNTIFS($C$8:$C$107,C20,$D$8:$D$107,"<"&E20,$E$8:$E$107,">"&D20)=1),0,1))) | L20: =IF(COUNTA(K20)=0,"",IF(NOT(AND(ISTEXT(K20),LEN(K20)=8,EXACT(LEFT(K20,4),"STF-"),ISNUMBER(FIND(MID(K20,5,1)&"x","0x1x2x3x4x5x6x7x8x9x")),ISNUMBER(FIND(MID(K20,6,1)&"x","0x1x2x3x4x5x6x7x8x9x")),ISNUMBER(FIND(MID(K20,7,1)&"x","0x1x2x3x4x5x6x7x8x9x")),ISNUMBER(FIND(MID(K20,8,1)&"x","0x1x2x3x4x5x6x7x8x9x")))),"IDはSTF-と半角数字4桁",IF(COUNTIFS($K$8:$K$27,K20)>1,"登録担当IDが重複","確認済み"))) | M20: =IF(L20="","",IF(L20="確認済み",0,1))
D21: =IF(COUNTA(A21:C21)=0,"",IF(AND(ISTEXT(B21),LEN(B21)=8,EXACT(LEFT(B21,4),"REQ-"),ISNUMBER(FIND(MID(B21,5,1)&"x","0x1x2x3x4x5x6x7x8x9x")),ISNUMBER(FIND(MID(B21,6,1)&"x","0x1x2x3x4x5x6x7x8x9x")),ISNUMBER(FIND(MID(B21,7,1)&"x","0x1x2x3x4x5x6x7x8x9x")),ISNUMBER(FIND(MID(B21,8,1)&"x","0x1x2x3x4x5x6x7x8x9x"))),IF(COUNTIFS(必要枠!$A$8:$A$38,B21)=1,INDEX(必要枠!$B$8:$B$38,MATCH(B21,必要枠!$A$8:$A$38,0)),NA()),NA())) | E21: =IF(COUNTA(A21:C21)=0,"",IF(AND(ISTEXT(B21),LEN(B21)=8,EXACT(LEFT(B21,4),"REQ-"),ISNUMBER(FIND(MID(B21,5,1)&"x","0x1x2x3x4x5x6x7x8x9x")),ISNUMBER(FIND(MID(B21,6,1)&"x","0x1x2x3x4x5x6x7x8x9x")),ISNUMBER(FIND(MID(B21,7,1)&"x","0x1x2x3x4x5x6x7x8x9x")),ISNUMBER(FIND(MID(B21,8,1)&"x","0x1x2x3x4x5x6x7x8x9x"))),IF(COUNTIFS(必要枠!$A$8:$A$38,B21)=1,INDEX(必要枠!$C$8:$C$38,MATCH(B21,必要枠!$A$8:$A$38,0)),NA()),NA())) | F21: =IF(G21="","",IF(H21<>0,NA(),ROUND((E21-D21)*1440,0))) | G21: =IF(COUNTA(A21:C21)=0,"",IF(NOT(AND(ISTEXT(A21),LEN(A21)=8,EXACT(LEFT(A21,4),"ASG-"),ISNUMBER(FIND(MID(A21,5,1)&"x","0x1x2x3x4x5x6x7x8x9x")),ISNUMBER(FIND(MID(A21,6,1)&"x","0x1x2x3x4x5x6x7x8x9x")),ISNUMBER(FIND(MID(A21,7,1)&"x","0x1x2x3x4x5x6x7x8x9x")),ISNUMBER(FIND(MID(A21,8,1)&"x","0x1x2x3x4x5x6x7x8x9x")))),"IDはASG-と半角数字4桁",IF(COUNTIFS($A$8:$A$107,A21)>1,"割当IDが重複",IF(NOT(AND(ISTEXT(B21),LEN(B21)=8,EXACT(LEFT(B21,4),"REQ-"),ISNUMBER(FIND(MID(B21,5,1)&"x","0x1x2x3x4x5x6x7x8x9x")),ISNUMBER(FIND(MID(B21,6,1)&"x","0x1x2x3x4x5x6x7x8x9x")),ISNUMBER(FIND(MID(B21,7,1)&"x","0x1x2x3x4x5x6x7x8x9x")),ISNUMBER(FIND(MID(B21,8,1)&"x","0x1x2x3x4x5x6x7x8x9x")))),"必要枠IDの形式を確認",IF(COUNTIFS(必要枠!$A$8:$A$38,B21)<>1,"必要枠IDが不明・重複",IF(NOT(AND(ISTEXT(C21),LEN(C21)=8,EXACT(LEFT(C21,4),"STF-"),ISNUMBER(FIND(MID(C21,5,1)&"x","0x1x2x3x4x5x6x7x8x9x")),ISNUMBER(FIND(MID(C21,6,1)&"x","0x1x2x3x4x5x6x7x8x9x")),ISNUMBER(FIND(MID(C21,7,1)&"x","0x1x2x3x4x5x6x7x8x9x")),ISNUMBER(FIND(MID(C21,8,1)&"x","0x1x2x3x4x5x6x7x8x9x")))),"担当IDの形式を確認",IF(COUNTIFS($K$8:$K$27,C21)<>1,"担当IDが未登録・重複","確認済み"))))))) | H21: =IF(G21="","",IF(G21="確認済み",0,1)) | I21: =IF(G21="","",IF(H21<>0,0,IF(AND(ISNUMBER(D21),ISNUMBER(E21),ISNUMBER(F21),D21=INDEX(必要枠!$B$8:$B$38,MATCH(B21,必要枠!$A$8:$A$38,0)),E21=INDEX(必要枠!$C$8:$C$38,MATCH(B21,必要枠!$A$8:$A$38,0)),F21=ROUND((E21-D21)*1440,0),COUNTIFS($C$8:$C$107,C21,$D$8:$D$107,"<"&E21,$E$8:$E$107,">"&D21)=1),0,1))) | L21: =IF(COUNTA(K21)=0,"",IF(NOT(AND(ISTEXT(K21),LEN(K21)=8,EXACT(LEFT(K21,4),"STF-"),ISNUMBER(FIND(MID(K21,5,1)&"x","0x1x2x3x4x5x6x7x8x9x")),ISNUMBER(FIND(MID(K21,6,1)&"x","0x1x2x3x4x5x6x7x8x9x")),ISNUMBER(FIND(MID(K21,7,1)&"x","0x1x2x3x4x5x6x7x8x9x")),ISNUMBER(FIND(MID(K21,8,1)&"x","0x1x2x3x4x5x6x7x8x9x")))),"IDはSTF-と半角数字4桁",IF(COUNTIFS($K$8:$K$27,K21)>1,"登録担当IDが重複","確認済み"))) | M21: =IF(L21="","",IF(L21="確認済み",0,1))
D22: =IF(COUNTA(A22:C22)=0,"",IF(AND(ISTEXT(B22),LEN(B22)=8,EXACT(LEFT(B22,4),"REQ-"),ISNUMBER(FIND(MID(B22,5,1)&"x","0x1x2x3x4x5x6x7x8x9x")),ISNUMBER(FIND(MID(B22,6,1)&"x","0x1x2x3x4x5x6x7x8x9x")),ISNUMBER(FIND(MID(B22,7,1)&"x","0x1x2x3x4x5x6x7x8x9x")),ISNUMBER(FIND(MID(B22,8,1)&"x","0x1x2x3x4x5x6x7x8x9x"))),IF(COUNTIFS(必要枠!$A$8:$A$38,B22)=1,INDEX(必要枠!$B$8:$B$38,MATCH(B22,必要枠!$A$8:$A$38,0)),NA()),NA())) | E22: =IF(COUNTA(A22:C22)=0,"",IF(AND(ISTEXT(B22),LEN(B22)=8,EXACT(LEFT(B22,4),"REQ-"),ISNUMBER(FIND(MID(B22,5,1)&"x","0x1x2x3x4x5x6x7x8x9x")),ISNUMBER(FIND(MID(B22,6,1)&"x","0x1x2x3x4x5x6x7x8x9x")),ISNUMBER(FIND(MID(B22,7,1)&"x","0x1x2x3x4x5x6x7x8x9x")),ISNUMBER(FIND(MID(B22,8,1)&"x","0x1x2x3x4x5x6x7x8x9x"))),IF(COUNTIFS(必要枠!$A$8:$A$38,B22)=1,INDEX(必要枠!$C$8:$C$38,MATCH(B22,必要枠!$A$8:$A$38,0)),NA()),NA())) | F22: =IF(G22="","",IF(H22<>0,NA(),ROUND((E22-D22)*1440,0))) | G22: =IF(COUNTA(A22:C22)=0,"",IF(NOT(AND(ISTEXT(A22),LEN(A22)=8,EXACT(LEFT(A22,4),"ASG-"),ISNUMBER(FIND(MID(A22,5,1)&"x","0x1x2x3x4x5x6x7x8x9x")),ISNUMBER(FIND(MID(A22,6,1)&"x","0x1x2x3x4x5x6x7x8x9x")),ISNUMBER(FIND(MID(A22,7,1)&"x","0x1x2x3x4x5x6x7x8x9x")),ISNUMBER(FIND(MID(A22,8,1)&"x","0x1x2x3x4x5x6x7x8x9x")))),"IDはASG-と半角数字4桁",IF(COUNTIFS($A$8:$A$107,A22)>1,"割当IDが重複",IF(NOT(AND(ISTEXT(B22),LEN(B22)=8,EXACT(LEFT(B22,4),"REQ-"),ISNUMBER(FIND(MID(B22,5,1)&"x","0x1x2x3x4x5x6x7x8x9x")),ISNUMBER(FIND(MID(B22,6,1)&"x","0x1x2x3x4x5x6x7x8x9x")),ISNUMBER(FIND(MID(B22,7,1)&"x","0x1x2x3x4x5x6x7x8x9x")),ISNUMBER(FIND(MID(B22,8,1)&"x","0x1x2x3x4x5x6x7x8x9x")))),"必要枠IDの形式を確認",IF(COUNTIFS(必要枠!$A$8:$A$38,B22)<>1,"必要枠IDが不明・重複",IF(NOT(AND(ISTEXT(C22),LEN(C22)=8,EXACT(LEFT(C22,4),"STF-"),ISNUMBER(FIND(MID(C22,5,1)&"x","0x1x2x3x4x5x6x7x8x9x")),ISNUMBER(FIND(MID(C22,6,1)&"x","0x1x2x3x4x5x6x7x8x9x")),ISNUMBER(FIND(MID(C22,7,1)&"x","0x1x2x3x4x5x6x7x8x9x")),ISNUMBER(FIND(MID(C22,8,1)&"x","0x1x2x3x4x5x6x7x8x9x")))),"担当IDの形式を確認",IF(COUNTIFS($K$8:$K$27,C22)<>1,"担当IDが未登録・重複","確認済み"))))))) | H22: =IF(G22="","",IF(G22="確認済み",0,1)) | I22: =IF(G22="","",IF(H22<>0,0,IF(AND(ISNUMBER(D22),ISNUMBER(E22),ISNUMBER(F22),D22=INDEX(必要枠!$B$8:$B$38,MATCH(B22,必要枠!$A$8:$A$38,0)),E22=INDEX(必要枠!$C$8:$C$38,MATCH(B22,必要枠!$A$8:$A$38,0)),F22=ROUND((E22-D22)*1440,0),COUNTIFS($C$8:$C$107,C22,$D$8:$D$107,"<"&E22,$E$8:$E$107,">"&D22)=1),0,1))) | L22: =IF(COUNTA(K22)=0,"",IF(NOT(AND(ISTEXT(K22),LEN(K22)=8,EXACT(LEFT(K22,4),"STF-"),ISNUMBER(FIND(MID(K22,5,1)&"x","0x1x2x3x4x5x6x7x8x9x")),ISNUMBER(FIND(MID(K22,6,1)&"x","0x1x2x3x4x5x6x7x8x9x")),ISNUMBER(FIND(MID(K22,7,1)&"x","0x1x2x3x4x5x6x7x8x9x")),ISNUMBER(FIND(MID(K22,8,1)&"x","0x1x2x3x4x5x6x7x8x9x")))),"IDはSTF-と半角数字4桁",IF(COUNTIFS($K$8:$K$27,K22)>1,"登録担当IDが重複","確認済み"))) | M22: =IF(L22="","",IF(L22="確認済み",0,1))
D23: =IF(COUNTA(A23:C23)=0,"",IF(AND(ISTEXT(B23),LEN(B23)=8,EXACT(LEFT(B23,4),"REQ-"),ISNUMBER(FIND(MID(B23,5,1)&"x","0x1x2x3x4x5x6x7x8x9x")),ISNUMBER(FIND(MID(B23,6,1)&"x","0x1x2x3x4x5x6x7x8x9x")),ISNUMBER(FIND(MID(B23,7,1)&"x","0x1x2x3x4x5x6x7x8x9x")),ISNUMBER(FIND(MID(B23,8,1)&"x","0x1x2x3x4x5x6x7x8x9x"))),IF(COUNTIFS(必要枠!$A$8:$A$38,B23)=1,INDEX(必要枠!$B$8:$B$38,MATCH(B23,必要枠!$A$8:$A$38,0)),NA()),NA())) | E23: =IF(COUNTA(A23:C23)=0,"",IF(AND(ISTEXT(B23),LEN(B23)=8,EXACT(LEFT(B23,4),"REQ-"),ISNUMBER(FIND(MID(B23,5,1)&"x","0x1x2x3x4x5x6x7x8x9x")),ISNUMBER(FIND(MID(B23,6,1)&"x","0x1x2x3x4x5x6x7x8x9x")),ISNUMBER(FIND(MID(B23,7,1)&"x","0x1x2x3x4x5x6x7x8x9x")),ISNUMBER(FIND(MID(B23,8,1)&"x","0x1x2x3x4x5x6x7x8x9x"))),IF(COUNTIFS(必要枠!$A$8:$A$38,B23)=1,INDEX(必要枠!$C$8:$C$38,MATCH(B23,必要枠!$A$8:$A$38,0)),NA()),NA())) | F23: =IF(G23="","",IF(H23<>0,NA(),ROUND((E23-D23)*1440,0))) | G23: =IF(COUNTA(A23:C23)=0,"",IF(NOT(AND(ISTEXT(A23),LEN(A23)=8,EXACT(LEFT(A23,4),"ASG-"),ISNUMBER(FIND(MID(A23,5,1)&"x","0x1x2x3x4x5x6x7x8x9x")),ISNUMBER(FIND(MID(A23,6,1)&"x","0x1x2x3x4x5x6x7x8x9x")),ISNUMBER(FIND(MID(A23,7,1)&"x","0x1x2x3x4x5x6x7x8x9x")),ISNUMBER(FIND(MID(A23,8,1)&"x","0x1x2x3x4x5x6x7x8x9x")))),"IDはASG-と半角数字4桁",IF(COUNTIFS($A$8:$A$107,A23)>1,"割当IDが重複",IF(NOT(AND(ISTEXT(B23),LEN(B23)=8,EXACT(LEFT(B23,4),"REQ-"),ISNUMBER(FIND(MID(B23,5,1)&"x","0x1x2x3x4x5x6x7x8x9x")),ISNUMBER(FIND(MID(B23,6,1)&"x","0x1x2x3x4x5x6x7x8x9x")),ISNUMBER(FIND(MID(B23,7,1)&"x","0x1x2x3x4x5x6x7x8x9x")),ISNUMBER(FIND(MID(B23,8,1)&"x","0x1x2x3x4x5x6x7x8x9x")))),"必要枠IDの形式を確認",IF(COUNTIFS(必要枠!$A$8:$A$38,B23)<>1,"必要枠IDが不明・重複",IF(NOT(AND(ISTEXT(C23),LEN(C23)=8,EXACT(LEFT(C23,4),"STF-"),ISNUMBER(FIND(MID(C23,5,1)&"x","0x1x2x3x4x5x6x7x8x9x")),ISNUMBER(FIND(MID(C23,6,1)&"x","0x1x2x3x4x5x6x7x8x9x")),ISNUMBER(FIND(MID(C23,7,1)&"x","0x1x2x3x4x5x6x7x8x9x")),ISNUMBER(FIND(MID(C23,8,1)&"x","0x1x2x3x4x5x6x7x8x9x")))),"担当IDの形式を確認",IF(COUNTIFS($K$8:$K$27,C23)<>1,"担当IDが未登録・重複","確認済み"))))))) | H23: =IF(G23="","",IF(G23="確認済み",0,1)) | I23: =IF(G23="","",IF(H23<>0,0,IF(AND(ISNUMBER(D23),ISNUMBER(E23),ISNUMBER(F23),D23=INDEX(必要枠!$B$8:$B$38,MATCH(B23,必要枠!$A$8:$A$38,0)),E23=INDEX(必要枠!$C$8:$C$38,MATCH(B23,必要枠!$A$8:$A$38,0)),F23=ROUND((E23-D23)*1440,0),COUNTIFS($C$8:$C$107,C23,$D$8:$D$107,"<"&E23,$E$8:$E$107,">"&D23)=1),0,1))) | L23: =IF(COUNTA(K23)=0,"",IF(NOT(AND(ISTEXT(K23),LEN(K23)=8,EXACT(LEFT(K23,4),"STF-"),ISNUMBER(FIND(MID(K23,5,1)&"x","0x1x2x3x4x5x6x7x8x9x")),ISNUMBER(FIND(MID(K23,6,1)&"x","0x1x2x3x4x5x6x7x8x9x")),ISNUMBER(FIND(MID(K23,7,1)&"x","0x1x2x3x4x5x6x7x8x9x")),ISNUMBER(FIND(MID(K23,8,1)&"x","0x1x2x3x4x5x6x7x8x9x")))),"IDはSTF-と半角数字4桁",IF(COUNTIFS($K$8:$K$27,K23)>1,"登録担当IDが重複","確認済み"))) | M23: =IF(L23="","",IF(L23="確認済み",0,1))
D24: =IF(COUNTA(A24:C24)=0,"",IF(AND(ISTEXT(B24),LEN(B24)=8,EXACT(LEFT(B24,4),"REQ-"),ISNUMBER(FIND(MID(B24,5,1)&"x","0x1x2x3x4x5x6x7x8x9x")),ISNUMBER(FIND(MID(B24,6,1)&"x","0x1x2x3x4x5x6x7x8x9x")),ISNUMBER(FIND(MID(B24,7,1)&"x","0x1x2x3x4x5x6x7x8x9x")),ISNUMBER(FIND(MID(B24,8,1)&"x","0x1x2x3x4x5x6x7x8x9x"))),IF(COUNTIFS(必要枠!$A$8:$A$38,B24)=1,INDEX(必要枠!$B$8:$B$38,MATCH(B24,必要枠!$A$8:$A$38,0)),NA()),NA())) | E24: =IF(COUNTA(A24:C24)=0,"",IF(AND(ISTEXT(B24),LEN(B24)=8,EXACT(LEFT(B24,4),"REQ-"),ISNUMBER(FIND(MID(B24,5,1)&"x","0x1x2x3x4x5x6x7x8x9x")),ISNUMBER(FIND(MID(B24,6,1)&"x","0x1x2x3x4x5x6x7x8x9x")),ISNUMBER(FIND(MID(B24,7,1)&"x","0x1x2x3x4x5x6x7x8x9x")),ISNUMBER(FIND(MID(B24,8,1)&"x","0x1x2x3x4x5x6x7x8x9x"))),IF(COUNTIFS(必要枠!$A$8:$A$38,B24)=1,INDEX(必要枠!$C$8:$C$38,MATCH(B24,必要枠!$A$8:$A$38,0)),NA()),NA())) | F24: =IF(G24="","",IF(H24<>0,NA(),ROUND((E24-D24)*1440,0))) | G24: =IF(COUNTA(A24:C24)=0,"",IF(NOT(AND(ISTEXT(A24),LEN(A24)=8,EXACT(LEFT(A24,4),"ASG-"),ISNUMBER(FIND(MID(A24,5,1)&"x","0x1x2x3x4x5x6x7x8x9x")),ISNUMBER(FIND(MID(A24,6,1)&"x","0x1x2x3x4x5x6x7x8x9x")),ISNUMBER(FIND(MID(A24,7,1)&"x","0x1x2x3x4x5x6x7x8x9x")),ISNUMBER(FIND(MID(A24,8,1)&"x","0x1x2x3x4x5x6x7x8x9x")))),"IDはASG-と半角数字4桁",IF(COUNTIFS($A$8:$A$107,A24)>1,"割当IDが重複",IF(NOT(AND(ISTEXT(B24),LEN(B24)=8,EXACT(LEFT(B24,4),"REQ-"),ISNUMBER(FIND(MID(B24,5,1)&"x","0x1x2x3x4x5x6x7x8x9x")),ISNUMBER(FIND(MID(B24,6,1)&"x","0x1x2x3x4x5x6x7x8x9x")),ISNUMBER(FIND(MID(B24,7,1)&"x","0x1x2x3x4x5x6x7x8x9x")),ISNUMBER(FIND(MID(B24,8,1)&"x","0x1x2x3x4x5x6x7x8x9x")))),"必要枠IDの形式を確認",IF(COUNTIFS(必要枠!$A$8:$A$38,B24)<>1,"必要枠IDが不明・重複",IF(NOT(AND(ISTEXT(C24),LEN(C24)=8,EXACT(LEFT(C24,4),"STF-"),ISNUMBER(FIND(MID(C24,5,1)&"x","0x1x2x3x4x5x6x7x8x9x")),ISNUMBER(FIND(MID(C24,6,1)&"x","0x1x2x3x4x5x6x7x8x9x")),ISNUMBER(FIND(MID(C24,7,1)&"x","0x1x2x3x4x5x6x7x8x9x")),ISNUMBER(FIND(MID(C24,8,1)&"x","0x1x2x3x4x5x6x7x8x9x")))),"担当IDの形式を確認",IF(COUNTIFS($K$8:$K$27,C24)<>1,"担当IDが未登録・重複","確認済み"))))))) | H24: =IF(G24="","",IF(G24="確認済み",0,1)) | I24: =IF(G24="","",IF(H24<>0,0,IF(AND(ISNUMBER(D24),ISNUMBER(E24),ISNUMBER(F24),D24=INDEX(必要枠!$B$8:$B$38,MATCH(B24,必要枠!$A$8:$A$38,0)),E24=INDEX(必要枠!$C$8:$C$38,MATCH(B24,必要枠!$A$8:$A$38,0)),F24=ROUND((E24-D24)*1440,0),COUNTIFS($C$8:$C$107,C24,$D$8:$D$107,"<"&E24,$E$8:$E$107,">"&D24)=1),0,1))) | L24: =IF(COUNTA(K24)=0,"",IF(NOT(AND(ISTEXT(K24),LEN(K24)=8,EXACT(LEFT(K24,4),"STF-"),ISNUMBER(FIND(MID(K24,5,1)&"x","0x1x2x3x4x5x6x7x8x9x")),ISNUMBER(FIND(MID(K24,6,1)&"x","0x1x2x3x4x5x6x7x8x9x")),ISNUMBER(FIND(MID(K24,7,1)&"x","0x1x2x3x4x5x6x7x8x9x")),ISNUMBER(FIND(MID(K24,8,1)&"x","0x1x2x3x4x5x6x7x8x9x")))),"IDはSTF-と半角数字4桁",IF(COUNTIFS($K$8:$K$27,K24)>1,"登録担当IDが重複","確認済み"))) | M24: =IF(L24="","",IF(L24="確認済み",0,1))
... D27: =IF(COUNTA(A27:C27)=0,"",IF(AND(ISTEXT(B27),LEN(B27)=8,EXACT(LEFT(B27,4),"REQ-"),ISNUMBER(FIND(MID(B27,5,1)&"x","0x1x2x3x4x5x6x7x8x9x")),ISNUMBER(FIND(MID(B27,6,1)&"x","0x1x2x3x4x5x6x7x8x9x")),ISNUMBER(FIND(MID(B27,7,1)&"x","0x1x2x3x4x5x6x7x8x9x")),ISNUMBER(FIND(MID(B27,8,1)&"x","0x1x2x3x4x5x6x7x8x9x"))),IF(COUNTIFS(必要枠!$A$8:$A$38,B27)=1,INDEX(必要枠!$B$8:$B$38,MATCH(B27,必要枠!$A$8:$A$38,0)),NA()),NA())) | E27: =IF(COUNTA(A27:C27)=0,"",IF(AND(ISTEXT(B27),LEN(B27)=8,EXACT(LEFT(B27,4),"REQ-"),ISNUMBER(FIND(MID(B27,5,1)&"x","0x1x2x3x4x5x6x7x8x9x")),ISNUMBER(FIND(MID(B27,6,1)&"x","0x1x2x3x4x5x6x7x8x9x")),ISNUMBER(FIND(MID(B27,7,1)&"x","0x1x2x3x4x5x6x7x8x9x")),ISNUMBER(FIND(MID(B27,8,1)&"x","0x1x2x3x4x5x6x7x8x9x"))),IF(COUNTIFS(必要枠!$A$8:$A$38,B27)=1,INDEX(必要枠!$C$8:$C$38,MATCH(B27,必要枠!$A$8:$A$38,0)),NA()),NA())) | F27: =IF(G27="","",IF(H27<>0,NA(),ROUND((E27-D27)*1440,0))) | G27: =IF(COUNTA(A27:C27)=0,"",IF(NOT(AND(ISTEXT(A27),LEN(A27)=8,EXACT(LEFT(A27,4),"ASG-"),ISNUMBER(FIND(MID(A27,5,1)&"x","0x1x2x3x4x5x6x7x8x9x")),ISNUMBER(FIND(MID(A27,6,1)&"x","0x1x2x3x4x5x6x7x8x9x")),ISNUMBER(FIND(MID(A27,7,1)&"x","0x1x2x3x4x5x6x7x8x9x")),ISNUMBER(FIND(MID(A27,8,1)&"x","0x1x2x3x4x5x6x7x8x9x")))),"IDはASG-と半角数字4桁",IF(COUNTIFS($A$8:$A$107,A27)>1,"割当IDが重複",IF(NOT(AND(ISTEXT(B27),LEN(B27)=8,EXACT(LEFT(B27,4),"REQ-"),ISNUMBER(FIND(MID(B27,5,1)&"x","0x1x2x3x4x5x6x7x8x9x")),ISNUMBER(FIND(MID(B27,6,1)&"x","0x1x2x3x4x5x6x7x8x9x")),ISNUMBER(FIND(MID(B27,7,1)&"x","0x1x2x3x4x5x6x7x8x9x")),ISNUMBER(FIND(MID(B27,8,1)&"x","0x1x2x3x4x5x6x7x8x9x")))),"必要枠IDの形式を確認",IF(COUNTIFS(必要枠!$A$8:$A$38,B27)<>1,"必要枠IDが不明・重複",IF(NOT(AND(ISTEXT(C27),LEN(C27)=8,EXACT(LEFT(C27,4),"STF-"),ISNUMBER(FIND(MID(C27,5,1)&"x","0x1x2x3x4x5x6x7x8x9x")),ISNUMBER(FIND(MID(C27,6,1)&"x","0x1x2x3x4x5x6x7x8x9x")),ISNUMBER(FIND(MID(C27,7,1)&"x","0x1x2x3x4x5x6x7x8x9x")),ISNUMBER(FIND(MID(C27,8,1)&"x","0x1x2x3x4x5x6x7x8x9x")))),"担当IDの形式を確認",IF(COUNTIFS($K$8:$K$27,C27)<>1,"担当IDが未登録・重複","確認済み"))))))) | H27: =IF(G27="","",IF(G27="確認済み",0,1)) | I27: =IF(G27="","",IF(H27<>0,0,IF(AND(ISNUMBER(D27),ISNUMBER(E27),ISNUMBER(F27),D27=INDEX(必要枠!$B$8:$B$38,MATCH(B27,必要枠!$A$8:$A$38,0)),E27=INDEX(必要枠!$C$8:$C$38,MATCH(B27,必要枠!$A$8:$A$38,0)),F27=ROUND((E27-D27)*1440,0),COUNTIFS($C$8:$C$107,C27,$D$8:$D$107,"<"&E27,$E$8:$E$107,">"&D27)=1),0,1))) | L27: =IF(COUNTA(K27)=0,"",IF(NOT(AND(ISTEXT(K27),LEN(K27)=8,EXACT(LEFT(K27,4),"STF-"),ISNUMBER(FIND(MID(K27,5,1)&"x","0x1x2x3x4x5x6x7x8x9x")),ISNUMBER(FIND(MID(K27,6,1)&"x","0x1x2x3x4x5x6x7x8x9x")),ISNUMBER(FIND(MID(K27,7,1)&"x","0x1x2x3x4x5x6x7x8x9x")),ISNUMBER(FIND(MID(K27,8,1)&"x","0x1x2x3x4x5x6x7x8x9x")))),"IDはSTF-と半角数字4桁",IF(COUNTIFS($K$8:$K$27,K27)>1,"登録担当IDが重複","確認済み"))) | M27: =IF(L27="","",IF(L27="確認済み",0,1))
D28: =IF(COUNTA(A28:C28)=0,"",IF(AND(ISTEXT(B28),LEN(B28)=8,EXACT(LEFT(B28,4),"REQ-"),ISNUMBER(FIND(MID(B28,5,1)&"x","0x1x2x3x4x5x6x7x8x9x")),ISNUMBER(FIND(MID(B28,6,1)&"x","0x1x2x3x4x5x6x7x8x9x")),ISNUMBER(FIND(MID(B28,7,1)&"x","0x1x2x3x4x5x6x7x8x9x")),ISNUMBER(FIND(MID(B28,8,1)&"x","0x1x2x3x4x5x6x7x8x9x"))),IF(COUNTIFS(必要枠!$A$8:$A$38,B28)=1,INDEX(必要枠!$B$8:$B$38,MATCH(B28,必要枠!$A$8:$A$38,0)),NA()),NA())) | E28: =IF(COUNTA(A28:C28)=0,"",IF(AND(ISTEXT(B28),LEN(B28)=8,EXACT(LEFT(B28,4),"REQ-"),ISNUMBER(FIND(MID(B28,5,1)&"x","0x1x2x3x4x5x6x7x8x9x")),ISNUMBER(FIND(MID(B28,6,1)&"x","0x1x2x3x4x5x6x7x8x9x")),ISNUMBER(FIND(MID(B28,7,1)&"x","0x1x2x3x4x5x6x7x8x9x")),ISNUMBER(FIND(MID(B28,8,1)&"x","0x1x2x3x4x5x6x7x8x9x"))),IF(COUNTIFS(必要枠!$A$8:$A$38,B28)=1,INDEX(必要枠!$C$8:$C$38,MATCH(B28,必要枠!$A$8:$A$38,0)),NA()),NA())) | F28: =IF(G28="","",IF(H28<>0,NA(),ROUND((E28-D28)*1440,0))) | G28: =IF(COUNTA(A28:C28)=0,"",IF(NOT(AND(ISTEXT(A28),LEN(A28)=8,EXACT(LEFT(A28,4),"ASG-"),ISNUMBER(FIND(MID(A28,5,1)&"x","0x1x2x3x4x5x6x7x8x9x")),ISNUMBER(FIND(MID(A28,6,1)&"x","0x1x2x3x4x5x6x7x8x9x")),ISNUMBER(FIND(MID(A28,7,1)&"x","0x1x2x3x4x5x6x7x8x9x")),ISNUMBER(FIND(MID(A28,8,1)&"x","0x1x2x3x4x5x6x7x8x9x")))),"IDはASG-と半角数字4桁",IF(COUNTIFS($A$8:$A$107,A28)>1,"割当IDが重複",IF(NOT(AND(ISTEXT(B28),LEN(B28)=8,EXACT(LEFT(B28,4),"REQ-"),ISNUMBER(FIND(MID(B28,5,1)&"x","0x1x2x3x4x5x6x7x8x9x")),ISNUMBER(FIND(MID(B28,6,1)&"x","0x1x2x3x4x5x6x7x8x9x")),ISNUMBER(FIND(MID(B28,7,1)&"x","0x1x2x3x4x5x6x7x8x9x")),ISNUMBER(FIND(MID(B28,8,1)&"x","0x1x2x3x4x5x6x7x8x9x")))),"必要枠IDの形式を確認",IF(COUNTIFS(必要枠!$A$8:$A$38,B28)<>1,"必要枠IDが不明・重複",IF(NOT(AND(ISTEXT(C28),LEN(C28)=8,EXACT(LEFT(C28,4),"STF-"),ISNUMBER(FIND(MID(C28,5,1)&"x","0x1x2x3x4x5x6x7x8x9x")),ISNUMBER(FIND(MID(C28,6,1)&"x","0x1x2x3x4x5x6x7x8x9x")),ISNUMBER(FIND(MID(C28,7,1)&"x","0x1x2x3x4x5x6x7x8x9x")),ISNUMBER(FIND(MID(C28,8,1)&"x","0x1x2x3x4x5x6x7x8x9x")))),"担当IDの形式を確認",IF(COUNTIFS($K$8:$K$27,C28)<>1,"担当IDが未登録・重複","確認済み"))))))) | H28: =IF(G28="","",IF(G28="確認済み",0,1)) | I28: =IF(G28="","",IF(H28<>0,0,IF(AND(ISNUMBER(D28),ISNUMBER(E28),ISNUMBER(F28),D28=INDEX(必要枠!$B$8:$B$38,MATCH(B28,必要枠!$A$8:$A$38,0)),E28=INDEX(必要枠!$C$8:$C$38,MATCH(B28,必要枠!$A$8:$A$38,0)),F28=ROUND((E28-D28)*1440,0),COUNTIFS($C$8:$C$107,C28,$D$8:$D$107,"<"&E28,$E$8:$E$107,">"&D28)=1),0,1)))
D29: =IF(COUNTA(A29:C29)=0,"",IF(AND(ISTEXT(B29),LEN(B29)=8,EXACT(LEFT(B29,4),"REQ-"),ISNUMBER(FIND(MID(B29,5,1)&"x","0x1x2x3x4x5x6x7x8x9x")),ISNUMBER(FIND(MID(B29,6,1)&"x","0x1x2x3x4x5x6x7x8x9x")),ISNUMBER(FIND(MID(B29,7,1)&"x","0x1x2x3x4x5x6x7x8x9x")),ISNUMBER(FIND(MID(B29,8,1)&"x","0x1x2x3x4x5x6x7x8x9x"))),IF(COUNTIFS(必要枠!$A$8:$A$38,B29)=1,INDEX(必要枠!$B$8:$B$38,MATCH(B29,必要枠!$A$8:$A$38,0)),NA()),NA())) | E29: =IF(COUNTA(A29:C29)=0,"",IF(AND(ISTEXT(B29),LEN(B29)=8,EXACT(LEFT(B29,4),"REQ-"),ISNUMBER(FIND(MID(B29,5,1)&"x","0x1x2x3x4x5x6x7x8x9x")),ISNUMBER(FIND(MID(B29,6,1)&"x","0x1x2x3x4x5x6x7x8x9x")),ISNUMBER(FIND(MID(B29,7,1)&"x","0x1x2x3x4x5x6x7x8x9x")),ISNUMBER(FIND(MID(B29,8,1)&"x","0x1x2x3x4x5x6x7x8x9x"))),IF(COUNTIFS(必要枠!$A$8:$A$38,B29)=1,INDEX(必要枠!$C$8:$C$38,MATCH(B29,必要枠!$A$8:$A$38,0)),NA()),NA())) | F29: =IF(G29="","",IF(H29<>0,NA(),ROUND((E29-D29)*1440,0))) | G29: =IF(COUNTA(A29:C29)=0,"",IF(NOT(AND(ISTEXT(A29),LEN(A29)=8,EXACT(LEFT(A29,4),"ASG-"),ISNUMBER(FIND(MID(A29,5,1)&"x","0x1x2x3x4x5x6x7x8x9x")),ISNUMBER(FIND(MID(A29,6,1)&"x","0x1x2x3x4x5x6x7x8x9x")),ISNUMBER(FIND(MID(A29,7,1)&"x","0x1x2x3x4x5x6x7x8x9x")),ISNUMBER(FIND(MID(A29,8,1)&"x","0x1x2x3x4x5x6x7x8x9x")))),"IDはASG-と半角数字4桁",IF(COUNTIFS($A$8:$A$107,A29)>1,"割当IDが重複",IF(NOT(AND(ISTEXT(B29),LEN(B29)=8,EXACT(LEFT(B29,4),"REQ-"),ISNUMBER(FIND(MID(B29,5,1)&"x","0x1x2x3x4x5x6x7x8x9x")),ISNUMBER(FIND(MID(B29,6,1)&"x","0x1x2x3x4x5x6x7x8x9x")),ISNUMBER(FIND(MID(B29,7,1)&"x","0x1x2x3x4x5x6x7x8x9x")),ISNUMBER(FIND(MID(B29,8,1)&"x","0x1x2x3x4x5x6x7x8x9x")))),"必要枠IDの形式を確認",IF(COUNTIFS(必要枠!$A$8:$A$38,B29)<>1,"必要枠IDが不明・重複",IF(NOT(AND(ISTEXT(C29),LEN(C29)=8,EXACT(LEFT(C29,4),"STF-"),ISNUMBER(FIND(MID(C29,5,1)&"x","0x1x2x3x4x5x6x7x8x9x")),ISNUMBER(FIND(MID(C29,6,1)&"x","0x1x2x3x4x5x6x7x8x9x")),ISNUMBER(FIND(MID(C29,7,1)&"x","0x1x2x3x4x5x6x7x8x9x")),ISNUMBER(FIND(MID(C29,8,1)&"x","0x1x2x3x4x5x6x7x8x9x")))),"担当IDの形式を確認",IF(COUNTIFS($K$8:$K$27,C29)<>1,"担当IDが未登録・重複","確認済み"))))))) | H29: =IF(G29="","",IF(G29="確認済み",0,1)) | I29: =IF(G29="","",IF(H29<>0,0,IF(AND(ISNUMBER(D29),ISNUMBER(E29),ISNUMBER(F29),D29=INDEX(必要枠!$B$8:$B$38,MATCH(B29,必要枠!$A$8:$A$38,0)),E29=INDEX(必要枠!$C$8:$C$38,MATCH(B29,必要枠!$A$8:$A$38,0)),F29=ROUND((E29-D29)*1440,0),COUNTIFS($C$8:$C$107,C29,$D$8:$D$107,"<"&E29,$E$8:$E$107,">"&D29)=1),0,1)))
D30: =IF(COUNTA(A30:C30)=0,"",IF(AND(ISTEXT(B30),LEN(B30)=8,EXACT(LEFT(B30,4),"REQ-"),ISNUMBER(FIND(MID(B30,5,1)&"x","0x1x2x3x4x5x6x7x8x9x")),ISNUMBER(FIND(MID(B30,6,1)&"x","0x1x2x3x4x5x6x7x8x9x")),ISNUMBER(FIND(MID(B30,7,1)&"x","0x1x2x3x4x5x6x7x8x9x")),ISNUMBER(FIND(MID(B30,8,1)&"x","0x1x2x3x4x5x6x7x8x9x"))),IF(COUNTIFS(必要枠!$A$8:$A$38,B30)=1,INDEX(必要枠!$B$8:$B$38,MATCH(B30,必要枠!$A$8:$A$38,0)),NA()),NA())) | E30: =IF(COUNTA(A30:C30)=0,"",IF(AND(ISTEXT(B30),LEN(B30)=8,EXACT(LEFT(B30,4),"REQ-"),ISNUMBER(FIND(MID(B30,5,1)&"x","0x1x2x3x4x5x6x7x8x9x")),ISNUMBER(FIND(MID(B30,6,1)&"x","0x1x2x3x4x5x6x7x8x9x")),ISNUMBER(FIND(MID(B30,7,1)&"x","0x1x2x3x4x5x6x7x8x9x")),ISNUMBER(FIND(MID(B30,8,1)&"x","0x1x2x3x4x5x6x7x8x9x"))),IF(COUNTIFS(必要枠!$A$8:$A$38,B30)=1,INDEX(必要枠!$C$8:$C$38,MATCH(B30,必要枠!$A$8:$A$38,0)),NA()),NA())) | F30: =IF(G30="","",IF(H30<>0,NA(),ROUND((E30-D30)*1440,0))) | G30: =IF(COUNTA(A30:C30)=0,"",IF(NOT(AND(ISTEXT(A30),LEN(A30)=8,EXACT(LEFT(A30,4),"ASG-"),ISNUMBER(FIND(MID(A30,5,1)&"x","0x1x2x3x4x5x6x7x8x9x")),ISNUMBER(FIND(MID(A30,6,1)&"x","0x1x2x3x4x5x6x7x8x9x")),ISNUMBER(FIND(MID(A30,7,1)&"x","0x1x2x3x4x5x6x7x8x9x")),ISNUMBER(FIND(MID(A30,8,1)&"x","0x1x2x3x4x5x6x7x8x9x")))),"IDはASG-と半角数字4桁",IF(COUNTIFS($A$8:$A$107,A30)>1,"割当IDが重複",IF(NOT(AND(ISTEXT(B30),LEN(B30)=8,EXACT(LEFT(B30,4),"REQ-"),ISNUMBER(FIND(MID(B30,5,1)&"x","0x1x2x3x4x5x6x7x8x9x")),ISNUMBER(FIND(MID(B30,6,1)&"x","0x1x2x3x4x5x6x7x8x9x")),ISNUMBER(FIND(MID(B30,7,1)&"x","0x1x2x3x4x5x6x7x8x9x")),ISNUMBER(FIND(MID(B30,8,1)&"x","0x1x2x3x4x5x6x7x8x9x")))),"必要枠IDの形式を確認",IF(COUNTIFS(必要枠!$A$8:$A$38,B30)<>1,"必要枠IDが不明・重複",IF(NOT(AND(ISTEXT(C30),LEN(C30)=8,EXACT(LEFT(C30,4),"STF-"),ISNUMBER(FIND(MID(C30,5,1)&"x","0x1x2x3x4x5x6x7x8x9x")),ISNUMBER(FIND(MID(C30,6,1)&"x","0x1x2x3x4x5x6x7x8x9x")),ISNUMBER(FIND(MID(C30,7,1)&"x","0x1x2x3x4x5x6x7x8x9x")),ISNUMBER(FIND(MID(C30,8,1)&"x","0x1x2x3x4x5x6x7x8x9x")))),"担当IDの形式を確認",IF(COUNTIFS($K$8:$K$27,C30)<>1,"担当IDが未登録・重複","確認済み"))))))) | H30: =IF(G30="","",IF(G30="確認済み",0,1)) | I30: =IF(G30="","",IF(H30<>0,0,IF(AND(ISNUMBER(D30),ISNUMBER(E30),ISNUMBER(F30),D30=INDEX(必要枠!$B$8:$B$38,MATCH(B30,必要枠!$A$8:$A$38,0)),E30=INDEX(必要枠!$C$8:$C$38,MATCH(B30,必要枠!$A$8:$A$38,0)),F30=ROUND((E30-D30)*1440,0),COUNTIFS($C$8:$C$107,C30,$D$8:$D$107,"<"&E30,$E$8:$E$107,">"&D30)=1),0,1)))
D31: =IF(COUNTA(A31:C31)=0,"",IF(AND(ISTEXT(B31),LEN(B31)=8,EXACT(LEFT(B31,4),"REQ-"),ISNUMBER(FIND(MID(B31,5,1)&"x","0x1x2x3x4x5x6x7x8x9x")),ISNUMBER(FIND(MID(B31,6,1)&"x","0x1x2x3x4x5x6x7x8x9x")),ISNUMBER(FIND(MID(B31,7,1)&"x","0x1x2x3x4x5x6x7x8x9x")),ISNUMBER(FIND(MID(B31,8,1)&"x","0x1x2x3x4x5x6x7x8x9x"))),IF(COUNTIFS(必要枠!$A$8:$A$38,B31)=1,INDEX(必要枠!$B$8:$B$38,MATCH(B31,必要枠!$A$8:$A$38,0)),NA()),NA())) | E31: =IF(COUNTA(A31:C31)=0,"",IF(AND(ISTEXT(B31),LEN(B31)=8,EXACT(LEFT(B31,4),"REQ-"),ISNUMBER(FIND(MID(B31,5,1)&"x","0x1x2x3x4x5x6x7x8x9x")),ISNUMBER(FIND(MID(B31,6,1)&"x","0x1x2x3x4x5x6x7x8x9x")),ISNUMBER(FIND(MID(B31,7,1)&"x","0x1x2x3x4x5x6x7x8x9x")),ISNUMBER(FIND(MID(B31,8,1)&"x","0x1x2x3x4x5x6x7x8x9x"))),IF(COUNTIFS(必要枠!$A$8:$A$38,B31)=1,INDEX(必要枠!$C$8:$C$38,MATCH(B31,必要枠!$A$8:$A$38,0)),NA()),NA())) | F31: =IF(G31="","",IF(H31<>0,NA(),ROUND((E31-D31)*1440,0))) | G31: =IF(COUNTA(A31:C31)=0,"",IF(NOT(AND(ISTEXT(A31),LEN(A31)=8,EXACT(LEFT(A31,4),"ASG-"),ISNUMBER(FIND(MID(A31,5,1)&"x","0x1x2x3x4x5x6x7x8x9x")),ISNUMBER(FIND(MID(A31,6,1)&"x","0x1x2x3x4x5x6x7x8x9x")),ISNUMBER(FIND(MID(A31,7,1)&"x","0x1x2x3x4x5x6x7x8x9x")),ISNUMBER(FIND(MID(A31,8,1)&"x","0x1x2x3x4x5x6x7x8x9x")))),"IDはASG-と半角数字4桁",IF(COUNTIFS($A$8:$A$107,A31)>1,"割当IDが重複",IF(NOT(AND(ISTEXT(B31),LEN(B31)=8,EXACT(LEFT(B31,4),"REQ-"),ISNUMBER(FIND(MID(B31,5,1)&"x","0x1x2x3x4x5x6x7x8x9x")),ISNUMBER(FIND(MID(B31,6,1)&"x","0x1x2x3x4x5x6x7x8x9x")),ISNUMBER(FIND(MID(B31,7,1)&"x","0x1x2x3x4x5x6x7x8x9x")),ISNUMBER(FIND(MID(B31,8,1)&"x","0x1x2x3x4x5x6x7x8x9x")))),"必要枠IDの形式を確認",IF(COUNTIFS(必要枠!$A$8:$A$38,B31)<>1,"必要枠IDが不明・重複",IF(NOT(AND(ISTEXT(C31),LEN(C31)=8,EXACT(LEFT(C31,4),"STF-"),ISNUMBER(FIND(MID(C31,5,1)&"x","0x1x2x3x4x5x6x7x8x9x")),ISNUMBER(FIND(MID(C31,6,1)&"x","0x1x2x3x4x5x6x7x8x9x")),ISNUMBER(FIND(MID(C31,7,1)&"x","0x1x2x3x4x5x6x7x8x9x")),ISNUMBER(FIND(MID(C31,8,1)&"x","0x1x2x3x4x5x6x7x8x9x")))),"担当IDの形式を確認",IF(COUNTIFS($K$8:$K$27,C31)<>1,"担当IDが未登録・重複","確認済み"))))))) | H31: =IF(G31="","",IF(G31="確認済み",0,1)) | I31: =IF(G31="","",IF(H31<>0,0,IF(AND(ISNUMBER(D31),ISNUMBER(E31),ISNUMBER(F31),D31=INDEX(必要枠!$B$8:$B$38,MATCH(B31,必要枠!$A$8:$A$38,0)),E31=INDEX(必要枠!$C$8:$C$38,MATCH(B31,必要枠!$A$8:$A$38,0)),F31=ROUND((E31-D31)*1440,0),COUNTIFS($C$8:$C$107,C31,$D$8:$D$107,"<"&E31,$E$8:$E$107,">"&D31)=1),0,1)))
D32: =IF(COUNTA(A32:C32)=0,"",IF(AND(ISTEXT(B32),LEN(B32)=8,EXACT(LEFT(B32,4),"REQ-"),ISNUMBER(FIND(MID(B32,5,1)&"x","0x1x2x3x4x5x6x7x8x9x")),ISNUMBER(FIND(MID(B32,6,1)&"x","0x1x2x3x4x5x6x7x8x9x")),ISNUMBER(FIND(MID(B32,7,1)&"x","0x1x2x3x4x5x6x7x8x9x")),ISNUMBER(FIND(MID(B32,8,1)&"x","0x1x2x3x4x5x6x7x8x9x"))),IF(COUNTIFS(必要枠!$A$8:$A$38,B32)=1,INDEX(必要枠!$B$8:$B$38,MATCH(B32,必要枠!$A$8:$A$38,0)),NA()),NA())) | E32: =IF(COUNTA(A32:C32)=0,"",IF(AND(ISTEXT(B32),LEN(B32)=8,EXACT(LEFT(B32,4),"REQ-"),ISNUMBER(FIND(MID(B32,5,1)&"x","0x1x2x3x4x5x6x7x8x9x")),ISNUMBER(FIND(MID(B32,6,1)&"x","0x1x2x3x4x5x6x7x8x9x")),ISNUMBER(FIND(MID(B32,7,1)&"x","0x1x2x3x4x5x6x7x8x9x")),ISNUMBER(FIND(MID(B32,8,1)&"x","0x1x2x3x4x5x6x7x8x9x"))),IF(COUNTIFS(必要枠!$A$8:$A$38,B32)=1,INDEX(必要枠!$C$8:$C$38,MATCH(B32,必要枠!$A$8:$A$38,0)),NA()),NA())) | F32: =IF(G32="","",IF(H32<>0,NA(),ROUND((E32-D32)*1440,0))) | G32: =IF(COUNTA(A32:C32)=0,"",IF(NOT(AND(ISTEXT(A32),LEN(A32)=8,EXACT(LEFT(A32,4),"ASG-"),ISNUMBER(FIND(MID(A32,5,1)&"x","0x1x2x3x4x5x6x7x8x9x")),ISNUMBER(FIND(MID(A32,6,1)&"x","0x1x2x3x4x5x6x7x8x9x")),ISNUMBER(FIND(MID(A32,7,1)&"x","0x1x2x3x4x5x6x7x8x9x")),ISNUMBER(FIND(MID(A32,8,1)&"x","0x1x2x3x4x5x6x7x8x9x")))),"IDはASG-と半角数字4桁",IF(COUNTIFS($A$8:$A$107,A32)>1,"割当IDが重複",IF(NOT(AND(ISTEXT(B32),LEN(B32)=8,EXACT(LEFT(B32,4),"REQ-"),ISNUMBER(FIND(MID(B32,5,1)&"x","0x1x2x3x4x5x6x7x8x9x")),ISNUMBER(FIND(MID(B32,6,1)&"x","0x1x2x3x4x5x6x7x8x9x")),ISNUMBER(FIND(MID(B32,7,1)&"x","0x1x2x3x4x5x6x7x8x9x")),ISNUMBER(FIND(MID(B32,8,1)&"x","0x1x2x3x4x5x6x7x8x9x")))),"必要枠IDの形式を確認",IF(COUNTIFS(必要枠!$A$8:$A$38,B32)<>1,"必要枠IDが不明・重複",IF(NOT(AND(ISTEXT(C32),LEN(C32)=8,EXACT(LEFT(C32,4),"STF-"),ISNUMBER(FIND(MID(C32,5,1)&"x","0x1x2x3x4x5x6x7x8x9x")),ISNUMBER(FIND(MID(C32,6,1)&"x","0x1x2x3x4x5x6x7x8x9x")),ISNUMBER(FIND(MID(C32,7,1)&"x","0x1x2x3x4x5x6x7x8x9x")),ISNUMBER(FIND(MID(C32,8,1)&"x","0x1x2x3x4x5x6x7x8x9x")))),"担当IDの形式を確認",IF(COUNTIFS($K$8:$K$27,C32)<>1,"担当IDが未登録・重複","確認済み"))))))) | H32: =IF(G32="","",IF(G32="確認済み",0,1)) | I32: =IF(G32="","",IF(H32<>0,0,IF(AND(ISNUMBER(D32),ISNUMBER(E32),ISNUMBER(F32),D32=INDEX(必要枠!$B$8:$B$38,MATCH(B32,必要枠!$A$8:$A$38,0)),E32=INDEX(必要枠!$C$8:$C$38,MATCH(B32,必要枠!$A$8:$A$38,0)),F32=ROUND((E32-D32)*1440,0),COUNTIFS($C$8:$C$107,C32,$D$8:$D$107,"<"&E32,$E$8:$E$107,">"&D32)=1),0,1)))
D33: =IF(COUNTA(A33:C33)=0,"",IF(AND(ISTEXT(B33),LEN(B33)=8,EXACT(LEFT(B33,4),"REQ-"),ISNUMBER(FIND(MID(B33,5,1)&"x","0x1x2x3x4x5x6x7x8x9x")),ISNUMBER(FIND(MID(B33,6,1)&"x","0x1x2x3x4x5x6x7x8x9x")),ISNUMBER(FIND(MID(B33,7,1)&"x","0x1x2x3x4x5x6x7x8x9x")),ISNUMBER(FIND(MID(B33,8,1)&"x","0x1x2x3x4x5x6x7x8x9x"))),IF(COUNTIFS(必要枠!$A$8:$A$38,B33)=1,INDEX(必要枠!$B$8:$B$38,MATCH(B33,必要枠!$A$8:$A$38,0)),NA()),NA())) | E33: =IF(COUNTA(A33:C33)=0,"",IF(AND(ISTEXT(B33),LEN(B33)=8,EXACT(LEFT(B33,4),"REQ-"),ISNUMBER(FIND(MID(B33,5,1)&"x","0x1x2x3x4x5x6x7x8x9x")),ISNUMBER(FIND(MID(B33,6,1)&"x","0x1x2x3x4x5x6x7x8x9x")),ISNUMBER(FIND(MID(B33,7,1)&"x","0x1x2x3x4x5x6x7x8x9x")),ISNUMBER(FIND(MID(B33,8,1)&"x","0x1x2x3x4x5x6x7x8x9x"))),IF(COUNTIFS(必要枠!$A$8:$A$38,B33)=1,INDEX(必要枠!$C$8:$C$38,MATCH(B33,必要枠!$A$8:$A$38,0)),NA()),NA())) | F33: =IF(G33="","",IF(H33<>0,NA(),ROUND((E33-D33)*1440,0))) | G33: =IF(COUNTA(A33:C33)=0,"",IF(NOT(AND(ISTEXT(A33),LEN(A33)=8,EXACT(LEFT(A33,4),"ASG-"),ISNUMBER(FIND(MID(A33,5,1)&"x","0x1x2x3x4x5x6x7x8x9x")),ISNUMBER(FIND(MID(A33,6,1)&"x","0x1x2x3x4x5x6x7x8x9x")),ISNUMBER(FIND(MID(A33,7,1)&"x","0x1x2x3x4x5x6x7x8x9x")),ISNUMBER(FIND(MID(A33,8,1)&"x","0x1x2x3x4x5x6x7x8x9x")))),"IDはASG-と半角数字4桁",IF(COUNTIFS($A$8:$A$107,A33)>1,"割当IDが重複",IF(NOT(AND(ISTEXT(B33),LEN(B33)=8,EXACT(LEFT(B33,4),"REQ-"),ISNUMBER(FIND(MID(B33,5,1)&"x","0x1x2x3x4x5x6x7x8x9x")),ISNUMBER(FIND(MID(B33,6,1)&"x","0x1x2x3x4x5x6x7x8x9x")),ISNUMBER(FIND(MID(B33,7,1)&"x","0x1x2x3x4x5x6x7x8x9x")),ISNUMBER(FIND(MID(B33,8,1)&"x","0x1x2x3x4x5x6x7x8x9x")))),"必要枠IDの形式を確認",IF(COUNTIFS(必要枠!$A$8:$A$38,B33)<>1,"必要枠IDが不明・重複",IF(NOT(AND(ISTEXT(C33),LEN(C33)=8,EXACT(LEFT(C33,4),"STF-"),ISNUMBER(FIND(MID(C33,5,1)&"x","0x1x2x3x4x5x6x7x8x9x")),ISNUMBER(FIND(MID(C33,6,1)&"x","0x1x2x3x4x5x6x7x8x9x")),ISNUMBER(FIND(MID(C33,7,1)&"x","0x1x2x3x4x5x6x7x8x9x")),ISNUMBER(FIND(MID(C33,8,1)&"x","0x1x2x3x4x5x6x7x8x9x")))),"担当IDの形式を確認",IF(COUNTIFS($K$8:$K$27,C33)<>1,"担当IDが未登録・重複","確認済み"))))))) | H33: =IF(G33="","",IF(G33="確認済み",0,1)) | I33: =IF(G33="","",IF(H33<>0,0,IF(AND(ISNUMBER(D33),ISNUMBER(E33),ISNUMBER(F33),D33=INDEX(必要枠!$B$8:$B$38,MATCH(B33,必要枠!$A$8:$A$38,0)),E33=INDEX(必要枠!$C$8:$C$38,MATCH(B33,必要枠!$A$8:$A$38,0)),F33=ROUND((E33-D33)*1440,0),COUNTIFS($C$8:$C$107,C33,$D$8:$D$107,"<"&E33,$E$8:$E$107,">"&D33)=1),0,1)))
D34: =IF(COUNTA(A34:C34)=0,"",IF(AND(ISTEXT(B34),LEN(B34)=8,EXACT(LEFT(B34,4),"REQ-"),ISNUMBER(FIND(MID(B34,5,1)&"x","0x1x2x3x4x5x6x7x8x9x")),ISNUMBER(FIND(MID(B34,6,1)&"x","0x1x2x3x4x5x6x7x8x9x")),ISNUMBER(FIND(MID(B34,7,1)&"x","0x1x2x3x4x5x6x7x8x9x")),ISNUMBER(FIND(MID(B34,8,1)&"x","0x1x2x3x4x5x6x7x8x9x"))),IF(COUNTIFS(必要枠!$A$8:$A$38,B34)=1,INDEX(必要枠!$B$8:$B$38,MATCH(B34,必要枠!$A$8:$A$38,0)),NA()),NA())) | E34: =IF(COUNTA(A34:C34)=0,"",IF(AND(ISTEXT(B34),LEN(B34)=8,EXACT(LEFT(B34,4),"REQ-"),ISNUMBER(FIND(MID(B34,5,1)&"x","0x1x2x3x4x5x6x7x8x9x")),ISNUMBER(FIND(MID(B34,6,1)&"x","0x1x2x3x4x5x6x7x8x9x")),ISNUMBER(FIND(MID(B34,7,1)&"x","0x1x2x3x4x5x6x7x8x9x")),ISNUMBER(FIND(MID(B34,8,1)&"x","0x1x2x3x4x5x6x7x8x9x"))),IF(COUNTIFS(必要枠!$A$8:$A$38,B34)=1,INDEX(必要枠!$C$8:$C$38,MATCH(B34,必要枠!$A$8:$A$38,0)),NA()),NA())) | F34: =IF(G34="","",IF(H34<>0,NA(),ROUND((E34-D34)*1440,0))) | G34: =IF(COUNTA(A34:C34)=0,"",IF(NOT(AND(ISTEXT(A34),LEN(A34)=8,EXACT(LEFT(A34,4),"ASG-"),ISNUMBER(FIND(MID(A34,5,1)&"x","0x1x2x3x4x5x6x7x8x9x")),ISNUMBER(FIND(MID(A34,6,1)&"x","0x1x2x3x4x5x6x7x8x9x")),ISNUMBER(FIND(MID(A34,7,1)&"x","0x1x2x3x4x5x6x7x8x9x")),ISNUMBER(FIND(MID(A34,8,1)&"x","0x1x2x3x4x5x6x7x8x9x")))),"IDはASG-と半角数字4桁",IF(COUNTIFS($A$8:$A$107,A34)>1,"割当IDが重複",IF(NOT(AND(ISTEXT(B34),LEN(B34)=8,EXACT(LEFT(B34,4),"REQ-"),ISNUMBER(FIND(MID(B34,5,1)&"x","0x1x2x3x4x5x6x7x8x9x")),ISNUMBER(FIND(MID(B34,6,1)&"x","0x1x2x3x4x5x6x7x8x9x")),ISNUMBER(FIND(MID(B34,7,1)&"x","0x1x2x3x4x5x6x7x8x9x")),ISNUMBER(FIND(MID(B34,8,1)&"x","0x1x2x3x4x5x6x7x8x9x")))),"必要枠IDの形式を確認",IF(COUNTIFS(必要枠!$A$8:$A$38,B34)<>1,"必要枠IDが不明・重複",IF(NOT(AND(ISTEXT(C34),LEN(C34)=8,EXACT(LEFT(C34,4),"STF-"),ISNUMBER(FIND(MID(C34,5,1)&"x","0x1x2x3x4x5x6x7x8x9x")),ISNUMBER(FIND(MID(C34,6,1)&"x","0x1x2x3x4x5x6x7x8x9x")),ISNUMBER(FIND(MID(C34,7,1)&"x","0x1x2x3x4x5x6x7x8x9x")),ISNUMBER(FIND(MID(C34,8,1)&"x","0x1x2x3x4x5x6x7x8x9x")))),"担当IDの形式を確認",IF(COUNTIFS($K$8:$K$27,C34)<>1,"担当IDが未登録・重複","確認済み"))))))) | H34: =IF(G34="","",IF(G34="確認済み",0,1)) | I34: =IF(G34="","",IF(H34<>0,0,IF(AND(ISNUMBER(D34),ISNUMBER(E34),ISNUMBER(F34),D34=INDEX(必要枠!$B$8:$B$38,MATCH(B34,必要枠!$A$8:$A$38,0)),E34=INDEX(必要枠!$C$8:$C$38,MATCH(B34,必要枠!$A$8:$A$38,0)),F34=ROUND((E34-D34)*1440,0),COUNTIFS($C$8:$C$107,C34,$D$8:$D$107,"<"&E34,$E$8:$E$107,">"&D34)=1),0,1)))
D35: =IF(COUNTA(A35:C35)=0,"",IF(AND(ISTEXT(B35),LEN(B35)=8,EXACT(LEFT(B35,4),"REQ-"),ISNUMBER(FIND(MID(B35,5,1)&"x","0x1x2x3x4x5x6x7x8x9x")),ISNUMBER(FIND(MID(B35,6,1)&"x","0x1x2x3x4x5x6x7x8x9x")),ISNUMBER(FIND(MID(B35,7,1)&"x","0x1x2x3x4x5x6x7x8x9x")),ISNUMBER(FIND(MID(B35,8,1)&"x","0x1x2x3x4x5x6x7x8x9x"))),IF(COUNTIFS(必要枠!$A$8:$A$38,B35)=1,INDEX(必要枠!$B$8:$B$38,MATCH(B35,必要枠!$A$8:$A$38,0)),NA()),NA())) | E35: =IF(COUNTA(A35:C35)=0,"",IF(AND(ISTEXT(B35),LEN(B35)=8,EXACT(LEFT(B35,4),"REQ-"),ISNUMBER(FIND(MID(B35,5,1)&"x","0x1x2x3x4x5x6x7x8x9x")),ISNUMBER(FIND(MID(B35,6,1)&"x","0x1x2x3x4x5x6x7x8x9x")),ISNUMBER(FIND(MID(B35,7,1)&"x","0x1x2x3x4x5x6x7x8x9x")),ISNUMBER(FIND(MID(B35,8,1)&"x","0x1x2x3x4x5x6x7x8x9x"))),IF(COUNTIFS(必要枠!$A$8:$A$38,B35)=1,INDEX(必要枠!$C$8:$C$38,MATCH(B35,必要枠!$A$8:$A$38,0)),NA()),NA())) | F35: =IF(G35="","",IF(H35<>0,NA(),ROUND((E35-D35)*1440,0))) | G35: =IF(COUNTA(A35:C35)=0,"",IF(NOT(AND(ISTEXT(A35),LEN(A35)=8,EXACT(LEFT(A35,4),"ASG-"),ISNUMBER(FIND(MID(A35,5,1)&"x","0x1x2x3x4x5x6x7x8x9x")),ISNUMBER(FIND(MID(A35,6,1)&"x","0x1x2x3x4x5x6x7x8x9x")),ISNUMBER(FIND(MID(A35,7,1)&"x","0x1x2x3x4x5x6x7x8x9x")),ISNUMBER(FIND(MID(A35,8,1)&"x","0x1x2x3x4x5x6x7x8x9x")))),"IDはASG-と半角数字4桁",IF(COUNTIFS($A$8:$A$107,A35)>1,"割当IDが重複",IF(NOT(AND(ISTEXT(B35),LEN(B35)=8,EXACT(LEFT(B35,4),"REQ-"),ISNUMBER(FIND(MID(B35,5,1)&"x","0x1x2x3x4x5x6x7x8x9x")),ISNUMBER(FIND(MID(B35,6,1)&"x","0x1x2x3x4x5x6x7x8x9x")),ISNUMBER(FIND(MID(B35,7,1)&"x","0x1x2x3x4x5x6x7x8x9x")),ISNUMBER(FIND(MID(B35,8,1)&"x","0x1x2x3x4x5x6x7x8x9x")))),"必要枠IDの形式を確認",IF(COUNTIFS(必要枠!$A$8:$A$38,B35)<>1,"必要枠IDが不明・重複",IF(NOT(AND(ISTEXT(C35),LEN(C35)=8,EXACT(LEFT(C35,4),"STF-"),ISNUMBER(FIND(MID(C35,5,1)&"x","0x1x2x3x4x5x6x7x8x9x")),ISNUMBER(FIND(MID(C35,6,1)&"x","0x1x2x3x4x5x6x7x8x9x")),ISNUMBER(FIND(MID(C35,7,1)&"x","0x1x2x3x4x5x6x7x8x9x")),ISNUMBER(FIND(MID(C35,8,1)&"x","0x1x2x3x4x5x6x7x8x9x")))),"担当IDの形式を確認",IF(COUNTIFS($K$8:$K$27,C35)<>1,"担当IDが未登録・重複","確認済み"))))))) | H35: =IF(G35="","",IF(G35="確認済み",0,1)) | I35: =IF(G35="","",IF(H35<>0,0,IF(AND(ISNUMBER(D35),ISNUMBER(E35),ISNUMBER(F35),D35=INDEX(必要枠!$B$8:$B$38,MATCH(B35,必要枠!$A$8:$A$38,0)),E35=INDEX(必要枠!$C$8:$C$38,MATCH(B35,必要枠!$A$8:$A$38,0)),F35=ROUND((E35-D35)*1440,0),COUNTIFS($C$8:$C$107,C35,$D$8:$D$107,"<"&E35,$E$8:$E$107,">"&D35)=1),0,1)))
D36: =IF(COUNTA(A36:C36)=0,"",IF(AND(ISTEXT(B36),LEN(B36)=8,EXACT(LEFT(B36,4),"REQ-"),ISNUMBER(FIND(MID(B36,5,1)&"x","0x1x2x3x4x5x6x7x8x9x")),ISNUMBER(FIND(MID(B36,6,1)&"x","0x1x2x3x4x5x6x7x8x9x")),ISNUMBER(FIND(MID(B36,7,1)&"x","0x1x2x3x4x5x6x7x8x9x")),ISNUMBER(FIND(MID(B36,8,1)&"x","0x1x2x3x4x5x6x7x8x9x"))),IF(COUNTIFS(必要枠!$A$8:$A$38,B36)=1,INDEX(必要枠!$B$8:$B$38,MATCH(B36,必要枠!$A$8:$A$38,0)),NA()),NA())) | E36: =IF(COUNTA(A36:C36)=0,"",IF(AND(ISTEXT(B36),LEN(B36)=8,EXACT(LEFT(B36,4),"REQ-"),ISNUMBER(FIND(MID(B36,5,1)&"x","0x1x2x3x4x5x6x7x8x9x")),ISNUMBER(FIND(MID(B36,6,1)&"x","0x1x2x3x4x5x6x7x8x9x")),ISNUMBER(FIND(MID(B36,7,1)&"x","0x1x2x3x4x5x6x7x8x9x")),ISNUMBER(FIND(MID(B36,8,1)&"x","0x1x2x3x4x5x6x7x8x9x"))),IF(COUNTIFS(必要枠!$A$8:$A$38,B36)=1,INDEX(必要枠!$C$8:$C$38,MATCH(B36,必要枠!$A$8:$A$38,0)),NA()),NA())) | F36: =IF(G36="","",IF(H36<>0,NA(),ROUND((E36-D36)*1440,0))) | G36: =IF(COUNTA(A36:C36)=0,"",IF(NOT(AND(ISTEXT(A36),LEN(A36)=8,EXACT(LEFT(A36,4),"ASG-"),ISNUMBER(FIND(MID(A36,5,1)&"x","0x1x2x3x4x5x6x7x8x9x")),ISNUMBER(FIND(MID(A36,6,1)&"x","0x1x2x3x4x5x6x7x8x9x")),ISNUMBER(FIND(MID(A36,7,1)&"x","0x1x2x3x4x5x6x7x8x9x")),ISNUMBER(FIND(MID(A36,8,1)&"x","0x1x2x3x4x5x6x7x8x9x")))),"IDはASG-と半角数字4桁",IF(COUNTIFS($A$8:$A$107,A36)>1,"割当IDが重複",IF(NOT(AND(ISTEXT(B36),LEN(B36)=8,EXACT(LEFT(B36,4),"REQ-"),ISNUMBER(FIND(MID(B36,5,1)&"x","0x1x2x3x4x5x6x7x8x9x")),ISNUMBER(FIND(MID(B36,6,1)&"x","0x1x2x3x4x5x6x7x8x9x")),ISNUMBER(FIND(MID(B36,7,1)&"x","0x1x2x3x4x5x6x7x8x9x")),ISNUMBER(FIND(MID(B36,8,1)&"x","0x1x2x3x4x5x6x7x8x9x")))),"必要枠IDの形式を確認",IF(COUNTIFS(必要枠!$A$8:$A$38,B36)<>1,"必要枠IDが不明・重複",IF(NOT(AND(ISTEXT(C36),LEN(C36)=8,EXACT(LEFT(C36,4),"STF-"),ISNUMBER(FIND(MID(C36,5,1)&"x","0x1x2x3x4x5x6x7x8x9x")),ISNUMBER(FIND(MID(C36,6,1)&"x","0x1x2x3x4x5x6x7x8x9x")),ISNUMBER(FIND(MID(C36,7,1)&"x","0x1x2x3x4x5x6x7x8x9x")),ISNUMBER(FIND(MID(C36,8,1)&"x","0x1x2x3x4x5x6x7x8x9x")))),"担当IDの形式を確認",IF(COUNTIFS($K$8:$K$27,C36)<>1,"担当IDが未登録・重複","確認済み"))))))) | H36: =IF(G36="","",IF(G36="確認済み",0,1)) | I36: =IF(G36="","",IF(H36<>0,0,IF(AND(ISNUMBER(D36),ISNUMBER(E36),ISNUMBER(F36),D36=INDEX(必要枠!$B$8:$B$38,MATCH(B36,必要枠!$A$8:$A$38,0)),E36=INDEX(必要枠!$C$8:$C$38,MATCH(B36,必要枠!$A$8:$A$38,0)),F36=ROUND((E36-D36)*1440,0),COUNTIFS($C$8:$C$107,C36,$D$8:$D$107,"<"&E36,$E$8:$E$107,">"&D36)=1),0,1)))
D37: =IF(COUNTA(A37:C37)=0,"",IF(AND(ISTEXT(B37),LEN(B37)=8,EXACT(LEFT(B37,4),"REQ-"),ISNUMBER(FIND(MID(B37,5,1)&"x","0x1x2x3x4x5x6x7x8x9x")),ISNUMBER(FIND(MID(B37,6,1)&"x","0x1x2x3x4x5x6x7x8x9x")),ISNUMBER(FIND(MID(B37,7,1)&"x","0x1x2x3x4x5x6x7x8x9x")),ISNUMBER(FIND(MID(B37,8,1)&"x","0x1x2x3x4x5x6x7x8x9x"))),IF(COUNTIFS(必要枠!$A$8:$A$38,B37)=1,INDEX(必要枠!$B$8:$B$38,MATCH(B37,必要枠!$A$8:$A$38,0)),NA()),NA())) | E37: =IF(COUNTA(A37:C37)=0,"",IF(AND(ISTEXT(B37),LEN(B37)=8,EXACT(LEFT(B37,4),"REQ-"),ISNUMBER(FIND(MID(B37,5,1)&"x","0x1x2x3x4x5x6x7x8x9x")),ISNUMBER(FIND(MID(B37,6,1)&"x","0x1x2x3x4x5x6x7x8x9x")),ISNUMBER(FIND(MID(B37,7,1)&"x","0x1x2x3x4x5x6x7x8x9x")),ISNUMBER(FIND(MID(B37,8,1)&"x","0x1x2x3x4x5x6x7x8x9x"))),IF(COUNTIFS(必要枠!$A$8:$A$38,B37)=1,INDEX(必要枠!$C$8:$C$38,MATCH(B37,必要枠!$A$8:$A$38,0)),NA()),NA())) | F37: =IF(G37="","",IF(H37<>0,NA(),ROUND((E37-D37)*1440,0))) | G37: =IF(COUNTA(A37:C37)=0,"",IF(NOT(AND(ISTEXT(A37),LEN(A37)=8,EXACT(LEFT(A37,4),"ASG-"),ISNUMBER(FIND(MID(A37,5,1)&"x","0x1x2x3x4x5x6x7x8x9x")),ISNUMBER(FIND(MID(A37,6,1)&"x","0x1x2x3x4x5x6x7x8x9x")),ISNUMBER(FIND(MID(A37,7,1)&"x","0x1x2x3x4x5x6x7x8x9x")),ISNUMBER(FIND(MID(A37,8,1)&"x","0x1x2x3x4x5x6x7x8x9x")))),"IDはASG-と半角数字4桁",IF(COUNTIFS($A$8:$A$107,A37)>1,"割当IDが重複",IF(NOT(AND(ISTEXT(B37),LEN(B37)=8,EXACT(LEFT(B37,4),"REQ-"),ISNUMBER(FIND(MID(B37,5,1)&"x","0x1x2x3x4x5x6x7x8x9x")),ISNUMBER(FIND(MID(B37,6,1)&"x","0x1x2x3x4x5x6x7x8x9x")),ISNUMBER(FIND(MID(B37,7,1)&"x","0x1x2x3x4x5x6x7x8x9x")),ISNUMBER(FIND(MID(B37,8,1)&"x","0x1x2x3x4x5x6x7x8x9x")))),"必要枠IDの形式を確認",IF(COUNTIFS(必要枠!$A$8:$A$38,B37)<>1,"必要枠IDが不明・重複",IF(NOT(AND(ISTEXT(C37),LEN(C37)=8,EXACT(LEFT(C37,4),"STF-"),ISNUMBER(FIND(MID(C37,5,1)&"x","0x1x2x3x4x5x6x7x8x9x")),ISNUMBER(FIND(MID(C37,6,1)&"x","0x1x2x3x4x5x6x7x8x9x")),ISNUMBER(FIND(MID(C37,7,1)&"x","0x1x2x3x4x5x6x7x8x9x")),ISNUMBER(FIND(MID(C37,8,1)&"x","0x1x2x3x4x5x6x7x8x9x")))),"担当IDの形式を確認",IF(COUNTIFS($K$8:$K$27,C37)<>1,"担当IDが未登録・重複","確認済み"))))))) | H37: =IF(G37="","",IF(G37="確認済み",0,1)) | I37: =IF(G37="","",IF(H37<>0,0,IF(AND(ISNUMBER(D37),ISNUMBER(E37),ISNUMBER(F37),D37=INDEX(必要枠!$B$8:$B$38,MATCH(B37,必要枠!$A$8:$A$38,0)),E37=INDEX(必要枠!$C$8:$C$38,MATCH(B37,必要枠!$A$8:$A$38,0)),F37=ROUND((E37-D37)*1440,0),COUNTIFS($C$8:$C$107,C37,$D$8:$D$107,"<"&E37,$E$8:$E$107,">"&D37)=1),0,1)))
D38: =IF(COUNTA(A38:C38)=0,"",IF(AND(ISTEXT(B38),LEN(B38)=8,EXACT(LEFT(B38,4),"REQ-"),ISNUMBER(FIND(MID(B38,5,1)&"x","0x1x2x3x4x5x6x7x8x9x")),ISNUMBER(FIND(MID(B38,6,1)&"x","0x1x2x3x4x5x6x7x8x9x")),ISNUMBER(FIND(MID(B38,7,1)&"x","0x1x2x3x4x5x6x7x8x9x")),ISNUMBER(FIND(MID(B38,8,1)&"x","0x1x2x3x4x5x6x7x8x9x"))),IF(COUNTIFS(必要枠!$A$8:$A$38,B38)=1,INDEX(必要枠!$B$8:$B$38,MATCH(B38,必要枠!$A$8:$A$38,0)),NA()),NA())) | E38: =IF(COUNTA(A38:C38)=0,"",IF(AND(ISTEXT(B38),LEN(B38)=8,EXACT(LEFT(B38,4),"REQ-"),ISNUMBER(FIND(MID(B38,5,1)&"x","0x1x2x3x4x5x6x7x8x9x")),ISNUMBER(FIND(MID(B38,6,1)&"x","0x1x2x3x4x5x6x7x8x9x")),ISNUMBER(FIND(MID(B38,7,1)&"x","0x1x2x3x4x5x6x7x8x9x")),ISNUMBER(FIND(MID(B38,8,1)&"x","0x1x2x3x4x5x6x7x8x9x"))),IF(COUNTIFS(必要枠!$A$8:$A$38,B38)=1,INDEX(必要枠!$C$8:$C$38,MATCH(B38,必要枠!$A$8:$A$38,0)),NA()),NA())) | F38: =IF(G38="","",IF(H38<>0,NA(),ROUND((E38-D38)*1440,0))) | G38: =IF(COUNTA(A38:C38)=0,"",IF(NOT(AND(ISTEXT(A38),LEN(A38)=8,EXACT(LEFT(A38,4),"ASG-"),ISNUMBER(FIND(MID(A38,5,1)&"x","0x1x2x3x4x5x6x7x8x9x")),ISNUMBER(FIND(MID(A38,6,1)&"x","0x1x2x3x4x5x6x7x8x9x")),ISNUMBER(FIND(MID(A38,7,1)&"x","0x1x2x3x4x5x6x7x8x9x")),ISNUMBER(FIND(MID(A38,8,1)&"x","0x1x2x3x4x5x6x7x8x9x")))),"IDはASG-と半角数字4桁",IF(COUNTIFS($A$8:$A$107,A38)>1,"割当IDが重複",IF(NOT(AND(ISTEXT(B38),LEN(B38)=8,EXACT(LEFT(B38,4),"REQ-"),ISNUMBER(FIND(MID(B38,5,1)&"x","0x1x2x3x4x5x6x7x8x9x")),ISNUMBER(FIND(MID(B38,6,1)&"x","0x1x2x3x4x5x6x7x8x9x")),ISNUMBER(FIND(MID(B38,7,1)&"x","0x1x2x3x4x5x6x7x8x9x")),ISNUMBER(FIND(MID(B38,8,1)&"x","0x1x2x3x4x5x6x7x8x9x")))),"必要枠IDの形式を確認",IF(COUNTIFS(必要枠!$A$8:$A$38,B38)<>1,"必要枠IDが不明・重複",IF(NOT(AND(ISTEXT(C38),LEN(C38)=8,EXACT(LEFT(C38,4),"STF-"),ISNUMBER(FIND(MID(C38,5,1)&"x","0x1x2x3x4x5x6x7x8x9x")),ISNUMBER(FIND(MID(C38,6,1)&"x","0x1x2x3x4x5x6x7x8x9x")),ISNUMBER(FIND(MID(C38,7,1)&"x","0x1x2x3x4x5x6x7x8x9x")),ISNUMBER(FIND(MID(C38,8,1)&"x","0x1x2x3x4x5x6x7x8x9x")))),"担当IDの形式を確認",IF(COUNTIFS($K$8:$K$27,C38)<>1,"担当IDが未登録・重複","確認済み"))))))) | H38: =IF(G38="","",IF(G38="確認済み",0,1)) | I38: =IF(G38="","",IF(H38<>0,0,IF(AND(ISNUMBER(D38),ISNUMBER(E38),ISNUMBER(F38),D38=INDEX(必要枠!$B$8:$B$38,MATCH(B38,必要枠!$A$8:$A$38,0)),E38=INDEX(必要枠!$C$8:$C$38,MATCH(B38,必要枠!$A$8:$A$38,0)),F38=ROUND((E38-D38)*1440,0),COUNTIFS($C$8:$C$107,C38,$D$8:$D$107,"<"&E38,$E$8:$E$107,">"&D38)=1),0,1)))
D39: =IF(COUNTA(A39:C39)=0,"",IF(AND(ISTEXT(B39),LEN(B39)=8,EXACT(LEFT(B39,4),"REQ-"),ISNUMBER(FIND(MID(B39,5,1)&"x","0x1x2x3x4x5x6x7x8x9x")),ISNUMBER(FIND(MID(B39,6,1)&"x","0x1x2x3x4x5x6x7x8x9x")),ISNUMBER(FIND(MID(B39,7,1)&"x","0x1x2x3x4x5x6x7x8x9x")),ISNUMBER(FIND(MID(B39,8,1)&"x","0x1x2x3x4x5x6x7x8x9x"))),IF(COUNTIFS(必要枠!$A$8:$A$38,B39)=1,INDEX(必要枠!$B$8:$B$38,MATCH(B39,必要枠!$A$8:$A$38,0)),NA()),NA())) | E39: =IF(COUNTA(A39:C39)=0,"",IF(AND(ISTEXT(B39),LEN(B39)=8,EXACT(LEFT(B39,4),"REQ-"),ISNUMBER(FIND(MID(B39,5,1)&"x","0x1x2x3x4x5x6x7x8x9x")),ISNUMBER(FIND(MID(B39,6,1)&"x","0x1x2x3x4x5x6x7x8x9x")),ISNUMBER(FIND(MID(B39,7,1)&"x","0x1x2x3x4x5x6x7x8x9x")),ISNUMBER(FIND(MID(B39,8,1)&"x","0x1x2x3x4x5x6x7x8x9x"))),IF(COUNTIFS(必要枠!$A$8:$A$38,B39)=1,INDEX(必要枠!$C$8:$C$38,MATCH(B39,必要枠!$A$8:$A$38,0)),NA()),NA())) | F39: =IF(G39="","",IF(H39<>0,NA(),ROUND((E39-D39)*1440,0))) | G39: =IF(COUNTA(A39:C39)=0,"",IF(NOT(AND(ISTEXT(A39),LEN(A39)=8,EXACT(LEFT(A39,4),"ASG-"),ISNUMBER(FIND(MID(A39,5,1)&"x","0x1x2x3x4x5x6x7x8x9x")),ISNUMBER(FIND(MID(A39,6,1)&"x","0x1x2x3x4x5x6x7x8x9x")),ISNUMBER(FIND(MID(A39,7,1)&"x","0x1x2x3x4x5x6x7x8x9x")),ISNUMBER(FIND(MID(A39,8,1)&"x","0x1x2x3x4x5x6x7x8x9x")))),"IDはASG-と半角数字4桁",IF(COUNTIFS($A$8:$A$107,A39)>1,"割当IDが重複",IF(NOT(AND(ISTEXT(B39),LEN(B39)=8,EXACT(LEFT(B39,4),"REQ-"),ISNUMBER(FIND(MID(B39,5,1)&"x","0x1x2x3x4x5x6x7x8x9x")),ISNUMBER(FIND(MID(B39,6,1)&"x","0x1x2x3x4x5x6x7x8x9x")),ISNUMBER(FIND(MID(B39,7,1)&"x","0x1x2x3x4x5x6x7x8x9x")),ISNUMBER(FIND(MID(B39,8,1)&"x","0x1x2x3x4x5x6x7x8x9x")))),"必要枠IDの形式を確認",IF(COUNTIFS(必要枠!$A$8:$A$38,B39)<>1,"必要枠IDが不明・重複",IF(NOT(AND(ISTEXT(C39),LEN(C39)=8,EXACT(LEFT(C39,4),"STF-"),ISNUMBER(FIND(MID(C39,5,1)&"x","0x1x2x3x4x5x6x7x8x9x")),ISNUMBER(FIND(MID(C39,6,1)&"x","0x1x2x3x4x5x6x7x8x9x")),ISNUMBER(FIND(MID(C39,7,1)&"x","0x1x2x3x4x5x6x7x8x9x")),ISNUMBER(FIND(MID(C39,8,1)&"x","0x1x2x3x4x5x6x7x8x9x")))),"担当IDの形式を確認",IF(COUNTIFS($K$8:$K$27,C39)<>1,"担当IDが未登録・重複","確認済み"))))))) | H39: =IF(G39="","",IF(G39="確認済み",0,1)) | I39: =IF(G39="","",IF(H39<>0,0,IF(AND(ISNUMBER(D39),ISNUMBER(E39),ISNUMBER(F39),D39=INDEX(必要枠!$B$8:$B$38,MATCH(B39,必要枠!$A$8:$A$38,0)),E39=INDEX(必要枠!$C$8:$C$38,MATCH(B39,必要枠!$A$8:$A$38,0)),F39=ROUND((E39-D39)*1440,0),COUNTIFS($C$8:$C$107,C39,$D$8:$D$107,"<"&E39,$E$8:$E$107,">"&D39)=1),0,1)))
... D107: =IF(COUNTA(A107:C107)=0,"",IF(AND(ISTEXT(B107),LEN(B107)=8,EXACT(LEFT(B107,4),"REQ-"),ISNUMBER(FIND(MID(B107,5,1)&"x","0x1x2x3x4x5x6x7x8x9x")),ISNUMBER(FIND(MID(B107,6,1)&"x","0x1x2x3x4x5x6x7x8x9x")),ISNUMBER(FIND(MID(B107,7,1)&"x","0x1x2x3x4x5x6x7x8x9x")),ISNUMBER(FIND(MID(B107,8,1)&"x","0x1x2x3x4x5x6x7x8x9x"))),IF(COUNTIFS(必要枠!$A$8:$A$38,B107)=1,INDEX(必要枠!$B$8:$B$38,MATCH(B107,必要枠!$A$8:$A$38,0)),NA()),NA())) | E107: =IF(COUNTA(A107:C107)=0,"",IF(AND(ISTEXT(B107),LEN(B107)=8,EXACT(LEFT(B107,4),"REQ-"),ISNUMBER(FIND(MID(B107,5,1)&"x","0x1x2x3x4x5x6x7x8x9x")),ISNUMBER(FIND(MID(B107,6,1)&"x","0x1x2x3x4x5x6x7x8x9x")),ISNUMBER(FIND(MID(B107,7,1)&"x","0x1x2x3x4x5x6x7x8x9x")),ISNUMBER(FIND(MID(B107,8,1)&"x","0x1x2x3x4x5x6x7x8x9x"))),IF(COUNTIFS(必要枠!$A$8:$A$38,B107)=1,INDEX(必要枠!$C$8:$C$38,MATCH(B107,必要枠!$A$8:$A$38,0)),NA()),NA())) | F107: =IF(G107="","",IF(H107<>0,NA(),ROUND((E107-D107)*1440,0))) | G107: =IF(COUNTA(A107:C107)=0,"",IF(NOT(AND(ISTEXT(A107),LEN(A107)=8,EXACT(LEFT(A107,4),"ASG-"),ISNUMBER(FIND(MID(A107,5,1)&"x","0x1x2x3x4x5x6x7x8x9x")),ISNUMBER(FIND(MID(A107,6,1)&"x","0x1x2x3x4x5x6x7x8x9x")),ISNUMBER(FIND(MID(A107,7,1)&"x","0x1x2x3x4x5x6x7x8x9x")),ISNUMBER(FIND(MID(A107,8,1)&"x","0x1x2x3x4x5x6x7x8x9x")))),"IDはASG-と半角数字4桁",IF(COUNTIFS($A$8:$A$107,A107)>1,"割当IDが重複",IF(NOT(AND(ISTEXT(B107),LEN(B107)=8,EXACT(LEFT(B107,4),"REQ-"),ISNUMBER(FIND(MID(B107,5,1)&"x","0x1x2x3x4x5x6x7x8x9x")),ISNUMBER(FIND(MID(B107,6,1)&"x","0x1x2x3x4x5x6x7x8x9x")),ISNUMBER(FIND(MID(B107,7,1)&"x","0x1x2x3x4x5x6x7x8x9x")),ISNUMBER(FIND(MID(B107,8,1)&"x","0x1x2x3x4x5x6x7x8x9x")))),"必要枠IDの形式を確認",IF(COUNTIFS(必要枠!$A$8:$A$38,B107)<>1,"必要枠IDが不明・重複",IF(NOT(AND(ISTEXT(C107),LEN(C107)=8,EXACT(LEFT(C107,4),"STF-"),ISNUMBER(FIND(MID(C107,5,1)&"x","0x1x2x3x4x5x6x7x8x9x")),ISNUMBER(FIND(MID(C107,6,1)&"x","0x1x2x3x4x5x6x7x8x9x")),ISNUMBER(FIND(MID(C107,7,1)&"x","0x1x2x3x4x5x6x7x8x9x")),ISNUMBER(FIND(MID(C107,8,1)&"x","0x1x2x3x4x5x6x7x8x9x")))),"担当IDの形式を確認",IF(COUNTIFS($K$8:$K$27,C107)<>1,"担当IDが未登録・重複","確認済み"))))))) | H107: =IF(G107="","",IF(G107="確認済み",0,1)) | I107: =IF(G107="","",IF(H107<>0,0,IF(AND(ISNUMBER(D107),ISNUMBER(E107),ISNUMBER(F107),D107=INDEX(必要枠!$B$8:$B$38,MATCH(B107,必要枠!$A$8:$A$38,0)),E107=INDEX(必要枠!$C$8:$C$38,MATCH(B107,必要枠!$A$8:$A$38,0)),F107=ROUND((E107-D107)*1440,0),COUNTIFS($C$8:$C$107,C107,$D$8:$D$107,"<"&E107,$E$8:$E$107,">"&D107)=1),0,1)))
A110: 一次情報確認2026-10-15。https://support.microsoft.com/en-us/excel/functions/countifs-function
A111: https://support.microsoft.com/en-us/excel/functions/index-function
