Workbook

Sheet 入出庫集計
A2: 訂正と実物の逆移動を分けて記録する | K2: 対象の前提 | L2: 入力の前提
A3: 対象開始日 | B3: 46296 | D3: 対象終了日 | E3: 46326 | G3: 対象品目ID | H3: SKU-0001 | K3: =IF(AND(IF(ISNUMBER(B3),AND(B3>=43831,B3<73051,B3=INT(B3)),FALSE()),IF(ISNUMBER(E3),AND(E3>=43831,E3<73051,E3=INT(E3)),FALSE()),IF(ISNUMBER(B4),AND(B4>=43831,B4<73051,B4=INT(B4)),FALSE()),B3<=E3,E3<=B4,AND(ISTEXT(H3),LEN(H3)=8,EXACT(LEFT(H3,4),"SKU-"),ISNUMBER(FIND(MID(H3,5,1)&"x","0x1x2x3x4x5x6x7x8x9x")),ISNUMBER(FIND(MID(H3,6,1)&"x","0x1x2x3x4x5x6x7x8x9x")),ISNUMBER(FIND(MID(H3,7,1)&"x","0x1x2x3x4x5x6x7x8x9x")),ISNUMBER(FIND(MID(H3,8,1)&"x","0x1x2x3x4x5x6x7x8x9x")))),0,1) -> 0 | L3: =IF(AND(ISNUMBER(K3),K3=IF(AND(IF(ISNUMBER(B3),AND(B3>=43831,B3<73051,B3=INT(B3)),FALSE()),IF(ISNUMBER(E3),AND(E3>=43831,E3<73051,E3=INT(E3)),FALSE()),IF(ISNUMBER(B4),AND(B4>=43831,B4<73051,B4=INT(B4)),FALSE()),B3<=E3,E3<=B4,AND(ISTEXT(H3),LEN(H3)=8,EXACT(LEFT(H3,4),"SKU-"),ISNUMBER(FIND(MID(H3,5,1)&"x","0x1x2x3x4x5x6x7x8x9x")),ISNUMBER(FIND(MID(H3,6,1)&"x","0x1x2x3x4x5x6x7x8x9x")),ISNUMBER(FIND(MID(H3,7,1)&"x","0x1x2x3x4x5x6x7x8x9x")),ISNUMBER(FIND(MID(H3,8,1)&"x","0x1x2x3x4x5x6x7x8x9x")))),0,1)),K3,1)+SUM(移動記録!N8:O107)+IF(COUNT(移動記録!O8:O107)=100,0,1) -> 0
A4: 記録確認基準日 | B4: 46331 | D4: 単一保管場所・1品目・単位は個。差引増減は在庫残高ではありません。
A5: 対象記録（件） | B5: =IF($L$3<>0,NA(),COUNTIFS(移動記録!I8:I107,1)) -> 10 | D5: 確定（件） | E5: =IF($L$3<>0,NA(),COUNTIFS(移動記録!I8:I107,1,移動記録!E8:E107,"確定")) -> 5 | G5: 未確認（件） | H5: =IF($L$3<>0,NA(),COUNTIFS(移動記録!I8:I107,1,移動記録!E8:E107,"未確認")) -> 2
A6: 確定入庫（個） | B6: =IF($L$3<>0,NA(),SUM(移動記録!J8:J107)) -> 45 | D6: 確定出庫（個） | E6: =IF($L$3<>0,NA(),SUM(移動記録!K8:K107)) -> 45 | G6: 差引増減（個） | H6: =IF($L$3<>0,NA(),IF(B5=0,"対象なし",IF(H5>0,"判定保留",B6-E6))) -> 判定保留
A7: 新規確定（件） | B7: =IF($L$3<>0,NA(),COUNTIFS(移動記録!I8:I107,1,移動記録!E8:E107,"確定",移動記録!F8:F107,"新規")) -> 2 | D7: 訂正确定（件） | E7: =IF($L$3<>0,NA(),COUNTIFS(移動記録!I8:I107,1,移動記録!E8:E107,"確定",移動記録!F8:F107,"訂正")) -> 1 | G7: 逆移動確定（件） | H7: =IF($L$3<>0,NA(),COUNTIFS(移動記録!I8:I107,1,移動記録!E8:E107,"確定",移動記録!F8:F107,"逆移動")) -> 2
A8: 取消（件） | B8: =IF($L$3<>0,NA(),COUNTIFS(移動記録!I8:I107,1,移動記録!E8:E107,"取消")) -> 3 | D8: 期間外記録（件） | E8: =IF($L$3<>0,NA(),COUNTIFS(移動記録!I8:I107,0,移動記録!M8:M107,"確認済み")) -> 2 | G8: 全登録（件） | H8: =IF($L$3<>0,NA(),COUNTIFS(移動記録!M8:M107,"確認済み")) -> 12
A9: 記録ID | B9: 発生日 | C9: 入出区分 | D9: 記録数量（個） | E9: 状態 | F9: 種別 | G9: 参照元ID | H9: 対象入庫（個） | I9: 対象出庫（個）
A10: =IF($L$3<>0,NA(),IF(COUNTA(移動記録!A8:H8)=0,"",移動記録!A8)) -> MOV-0001 | B10: =IF($L$3<>0,NA(),IF(COUNTA(移動記録!A8:H8)=0,"",移動記録!B8)) -> 46295 | C10: =IF($L$3<>0,NA(),IF(COUNTA(移動記録!A8:H8)=0,"",移動記録!C8)) -> 入庫 | D10: =IF($L$3<>0,NA(),IF(COUNTA(移動記録!A8:H8)=0,"",IF(COUNTA(移動記録!D8)=0,"",移動記録!D8))) -> 100 | E10: =IF($L$3<>0,NA(),IF(COUNTA(移動記録!A8:H8)=0,"",移動記録!E8)) -> 確定 | F10: =IF($L$3<>0,NA(),IF(COUNTA(移動記録!A8:H8)=0,"",移動記録!F8)) -> 新規 | G10: =IF($L$3<>0,NA(),IF(COUNTA(移動記録!A8:H8)=0,"",IF(COUNTA(移動記録!G8)=0,"",移動記録!G8))) | H10: =IF($L$3<>0,NA(),IF(COUNTA(移動記録!A8:H8)=0,"",移動記録!J8)) | I10: =IF($L$3<>0,NA(),IF(COUNTA(移動記録!A8:H8)=0,"",移動記録!K8))
A11: =IF($L$3<>0,NA(),IF(COUNTA(移動記録!A9:H9)=0,"",移動記録!A9)) -> MOV-0002 | B11: =IF($L$3<>0,NA(),IF(COUNTA(移動記録!A9:H9)=0,"",移動記録!B9)) -> 46297 | C11: =IF($L$3<>0,NA(),IF(COUNTA(移動記録!A9:H9)=0,"",移動記録!C9)) -> 出庫 | D11: =IF($L$3<>0,NA(),IF(COUNTA(移動記録!A9:H9)=0,"",IF(COUNTA(移動記録!D9)=0,"",移動記録!D9))) -> 40 | E11: =IF($L$3<>0,NA(),IF(COUNTA(移動記録!A9:H9)=0,"",移動記録!E9)) -> 確定 | F11: =IF($L$3<>0,NA(),IF(COUNTA(移動記録!A9:H9)=0,"",移動記録!F9)) -> 新規 | G11: =IF($L$3<>0,NA(),IF(COUNTA(移動記録!A9:H9)=0,"",IF(COUNTA(移動記録!G9)=0,"",移動記録!G9))) | H11: =IF($L$3<>0,NA(),IF(COUNTA(移動記録!A9:H9)=0,"",移動記録!J9)) -> 0 | I11: =IF($L$3<>0,NA(),IF(COUNTA(移動記録!A9:H9)=0,"",移動記録!K9)) -> 40
A12: =IF($L$3<>0,NA(),IF(COUNTA(移動記録!A10:H10)=0,"",移動記録!A10)) -> MOV-0003 | B12: =IF($L$3<>0,NA(),IF(COUNTA(移動記録!A10:H10)=0,"",移動記録!B10)) -> 46300 | C12: =IF($L$3<>0,NA(),IF(COUNTA(移動記録!A10:H10)=0,"",移動記録!C10)) -> 入庫 | D12: =IF($L$3<>0,NA(),IF(COUNTA(移動記録!A10:H10)=0,"",IF(COUNTA(移動記録!D10)=0,"",移動記録!D10))) -> 10 | E12: =IF($L$3<>0,NA(),IF(COUNTA(移動記録!A10:H10)=0,"",移動記録!E10)) -> 確定 | F12: =IF($L$3<>0,NA(),IF(COUNTA(移動記録!A10:H10)=0,"",移動記録!F10)) -> 逆移動 | G12: =IF($L$3<>0,NA(),IF(COUNTA(移動記録!A10:H10)=0,"",IF(COUNTA(移動記録!G10)=0,"",移動記録!G10))) -> MOV-0002 | H12: =IF($L$3<>0,NA(),IF(COUNTA(移動記録!A10:H10)=0,"",移動記録!J10)) -> 10 | I12: =IF($L$3<>0,NA(),IF(COUNTA(移動記録!A10:H10)=0,"",移動記録!K10)) -> 0
A13: =IF($L$3<>0,NA(),IF(COUNTA(移動記録!A11:H11)=0,"",移動記録!A11)) -> MOV-0004 | B13: =IF($L$3<>0,NA(),IF(COUNTA(移動記録!A11:H11)=0,"",移動記録!B11)) -> 46301 | C13: =IF($L$3<>0,NA(),IF(COUNTA(移動記録!A11:H11)=0,"",移動記録!C11)) -> 入庫 | D13: =IF($L$3<>0,NA(),IF(COUNTA(移動記録!A11:H11)=0,"",IF(COUNTA(移動記録!D11)=0,"",移動記録!D11))) -> 15 | E13: =IF($L$3<>0,NA(),IF(COUNTA(移動記録!A11:H11)=0,"",移動記録!E11)) -> 確定 | F13: =IF($L$3<>0,NA(),IF(COUNTA(移動記録!A11:H11)=0,"",移動記録!F11)) -> 逆移動 | G13: =IF($L$3<>0,NA(),IF(COUNTA(移動記録!A11:H11)=0,"",IF(COUNTA(移動記録!G11)=0,"",移動記録!G11))) -> MOV-0002 | H13: =IF($L$3<>0,NA(),IF(COUNTA(移動記録!A11:H11)=0,"",移動記録!J11)) -> 15 | I13: =IF($L$3<>0,NA(),IF(COUNTA(移動記録!A11:H11)=0,"",移動記録!K11)) -> 0
A14: =IF($L$3<>0,NA(),IF(COUNTA(移動記録!A12:H12)=0,"",移動記録!A12)) -> MOV-0005 | B14: =IF($L$3<>0,NA(),IF(COUNTA(移動記録!A12:H12)=0,"",移動記録!B12)) -> 46302 | C14: =IF($L$3<>0,NA(),IF(COUNTA(移動記録!A12:H12)=0,"",移動記録!C12)) -> 出庫 | D14: =IF($L$3<>0,NA(),IF(COUNTA(移動記録!A12:H12)=0,"",IF(COUNTA(移動記録!D12)=0,"",移動記録!D12))) -> 7 | E14: =IF($L$3<>0,NA(),IF(COUNTA(移動記録!A12:H12)=0,"",移動記録!E12)) -> 取消 | F14: =IF($L$3<>0,NA(),IF(COUNTA(移動記録!A12:H12)=0,"",移動記録!F12)) -> 新規 | G14: =IF($L$3<>0,NA(),IF(COUNTA(移動記録!A12:H12)=0,"",IF(COUNTA(移動記録!G12)=0,"",移動記録!G12))) | H14: =IF($L$3<>0,NA(),IF(COUNTA(移動記録!A12:H12)=0,"",移動記録!J12)) -> 0 | I14: =IF($L$3<>0,NA(),IF(COUNTA(移動記録!A12:H12)=0,"",移動記録!K12)) -> 0
A15: =IF($L$3<>0,NA(),IF(COUNTA(移動記録!A13:H13)=0,"",移動記録!A13)) -> MOV-0006 | B15: =IF($L$3<>0,NA(),IF(COUNTA(移動記録!A13:H13)=0,"",移動記録!B13)) -> 46303 | C15: =IF($L$3<>0,NA(),IF(COUNTA(移動記録!A13:H13)=0,"",移動記録!C13)) -> 出庫 | D15: =IF($L$3<>0,NA(),IF(COUNTA(移動記録!A13:H13)=0,"",IF(COUNTA(移動記録!D13)=0,"",移動記録!D13))) -> 5 | E15: =IF($L$3<>0,NA(),IF(COUNTA(移動記録!A13:H13)=0,"",移動記録!E13)) -> 確定 | F15: =IF($L$3<>0,NA(),IF(COUNTA(移動記録!A13:H13)=0,"",移動記録!F13)) -> 訂正 | G15: =IF($L$3<>0,NA(),IF(COUNTA(移動記録!A13:H13)=0,"",IF(COUNTA(移動記録!G13)=0,"",移動記録!G13))) -> MOV-0005 | H15: =IF($L$3<>0,NA(),IF(COUNTA(移動記録!A13:H13)=0,"",移動記録!J13)) -> 0 | I15: =IF($L$3<>0,NA(),IF(COUNTA(移動記録!A13:H13)=0,"",移動記録!K13)) -> 5
A16: =IF($L$3<>0,NA(),IF(COUNTA(移動記録!A14:H14)=0,"",移動記録!A14)) -> MOV-0007 | B16: =IF($L$3<>0,NA(),IF(COUNTA(移動記録!A14:H14)=0,"",移動記録!B14)) -> 46305 | C16: =IF($L$3<>0,NA(),IF(COUNTA(移動記録!A14:H14)=0,"",移動記録!C14)) -> 入庫 | D16: =IF($L$3<>0,NA(),IF(COUNTA(移動記録!A14:H14)=0,"",IF(COUNTA(移動記録!D14)=0,"",移動記録!D14))) | E16: =IF($L$3<>0,NA(),IF(COUNTA(移動記録!A14:H14)=0,"",移動記録!E14)) -> 未確認 | F16: =IF($L$3<>0,NA(),IF(COUNTA(移動記録!A14:H14)=0,"",移動記録!F14)) -> 新規 | G16: =IF($L$3<>0,NA(),IF(COUNTA(移動記録!A14:H14)=0,"",IF(COUNTA(移動記録!G14)=0,"",移動記録!G14))) | H16: =IF($L$3<>0,NA(),IF(COUNTA(移動記録!A14:H14)=0,"",移動記録!J14)) | I16: =IF($L$3<>0,NA(),IF(COUNTA(移動記録!A14:H14)=0,"",移動記録!K14))
A17: =IF($L$3<>0,NA(),IF(COUNTA(移動記録!A15:H15)=0,"",移動記録!A15)) -> MOV-0008 | B17: =IF($L$3<>0,NA(),IF(COUNTA(移動記録!A15:H15)=0,"",移動記録!B15)) -> 46328 | C17: =IF($L$3<>0,NA(),IF(COUNTA(移動記録!A15:H15)=0,"",移動記録!C15)) -> 出庫 | D17: =IF($L$3<>0,NA(),IF(COUNTA(移動記録!A15:H15)=0,"",IF(COUNTA(移動記録!D15)=0,"",移動記録!D15))) -> 2 | E17: =IF($L$3<>0,NA(),IF(COUNTA(移動記録!A15:H15)=0,"",移動記録!E15)) -> 確定 | F17: =IF($L$3<>0,NA(),IF(COUNTA(移動記録!A15:H15)=0,"",移動記録!F15)) -> 逆移動 | G17: =IF($L$3<>0,NA(),IF(COUNTA(移動記録!A15:H15)=0,"",IF(COUNTA(移動記録!G15)=0,"",移動記録!G15))) -> MOV-0001 | H17: =IF($L$3<>0,NA(),IF(COUNTA(移動記録!A15:H15)=0,"",移動記録!J15)) | I17: =IF($L$3<>0,NA(),IF(COUNTA(移動記録!A15:H15)=0,"",移動記録!K15))
A18: =IF($L$3<>0,NA(),IF(COUNTA(移動記録!A16:H16)=0,"",移動記録!A16)) -> MOV-0009 | B18: =IF($L$3<>0,NA(),IF(COUNTA(移動記録!A16:H16)=0,"",移動記録!B16)) -> 46307 | C18: =IF($L$3<>0,NA(),IF(COUNTA(移動記録!A16:H16)=0,"",移動記録!C16)) -> 入庫 | D18: =IF($L$3<>0,NA(),IF(COUNTA(移動記録!A16:H16)=0,"",IF(COUNTA(移動記録!D16)=0,"",移動記録!D16))) -> 8 | E18: =IF($L$3<>0,NA(),IF(COUNTA(移動記録!A16:H16)=0,"",移動記録!E16)) -> 取消 | F18: =IF($L$3<>0,NA(),IF(COUNTA(移動記録!A16:H16)=0,"",移動記録!F16)) -> 逆移動 | G18: =IF($L$3<>0,NA(),IF(COUNTA(移動記録!A16:H16)=0,"",IF(COUNTA(移動記録!G16)=0,"",移動記録!G16))) -> MOV-0002 | H18: =IF($L$3<>0,NA(),IF(COUNTA(移動記録!A16:H16)=0,"",移動記録!J16)) -> 0 | I18: =IF($L$3<>0,NA(),IF(COUNTA(移動記録!A16:H16)=0,"",移動記録!K16)) -> 0
A19: =IF($L$3<>0,NA(),IF(COUNTA(移動記録!A17:H17)=0,"",移動記録!A17)) -> MOV-0010 | B19: =IF($L$3<>0,NA(),IF(COUNTA(移動記録!A17:H17)=0,"",移動記録!B17)) -> 46310 | C19: =IF($L$3<>0,NA(),IF(COUNTA(移動記録!A17:H17)=0,"",移動記録!C17)) -> 入庫 | D19: =IF($L$3<>0,NA(),IF(COUNTA(移動記録!A17:H17)=0,"",IF(COUNTA(移動記録!D17)=0,"",移動記録!D17))) -> 20 | E19: =IF($L$3<>0,NA(),IF(COUNTA(移動記録!A17:H17)=0,"",移動記録!E17)) -> 確定 | F19: =IF($L$3<>0,NA(),IF(COUNTA(移動記録!A17:H17)=0,"",移動記録!F17)) -> 新規 | G19: =IF($L$3<>0,NA(),IF(COUNTA(移動記録!A17:H17)=0,"",IF(COUNTA(移動記録!G17)=0,"",移動記録!G17))) | H19: =IF($L$3<>0,NA(),IF(COUNTA(移動記録!A17:H17)=0,"",移動記録!J17)) -> 20 | I19: =IF($L$3<>0,NA(),IF(COUNTA(移動記録!A17:H17)=0,"",移動記録!K17)) -> 0
A20: =IF($L$3<>0,NA(),IF(COUNTA(移動記録!A18:H18)=0,"",移動記録!A18)) -> MOV-0011 | B20: =IF($L$3<>0,NA(),IF(COUNTA(移動記録!A18:H18)=0,"",移動記録!B18)) -> 46315 | C20: =IF($L$3<>0,NA(),IF(COUNTA(移動記録!A18:H18)=0,"",移動記録!C18)) -> 出庫 | D20: =IF($L$3<>0,NA(),IF(COUNTA(移動記録!A18:H18)=0,"",IF(COUNTA(移動記録!D18)=0,"",移動記録!D18))) | E20: =IF($L$3<>0,NA(),IF(COUNTA(移動記録!A18:H18)=0,"",移動記録!E18)) -> 未確認 | F20: =IF($L$3<>0,NA(),IF(COUNTA(移動記録!A18:H18)=0,"",移動記録!F18)) -> 逆移動 | G20: =IF($L$3<>0,NA(),IF(COUNTA(移動記録!A18:H18)=0,"",IF(COUNTA(移動記録!G18)=0,"",移動記録!G18))) -> MOV-0010 | H20: =IF($L$3<>0,NA(),IF(COUNTA(移動記録!A18:H18)=0,"",移動記録!J18)) | I20: =IF($L$3<>0,NA(),IF(COUNTA(移動記録!A18:H18)=0,"",移動記録!K18))
A21: =IF($L$3<>0,NA(),IF(COUNTA(移動記録!A19:H19)=0,"",移動記録!A19)) -> MOV-0012 | B21: =IF($L$3<>0,NA(),IF(COUNTA(移動記録!A19:H19)=0,"",移動記録!B19)) -> 46320 | C21: =IF($L$3<>0,NA(),IF(COUNTA(移動記録!A19:H19)=0,"",移動記録!C19)) -> 入庫 | D21: =IF($L$3<>0,NA(),IF(COUNTA(移動記録!A19:H19)=0,"",IF(COUNTA(移動記録!D19)=0,"",移動記録!D19))) -> 1 | E21: =IF($L$3<>0,NA(),IF(COUNTA(移動記録!A19:H19)=0,"",移動記録!E19)) -> 取消 | F21: =IF($L$3<>0,NA(),IF(COUNTA(移動記録!A19:H19)=0,"",移動記録!F19)) -> 新規 | G21: =IF($L$3<>0,NA(),IF(COUNTA(移動記録!A19:H19)=0,"",IF(COUNTA(移動記録!G19)=0,"",移動記録!G19))) | H21: =IF($L$3<>0,NA(),IF(COUNTA(移動記録!A19:H19)=0,"",移動記録!J19)) -> 0 | I21: =IF($L$3<>0,NA(),IF(COUNTA(移動記録!A19:H19)=0,"",移動記録!K19)) -> 0
... A109: =IF($L$3<>0,NA(),IF(COUNTA(移動記録!A107:H107)=0,"",移動記録!A107)) | B109: =IF($L$3<>0,NA(),IF(COUNTA(移動記録!A107:H107)=0,"",移動記録!B107)) | C109: =IF($L$3<>0,NA(),IF(COUNTA(移動記録!A107:H107)=0,"",移動記録!C107)) | D109: =IF($L$3<>0,NA(),IF(COUNTA(移動記録!A107:H107)=0,"",IF(COUNTA(移動記録!D107)=0,"",移動記録!D107))) | E109: =IF($L$3<>0,NA(),IF(COUNTA(移動記録!A107:H107)=0,"",移動記録!E107)) | F109: =IF($L$3<>0,NA(),IF(COUNTA(移動記録!A107:H107)=0,"",移動記録!F107)) | G109: =IF($L$3<>0,NA(),IF(COUNTA(移動記録!A107:H107)=0,"",IF(COUNTA(移動記録!G107)=0,"",移動記録!G107))) | H109: =IF($L$3<>0,NA(),IF(COUNTA(移動記録!A107:H107)=0,"",移動記録!J107)) | I109: =IF($L$3<>0,NA(),IF(COUNTA(移動記録!A107:H107)=0,"",移動記録!K107))

Sheet 移動記録
A2: 1品目の元記録と参照関係を残す
A3: 黄色A〜Hへ100記録。MOV-と半角数字4桁。新規は参照空欄、訂正/逆移動は元IDを必ず残します。
A5: 参照元は自分より小さいID。訂正は取消済の元記録へ、逆移動は有効な元移動へ。未確認の数量は空欄。
A7: 記録ID | B7: 発生日 | C7: 入出区分 | D7: 記録数量（個） | E7: 状態 | F7: 種別 | G7: 参照元ID | H7: 記録確認日 | I7: 対象期間内 | J7: 対象確定入庫 | K7: 対象確定出庫 | L7: 対象未確認 | M7: 入力の確認 | N7: 入力不備 | O7: 計算の前提
A8: MOV-0001 | B8: 46295 | C8: 入庫 | D8: 100 | E8: 確定 | F8: 新規 | H8: 46296 | I8: =IF(M8="","",IF(N8<>0,NA(),IF(AND(B8>=入出庫集計!$B$3,B8<=入出庫集計!$E$3),1,0))) -> 0 | J8: =IF(M8="","",IF(N8<>0,NA(),IF(I8<>1,"",IF(E8="未確認","",IF(AND(E8="確定",C8="入庫"),D8,0))))) | K8: =IF(M8="","",IF(N8<>0,NA(),IF(I8<>1,"",IF(E8="未確認","",IF(AND(E8="確定",C8="出庫"),D8,0))))) | L8: =IF(M8="","",IF(N8<>0,NA(),IF(AND(I8=1,E8="未確認"),1,0))) -> 0 | M8: =IF(COUNTA(A8:H8)=0,"",IF(NOT(AND(ISTEXT(A8),LEN(A8)=8,EXACT(LEFT(A8,4),"MOV-"),ISNUMBER(FIND(MID(A8,5,1)&"x","0x1x2x3x4x5x6x7x8x9x")),ISNUMBER(FIND(MID(A8,6,1)&"x","0x1x2x3x4x5x6x7x8x9x")),ISNUMBER(FIND(MID(A8,7,1)&"x","0x1x2x3x4x5x6x7x8x9x")),ISNUMBER(FIND(MID(A8,8,1)&"x","0x1x2x3x4x5x6x7x8x9x")))),"IDはMOV-と半角数字4桁",IF(COUNTIFS($A$8:$A$107,A8)>1,"記録IDが重複",IF(NOT(IF(ISNUMBER(B8),AND(B8>=43831,B8<73051,B8=INT(B8)),FALSE())),"発生日は時刻なしで必須",IF(NOT(OR(C8="入庫",C8="出庫")),"入出区分を確認",IF(NOT(OR(E8="確定",E8="取消",E8="未確認")),"状態を確認",IF(NOT(OR(F8="新規",F8="訂正",F8="逆移動")),"種別を確認",IF(AND(E8<>"未確認",NOT(IF(ISNUMBER(D8),AND(D8>=1,D8<=1000000,D8=INT(D8)),FALSE()))),"確定/取消の数量は1〜100万個の整数",IF(AND(E8="未確認",COUNTA(D8)>0),"未確認の数量は空欄",IF(NOT(IF(ISNUMBER(H8),AND(H8>=43831,H8<73051,H8=INT(H8)),FALSE())),"記録確認日は時刻なしで必須",IF(OR(B8>H8,H8>入出庫集計!$B$4),"発生日≦確認日≦基準日を確認",IF(AND(F8="新規",COUNTA(G8)>0),"新規の参照元は空欄",IF(AND(F8<>"新規",NOT(AND(ISTEXT(G8),LEN(G8)=8,EXACT(LEFT(G8,4),"MOV-"),ISNUMBER(FIND(MID(G8,5,1)&"x","0x1x2x3x4x5x6x7x8x9x")),ISNUMBER(FIND(MID(G8,6,1)&"x","0x1x2x3x4x5x6x7x8x9x")),ISNUMBER(FIND(MID(G8,7,1)&"x","0x1x2x3x4x5x6x7x8x9x")),ISNUMBER(FIND(MID(G8,8,1)&"x","0x1x2x3x4x5x6x7x8x9x"))))),"訂正/逆移動の参照元IDが必須",IF(AND(F8<>"新規",G8>=A8),"参照元は自分より小さいID",IF(AND(F8<>"新規",COUNTIFS($A$8:$A$107,G8)<>1),"参照元が一意にありません",IF(AND(F8<>"新規",COUNTIFS($A$8:$A$107,G8,$F$8:$F$107,"新規")+COUNTIFS($A$8:$A$107,G8,$F$8:$F$107,"訂正")<>1),"逆移動を訂正/逆移動の元にできません",IF(AND(F8="訂正",COUNTIFS($A$8:$A$107,G8,$E$8:$E$107,"取消")<>1),"訂正の参照元は取消済が必要",IF(AND(F8="訂正",COUNTIFS($F$8:$F$107,"訂正",$G$8:$G$107,G8)>1),"同じ元記録への訂正は1行まで",IF(AND(F8="逆移動",E8<>"取消",COUNTIFS($A$8:$A$107,G8,$E$8:$E$107,"確定")<>1),"有効な逆移動の元は確定が必要",IF(AND(F8="逆移動",E8="取消",COUNTIFS($A$8:$A$107,G8,$E$8:$E$107,"確定")+COUNTIFS($A$8:$A$107,G8,$E$8:$E$107,"取消")<>1),"取消済の逆移動も元の状態を確認",IF(AND(F8="逆移動",COUNTIFS($A$8:$A$107,G8,$C$8:$C$107,"<>"&C8)<>1),"逆移動は元と反対の入出区分",IF(AND(F8="逆移動",B8<SUMIFS($B$8:$B$107,$A$8:$A$107,G8)),"逆移動日が元より前",IF(AND(F8="逆移動",SUMIFS($D$8:$D$107,$F$8:$F$107,"逆移動",$G$8:$G$107,G8,$E$8:$E$107,"確定")>SUMIFS($D$8:$D$107,$A$8:$A$107,G8)),"確定逆移動の合計が元数量を超過","確認済み"))))))))))))))))))))))) -> 確認済み | N8: =IF(M8="","",IF(M8="確認済み",0,1)) -> 0 | O8: =IF(COUNTA(A8:H8)=0,IF(AND(M8="",N8="",I8="",J8="",K8="",L8=""),0,1),IF(NOT(AND(ISTEXT(M8),M8=IF(COUNTA(A8:H8)=0,"",IF(NOT(AND(ISTEXT(A8),LEN(A8)=8,EXACT(LEFT(A8,4),"MOV-"),ISNUMBER(FIND(MID(A8,5,1)&"x","0x1x2x3x4x5x6x7x8x9x")),ISNUMBER(FIND(MID(A8,6,1)&"x","0x1x2x3x4x5x6x7x8x9x")),ISNUMBER(FIND(MID(A8,7,1)&"x","0x1x2x3x4x5x6x7x8x9x")),ISNUMBER(FIND(MID(A8,8,1)&"x","0x1x2x3x4x5x6x7x8x9x")))),"IDはMOV-と半角数字4桁",IF(COUNTIFS($A$8:$A$107,A8)>1,"記録IDが重複",IF(NOT(IF(ISNUMBER(B8),AND(B8>=43831,B8<73051,B8=INT(B8)),FALSE())),"発生日は時刻なしで必須",IF(NOT(OR(C8="入庫",C8="出庫")),"入出区分を確認",IF(NOT(OR(E8="確定",E8="取消",E8="未確認")),"状態を確認",IF(NOT(OR(F8="新規",F8="訂正",F8="逆移動")),"種別を確認",IF(AND(E8<>"未確認",NOT(IF(ISNUMBER(D8),AND(D8>=1,D8<=1000000,D8=INT(D8)),FALSE()))),"確定/取消の数量は1〜100万個の整数",IF(AND(E8="未確認",COUNTA(D8)>0),"未確認の数量は空欄",IF(NOT(IF(ISNUMBER(H8),AND(H8>=43831,H8<73051,H8=INT(H8)),FALSE())),"記録確認日は時刻なしで必須",IF(OR(B8>H8,H8>入出庫集計!$B$4),"発生日≦確認日≦基準日を確認",IF(AND(F8="新規",COUNTA(G8)>0),"新規の参照元は空欄",IF(AND(F8<>"新規",NOT(AND(ISTEXT(G8),LEN(G8)=8,EXACT(LEFT(G8,4),"MOV-"),ISNUMBER(FIND(MID(G8,5,1)&"x","0x1x2x3x4x5x6x7x8x9x")),ISNUMBER(FIND(MID(G8,6,1)&"x","0x1x2x3x4x5x6x7x8x9x")),ISNUMBER(FIND(MID(G8,7,1)&"x","0x1x2x3x4x5x6x7x8x9x")),ISNUMBER(FIND(MID(G8,8,1)&"x","0x1x2x3x4x5x6x7x8x9x"))))),"訂正/逆移動の参照元IDが必須",IF(AND(F8<>"新規",G8>=A8),"参照元は自分より小さいID",IF(AND(F8<>"新規",COUNTIFS($A$8:$A$107,G8)<>1),"参照元が一意にありません",IF(AND(F8<>"新規",COUNTIFS($A$8:$A$107,G8,$F$8:$F$107,"新規")+COUNTIFS($A$8:$A$107,G8,$F$8:$F$107,"訂正")<>1),"逆移動を訂正/逆移動の元にできません",IF(AND(F8="訂正",COUNTIFS($A$8:$A$107,G8,$E$8:$E$107,"取消")<>1),"訂正の参照元は取消済が必要",IF(AND(F8="訂正",COUNTIFS($F$8:$F$107,"訂正",$G$8:$G$107,G8)>1),"同じ元記録への訂正は1行まで",IF(AND(F8="逆移動",E8<>"取消",COUNTIFS($A$8:$A$107,G8,$E$8:$E$107,"確定")<>1),"有効な逆移動の元は確定が必要",IF(AND(F8="逆移動",E8="取消",COUNTIFS($A$8:$A$107,G8,$E$8:$E$107,"確定")+COUNTIFS($A$8:$A$107,G8,$E$8:$E$107,"取消")<>1),"取消済の逆移動も元の状態を確認",IF(AND(F8="逆移動",COUNTIFS($A$8:$A$107,G8,$C$8:$C$107,"<>"&C8)<>1),"逆移動は元と反対の入出区分",IF(AND(F8="逆移動",B8<SUMIFS($B$8:$B$107,$A$8:$A$107,G8)),"逆移動日が元より前",IF(AND(F8="逆移動",SUMIFS($D$8:$D$107,$F$8:$F$107,"逆移動",$G$8:$G$107,G8,$E$8:$E$107,"確定")>SUMIFS($D$8:$D$107,$A$8:$A$107,G8)),"確定逆移動の合計が元数量を超過","確認済み"))))))))))))))))))))))),ISNUMBER(N8),N8=IF(M8="確認済み",0,1))),1,IF(N8<>0,0,IF(AND(ISNUMBER(I8),I8=IF(AND(B8>=入出庫集計!$B$3,B8<=入出庫集計!$E$3),1,0),IF(OR(I8<>1,E8="未確認"),ISTEXT(J8),ISNUMBER(J8)),J8=IF(I8<>1,"",IF(E8="未確認","",IF(AND(E8="確定",C8="入庫"),D8,0))),IF(OR(I8<>1,E8="未確認"),ISTEXT(K8),ISNUMBER(K8)),K8=IF(I8<>1,"",IF(E8="未確認","",IF(AND(E8="確定",C8="出庫"),D8,0))),ISNUMBER(L8),L8=IF(AND(I8=1,E8="未確認"),1,0)),0,1)))) -> 0
A9: MOV-0002 | B9: 46297 | C9: 出庫 | D9: 40 | E9: 確定 | F9: 新規 | H9: 46297 | I9: =IF(M9="","",IF(N9<>0,NA(),IF(AND(B9>=入出庫集計!$B$3,B9<=入出庫集計!$E$3),1,0))) -> 1 | J9: =IF(M9="","",IF(N9<>0,NA(),IF(I9<>1,"",IF(E9="未確認","",IF(AND(E9="確定",C9="入庫"),D9,0))))) -> 0 | K9: =IF(M9="","",IF(N9<>0,NA(),IF(I9<>1,"",IF(E9="未確認","",IF(AND(E9="確定",C9="出庫"),D9,0))))) -> 40 | L9: =IF(M9="","",IF(N9<>0,NA(),IF(AND(I9=1,E9="未確認"),1,0))) -> 0 | M9: =IF(COUNTA(A9:H9)=0,"",IF(NOT(AND(ISTEXT(A9),LEN(A9)=8,EXACT(LEFT(A9,4),"MOV-"),ISNUMBER(FIND(MID(A9,5,1)&"x","0x1x2x3x4x5x6x7x8x9x")),ISNUMBER(FIND(MID(A9,6,1)&"x","0x1x2x3x4x5x6x7x8x9x")),ISNUMBER(FIND(MID(A9,7,1)&"x","0x1x2x3x4x5x6x7x8x9x")),ISNUMBER(FIND(MID(A9,8,1)&"x","0x1x2x3x4x5x6x7x8x9x")))),"IDはMOV-と半角数字4桁",IF(COUNTIFS($A$8:$A$107,A9)>1,"記録IDが重複",IF(NOT(IF(ISNUMBER(B9),AND(B9>=43831,B9<73051,B9=INT(B9)),FALSE())),"発生日は時刻なしで必須",IF(NOT(OR(C9="入庫",C9="出庫")),"入出区分を確認",IF(NOT(OR(E9="確定",E9="取消",E9="未確認")),"状態を確認",IF(NOT(OR(F9="新規",F9="訂正",F9="逆移動")),"種別を確認",IF(AND(E9<>"未確認",NOT(IF(ISNUMBER(D9),AND(D9>=1,D9<=1000000,D9=INT(D9)),FALSE()))),"確定/取消の数量は1〜100万個の整数",IF(AND(E9="未確認",COUNTA(D9)>0),"未確認の数量は空欄",IF(NOT(IF(ISNUMBER(H9),AND(H9>=43831,H9<73051,H9=INT(H9)),FALSE())),"記録確認日は時刻なしで必須",IF(OR(B9>H9,H9>入出庫集計!$B$4),"発生日≦確認日≦基準日を確認",IF(AND(F9="新規",COUNTA(G9)>0),"新規の参照元は空欄",IF(AND(F9<>"新規",NOT(AND(ISTEXT(G9),LEN(G9)=8,EXACT(LEFT(G9,4),"MOV-"),ISNUMBER(FIND(MID(G9,5,1)&"x","0x1x2x3x4x5x6x7x8x9x")),ISNUMBER(FIND(MID(G9,6,1)&"x","0x1x2x3x4x5x6x7x8x9x")),ISNUMBER(FIND(MID(G9,7,1)&"x","0x1x2x3x4x5x6x7x8x9x")),ISNUMBER(FIND(MID(G9,8,1)&"x","0x1x2x3x4x5x6x7x8x9x"))))),"訂正/逆移動の参照元IDが必須",IF(AND(F9<>"新規",G9>=A9),"参照元は自分より小さいID",IF(AND(F9<>"新規",COUNTIFS($A$8:$A$107,G9)<>1),"参照元が一意にありません",IF(AND(F9<>"新規",COUNTIFS($A$8:$A$107,G9,$F$8:$F$107,"新規")+COUNTIFS($A$8:$A$107,G9,$F$8:$F$107,"訂正")<>1),"逆移動を訂正/逆移動の元にできません",IF(AND(F9="訂正",COUNTIFS($A$8:$A$107,G9,$E$8:$E$107,"取消")<>1),"訂正の参照元は取消済が必要",IF(AND(F9="訂正",COUNTIFS($F$8:$F$107,"訂正",$G$8:$G$107,G9)>1),"同じ元記録への訂正は1行まで",IF(AND(F9="逆移動",E9<>"取消",COUNTIFS($A$8:$A$107,G9,$E$8:$E$107,"確定")<>1),"有効な逆移動の元は確定が必要",IF(AND(F9="逆移動",E9="取消",COUNTIFS($A$8:$A$107,G9,$E$8:$E$107,"確定")+COUNTIFS($A$8:$A$107,G9,$E$8:$E$107,"取消")<>1),"取消済の逆移動も元の状態を確認",IF(AND(F9="逆移動",COUNTIFS($A$8:$A$107,G9,$C$8:$C$107,"<>"&C9)<>1),"逆移動は元と反対の入出区分",IF(AND(F9="逆移動",B9<SUMIFS($B$8:$B$107,$A$8:$A$107,G9)),"逆移動日が元より前",IF(AND(F9="逆移動",SUMIFS($D$8:$D$107,$F$8:$F$107,"逆移動",$G$8:$G$107,G9,$E$8:$E$107,"確定")>SUMIFS($D$8:$D$107,$A$8:$A$107,G9)),"確定逆移動の合計が元数量を超過","確認済み"))))))))))))))))))))))) -> 確認済み | N9: =IF(M9="","",IF(M9="確認済み",0,1)) -> 0 | O9: =IF(COUNTA(A9:H9)=0,IF(AND(M9="",N9="",I9="",J9="",K9="",L9=""),0,1),IF(NOT(AND(ISTEXT(M9),M9=IF(COUNTA(A9:H9)=0,"",IF(NOT(AND(ISTEXT(A9),LEN(A9)=8,EXACT(LEFT(A9,4),"MOV-"),ISNUMBER(FIND(MID(A9,5,1)&"x","0x1x2x3x4x5x6x7x8x9x")),ISNUMBER(FIND(MID(A9,6,1)&"x","0x1x2x3x4x5x6x7x8x9x")),ISNUMBER(FIND(MID(A9,7,1)&"x","0x1x2x3x4x5x6x7x8x9x")),ISNUMBER(FIND(MID(A9,8,1)&"x","0x1x2x3x4x5x6x7x8x9x")))),"IDはMOV-と半角数字4桁",IF(COUNTIFS($A$8:$A$107,A9)>1,"記録IDが重複",IF(NOT(IF(ISNUMBER(B9),AND(B9>=43831,B9<73051,B9=INT(B9)),FALSE())),"発生日は時刻なしで必須",IF(NOT(OR(C9="入庫",C9="出庫")),"入出区分を確認",IF(NOT(OR(E9="確定",E9="取消",E9="未確認")),"状態を確認",IF(NOT(OR(F9="新規",F9="訂正",F9="逆移動")),"種別を確認",IF(AND(E9<>"未確認",NOT(IF(ISNUMBER(D9),AND(D9>=1,D9<=1000000,D9=INT(D9)),FALSE()))),"確定/取消の数量は1〜100万個の整数",IF(AND(E9="未確認",COUNTA(D9)>0),"未確認の数量は空欄",IF(NOT(IF(ISNUMBER(H9),AND(H9>=43831,H9<73051,H9=INT(H9)),FALSE())),"記録確認日は時刻なしで必須",IF(OR(B9>H9,H9>入出庫集計!$B$4),"発生日≦確認日≦基準日を確認",IF(AND(F9="新規",COUNTA(G9)>0),"新規の参照元は空欄",IF(AND(F9<>"新規",NOT(AND(ISTEXT(G9),LEN(G9)=8,EXACT(LEFT(G9,4),"MOV-"),ISNUMBER(FIND(MID(G9,5,1)&"x","0x1x2x3x4x5x6x7x8x9x")),ISNUMBER(FIND(MID(G9,6,1)&"x","0x1x2x3x4x5x6x7x8x9x")),ISNUMBER(FIND(MID(G9,7,1)&"x","0x1x2x3x4x5x6x7x8x9x")),ISNUMBER(FIND(MID(G9,8,1)&"x","0x1x2x3x4x5x6x7x8x9x"))))),"訂正/逆移動の参照元IDが必須",IF(AND(F9<>"新規",G9>=A9),"参照元は自分より小さいID",IF(AND(F9<>"新規",COUNTIFS($A$8:$A$107,G9)<>1),"参照元が一意にありません",IF(AND(F9<>"新規",COUNTIFS($A$8:$A$107,G9,$F$8:$F$107,"新規")+COUNTIFS($A$8:$A$107,G9,$F$8:$F$107,"訂正")<>1),"逆移動を訂正/逆移動の元にできません",IF(AND(F9="訂正",COUNTIFS($A$8:$A$107,G9,$E$8:$E$107,"取消")<>1),"訂正の参照元は取消済が必要",IF(AND(F9="訂正",COUNTIFS($F$8:$F$107,"訂正",$G$8:$G$107,G9)>1),"同じ元記録への訂正は1行まで",IF(AND(F9="逆移動",E9<>"取消",COUNTIFS($A$8:$A$107,G9,$E$8:$E$107,"確定")<>1),"有効な逆移動の元は確定が必要",IF(AND(F9="逆移動",E9="取消",COUNTIFS($A$8:$A$107,G9,$E$8:$E$107,"確定")+COUNTIFS($A$8:$A$107,G9,$E$8:$E$107,"取消")<>1),"取消済の逆移動も元の状態を確認",IF(AND(F9="逆移動",COUNTIFS($A$8:$A$107,G9,$C$8:$C$107,"<>"&C9)<>1),"逆移動は元と反対の入出区分",IF(AND(F9="逆移動",B9<SUMIFS($B$8:$B$107,$A$8:$A$107,G9)),"逆移動日が元より前",IF(AND(F9="逆移動",SUMIFS($D$8:$D$107,$F$8:$F$107,"逆移動",$G$8:$G$107,G9,$E$8:$E$107,"確定")>SUMIFS($D$8:$D$107,$A$8:$A$107,G9)),"確定逆移動の合計が元数量を超過","確認済み"))))))))))))))))))))))),ISNUMBER(N9),N9=IF(M9="確認済み",0,1))),1,IF(N9<>0,0,IF(AND(ISNUMBER(I9),I9=IF(AND(B9>=入出庫集計!$B$3,B9<=入出庫集計!$E$3),1,0),IF(OR(I9<>1,E9="未確認"),ISTEXT(J9),ISNUMBER(J9)),J9=IF(I9<>1,"",IF(E9="未確認","",IF(AND(E9="確定",C9="入庫"),D9,0))),IF(OR(I9<>1,E9="未確認"),ISTEXT(K9),ISNUMBER(K9)),K9=IF(I9<>1,"",IF(E9="未確認","",IF(AND(E9="確定",C9="出庫"),D9,0))),ISNUMBER(L9),L9=IF(AND(I9=1,E9="未確認"),1,0)),0,1)))) -> 0
A10: MOV-0003 | B10: 46300 | C10: 入庫 | D10: 10 | E10: 確定 | F10: 逆移動 | G10: MOV-0002 | H10: 46300 | I10: =IF(M10="","",IF(N10<>0,NA(),IF(AND(B10>=入出庫集計!$B$3,B10<=入出庫集計!$E$3),1,0))) -> 1 | J10: =IF(M10="","",IF(N10<>0,NA(),IF(I10<>1,"",IF(E10="未確認","",IF(AND(E10="確定",C10="入庫"),D10,0))))) -> 10 | K10: =IF(M10="","",IF(N10<>0,NA(),IF(I10<>1,"",IF(E10="未確認","",IF(AND(E10="確定",C10="出庫"),D10,0))))) -> 0 | L10: =IF(M10="","",IF(N10<>0,NA(),IF(AND(I10=1,E10="未確認"),1,0))) -> 0 | M10: =IF(COUNTA(A10:H10)=0,"",IF(NOT(AND(ISTEXT(A10),LEN(A10)=8,EXACT(LEFT(A10,4),"MOV-"),ISNUMBER(FIND(MID(A10,5,1)&"x","0x1x2x3x4x5x6x7x8x9x")),ISNUMBER(FIND(MID(A10,6,1)&"x","0x1x2x3x4x5x6x7x8x9x")),ISNUMBER(FIND(MID(A10,7,1)&"x","0x1x2x3x4x5x6x7x8x9x")),ISNUMBER(FIND(MID(A10,8,1)&"x","0x1x2x3x4x5x6x7x8x9x")))),"IDはMOV-と半角数字4桁",IF(COUNTIFS($A$8:$A$107,A10)>1,"記録IDが重複",IF(NOT(IF(ISNUMBER(B10),AND(B10>=43831,B10<73051,B10=INT(B10)),FALSE())),"発生日は時刻なしで必須",IF(NOT(OR(C10="入庫",C10="出庫")),"入出区分を確認",IF(NOT(OR(E10="確定",E10="取消",E10="未確認")),"状態を確認",IF(NOT(OR(F10="新規",F10="訂正",F10="逆移動")),"種別を確認",IF(AND(E10<>"未確認",NOT(IF(ISNUMBER(D10),AND(D10>=1,D10<=1000000,D10=INT(D10)),FALSE()))),"確定/取消の数量は1〜100万個の整数",IF(AND(E10="未確認",COUNTA(D10)>0),"未確認の数量は空欄",IF(NOT(IF(ISNUMBER(H10),AND(H10>=43831,H10<73051,H10=INT(H10)),FALSE())),"記録確認日は時刻なしで必須",IF(OR(B10>H10,H10>入出庫集計!$B$4),"発生日≦確認日≦基準日を確認",IF(AND(F10="新規",COUNTA(G10)>0),"新規の参照元は空欄",IF(AND(F10<>"新規",NOT(AND(ISTEXT(G10),LEN(G10)=8,EXACT(LEFT(G10,4),"MOV-"),ISNUMBER(FIND(MID(G10,5,1)&"x","0x1x2x3x4x5x6x7x8x9x")),ISNUMBER(FIND(MID(G10,6,1)&"x","0x1x2x3x4x5x6x7x8x9x")),ISNUMBER(FIND(MID(G10,7,1)&"x","0x1x2x3x4x5x6x7x8x9x")),ISNUMBER(FIND(MID(G10,8,1)&"x","0x1x2x3x4x5x6x7x8x9x"))))),"訂正/逆移動の参照元IDが必須",IF(AND(F10<>"新規",G10>=A10),"参照元は自分より小さいID",IF(AND(F10<>"新規",COUNTIFS($A$8:$A$107,G10)<>1),"参照元が一意にありません",IF(AND(F10<>"新規",COUNTIFS($A$8:$A$107,G10,$F$8:$F$107,"新規")+COUNTIFS($A$8:$A$107,G10,$F$8:$F$107,"訂正")<>1),"逆移動を訂正/逆移動の元にできません",IF(AND(F10="訂正",COUNTIFS($A$8:$A$107,G10,$E$8:$E$107,"取消")<>1),"訂正の参照元は取消済が必要",IF(AND(F10="訂正",COUNTIFS($F$8:$F$107,"訂正",$G$8:$G$107,G10)>1),"同じ元記録への訂正は1行まで",IF(AND(F10="逆移動",E10<>"取消",COUNTIFS($A$8:$A$107,G10,$E$8:$E$107,"確定")<>1),"有効な逆移動の元は確定が必要",IF(AND(F10="逆移動",E10="取消",COUNTIFS($A$8:$A$107,G10,$E$8:$E$107,"確定")+COUNTIFS($A$8:$A$107,G10,$E$8:$E$107,"取消")<>1),"取消済の逆移動も元の状態を確認",IF(AND(F10="逆移動",COUNTIFS($A$8:$A$107,G10,$C$8:$C$107,"<>"&C10)<>1),"逆移動は元と反対の入出区分",IF(AND(F10="逆移動",B10<SUMIFS($B$8:$B$107,$A$8:$A$107,G10)),"逆移動日が元より前",IF(AND(F10="逆移動",SUMIFS($D$8:$D$107,$F$8:$F$107,"逆移動",$G$8:$G$107,G10,$E$8:$E$107,"確定")>SUMIFS($D$8:$D$107,$A$8:$A$107,G10)),"確定逆移動の合計が元数量を超過","確認済み"))))))))))))))))))))))) -> 確認済み | N10: =IF(M10="","",IF(M10="確認済み",0,1)) -> 0 | O10: =IF(COUNTA(A10:H10)=0,IF(AND(M10="",N10="",I10="",J10="",K10="",L10=""),0,1),IF(NOT(AND(ISTEXT(M10),M10=IF(COUNTA(A10:H10)=0,"",IF(NOT(AND(ISTEXT(A10),LEN(A10)=8,EXACT(LEFT(A10,4),"MOV-"),ISNUMBER(FIND(MID(A10,5,1)&"x","0x1x2x3x4x5x6x7x8x9x")),ISNUMBER(FIND(MID(A10,6,1)&"x","0x1x2x3x4x5x6x7x8x9x")),ISNUMBER(FIND(MID(A10,7,1)&"x","0x1x2x3x4x5x6x7x8x9x")),ISNUMBER(FIND(MID(A10,8,1)&"x","0x1x2x3x4x5x6x7x8x9x")))),"IDはMOV-と半角数字4桁",IF(COUNTIFS($A$8:$A$107,A10)>1,"記録IDが重複",IF(NOT(IF(ISNUMBER(B10),AND(B10>=43831,B10<73051,B10=INT(B10)),FALSE())),"発生日は時刻なしで必須",IF(NOT(OR(C10="入庫",C10="出庫")),"入出区分を確認",IF(NOT(OR(E10="確定",E10="取消",E10="未確認")),"状態を確認",IF(NOT(OR(F10="新規",F10="訂正",F10="逆移動")),"種別を確認",IF(AND(E10<>"未確認",NOT(IF(ISNUMBER(D10),AND(D10>=1,D10<=1000000,D10=INT(D10)),FALSE()))),"確定/取消の数量は1〜100万個の整数",IF(AND(E10="未確認",COUNTA(D10)>0),"未確認の数量は空欄",IF(NOT(IF(ISNUMBER(H10),AND(H10>=43831,H10<73051,H10=INT(H10)),FALSE())),"記録確認日は時刻なしで必須",IF(OR(B10>H10,H10>入出庫集計!$B$4),"発生日≦確認日≦基準日を確認",IF(AND(F10="新規",COUNTA(G10)>0),"新規の参照元は空欄",IF(AND(F10<>"新規",NOT(AND(ISTEXT(G10),LEN(G10)=8,EXACT(LEFT(G10,4),"MOV-"),ISNUMBER(FIND(MID(G10,5,1)&"x","0x1x2x3x4x5x6x7x8x9x")),ISNUMBER(FIND(MID(G10,6,1)&"x","0x1x2x3x4x5x6x7x8x9x")),ISNUMBER(FIND(MID(G10,7,1)&"x","0x1x2x3x4x5x6x7x8x9x")),ISNUMBER(FIND(MID(G10,8,1)&"x","0x1x2x3x4x5x6x7x8x9x"))))),"訂正/逆移動の参照元IDが必須",IF(AND(F10<>"新規",G10>=A10),"参照元は自分より小さいID",IF(AND(F10<>"新規",COUNTIFS($A$8:$A$107,G10)<>1),"参照元が一意にありません",IF(AND(F10<>"新規",COUNTIFS($A$8:$A$107,G10,$F$8:$F$107,"新規")+COUNTIFS($A$8:$A$107,G10,$F$8:$F$107,"訂正")<>1),"逆移動を訂正/逆移動の元にできません",IF(AND(F10="訂正",COUNTIFS($A$8:$A$107,G10,$E$8:$E$107,"取消")<>1),"訂正の参照元は取消済が必要",IF(AND(F10="訂正",COUNTIFS($F$8:$F$107,"訂正",$G$8:$G$107,G10)>1),"同じ元記録への訂正は1行まで",IF(AND(F10="逆移動",E10<>"取消",COUNTIFS($A$8:$A$107,G10,$E$8:$E$107,"確定")<>1),"有効な逆移動の元は確定が必要",IF(AND(F10="逆移動",E10="取消",COUNTIFS($A$8:$A$107,G10,$E$8:$E$107,"確定")+COUNTIFS($A$8:$A$107,G10,$E$8:$E$107,"取消")<>1),"取消済の逆移動も元の状態を確認",IF(AND(F10="逆移動",COUNTIFS($A$8:$A$107,G10,$C$8:$C$107,"<>"&C10)<>1),"逆移動は元と反対の入出区分",IF(AND(F10="逆移動",B10<SUMIFS($B$8:$B$107,$A$8:$A$107,G10)),"逆移動日が元より前",IF(AND(F10="逆移動",SUMIFS($D$8:$D$107,$F$8:$F$107,"逆移動",$G$8:$G$107,G10,$E$8:$E$107,"確定")>SUMIFS($D$8:$D$107,$A$8:$A$107,G10)),"確定逆移動の合計が元数量を超過","確認済み"))))))))))))))))))))))),ISNUMBER(N10),N10=IF(M10="確認済み",0,1))),1,IF(N10<>0,0,IF(AND(ISNUMBER(I10),I10=IF(AND(B10>=入出庫集計!$B$3,B10<=入出庫集計!$E$3),1,0),IF(OR(I10<>1,E10="未確認"),ISTEXT(J10),ISNUMBER(J10)),J10=IF(I10<>1,"",IF(E10="未確認","",IF(AND(E10="確定",C10="入庫"),D10,0))),IF(OR(I10<>1,E10="未確認"),ISTEXT(K10),ISNUMBER(K10)),K10=IF(I10<>1,"",IF(E10="未確認","",IF(AND(E10="確定",C10="出庫"),D10,0))),ISNUMBER(L10),L10=IF(AND(I10=1,E10="未確認"),1,0)),0,1)))) -> 0
A11: MOV-0004 | B11: 46301 | C11: 入庫 | D11: 15 | E11: 確定 | F11: 逆移動 | G11: MOV-0002 | H11: 46301 | I11: =IF(M11="","",IF(N11<>0,NA(),IF(AND(B11>=入出庫集計!$B$3,B11<=入出庫集計!$E$3),1,0))) -> 1 | J11: =IF(M11="","",IF(N11<>0,NA(),IF(I11<>1,"",IF(E11="未確認","",IF(AND(E11="確定",C11="入庫"),D11,0))))) -> 15 | K11: =IF(M11="","",IF(N11<>0,NA(),IF(I11<>1,"",IF(E11="未確認","",IF(AND(E11="確定",C11="出庫"),D11,0))))) -> 0 | L11: =IF(M11="","",IF(N11<>0,NA(),IF(AND(I11=1,E11="未確認"),1,0))) -> 0 | M11: =IF(COUNTA(A11:H11)=0,"",IF(NOT(AND(ISTEXT(A11),LEN(A11)=8,EXACT(LEFT(A11,4),"MOV-"),ISNUMBER(FIND(MID(A11,5,1)&"x","0x1x2x3x4x5x6x7x8x9x")),ISNUMBER(FIND(MID(A11,6,1)&"x","0x1x2x3x4x5x6x7x8x9x")),ISNUMBER(FIND(MID(A11,7,1)&"x","0x1x2x3x4x5x6x7x8x9x")),ISNUMBER(FIND(MID(A11,8,1)&"x","0x1x2x3x4x5x6x7x8x9x")))),"IDはMOV-と半角数字4桁",IF(COUNTIFS($A$8:$A$107,A11)>1,"記録IDが重複",IF(NOT(IF(ISNUMBER(B11),AND(B11>=43831,B11<73051,B11=INT(B11)),FALSE())),"発生日は時刻なしで必須",IF(NOT(OR(C11="入庫",C11="出庫")),"入出区分を確認",IF(NOT(OR(E11="確定",E11="取消",E11="未確認")),"状態を確認",IF(NOT(OR(F11="新規",F11="訂正",F11="逆移動")),"種別を確認",IF(AND(E11<>"未確認",NOT(IF(ISNUMBER(D11),AND(D11>=1,D11<=1000000,D11=INT(D11)),FALSE()))),"確定/取消の数量は1〜100万個の整数",IF(AND(E11="未確認",COUNTA(D11)>0),"未確認の数量は空欄",IF(NOT(IF(ISNUMBER(H11),AND(H11>=43831,H11<73051,H11=INT(H11)),FALSE())),"記録確認日は時刻なしで必須",IF(OR(B11>H11,H11>入出庫集計!$B$4),"発生日≦確認日≦基準日を確認",IF(AND(F11="新規",COUNTA(G11)>0),"新規の参照元は空欄",IF(AND(F11<>"新規",NOT(AND(ISTEXT(G11),LEN(G11)=8,EXACT(LEFT(G11,4),"MOV-"),ISNUMBER(FIND(MID(G11,5,1)&"x","0x1x2x3x4x5x6x7x8x9x")),ISNUMBER(FIND(MID(G11,6,1)&"x","0x1x2x3x4x5x6x7x8x9x")),ISNUMBER(FIND(MID(G11,7,1)&"x","0x1x2x3x4x5x6x7x8x9x")),ISNUMBER(FIND(MID(G11,8,1)&"x","0x1x2x3x4x5x6x7x8x9x"))))),"訂正/逆移動の参照元IDが必須",IF(AND(F11<>"新規",G11>=A11),"参照元は自分より小さいID",IF(AND(F11<>"新規",COUNTIFS($A$8:$A$107,G11)<>1),"参照元が一意にありません",IF(AND(F11<>"新規",COUNTIFS($A$8:$A$107,G11,$F$8:$F$107,"新規")+COUNTIFS($A$8:$A$107,G11,$F$8:$F$107,"訂正")<>1),"逆移動を訂正/逆移動の元にできません",IF(AND(F11="訂正",COUNTIFS($A$8:$A$107,G11,$E$8:$E$107,"取消")<>1),"訂正の参照元は取消済が必要",IF(AND(F11="訂正",COUNTIFS($F$8:$F$107,"訂正",$G$8:$G$107,G11)>1),"同じ元記録への訂正は1行まで",IF(AND(F11="逆移動",E11<>"取消",COUNTIFS($A$8:$A$107,G11,$E$8:$E$107,"確定")<>1),"有効な逆移動の元は確定が必要",IF(AND(F11="逆移動",E11="取消",COUNTIFS($A$8:$A$107,G11,$E$8:$E$107,"確定")+COUNTIFS($A$8:$A$107,G11,$E$8:$E$107,"取消")<>1),"取消済の逆移動も元の状態を確認",IF(AND(F11="逆移動",COUNTIFS($A$8:$A$107,G11,$C$8:$C$107,"<>"&C11)<>1),"逆移動は元と反対の入出区分",IF(AND(F11="逆移動",B11<SUMIFS($B$8:$B$107,$A$8:$A$107,G11)),"逆移動日が元より前",IF(AND(F11="逆移動",SUMIFS($D$8:$D$107,$F$8:$F$107,"逆移動",$G$8:$G$107,G11,$E$8:$E$107,"確定")>SUMIFS($D$8:$D$107,$A$8:$A$107,G11)),"確定逆移動の合計が元数量を超過","確認済み"))))))))))))))))))))))) -> 確認済み | N11: =IF(M11="","",IF(M11="確認済み",0,1)) -> 0 | O11: =IF(COUNTA(A11:H11)=0,IF(AND(M11="",N11="",I11="",J11="",K11="",L11=""),0,1),IF(NOT(AND(ISTEXT(M11),M11=IF(COUNTA(A11:H11)=0,"",IF(NOT(AND(ISTEXT(A11),LEN(A11)=8,EXACT(LEFT(A11,4),"MOV-"),ISNUMBER(FIND(MID(A11,5,1)&"x","0x1x2x3x4x5x6x7x8x9x")),ISNUMBER(FIND(MID(A11,6,1)&"x","0x1x2x3x4x5x6x7x8x9x")),ISNUMBER(FIND(MID(A11,7,1)&"x","0x1x2x3x4x5x6x7x8x9x")),ISNUMBER(FIND(MID(A11,8,1)&"x","0x1x2x3x4x5x6x7x8x9x")))),"IDはMOV-と半角数字4桁",IF(COUNTIFS($A$8:$A$107,A11)>1,"記録IDが重複",IF(NOT(IF(ISNUMBER(B11),AND(B11>=43831,B11<73051,B11=INT(B11)),FALSE())),"発生日は時刻なしで必須",IF(NOT(OR(C11="入庫",C11="出庫")),"入出区分を確認",IF(NOT(OR(E11="確定",E11="取消",E11="未確認")),"状態を確認",IF(NOT(OR(F11="新規",F11="訂正",F11="逆移動")),"種別を確認",IF(AND(E11<>"未確認",NOT(IF(ISNUMBER(D11),AND(D11>=1,D11<=1000000,D11=INT(D11)),FALSE()))),"確定/取消の数量は1〜100万個の整数",IF(AND(E11="未確認",COUNTA(D11)>0),"未確認の数量は空欄",IF(NOT(IF(ISNUMBER(H11),AND(H11>=43831,H11<73051,H11=INT(H11)),FALSE())),"記録確認日は時刻なしで必須",IF(OR(B11>H11,H11>入出庫集計!$B$4),"発生日≦確認日≦基準日を確認",IF(AND(F11="新規",COUNTA(G11)>0),"新規の参照元は空欄",IF(AND(F11<>"新規",NOT(AND(ISTEXT(G11),LEN(G11)=8,EXACT(LEFT(G11,4),"MOV-"),ISNUMBER(FIND(MID(G11,5,1)&"x","0x1x2x3x4x5x6x7x8x9x")),ISNUMBER(FIND(MID(G11,6,1)&"x","0x1x2x3x4x5x6x7x8x9x")),ISNUMBER(FIND(MID(G11,7,1)&"x","0x1x2x3x4x5x6x7x8x9x")),ISNUMBER(FIND(MID(G11,8,1)&"x","0x1x2x3x4x5x6x7x8x9x"))))),"訂正/逆移動の参照元IDが必須",IF(AND(F11<>"新規",G11>=A11),"参照元は自分より小さいID",IF(AND(F11<>"新規",COUNTIFS($A$8:$A$107,G11)<>1),"参照元が一意にありません",IF(AND(F11<>"新規",COUNTIFS($A$8:$A$107,G11,$F$8:$F$107,"新規")+COUNTIFS($A$8:$A$107,G11,$F$8:$F$107,"訂正")<>1),"逆移動を訂正/逆移動の元にできません",IF(AND(F11="訂正",COUNTIFS($A$8:$A$107,G11,$E$8:$E$107,"取消")<>1),"訂正の参照元は取消済が必要",IF(AND(F11="訂正",COUNTIFS($F$8:$F$107,"訂正",$G$8:$G$107,G11)>1),"同じ元記録への訂正は1行まで",IF(AND(F11="逆移動",E11<>"取消",COUNTIFS($A$8:$A$107,G11,$E$8:$E$107,"確定")<>1),"有効な逆移動の元は確定が必要",IF(AND(F11="逆移動",E11="取消",COUNTIFS($A$8:$A$107,G11,$E$8:$E$107,"確定")+COUNTIFS($A$8:$A$107,G11,$E$8:$E$107,"取消")<>1),"取消済の逆移動も元の状態を確認",IF(AND(F11="逆移動",COUNTIFS($A$8:$A$107,G11,$C$8:$C$107,"<>"&C11)<>1),"逆移動は元と反対の入出区分",IF(AND(F11="逆移動",B11<SUMIFS($B$8:$B$107,$A$8:$A$107,G11)),"逆移動日が元より前",IF(AND(F11="逆移動",SUMIFS($D$8:$D$107,$F$8:$F$107,"逆移動",$G$8:$G$107,G11,$E$8:$E$107,"確定")>SUMIFS($D$8:$D$107,$A$8:$A$107,G11)),"確定逆移動の合計が元数量を超過","確認済み"))))))))))))))))))))))),ISNUMBER(N11),N11=IF(M11="確認済み",0,1))),1,IF(N11<>0,0,IF(AND(ISNUMBER(I11),I11=IF(AND(B11>=入出庫集計!$B$3,B11<=入出庫集計!$E$3),1,0),IF(OR(I11<>1,E11="未確認"),ISTEXT(J11),ISNUMBER(J11)),J11=IF(I11<>1,"",IF(E11="未確認","",IF(AND(E11="確定",C11="入庫"),D11,0))),IF(OR(I11<>1,E11="未確認"),ISTEXT(K11),ISNUMBER(K11)),K11=IF(I11<>1,"",IF(E11="未確認","",IF(AND(E11="確定",C11="出庫"),D11,0))),ISNUMBER(L11),L11=IF(AND(I11=1,E11="未確認"),1,0)),0,1)))) -> 0
A12: MOV-0005 | B12: 46302 | C12: 出庫 | D12: 7 | E12: 取消 | F12: 新規 | H12: 46302 | I12: =IF(M12="","",IF(N12<>0,NA(),IF(AND(B12>=入出庫集計!$B$3,B12<=入出庫集計!$E$3),1,0))) -> 1 | J12: =IF(M12="","",IF(N12<>0,NA(),IF(I12<>1,"",IF(E12="未確認","",IF(AND(E12="確定",C12="入庫"),D12,0))))) -> 0 | K12: =IF(M12="","",IF(N12<>0,NA(),IF(I12<>1,"",IF(E12="未確認","",IF(AND(E12="確定",C12="出庫"),D12,0))))) -> 0 | L12: =IF(M12="","",IF(N12<>0,NA(),IF(AND(I12=1,E12="未確認"),1,0))) -> 0 | M12: =IF(COUNTA(A12:H12)=0,"",IF(NOT(AND(ISTEXT(A12),LEN(A12)=8,EXACT(LEFT(A12,4),"MOV-"),ISNUMBER(FIND(MID(A12,5,1)&"x","0x1x2x3x4x5x6x7x8x9x")),ISNUMBER(FIND(MID(A12,6,1)&"x","0x1x2x3x4x5x6x7x8x9x")),ISNUMBER(FIND(MID(A12,7,1)&"x","0x1x2x3x4x5x6x7x8x9x")),ISNUMBER(FIND(MID(A12,8,1)&"x","0x1x2x3x4x5x6x7x8x9x")))),"IDはMOV-と半角数字4桁",IF(COUNTIFS($A$8:$A$107,A12)>1,"記録IDが重複",IF(NOT(IF(ISNUMBER(B12),AND(B12>=43831,B12<73051,B12=INT(B12)),FALSE())),"発生日は時刻なしで必須",IF(NOT(OR(C12="入庫",C12="出庫")),"入出区分を確認",IF(NOT(OR(E12="確定",E12="取消",E12="未確認")),"状態を確認",IF(NOT(OR(F12="新規",F12="訂正",F12="逆移動")),"種別を確認",IF(AND(E12<>"未確認",NOT(IF(ISNUMBER(D12),AND(D12>=1,D12<=1000000,D12=INT(D12)),FALSE()))),"確定/取消の数量は1〜100万個の整数",IF(AND(E12="未確認",COUNTA(D12)>0),"未確認の数量は空欄",IF(NOT(IF(ISNUMBER(H12),AND(H12>=43831,H12<73051,H12=INT(H12)),FALSE())),"記録確認日は時刻なしで必須",IF(OR(B12>H12,H12>入出庫集計!$B$4),"発生日≦確認日≦基準日を確認",IF(AND(F12="新規",COUNTA(G12)>0),"新規の参照元は空欄",IF(AND(F12<>"新規",NOT(AND(ISTEXT(G12),LEN(G12)=8,EXACT(LEFT(G12,4),"MOV-"),ISNUMBER(FIND(MID(G12,5,1)&"x","0x1x2x3x4x5x6x7x8x9x")),ISNUMBER(FIND(MID(G12,6,1)&"x","0x1x2x3x4x5x6x7x8x9x")),ISNUMBER(FIND(MID(G12,7,1)&"x","0x1x2x3x4x5x6x7x8x9x")),ISNUMBER(FIND(MID(G12,8,1)&"x","0x1x2x3x4x5x6x7x8x9x"))))),"訂正/逆移動の参照元IDが必須",IF(AND(F12<>"新規",G12>=A12),"参照元は自分より小さいID",IF(AND(F12<>"新規",COUNTIFS($A$8:$A$107,G12)<>1),"参照元が一意にありません",IF(AND(F12<>"新規",COUNTIFS($A$8:$A$107,G12,$F$8:$F$107,"新規")+COUNTIFS($A$8:$A$107,G12,$F$8:$F$107,"訂正")<>1),"逆移動を訂正/逆移動の元にできません",IF(AND(F12="訂正",COUNTIFS($A$8:$A$107,G12,$E$8:$E$107,"取消")<>1),"訂正の参照元は取消済が必要",IF(AND(F12="訂正",COUNTIFS($F$8:$F$107,"訂正",$G$8:$G$107,G12)>1),"同じ元記録への訂正は1行まで",IF(AND(F12="逆移動",E12<>"取消",COUNTIFS($A$8:$A$107,G12,$E$8:$E$107,"確定")<>1),"有効な逆移動の元は確定が必要",IF(AND(F12="逆移動",E12="取消",COUNTIFS($A$8:$A$107,G12,$E$8:$E$107,"確定")+COUNTIFS($A$8:$A$107,G12,$E$8:$E$107,"取消")<>1),"取消済の逆移動も元の状態を確認",IF(AND(F12="逆移動",COUNTIFS($A$8:$A$107,G12,$C$8:$C$107,"<>"&C12)<>1),"逆移動は元と反対の入出区分",IF(AND(F12="逆移動",B12<SUMIFS($B$8:$B$107,$A$8:$A$107,G12)),"逆移動日が元より前",IF(AND(F12="逆移動",SUMIFS($D$8:$D$107,$F$8:$F$107,"逆移動",$G$8:$G$107,G12,$E$8:$E$107,"確定")>SUMIFS($D$8:$D$107,$A$8:$A$107,G12)),"確定逆移動の合計が元数量を超過","確認済み"))))))))))))))))))))))) -> 確認済み | N12: =IF(M12="","",IF(M12="確認済み",0,1)) -> 0 | O12: =IF(COUNTA(A12:H12)=0,IF(AND(M12="",N12="",I12="",J12="",K12="",L12=""),0,1),IF(NOT(AND(ISTEXT(M12),M12=IF(COUNTA(A12:H12)=0,"",IF(NOT(AND(ISTEXT(A12),LEN(A12)=8,EXACT(LEFT(A12,4),"MOV-"),ISNUMBER(FIND(MID(A12,5,1)&"x","0x1x2x3x4x5x6x7x8x9x")),ISNUMBER(FIND(MID(A12,6,1)&"x","0x1x2x3x4x5x6x7x8x9x")),ISNUMBER(FIND(MID(A12,7,1)&"x","0x1x2x3x4x5x6x7x8x9x")),ISNUMBER(FIND(MID(A12,8,1)&"x","0x1x2x3x4x5x6x7x8x9x")))),"IDはMOV-と半角数字4桁",IF(COUNTIFS($A$8:$A$107,A12)>1,"記録IDが重複",IF(NOT(IF(ISNUMBER(B12),AND(B12>=43831,B12<73051,B12=INT(B12)),FALSE())),"発生日は時刻なしで必須",IF(NOT(OR(C12="入庫",C12="出庫")),"入出区分を確認",IF(NOT(OR(E12="確定",E12="取消",E12="未確認")),"状態を確認",IF(NOT(OR(F12="新規",F12="訂正",F12="逆移動")),"種別を確認",IF(AND(E12<>"未確認",NOT(IF(ISNUMBER(D12),AND(D12>=1,D12<=1000000,D12=INT(D12)),FALSE()))),"確定/取消の数量は1〜100万個の整数",IF(AND(E12="未確認",COUNTA(D12)>0),"未確認の数量は空欄",IF(NOT(IF(ISNUMBER(H12),AND(H12>=43831,H12<73051,H12=INT(H12)),FALSE())),"記録確認日は時刻なしで必須",IF(OR(B12>H12,H12>入出庫集計!$B$4),"発生日≦確認日≦基準日を確認",IF(AND(F12="新規",COUNTA(G12)>0),"新規の参照元は空欄",IF(AND(F12<>"新規",NOT(AND(ISTEXT(G12),LEN(G12)=8,EXACT(LEFT(G12,4),"MOV-"),ISNUMBER(FIND(MID(G12,5,1)&"x","0x1x2x3x4x5x6x7x8x9x")),ISNUMBER(FIND(MID(G12,6,1)&"x","0x1x2x3x4x5x6x7x8x9x")),ISNUMBER(FIND(MID(G12,7,1)&"x","0x1x2x3x4x5x6x7x8x9x")),ISNUMBER(FIND(MID(G12,8,1)&"x","0x1x2x3x4x5x6x7x8x9x"))))),"訂正/逆移動の参照元IDが必須",IF(AND(F12<>"新規",G12>=A12),"参照元は自分より小さいID",IF(AND(F12<>"新規",COUNTIFS($A$8:$A$107,G12)<>1),"参照元が一意にありません",IF(AND(F12<>"新規",COUNTIFS($A$8:$A$107,G12,$F$8:$F$107,"新規")+COUNTIFS($A$8:$A$107,G12,$F$8:$F$107,"訂正")<>1),"逆移動を訂正/逆移動の元にできません",IF(AND(F12="訂正",COUNTIFS($A$8:$A$107,G12,$E$8:$E$107,"取消")<>1),"訂正の参照元は取消済が必要",IF(AND(F12="訂正",COUNTIFS($F$8:$F$107,"訂正",$G$8:$G$107,G12)>1),"同じ元記録への訂正は1行まで",IF(AND(F12="逆移動",E12<>"取消",COUNTIFS($A$8:$A$107,G12,$E$8:$E$107,"確定")<>1),"有効な逆移動の元は確定が必要",IF(AND(F12="逆移動",E12="取消",COUNTIFS($A$8:$A$107,G12,$E$8:$E$107,"確定")+COUNTIFS($A$8:$A$107,G12,$E$8:$E$107,"取消")<>1),"取消済の逆移動も元の状態を確認",IF(AND(F12="逆移動",COUNTIFS($A$8:$A$107,G12,$C$8:$C$107,"<>"&C12)<>1),"逆移動は元と反対の入出区分",IF(AND(F12="逆移動",B12<SUMIFS($B$8:$B$107,$A$8:$A$107,G12)),"逆移動日が元より前",IF(AND(F12="逆移動",SUMIFS($D$8:$D$107,$F$8:$F$107,"逆移動",$G$8:$G$107,G12,$E$8:$E$107,"確定")>SUMIFS($D$8:$D$107,$A$8:$A$107,G12)),"確定逆移動の合計が元数量を超過","確認済み"))))))))))))))))))))))),ISNUMBER(N12),N12=IF(M12="確認済み",0,1))),1,IF(N12<>0,0,IF(AND(ISNUMBER(I12),I12=IF(AND(B12>=入出庫集計!$B$3,B12<=入出庫集計!$E$3),1,0),IF(OR(I12<>1,E12="未確認"),ISTEXT(J12),ISNUMBER(J12)),J12=IF(I12<>1,"",IF(E12="未確認","",IF(AND(E12="確定",C12="入庫"),D12,0))),IF(OR(I12<>1,E12="未確認"),ISTEXT(K12),ISNUMBER(K12)),K12=IF(I12<>1,"",IF(E12="未確認","",IF(AND(E12="確定",C12="出庫"),D12,0))),ISNUMBER(L12),L12=IF(AND(I12=1,E12="未確認"),1,0)),0,1)))) -> 0
A13: MOV-0006 | B13: 46303 | C13: 出庫 | D13: 5 | E13: 確定 | F13: 訂正 | G13: MOV-0005 | H13: 46303 | I13: =IF(M13="","",IF(N13<>0,NA(),IF(AND(B13>=入出庫集計!$B$3,B13<=入出庫集計!$E$3),1,0))) -> 1 | J13: =IF(M13="","",IF(N13<>0,NA(),IF(I13<>1,"",IF(E13="未確認","",IF(AND(E13="確定",C13="入庫"),D13,0))))) -> 0 | K13: =IF(M13="","",IF(N13<>0,NA(),IF(I13<>1,"",IF(E13="未確認","",IF(AND(E13="確定",C13="出庫"),D13,0))))) -> 5 | L13: =IF(M13="","",IF(N13<>0,NA(),IF(AND(I13=1,E13="未確認"),1,0))) -> 0 | M13: =IF(COUNTA(A13:H13)=0,"",IF(NOT(AND(ISTEXT(A13),LEN(A13)=8,EXACT(LEFT(A13,4),"MOV-"),ISNUMBER(FIND(MID(A13,5,1)&"x","0x1x2x3x4x5x6x7x8x9x")),ISNUMBER(FIND(MID(A13,6,1)&"x","0x1x2x3x4x5x6x7x8x9x")),ISNUMBER(FIND(MID(A13,7,1)&"x","0x1x2x3x4x5x6x7x8x9x")),ISNUMBER(FIND(MID(A13,8,1)&"x","0x1x2x3x4x5x6x7x8x9x")))),"IDはMOV-と半角数字4桁",IF(COUNTIFS($A$8:$A$107,A13)>1,"記録IDが重複",IF(NOT(IF(ISNUMBER(B13),AND(B13>=43831,B13<73051,B13=INT(B13)),FALSE())),"発生日は時刻なしで必須",IF(NOT(OR(C13="入庫",C13="出庫")),"入出区分を確認",IF(NOT(OR(E13="確定",E13="取消",E13="未確認")),"状態を確認",IF(NOT(OR(F13="新規",F13="訂正",F13="逆移動")),"種別を確認",IF(AND(E13<>"未確認",NOT(IF(ISNUMBER(D13),AND(D13>=1,D13<=1000000,D13=INT(D13)),FALSE()))),"確定/取消の数量は1〜100万個の整数",IF(AND(E13="未確認",COUNTA(D13)>0),"未確認の数量は空欄",IF(NOT(IF(ISNUMBER(H13),AND(H13>=43831,H13<73051,H13=INT(H13)),FALSE())),"記録確認日は時刻なしで必須",IF(OR(B13>H13,H13>入出庫集計!$B$4),"発生日≦確認日≦基準日を確認",IF(AND(F13="新規",COUNTA(G13)>0),"新規の参照元は空欄",IF(AND(F13<>"新規",NOT(AND(ISTEXT(G13),LEN(G13)=8,EXACT(LEFT(G13,4),"MOV-"),ISNUMBER(FIND(MID(G13,5,1)&"x","0x1x2x3x4x5x6x7x8x9x")),ISNUMBER(FIND(MID(G13,6,1)&"x","0x1x2x3x4x5x6x7x8x9x")),ISNUMBER(FIND(MID(G13,7,1)&"x","0x1x2x3x4x5x6x7x8x9x")),ISNUMBER(FIND(MID(G13,8,1)&"x","0x1x2x3x4x5x6x7x8x9x"))))),"訂正/逆移動の参照元IDが必須",IF(AND(F13<>"新規",G13>=A13),"参照元は自分より小さいID",IF(AND(F13<>"新規",COUNTIFS($A$8:$A$107,G13)<>1),"参照元が一意にありません",IF(AND(F13<>"新規",COUNTIFS($A$8:$A$107,G13,$F$8:$F$107,"新規")+COUNTIFS($A$8:$A$107,G13,$F$8:$F$107,"訂正")<>1),"逆移動を訂正/逆移動の元にできません",IF(AND(F13="訂正",COUNTIFS($A$8:$A$107,G13,$E$8:$E$107,"取消")<>1),"訂正の参照元は取消済が必要",IF(AND(F13="訂正",COUNTIFS($F$8:$F$107,"訂正",$G$8:$G$107,G13)>1),"同じ元記録への訂正は1行まで",IF(AND(F13="逆移動",E13<>"取消",COUNTIFS($A$8:$A$107,G13,$E$8:$E$107,"確定")<>1),"有効な逆移動の元は確定が必要",IF(AND(F13="逆移動",E13="取消",COUNTIFS($A$8:$A$107,G13,$E$8:$E$107,"確定")+COUNTIFS($A$8:$A$107,G13,$E$8:$E$107,"取消")<>1),"取消済の逆移動も元の状態を確認",IF(AND(F13="逆移動",COUNTIFS($A$8:$A$107,G13,$C$8:$C$107,"<>"&C13)<>1),"逆移動は元と反対の入出区分",IF(AND(F13="逆移動",B13<SUMIFS($B$8:$B$107,$A$8:$A$107,G13)),"逆移動日が元より前",IF(AND(F13="逆移動",SUMIFS($D$8:$D$107,$F$8:$F$107,"逆移動",$G$8:$G$107,G13,$E$8:$E$107,"確定")>SUMIFS($D$8:$D$107,$A$8:$A$107,G13)),"確定逆移動の合計が元数量を超過","確認済み"))))))))))))))))))))))) -> 確認済み | N13: =IF(M13="","",IF(M13="確認済み",0,1)) -> 0 | O13: =IF(COUNTA(A13:H13)=0,IF(AND(M13="",N13="",I13="",J13="",K13="",L13=""),0,1),IF(NOT(AND(ISTEXT(M13),M13=IF(COUNTA(A13:H13)=0,"",IF(NOT(AND(ISTEXT(A13),LEN(A13)=8,EXACT(LEFT(A13,4),"MOV-"),ISNUMBER(FIND(MID(A13,5,1)&"x","0x1x2x3x4x5x6x7x8x9x")),ISNUMBER(FIND(MID(A13,6,1)&"x","0x1x2x3x4x5x6x7x8x9x")),ISNUMBER(FIND(MID(A13,7,1)&"x","0x1x2x3x4x5x6x7x8x9x")),ISNUMBER(FIND(MID(A13,8,1)&"x","0x1x2x3x4x5x6x7x8x9x")))),"IDはMOV-と半角数字4桁",IF(COUNTIFS($A$8:$A$107,A13)>1,"記録IDが重複",IF(NOT(IF(ISNUMBER(B13),AND(B13>=43831,B13<73051,B13=INT(B13)),FALSE())),"発生日は時刻なしで必須",IF(NOT(OR(C13="入庫",C13="出庫")),"入出区分を確認",IF(NOT(OR(E13="確定",E13="取消",E13="未確認")),"状態を確認",IF(NOT(OR(F13="新規",F13="訂正",F13="逆移動")),"種別を確認",IF(AND(E13<>"未確認",NOT(IF(ISNUMBER(D13),AND(D13>=1,D13<=1000000,D13=INT(D13)),FALSE()))),"確定/取消の数量は1〜100万個の整数",IF(AND(E13="未確認",COUNTA(D13)>0),"未確認の数量は空欄",IF(NOT(IF(ISNUMBER(H13),AND(H13>=43831,H13<73051,H13=INT(H13)),FALSE())),"記録確認日は時刻なしで必須",IF(OR(B13>H13,H13>入出庫集計!$B$4),"発生日≦確認日≦基準日を確認",IF(AND(F13="新規",COUNTA(G13)>0),"新規の参照元は空欄",IF(AND(F13<>"新規",NOT(AND(ISTEXT(G13),LEN(G13)=8,EXACT(LEFT(G13,4),"MOV-"),ISNUMBER(FIND(MID(G13,5,1)&"x","0x1x2x3x4x5x6x7x8x9x")),ISNUMBER(FIND(MID(G13,6,1)&"x","0x1x2x3x4x5x6x7x8x9x")),ISNUMBER(FIND(MID(G13,7,1)&"x","0x1x2x3x4x5x6x7x8x9x")),ISNUMBER(FIND(MID(G13,8,1)&"x","0x1x2x3x4x5x6x7x8x9x"))))),"訂正/逆移動の参照元IDが必須",IF(AND(F13<>"新規",G13>=A13),"参照元は自分より小さいID",IF(AND(F13<>"新規",COUNTIFS($A$8:$A$107,G13)<>1),"参照元が一意にありません",IF(AND(F13<>"新規",COUNTIFS($A$8:$A$107,G13,$F$8:$F$107,"新規")+COUNTIFS($A$8:$A$107,G13,$F$8:$F$107,"訂正")<>1),"逆移動を訂正/逆移動の元にできません",IF(AND(F13="訂正",COUNTIFS($A$8:$A$107,G13,$E$8:$E$107,"取消")<>1),"訂正の参照元は取消済が必要",IF(AND(F13="訂正",COUNTIFS($F$8:$F$107,"訂正",$G$8:$G$107,G13)>1),"同じ元記録への訂正は1行まで",IF(AND(F13="逆移動",E13<>"取消",COUNTIFS($A$8:$A$107,G13,$E$8:$E$107,"確定")<>1),"有効な逆移動の元は確定が必要",IF(AND(F13="逆移動",E13="取消",COUNTIFS($A$8:$A$107,G13,$E$8:$E$107,"確定")+COUNTIFS($A$8:$A$107,G13,$E$8:$E$107,"取消")<>1),"取消済の逆移動も元の状態を確認",IF(AND(F13="逆移動",COUNTIFS($A$8:$A$107,G13,$C$8:$C$107,"<>"&C13)<>1),"逆移動は元と反対の入出区分",IF(AND(F13="逆移動",B13<SUMIFS($B$8:$B$107,$A$8:$A$107,G13)),"逆移動日が元より前",IF(AND(F13="逆移動",SUMIFS($D$8:$D$107,$F$8:$F$107,"逆移動",$G$8:$G$107,G13,$E$8:$E$107,"確定")>SUMIFS($D$8:$D$107,$A$8:$A$107,G13)),"確定逆移動の合計が元数量を超過","確認済み"))))))))))))))))))))))),ISNUMBER(N13),N13=IF(M13="確認済み",0,1))),1,IF(N13<>0,0,IF(AND(ISNUMBER(I13),I13=IF(AND(B13>=入出庫集計!$B$3,B13<=入出庫集計!$E$3),1,0),IF(OR(I13<>1,E13="未確認"),ISTEXT(J13),ISNUMBER(J13)),J13=IF(I13<>1,"",IF(E13="未確認","",IF(AND(E13="確定",C13="入庫"),D13,0))),IF(OR(I13<>1,E13="未確認"),ISTEXT(K13),ISNUMBER(K13)),K13=IF(I13<>1,"",IF(E13="未確認","",IF(AND(E13="確定",C13="出庫"),D13,0))),ISNUMBER(L13),L13=IF(AND(I13=1,E13="未確認"),1,0)),0,1)))) -> 0
A14: MOV-0007 | B14: 46305 | C14: 入庫 | E14: 未確認 | F14: 新規 | H14: 46306 | I14: =IF(M14="","",IF(N14<>0,NA(),IF(AND(B14>=入出庫集計!$B$3,B14<=入出庫集計!$E$3),1,0))) -> 1 | J14: =IF(M14="","",IF(N14<>0,NA(),IF(I14<>1,"",IF(E14="未確認","",IF(AND(E14="確定",C14="入庫"),D14,0))))) | K14: =IF(M14="","",IF(N14<>0,NA(),IF(I14<>1,"",IF(E14="未確認","",IF(AND(E14="確定",C14="出庫"),D14,0))))) | L14: =IF(M14="","",IF(N14<>0,NA(),IF(AND(I14=1,E14="未確認"),1,0))) -> 1 | M14: =IF(COUNTA(A14:H14)=0,"",IF(NOT(AND(ISTEXT(A14),LEN(A14)=8,EXACT(LEFT(A14,4),"MOV-"),ISNUMBER(FIND(MID(A14,5,1)&"x","0x1x2x3x4x5x6x7x8x9x")),ISNUMBER(FIND(MID(A14,6,1)&"x","0x1x2x3x4x5x6x7x8x9x")),ISNUMBER(FIND(MID(A14,7,1)&"x","0x1x2x3x4x5x6x7x8x9x")),ISNUMBER(FIND(MID(A14,8,1)&"x","0x1x2x3x4x5x6x7x8x9x")))),"IDはMOV-と半角数字4桁",IF(COUNTIFS($A$8:$A$107,A14)>1,"記録IDが重複",IF(NOT(IF(ISNUMBER(B14),AND(B14>=43831,B14<73051,B14=INT(B14)),FALSE())),"発生日は時刻なしで必須",IF(NOT(OR(C14="入庫",C14="出庫")),"入出区分を確認",IF(NOT(OR(E14="確定",E14="取消",E14="未確認")),"状態を確認",IF(NOT(OR(F14="新規",F14="訂正",F14="逆移動")),"種別を確認",IF(AND(E14<>"未確認",NOT(IF(ISNUMBER(D14),AND(D14>=1,D14<=1000000,D14=INT(D14)),FALSE()))),"確定/取消の数量は1〜100万個の整数",IF(AND(E14="未確認",COUNTA(D14)>0),"未確認の数量は空欄",IF(NOT(IF(ISNUMBER(H14),AND(H14>=43831,H14<73051,H14=INT(H14)),FALSE())),"記録確認日は時刻なしで必須",IF(OR(B14>H14,H14>入出庫集計!$B$4),"発生日≦確認日≦基準日を確認",IF(AND(F14="新規",COUNTA(G14)>0),"新規の参照元は空欄",IF(AND(F14<>"新規",NOT(AND(ISTEXT(G14),LEN(G14)=8,EXACT(LEFT(G14,4),"MOV-"),ISNUMBER(FIND(MID(G14,5,1)&"x","0x1x2x3x4x5x6x7x8x9x")),ISNUMBER(FIND(MID(G14,6,1)&"x","0x1x2x3x4x5x6x7x8x9x")),ISNUMBER(FIND(MID(G14,7,1)&"x","0x1x2x3x4x5x6x7x8x9x")),ISNUMBER(FIND(MID(G14,8,1)&"x","0x1x2x3x4x5x6x7x8x9x"))))),"訂正/逆移動の参照元IDが必須",IF(AND(F14<>"新規",G14>=A14),"参照元は自分より小さいID",IF(AND(F14<>"新規",COUNTIFS($A$8:$A$107,G14)<>1),"参照元が一意にありません",IF(AND(F14<>"新規",COUNTIFS($A$8:$A$107,G14,$F$8:$F$107,"新規")+COUNTIFS($A$8:$A$107,G14,$F$8:$F$107,"訂正")<>1),"逆移動を訂正/逆移動の元にできません",IF(AND(F14="訂正",COUNTIFS($A$8:$A$107,G14,$E$8:$E$107,"取消")<>1),"訂正の参照元は取消済が必要",IF(AND(F14="訂正",COUNTIFS($F$8:$F$107,"訂正",$G$8:$G$107,G14)>1),"同じ元記録への訂正は1行まで",IF(AND(F14="逆移動",E14<>"取消",COUNTIFS($A$8:$A$107,G14,$E$8:$E$107,"確定")<>1),"有効な逆移動の元は確定が必要",IF(AND(F14="逆移動",E14="取消",COUNTIFS($A$8:$A$107,G14,$E$8:$E$107,"確定")+COUNTIFS($A$8:$A$107,G14,$E$8:$E$107,"取消")<>1),"取消済の逆移動も元の状態を確認",IF(AND(F14="逆移動",COUNTIFS($A$8:$A$107,G14,$C$8:$C$107,"<>"&C14)<>1),"逆移動は元と反対の入出区分",IF(AND(F14="逆移動",B14<SUMIFS($B$8:$B$107,$A$8:$A$107,G14)),"逆移動日が元より前",IF(AND(F14="逆移動",SUMIFS($D$8:$D$107,$F$8:$F$107,"逆移動",$G$8:$G$107,G14,$E$8:$E$107,"確定")>SUMIFS($D$8:$D$107,$A$8:$A$107,G14)),"確定逆移動の合計が元数量を超過","確認済み"))))))))))))))))))))))) -> 確認済み | N14: =IF(M14="","",IF(M14="確認済み",0,1)) -> 0 | O14: =IF(COUNTA(A14:H14)=0,IF(AND(M14="",N14="",I14="",J14="",K14="",L14=""),0,1),IF(NOT(AND(ISTEXT(M14),M14=IF(COUNTA(A14:H14)=0,"",IF(NOT(AND(ISTEXT(A14),LEN(A14)=8,EXACT(LEFT(A14,4),"MOV-"),ISNUMBER(FIND(MID(A14,5,1)&"x","0x1x2x3x4x5x6x7x8x9x")),ISNUMBER(FIND(MID(A14,6,1)&"x","0x1x2x3x4x5x6x7x8x9x")),ISNUMBER(FIND(MID(A14,7,1)&"x","0x1x2x3x4x5x6x7x8x9x")),ISNUMBER(FIND(MID(A14,8,1)&"x","0x1x2x3x4x5x6x7x8x9x")))),"IDはMOV-と半角数字4桁",IF(COUNTIFS($A$8:$A$107,A14)>1,"記録IDが重複",IF(NOT(IF(ISNUMBER(B14),AND(B14>=43831,B14<73051,B14=INT(B14)),FALSE())),"発生日は時刻なしで必須",IF(NOT(OR(C14="入庫",C14="出庫")),"入出区分を確認",IF(NOT(OR(E14="確定",E14="取消",E14="未確認")),"状態を確認",IF(NOT(OR(F14="新規",F14="訂正",F14="逆移動")),"種別を確認",IF(AND(E14<>"未確認",NOT(IF(ISNUMBER(D14),AND(D14>=1,D14<=1000000,D14=INT(D14)),FALSE()))),"確定/取消の数量は1〜100万個の整数",IF(AND(E14="未確認",COUNTA(D14)>0),"未確認の数量は空欄",IF(NOT(IF(ISNUMBER(H14),AND(H14>=43831,H14<73051,H14=INT(H14)),FALSE())),"記録確認日は時刻なしで必須",IF(OR(B14>H14,H14>入出庫集計!$B$4),"発生日≦確認日≦基準日を確認",IF(AND(F14="新規",COUNTA(G14)>0),"新規の参照元は空欄",IF(AND(F14<>"新規",NOT(AND(ISTEXT(G14),LEN(G14)=8,EXACT(LEFT(G14,4),"MOV-"),ISNUMBER(FIND(MID(G14,5,1)&"x","0x1x2x3x4x5x6x7x8x9x")),ISNUMBER(FIND(MID(G14,6,1)&"x","0x1x2x3x4x5x6x7x8x9x")),ISNUMBER(FIND(MID(G14,7,1)&"x","0x1x2x3x4x5x6x7x8x9x")),ISNUMBER(FIND(MID(G14,8,1)&"x","0x1x2x3x4x5x6x7x8x9x"))))),"訂正/逆移動の参照元IDが必須",IF(AND(F14<>"新規",G14>=A14),"参照元は自分より小さいID",IF(AND(F14<>"新規",COUNTIFS($A$8:$A$107,G14)<>1),"参照元が一意にありません",IF(AND(F14<>"新規",COUNTIFS($A$8:$A$107,G14,$F$8:$F$107,"新規")+COUNTIFS($A$8:$A$107,G14,$F$8:$F$107,"訂正")<>1),"逆移動を訂正/逆移動の元にできません",IF(AND(F14="訂正",COUNTIFS($A$8:$A$107,G14,$E$8:$E$107,"取消")<>1),"訂正の参照元は取消済が必要",IF(AND(F14="訂正",COUNTIFS($F$8:$F$107,"訂正",$G$8:$G$107,G14)>1),"同じ元記録への訂正は1行まで",IF(AND(F14="逆移動",E14<>"取消",COUNTIFS($A$8:$A$107,G14,$E$8:$E$107,"確定")<>1),"有効な逆移動の元は確定が必要",IF(AND(F14="逆移動",E14="取消",COUNTIFS($A$8:$A$107,G14,$E$8:$E$107,"確定")+COUNTIFS($A$8:$A$107,G14,$E$8:$E$107,"取消")<>1),"取消済の逆移動も元の状態を確認",IF(AND(F14="逆移動",COUNTIFS($A$8:$A$107,G14,$C$8:$C$107,"<>"&C14)<>1),"逆移動は元と反対の入出区分",IF(AND(F14="逆移動",B14<SUMIFS($B$8:$B$107,$A$8:$A$107,G14)),"逆移動日が元より前",IF(AND(F14="逆移動",SUMIFS($D$8:$D$107,$F$8:$F$107,"逆移動",$G$8:$G$107,G14,$E$8:$E$107,"確定")>SUMIFS($D$8:$D$107,$A$8:$A$107,G14)),"確定逆移動の合計が元数量を超過","確認済み"))))))))))))))))))))))),ISNUMBER(N14),N14=IF(M14="確認済み",0,1))),1,IF(N14<>0,0,IF(AND(ISNUMBER(I14),I14=IF(AND(B14>=入出庫集計!$B$3,B14<=入出庫集計!$E$3),1,0),IF(OR(I14<>1,E14="未確認"),ISTEXT(J14),ISNUMBER(J14)),J14=IF(I14<>1,"",IF(E14="未確認","",IF(AND(E14="確定",C14="入庫"),D14,0))),IF(OR(I14<>1,E14="未確認"),ISTEXT(K14),ISNUMBER(K14)),K14=IF(I14<>1,"",IF(E14="未確認","",IF(AND(E14="確定",C14="出庫"),D14,0))),ISNUMBER(L14),L14=IF(AND(I14=1,E14="未確認"),1,0)),0,1)))) -> 0
A15: MOV-0008 | B15: 46328 | C15: 出庫 | D15: 2 | E15: 確定 | F15: 逆移動 | G15: MOV-0001 | H15: 46328 | I15: =IF(M15="","",IF(N15<>0,NA(),IF(AND(B15>=入出庫集計!$B$3,B15<=入出庫集計!$E$3),1,0))) -> 0 | J15: =IF(M15="","",IF(N15<>0,NA(),IF(I15<>1,"",IF(E15="未確認","",IF(AND(E15="確定",C15="入庫"),D15,0))))) | K15: =IF(M15="","",IF(N15<>0,NA(),IF(I15<>1,"",IF(E15="未確認","",IF(AND(E15="確定",C15="出庫"),D15,0))))) | L15: =IF(M15="","",IF(N15<>0,NA(),IF(AND(I15=1,E15="未確認"),1,0))) -> 0 | M15: =IF(COUNTA(A15:H15)=0,"",IF(NOT(AND(ISTEXT(A15),LEN(A15)=8,EXACT(LEFT(A15,4),"MOV-"),ISNUMBER(FIND(MID(A15,5,1)&"x","0x1x2x3x4x5x6x7x8x9x")),ISNUMBER(FIND(MID(A15,6,1)&"x","0x1x2x3x4x5x6x7x8x9x")),ISNUMBER(FIND(MID(A15,7,1)&"x","0x1x2x3x4x5x6x7x8x9x")),ISNUMBER(FIND(MID(A15,8,1)&"x","0x1x2x3x4x5x6x7x8x9x")))),"IDはMOV-と半角数字4桁",IF(COUNTIFS($A$8:$A$107,A15)>1,"記録IDが重複",IF(NOT(IF(ISNUMBER(B15),AND(B15>=43831,B15<73051,B15=INT(B15)),FALSE())),"発生日は時刻なしで必須",IF(NOT(OR(C15="入庫",C15="出庫")),"入出区分を確認",IF(NOT(OR(E15="確定",E15="取消",E15="未確認")),"状態を確認",IF(NOT(OR(F15="新規",F15="訂正",F15="逆移動")),"種別を確認",IF(AND(E15<>"未確認",NOT(IF(ISNUMBER(D15),AND(D15>=1,D15<=1000000,D15=INT(D15)),FALSE()))),"確定/取消の数量は1〜100万個の整数",IF(AND(E15="未確認",COUNTA(D15)>0),"未確認の数量は空欄",IF(NOT(IF(ISNUMBER(H15),AND(H15>=43831,H15<73051,H15=INT(H15)),FALSE())),"記録確認日は時刻なしで必須",IF(OR(B15>H15,H15>入出庫集計!$B$4),"発生日≦確認日≦基準日を確認",IF(AND(F15="新規",COUNTA(G15)>0),"新規の参照元は空欄",IF(AND(F15<>"新規",NOT(AND(ISTEXT(G15),LEN(G15)=8,EXACT(LEFT(G15,4),"MOV-"),ISNUMBER(FIND(MID(G15,5,1)&"x","0x1x2x3x4x5x6x7x8x9x")),ISNUMBER(FIND(MID(G15,6,1)&"x","0x1x2x3x4x5x6x7x8x9x")),ISNUMBER(FIND(MID(G15,7,1)&"x","0x1x2x3x4x5x6x7x8x9x")),ISNUMBER(FIND(MID(G15,8,1)&"x","0x1x2x3x4x5x6x7x8x9x"))))),"訂正/逆移動の参照元IDが必須",IF(AND(F15<>"新規",G15>=A15),"参照元は自分より小さいID",IF(AND(F15<>"新規",COUNTIFS($A$8:$A$107,G15)<>1),"参照元が一意にありません",IF(AND(F15<>"新規",COUNTIFS($A$8:$A$107,G15,$F$8:$F$107,"新規")+COUNTIFS($A$8:$A$107,G15,$F$8:$F$107,"訂正")<>1),"逆移動を訂正/逆移動の元にできません",IF(AND(F15="訂正",COUNTIFS($A$8:$A$107,G15,$E$8:$E$107,"取消")<>1),"訂正の参照元は取消済が必要",IF(AND(F15="訂正",COUNTIFS($F$8:$F$107,"訂正",$G$8:$G$107,G15)>1),"同じ元記録への訂正は1行まで",IF(AND(F15="逆移動",E15<>"取消",COUNTIFS($A$8:$A$107,G15,$E$8:$E$107,"確定")<>1),"有効な逆移動の元は確定が必要",IF(AND(F15="逆移動",E15="取消",COUNTIFS($A$8:$A$107,G15,$E$8:$E$107,"確定")+COUNTIFS($A$8:$A$107,G15,$E$8:$E$107,"取消")<>1),"取消済の逆移動も元の状態を確認",IF(AND(F15="逆移動",COUNTIFS($A$8:$A$107,G15,$C$8:$C$107,"<>"&C15)<>1),"逆移動は元と反対の入出区分",IF(AND(F15="逆移動",B15<SUMIFS($B$8:$B$107,$A$8:$A$107,G15)),"逆移動日が元より前",IF(AND(F15="逆移動",SUMIFS($D$8:$D$107,$F$8:$F$107,"逆移動",$G$8:$G$107,G15,$E$8:$E$107,"確定")>SUMIFS($D$8:$D$107,$A$8:$A$107,G15)),"確定逆移動の合計が元数量を超過","確認済み"))))))))))))))))))))))) -> 確認済み | N15: =IF(M15="","",IF(M15="確認済み",0,1)) -> 0 | O15: =IF(COUNTA(A15:H15)=0,IF(AND(M15="",N15="",I15="",J15="",K15="",L15=""),0,1),IF(NOT(AND(ISTEXT(M15),M15=IF(COUNTA(A15:H15)=0,"",IF(NOT(AND(ISTEXT(A15),LEN(A15)=8,EXACT(LEFT(A15,4),"MOV-"),ISNUMBER(FIND(MID(A15,5,1)&"x","0x1x2x3x4x5x6x7x8x9x")),ISNUMBER(FIND(MID(A15,6,1)&"x","0x1x2x3x4x5x6x7x8x9x")),ISNUMBER(FIND(MID(A15,7,1)&"x","0x1x2x3x4x5x6x7x8x9x")),ISNUMBER(FIND(MID(A15,8,1)&"x","0x1x2x3x4x5x6x7x8x9x")))),"IDはMOV-と半角数字4桁",IF(COUNTIFS($A$8:$A$107,A15)>1,"記録IDが重複",IF(NOT(IF(ISNUMBER(B15),AND(B15>=43831,B15<73051,B15=INT(B15)),FALSE())),"発生日は時刻なしで必須",IF(NOT(OR(C15="入庫",C15="出庫")),"入出区分を確認",IF(NOT(OR(E15="確定",E15="取消",E15="未確認")),"状態を確認",IF(NOT(OR(F15="新規",F15="訂正",F15="逆移動")),"種別を確認",IF(AND(E15<>"未確認",NOT(IF(ISNUMBER(D15),AND(D15>=1,D15<=1000000,D15=INT(D15)),FALSE()))),"確定/取消の数量は1〜100万個の整数",IF(AND(E15="未確認",COUNTA(D15)>0),"未確認の数量は空欄",IF(NOT(IF(ISNUMBER(H15),AND(H15>=43831,H15<73051,H15=INT(H15)),FALSE())),"記録確認日は時刻なしで必須",IF(OR(B15>H15,H15>入出庫集計!$B$4),"発生日≦確認日≦基準日を確認",IF(AND(F15="新規",COUNTA(G15)>0),"新規の参照元は空欄",IF(AND(F15<>"新規",NOT(AND(ISTEXT(G15),LEN(G15)=8,EXACT(LEFT(G15,4),"MOV-"),ISNUMBER(FIND(MID(G15,5,1)&"x","0x1x2x3x4x5x6x7x8x9x")),ISNUMBER(FIND(MID(G15,6,1)&"x","0x1x2x3x4x5x6x7x8x9x")),ISNUMBER(FIND(MID(G15,7,1)&"x","0x1x2x3x4x5x6x7x8x9x")),ISNUMBER(FIND(MID(G15,8,1)&"x","0x1x2x3x4x5x6x7x8x9x"))))),"訂正/逆移動の参照元IDが必須",IF(AND(F15<>"新規",G15>=A15),"参照元は自分より小さいID",IF(AND(F15<>"新規",COUNTIFS($A$8:$A$107,G15)<>1),"参照元が一意にありません",IF(AND(F15<>"新規",COUNTIFS($A$8:$A$107,G15,$F$8:$F$107,"新規")+COUNTIFS($A$8:$A$107,G15,$F$8:$F$107,"訂正")<>1),"逆移動を訂正/逆移動の元にできません",IF(AND(F15="訂正",COUNTIFS($A$8:$A$107,G15,$E$8:$E$107,"取消")<>1),"訂正の参照元は取消済が必要",IF(AND(F15="訂正",COUNTIFS($F$8:$F$107,"訂正",$G$8:$G$107,G15)>1),"同じ元記録への訂正は1行まで",IF(AND(F15="逆移動",E15<>"取消",COUNTIFS($A$8:$A$107,G15,$E$8:$E$107,"確定")<>1),"有効な逆移動の元は確定が必要",IF(AND(F15="逆移動",E15="取消",COUNTIFS($A$8:$A$107,G15,$E$8:$E$107,"確定")+COUNTIFS($A$8:$A$107,G15,$E$8:$E$107,"取消")<>1),"取消済の逆移動も元の状態を確認",IF(AND(F15="逆移動",COUNTIFS($A$8:$A$107,G15,$C$8:$C$107,"<>"&C15)<>1),"逆移動は元と反対の入出区分",IF(AND(F15="逆移動",B15<SUMIFS($B$8:$B$107,$A$8:$A$107,G15)),"逆移動日が元より前",IF(AND(F15="逆移動",SUMIFS($D$8:$D$107,$F$8:$F$107,"逆移動",$G$8:$G$107,G15,$E$8:$E$107,"確定")>SUMIFS($D$8:$D$107,$A$8:$A$107,G15)),"確定逆移動の合計が元数量を超過","確認済み"))))))))))))))))))))))),ISNUMBER(N15),N15=IF(M15="確認済み",0,1))),1,IF(N15<>0,0,IF(AND(ISNUMBER(I15),I15=IF(AND(B15>=入出庫集計!$B$3,B15<=入出庫集計!$E$3),1,0),IF(OR(I15<>1,E15="未確認"),ISTEXT(J15),ISNUMBER(J15)),J15=IF(I15<>1,"",IF(E15="未確認","",IF(AND(E15="確定",C15="入庫"),D15,0))),IF(OR(I15<>1,E15="未確認"),ISTEXT(K15),ISNUMBER(K15)),K15=IF(I15<>1,"",IF(E15="未確認","",IF(AND(E15="確定",C15="出庫"),D15,0))),ISNUMBER(L15),L15=IF(AND(I15=1,E15="未確認"),1,0)),0,1)))) -> 0
A16: MOV-0009 | B16: 46307 | C16: 入庫 | D16: 8 | E16: 取消 | F16: 逆移動 | G16: MOV-0002 | H16: 46308 | I16: =IF(M16="","",IF(N16<>0,NA(),IF(AND(B16>=入出庫集計!$B$3,B16<=入出庫集計!$E$3),1,0))) -> 1 | J16: =IF(M16="","",IF(N16<>0,NA(),IF(I16<>1,"",IF(E16="未確認","",IF(AND(E16="確定",C16="入庫"),D16,0))))) -> 0 | K16: =IF(M16="","",IF(N16<>0,NA(),IF(I16<>1,"",IF(E16="未確認","",IF(AND(E16="確定",C16="出庫"),D16,0))))) -> 0 | L16: =IF(M16="","",IF(N16<>0,NA(),IF(AND(I16=1,E16="未確認"),1,0))) -> 0 | M16: =IF(COUNTA(A16:H16)=0,"",IF(NOT(AND(ISTEXT(A16),LEN(A16)=8,EXACT(LEFT(A16,4),"MOV-"),ISNUMBER(FIND(MID(A16,5,1)&"x","0x1x2x3x4x5x6x7x8x9x")),ISNUMBER(FIND(MID(A16,6,1)&"x","0x1x2x3x4x5x6x7x8x9x")),ISNUMBER(FIND(MID(A16,7,1)&"x","0x1x2x3x4x5x6x7x8x9x")),ISNUMBER(FIND(MID(A16,8,1)&"x","0x1x2x3x4x5x6x7x8x9x")))),"IDはMOV-と半角数字4桁",IF(COUNTIFS($A$8:$A$107,A16)>1,"記録IDが重複",IF(NOT(IF(ISNUMBER(B16),AND(B16>=43831,B16<73051,B16=INT(B16)),FALSE())),"発生日は時刻なしで必須",IF(NOT(OR(C16="入庫",C16="出庫")),"入出区分を確認",IF(NOT(OR(E16="確定",E16="取消",E16="未確認")),"状態を確認",IF(NOT(OR(F16="新規",F16="訂正",F16="逆移動")),"種別を確認",IF(AND(E16<>"未確認",NOT(IF(ISNUMBER(D16),AND(D16>=1,D16<=1000000,D16=INT(D16)),FALSE()))),"確定/取消の数量は1〜100万個の整数",IF(AND(E16="未確認",COUNTA(D16)>0),"未確認の数量は空欄",IF(NOT(IF(ISNUMBER(H16),AND(H16>=43831,H16<73051,H16=INT(H16)),FALSE())),"記録確認日は時刻なしで必須",IF(OR(B16>H16,H16>入出庫集計!$B$4),"発生日≦確認日≦基準日を確認",IF(AND(F16="新規",COUNTA(G16)>0),"新規の参照元は空欄",IF(AND(F16<>"新規",NOT(AND(ISTEXT(G16),LEN(G16)=8,EXACT(LEFT(G16,4),"MOV-"),ISNUMBER(FIND(MID(G16,5,1)&"x","0x1x2x3x4x5x6x7x8x9x")),ISNUMBER(FIND(MID(G16,6,1)&"x","0x1x2x3x4x5x6x7x8x9x")),ISNUMBER(FIND(MID(G16,7,1)&"x","0x1x2x3x4x5x6x7x8x9x")),ISNUMBER(FIND(MID(G16,8,1)&"x","0x1x2x3x4x5x6x7x8x9x"))))),"訂正/逆移動の参照元IDが必須",IF(AND(F16<>"新規",G16>=A16),"参照元は自分より小さいID",IF(AND(F16<>"新規",COUNTIFS($A$8:$A$107,G16)<>1),"参照元が一意にありません",IF(AND(F16<>"新規",COUNTIFS($A$8:$A$107,G16,$F$8:$F$107,"新規")+COUNTIFS($A$8:$A$107,G16,$F$8:$F$107,"訂正")<>1),"逆移動を訂正/逆移動の元にできません",IF(AND(F16="訂正",COUNTIFS($A$8:$A$107,G16,$E$8:$E$107,"取消")<>1),"訂正の参照元は取消済が必要",IF(AND(F16="訂正",COUNTIFS($F$8:$F$107,"訂正",$G$8:$G$107,G16)>1),"同じ元記録への訂正は1行まで",IF(AND(F16="逆移動",E16<>"取消",COUNTIFS($A$8:$A$107,G16,$E$8:$E$107,"確定")<>1),"有効な逆移動の元は確定が必要",IF(AND(F16="逆移動",E16="取消",COUNTIFS($A$8:$A$107,G16,$E$8:$E$107,"確定")+COUNTIFS($A$8:$A$107,G16,$E$8:$E$107,"取消")<>1),"取消済の逆移動も元の状態を確認",IF(AND(F16="逆移動",COUNTIFS($A$8:$A$107,G16,$C$8:$C$107,"<>"&C16)<>1),"逆移動は元と反対の入出区分",IF(AND(F16="逆移動",B16<SUMIFS($B$8:$B$107,$A$8:$A$107,G16)),"逆移動日が元より前",IF(AND(F16="逆移動",SUMIFS($D$8:$D$107,$F$8:$F$107,"逆移動",$G$8:$G$107,G16,$E$8:$E$107,"確定")>SUMIFS($D$8:$D$107,$A$8:$A$107,G16)),"確定逆移動の合計が元数量を超過","確認済み"))))))))))))))))))))))) -> 確認済み | N16: =IF(M16="","",IF(M16="確認済み",0,1)) -> 0 | O16: =IF(COUNTA(A16:H16)=0,IF(AND(M16="",N16="",I16="",J16="",K16="",L16=""),0,1),IF(NOT(AND(ISTEXT(M16),M16=IF(COUNTA(A16:H16)=0,"",IF(NOT(AND(ISTEXT(A16),LEN(A16)=8,EXACT(LEFT(A16,4),"MOV-"),ISNUMBER(FIND(MID(A16,5,1)&"x","0x1x2x3x4x5x6x7x8x9x")),ISNUMBER(FIND(MID(A16,6,1)&"x","0x1x2x3x4x5x6x7x8x9x")),ISNUMBER(FIND(MID(A16,7,1)&"x","0x1x2x3x4x5x6x7x8x9x")),ISNUMBER(FIND(MID(A16,8,1)&"x","0x1x2x3x4x5x6x7x8x9x")))),"IDはMOV-と半角数字4桁",IF(COUNTIFS($A$8:$A$107,A16)>1,"記録IDが重複",IF(NOT(IF(ISNUMBER(B16),AND(B16>=43831,B16<73051,B16=INT(B16)),FALSE())),"発生日は時刻なしで必須",IF(NOT(OR(C16="入庫",C16="出庫")),"入出区分を確認",IF(NOT(OR(E16="確定",E16="取消",E16="未確認")),"状態を確認",IF(NOT(OR(F16="新規",F16="訂正",F16="逆移動")),"種別を確認",IF(AND(E16<>"未確認",NOT(IF(ISNUMBER(D16),AND(D16>=1,D16<=1000000,D16=INT(D16)),FALSE()))),"確定/取消の数量は1〜100万個の整数",IF(AND(E16="未確認",COUNTA(D16)>0),"未確認の数量は空欄",IF(NOT(IF(ISNUMBER(H16),AND(H16>=43831,H16<73051,H16=INT(H16)),FALSE())),"記録確認日は時刻なしで必須",IF(OR(B16>H16,H16>入出庫集計!$B$4),"発生日≦確認日≦基準日を確認",IF(AND(F16="新規",COUNTA(G16)>0),"新規の参照元は空欄",IF(AND(F16<>"新規",NOT(AND(ISTEXT(G16),LEN(G16)=8,EXACT(LEFT(G16,4),"MOV-"),ISNUMBER(FIND(MID(G16,5,1)&"x","0x1x2x3x4x5x6x7x8x9x")),ISNUMBER(FIND(MID(G16,6,1)&"x","0x1x2x3x4x5x6x7x8x9x")),ISNUMBER(FIND(MID(G16,7,1)&"x","0x1x2x3x4x5x6x7x8x9x")),ISNUMBER(FIND(MID(G16,8,1)&"x","0x1x2x3x4x5x6x7x8x9x"))))),"訂正/逆移動の参照元IDが必須",IF(AND(F16<>"新規",G16>=A16),"参照元は自分より小さいID",IF(AND(F16<>"新規",COUNTIFS($A$8:$A$107,G16)<>1),"参照元が一意にありません",IF(AND(F16<>"新規",COUNTIFS($A$8:$A$107,G16,$F$8:$F$107,"新規")+COUNTIFS($A$8:$A$107,G16,$F$8:$F$107,"訂正")<>1),"逆移動を訂正/逆移動の元にできません",IF(AND(F16="訂正",COUNTIFS($A$8:$A$107,G16,$E$8:$E$107,"取消")<>1),"訂正の参照元は取消済が必要",IF(AND(F16="訂正",COUNTIFS($F$8:$F$107,"訂正",$G$8:$G$107,G16)>1),"同じ元記録への訂正は1行まで",IF(AND(F16="逆移動",E16<>"取消",COUNTIFS($A$8:$A$107,G16,$E$8:$E$107,"確定")<>1),"有効な逆移動の元は確定が必要",IF(AND(F16="逆移動",E16="取消",COUNTIFS($A$8:$A$107,G16,$E$8:$E$107,"確定")+COUNTIFS($A$8:$A$107,G16,$E$8:$E$107,"取消")<>1),"取消済の逆移動も元の状態を確認",IF(AND(F16="逆移動",COUNTIFS($A$8:$A$107,G16,$C$8:$C$107,"<>"&C16)<>1),"逆移動は元と反対の入出区分",IF(AND(F16="逆移動",B16<SUMIFS($B$8:$B$107,$A$8:$A$107,G16)),"逆移動日が元より前",IF(AND(F16="逆移動",SUMIFS($D$8:$D$107,$F$8:$F$107,"逆移動",$G$8:$G$107,G16,$E$8:$E$107,"確定")>SUMIFS($D$8:$D$107,$A$8:$A$107,G16)),"確定逆移動の合計が元数量を超過","確認済み"))))))))))))))))))))))),ISNUMBER(N16),N16=IF(M16="確認済み",0,1))),1,IF(N16<>0,0,IF(AND(ISNUMBER(I16),I16=IF(AND(B16>=入出庫集計!$B$3,B16<=入出庫集計!$E$3),1,0),IF(OR(I16<>1,E16="未確認"),ISTEXT(J16),ISNUMBER(J16)),J16=IF(I16<>1,"",IF(E16="未確認","",IF(AND(E16="確定",C16="入庫"),D16,0))),IF(OR(I16<>1,E16="未確認"),ISTEXT(K16),ISNUMBER(K16)),K16=IF(I16<>1,"",IF(E16="未確認","",IF(AND(E16="確定",C16="出庫"),D16,0))),ISNUMBER(L16),L16=IF(AND(I16=1,E16="未確認"),1,0)),0,1)))) -> 0
