Workbook

Sheet 入出庫集計
A2: 訂正と実物の逆移動を分けて記録する | K2: 対象の前提 | L2: 入力の前提
A3: 対象開始日 | B3: 46296 | D3: 対象終了日 | E3: 46326 | G3: 対象品目ID | H3: SKU-0001 | K3: =IF(AND(IF(ISNUMBER(B3),AND(B3>=43831,B3<73051,B3=INT(B3)),FALSE()),IF(ISNUMBER(E3),AND(E3>=43831,E3<73051,E3=INT(E3)),FALSE()),IF(ISNUMBER(B4),AND(B4>=43831,B4<73051,B4=INT(B4)),FALSE()),B3<=E3,E3<=B4,AND(ISTEXT(H3),LEN(H3)=8,EXACT(LEFT(H3,4),"SKU-"),ISNUMBER(FIND(MID(H3,5,1)&"x","0x1x2x3x4x5x6x7x8x9x")),ISNUMBER(FIND(MID(H3,6,1)&"x","0x1x2x3x4x5x6x7x8x9x")),ISNUMBER(FIND(MID(H3,7,1)&"x","0x1x2x3x4x5x6x7x8x9x")),ISNUMBER(FIND(MID(H3,8,1)&"x","0x1x2x3x4x5x6x7x8x9x")))),0,1) -> 0 | L3: =IF(AND(ISNUMBER(K3),K3=IF(AND(IF(ISNUMBER(B3),AND(B3>=43831,B3<73051,B3=INT(B3)),FALSE()),IF(ISNUMBER(E3),AND(E3>=43831,E3<73051,E3=INT(E3)),FALSE()),IF(ISNUMBER(B4),AND(B4>=43831,B4<73051,B4=INT(B4)),FALSE()),B3<=E3,E3<=B4,AND(ISTEXT(H3),LEN(H3)=8,EXACT(LEFT(H3,4),"SKU-"),ISNUMBER(FIND(MID(H3,5,1)&"x","0x1x2x3x4x5x6x7x8x9x")),ISNUMBER(FIND(MID(H3,6,1)&"x","0x1x2x3x4x5x6x7x8x9x")),ISNUMBER(FIND(MID(H3,7,1)&"x","0x1x2x3x4x5x6x7x8x9x")),ISNUMBER(FIND(MID(H3,8,1)&"x","0x1x2x3x4x5x6x7x8x9x")))),0,1)),K3,1)+SUM(移動記録!N8:O107)+IF(COUNT(移動記録!O8:O107)=100,0,1) -> 0
A4: 記録確認基準日 | B4: 46331 | D4: 単一保管場所・1品目・単位は個。差引増減は在庫残高ではありません。
A5: 対象記録（件） | B5: =IF($L$3<>0,NA(),COUNTIFS(移動記録!I8:I107,1)) -> 10 | D5: 確定（件） | E5: =IF($L$3<>0,NA(),COUNTIFS(移動記録!I8:I107,1,移動記録!E8:E107,"確定")) -> 5 | G5: 未確認（件） | H5: =IF($L$3<>0,NA(),COUNTIFS(移動記録!I8:I107,1,移動記録!E8:E107,"未確認")) -> 2
A6: 確定入庫（個） | B6: =IF($L$3<>0,NA(),SUM(移動記録!J8:J107)) -> 45 | D6: 確定出庫（個） | E6: =IF($L$3<>0,NA(),SUM(移動記録!K8:K107)) -> 45 | G6: 差引増減（個） | H6: =IF($L$3<>0,NA(),IF(B5=0,"対象なし",IF(H5>0,"判定保留",B6-E6))) -> 判定保留
A7: 新規確定（件） | B7: =IF($L$3<>0,NA(),COUNTIFS(移動記録!I8:I107,1,移動記録!E8:E107,"確定",移動記録!F8:F107,"新規")) -> 2 | D7: 訂正确定（件） | E7: =IF($L$3<>0,NA(),COUNTIFS(移動記録!I8:I107,1,移動記録!E8:E107,"確定",移動記録!F8:F107,"訂正")) -> 1 | G7: 逆移動確定（件） | H7: =IF($L$3<>0,NA(),COUNTIFS(移動記録!I8:I107,1,移動記録!E8:E107,"確定",移動記録!F8:F107,"逆移動")) -> 2
A8: 取消（件） | B8: =IF($L$3<>0,NA(),COUNTIFS(移動記録!I8:I107,1,移動記録!E8:E107,"取消")) -> 3 | D8: 期間外記録（件） | E8: =IF($L$3<>0,NA(),COUNTIFS(移動記録!I8:I107,0,移動記録!M8:M107,"確認済み")) -> 2 | G8: 全登録（件） | H8: =IF($L$3<>0,NA(),COUNTIFS(移動記録!M8:M107,"確認済み")) -> 12
A9: 記録ID | B9: 発生日 | C9: 入出区分 | D9: 記録数量（個） | E9: 状態 | F9: 種別 | G9: 参照元ID | H9: 対象入庫（個） | I9: 対象出庫（個）
A10: =IF($L$3<>0,NA(),IF(COUNTA(移動記録!A8:H8)=0,"",移動記録!A8)) -> MOV-0001 | B10: =IF($L$3<>0,NA(),IF(COUNTA(移動記録!A8:H8)=0,"",移動記録!B8)) -> 46295 | C10: =IF($L$3<>0,NA(),IF(COUNTA(移動記録!A8:H8)=0,"",移動記録!C8)) -> 入庫 | D10: =IF($L$3<>0,NA(),IF(COUNTA(移動記録!A8:H8)=0,"",IF(COUNTA(移動記録!D8)=0,"",移動記録!D8))) -> 100 | E10: =IF($L$3<>0,NA(),IF(COUNTA(移動記録!A8:H8)=0,"",移動記録!E8)) -> 確定 | F10: =IF($L$3<>0,NA(),IF(COUNTA(移動記録!A8:H8)=0,"",移動記録!F8)) -> 新規 | G10: =IF($L$3<>0,NA(),IF(COUNTA(移動記録!A8:H8)=0,"",IF(COUNTA(移動記録!G8)=0,"",移動記録!G8))) | H10: =IF($L$3<>0,NA(),IF(COUNTA(移動記録!A8:H8)=0,"",移動記録!J8)) | I10: =IF($L$3<>0,NA(),IF(COUNTA(移動記録!A8:H8)=0,"",移動記録!K8))
A11: =IF($L$3<>0,NA(),IF(COUNTA(移動記録!A9:H9)=0,"",移動記録!A9)) -> MOV-0002 | B11: =IF($L$3<>0,NA(),IF(COUNTA(移動記録!A9:H9)=0,"",移動記録!B9)) -> 46297 | C11: =IF($L$3<>0,NA(),IF(COUNTA(移動記録!A9:H9)=0,"",移動記録!C9)) -> 出庫 | D11: =IF($L$3<>0,NA(),IF(COUNTA(移動記録!A9:H9)=0,"",IF(COUNTA(移動記録!D9)=0,"",移動記録!D9))) -> 40 | E11: =IF($L$3<>0,NA(),IF(COUNTA(移動記録!A9:H9)=0,"",移動記録!E9)) -> 確定 | F11: =IF($L$3<>0,NA(),IF(COUNTA(移動記録!A9:H9)=0,"",移動記録!F9)) -> 新規 | G11: =IF($L$3<>0,NA(),IF(COUNTA(移動記録!A9:H9)=0,"",IF(COUNTA(移動記録!G9)=0,"",移動記録!G9))) | H11: =IF($L$3<>0,NA(),IF(COUNTA(移動記録!A9:H9)=0,"",移動記録!J9)) -> 0 | I11: =IF($L$3<>0,NA(),IF(COUNTA(移動記録!A9:H9)=0,"",移動記録!K9)) -> 40
A12: =IF($L$3<>0,NA(),IF(COUNTA(移動記録!A10:H10)=0,"",移動記録!A10)) -> MOV-0003 | B12: =IF($L$3<>0,NA(),IF(COUNTA(移動記録!A10:H10)=0,"",移動記録!B10)) -> 46300 | C12: =IF($L$3<>0,NA(),IF(COUNTA(移動記録!A10:H10)=0,"",移動記録!C10)) -> 入庫 | D12: =IF($L$3<>0,NA(),IF(COUNTA(移動記録!A10:H10)=0,"",IF(COUNTA(移動記録!D10)=0,"",移動記録!D10))) -> 10 | E12: =IF($L$3<>0,NA(),IF(COUNTA(移動記録!A10:H10)=0,"",移動記録!E10)) -> 確定 | F12: =IF($L$3<>0,NA(),IF(COUNTA(移動記録!A10:H10)=0,"",移動記録!F10)) -> 逆移動 | G12: =IF($L$3<>0,NA(),IF(COUNTA(移動記録!A10:H10)=0,"",IF(COUNTA(移動記録!G10)=0,"",移動記録!G10))) -> MOV-0002 | H12: =IF($L$3<>0,NA(),IF(COUNTA(移動記録!A10:H10)=0,"",移動記録!J10)) -> 10 | I12: =IF($L$3<>0,NA(),IF(COUNTA(移動記録!A10:H10)=0,"",移動記録!K10)) -> 0
A13: =IF($L$3<>0,NA(),IF(COUNTA(移動記録!A11:H11)=0,"",移動記録!A11)) -> MOV-0004 | B13: =IF($L$3<>0,NA(),IF(COUNTA(移動記録!A11:H11)=0,"",移動記録!B11)) -> 46301 | C13: =IF($L$3<>0,NA(),IF(COUNTA(移動記録!A11:H11)=0,"",移動記録!C11)) -> 入庫 | D13: =IF($L$3<>0,NA(),IF(COUNTA(移動記録!A11:H11)=0,"",IF(COUNTA(移動記録!D11)=0,"",移動記録!D11))) -> 15 | E13: =IF($L$3<>0,NA(),IF(COUNTA(移動記録!A11:H11)=0,"",移動記録!E11)) -> 確定 | F13: =IF($L$3<>0,NA(),IF(COUNTA(移動記録!A11:H11)=0,"",移動記録!F11)) -> 逆移動 | G13: =IF($L$3<>0,NA(),IF(COUNTA(移動記録!A11:H11)=0,"",IF(COUNTA(移動記録!G11)=0,"",移動記録!G11))) -> MOV-0002 | H13: =IF($L$3<>0,NA(),IF(COUNTA(移動記録!A11:H11)=0,"",移動記録!J11)) -> 15 | I13: =IF($L$3<>0,NA(),IF(COUNTA(移動記録!A11:H11)=0,"",移動記録!K11)) -> 0
A14: =IF($L$3<>0,NA(),IF(COUNTA(移動記録!A12:H12)=0,"",移動記録!A12)) -> MOV-0005 | B14: =IF($L$3<>0,NA(),IF(COUNTA(移動記録!A12:H12)=0,"",移動記録!B12)) -> 46302 | C14: =IF($L$3<>0,NA(),IF(COUNTA(移動記録!A12:H12)=0,"",移動記録!C12)) -> 出庫 | D14: =IF($L$3<>0,NA(),IF(COUNTA(移動記録!A12:H12)=0,"",IF(COUNTA(移動記録!D12)=0,"",移動記録!D12))) -> 7 | E14: =IF($L$3<>0,NA(),IF(COUNTA(移動記録!A12:H12)=0,"",移動記録!E12)) -> 取消 | F14: =IF($L$3<>0,NA(),IF(COUNTA(移動記録!A12:H12)=0,"",移動記録!F12)) -> 新規 | G14: =IF($L$3<>0,NA(),IF(COUNTA(移動記録!A12:H12)=0,"",IF(COUNTA(移動記録!G12)=0,"",移動記録!G12))) | H14: =IF($L$3<>0,NA(),IF(COUNTA(移動記録!A12:H12)=0,"",移動記録!J12)) -> 0 | I14: =IF($L$3<>0,NA(),IF(COUNTA(移動記録!A12:H12)=0,"",移動記録!K12)) -> 0
A15: =IF($L$3<>0,NA(),IF(COUNTA(移動記録!A13:H13)=0,"",移動記録!A13)) -> MOV-0006 | B15: =IF($L$3<>0,NA(),IF(COUNTA(移動記録!A13:H13)=0,"",移動記録!B13)) -> 46303 | C15: =IF($L$3<>0,NA(),IF(COUNTA(移動記録!A13:H13)=0,"",移動記録!C13)) -> 出庫 | D15: =IF($L$3<>0,NA(),IF(COUNTA(移動記録!A13:H13)=0,"",IF(COUNTA(移動記録!D13)=0,"",移動記録!D13))) -> 5 | E15: =IF($L$3<>0,NA(),IF(COUNTA(移動記録!A13:H13)=0,"",移動記録!E13)) -> 確定 | F15: =IF($L$3<>0,NA(),IF(COUNTA(移動記録!A13:H13)=0,"",移動記録!F13)) -> 訂正 | G15: =IF($L$3<>0,NA(),IF(COUNTA(移動記録!A13:H13)=0,"",IF(COUNTA(移動記録!G13)=0,"",移動記録!G13))) -> MOV-0005 | H15: =IF($L$3<>0,NA(),IF(COUNTA(移動記録!A13:H13)=0,"",移動記録!J13)) -> 0 | I15: =IF($L$3<>0,NA(),IF(COUNTA(移動記録!A13:H13)=0,"",移動記録!K13)) -> 5
A16: =IF($L$3<>0,NA(),IF(COUNTA(移動記録!A14:H14)=0,"",移動記録!A14)) -> MOV-0007 | B16: =IF($L$3<>0,NA(),IF(COUNTA(移動記録!A14:H14)=0,"",移動記録!B14)) -> 46305 | C16: =IF($L$3<>0,NA(),IF(COUNTA(移動記録!A14:H14)=0,"",移動記録!C14)) -> 入庫 | D16: =IF($L$3<>0,NA(),IF(COUNTA(移動記録!A14:H14)=0,"",IF(COUNTA(移動記録!D14)=0,"",移動記録!D14))) | E16: =IF($L$3<>0,NA(),IF(COUNTA(移動記録!A14:H14)=0,"",移動記録!E14)) -> 未確認 | F16: =IF($L$3<>0,NA(),IF(COUNTA(移動記録!A14:H14)=0,"",移動記録!F14)) -> 新規 | G16: =IF($L$3<>0,NA(),IF(COUNTA(移動記録!A14:H14)=0,"",IF(COUNTA(移動記録!G14)=0,"",移動記録!G14))) | H16: =IF($L$3<>0,NA(),IF(COUNTA(移動記録!A14:H14)=0,"",移動記録!J14)) | I16: =IF($L$3<>0,NA(),IF(COUNTA(移動記録!A14:H14)=0,"",移動記録!K14))
A17: =IF($L$3<>0,NA(),IF(COUNTA(移動記録!A15:H15)=0,"",移動記録!A15)) -> MOV-0008 | B17: =IF($L$3<>0,NA(),IF(COUNTA(移動記録!A15:H15)=0,"",移動記録!B15)) -> 46328 | C17: =IF($L$3<>0,NA(),IF(COUNTA(移動記録!A15:H15)=0,"",移動記録!C15)) -> 出庫 | D17: =IF($L$3<>0,NA(),IF(COUNTA(移動記録!A15:H15)=0,"",IF(COUNTA(移動記録!D15)=0,"",移動記録!D15))) -> 2 | E17: =IF($L$3<>0,NA(),IF(COUNTA(移動記録!A15:H15)=0,"",移動記録!E15)) -> 確定 | F17: =IF($L$3<>0,NA(),IF(COUNTA(移動記録!A15:H15)=0,"",移動記録!F15)) -> 逆移動 | G17: =IF($L$3<>0,NA(),IF(COUNTA(移動記録!A15:H15)=0,"",IF(COUNTA(移動記録!G15)=0,"",移動記録!G15))) -> MOV-0001 | H17: =IF($L$3<>0,NA(),IF(COUNTA(移動記録!A15:H15)=0,"",移動記録!J15)) | I17: =IF($L$3<>0,NA(),IF(COUNTA(移動記録!A15:H15)=0,"",移動記録!K15))
A18: =IF($L$3<>0,NA(),IF(COUNTA(移動記録!A16:H16)=0,"",移動記録!A16)) -> MOV-0009 | B18: =IF($L$3<>0,NA(),IF(COUNTA(移動記録!A16:H16)=0,"",移動記録!B16)) -> 46307 | C18: =IF($L$3<>0,NA(),IF(COUNTA(移動記録!A16:H16)=0,"",移動記録!C16)) -> 入庫 | D18: =IF($L$3<>0,NA(),IF(COUNTA(移動記録!A16:H16)=0,"",IF(COUNTA(移動記録!D16)=0,"",移動記録!D16))) -> 8 | E18: =IF($L$3<>0,NA(),IF(COUNTA(移動記録!A16:H16)=0,"",移動記録!E16)) -> 取消 | F18: =IF($L$3<>0,NA(),IF(COUNTA(移動記録!A16:H16)=0,"",移動記録!F16)) -> 逆移動 | G18: =IF($L$3<>0,NA(),IF(COUNTA(移動記録!A16:H16)=0,"",IF(COUNTA(移動記録!G16)=0,"",移動記録!G16))) -> MOV-0002 | H18: =IF($L$3<>0,NA(),IF(COUNTA(移動記録!A16:H16)=0,"",移動記録!J16)) -> 0 | I18: =IF($L$3<>0,NA(),IF(COUNTA(移動記録!A16:H16)=0,"",移動記録!K16)) -> 0
A19: =IF($L$3<>0,NA(),IF(COUNTA(移動記録!A17:H17)=0,"",移動記録!A17)) -> MOV-0010 | B19: =IF($L$3<>0,NA(),IF(COUNTA(移動記録!A17:H17)=0,"",移動記録!B17)) -> 46310 | C19: =IF($L$3<>0,NA(),IF(COUNTA(移動記録!A17:H17)=0,"",移動記録!C17)) -> 入庫 | D19: =IF($L$3<>0,NA(),IF(COUNTA(移動記録!A17:H17)=0,"",IF(COUNTA(移動記録!D17)=0,"",移動記録!D17))) -> 20 | E19: =IF($L$3<>0,NA(),IF(COUNTA(移動記録!A17:H17)=0,"",移動記録!E17)) -> 確定 | F19: =IF($L$3<>0,NA(),IF(COUNTA(移動記録!A17:H17)=0,"",移動記録!F17)) -> 新規 | G19: =IF($L$3<>0,NA(),IF(COUNTA(移動記録!A17:H17)=0,"",IF(COUNTA(移動記録!G17)=0,"",移動記録!G17))) | H19: =IF($L$3<>0,NA(),IF(COUNTA(移動記録!A17:H17)=0,"",移動記録!J17)) -> 20 | I19: =IF($L$3<>0,NA(),IF(COUNTA(移動記録!A17:H17)=0,"",移動記録!K17)) -> 0
A20: =IF($L$3<>0,NA(),IF(COUNTA(移動記録!A18:H18)=0,"",移動記録!A18)) -> MOV-0011 | B20: =IF($L$3<>0,NA(),IF(COUNTA(移動記録!A18:H18)=0,"",移動記録!B18)) -> 46315 | C20: =IF($L$3<>0,NA(),IF(COUNTA(移動記録!A18:H18)=0,"",移動記録!C18)) -> 出庫 | D20: =IF($L$3<>0,NA(),IF(COUNTA(移動記録!A18:H18)=0,"",IF(COUNTA(移動記録!D18)=0,"",移動記録!D18))) | E20: =IF($L$3<>0,NA(),IF(COUNTA(移動記録!A18:H18)=0,"",移動記録!E18)) -> 未確認 | F20: =IF($L$3<>0,NA(),IF(COUNTA(移動記録!A18:H18)=0,"",移動記録!F18)) -> 逆移動 | G20: =IF($L$3<>0,NA(),IF(COUNTA(移動記録!A18:H18)=0,"",IF(COUNTA(移動記録!G18)=0,"",移動記録!G18))) -> MOV-0010 | H20: =IF($L$3<>0,NA(),IF(COUNTA(移動記録!A18:H18)=0,"",移動記録!J18)) | I20: =IF($L$3<>0,NA(),IF(COUNTA(移動記録!A18:H18)=0,"",移動記録!K18))
A21: =IF($L$3<>0,NA(),IF(COUNTA(移動記録!A19:H19)=0,"",移動記録!A19)) -> MOV-0012 | B21: =IF($L$3<>0,NA(),IF(COUNTA(移動記録!A19:H19)=0,"",移動記録!B19)) -> 46320 | C21: =IF($L$3<>0,NA(),IF(COUNTA(移動記録!A19:H19)=0,"",移動記録!C19)) -> 入庫 | D21: =IF($L$3<>0,NA(),IF(COUNTA(移動記録!A19:H19)=0,"",IF(COUNTA(移動記録!D19)=0,"",移動記録!D19))) -> 1 | E21: =IF($L$3<>0,NA(),IF(COUNTA(移動記録!A19:H19)=0,"",移動記録!E19)) -> 取消 | F21: =IF($L$3<>0,NA(),IF(COUNTA(移動記録!A19:H19)=0,"",移動記録!F19)) -> 新規 | G21: =IF($L$3<>0,NA(),IF(COUNTA(移動記録!A19:H19)=0,"",IF(COUNTA(移動記録!G19)=0,"",移動記録!G19))) | H21: =IF($L$3<>0,NA(),IF(COUNTA(移動記録!A19:H19)=0,"",移動記録!J19)) -> 0 | I21: =IF($L$3<>0,NA(),IF(COUNTA(移動記録!A19:H19)=0,"",移動記録!K19)) -> 0
... A109: =IF($L$3<>0,NA(),IF(COUNTA(移動記録!A107:H107)=0,"",移動記録!A107)) | B109: =IF($L$3<>0,NA(),IF(COUNTA(移動記録!A107:H107)=0,"",移動記録!B107)) | C109: =IF($L$3<>0,NA(),IF(COUNTA(移動記録!A107:H107)=0,"",移動記録!C107)) | D109: =IF($L$3<>0,NA(),IF(COUNTA(移動記録!A107:H107)=0,"",IF(COUNTA(移動記録!D107)=0,"",移動記録!D107))) | E109: =IF($L$3<>0,NA(),IF(COUNTA(移動記録!A107:H107)=0,"",移動記録!E107)) | F109: =IF($L$3<>0,NA(),IF(COUNTA(移動記録!A107:H107)=0,"",移動記録!F107)) | G109: =IF($L$3<>0,NA(),IF(COUNTA(移動記録!A107:H107)=0,"",IF(COUNTA(移動記録!G107)=0,"",移動記録!G107))) | H109: =IF($L$3<>0,NA(),IF(COUNTA(移動記録!A107:H107)=0,"",移動記録!J107)) | I109: =IF($L$3<>0,NA(),IF(COUNTA(移動記録!A107:H107)=0,"",移動記録!K107))

Sheet 移動記録
A2: 1品目の元記録と参照関係を残す
A3: 黄色A〜Hへ100記録。MOV-と半角数字4桁。新規は参照空欄、訂正/逆移動は元IDを必ず残します。
A5: 参照元は自分より小さいID。訂正は取消済の元記録へ、逆移動は有効な元移動へ。未確認の数量は空欄。
A7: 記録ID | B7: 発生日 | C7: 入出区分 | D7: 記録数量（個） | E7: 状態 | F7: 種別 | G7: 参照元ID | H7: 記録確認日 | I7: 対象期間内 | J7: 対象確定入庫 | K7: 対象確定出庫 | L7: 対象未確認 | M7: 入力の確認 | N7: 入力不備 | O7: 計算の前提
A8: MOV-0001 | B8: 46295 | C8: 入庫 | D8: 100 | E8: 確定 | F8: 新規 | H8: 46296 | I8: =IF(M8="","",IF(N8<>0,NA(),IF(AND(B8>=入出庫集計!$B$3,B8<=入出庫集計!$E$3),1,0))) -> 0 | J8: =IF(M8="","",IF(N8<>0,NA(),IF(I8<>1,"",IF(E8="未確認","",IF(AND(E8="確定",C8="入庫"),D8,0))))) | K8: =IF(M8="","",IF(N8<>0,NA(),IF(I8<>1,"",IF(E8="未確認","",IF(AND(E8="確定",C8="出庫"),D8,0))))) | L8: =IF(M8="","",IF(N8<>0,NA(),IF(AND(I8=1,E8="未確認"),1,0))) -> 0 | M8: =IF(COUNTA(A8:H8)=0,"",IF(NOT(AND(ISTEXT(A8),LEN(A8)=8,EXACT(LEFT(A8,4),"MOV-"),ISNUMBER(FIND(MID(A8,5,1)&"x","0x1x2x3x4x5x6x7x8x9x")),ISNUMBER(FIND(MID(A8,6,1)&"x","0x1x2x3x4x5x6x7x8x9x")),ISNUMBER(FIND(MID(A8,7,1)&"x","0x1x2x3x4x5x6x7x8x9x")),ISNUMBER(FIND(MID(A8,8,1)&"x","0x1x2x3x4x5x6x7x8x9x")))),"IDはMOV-と半角数字4桁",IF(COUNTIFS($A$8:$A$107,A8)>1,"記録IDが重複",IF(NOT(IF(ISNUMBER(B8),AND(B8>=43831,B8<73051,B8=INT(B8)),FALSE())),"発生日は時刻なしで必須",IF(NOT(OR(C8="入庫",C8="出庫")),"入出区分を確認",IF(NOT(OR(E8="確定",E8="取消",E8="未確認")),"状態を確認",IF(NOT(OR(F8="新規",F8="訂正",F8="逆移動")),"種別を確認",IF(AND(E8<>"未確認",NOT(IF(ISNUMBER(D8),AND(D8>=1,D8<=1000000,D8=INT(D8)),FALSE()))),"確定/取消の数量は1〜100万個の整数",IF(AND(E8="未確認",COUNTA(D8)>0),"未確認の数量は空欄",IF(NOT(IF(ISNUMBER(H8),AND(H8>=43831,H8<73051,H8=INT(H8)),FALSE())),"記録確認日は時刻なしで必須",IF(OR(B8>H8,H8>入出庫集計!$B$4),"発生日≦確認日≦基準日を確認",IF(AND(F8="新規",COUNTA(G8)>0),"新規の参照元は空欄",IF(AND(F8<>"新規",NOT(AND(ISTEXT(G8),LEN(G8)=8,EXACT(LEFT(G8,4),"MOV-"),ISNUMBER(FIND(MID(G8,5,1)&"x","0x1x2x3x4x5x6x7x8x9x")),ISNUMBER(FIND(MID(G8,6,1)&"x","0x1x2x3x4x5x6x7x8x9x")),ISNUMBER(FIND(MID(G8,7,1)&"x","0x1x2x3x4x5x6x7x8x9x")),ISNUMBER(FIND(MID(G8,8,1)&"x","0x1x2x3x4x5x6x7x8x9x"))))),"訂正/逆移動の参照元IDが必須",IF(AND(F8<>"新規",G8>=A8),"参照元は自分より小さいID",IF(AND(F8<>"新規",COUNTIFS($A$8:$A$107,G8)<>1),"参照元が一意にありません",IF(AND(F8<>"新規",COUNTIFS($A$8:$A$107,G8,$F$8:$F$107,"新規")+COUNTIFS($A$8:$A$107,G8,$F$8:$F$107,"訂正")<>1),"逆移動を訂正/逆移動の元にできません",IF(AND(F8="訂正",COUNTIFS($A$8:$A$107,G8,$E$8:$E$107,"取消")<>1),"訂正の参照元は取消済が必要",IF(AND(F8="訂正",COUNTIFS($F$8:$F$107,"訂正",$G$8:$G$107,G8)>1),"同じ元記録への訂正は1行まで",IF(AND(F8="逆移動",E8<>"取消",COUNTIFS($A$8:$A$107,G8,$E$8:$E$107,"確定")<>1),"有効な逆移動の元は確定が必要",IF(AND(F8="逆移動",E8="取消",COUNTIFS($A$8:$A$107,G8,$E$8:$E$107,"確定")+COUNTIFS($A$8:$A$107,G8,$E$8:$E$107,"取消")<>1),"取消済の逆移動も元の状態を確認",IF(AND(F8="逆移動",COUNTIFS($A$8:$A$107,G8,$C$8:$C$107,"<>"&C8)<>1),"逆移動は元と反対の入出区分",IF(AND(F8="逆移動",B8<SUMIFS($B$8:$B$107,$A$8:$A$107,G8)),"逆移動日が元より前",IF(AND(F8="逆移動",SUMIFS($D$8:$D$107,$F$8:$F$107,"逆移動",$G$8:$G$107,G8,$E$8:$E$107,"確定")>SUMIFS($D$8:$D$107,$A$8:$A$107,G8)),"確定逆移動の合計が元数量を超過","確認済み"))))))))))))))))))))))) -> 確認済み | N8: =IF(M8="","",IF(M8="確認済み",0,1)) -> 0 | O8: =IF(COUNTA(A8:H8)=0,IF(AND(M8="",N8="",I8="",J8="",K8="",L8=""),0,1),IF(NOT(AND(ISTEXT(M8),M8=IF(COUNTA(A8:H8)=0,"",IF(NOT(AND(ISTEXT(A8),LEN(A8)=8,EXACT(LEFT(A8,4),"MOV-"),ISNUMBER(FIND(MID(A8,5,1)&"x","0x1x2x3x4x5x6x7x8x9x")),ISNUMBER(FIND(MID(A8,6,1)&"x","0x1x2x3x4x5x6x7x8x9x")),ISNUMBER(FIND(MID(A8,7,1)&"x","0x1x2x3x4x5x6x7x8x9x")),ISNUMBER(FIND(MID(A8,8,1)&"x","0x1x2x3x4x5x6x7x8x9x")))),"IDはMOV-と半角数字4桁",IF(COUNTIFS($A$8:$A$107,A8)>1,"記録IDが重複",IF(NOT(IF(ISNUMBER(B8),AND(B8>=43831,B8<73051,B8=INT(B8)),FALSE())),"発生日は時刻なしで必須",IF(NOT(OR(C8="入庫",C8="出庫")),"入出区分を確認",IF(NOT(OR(E8="確定",E8="取消",E8="未確認")),"状態を確認",IF(NOT(OR(F8="新規",F8="訂正",F8="逆移動")),"種別を確認",IF(AND(E8<>"未確認",NOT(IF(ISNUMBER(D8),AND(D8>=1,D8<=1000000,D8=INT(D8)),FALSE()))),"確定/取消の数量は1〜100万個の整数",IF(AND(E8="未確認",COUNTA(D8)>0),"未確認の数量は空欄",IF(NOT(IF(ISNUMBER(H8),AND(H8>=43831,H8<73051,H8=INT(H8)),FALSE())),"記録確認日は時刻なしで必須",IF(OR(B8>H8,H8>入出庫集計!$B$4),"発生日≦確認日≦基準日を確認",IF(AND(F8="新規",COUNTA(G8)>0),"新規の参照元は空欄",IF(AND(F8<>"新規",NOT(AND(ISTEXT(G8),LEN(G8)=8,EXACT(LEFT(G8,4),"MOV-"),ISNUMBER(FIND(MID(G8,5,1)&"x","0x1x2x3x4x5x6x7x8x9x")),ISNUMBER(FIND(MID(G8,6,1)&"x","0x1x2x3x4x5x6x7x8x9x")),ISNUMBER(FIND(MID(G8,7,1)&"x","0x1x2x3x4x5x6x7x8x9x")),ISNUMBER(FIND(MID(G8,8,1)&"x","0x1x2x3x4x5x6x7x8x9x"))))),"訂正/逆移動の参照元IDが必須",IF(AND(F8<>"新規",G8>=A8),"参照元は自分より小さいID",IF(AND(F8<>"新規",COUNTIFS($A$8:$A$107,G8)<>1),"参照元が一意にありません",IF(AND(F8<>"新規",COUNTIFS($A$8:$A$107,G8,$F$8:$F$107,"新規")+COUNTIFS($A$8:$A$107,G8,$F$8:$F$107,"訂正")<>1),"逆移動を訂正/逆移動の元にできません",IF(AND(F8="訂正",COUNTIFS($A$8:$A$107,G8,$E$8:$E$107,"取消")<>1),"訂正の参照元は取消済が必要",IF(AND(F8="訂正",COUNTIFS($F$8:$F$107,"訂正",$G$8:$G$107,G8)>1),"同じ元記録への訂正は1行まで",IF(AND(F8="逆移動",E8<>"取消",COUNTIFS($A$8:$A$107,G8,$E$8:$E$107,"確定")<>1),"有効な逆移動の元は確定が必要",IF(AND(F8="逆移動",E8="取消",COUNTIFS($A$8:$A$107,G8,$E$8:$E$107,"確定")+COUNTIFS($A$8:$A$107,G8,$E$8:$E$107,"取消")<>1),"取消済の逆移動も元の状態を確認",IF(AND(F8="逆移動",COUNTIFS($A$8:$A$107,G8,$C$8:$C$107,"<>"&C8)<>1),"逆移動は元と反対の入出区分",IF(AND(F8="逆移動",B8<SUMIFS($B$8:$B$107,$A$8:$A$107,G8)),"逆移動日が元より前",IF(AND(F8="逆移動",SUMIFS($D$8:$D$107,$F$8:$F$107,"逆移動",$G$8:$G$107,G8,$E$8:$E$107,"確定")>SUMIFS($D$8:$D$107,$A$8:$A$107,G8)),"確定逆移動の合計が元数量を超過","確認済み"))))))))))))))))))))))),ISNUMBER(N8),N8=IF(M8="確認済み",0,1))),1,IF(N8<>0,0,IF(AND(ISNUMBER(I8),I8=IF(AND(B8>=入出庫集計!$B$3,B8<=入出庫集計!$E$3),1,0),IF(OR(I8<>1,E8="未確認"),ISTEXT(J8),ISNUMBER(J8)),J8=IF(I8<>1,"",IF(E8="未確認","",IF(AND(E8="確定",C8="入庫"),D8,0))),IF(OR(I8<>1,E8="未確認"),ISTEXT(K8),ISNUMBER(K8)),K8=IF(I8<>1,"",IF(E8="未確認","",IF(AND(E8="確定",C8="出庫"),D8,0))),ISNUMBER(L8),L8=IF(AND(I8=1,E8="未確認"),1,0)),0,1)))) -> 0
A9: MOV-0002 | B9: 46297 | C9: 出庫 | D9: 40 | E9: 確定 | F9: 新規 | H9: 46297 | I9: =IF(M9="","",IF(N9<>0,NA(),IF(AND(B9>=入出庫集計!$B$3,B9<=入出庫集計!$E$3),1,0))) -> 1 | J9: =IF(M9="","",IF(N9<>0,NA(),IF(I9<>1,"",IF(E9="未確認","",IF(AND(E9="確定",C9="入庫"),D9,0))))) -> 0 | K9: =IF(M9="","",IF(N9<>0,NA(),IF(I9<>1,"",IF(E9="未確認","",IF(AND(E9="確定",C9="出庫"),D9,0))))) -> 40 | L9: =IF(M9="","",IF(N9<>0,NA(),IF(AND(I9=1,E9="未確認"),1,0))) -> 0 | M9: =IF(COUNTA(A9:H9)=0,"",IF(NOT(AND(ISTEXT(A9),LEN(A9)=8,EXACT(LEFT(A9,4),"MOV-"),ISNUMBER(FIND(MID(A9,5,1)&"x","0x1x2x3x4x5x6x7x8x9x")),ISNUMBER(FIND(MID(A9,6,1)&"x","0x1x2x3x4x5x6x7x8x9x")),ISNUMBER(FIND(MID(A9,7,1)&"x","0x1x2x3x4x5x6x7x8x9x")),ISNUMBER(FIND(MID(A9,8,1)&"x","0x1x2x3x4x5x6x7x8x9x")))),"IDはMOV-と半角数字4桁",IF(COUNTIFS($A$8:$A$107,A9)>1,"記録IDが重複",IF(NOT(IF(ISNUMBER(B9),AND(B9>=43831,B9<73051,B9=INT(B9)),FALSE())),"発生日は時刻なしで必須",IF(NOT(OR(C9="入庫",C9="出庫")),"入出区分を確認",IF(NOT(OR(E9="確定",E9="取消",E9="未確認")),"状態を確認",IF(NOT(OR(F9="新規",F9="訂正",F9="逆移動")),"種別を確認",IF(AND(E9<>"未確認",NOT(IF(ISNUMBER(D9),AND(D9>=1,D9<=1000000,D9=INT(D9)),FALSE()))),"確定/取消の数量は1〜100万個の整数",IF(AND(E9="未確認",COUNTA(D9)>0),"未確認の数量は空欄",IF(NOT(IF(ISNUMBER(H9),AND(H9>=43831,H9<73051,H9=INT(H9)),FALSE())),"記録確認日は時刻なしで必須",IF(OR(B9>H9,H9>入出庫集計!$B$4),"発生日≦確認日≦基準日を確認",IF(AND(F9="新規",COUNTA(G9)>0),"新規の参照元は空欄",IF(AND(F9<>"新規",NOT(AND(ISTEXT(G9),LEN(G9)=8,EXACT(LEFT(G9,4),"MOV-"),ISNUMBER(FIND(MID(G9,5,1)&"x","0x1x2x3x4x5x6x7x8x9x")),ISNUMBER(FIND(MID(G9,6,1)&"x","0x1x2x3x4x5x6x7x8x9x")),ISNUMBER(FIND(MID(G9,7,1)&"x","0x1x2x3x4x5x6x7x8x9x")),ISNUMBER(FIND(MID(G9,8,1)&"x","0x1x2x3x4x5x6x7x8x9x"))))),"訂正/逆移動の参照元IDが必須",IF(AND(F9<>"新規",G9>=A9),"参照元は自分より小さいID",IF(AND(F9<>"新規",COUNTIFS($A$8:$A$107,G9)<>1),"参照元が一意にありません",IF(AND(F9<>"新規",COUNTIFS($A$8:$A$107,G9,$F$8:$F$107,"新規")+COUNTIFS($A$8:$A$107,G9,$F$8:$F$107,"訂正")<>1),"逆移動を訂正/逆移動の元にできません",IF(AND(F9="訂正",COUNTIFS($A$8:$A$107,G9,$E$8:$E$107,"取消")<>1),"訂正の参照元は取消済が必要",IF(AND(F9="訂正",COUNTIFS($F$8:$F$107,"訂正",$G$8:$G$107,G9)>1),"同じ元記録への訂正は1行まで",IF(AND(F9="逆移動",E9<>"取消",COUNTIFS($A$8:$A$107,G9,$E$8:$E$107,"確定")<>1),"有効な逆移動の元は確定が必要",IF(AND(F9="逆移動",E9="取消",COUNTIFS($A$8:$A$107,G9,$E$8:$E$107,"確定")+COUNTIFS($A$8:$A$107,G9,$E$8:$E$107,"取消")<>1),"取消済の逆移動も元の状態を確認",IF(AND(F9="逆移動",COUNTIFS($A$8:$A$107,G9,$C$8:$C$107,"<>"&C9)<>1),"逆移動は元と反対の入出区分",IF(AND(F9="逆移動",B9<SUMIFS($B$8:$B$107,$A$8:$A$107,G9)),"逆移動日が元より前",IF(AND(F9="逆移動",SUMIFS($D$8:$D$107,$F$8:$F$107,"逆移動",$G$8:$G$107,G9,$E$8:$E$107,"確定")>SUMIFS($D$8:$D$107,$A$8:$A$107,G9)),"確定逆移動の合計が元数量を超過","確認済み"))))))))))))))))))))))) -> 確認済み | N9: =IF(M9="","",IF(M9="確認済み",0,1)) -> 0 | O9: =IF(COUNTA(A9:H9)=0,IF(AND(M9="",N9="",I9="",J9="",K9="",L9=""),0,1),IF(NOT(AND(ISTEXT(M9),M9=IF(COUNTA(A9:H9)=0,"",IF(NOT(AND(ISTEXT(A9),LEN(A9)=8,EXACT(LEFT(A9,4),"MOV-"),ISNUMBER(FIND(MID(A9,5,1)&"x","0x1x2x3x4x5x6x7x8x9x")),ISNUMBER(FIND(MID(A9,6,1)&"x","0x1x2x3x4x5x6x7x8x9x")),ISNUMBER(FIND(MID(A9,7,1)&"x","0x1x2x3x4x5x6x7x8x9x")),ISNUMBER(FIND(MID(A9,8,1)&"x","0x1x2x3x4x5x6x7x8x9x")))),"IDはMOV-と半角数字4桁",IF(COUNTIFS($A$8:$A$107,A9)>1,"記録IDが重複",IF(NOT(IF(ISNUMBER(B9),AND(B9>=43831,B9<73051,B9=INT(B9)),FALSE())),"発生日は時刻なしで必須",IF(NOT(OR(C9="入庫",C9="出庫")),"入出区分を確認",IF(NOT(OR(E9="確定",E9="取消",E9="未確認")),"状態を確認",IF(NOT(OR(F9="新規",F9="訂正",F9="逆移動")),"種別を確認",IF(AND(E9<>"未確認",NOT(IF(ISNUMBER(D9),AND(D9>=1,D9<=1000000,D9=INT(D9)),FALSE()))),"確定/取消の数量は1〜100万個の整数",IF(AND(E9="未確認",COUNTA(D9)>0),"未確認の数量は空欄",IF(NOT(IF(ISNUMBER(H9),AND(H9>=43831,H9<73051,H9=INT(H9)),FALSE())),"記録確認日は時刻なしで必須",IF(OR(B9>H9,H9>入出庫集計!$B$4),"発生日≦確認日≦基準日を確認",IF(AND(F9="新規",COUNTA(G9)>0),"新規の参照元は空欄",IF(AND(F9<>"新規",NOT(AND(ISTEXT(G9),LEN(G9)=8,EXACT(LEFT(G9,4),"MOV-"),ISNUMBER(FIND(MID(G9,5,1)&"x","0x1x2x3x4x5x6x7x8x9x")),ISNUMBER(FIND(MID(G9,6,1)&"x","0x1x2x3x4x5x6x7x8x9x")),ISNUMBER(FIND(MID(G9,7,1)&"x","0x1x2x3x4x5x6x7x8x9x")),ISNUMBER(FIND(MID(G9,8,1)&"x","0x1x2x3x4x5x6x7x8x9x"))))),"訂正/逆移動の参照元IDが必須",IF(AND(F9<>"新規",G9>=A9),"参照元は自分より小さいID",IF(AND(F9<>"新規",COUNTIFS($A$8:$A$107,G9)<>1),"参照元が一意にありません",IF(AND(F9<>"新規",COUNTIFS($A$8:$A$107,G9,$F$8:$F$107,"新規")+COUNTIFS($A$8:$A$107,G9,$F$8:$F$107,"訂正")<>1),"逆移動を訂正/逆移動の元にできません",IF(AND(F9="訂正",COUNTIFS($A$8:$A$107,G9,$E$8:$E$107,"取消")<>1),"訂正の参照元は取消済が必要",IF(AND(F9="訂正",COUNTIFS($F$8:$F$107,"訂正",$G$8:$G$107,G9)>1),"同じ元記録への訂正は1行まで",IF(AND(F9="逆移動",E9<>"取消",COUNTIFS($A$8:$A$107,G9,$E$8:$E$107,"確定")<>1),"有効な逆移動の元は確定が必要",IF(AND(F9="逆移動",E9="取消",COUNTIFS($A$8:$A$107,G9,$E$8:$E$107,"確定")+COUNTIFS($A$8:$A$107,G9,$E$8:$E$107,"取消")<>1),"取消済の逆移動も元の状態を確認",IF(AND(F9="逆移動",COUNTIFS($A$8:$A$107,G9,$C$8:$C$107,"<>"&C9)<>1),"逆移動は元と反対の入出区分",IF(AND(F9="逆移動",B9<SUMIFS($B$8:$B$107,$A$8:$A$107,G9)),"逆移動日が元より前",IF(AND(F9="逆移動",SUMIFS($D$8:$D$107,$F$8:$F$107,"逆移動",$G$8:$G$107,G9,$E$8:$E$107,"確定")>SUMIFS($D$8:$D$107,$A$8:$A$107,G9)),"確定逆移動の合計が元数量を超過","確認済み"))))))))))))))))))))))),ISNUMBER(N9),N9=IF(M9="確認済み",0,1))),1,IF(N9<>0,0,IF(AND(ISNUMBER(I9),I9=IF(AND(B9>=入出庫集計!$B$3,B9<=入出庫集計!$E$3),1,0),IF(OR(I9<>1,E9="未確認"),ISTEXT(J9),ISNUMBER(J9)),J9=IF(I9<>1,"",IF(E9="未確認","",IF(AND(E9="確定",C9="入庫"),D9,0))),IF(OR(I9<>1,E9="未確認"),ISTEXT(K9),ISNUMBER(K9)),K9=IF(I9<>1,"",IF(E9="未確認","",IF(AND(E9="確定",C9="出庫"),D9,0))),ISNUMBER(L9),L9=IF(AND(I9=1,E9="未確認"),1,0)),0,1)))) -> 0
A10: MOV-0003 | B10: 46300 | C10: 入庫 | D10: 10 | E10: 確定 | F10: 逆移動 | G10: MOV-0002 | H10: 46300 | I10: =IF(M10="","",IF(N10<>0,NA(),IF(AND(B10>=入出庫集計!$B$3,B10<=入出庫集計!$E$3),1,0))) -> 1 | J10: =IF(M10="","",IF(N10<>0,NA(),IF(I10<>1,"",IF(E10="未確認","",IF(AND(E10="確定",C10="入庫"),D10,0))))) -> 10 | K10: =IF(M10="","",IF(N10<>0,NA(),IF(I10<>1,"",IF(E10="未確認","",IF(AND(E10="確定",C10="出庫"),D10,0))))) -> 0 | L10: =IF(M10="","",IF(N10<>0,NA(),IF(AND(I10=1,E10="未確認"),1,0))) -> 0 | M10: =IF(COUNTA(A10:H10)=0,"",IF(NOT(AND(ISTEXT(A10),LEN(A10)=8,EXACT(LEFT(A10,4),"MOV-"),ISNUMBER(FIND(MID(A10,5,1)&"x","0x1x2x3x4x5x6x7x8x9x")),ISNUMBER(FIND(MID(A10,6,1)&"x","0x1x2x3x4x5x6x7x8x9x")),ISNUMBER(FIND(MID(A10,7,1)&"x","0x1x2x3x4x5x6x7x8x9x")),ISNUMBER(FIND(MID(A10,8,1)&"x","0x1x2x3x4x5x6x7x8x9x")))),"IDはMOV-と半角数字4桁",IF(COUNTIFS($A$8:$A$107,A10)>1,"記録IDが重複",IF(NOT(IF(ISNUMBER(B10),AND(B10>=43831,B10<73051,B10=INT(B10)),FALSE())),"発生日は時刻なしで必須",IF(NOT(OR(C10="入庫",C10="出庫")),"入出区分を確認",IF(NOT(OR(E10="確定",E10="取消",E10="未確認")),"状態を確認",IF(NOT(OR(F10="新規",F10="訂正",F10="逆移動")),"種別を確認",IF(AND(E10<>"未確認",NOT(IF(ISNUMBER(D10),AND(D10>=1,D10<=1000000,D10=INT(D10)),FALSE()))),"確定/取消の数量は1〜100万個の整数",IF(AND(E10="未確認",COUNTA(D10)>0),"未確認の数量は空欄",IF(NOT(IF(ISNUMBER(H10),AND(H10>=43831,H10<73051,H10=INT(H10)),FALSE())),"記録確認日は時刻なしで必須",IF(OR(B10>H10,H10>入出庫集計!$B$4),"発生日≦確認日≦基準日を確認",IF(AND(F10="新規",COUNTA(G10)>0),"新規の参照元は空欄",IF(AND(F10<>"新規",NOT(AND(ISTEXT(G10),LEN(G10)=8,EXACT(LEFT(G10,4),"MOV-"),ISNUMBER(FIND(MID(G10,5,1)&"x","0x1x2x3x4x5x6x7x8x9x")),ISNUMBER(FIND(MID(G10,6,1)&"x","0x1x2x3x4x5x6x7x8x9x")),ISNUMBER(FIND(MID(G10,7,1)&"x","0x1x2x3x4x5x6x7x8x9x")),ISNUMBER(FIND(MID(G10,8,1)&"x","0x1x2x3x4x5x6x7x8x9x"))))),"訂正/逆移動の参照元IDが必須",IF(AND(F10<>"新規",G10>=A10),"参照元は自分より小さいID",IF(AND(F10<>"新規",COUNTIFS($A$8:$A$107,G10)<>1),"参照元が一意にありません",IF(AND(F10<>"新規",COUNTIFS($A$8:$A$107,G10,$F$8:$F$107,"新規")+COUNTIFS($A$8:$A$107,G10,$F$8:$F$107,"訂正")<>1),"逆移動を訂正/逆移動の元にできません",IF(AND(F10="訂正",COUNTIFS($A$8:$A$107,G10,$E$8:$E$107,"取消")<>1),"訂正の参照元は取消済が必要",IF(AND(F10="訂正",COUNTIFS($F$8:$F$107,"訂正",$G$8:$G$107,G10)>1),"同じ元記録への訂正は1行まで",IF(AND(F10="逆移動",E10<>"取消",COUNTIFS($A$8:$A$107,G10,$E$8:$E$107,"確定")<>1),"有効な逆移動の元は確定が必要",IF(AND(F10="逆移動",E10="取消",COUNTIFS($A$8:$A$107,G10,$E$8:$E$107,"確定")+COUNTIFS($A$8:$A$107,G10,$E$8:$E$107,"取消")<>1),"取消済の逆移動も元の状態を確認",IF(AND(F10="逆移動",COUNTIFS($A$8:$A$107,G10,$C$8:$C$107,"<>"&C10)<>1),"逆移動は元と反対の入出区分",IF(AND(F10="逆移動",B10<SUMIFS($B$8:$B$107,$A$8:$A$107,G10)),"逆移動日が元より前",IF(AND(F10="逆移動",SUMIFS($D$8:$D$107,$F$8:$F$107,"逆移動",$G$8:$G$107,G10,$E$8:$E$107,"確定")>SUMIFS($D$8:$D$107,$A$8:$A$107,G10)),"確定逆移動の合計が元数量を超過","確認済み"))))))))))))))))))))))) -> 確認済み | N10: =IF(M10="","",IF(M10="確認済み",0,1)) -> 0 | O10: =IF(COUNTA(A10:H10)=0,IF(AND(M10="",N10="",I10="",J10="",K10="",L10=""),0,1),IF(NOT(AND(ISTEXT(M10),M10=IF(COUNTA(A10:H10)=0,"",IF(NOT(AND(ISTEXT(A10),LEN(A10)=8,EXACT(LEFT(A10,4),"MOV-"),ISNUMBER(FIND(MID(A10,5,1)&"x","0x1x2x3x4x5x6x7x8x9x")),ISNUMBER(FIND(MID(A10,6,1)&"x","0x1x2x3x4x5x6x7x8x9x")),ISNUMBER(FIND(MID(A10,7,1)&"x","0x1x2x3x4x5x6x7x8x9x")),ISNUMBER(FIND(MID(A10,8,1)&"x","0x1x2x3x4x5x6x7x8x9x")))),"IDはMOV-と半角数字4桁",IF(COUNTIFS($A$8:$A$107,A10)>1,"記録IDが重複",IF(NOT(IF(ISNUMBER(B10),AND(B10>=43831,B10<73051,B10=INT(B10)),FALSE())),"発生日は時刻なしで必須",IF(NOT(OR(C10="入庫",C10="出庫")),"入出区分を確認",IF(NOT(OR(E10="確定",E10="取消",E10="未確認")),"状態を確認",IF(NOT(OR(F10="新規",F10="訂正",F10="逆移動")),"種別を確認",IF(AND(E10<>"未確認",NOT(IF(ISNUMBER(D10),AND(D10>=1,D10<=1000000,D10=INT(D10)),FALSE()))),"確定/取消の数量は1〜100万個の整数",IF(AND(E10="未確認",COUNTA(D10)>0),"未確認の数量は空欄",IF(NOT(IF(ISNUMBER(H10),AND(H10>=43831,H10<73051,H10=INT(H10)),FALSE())),"記録確認日は時刻なしで必須",IF(OR(B10>H10,H10>入出庫集計!$B$4),"発生日≦確認日≦基準日を確認",IF(AND(F10="新規",COUNTA(G10)>0),"新規の参照元は空欄",IF(AND(F10<>"新規",NOT(AND(ISTEXT(G10),LEN(G10)=8,EXACT(LEFT(G10,4),"MOV-"),ISNUMBER(FIND(MID(G10,5,1)&"x","0x1x2x3x4x5x6x7x8x9x")),ISNUMBER(FIND(MID(G10,6,1)&"x","0x1x2x3x4x5x6x7x8x9x")),ISNUMBER(FIND(MID(G10,7,1)&"x","0x1x2x3x4x5x6x7x8x9x")),ISNUMBER(FIND(MID(G10,8,1)&"x","0x1x2x3x4x5x6x7x8x9x"))))),"訂正/逆移動の参照元IDが必須",IF(AND(F10<>"新規",G10>=A10),"参照元は自分より小さいID",IF(AND(F10<>"新規",COUNTIFS($A$8:$A$107,G10)<>1),"参照元が一意にありません",IF(AND(F10<>"新規",COUNTIFS($A$8:$A$107,G10,$F$8:$F$107,"新規")+COUNTIFS($A$8:$A$107,G10,$F$8:$F$107,"訂正")<>1),"逆移動を訂正/逆移動の元にできません",IF(AND(F10="訂正",COUNTIFS($A$8:$A$107,G10,$E$8:$E$107,"取消")<>1),"訂正の参照元は取消済が必要",IF(AND(F10="訂正",COUNTIFS($F$8:$F$107,"訂正",$G$8:$G$107,G10)>1),"同じ元記録への訂正は1行まで",IF(AND(F10="逆移動",E10<>"取消",COUNTIFS($A$8:$A$107,G10,$E$8:$E$107,"確定")<>1),"有効な逆移動の元は確定が必要",IF(AND(F10="逆移動",E10="取消",COUNTIFS($A$8:$A$107,G10,$E$8:$E$107,"確定")+COUNTIFS($A$8:$A$107,G10,$E$8:$E$107,"取消")<>1),"取消済の逆移動も元の状態を確認",IF(AND(F10="逆移動",COUNTIFS($A$8:$A$107,G10,$C$8:$C$107,"<>"&C10)<>1),"逆移動は元と反対の入出区分",IF(AND(F10="逆移動",B10<SUMIFS($B$8:$B$107,$A$8:$A$107,G10)),"逆移動日が元より前",IF(AND(F10="逆移動",SUMIFS($D$8:$D$107,$F$8:$F$107,"逆移動",$G$8:$G$107,G10,$E$8:$E$107,"確定")>SUMIFS($D$8:$D$107,$A$8:$A$107,G10)),"確定逆移動の合計が元数量を超過","確認済み"))))))))))))))))))))))),ISNUMBER(N10),N10=IF(M10="確認済み",0,1))),1,IF(N10<>0,0,IF(AND(ISNUMBER(I10),I10=IF(AND(B10>=入出庫集計!$B$3,B10<=入出庫集計!$E$3),1,0),IF(OR(I10<>1,E10="未確認"),ISTEXT(J10),ISNUMBER(J10)),J10=IF(I10<>1,"",IF(E10="未確認","",IF(AND(E10="確定",C10="入庫"),D10,0))),IF(OR(I10<>1,E10="未確認"),ISTEXT(K10),ISNUMBER(K10)),K10=IF(I10<>1,"",IF(E10="未確認","",IF(AND(E10="確定",C10="出庫"),D10,0))),ISNUMBER(L10),L10=IF(AND(I10=1,E10="未確認"),1,0)),0,1)))) -> 0
A11: MOV-0004 | B11: 46301 | C11: 入庫 | D11: 15 | E11: 確定 | F11: 逆移動 | G11: MOV-0002 | H11: 46301 | I11: =IF(M11="","",IF(N11<>0,NA(),IF(AND(B11>=入出庫集計!$B$3,B11<=入出庫集計!$E$3),1,0))) -> 1 | J11: =IF(M11="","",IF(N11<>0,NA(),IF(I11<>1,"",IF(E11="未確認","",IF(AND(E11="確定",C11="入庫"),D11,0))))) -> 15 | K11: =IF(M11="","",IF(N11<>0,NA(),IF(I11<>1,"",IF(E11="未確認","",IF(AND(E11="確定",C11="出庫"),D11,0))))) -> 0 | L11: =IF(M11="","",IF(N11<>0,NA(),IF(AND(I11=1,E11="未確認"),1,0))) -> 0 | M11: =IF(COUNTA(A11:H11)=0,"",IF(NOT(AND(ISTEXT(A11),LEN(A11)=8,EXACT(LEFT(A11,4),"MOV-"),ISNUMBER(FIND(MID(A11,5,1)&"x","0x1x2x3x4x5x6x7x8x9x")),ISNUMBER(FIND(MID(A11,6,1)&"x","0x1x2x3x4x5x6x7x8x9x")),ISNUMBER(FIND(MID(A11,7,1)&"x","0x1x2x3x4x5x6x7x8x9x")),ISNUMBER(FIND(MID(A11,8,1)&"x","0x1x2x3x4x5x6x7x8x9x")))),"IDはMOV-と半角数字4桁",IF(COUNTIFS($A$8:$A$107,A11)>1,"記録IDが重複",IF(NOT(IF(ISNUMBER(B11),AND(B11>=43831,B11<73051,B11=INT(B11)),FALSE())),"発生日は時刻なしで必須",IF(NOT(OR(C11="入庫",C11="出庫")),"入出区分を確認",IF(NOT(OR(E11="確定",E11="取消",E11="未確認")),"状態を確認",IF(NOT(OR(F11="新規",F11="訂正",F11="逆移動")),"種別を確認",IF(AND(E11<>"未確認",NOT(IF(ISNUMBER(D11),AND(D11>=1,D11<=1000000,D11=INT(D11)),FALSE()))),"確定/取消の数量は1〜100万個の整数",IF(AND(E11="未確認",COUNTA(D11)>0),"未確認の数量は空欄",IF(NOT(IF(ISNUMBER(H11),AND(H11>=43831,H11<73051,H11=INT(H11)),FALSE())),"記録確認日は時刻なしで必須",IF(OR(B11>H11,H11>入出庫集計!$B$4),"発生日≦確認日≦基準日を確認",IF(AND(F11="新規",COUNTA(G11)>0),"新規の参照元は空欄",IF(AND(F11<>"新規",NOT(AND(ISTEXT(G11),LEN(G11)=8,EXACT(LEFT(G11,4),"MOV-"),ISNUMBER(FIND(MID(G11,5,1)&"x","0x1x2x3x4x5x6x7x8x9x")),ISNUMBER(FIND(MID(G11,6,1)&"x","0x1x2x3x4x5x6x7x8x9x")),ISNUMBER(FIND(MID(G11,7,1)&"x","0x1x2x3x4x5x6x7x8x9x")),ISNUMBER(FIND(MID(G11,8,1)&"x","0x1x2x3x4x5x6x7x8x9x"))))),"訂正/逆移動の参照元IDが必須",IF(AND(F11<>"新規",G11>=A11),"参照元は自分より小さいID",IF(AND(F11<>"新規",COUNTIFS($A$8:$A$107,G11)<>1),"参照元が一意にありません",IF(AND(F11<>"新規",COUNTIFS($A$8:$A$107,G11,$F$8:$F$107,"新規")+COUNTIFS($A$8:$A$107,G11,$F$8:$F$107,"訂正")<>1),"逆移動を訂正/逆移動の元にできません",IF(AND(F11="訂正",COUNTIFS($A$8:$A$107,G11,$E$8:$E$107,"取消")<>1),"訂正の参照元は取消済が必要",IF(AND(F11="訂正",COUNTIFS($F$8:$F$107,"訂正",$G$8:$G$107,G11)>1),"同じ元記録への訂正は1行まで",IF(AND(F11="逆移動",E11<>"取消",COUNTIFS($A$8:$A$107,G11,$E$8:$E$107,"確定")<>1),"有効な逆移動の元は確定が必要",IF(AND(F11="逆移動",E11="取消",COUNTIFS($A$8:$A$107,G11,$E$8:$E$107,"確定")+COUNTIFS($A$8:$A$107,G11,$E$8:$E$107,"取消")<>1),"取消済の逆移動も元の状態を確認",IF(AND(F11="逆移動",COUNTIFS($A$8:$A$107,G11,$C$8:$C$107,"<>"&C11)<>1),"逆移動は元と反対の入出区分",IF(AND(F11="逆移動",B11<SUMIFS($B$8:$B$107,$A$8:$A$107,G11)),"逆移動日が元より前",IF(AND(F11="逆移動",SUMIFS($D$8:$D$107,$F$8:$F$107,"逆移動",$G$8:$G$107,G11,$E$8:$E$107,"確定")>SUMIFS($D$8:$D$107,$A$8:$A$107,G11)),"確定逆移動の合計が元数量を超過","確認済み"))))))))))))))))))))))) -> 確認済み | N11: =IF(M11="","",IF(M11="確認済み",0,1)) -> 0 | O11: =IF(COUNTA(A11:H11)=0,IF(AND(M11="",N11="",I11="",J11="",K11="",L11=""),0,1),IF(NOT(AND(ISTEXT(M11),M11=IF(COUNTA(A11:H11)=0,"",IF(NOT(AND(ISTEXT(A11),LEN(A11)=8,EXACT(LEFT(A11,4),"MOV-"),ISNUMBER(FIND(MID(A11,5,1)&"x","0x1x2x3x4x5x6x7x8x9x")),ISNUMBER(FIND(MID(A11,6,1)&"x","0x1x2x3x4x5x6x7x8x9x")),ISNUMBER(FIND(MID(A11,7,1)&"x","0x1x2x3x4x5x6x7x8x9x")),ISNUMBER(FIND(MID(A11,8,1)&"x","0x1x2x3x4x5x6x7x8x9x")))),"IDはMOV-と半角数字4桁",IF(COUNTIFS($A$8:$A$107,A11)>1,"記録IDが重複",IF(NOT(IF(ISNUMBER(B11),AND(B11>=43831,B11<73051,B11=INT(B11)),FALSE())),"発生日は時刻なしで必須",IF(NOT(OR(C11="入庫",C11="出庫")),"入出区分を確認",IF(NOT(OR(E11="確定",E11="取消",E11="未確認")),"状態を確認",IF(NOT(OR(F11="新規",F11="訂正",F11="逆移動")),"種別を確認",IF(AND(E11<>"未確認",NOT(IF(ISNUMBER(D11),AND(D11>=1,D11<=1000000,D11=INT(D11)),FALSE()))),"確定/取消の数量は1〜100万個の整数",IF(AND(E11="未確認",COUNTA(D11)>0),"未確認の数量は空欄",IF(NOT(IF(ISNUMBER(H11),AND(H11>=43831,H11<73051,H11=INT(H11)),FALSE())),"記録確認日は時刻なしで必須",IF(OR(B11>H11,H11>入出庫集計!$B$4),"発生日≦確認日≦基準日を確認",IF(AND(F11="新規",COUNTA(G11)>0),"新規の参照元は空欄",IF(AND(F11<>"新規",NOT(AND(ISTEXT(G11),LEN(G11)=8,EXACT(LEFT(G11,4),"MOV-"),ISNUMBER(FIND(MID(G11,5,1)&"x","0x1x2x3x4x5x6x7x8x9x")),ISNUMBER(FIND(MID(G11,6,1)&"x","0x1x2x3x4x5x6x7x8x9x")),ISNUMBER(FIND(MID(G11,7,1)&"x","0x1x2x3x4x5x6x7x8x9x")),ISNUMBER(FIND(MID(G11,8,1)&"x","0x1x2x3x4x5x6x7x8x9x"))))),"訂正/逆移動の参照元IDが必須",IF(AND(F11<>"新規",G11>=A11),"参照元は自分より小さいID",IF(AND(F11<>"新規",COUNTIFS($A$8:$A$107,G11)<>1),"参照元が一意にありません",IF(AND(F11<>"新規",COUNTIFS($A$8:$A$107,G11,$F$8:$F$107,"新規")+COUNTIFS($A$8:$A$107,G11,$F$8:$F$107,"訂正")<>1),"逆移動を訂正/逆移動の元にできません",IF(AND(F11="訂正",COUNTIFS($A$8:$A$107,G11,$E$8:$E$107,"取消")<>1),"訂正の参照元は取消済が必要",IF(AND(F11="訂正",COUNTIFS($F$8:$F$107,"訂正",$G$8:$G$107,G11)>1),"同じ元記録への訂正は1行まで",IF(AND(F11="逆移動",E11<>"取消",COUNTIFS($A$8:$A$107,G11,$E$8:$E$107,"確定")<>1),"有効な逆移動の元は確定が必要",IF(AND(F11="逆移動",E11="取消",COUNTIFS($A$8:$A$107,G11,$E$8:$E$107,"確定")+COUNTIFS($A$8:$A$107,G11,$E$8:$E$107,"取消")<>1),"取消済の逆移動も元の状態を確認",IF(AND(F11="逆移動",COUNTIFS($A$8:$A$107,G11,$C$8:$C$107,"<>"&C11)<>1),"逆移動は元と反対の入出区分",IF(AND(F11="逆移動",B11<SUMIFS($B$8:$B$107,$A$8:$A$107,G11)),"逆移動日が元より前",IF(AND(F11="逆移動",SUMIFS($D$8:$D$107,$F$8:$F$107,"逆移動",$G$8:$G$107,G11,$E$8:$E$107,"確定")>SUMIFS($D$8:$D$107,$A$8:$A$107,G11)),"確定逆移動の合計が元数量を超過","確認済み"))))))))))))))))))))))),ISNUMBER(N11),N11=IF(M11="確認済み",0,1))),1,IF(N11<>0,0,IF(AND(ISNUMBER(I11),I11=IF(AND(B11>=入出庫集計!$B$3,B11<=入出庫集計!$E$3),1,0),IF(OR(I11<>1,E11="未確認"),ISTEXT(J11),ISNUMBER(J11)),J11=IF(I11<>1,"",IF(E11="未確認","",IF(AND(E11="確定",C11="入庫"),D11,0))),IF(OR(I11<>1,E11="未確認"),ISTEXT(K11),ISNUMBER(K11)),K11=IF(I11<>1,"",IF(E11="未確認","",IF(AND(E11="確定",C11="出庫"),D11,0))),ISNUMBER(L11),L11=IF(AND(I11=1,E11="未確認"),1,0)),0,1)))) -> 0
A12: MOV-0005 | B12: 46302 | C12: 出庫 | D12: 7 | E12: 取消 | F12: 新規 | H12: 46302 | I12: =IF(M12="","",IF(N12<>0,NA(),IF(AND(B12>=入出庫集計!$B$3,B12<=入出庫集計!$E$3),1,0))) -> 1 | J12: =IF(M12="","",IF(N12<>0,NA(),IF(I12<>1,"",IF(E12="未確認","",IF(AND(E12="確定",C12="入庫"),D12,0))))) -> 0 | K12: =IF(M12="","",IF(N12<>0,NA(),IF(I12<>1,"",IF(E12="未確認","",IF(AND(E12="確定",C12="出庫"),D12,0))))) -> 0 | L12: =IF(M12="","",IF(N12<>0,NA(),IF(AND(I12=1,E12="未確認"),1,0))) -> 0 | M12: =IF(COUNTA(A12:H12)=0,"",IF(NOT(AND(ISTEXT(A12),LEN(A12)=8,EXACT(LEFT(A12,4),"MOV-"),ISNUMBER(FIND(MID(A12,5,1)&"x","0x1x2x3x4x5x6x7x8x9x")),ISNUMBER(FIND(MID(A12,6,1)&"x","0x1x2x3x4x5x6x7x8x9x")),ISNUMBER(FIND(MID(A12,7,1)&"x","0x1x2x3x4x5x6x7x8x9x")),ISNUMBER(FIND(MID(A12,8,1)&"x","0x1x2x3x4x5x6x7x8x9x")))),"IDはMOV-と半角数字4桁",IF(COUNTIFS($A$8:$A$107,A12)>1,"記録IDが重複",IF(NOT(IF(ISNUMBER(B12),AND(B12>=43831,B12<73051,B12=INT(B12)),FALSE())),"発生日は時刻なしで必須",IF(NOT(OR(C12="入庫",C12="出庫")),"入出区分を確認",IF(NOT(OR(E12="確定",E12="取消",E12="未確認")),"状態を確認",IF(NOT(OR(F12="新規",F12="訂正",F12="逆移動")),"種別を確認",IF(AND(E12<>"未確認",NOT(IF(ISNUMBER(D12),AND(D12>=1,D12<=1000000,D12=INT(D12)),FALSE()))),"確定/取消の数量は1〜100万個の整数",IF(AND(E12="未確認",COUNTA(D12)>0),"未確認の数量は空欄",IF(NOT(IF(ISNUMBER(H12),AND(H12>=43831,H12<73051,H12=INT(H12)),FALSE())),"記録確認日は時刻なしで必須",IF(OR(B12>H12,H12>入出庫集計!$B$4),"発生日≦確認日≦基準日を確認",IF(AND(F12="新規",COUNTA(G12)>0),"新規の参照元は空欄",IF(AND(F12<>"新規",NOT(AND(ISTEXT(G12),LEN(G12)=8,EXACT(LEFT(G12,4),"MOV-"),ISNUMBER(FIND(MID(G12,5,1)&"x","0x1x2x3x4x5x6x7x8x9x")),ISNUMBER(FIND(MID(G12,6,1)&"x","0x1x2x3x4x5x6x7x8x9x")),ISNUMBER(FIND(MID(G12,7,1)&"x","0x1x2x3x4x5x6x7x8x9x")),ISNUMBER(FIND(MID(G12,8,1)&"x","0x1x2x3x4x5x6x7x8x9x"))))),"訂正/逆移動の参照元IDが必須",IF(AND(F12<>"新規",G12>=A12),"参照元は自分より小さいID",IF(AND(F12<>"新規",COUNTIFS($A$8:$A$107,G12)<>1),"参照元が一意にありません",IF(AND(F12<>"新規",COUNTIFS($A$8:$A$107,G12,$F$8:$F$107,"新規")+COUNTIFS($A$8:$A$107,G12,$F$8:$F$107,"訂正")<>1),"逆移動を訂正/逆移動の元にできません",IF(AND(F12="訂正",COUNTIFS($A$8:$A$107,G12,$E$8:$E$107,"取消")<>1),"訂正の参照元は取消済が必要",IF(AND(F12="訂正",COUNTIFS($F$8:$F$107,"訂正",$G$8:$G$107,G12)>1),"同じ元記録への訂正は1行まで",IF(AND(F12="逆移動",E12<>"取消",COUNTIFS($A$8:$A$107,G12,$E$8:$E$107,"確定")<>1),"有効な逆移動の元は確定が必要",IF(AND(F12="逆移動",E12="取消",COUNTIFS($A$8:$A$107,G12,$E$8:$E$107,"確定")+COUNTIFS($A$8:$A$107,G12,$E$8:$E$107,"取消")<>1),"取消済の逆移動も元の状態を確認",IF(AND(F12="逆移動",COUNTIFS($A$8:$A$107,G12,$C$8:$C$107,"<>"&C12)<>1),"逆移動は元と反対の入出区分",IF(AND(F12="逆移動",B12<SUMIFS($B$8:$B$107,$A$8:$A$107,G12)),"逆移動日が元より前",IF(AND(F12="逆移動",SUMIFS($D$8:$D$107,$F$8:$F$107,"逆移動",$G$8:$G$107,G12,$E$8:$E$107,"確定")>SUMIFS($D$8:$D$107,$A$8:$A$107,G12)),"確定逆移動の合計が元数量を超過","確認済み"))))))))))))))))))))))) -> 確認済み | N12: =IF(M12="","",IF(M12="確認済み",0,1)) -> 0 | O12: =IF(COUNTA(A12:H12)=0,IF(AND(M12="",N12="",I12="",J12="",K12="",L12=""),0,1),IF(NOT(AND(ISTEXT(M12),M12=IF(COUNTA(A12:H12)=0,"",IF(NOT(AND(ISTEXT(A12),LEN(A12)=8,EXACT(LEFT(A12,4),"MOV-"),ISNUMBER(FIND(MID(A12,5,1)&"x","0x1x2x3x4x5x6x7x8x9x")),ISNUMBER(FIND(MID(A12,6,1)&"x","0x1x2x3x4x5x6x7x8x9x")),ISNUMBER(FIND(MID(A12,7,1)&"x","0x1x2x3x4x5x6x7x8x9x")),ISNUMBER(FIND(MID(A12,8,1)&"x","0x1x2x3x4x5x6x7x8x9x")))),"IDはMOV-と半角数字4桁",IF(COUNTIFS($A$8:$A$107,A12)>1,"記録IDが重複",IF(NOT(IF(ISNUMBER(B12),AND(B12>=43831,B12<73051,B12=INT(B12)),FALSE())),"発生日は時刻なしで必須",IF(NOT(OR(C12="入庫",C12="出庫")),"入出区分を確認",IF(NOT(OR(E12="確定",E12="取消",E12="未確認")),"状態を確認",IF(NOT(OR(F12="新規",F12="訂正",F12="逆移動")),"種別を確認",IF(AND(E12<>"未確認",NOT(IF(ISNUMBER(D12),AND(D12>=1,D12<=1000000,D12=INT(D12)),FALSE()))),"確定/取消の数量は1〜100万個の整数",IF(AND(E12="未確認",COUNTA(D12)>0),"未確認の数量は空欄",IF(NOT(IF(ISNUMBER(H12),AND(H12>=43831,H12<73051,H12=INT(H12)),FALSE())),"記録確認日は時刻なしで必須",IF(OR(B12>H12,H12>入出庫集計!$B$4),"発生日≦確認日≦基準日を確認",IF(AND(F12="新規",COUNTA(G12)>0),"新規の参照元は空欄",IF(AND(F12<>"新規",NOT(AND(ISTEXT(G12),LEN(G12)=8,EXACT(LEFT(G12,4),"MOV-"),ISNUMBER(FIND(MID(G12,5,1)&"x","0x1x2x3x4x5x6x7x8x9x")),ISNUMBER(FIND(MID(G12,6,1)&"x","0x1x2x3x4x5x6x7x8x9x")),ISNUMBER(FIND(MID(G12,7,1)&"x","0x1x2x3x4x5x6x7x8x9x")),ISNUMBER(FIND(MID(G12,8,1)&"x","0x1x2x3x4x5x6x7x8x9x"))))),"訂正/逆移動の参照元IDが必須",IF(AND(F12<>"新規",G12>=A12),"参照元は自分より小さいID",IF(AND(F12<>"新規",COUNTIFS($A$8:$A$107,G12)<>1),"参照元が一意にありません",IF(AND(F12<>"新規",COUNTIFS($A$8:$A$107,G12,$F$8:$F$107,"新規")+COUNTIFS($A$8:$A$107,G12,$F$8:$F$107,"訂正")<>1),"逆移動を訂正/逆移動の元にできません",IF(AND(F12="訂正",COUNTIFS($A$8:$A$107,G12,$E$8:$E$107,"取消")<>1),"訂正の参照元は取消済が必要",IF(AND(F12="訂正",COUNTIFS($F$8:$F$107,"訂正",$G$8:$G$107,G12)>1),"同じ元記録への訂正は1行まで",IF(AND(F12="逆移動",E12<>"取消",COUNTIFS($A$8:$A$107,G12,$E$8:$E$107,"確定")<>1),"有効な逆移動の元は確定が必要",IF(AND(F12="逆移動",E12="取消",COUNTIFS($A$8:$A$107,G12,$E$8:$E$107,"確定")+COUNTIFS($A$8:$A$107,G12,$E$8:$E$107,"取消")<>1),"取消済の逆移動も元の状態を確認",IF(AND(F12="逆移動",COUNTIFS($A$8:$A$107,G12,$C$8:$C$107,"<>"&C12)<>1),"逆移動は元と反対の入出区分",IF(AND(F12="逆移動",B12<SUMIFS($B$8:$B$107,$A$8:$A$107,G12)),"逆移動日が元より前",IF(AND(F12="逆移動",SUMIFS($D$8:$D$107,$F$8:$F$107,"逆移動",$G$8:$G$107,G12,$E$8:$E$107,"確定")>SUMIFS($D$8:$D$107,$A$8:$A$107,G12)),"確定逆移動の合計が元数量を超過","確認済み"))))))))))))))))))))))),ISNUMBER(N12),N12=IF(M12="確認済み",0,1))),1,IF(N12<>0,0,IF(AND(ISNUMBER(I12),I12=IF(AND(B12>=入出庫集計!$B$3,B12<=入出庫集計!$E$3),1,0),IF(OR(I12<>1,E12="未確認"),ISTEXT(J12),ISNUMBER(J12)),J12=IF(I12<>1,"",IF(E12="未確認","",IF(AND(E12="確定",C12="入庫"),D12,0))),IF(OR(I12<>1,E12="未確認"),ISTEXT(K12),ISNUMBER(K12)),K12=IF(I12<>1,"",IF(E12="未確認","",IF(AND(E12="確定",C12="出庫"),D12,0))),ISNUMBER(L12),L12=IF(AND(I12=1,E12="未確認"),1,0)),0,1)))) -> 0
A13: MOV-0006 | B13: 46303 | C13: 出庫 | D13: 5 | E13: 確定 | F13: 訂正 | G13: MOV-0005 | H13: 46303 | I13: =IF(M13="","",IF(N13<>0,NA(),IF(AND(B13>=入出庫集計!$B$3,B13<=入出庫集計!$E$3),1,0))) -> 1 | J13: =IF(M13="","",IF(N13<>0,NA(),IF(I13<>1,"",IF(E13="未確認","",IF(AND(E13="確定",C13="入庫"),D13,0))))) -> 0 | K13: =IF(M13="","",IF(N13<>0,NA(),IF(I13<>1,"",IF(E13="未確認","",IF(AND(E13="確定",C13="出庫"),D13,0))))) -> 5 | L13: =IF(M13="","",IF(N13<>0,NA(),IF(AND(I13=1,E13="未確認"),1,0))) -> 0 | M13: =IF(COUNTA(A13:H13)=0,"",IF(NOT(AND(ISTEXT(A13),LEN(A13)=8,EXACT(LEFT(A13,4),"MOV-"),ISNUMBER(FIND(MID(A13,5,1)&"x","0x1x2x3x4x5x6x7x8x9x")),ISNUMBER(FIND(MID(A13,6,1)&"x","0x1x2x3x4x5x6x7x8x9x")),ISNUMBER(FIND(MID(A13,7,1)&"x","0x1x2x3x4x5x6x7x8x9x")),ISNUMBER(FIND(MID(A13,8,1)&"x","0x1x2x3x4x5x6x7x8x9x")))),"IDはMOV-と半角数字4桁",IF(COUNTIFS($A$8:$A$107,A13)>1,"記録IDが重複",IF(NOT(IF(ISNUMBER(B13),AND(B13>=43831,B13<73051,B13=INT(B13)),FALSE())),"発生日は時刻なしで必須",IF(NOT(OR(C13="入庫",C13="出庫")),"入出区分を確認",IF(NOT(OR(E13="確定",E13="取消",E13="未確認")),"状態を確認",IF(NOT(OR(F13="新規",F13="訂正",F13="逆移動")),"種別を確認",IF(AND(E13<>"未確認",NOT(IF(ISNUMBER(D13),AND(D13>=1,D13<=1000000,D13=INT(D13)),FALSE()))),"確定/取消の数量は1〜100万個の整数",IF(AND(E13="未確認",COUNTA(D13)>0),"未確認の数量は空欄",IF(NOT(IF(ISNUMBER(H13),AND(H13>=43831,H13<73051,H13=INT(H13)),FALSE())),"記録確認日は時刻なしで必須",IF(OR(B13>H13,H13>入出庫集計!$B$4),"発生日≦確認日≦基準日を確認",IF(AND(F13="新規",COUNTA(G13)>0),"新規の参照元は空欄",IF(AND(F13<>"新規",NOT(AND(ISTEXT(G13),LEN(G13)=8,EXACT(LEFT(G13,4),"MOV-"),ISNUMBER(FIND(MID(G13,5,1)&"x","0x1x2x3x4x5x6x7x8x9x")),ISNUMBER(FIND(MID(G13,6,1)&"x","0x1x2x3x4x5x6x7x8x9x")),ISNUMBER(FIND(MID(G13,7,1)&"x","0x1x2x3x4x5x6x7x8x9x")),ISNUMBER(FIND(MID(G13,8,1)&"x","0x1x2x3x4x5x6x7x8x9x"))))),"訂正/逆移動の参照元IDが必須",IF(AND(F13<>"新規",G13>=A13),"参照元は自分より小さいID",IF(AND(F13<>"新規",COUNTIFS($A$8:$A$107,G13)<>1),"参照元が一意にありません",IF(AND(F13<>"新規",COUNTIFS($A$8:$A$107,G13,$F$8:$F$107,"新規")+COUNTIFS($A$8:$A$107,G13,$F$8:$F$107,"訂正")<>1),"逆移動を訂正/逆移動の元にできません",IF(AND(F13="訂正",COUNTIFS($A$8:$A$107,G13,$E$8:$E$107,"取消")<>1),"訂正の参照元は取消済が必要",IF(AND(F13="訂正",COUNTIFS($F$8:$F$107,"訂正",$G$8:$G$107,G13)>1),"同じ元記録への訂正は1行まで",IF(AND(F13="逆移動",E13<>"取消",COUNTIFS($A$8:$A$107,G13,$E$8:$E$107,"確定")<>1),"有効な逆移動の元は確定が必要",IF(AND(F13="逆移動",E13="取消",COUNTIFS($A$8:$A$107,G13,$E$8:$E$107,"確定")+COUNTIFS($A$8:$A$107,G13,$E$8:$E$107,"取消")<>1),"取消済の逆移動も元の状態を確認",IF(AND(F13="逆移動",COUNTIFS($A$8:$A$107,G13,$C$8:$C$107,"<>"&C13)<>1),"逆移動は元と反対の入出区分",IF(AND(F13="逆移動",B13<SUMIFS($B$8:$B$107,$A$8:$A$107,G13)),"逆移動日が元より前",IF(AND(F13="逆移動",SUMIFS($D$8:$D$107,$F$8:$F$107,"逆移動",$G$8:$G$107,G13,$E$8:$E$107,"確定")>SUMIFS($D$8:$D$107,$A$8:$A$107,G13)),"確定逆移動の合計が元数量を超過","確認済み"))))))))))))))))))))))) -> 確認済み | N13: =IF(M13="","",IF(M13="確認済み",0,1)) -> 0 | O13: =IF(COUNTA(A13:H13)=0,IF(AND(M13="",N13="",I13="",J13="",K13="",L13=""),0,1),IF(NOT(AND(ISTEXT(M13),M13=IF(COUNTA(A13:H13)=0,"",IF(NOT(AND(ISTEXT(A13),LEN(A13)=8,EXACT(LEFT(A13,4),"MOV-"),ISNUMBER(FIND(MID(A13,5,1)&"x","0x1x2x3x4x5x6x7x8x9x")),ISNUMBER(FIND(MID(A13,6,1)&"x","0x1x2x3x4x5x6x7x8x9x")),ISNUMBER(FIND(MID(A13,7,1)&"x","0x1x2x3x4x5x6x7x8x9x")),ISNUMBER(FIND(MID(A13,8,1)&"x","0x1x2x3x4x5x6x7x8x9x")))),"IDはMOV-と半角数字4桁",IF(COUNTIFS($A$8:$A$107,A13)>1,"記録IDが重複",IF(NOT(IF(ISNUMBER(B13),AND(B13>=43831,B13<73051,B13=INT(B13)),FALSE())),"発生日は時刻なしで必須",IF(NOT(OR(C13="入庫",C13="出庫")),"入出区分を確認",IF(NOT(OR(E13="確定",E13="取消",E13="未確認")),"状態を確認",IF(NOT(OR(F13="新規",F13="訂正",F13="逆移動")),"種別を確認",IF(AND(E13<>"未確認",NOT(IF(ISNUMBER(D13),AND(D13>=1,D13<=1000000,D13=INT(D13)),FALSE()))),"確定/取消の数量は1〜100万個の整数",IF(AND(E13="未確認",COUNTA(D13)>0),"未確認の数量は空欄",IF(NOT(IF(ISNUMBER(H13),AND(H13>=43831,H13<73051,H13=INT(H13)),FALSE())),"記録確認日は時刻なしで必須",IF(OR(B13>H13,H13>入出庫集計!$B$4),"発生日≦確認日≦基準日を確認",IF(AND(F13="新規",COUNTA(G13)>0),"新規の参照元は空欄",IF(AND(F13<>"新規",NOT(AND(ISTEXT(G13),LEN(G13)=8,EXACT(LEFT(G13,4),"MOV-"),ISNUMBER(FIND(MID(G13,5,1)&"x","0x1x2x3x4x5x6x7x8x9x")),ISNUMBER(FIND(MID(G13,6,1)&"x","0x1x2x3x4x5x6x7x8x9x")),ISNUMBER(FIND(MID(G13,7,1)&"x","0x1x2x3x4x5x6x7x8x9x")),ISNUMBER(FIND(MID(G13,8,1)&"x","0x1x2x3x4x5x6x7x8x9x"))))),"訂正/逆移動の参照元IDが必須",IF(AND(F13<>"新規",G13>=A13),"参照元は自分より小さいID",IF(AND(F13<>"新規",COUNTIFS($A$8:$A$107,G13)<>1),"参照元が一意にありません",IF(AND(F13<>"新規",COUNTIFS($A$8:$A$107,G13,$F$8:$F$107,"新規")+COUNTIFS($A$8:$A$107,G13,$F$8:$F$107,"訂正")<>1),"逆移動を訂正/逆移動の元にできません",IF(AND(F13="訂正",COUNTIFS($A$8:$A$107,G13,$E$8:$E$107,"取消")<>1),"訂正の参照元は取消済が必要",IF(AND(F13="訂正",COUNTIFS($F$8:$F$107,"訂正",$G$8:$G$107,G13)>1),"同じ元記録への訂正は1行まで",IF(AND(F13="逆移動",E13<>"取消",COUNTIFS($A$8:$A$107,G13,$E$8:$E$107,"確定")<>1),"有効な逆移動の元は確定が必要",IF(AND(F13="逆移動",E13="取消",COUNTIFS($A$8:$A$107,G13,$E$8:$E$107,"確定")+COUNTIFS($A$8:$A$107,G13,$E$8:$E$107,"取消")<>1),"取消済の逆移動も元の状態を確認",IF(AND(F13="逆移動",COUNTIFS($A$8:$A$107,G13,$C$8:$C$107,"<>"&C13)<>1),"逆移動は元と反対の入出区分",IF(AND(F13="逆移動",B13<SUMIFS($B$8:$B$107,$A$8:$A$107,G13)),"逆移動日が元より前",IF(AND(F13="逆移動",SUMIFS($D$8:$D$107,$F$8:$F$107,"逆移動",$G$8:$G$107,G13,$E$8:$E$107,"確定")>SUMIFS($D$8:$D$107,$A$8:$A$107,G13)),"確定逆移動の合計が元数量を超過","確認済み"))))))))))))))))))))))),ISNUMBER(N13),N13=IF(M13="確認済み",0,1))),1,IF(N13<>0,0,IF(AND(ISNUMBER(I13),I13=IF(AND(B13>=入出庫集計!$B$3,B13<=入出庫集計!$E$3),1,0),IF(OR(I13<>1,E13="未確認"),ISTEXT(J13),ISNUMBER(J13)),J13=IF(I13<>1,"",IF(E13="未確認","",IF(AND(E13="確定",C13="入庫"),D13,0))),IF(OR(I13<>1,E13="未確認"),ISTEXT(K13),ISNUMBER(K13)),K13=IF(I13<>1,"",IF(E13="未確認","",IF(AND(E13="確定",C13="出庫"),D13,0))),ISNUMBER(L13),L13=IF(AND(I13=1,E13="未確認"),1,0)),0,1)))) -> 0
A14: MOV-0007 | B14: 46305 | C14: 入庫 | E14: 未確認 | F14: 新規 | H14: 46306 | I14: =IF(M14="","",IF(N14<>0,NA(),IF(AND(B14>=入出庫集計!$B$3,B14<=入出庫集計!$E$3),1,0))) -> 1 | J14: =IF(M14="","",IF(N14<>0,NA(),IF(I14<>1,"",IF(E14="未確認","",IF(AND(E14="確定",C14="入庫"),D14,0))))) | K14: =IF(M14="","",IF(N14<>0,NA(),IF(I14<>1,"",IF(E14="未確認","",IF(AND(E14="確定",C14="出庫"),D14,0))))) | L14: =IF(M14="","",IF(N14<>0,NA(),IF(AND(I14=1,E14="未確認"),1,0))) -> 1 | M14: =IF(COUNTA(A14:H14)=0,"",IF(NOT(AND(ISTEXT(A14),LEN(A14)=8,EXACT(LEFT(A14,4),"MOV-"),ISNUMBER(FIND(MID(A14,5,1)&"x","0x1x2x3x4x5x6x7x8x9x")),ISNUMBER(FIND(MID(A14,6,1)&"x","0x1x2x3x4x5x6x7x8x9x")),ISNUMBER(FIND(MID(A14,7,1)&"x","0x1x2x3x4x5x6x7x8x9x")),ISNUMBER(FIND(MID(A14,8,1)&"x","0x1x2x3x4x5x6x7x8x9x")))),"IDはMOV-と半角数字4桁",IF(COUNTIFS($A$8:$A$107,A14)>1,"記録IDが重複",IF(NOT(IF(ISNUMBER(B14),AND(B14>=43831,B14<73051,B14=INT(B14)),FALSE())),"発生日は時刻なしで必須",IF(NOT(OR(C14="入庫",C14="出庫")),"入出区分を確認",IF(NOT(OR(E14="確定",E14="取消",E14="未確認")),"状態を確認",IF(NOT(OR(F14="新規",F14="訂正",F14="逆移動")),"種別を確認",IF(AND(E14<>"未確認",NOT(IF(ISNUMBER(D14),AND(D14>=1,D14<=1000000,D14=INT(D14)),FALSE()))),"確定/取消の数量は1〜100万個の整数",IF(AND(E14="未確認",COUNTA(D14)>0),"未確認の数量は空欄",IF(NOT(IF(ISNUMBER(H14),AND(H14>=43831,H14<73051,H14=INT(H14)),FALSE())),"記録確認日は時刻なしで必須",IF(OR(B14>H14,H14>入出庫集計!$B$4),"発生日≦確認日≦基準日を確認",IF(AND(F14="新規",COUNTA(G14)>0),"新規の参照元は空欄",IF(AND(F14<>"新規",NOT(AND(ISTEXT(G14),LEN(G14)=8,EXACT(LEFT(G14,4),"MOV-"),ISNUMBER(FIND(MID(G14,5,1)&"x","0x1x2x3x4x5x6x7x8x9x")),ISNUMBER(FIND(MID(G14,6,1)&"x","0x1x2x3x4x5x6x7x8x9x")),ISNUMBER(FIND(MID(G14,7,1)&"x","0x1x2x3x4x5x6x7x8x9x")),ISNUMBER(FIND(MID(G14,8,1)&"x","0x1x2x3x4x5x6x7x8x9x"))))),"訂正/逆移動の参照元IDが必須",IF(AND(F14<>"新規",G14>=A14),"参照元は自分より小さいID",IF(AND(F14<>"新規",COUNTIFS($A$8:$A$107,G14)<>1),"参照元が一意にありません",IF(AND(F14<>"新規",COUNTIFS($A$8:$A$107,G14,$F$8:$F$107,"新規")+COUNTIFS($A$8:$A$107,G14,$F$8:$F$107,"訂正")<>1),"逆移動を訂正/逆移動の元にできません",IF(AND(F14="訂正",COUNTIFS($A$8:$A$107,G14,$E$8:$E$107,"取消")<>1),"訂正の参照元は取消済が必要",IF(AND(F14="訂正",COUNTIFS($F$8:$F$107,"訂正",$G$8:$G$107,G14)>1),"同じ元記録への訂正は1行まで",IF(AND(F14="逆移動",E14<>"取消",COUNTIFS($A$8:$A$107,G14,$E$8:$E$107,"確定")<>1),"有効な逆移動の元は確定が必要",IF(AND(F14="逆移動",E14="取消",COUNTIFS($A$8:$A$107,G14,$E$8:$E$107,"確定")+COUNTIFS($A$8:$A$107,G14,$E$8:$E$107,"取消")<>1),"取消済の逆移動も元の状態を確認",IF(AND(F14="逆移動",COUNTIFS($A$8:$A$107,G14,$C$8:$C$107,"<>"&C14)<>1),"逆移動は元と反対の入出区分",IF(AND(F14="逆移動",B14<SUMIFS($B$8:$B$107,$A$8:$A$107,G14)),"逆移動日が元より前",IF(AND(F14="逆移動",SUMIFS($D$8:$D$107,$F$8:$F$107,"逆移動",$G$8:$G$107,G14,$E$8:$E$107,"確定")>SUMIFS($D$8:$D$107,$A$8:$A$107,G14)),"確定逆移動の合計が元数量を超過","確認済み"))))))))))))))))))))))) -> 確認済み | N14: =IF(M14="","",IF(M14="確認済み",0,1)) -> 0 | O14: =IF(COUNTA(A14:H14)=0,IF(AND(M14="",N14="",I14="",J14="",K14="",L14=""),0,1),IF(NOT(AND(ISTEXT(M14),M14=IF(COUNTA(A14:H14)=0,"",IF(NOT(AND(ISTEXT(A14),LEN(A14)=8,EXACT(LEFT(A14,4),"MOV-"),ISNUMBER(FIND(MID(A14,5,1)&"x","0x1x2x3x4x5x6x7x8x9x")),ISNUMBER(FIND(MID(A14,6,1)&"x","0x1x2x3x4x5x6x7x8x9x")),ISNUMBER(FIND(MID(A14,7,1)&"x","0x1x2x3x4x5x6x7x8x9x")),ISNUMBER(FIND(MID(A14,8,1)&"x","0x1x2x3x4x5x6x7x8x9x")))),"IDはMOV-と半角数字4桁",IF(COUNTIFS($A$8:$A$107,A14)>1,"記録IDが重複",IF(NOT(IF(ISNUMBER(B14),AND(B14>=43831,B14<73051,B14=INT(B14)),FALSE())),"発生日は時刻なしで必須",IF(NOT(OR(C14="入庫",C14="出庫")),"入出区分を確認",IF(NOT(OR(E14="確定",E14="取消",E14="未確認")),"状態を確認",IF(NOT(OR(F14="新規",F14="訂正",F14="逆移動")),"種別を確認",IF(AND(E14<>"未確認",NOT(IF(ISNUMBER(D14),AND(D14>=1,D14<=1000000,D14=INT(D14)),FALSE()))),"確定/取消の数量は1〜100万個の整数",IF(AND(E14="未確認",COUNTA(D14)>0),"未確認の数量は空欄",IF(NOT(IF(ISNUMBER(H14),AND(H14>=43831,H14<73051,H14=INT(H14)),FALSE())),"記録確認日は時刻なしで必須",IF(OR(B14>H14,H14>入出庫集計!$B$4),"発生日≦確認日≦基準日を確認",IF(AND(F14="新規",COUNTA(G14)>0),"新規の参照元は空欄",IF(AND(F14<>"新規",NOT(AND(ISTEXT(G14),LEN(G14)=8,EXACT(LEFT(G14,4),"MOV-"),ISNUMBER(FIND(MID(G14,5,1)&"x","0x1x2x3x4x5x6x7x8x9x")),ISNUMBER(FIND(MID(G14,6,1)&"x","0x1x2x3x4x5x6x7x8x9x")),ISNUMBER(FIND(MID(G14,7,1)&"x","0x1x2x3x4x5x6x7x8x9x")),ISNUMBER(FIND(MID(G14,8,1)&"x","0x1x2x3x4x5x6x7x8x9x"))))),"訂正/逆移動の参照元IDが必須",IF(AND(F14<>"新規",G14>=A14),"参照元は自分より小さいID",IF(AND(F14<>"新規",COUNTIFS($A$8:$A$107,G14)<>1),"参照元が一意にありません",IF(AND(F14<>"新規",COUNTIFS($A$8:$A$107,G14,$F$8:$F$107,"新規")+COUNTIFS($A$8:$A$107,G14,$F$8:$F$107,"訂正")<>1),"逆移動を訂正/逆移動の元にできません",IF(AND(F14="訂正",COUNTIFS($A$8:$A$107,G14,$E$8:$E$107,"取消")<>1),"訂正の参照元は取消済が必要",IF(AND(F14="訂正",COUNTIFS($F$8:$F$107,"訂正",$G$8:$G$107,G14)>1),"同じ元記録への訂正は1行まで",IF(AND(F14="逆移動",E14<>"取消",COUNTIFS($A$8:$A$107,G14,$E$8:$E$107,"確定")<>1),"有効な逆移動の元は確定が必要",IF(AND(F14="逆移動",E14="取消",COUNTIFS($A$8:$A$107,G14,$E$8:$E$107,"確定")+COUNTIFS($A$8:$A$107,G14,$E$8:$E$107,"取消")<>1),"取消済の逆移動も元の状態を確認",IF(AND(F14="逆移動",COUNTIFS($A$8:$A$107,G14,$C$8:$C$107,"<>"&C14)<>1),"逆移動は元と反対の入出区分",IF(AND(F14="逆移動",B14<SUMIFS($B$8:$B$107,$A$8:$A$107,G14)),"逆移動日が元より前",IF(AND(F14="逆移動",SUMIFS($D$8:$D$107,$F$8:$F$107,"逆移動",$G$8:$G$107,G14,$E$8:$E$107,"確定")>SUMIFS($D$8:$D$107,$A$8:$A$107,G14)),"確定逆移動の合計が元数量を超過","確認済み"))))))))))))))))))))))),ISNUMBER(N14),N14=IF(M14="確認済み",0,1))),1,IF(N14<>0,0,IF(AND(ISNUMBER(I14),I14=IF(AND(B14>=入出庫集計!$B$3,B14<=入出庫集計!$E$3),1,0),IF(OR(I14<>1,E14="未確認"),ISTEXT(J14),ISNUMBER(J14)),J14=IF(I14<>1,"",IF(E14="未確認","",IF(AND(E14="確定",C14="入庫"),D14,0))),IF(OR(I14<>1,E14="未確認"),ISTEXT(K14),ISNUMBER(K14)),K14=IF(I14<>1,"",IF(E14="未確認","",IF(AND(E14="確定",C14="出庫"),D14,0))),ISNUMBER(L14),L14=IF(AND(I14=1,E14="未確認"),1,0)),0,1)))) -> 0
A15: MOV-0008 | B15: 46328 | C15: 出庫 | D15: 2 | E15: 確定 | F15: 逆移動 | G15: MOV-0001 | H15: 46328 | I15: =IF(M15="","",IF(N15<>0,NA(),IF(AND(B15>=入出庫集計!$B$3,B15<=入出庫集計!$E$3),1,0))) -> 0 | J15: =IF(M15="","",IF(N15<>0,NA(),IF(I15<>1,"",IF(E15="未確認","",IF(AND(E15="確定",C15="入庫"),D15,0))))) | K15: =IF(M15="","",IF(N15<>0,NA(),IF(I15<>1,"",IF(E15="未確認","",IF(AND(E15="確定",C15="出庫"),D15,0))))) | L15: =IF(M15="","",IF(N15<>0,NA(),IF(AND(I15=1,E15="未確認"),1,0))) -> 0 | M15: =IF(COUNTA(A15:H15)=0,"",IF(NOT(AND(ISTEXT(A15),LEN(A15)=8,EXACT(LEFT(A15,4),"MOV-"),ISNUMBER(FIND(MID(A15,5,1)&"x","0x1x2x3x4x5x6x7x8x9x")),ISNUMBER(FIND(MID(A15,6,1)&"x","0x1x2x3x4x5x6x7x8x9x")),ISNUMBER(FIND(MID(A15,7,1)&"x","0x1x2x3x4x5x6x7x8x9x")),ISNUMBER(FIND(MID(A15,8,1)&"x","0x1x2x3x4x5x6x7x8x9x")))),"IDはMOV-と半角数字4桁",IF(COUNTIFS($A$8:$A$107,A15)>1,"記録IDが重複",IF(NOT(IF(ISNUMBER(B15),AND(B15>=43831,B15<73051,B15=INT(B15)),FALSE())),"発生日は時刻なしで必須",IF(NOT(OR(C15="入庫",C15="出庫")),"入出区分を確認",IF(NOT(OR(E15="確定",E15="取消",E15="未確認")),"状態を確認",IF(NOT(OR(F15="新規",F15="訂正",F15="逆移動")),"種別を確認",IF(AND(E15<>"未確認",NOT(IF(ISNUMBER(D15),AND(D15>=1,D15<=1000000,D15=INT(D15)),FALSE()))),"確定/取消の数量は1〜100万個の整数",IF(AND(E15="未確認",COUNTA(D15)>0),"未確認の数量は空欄",IF(NOT(IF(ISNUMBER(H15),AND(H15>=43831,H15<73051,H15=INT(H15)),FALSE())),"記録確認日は時刻なしで必須",IF(OR(B15>H15,H15>入出庫集計!$B$4),"発生日≦確認日≦基準日を確認",IF(AND(F15="新規",COUNTA(G15)>0),"新規の参照元は空欄",IF(AND(F15<>"新規",NOT(AND(ISTEXT(G15),LEN(G15)=8,EXACT(LEFT(G15,4),"MOV-"),ISNUMBER(FIND(MID(G15,5,1)&"x","0x1x2x3x4x5x6x7x8x9x")),ISNUMBER(FIND(MID(G15,6,1)&"x","0x1x2x3x4x5x6x7x8x9x")),ISNUMBER(FIND(MID(G15,7,1)&"x","0x1x2x3x4x5x6x7x8x9x")),ISNUMBER(FIND(MID(G15,8,1)&"x","0x1x2x3x4x5x6x7x8x9x"))))),"訂正/逆移動の参照元IDが必須",IF(AND(F15<>"新規",G15>=A15),"参照元は自分より小さいID",IF(AND(F15<>"新規",COUNTIFS($A$8:$A$107,G15)<>1),"参照元が一意にありません",IF(AND(F15<>"新規",COUNTIFS($A$8:$A$107,G15,$F$8:$F$107,"新規")+COUNTIFS($A$8:$A$107,G15,$F$8:$F$107,"訂正")<>1),"逆移動を訂正/逆移動の元にできません",IF(AND(F15="訂正",COUNTIFS($A$8:$A$107,G15,$E$8:$E$107,"取消")<>1),"訂正の参照元は取消済が必要",IF(AND(F15="訂正",COUNTIFS($F$8:$F$107,"訂正",$G$8:$G$107,G15)>1),"同じ元記録への訂正は1行まで",IF(AND(F15="逆移動",E15<>"取消",COUNTIFS($A$8:$A$107,G15,$E$8:$E$107,"確定")<>1),"有効な逆移動の元は確定が必要",IF(AND(F15="逆移動",E15="取消",COUNTIFS($A$8:$A$107,G15,$E$8:$E$107,"確定")+COUNTIFS($A$8:$A$107,G15,$E$8:$E$107,"取消")<>1),"取消済の逆移動も元の状態を確認",IF(AND(F15="逆移動",COUNTIFS($A$8:$A$107,G15,$C$8:$C$107,"<>"&C15)<>1),"逆移動は元と反対の入出区分",IF(AND(F15="逆移動",B15<SUMIFS($B$8:$B$107,$A$8:$A$107,G15)),"逆移動日が元より前",IF(AND(F15="逆移動",SUMIFS($D$8:$D$107,$F$8:$F$107,"逆移動",$G$8:$G$107,G15,$E$8:$E$107,"確定")>SUMIFS($D$8:$D$107,$A$8:$A$107,G15)),"確定逆移動の合計が元数量を超過","確認済み"))))))))))))))))))))))) -> 確認済み | N15: =IF(M15="","",IF(M15="確認済み",0,1)) -> 0 | O15: =IF(COUNTA(A15:H15)=0,IF(AND(M15="",N15="",I15="",J15="",K15="",L15=""),0,1),IF(NOT(AND(ISTEXT(M15),M15=IF(COUNTA(A15:H15)=0,"",IF(NOT(AND(ISTEXT(A15),LEN(A15)=8,EXACT(LEFT(A15,4),"MOV-"),ISNUMBER(FIND(MID(A15,5,1)&"x","0x1x2x3x4x5x6x7x8x9x")),ISNUMBER(FIND(MID(A15,6,1)&"x","0x1x2x3x4x5x6x7x8x9x")),ISNUMBER(FIND(MID(A15,7,1)&"x","0x1x2x3x4x5x6x7x8x9x")),ISNUMBER(FIND(MID(A15,8,1)&"x","0x1x2x3x4x5x6x7x8x9x")))),"IDはMOV-と半角数字4桁",IF(COUNTIFS($A$8:$A$107,A15)>1,"記録IDが重複",IF(NOT(IF(ISNUMBER(B15),AND(B15>=43831,B15<73051,B15=INT(B15)),FALSE())),"発生日は時刻なしで必須",IF(NOT(OR(C15="入庫",C15="出庫")),"入出区分を確認",IF(NOT(OR(E15="確定",E15="取消",E15="未確認")),"状態を確認",IF(NOT(OR(F15="新規",F15="訂正",F15="逆移動")),"種別を確認",IF(AND(E15<>"未確認",NOT(IF(ISNUMBER(D15),AND(D15>=1,D15<=1000000,D15=INT(D15)),FALSE()))),"確定/取消の数量は1〜100万個の整数",IF(AND(E15="未確認",COUNTA(D15)>0),"未確認の数量は空欄",IF(NOT(IF(ISNUMBER(H15),AND(H15>=43831,H15<73051,H15=INT(H15)),FALSE())),"記録確認日は時刻なしで必須",IF(OR(B15>H15,H15>入出庫集計!$B$4),"発生日≦確認日≦基準日を確認",IF(AND(F15="新規",COUNTA(G15)>0),"新規の参照元は空欄",IF(AND(F15<>"新規",NOT(AND(ISTEXT(G15),LEN(G15)=8,EXACT(LEFT(G15,4),"MOV-"),ISNUMBER(FIND(MID(G15,5,1)&"x","0x1x2x3x4x5x6x7x8x9x")),ISNUMBER(FIND(MID(G15,6,1)&"x","0x1x2x3x4x5x6x7x8x9x")),ISNUMBER(FIND(MID(G15,7,1)&"x","0x1x2x3x4x5x6x7x8x9x")),ISNUMBER(FIND(MID(G15,8,1)&"x","0x1x2x3x4x5x6x7x8x9x"))))),"訂正/逆移動の参照元IDが必須",IF(AND(F15<>"新規",G15>=A15),"参照元は自分より小さいID",IF(AND(F15<>"新規",COUNTIFS($A$8:$A$107,G15)<>1),"参照元が一意にありません",IF(AND(F15<>"新規",COUNTIFS($A$8:$A$107,G15,$F$8:$F$107,"新規")+COUNTIFS($A$8:$A$107,G15,$F$8:$F$107,"訂正")<>1),"逆移動を訂正/逆移動の元にできません",IF(AND(F15="訂正",COUNTIFS($A$8:$A$107,G15,$E$8:$E$107,"取消")<>1),"訂正の参照元は取消済が必要",IF(AND(F15="訂正",COUNTIFS($F$8:$F$107,"訂正",$G$8:$G$107,G15)>1),"同じ元記録への訂正は1行まで",IF(AND(F15="逆移動",E15<>"取消",COUNTIFS($A$8:$A$107,G15,$E$8:$E$107,"確定")<>1),"有効な逆移動の元は確定が必要",IF(AND(F15="逆移動",E15="取消",COUNTIFS($A$8:$A$107,G15,$E$8:$E$107,"確定")+COUNTIFS($A$8:$A$107,G15,$E$8:$E$107,"取消")<>1),"取消済の逆移動も元の状態を確認",IF(AND(F15="逆移動",COUNTIFS($A$8:$A$107,G15,$C$8:$C$107,"<>"&C15)<>1),"逆移動は元と反対の入出区分",IF(AND(F15="逆移動",B15<SUMIFS($B$8:$B$107,$A$8:$A$107,G15)),"逆移動日が元より前",IF(AND(F15="逆移動",SUMIFS($D$8:$D$107,$F$8:$F$107,"逆移動",$G$8:$G$107,G15,$E$8:$E$107,"確定")>SUMIFS($D$8:$D$107,$A$8:$A$107,G15)),"確定逆移動の合計が元数量を超過","確認済み"))))))))))))))))))))))),ISNUMBER(N15),N15=IF(M15="確認済み",0,1))),1,IF(N15<>0,0,IF(AND(ISNUMBER(I15),I15=IF(AND(B15>=入出庫集計!$B$3,B15<=入出庫集計!$E$3),1,0),IF(OR(I15<>1,E15="未確認"),ISTEXT(J15),ISNUMBER(J15)),J15=IF(I15<>1,"",IF(E15="未確認","",IF(AND(E15="確定",C15="入庫"),D15,0))),IF(OR(I15<>1,E15="未確認"),ISTEXT(K15),ISNUMBER(K15)),K15=IF(I15<>1,"",IF(E15="未確認","",IF(AND(E15="確定",C15="出庫"),D15,0))),ISNUMBER(L15),L15=IF(AND(I15=1,E15="未確認"),1,0)),0,1)))) -> 0
A16: MOV-0009 | B16: 46307 | C16: 入庫 | D16: 8 | E16: 取消 | F16: 逆移動 | G16: MOV-0002 | H16: 46308 | I16: =IF(M16="","",IF(N16<>0,NA(),IF(AND(B16>=入出庫集計!$B$3,B16<=入出庫集計!$E$3),1,0))) -> 1 | J16: =IF(M16="","",IF(N16<>0,NA(),IF(I16<>1,"",IF(E16="未確認","",IF(AND(E16="確定",C16="入庫"),D16,0))))) -> 0 | K16: =IF(M16="","",IF(N16<>0,NA(),IF(I16<>1,"",IF(E16="未確認","",IF(AND(E16="確定",C16="出庫"),D16,0))))) -> 0 | L16: =IF(M16="","",IF(N16<>0,NA(),IF(AND(I16=1,E16="未確認"),1,0))) -> 0 | M16: =IF(COUNTA(A16:H16)=0,"",IF(NOT(AND(ISTEXT(A16),LEN(A16)=8,EXACT(LEFT(A16,4),"MOV-"),ISNUMBER(FIND(MID(A16,5,1)&"x","0x1x2x3x4x5x6x7x8x9x")),ISNUMBER(FIND(MID(A16,6,1)&"x","0x1x2x3x4x5x6x7x8x9x")),ISNUMBER(FIND(MID(A16,7,1)&"x","0x1x2x3x4x5x6x7x8x9x")),ISNUMBER(FIND(MID(A16,8,1)&"x","0x1x2x3x4x5x6x7x8x9x")))),"IDはMOV-と半角数字4桁",IF(COUNTIFS($A$8:$A$107,A16)>1,"記録IDが重複",IF(NOT(IF(ISNUMBER(B16),AND(B16>=43831,B16<73051,B16=INT(B16)),FALSE())),"発生日は時刻なしで必須",IF(NOT(OR(C16="入庫",C16="出庫")),"入出区分を確認",IF(NOT(OR(E16="確定",E16="取消",E16="未確認")),"状態を確認",IF(NOT(OR(F16="新規",F16="訂正",F16="逆移動")),"種別を確認",IF(AND(E16<>"未確認",NOT(IF(ISNUMBER(D16),AND(D16>=1,D16<=1000000,D16=INT(D16)),FALSE()))),"確定/取消の数量は1〜100万個の整数",IF(AND(E16="未確認",COUNTA(D16)>0),"未確認の数量は空欄",IF(NOT(IF(ISNUMBER(H16),AND(H16>=43831,H16<73051,H16=INT(H16)),FALSE())),"記録確認日は時刻なしで必須",IF(OR(B16>H16,H16>入出庫集計!$B$4),"発生日≦確認日≦基準日を確認",IF(AND(F16="新規",COUNTA(G16)>0),"新規の参照元は空欄",IF(AND(F16<>"新規",NOT(AND(ISTEXT(G16),LEN(G16)=8,EXACT(LEFT(G16,4),"MOV-"),ISNUMBER(FIND(MID(G16,5,1)&"x","0x1x2x3x4x5x6x7x8x9x")),ISNUMBER(FIND(MID(G16,6,1)&"x","0x1x2x3x4x5x6x7x8x9x")),ISNUMBER(FIND(MID(G16,7,1)&"x","0x1x2x3x4x5x6x7x8x9x")),ISNUMBER(FIND(MID(G16,8,1)&"x","0x1x2x3x4x5x6x7x8x9x"))))),"訂正/逆移動の参照元IDが必須",IF(AND(F16<>"新規",G16>=A16),"参照元は自分より小さいID",IF(AND(F16<>"新規",COUNTIFS($A$8:$A$107,G16)<>1),"参照元が一意にありません",IF(AND(F16<>"新規",COUNTIFS($A$8:$A$107,G16,$F$8:$F$107,"新規")+COUNTIFS($A$8:$A$107,G16,$F$8:$F$107,"訂正")<>1),"逆移動を訂正/逆移動の元にできません",IF(AND(F16="訂正",COUNTIFS($A$8:$A$107,G16,$E$8:$E$107,"取消")<>1),"訂正の参照元は取消済が必要",IF(AND(F16="訂正",COUNTIFS($F$8:$F$107,"訂正",$G$8:$G$107,G16)>1),"同じ元記録への訂正は1行まで",IF(AND(F16="逆移動",E16<>"取消",COUNTIFS($A$8:$A$107,G16,$E$8:$E$107,"確定")<>1),"有効な逆移動の元は確定が必要",IF(AND(F16="逆移動",E16="取消",COUNTIFS($A$8:$A$107,G16,$E$8:$E$107,"確定")+COUNTIFS($A$8:$A$107,G16,$E$8:$E$107,"取消")<>1),"取消済の逆移動も元の状態を確認",IF(AND(F16="逆移動",COUNTIFS($A$8:$A$107,G16,$C$8:$C$107,"<>"&C16)<>1),"逆移動は元と反対の入出区分",IF(AND(F16="逆移動",B16<SUMIFS($B$8:$B$107,$A$8:$A$107,G16)),"逆移動日が元より前",IF(AND(F16="逆移動",SUMIFS($D$8:$D$107,$F$8:$F$107,"逆移動",$G$8:$G$107,G16,$E$8:$E$107,"確定")>SUMIFS($D$8:$D$107,$A$8:$A$107,G16)),"確定逆移動の合計が元数量を超過","確認済み"))))))))))))))))))))))) -> 確認済み | N16: =IF(M16="","",IF(M16="確認済み",0,1)) -> 0 | O16: =IF(COUNTA(A16:H16)=0,IF(AND(M16="",N16="",I16="",J16="",K16="",L16=""),0,1),IF(NOT(AND(ISTEXT(M16),M16=IF(COUNTA(A16:H16)=0,"",IF(NOT(AND(ISTEXT(A16),LEN(A16)=8,EXACT(LEFT(A16,4),"MOV-"),ISNUMBER(FIND(MID(A16,5,1)&"x","0x1x2x3x4x5x6x7x8x9x")),ISNUMBER(FIND(MID(A16,6,1)&"x","0x1x2x3x4x5x6x7x8x9x")),ISNUMBER(FIND(MID(A16,7,1)&"x","0x1x2x3x4x5x6x7x8x9x")),ISNUMBER(FIND(MID(A16,8,1)&"x","0x1x2x3x4x5x6x7x8x9x")))),"IDはMOV-と半角数字4桁",IF(COUNTIFS($A$8:$A$107,A16)>1,"記録IDが重複",IF(NOT(IF(ISNUMBER(B16),AND(B16>=43831,B16<73051,B16=INT(B16)),FALSE())),"発生日は時刻なしで必須",IF(NOT(OR(C16="入庫",C16="出庫")),"入出区分を確認",IF(NOT(OR(E16="確定",E16="取消",E16="未確認")),"状態を確認",IF(NOT(OR(F16="新規",F16="訂正",F16="逆移動")),"種別を確認",IF(AND(E16<>"未確認",NOT(IF(ISNUMBER(D16),AND(D16>=1,D16<=1000000,D16=INT(D16)),FALSE()))),"確定/取消の数量は1〜100万個の整数",IF(AND(E16="未確認",COUNTA(D16)>0),"未確認の数量は空欄",IF(NOT(IF(ISNUMBER(H16),AND(H16>=43831,H16<73051,H16=INT(H16)),FALSE())),"記録確認日は時刻なしで必須",IF(OR(B16>H16,H16>入出庫集計!$B$4),"発生日≦確認日≦基準日を確認",IF(AND(F16="新規",COUNTA(G16)>0),"新規の参照元は空欄",IF(AND(F16<>"新規",NOT(AND(ISTEXT(G16),LEN(G16)=8,EXACT(LEFT(G16,4),"MOV-"),ISNUMBER(FIND(MID(G16,5,1)&"x","0x1x2x3x4x5x6x7x8x9x")),ISNUMBER(FIND(MID(G16,6,1)&"x","0x1x2x3x4x5x6x7x8x9x")),ISNUMBER(FIND(MID(G16,7,1)&"x","0x1x2x3x4x5x6x7x8x9x")),ISNUMBER(FIND(MID(G16,8,1)&"x","0x1x2x3x4x5x6x7x8x9x"))))),"訂正/逆移動の参照元IDが必須",IF(AND(F16<>"新規",G16>=A16),"参照元は自分より小さいID",IF(AND(F16<>"新規",COUNTIFS($A$8:$A$107,G16)<>1),"参照元が一意にありません",IF(AND(F16<>"新規",COUNTIFS($A$8:$A$107,G16,$F$8:$F$107,"新規")+COUNTIFS($A$8:$A$107,G16,$F$8:$F$107,"訂正")<>1),"逆移動を訂正/逆移動の元にできません",IF(AND(F16="訂正",COUNTIFS($A$8:$A$107,G16,$E$8:$E$107,"取消")<>1),"訂正の参照元は取消済が必要",IF(AND(F16="訂正",COUNTIFS($F$8:$F$107,"訂正",$G$8:$G$107,G16)>1),"同じ元記録への訂正は1行まで",IF(AND(F16="逆移動",E16<>"取消",COUNTIFS($A$8:$A$107,G16,$E$8:$E$107,"確定")<>1),"有効な逆移動の元は確定が必要",IF(AND(F16="逆移動",E16="取消",COUNTIFS($A$8:$A$107,G16,$E$8:$E$107,"確定")+COUNTIFS($A$8:$A$107,G16,$E$8:$E$107,"取消")<>1),"取消済の逆移動も元の状態を確認",IF(AND(F16="逆移動",COUNTIFS($A$8:$A$107,G16,$C$8:$C$107,"<>"&C16)<>1),"逆移動は元と反対の入出区分",IF(AND(F16="逆移動",B16<SUMIFS($B$8:$B$107,$A$8:$A$107,G16)),"逆移動日が元より前",IF(AND(F16="逆移動",SUMIFS($D$8:$D$107,$F$8:$F$107,"逆移動",$G$8:$G$107,G16,$E$8:$E$107,"確定")>SUMIFS($D$8:$D$107,$A$8:$A$107,G16)),"確定逆移動の合計が元数量を超過","確認済み"))))))))))))))))))))))),ISNUMBER(N16),N16=IF(M16="確認済み",0,1))),1,IF(N16<>0,0,IF(AND(ISNUMBER(I16),I16=IF(AND(B16>=入出庫集計!$B$3,B16<=入出庫集計!$E$3),1,0),IF(OR(I16<>1,E16="未確認"),ISTEXT(J16),ISNUMBER(J16)),J16=IF(I16<>1,"",IF(E16="未確認","",IF(AND(E16="確定",C16="入庫"),D16,0))),IF(OR(I16<>1,E16="未確認"),ISTEXT(K16),ISNUMBER(K16)),K16=IF(I16<>1,"",IF(E16="未確認","",IF(AND(E16="確定",C16="出庫"),D16,0))),ISNUMBER(L16),L16=IF(AND(I16=1,E16="未確認"),1,0)),0,1)))) -> 0
A17: MOV-0010 | B17: 46310 | C17: 入庫 | D17: 20 | E17: 確定 | F17: 新規 | H17: 46310 | I17: =IF(M17="","",IF(N17<>0,NA(),IF(AND(B17>=入出庫集計!$B$3,B17<=入出庫集計!$E$3),1,0))) -> 1 | J17: =IF(M17="","",IF(N17<>0,NA(),IF(I17<>1,"",IF(E17="未確認","",IF(AND(E17="確定",C17="入庫"),D17,0))))) -> 20 | K17: =IF(M17="","",IF(N17<>0,NA(),IF(I17<>1,"",IF(E17="未確認","",IF(AND(E17="確定",C17="出庫"),D17,0))))) -> 0 | L17: =IF(M17="","",IF(N17<>0,NA(),IF(AND(I17=1,E17="未確認"),1,0))) -> 0 | M17: =IF(COUNTA(A17:H17)=0,"",IF(NOT(AND(ISTEXT(A17),LEN(A17)=8,EXACT(LEFT(A17,4),"MOV-"),ISNUMBER(FIND(MID(A17,5,1)&"x","0x1x2x3x4x5x6x7x8x9x")),ISNUMBER(FIND(MID(A17,6,1)&"x","0x1x2x3x4x5x6x7x8x9x")),ISNUMBER(FIND(MID(A17,7,1)&"x","0x1x2x3x4x5x6x7x8x9x")),ISNUMBER(FIND(MID(A17,8,1)&"x","0x1x2x3x4x5x6x7x8x9x")))),"IDはMOV-と半角数字4桁",IF(COUNTIFS($A$8:$A$107,A17)>1,"記録IDが重複",IF(NOT(IF(ISNUMBER(B17),AND(B17>=43831,B17<73051,B17=INT(B17)),FALSE())),"発生日は時刻なしで必須",IF(NOT(OR(C17="入庫",C17="出庫")),"入出区分を確認",IF(NOT(OR(E17="確定",E17="取消",E17="未確認")),"状態を確認",IF(NOT(OR(F17="新規",F17="訂正",F17="逆移動")),"種別を確認",IF(AND(E17<>"未確認",NOT(IF(ISNUMBER(D17),AND(D17>=1,D17<=1000000,D17=INT(D17)),FALSE()))),"確定/取消の数量は1〜100万個の整数",IF(AND(E17="未確認",COUNTA(D17)>0),"未確認の数量は空欄",IF(NOT(IF(ISNUMBER(H17),AND(H17>=43831,H17<73051,H17=INT(H17)),FALSE())),"記録確認日は時刻なしで必須",IF(OR(B17>H17,H17>入出庫集計!$B$4),"発生日≦確認日≦基準日を確認",IF(AND(F17="新規",COUNTA(G17)>0),"新規の参照元は空欄",IF(AND(F17<>"新規",NOT(AND(ISTEXT(G17),LEN(G17)=8,EXACT(LEFT(G17,4),"MOV-"),ISNUMBER(FIND(MID(G17,5,1)&"x","0x1x2x3x4x5x6x7x8x9x")),ISNUMBER(FIND(MID(G17,6,1)&"x","0x1x2x3x4x5x6x7x8x9x")),ISNUMBER(FIND(MID(G17,7,1)&"x","0x1x2x3x4x5x6x7x8x9x")),ISNUMBER(FIND(MID(G17,8,1)&"x","0x1x2x3x4x5x6x7x8x9x"))))),"訂正/逆移動の参照元IDが必須",IF(AND(F17<>"新規",G17>=A17),"参照元は自分より小さいID",IF(AND(F17<>"新規",COUNTIFS($A$8:$A$107,G17)<>1),"参照元が一意にありません",IF(AND(F17<>"新規",COUNTIFS($A$8:$A$107,G17,$F$8:$F$107,"新規")+COUNTIFS($A$8:$A$107,G17,$F$8:$F$107,"訂正")<>1),"逆移動を訂正/逆移動の元にできません",IF(AND(F17="訂正",COUNTIFS($A$8:$A$107,G17,$E$8:$E$107,"取消")<>1),"訂正の参照元は取消済が必要",IF(AND(F17="訂正",COUNTIFS($F$8:$F$107,"訂正",$G$8:$G$107,G17)>1),"同じ元記録への訂正は1行まで",IF(AND(F17="逆移動",E17<>"取消",COUNTIFS($A$8:$A$107,G17,$E$8:$E$107,"確定")<>1),"有効な逆移動の元は確定が必要",IF(AND(F17="逆移動",E17="取消",COUNTIFS($A$8:$A$107,G17,$E$8:$E$107,"確定")+COUNTIFS($A$8:$A$107,G17,$E$8:$E$107,"取消")<>1),"取消済の逆移動も元の状態を確認",IF(AND(F17="逆移動",COUNTIFS($A$8:$A$107,G17,$C$8:$C$107,"<>"&C17)<>1),"逆移動は元と反対の入出区分",IF(AND(F17="逆移動",B17<SUMIFS($B$8:$B$107,$A$8:$A$107,G17)),"逆移動日が元より前",IF(AND(F17="逆移動",SUMIFS($D$8:$D$107,$F$8:$F$107,"逆移動",$G$8:$G$107,G17,$E$8:$E$107,"確定")>SUMIFS($D$8:$D$107,$A$8:$A$107,G17)),"確定逆移動の合計が元数量を超過","確認済み"))))))))))))))))))))))) -> 確認済み | N17: =IF(M17="","",IF(M17="確認済み",0,1)) -> 0 | O17: =IF(COUNTA(A17:H17)=0,IF(AND(M17="",N17="",I17="",J17="",K17="",L17=""),0,1),IF(NOT(AND(ISTEXT(M17),M17=IF(COUNTA(A17:H17)=0,"",IF(NOT(AND(ISTEXT(A17),LEN(A17)=8,EXACT(LEFT(A17,4),"MOV-"),ISNUMBER(FIND(MID(A17,5,1)&"x","0x1x2x3x4x5x6x7x8x9x")),ISNUMBER(FIND(MID(A17,6,1)&"x","0x1x2x3x4x5x6x7x8x9x")),ISNUMBER(FIND(MID(A17,7,1)&"x","0x1x2x3x4x5x6x7x8x9x")),ISNUMBER(FIND(MID(A17,8,1)&"x","0x1x2x3x4x5x6x7x8x9x")))),"IDはMOV-と半角数字4桁",IF(COUNTIFS($A$8:$A$107,A17)>1,"記録IDが重複",IF(NOT(IF(ISNUMBER(B17),AND(B17>=43831,B17<73051,B17=INT(B17)),FALSE())),"発生日は時刻なしで必須",IF(NOT(OR(C17="入庫",C17="出庫")),"入出区分を確認",IF(NOT(OR(E17="確定",E17="取消",E17="未確認")),"状態を確認",IF(NOT(OR(F17="新規",F17="訂正",F17="逆移動")),"種別を確認",IF(AND(E17<>"未確認",NOT(IF(ISNUMBER(D17),AND(D17>=1,D17<=1000000,D17=INT(D17)),FALSE()))),"確定/取消の数量は1〜100万個の整数",IF(AND(E17="未確認",COUNTA(D17)>0),"未確認の数量は空欄",IF(NOT(IF(ISNUMBER(H17),AND(H17>=43831,H17<73051,H17=INT(H17)),FALSE())),"記録確認日は時刻なしで必須",IF(OR(B17>H17,H17>入出庫集計!$B$4),"発生日≦確認日≦基準日を確認",IF(AND(F17="新規",COUNTA(G17)>0),"新規の参照元は空欄",IF(AND(F17<>"新規",NOT(AND(ISTEXT(G17),LEN(G17)=8,EXACT(LEFT(G17,4),"MOV-"),ISNUMBER(FIND(MID(G17,5,1)&"x","0x1x2x3x4x5x6x7x8x9x")),ISNUMBER(FIND(MID(G17,6,1)&"x","0x1x2x3x4x5x6x7x8x9x")),ISNUMBER(FIND(MID(G17,7,1)&"x","0x1x2x3x4x5x6x7x8x9x")),ISNUMBER(FIND(MID(G17,8,1)&"x","0x1x2x3x4x5x6x7x8x9x"))))),"訂正/逆移動の参照元IDが必須",IF(AND(F17<>"新規",G17>=A17),"参照元は自分より小さいID",IF(AND(F17<>"新規",COUNTIFS($A$8:$A$107,G17)<>1),"参照元が一意にありません",IF(AND(F17<>"新規",COUNTIFS($A$8:$A$107,G17,$F$8:$F$107,"新規")+COUNTIFS($A$8:$A$107,G17,$F$8:$F$107,"訂正")<>1),"逆移動を訂正/逆移動の元にできません",IF(AND(F17="訂正",COUNTIFS($A$8:$A$107,G17,$E$8:$E$107,"取消")<>1),"訂正の参照元は取消済が必要",IF(AND(F17="訂正",COUNTIFS($F$8:$F$107,"訂正",$G$8:$G$107,G17)>1),"同じ元記録への訂正は1行まで",IF(AND(F17="逆移動",E17<>"取消",COUNTIFS($A$8:$A$107,G17,$E$8:$E$107,"確定")<>1),"有効な逆移動の元は確定が必要",IF(AND(F17="逆移動",E17="取消",COUNTIFS($A$8:$A$107,G17,$E$8:$E$107,"確定")+COUNTIFS($A$8:$A$107,G17,$E$8:$E$107,"取消")<>1),"取消済の逆移動も元の状態を確認",IF(AND(F17="逆移動",COUNTIFS($A$8:$A$107,G17,$C$8:$C$107,"<>"&C17)<>1),"逆移動は元と反対の入出区分",IF(AND(F17="逆移動",B17<SUMIFS($B$8:$B$107,$A$8:$A$107,G17)),"逆移動日が元より前",IF(AND(F17="逆移動",SUMIFS($D$8:$D$107,$F$8:$F$107,"逆移動",$G$8:$G$107,G17,$E$8:$E$107,"確定")>SUMIFS($D$8:$D$107,$A$8:$A$107,G17)),"確定逆移動の合計が元数量を超過","確認済み"))))))))))))))))))))))),ISNUMBER(N17),N17=IF(M17="確認済み",0,1))),1,IF(N17<>0,0,IF(AND(ISNUMBER(I17),I17=IF(AND(B17>=入出庫集計!$B$3,B17<=入出庫集計!$E$3),1,0),IF(OR(I17<>1,E17="未確認"),ISTEXT(J17),ISNUMBER(J17)),J17=IF(I17<>1,"",IF(E17="未確認","",IF(AND(E17="確定",C17="入庫"),D17,0))),IF(OR(I17<>1,E17="未確認"),ISTEXT(K17),ISNUMBER(K17)),K17=IF(I17<>1,"",IF(E17="未確認","",IF(AND(E17="確定",C17="出庫"),D17,0))),ISNUMBER(L17),L17=IF(AND(I17=1,E17="未確認"),1,0)),0,1)))) -> 0
A18: MOV-0011 | B18: 46315 | C18: 出庫 | E18: 未確認 | F18: 逆移動 | G18: MOV-0010 | H18: 46316 | I18: =IF(M18="","",IF(N18<>0,NA(),IF(AND(B18>=入出庫集計!$B$3,B18<=入出庫集計!$E$3),1,0))) -> 1 | J18: =IF(M18="","",IF(N18<>0,NA(),IF(I18<>1,"",IF(E18="未確認","",IF(AND(E18="確定",C18="入庫"),D18,0))))) | K18: =IF(M18="","",IF(N18<>0,NA(),IF(I18<>1,"",IF(E18="未確認","",IF(AND(E18="確定",C18="出庫"),D18,0))))) | L18: =IF(M18="","",IF(N18<>0,NA(),IF(AND(I18=1,E18="未確認"),1,0))) -> 1 | M18: =IF(COUNTA(A18:H18)=0,"",IF(NOT(AND(ISTEXT(A18),LEN(A18)=8,EXACT(LEFT(A18,4),"MOV-"),ISNUMBER(FIND(MID(A18,5,1)&"x","0x1x2x3x4x5x6x7x8x9x")),ISNUMBER(FIND(MID(A18,6,1)&"x","0x1x2x3x4x5x6x7x8x9x")),ISNUMBER(FIND(MID(A18,7,1)&"x","0x1x2x3x4x5x6x7x8x9x")),ISNUMBER(FIND(MID(A18,8,1)&"x","0x1x2x3x4x5x6x7x8x9x")))),"IDはMOV-と半角数字4桁",IF(COUNTIFS($A$8:$A$107,A18)>1,"記録IDが重複",IF(NOT(IF(ISNUMBER(B18),AND(B18>=43831,B18<73051,B18=INT(B18)),FALSE())),"発生日は時刻なしで必須",IF(NOT(OR(C18="入庫",C18="出庫")),"入出区分を確認",IF(NOT(OR(E18="確定",E18="取消",E18="未確認")),"状態を確認",IF(NOT(OR(F18="新規",F18="訂正",F18="逆移動")),"種別を確認",IF(AND(E18<>"未確認",NOT(IF(ISNUMBER(D18),AND(D18>=1,D18<=1000000,D18=INT(D18)),FALSE()))),"確定/取消の数量は1〜100万個の整数",IF(AND(E18="未確認",COUNTA(D18)>0),"未確認の数量は空欄",IF(NOT(IF(ISNUMBER(H18),AND(H18>=43831,H18<73051,H18=INT(H18)),FALSE())),"記録確認日は時刻なしで必須",IF(OR(B18>H18,H18>入出庫集計!$B$4),"発生日≦確認日≦基準日を確認",IF(AND(F18="新規",COUNTA(G18)>0),"新規の参照元は空欄",IF(AND(F18<>"新規",NOT(AND(ISTEXT(G18),LEN(G18)=8,EXACT(LEFT(G18,4),"MOV-"),ISNUMBER(FIND(MID(G18,5,1)&"x","0x1x2x3x4x5x6x7x8x9x")),ISNUMBER(FIND(MID(G18,6,1)&"x","0x1x2x3x4x5x6x7x8x9x")),ISNUMBER(FIND(MID(G18,7,1)&"x","0x1x2x3x4x5x6x7x8x9x")),ISNUMBER(FIND(MID(G18,8,1)&"x","0x1x2x3x4x5x6x7x8x9x"))))),"訂正/逆移動の参照元IDが必須",IF(AND(F18<>"新規",G18>=A18),"参照元は自分より小さいID",IF(AND(F18<>"新規",COUNTIFS($A$8:$A$107,G18)<>1),"参照元が一意にありません",IF(AND(F18<>"新規",COUNTIFS($A$8:$A$107,G18,$F$8:$F$107,"新規")+COUNTIFS($A$8:$A$107,G18,$F$8:$F$107,"訂正")<>1),"逆移動を訂正/逆移動の元にできません",IF(AND(F18="訂正",COUNTIFS($A$8:$A$107,G18,$E$8:$E$107,"取消")<>1),"訂正の参照元は取消済が必要",IF(AND(F18="訂正",COUNTIFS($F$8:$F$107,"訂正",$G$8:$G$107,G18)>1),"同じ元記録への訂正は1行まで",IF(AND(F18="逆移動",E18<>"取消",COUNTIFS($A$8:$A$107,G18,$E$8:$E$107,"確定")<>1),"有効な逆移動の元は確定が必要",IF(AND(F18="逆移動",E18="取消",COUNTIFS($A$8:$A$107,G18,$E$8:$E$107,"確定")+COUNTIFS($A$8:$A$107,G18,$E$8:$E$107,"取消")<>1),"取消済の逆移動も元の状態を確認",IF(AND(F18="逆移動",COUNTIFS($A$8:$A$107,G18,$C$8:$C$107,"<>"&C18)<>1),"逆移動は元と反対の入出区分",IF(AND(F18="逆移動",B18<SUMIFS($B$8:$B$107,$A$8:$A$107,G18)),"逆移動日が元より前",IF(AND(F18="逆移動",SUMIFS($D$8:$D$107,$F$8:$F$107,"逆移動",$G$8:$G$107,G18,$E$8:$E$107,"確定")>SUMIFS($D$8:$D$107,$A$8:$A$107,G18)),"確定逆移動の合計が元数量を超過","確認済み"))))))))))))))))))))))) -> 確認済み | N18: =IF(M18="","",IF(M18="確認済み",0,1)) -> 0 | O18: =IF(COUNTA(A18:H18)=0,IF(AND(M18="",N18="",I18="",J18="",K18="",L18=""),0,1),IF(NOT(AND(ISTEXT(M18),M18=IF(COUNTA(A18:H18)=0,"",IF(NOT(AND(ISTEXT(A18),LEN(A18)=8,EXACT(LEFT(A18,4),"MOV-"),ISNUMBER(FIND(MID(A18,5,1)&"x","0x1x2x3x4x5x6x7x8x9x")),ISNUMBER(FIND(MID(A18,6,1)&"x","0x1x2x3x4x5x6x7x8x9x")),ISNUMBER(FIND(MID(A18,7,1)&"x","0x1x2x3x4x5x6x7x8x9x")),ISNUMBER(FIND(MID(A18,8,1)&"x","0x1x2x3x4x5x6x7x8x9x")))),"IDはMOV-と半角数字4桁",IF(COUNTIFS($A$8:$A$107,A18)>1,"記録IDが重複",IF(NOT(IF(ISNUMBER(B18),AND(B18>=43831,B18<73051,B18=INT(B18)),FALSE())),"発生日は時刻なしで必須",IF(NOT(OR(C18="入庫",C18="出庫")),"入出区分を確認",IF(NOT(OR(E18="確定",E18="取消",E18="未確認")),"状態を確認",IF(NOT(OR(F18="新規",F18="訂正",F18="逆移動")),"種別を確認",IF(AND(E18<>"未確認",NOT(IF(ISNUMBER(D18),AND(D18>=1,D18<=1000000,D18=INT(D18)),FALSE()))),"確定/取消の数量は1〜100万個の整数",IF(AND(E18="未確認",COUNTA(D18)>0),"未確認の数量は空欄",IF(NOT(IF(ISNUMBER(H18),AND(H18>=43831,H18<73051,H18=INT(H18)),FALSE())),"記録確認日は時刻なしで必須",IF(OR(B18>H18,H18>入出庫集計!$B$4),"発生日≦確認日≦基準日を確認",IF(AND(F18="新規",COUNTA(G18)>0),"新規の参照元は空欄",IF(AND(F18<>"新規",NOT(AND(ISTEXT(G18),LEN(G18)=8,EXACT(LEFT(G18,4),"MOV-"),ISNUMBER(FIND(MID(G18,5,1)&"x","0x1x2x3x4x5x6x7x8x9x")),ISNUMBER(FIND(MID(G18,6,1)&"x","0x1x2x3x4x5x6x7x8x9x")),ISNUMBER(FIND(MID(G18,7,1)&"x","0x1x2x3x4x5x6x7x8x9x")),ISNUMBER(FIND(MID(G18,8,1)&"x","0x1x2x3x4x5x6x7x8x9x"))))),"訂正/逆移動の参照元IDが必須",IF(AND(F18<>"新規",G18>=A18),"参照元は自分より小さいID",IF(AND(F18<>"新規",COUNTIFS($A$8:$A$107,G18)<>1),"参照元が一意にありません",IF(AND(F18<>"新規",COUNTIFS($A$8:$A$107,G18,$F$8:$F$107,"新規")+COUNTIFS($A$8:$A$107,G18,$F$8:$F$107,"訂正")<>1),"逆移動を訂正/逆移動の元にできません",IF(AND(F18="訂正",COUNTIFS($A$8:$A$107,G18,$E$8:$E$107,"取消")<>1),"訂正の参照元は取消済が必要",IF(AND(F18="訂正",COUNTIFS($F$8:$F$107,"訂正",$G$8:$G$107,G18)>1),"同じ元記録への訂正は1行まで",IF(AND(F18="逆移動",E18<>"取消",COUNTIFS($A$8:$A$107,G18,$E$8:$E$107,"確定")<>1),"有効な逆移動の元は確定が必要",IF(AND(F18="逆移動",E18="取消",COUNTIFS($A$8:$A$107,G18,$E$8:$E$107,"確定")+COUNTIFS($A$8:$A$107,G18,$E$8:$E$107,"取消")<>1),"取消済の逆移動も元の状態を確認",IF(AND(F18="逆移動",COUNTIFS($A$8:$A$107,G18,$C$8:$C$107,"<>"&C18)<>1),"逆移動は元と反対の入出区分",IF(AND(F18="逆移動",B18<SUMIFS($B$8:$B$107,$A$8:$A$107,G18)),"逆移動日が元より前",IF(AND(F18="逆移動",SUMIFS($D$8:$D$107,$F$8:$F$107,"逆移動",$G$8:$G$107,G18,$E$8:$E$107,"確定")>SUMIFS($D$8:$D$107,$A$8:$A$107,G18)),"確定逆移動の合計が元数量を超過","確認済み"))))))))))))))))))))))),ISNUMBER(N18),N18=IF(M18="確認済み",0,1))),1,IF(N18<>0,0,IF(AND(ISNUMBER(I18),I18=IF(AND(B18>=入出庫集計!$B$3,B18<=入出庫集計!$E$3),1,0),IF(OR(I18<>1,E18="未確認"),ISTEXT(J18),ISNUMBER(J18)),J18=IF(I18<>1,"",IF(E18="未確認","",IF(AND(E18="確定",C18="入庫"),D18,0))),IF(OR(I18<>1,E18="未確認"),ISTEXT(K18),ISNUMBER(K18)),K18=IF(I18<>1,"",IF(E18="未確認","",IF(AND(E18="確定",C18="出庫"),D18,0))),ISNUMBER(L18),L18=IF(AND(I18=1,E18="未確認"),1,0)),0,1)))) -> 0
A19: MOV-0012 | B19: 46320 | C19: 入庫 | D19: 1 | E19: 取消 | F19: 新規 | H19: 46320 | I19: =IF(M19="","",IF(N19<>0,NA(),IF(AND(B19>=入出庫集計!$B$3,B19<=入出庫集計!$E$3),1,0))) -> 1 | J19: =IF(M19="","",IF(N19<>0,NA(),IF(I19<>1,"",IF(E19="未確認","",IF(AND(E19="確定",C19="入庫"),D19,0))))) -> 0 | K19: =IF(M19="","",IF(N19<>0,NA(),IF(I19<>1,"",IF(E19="未確認","",IF(AND(E19="確定",C19="出庫"),D19,0))))) -> 0 | L19: =IF(M19="","",IF(N19<>0,NA(),IF(AND(I19=1,E19="未確認"),1,0))) -> 0 | M19: =IF(COUNTA(A19:H19)=0,"",IF(NOT(AND(ISTEXT(A19),LEN(A19)=8,EXACT(LEFT(A19,4),"MOV-"),ISNUMBER(FIND(MID(A19,5,1)&"x","0x1x2x3x4x5x6x7x8x9x")),ISNUMBER(FIND(MID(A19,6,1)&"x","0x1x2x3x4x5x6x7x8x9x")),ISNUMBER(FIND(MID(A19,7,1)&"x","0x1x2x3x4x5x6x7x8x9x")),ISNUMBER(FIND(MID(A19,8,1)&"x","0x1x2x3x4x5x6x7x8x9x")))),"IDはMOV-と半角数字4桁",IF(COUNTIFS($A$8:$A$107,A19)>1,"記録IDが重複",IF(NOT(IF(ISNUMBER(B19),AND(B19>=43831,B19<73051,B19=INT(B19)),FALSE())),"発生日は時刻なしで必須",IF(NOT(OR(C19="入庫",C19="出庫")),"入出区分を確認",IF(NOT(OR(E19="確定",E19="取消",E19="未確認")),"状態を確認",IF(NOT(OR(F19="新規",F19="訂正",F19="逆移動")),"種別を確認",IF(AND(E19<>"未確認",NOT(IF(ISNUMBER(D19),AND(D19>=1,D19<=1000000,D19=INT(D19)),FALSE()))),"確定/取消の数量は1〜100万個の整数",IF(AND(E19="未確認",COUNTA(D19)>0),"未確認の数量は空欄",IF(NOT(IF(ISNUMBER(H19),AND(H19>=43831,H19<73051,H19=INT(H19)),FALSE())),"記録確認日は時刻なしで必須",IF(OR(B19>H19,H19>入出庫集計!$B$4),"発生日≦確認日≦基準日を確認",IF(AND(F19="新規",COUNTA(G19)>0),"新規の参照元は空欄",IF(AND(F19<>"新規",NOT(AND(ISTEXT(G19),LEN(G19)=8,EXACT(LEFT(G19,4),"MOV-"),ISNUMBER(FIND(MID(G19,5,1)&"x","0x1x2x3x4x5x6x7x8x9x")),ISNUMBER(FIND(MID(G19,6,1)&"x","0x1x2x3x4x5x6x7x8x9x")),ISNUMBER(FIND(MID(G19,7,1)&"x","0x1x2x3x4x5x6x7x8x9x")),ISNUMBER(FIND(MID(G19,8,1)&"x","0x1x2x3x4x5x6x7x8x9x"))))),"訂正/逆移動の参照元IDが必須",IF(AND(F19<>"新規",G19>=A19),"参照元は自分より小さいID",IF(AND(F19<>"新規",COUNTIFS($A$8:$A$107,G19)<>1),"参照元が一意にありません",IF(AND(F19<>"新規",COUNTIFS($A$8:$A$107,G19,$F$8:$F$107,"新規")+COUNTIFS($A$8:$A$107,G19,$F$8:$F$107,"訂正")<>1),"逆移動を訂正/逆移動の元にできません",IF(AND(F19="訂正",COUNTIFS($A$8:$A$107,G19,$E$8:$E$107,"取消")<>1),"訂正の参照元は取消済が必要",IF(AND(F19="訂正",COUNTIFS($F$8:$F$107,"訂正",$G$8:$G$107,G19)>1),"同じ元記録への訂正は1行まで",IF(AND(F19="逆移動",E19<>"取消",COUNTIFS($A$8:$A$107,G19,$E$8:$E$107,"確定")<>1),"有効な逆移動の元は確定が必要",IF(AND(F19="逆移動",E19="取消",COUNTIFS($A$8:$A$107,G19,$E$8:$E$107,"確定")+COUNTIFS($A$8:$A$107,G19,$E$8:$E$107,"取消")<>1),"取消済の逆移動も元の状態を確認",IF(AND(F19="逆移動",COUNTIFS($A$8:$A$107,G19,$C$8:$C$107,"<>"&C19)<>1),"逆移動は元と反対の入出区分",IF(AND(F19="逆移動",B19<SUMIFS($B$8:$B$107,$A$8:$A$107,G19)),"逆移動日が元より前",IF(AND(F19="逆移動",SUMIFS($D$8:$D$107,$F$8:$F$107,"逆移動",$G$8:$G$107,G19,$E$8:$E$107,"確定")>SUMIFS($D$8:$D$107,$A$8:$A$107,G19)),"確定逆移動の合計が元数量を超過","確認済み"))))))))))))))))))))))) -> 確認済み | N19: =IF(M19="","",IF(M19="確認済み",0,1)) -> 0 | O19: =IF(COUNTA(A19:H19)=0,IF(AND(M19="",N19="",I19="",J19="",K19="",L19=""),0,1),IF(NOT(AND(ISTEXT(M19),M19=IF(COUNTA(A19:H19)=0,"",IF(NOT(AND(ISTEXT(A19),LEN(A19)=8,EXACT(LEFT(A19,4),"MOV-"),ISNUMBER(FIND(MID(A19,5,1)&"x","0x1x2x3x4x5x6x7x8x9x")),ISNUMBER(FIND(MID(A19,6,1)&"x","0x1x2x3x4x5x6x7x8x9x")),ISNUMBER(FIND(MID(A19,7,1)&"x","0x1x2x3x4x5x6x7x8x9x")),ISNUMBER(FIND(MID(A19,8,1)&"x","0x1x2x3x4x5x6x7x8x9x")))),"IDはMOV-と半角数字4桁",IF(COUNTIFS($A$8:$A$107,A19)>1,"記録IDが重複",IF(NOT(IF(ISNUMBER(B19),AND(B19>=43831,B19<73051,B19=INT(B19)),FALSE())),"発生日は時刻なしで必須",IF(NOT(OR(C19="入庫",C19="出庫")),"入出区分を確認",IF(NOT(OR(E19="確定",E19="取消",E19="未確認")),"状態を確認",IF(NOT(OR(F19="新規",F19="訂正",F19="逆移動")),"種別を確認",IF(AND(E19<>"未確認",NOT(IF(ISNUMBER(D19),AND(D19>=1,D19<=1000000,D19=INT(D19)),FALSE()))),"確定/取消の数量は1〜100万個の整数",IF(AND(E19="未確認",COUNTA(D19)>0),"未確認の数量は空欄",IF(NOT(IF(ISNUMBER(H19),AND(H19>=43831,H19<73051,H19=INT(H19)),FALSE())),"記録確認日は時刻なしで必須",IF(OR(B19>H19,H19>入出庫集計!$B$4),"発生日≦確認日≦基準日を確認",IF(AND(F19="新規",COUNTA(G19)>0),"新規の参照元は空欄",IF(AND(F19<>"新規",NOT(AND(ISTEXT(G19),LEN(G19)=8,EXACT(LEFT(G19,4),"MOV-"),ISNUMBER(FIND(MID(G19,5,1)&"x","0x1x2x3x4x5x6x7x8x9x")),ISNUMBER(FIND(MID(G19,6,1)&"x","0x1x2x3x4x5x6x7x8x9x")),ISNUMBER(FIND(MID(G19,7,1)&"x","0x1x2x3x4x5x6x7x8x9x")),ISNUMBER(FIND(MID(G19,8,1)&"x","0x1x2x3x4x5x6x7x8x9x"))))),"訂正/逆移動の参照元IDが必須",IF(AND(F19<>"新規",G19>=A19),"参照元は自分より小さいID",IF(AND(F19<>"新規",COUNTIFS($A$8:$A$107,G19)<>1),"参照元が一意にありません",IF(AND(F19<>"新規",COUNTIFS($A$8:$A$107,G19,$F$8:$F$107,"新規")+COUNTIFS($A$8:$A$107,G19,$F$8:$F$107,"訂正")<>1),"逆移動を訂正/逆移動の元にできません",IF(AND(F19="訂正",COUNTIFS($A$8:$A$107,G19,$E$8:$E$107,"取消")<>1),"訂正の参照元は取消済が必要",IF(AND(F19="訂正",COUNTIFS($F$8:$F$107,"訂正",$G$8:$G$107,G19)>1),"同じ元記録への訂正は1行まで",IF(AND(F19="逆移動",E19<>"取消",COUNTIFS($A$8:$A$107,G19,$E$8:$E$107,"確定")<>1),"有効な逆移動の元は確定が必要",IF(AND(F19="逆移動",E19="取消",COUNTIFS($A$8:$A$107,G19,$E$8:$E$107,"確定")+COUNTIFS($A$8:$A$107,G19,$E$8:$E$107,"取消")<>1),"取消済の逆移動も元の状態を確認",IF(AND(F19="逆移動",COUNTIFS($A$8:$A$107,G19,$C$8:$C$107,"<>"&C19)<>1),"逆移動は元と反対の入出区分",IF(AND(F19="逆移動",B19<SUMIFS($B$8:$B$107,$A$8:$A$107,G19)),"逆移動日が元より前",IF(AND(F19="逆移動",SUMIFS($D$8:$D$107,$F$8:$F$107,"逆移動",$G$8:$G$107,G19,$E$8:$E$107,"確定")>SUMIFS($D$8:$D$107,$A$8:$A$107,G19)),"確定逆移動の合計が元数量を超過","確認済み"))))))))))))))))))))))),ISNUMBER(N19),N19=IF(M19="確認済み",0,1))),1,IF(N19<>0,0,IF(AND(ISNUMBER(I19),I19=IF(AND(B19>=入出庫集計!$B$3,B19<=入出庫集計!$E$3),1,0),IF(OR(I19<>1,E19="未確認"),ISTEXT(J19),ISNUMBER(J19)),J19=IF(I19<>1,"",IF(E19="未確認","",IF(AND(E19="確定",C19="入庫"),D19,0))),IF(OR(I19<>1,E19="未確認"),ISTEXT(K19),ISNUMBER(K19)),K19=IF(I19<>1,"",IF(E19="未確認","",IF(AND(E19="確定",C19="出庫"),D19,0))),ISNUMBER(L19),L19=IF(AND(I19=1,E19="未確認"),1,0)),0,1)))) -> 0
I20: =IF(M20="","",IF(N20<>0,NA(),IF(AND(B20>=入出庫集計!$B$3,B20<=入出庫集計!$E$3),1,0))) | J20: =IF(M20="","",IF(N20<>0,NA(),IF(I20<>1,"",IF(E20="未確認","",IF(AND(E20="確定",C20="入庫"),D20,0))))) | K20: =IF(M20="","",IF(N20<>0,NA(),IF(I20<>1,"",IF(E20="未確認","",IF(AND(E20="確定",C20="出庫"),D20,0))))) | L20: =IF(M20="","",IF(N20<>0,NA(),IF(AND(I20=1,E20="未確認"),1,0))) | M20: =IF(COUNTA(A20:H20)=0,"",IF(NOT(AND(ISTEXT(A20),LEN(A20)=8,EXACT(LEFT(A20,4),"MOV-"),ISNUMBER(FIND(MID(A20,5,1)&"x","0x1x2x3x4x5x6x7x8x9x")),ISNUMBER(FIND(MID(A20,6,1)&"x","0x1x2x3x4x5x6x7x8x9x")),ISNUMBER(FIND(MID(A20,7,1)&"x","0x1x2x3x4x5x6x7x8x9x")),ISNUMBER(FIND(MID(A20,8,1)&"x","0x1x2x3x4x5x6x7x8x9x")))),"IDはMOV-と半角数字4桁",IF(COUNTIFS($A$8:$A$107,A20)>1,"記録IDが重複",IF(NOT(IF(ISNUMBER(B20),AND(B20>=43831,B20<73051,B20=INT(B20)),FALSE())),"発生日は時刻なしで必須",IF(NOT(OR(C20="入庫",C20="出庫")),"入出区分を確認",IF(NOT(OR(E20="確定",E20="取消",E20="未確認")),"状態を確認",IF(NOT(OR(F20="新規",F20="訂正",F20="逆移動")),"種別を確認",IF(AND(E20<>"未確認",NOT(IF(ISNUMBER(D20),AND(D20>=1,D20<=1000000,D20=INT(D20)),FALSE()))),"確定/取消の数量は1〜100万個の整数",IF(AND(E20="未確認",COUNTA(D20)>0),"未確認の数量は空欄",IF(NOT(IF(ISNUMBER(H20),AND(H20>=43831,H20<73051,H20=INT(H20)),FALSE())),"記録確認日は時刻なしで必須",IF(OR(B20>H20,H20>入出庫集計!$B$4),"発生日≦確認日≦基準日を確認",IF(AND(F20="新規",COUNTA(G20)>0),"新規の参照元は空欄",IF(AND(F20<>"新規",NOT(AND(ISTEXT(G20),LEN(G20)=8,EXACT(LEFT(G20,4),"MOV-"),ISNUMBER(FIND(MID(G20,5,1)&"x","0x1x2x3x4x5x6x7x8x9x")),ISNUMBER(FIND(MID(G20,6,1)&"x","0x1x2x3x4x5x6x7x8x9x")),ISNUMBER(FIND(MID(G20,7,1)&"x","0x1x2x3x4x5x6x7x8x9x")),ISNUMBER(FIND(MID(G20,8,1)&"x","0x1x2x3x4x5x6x7x8x9x"))))),"訂正/逆移動の参照元IDが必須",IF(AND(F20<>"新規",G20>=A20),"参照元は自分より小さいID",IF(AND(F20<>"新規",COUNTIFS($A$8:$A$107,G20)<>1),"参照元が一意にありません",IF(AND(F20<>"新規",COUNTIFS($A$8:$A$107,G20,$F$8:$F$107,"新規")+COUNTIFS($A$8:$A$107,G20,$F$8:$F$107,"訂正")<>1),"逆移動を訂正/逆移動の元にできません",IF(AND(F20="訂正",COUNTIFS($A$8:$A$107,G20,$E$8:$E$107,"取消")<>1),"訂正の参照元は取消済が必要",IF(AND(F20="訂正",COUNTIFS($F$8:$F$107,"訂正",$G$8:$G$107,G20)>1),"同じ元記録への訂正は1行まで",IF(AND(F20="逆移動",E20<>"取消",COUNTIFS($A$8:$A$107,G20,$E$8:$E$107,"確定")<>1),"有効な逆移動の元は確定が必要",IF(AND(F20="逆移動",E20="取消",COUNTIFS($A$8:$A$107,G20,$E$8:$E$107,"確定")+COUNTIFS($A$8:$A$107,G20,$E$8:$E$107,"取消")<>1),"取消済の逆移動も元の状態を確認",IF(AND(F20="逆移動",COUNTIFS($A$8:$A$107,G20,$C$8:$C$107,"<>"&C20)<>1),"逆移動は元と反対の入出区分",IF(AND(F20="逆移動",B20<SUMIFS($B$8:$B$107,$A$8:$A$107,G20)),"逆移動日が元より前",IF(AND(F20="逆移動",SUMIFS($D$8:$D$107,$F$8:$F$107,"逆移動",$G$8:$G$107,G20,$E$8:$E$107,"確定")>SUMIFS($D$8:$D$107,$A$8:$A$107,G20)),"確定逆移動の合計が元数量を超過","確認済み"))))))))))))))))))))))) | N20: =IF(M20="","",IF(M20="確認済み",0,1)) | O20: =IF(COUNTA(A20:H20)=0,IF(AND(M20="",N20="",I20="",J20="",K20="",L20=""),0,1),IF(NOT(AND(ISTEXT(M20),M20=IF(COUNTA(A20:H20)=0,"",IF(NOT(AND(ISTEXT(A20),LEN(A20)=8,EXACT(LEFT(A20,4),"MOV-"),ISNUMBER(FIND(MID(A20,5,1)&"x","0x1x2x3x4x5x6x7x8x9x")),ISNUMBER(FIND(MID(A20,6,1)&"x","0x1x2x3x4x5x6x7x8x9x")),ISNUMBER(FIND(MID(A20,7,1)&"x","0x1x2x3x4x5x6x7x8x9x")),ISNUMBER(FIND(MID(A20,8,1)&"x","0x1x2x3x4x5x6x7x8x9x")))),"IDはMOV-と半角数字4桁",IF(COUNTIFS($A$8:$A$107,A20)>1,"記録IDが重複",IF(NOT(IF(ISNUMBER(B20),AND(B20>=43831,B20<73051,B20=INT(B20)),FALSE())),"発生日は時刻なしで必須",IF(NOT(OR(C20="入庫",C20="出庫")),"入出区分を確認",IF(NOT(OR(E20="確定",E20="取消",E20="未確認")),"状態を確認",IF(NOT(OR(F20="新規",F20="訂正",F20="逆移動")),"種別を確認",IF(AND(E20<>"未確認",NOT(IF(ISNUMBER(D20),AND(D20>=1,D20<=1000000,D20=INT(D20)),FALSE()))),"確定/取消の数量は1〜100万個の整数",IF(AND(E20="未確認",COUNTA(D20)>0),"未確認の数量は空欄",IF(NOT(IF(ISNUMBER(H20),AND(H20>=43831,H20<73051,H20=INT(H20)),FALSE())),"記録確認日は時刻なしで必須",IF(OR(B20>H20,H20>入出庫集計!$B$4),"発生日≦確認日≦基準日を確認",IF(AND(F20="新規",COUNTA(G20)>0),"新規の参照元は空欄",IF(AND(F20<>"新規",NOT(AND(ISTEXT(G20),LEN(G20)=8,EXACT(LEFT(G20,4),"MOV-"),ISNUMBER(FIND(MID(G20,5,1)&"x","0x1x2x3x4x5x6x7x8x9x")),ISNUMBER(FIND(MID(G20,6,1)&"x","0x1x2x3x4x5x6x7x8x9x")),ISNUMBER(FIND(MID(G20,7,1)&"x","0x1x2x3x4x5x6x7x8x9x")),ISNUMBER(FIND(MID(G20,8,1)&"x","0x1x2x3x4x5x6x7x8x9x"))))),"訂正/逆移動の参照元IDが必須",IF(AND(F20<>"新規",G20>=A20),"参照元は自分より小さいID",IF(AND(F20<>"新規",COUNTIFS($A$8:$A$107,G20)<>1),"参照元が一意にありません",IF(AND(F20<>"新規",COUNTIFS($A$8:$A$107,G20,$F$8:$F$107,"新規")+COUNTIFS($A$8:$A$107,G20,$F$8:$F$107,"訂正")<>1),"逆移動を訂正/逆移動の元にできません",IF(AND(F20="訂正",COUNTIFS($A$8:$A$107,G20,$E$8:$E$107,"取消")<>1),"訂正の参照元は取消済が必要",IF(AND(F20="訂正",COUNTIFS($F$8:$F$107,"訂正",$G$8:$G$107,G20)>1),"同じ元記録への訂正は1行まで",IF(AND(F20="逆移動",E20<>"取消",COUNTIFS($A$8:$A$107,G20,$E$8:$E$107,"確定")<>1),"有効な逆移動の元は確定が必要",IF(AND(F20="逆移動",E20="取消",COUNTIFS($A$8:$A$107,G20,$E$8:$E$107,"確定")+COUNTIFS($A$8:$A$107,G20,$E$8:$E$107,"取消")<>1),"取消済の逆移動も元の状態を確認",IF(AND(F20="逆移動",COUNTIFS($A$8:$A$107,G20,$C$8:$C$107,"<>"&C20)<>1),"逆移動は元と反対の入出区分",IF(AND(F20="逆移動",B20<SUMIFS($B$8:$B$107,$A$8:$A$107,G20)),"逆移動日が元より前",IF(AND(F20="逆移動",SUMIFS($D$8:$D$107,$F$8:$F$107,"逆移動",$G$8:$G$107,G20,$E$8:$E$107,"確定")>SUMIFS($D$8:$D$107,$A$8:$A$107,G20)),"確定逆移動の合計が元数量を超過","確認済み"))))))))))))))))))))))),ISNUMBER(N20),N20=IF(M20="確認済み",0,1))),1,IF(N20<>0,0,IF(AND(ISNUMBER(I20),I20=IF(AND(B20>=入出庫集計!$B$3,B20<=入出庫集計!$E$3),1,0),IF(OR(I20<>1,E20="未確認"),ISTEXT(J20),ISNUMBER(J20)),J20=IF(I20<>1,"",IF(E20="未確認","",IF(AND(E20="確定",C20="入庫"),D20,0))),IF(OR(I20<>1,E20="未確認"),ISTEXT(K20),ISNUMBER(K20)),K20=IF(I20<>1,"",IF(E20="未確認","",IF(AND(E20="確定",C20="出庫"),D20,0))),ISNUMBER(L20),L20=IF(AND(I20=1,E20="未確認"),1,0)),0,1)))) -> 0
I21: =IF(M21="","",IF(N21<>0,NA(),IF(AND(B21>=入出庫集計!$B$3,B21<=入出庫集計!$E$3),1,0))) | J21: =IF(M21="","",IF(N21<>0,NA(),IF(I21<>1,"",IF(E21="未確認","",IF(AND(E21="確定",C21="入庫"),D21,0))))) | K21: =IF(M21="","",IF(N21<>0,NA(),IF(I21<>1,"",IF(E21="未確認","",IF(AND(E21="確定",C21="出庫"),D21,0))))) | L21: =IF(M21="","",IF(N21<>0,NA(),IF(AND(I21=1,E21="未確認"),1,0))) | M21: =IF(COUNTA(A21:H21)=0,"",IF(NOT(AND(ISTEXT(A21),LEN(A21)=8,EXACT(LEFT(A21,4),"MOV-"),ISNUMBER(FIND(MID(A21,5,1)&"x","0x1x2x3x4x5x6x7x8x9x")),ISNUMBER(FIND(MID(A21,6,1)&"x","0x1x2x3x4x5x6x7x8x9x")),ISNUMBER(FIND(MID(A21,7,1)&"x","0x1x2x3x4x5x6x7x8x9x")),ISNUMBER(FIND(MID(A21,8,1)&"x","0x1x2x3x4x5x6x7x8x9x")))),"IDはMOV-と半角数字4桁",IF(COUNTIFS($A$8:$A$107,A21)>1,"記録IDが重複",IF(NOT(IF(ISNUMBER(B21),AND(B21>=43831,B21<73051,B21=INT(B21)),FALSE())),"発生日は時刻なしで必須",IF(NOT(OR(C21="入庫",C21="出庫")),"入出区分を確認",IF(NOT(OR(E21="確定",E21="取消",E21="未確認")),"状態を確認",IF(NOT(OR(F21="新規",F21="訂正",F21="逆移動")),"種別を確認",IF(AND(E21<>"未確認",NOT(IF(ISNUMBER(D21),AND(D21>=1,D21<=1000000,D21=INT(D21)),FALSE()))),"確定/取消の数量は1〜100万個の整数",IF(AND(E21="未確認",COUNTA(D21)>0),"未確認の数量は空欄",IF(NOT(IF(ISNUMBER(H21),AND(H21>=43831,H21<73051,H21=INT(H21)),FALSE())),"記録確認日は時刻なしで必須",IF(OR(B21>H21,H21>入出庫集計!$B$4),"発生日≦確認日≦基準日を確認",IF(AND(F21="新規",COUNTA(G21)>0),"新規の参照元は空欄",IF(AND(F21<>"新規",NOT(AND(ISTEXT(G21),LEN(G21)=8,EXACT(LEFT(G21,4),"MOV-"),ISNUMBER(FIND(MID(G21,5,1)&"x","0x1x2x3x4x5x6x7x8x9x")),ISNUMBER(FIND(MID(G21,6,1)&"x","0x1x2x3x4x5x6x7x8x9x")),ISNUMBER(FIND(MID(G21,7,1)&"x","0x1x2x3x4x5x6x7x8x9x")),ISNUMBER(FIND(MID(G21,8,1)&"x","0x1x2x3x4x5x6x7x8x9x"))))),"訂正/逆移動の参照元IDが必須",IF(AND(F21<>"新規",G21>=A21),"参照元は自分より小さいID",IF(AND(F21<>"新規",COUNTIFS($A$8:$A$107,G21)<>1),"参照元が一意にありません",IF(AND(F21<>"新規",COUNTIFS($A$8:$A$107,G21,$F$8:$F$107,"新規")+COUNTIFS($A$8:$A$107,G21,$F$8:$F$107,"訂正")<>1),"逆移動を訂正/逆移動の元にできません",IF(AND(F21="訂正",COUNTIFS($A$8:$A$107,G21,$E$8:$E$107,"取消")<>1),"訂正の参照元は取消済が必要",IF(AND(F21="訂正",COUNTIFS($F$8:$F$107,"訂正",$G$8:$G$107,G21)>1),"同じ元記録への訂正は1行まで",IF(AND(F21="逆移動",E21<>"取消",COUNTIFS($A$8:$A$107,G21,$E$8:$E$107,"確定")<>1),"有効な逆移動の元は確定が必要",IF(AND(F21="逆移動",E21="取消",COUNTIFS($A$8:$A$107,G21,$E$8:$E$107,"確定")+COUNTIFS($A$8:$A$107,G21,$E$8:$E$107,"取消")<>1),"取消済の逆移動も元の状態を確認",IF(AND(F21="逆移動",COUNTIFS($A$8:$A$107,G21,$C$8:$C$107,"<>"&C21)<>1),"逆移動は元と反対の入出区分",IF(AND(F21="逆移動",B21<SUMIFS($B$8:$B$107,$A$8:$A$107,G21)),"逆移動日が元より前",IF(AND(F21="逆移動",SUMIFS($D$8:$D$107,$F$8:$F$107,"逆移動",$G$8:$G$107,G21,$E$8:$E$107,"確定")>SUMIFS($D$8:$D$107,$A$8:$A$107,G21)),"確定逆移動の合計が元数量を超過","確認済み"))))))))))))))))))))))) | N21: =IF(M21="","",IF(M21="確認済み",0,1)) | O21: =IF(COUNTA(A21:H21)=0,IF(AND(M21="",N21="",I21="",J21="",K21="",L21=""),0,1),IF(NOT(AND(ISTEXT(M21),M21=IF(COUNTA(A21:H21)=0,"",IF(NOT(AND(ISTEXT(A21),LEN(A21)=8,EXACT(LEFT(A21,4),"MOV-"),ISNUMBER(FIND(MID(A21,5,1)&"x","0x1x2x3x4x5x6x7x8x9x")),ISNUMBER(FIND(MID(A21,6,1)&"x","0x1x2x3x4x5x6x7x8x9x")),ISNUMBER(FIND(MID(A21,7,1)&"x","0x1x2x3x4x5x6x7x8x9x")),ISNUMBER(FIND(MID(A21,8,1)&"x","0x1x2x3x4x5x6x7x8x9x")))),"IDはMOV-と半角数字4桁",IF(COUNTIFS($A$8:$A$107,A21)>1,"記録IDが重複",IF(NOT(IF(ISNUMBER(B21),AND(B21>=43831,B21<73051,B21=INT(B21)),FALSE())),"発生日は時刻なしで必須",IF(NOT(OR(C21="入庫",C21="出庫")),"入出区分を確認",IF(NOT(OR(E21="確定",E21="取消",E21="未確認")),"状態を確認",IF(NOT(OR(F21="新規",F21="訂正",F21="逆移動")),"種別を確認",IF(AND(E21<>"未確認",NOT(IF(ISNUMBER(D21),AND(D21>=1,D21<=1000000,D21=INT(D21)),FALSE()))),"確定/取消の数量は1〜100万個の整数",IF(AND(E21="未確認",COUNTA(D21)>0),"未確認の数量は空欄",IF(NOT(IF(ISNUMBER(H21),AND(H21>=43831,H21<73051,H21=INT(H21)),FALSE())),"記録確認日は時刻なしで必須",IF(OR(B21>H21,H21>入出庫集計!$B$4),"発生日≦確認日≦基準日を確認",IF(AND(F21="新規",COUNTA(G21)>0),"新規の参照元は空欄",IF(AND(F21<>"新規",NOT(AND(ISTEXT(G21),LEN(G21)=8,EXACT(LEFT(G21,4),"MOV-"),ISNUMBER(FIND(MID(G21,5,1)&"x","0x1x2x3x4x5x6x7x8x9x")),ISNUMBER(FIND(MID(G21,6,1)&"x","0x1x2x3x4x5x6x7x8x9x")),ISNUMBER(FIND(MID(G21,7,1)&"x","0x1x2x3x4x5x6x7x8x9x")),ISNUMBER(FIND(MID(G21,8,1)&"x","0x1x2x3x4x5x6x7x8x9x"))))),"訂正/逆移動の参照元IDが必須",IF(AND(F21<>"新規",G21>=A21),"参照元は自分より小さいID",IF(AND(F21<>"新規",COUNTIFS($A$8:$A$107,G21)<>1),"参照元が一意にありません",IF(AND(F21<>"新規",COUNTIFS($A$8:$A$107,G21,$F$8:$F$107,"新規")+COUNTIFS($A$8:$A$107,G21,$F$8:$F$107,"訂正")<>1),"逆移動を訂正/逆移動の元にできません",IF(AND(F21="訂正",COUNTIFS($A$8:$A$107,G21,$E$8:$E$107,"取消")<>1),"訂正の参照元は取消済が必要",IF(AND(F21="訂正",COUNTIFS($F$8:$F$107,"訂正",$G$8:$G$107,G21)>1),"同じ元記録への訂正は1行まで",IF(AND(F21="逆移動",E21<>"取消",COUNTIFS($A$8:$A$107,G21,$E$8:$E$107,"確定")<>1),"有効な逆移動の元は確定が必要",IF(AND(F21="逆移動",E21="取消",COUNTIFS($A$8:$A$107,G21,$E$8:$E$107,"確定")+COUNTIFS($A$8:$A$107,G21,$E$8:$E$107,"取消")<>1),"取消済の逆移動も元の状態を確認",IF(AND(F21="逆移動",COUNTIFS($A$8:$A$107,G21,$C$8:$C$107,"<>"&C21)<>1),"逆移動は元と反対の入出区分",IF(AND(F21="逆移動",B21<SUMIFS($B$8:$B$107,$A$8:$A$107,G21)),"逆移動日が元より前",IF(AND(F21="逆移動",SUMIFS($D$8:$D$107,$F$8:$F$107,"逆移動",$G$8:$G$107,G21,$E$8:$E$107,"確定")>SUMIFS($D$8:$D$107,$A$8:$A$107,G21)),"確定逆移動の合計が元数量を超過","確認済み"))))))))))))))))))))))),ISNUMBER(N21),N21=IF(M21="確認済み",0,1))),1,IF(N21<>0,0,IF(AND(ISNUMBER(I21),I21=IF(AND(B21>=入出庫集計!$B$3,B21<=入出庫集計!$E$3),1,0),IF(OR(I21<>1,E21="未確認"),ISTEXT(J21),ISNUMBER(J21)),J21=IF(I21<>1,"",IF(E21="未確認","",IF(AND(E21="確定",C21="入庫"),D21,0))),IF(OR(I21<>1,E21="未確認"),ISTEXT(K21),ISNUMBER(K21)),K21=IF(I21<>1,"",IF(E21="未確認","",IF(AND(E21="確定",C21="出庫"),D21,0))),ISNUMBER(L21),L21=IF(AND(I21=1,E21="未確認"),1,0)),0,1)))) -> 0
I22: =IF(M22="","",IF(N22<>0,NA(),IF(AND(B22>=入出庫集計!$B$3,B22<=入出庫集計!$E$3),1,0))) | J22: =IF(M22="","",IF(N22<>0,NA(),IF(I22<>1,"",IF(E22="未確認","",IF(AND(E22="確定",C22="入庫"),D22,0))))) | K22: =IF(M22="","",IF(N22<>0,NA(),IF(I22<>1,"",IF(E22="未確認","",IF(AND(E22="確定",C22="出庫"),D22,0))))) | L22: =IF(M22="","",IF(N22<>0,NA(),IF(AND(I22=1,E22="未確認"),1,0))) | M22: =IF(COUNTA(A22:H22)=0,"",IF(NOT(AND(ISTEXT(A22),LEN(A22)=8,EXACT(LEFT(A22,4),"MOV-"),ISNUMBER(FIND(MID(A22,5,1)&"x","0x1x2x3x4x5x6x7x8x9x")),ISNUMBER(FIND(MID(A22,6,1)&"x","0x1x2x3x4x5x6x7x8x9x")),ISNUMBER(FIND(MID(A22,7,1)&"x","0x1x2x3x4x5x6x7x8x9x")),ISNUMBER(FIND(MID(A22,8,1)&"x","0x1x2x3x4x5x6x7x8x9x")))),"IDはMOV-と半角数字4桁",IF(COUNTIFS($A$8:$A$107,A22)>1,"記録IDが重複",IF(NOT(IF(ISNUMBER(B22),AND(B22>=43831,B22<73051,B22=INT(B22)),FALSE())),"発生日は時刻なしで必須",IF(NOT(OR(C22="入庫",C22="出庫")),"入出区分を確認",IF(NOT(OR(E22="確定",E22="取消",E22="未確認")),"状態を確認",IF(NOT(OR(F22="新規",F22="訂正",F22="逆移動")),"種別を確認",IF(AND(E22<>"未確認",NOT(IF(ISNUMBER(D22),AND(D22>=1,D22<=1000000,D22=INT(D22)),FALSE()))),"確定/取消の数量は1〜100万個の整数",IF(AND(E22="未確認",COUNTA(D22)>0),"未確認の数量は空欄",IF(NOT(IF(ISNUMBER(H22),AND(H22>=43831,H22<73051,H22=INT(H22)),FALSE())),"記録確認日は時刻なしで必須",IF(OR(B22>H22,H22>入出庫集計!$B$4),"発生日≦確認日≦基準日を確認",IF(AND(F22="新規",COUNTA(G22)>0),"新規の参照元は空欄",IF(AND(F22<>"新規",NOT(AND(ISTEXT(G22),LEN(G22)=8,EXACT(LEFT(G22,4),"MOV-"),ISNUMBER(FIND(MID(G22,5,1)&"x","0x1x2x3x4x5x6x7x8x9x")),ISNUMBER(FIND(MID(G22,6,1)&"x","0x1x2x3x4x5x6x7x8x9x")),ISNUMBER(FIND(MID(G22,7,1)&"x","0x1x2x3x4x5x6x7x8x9x")),ISNUMBER(FIND(MID(G22,8,1)&"x","0x1x2x3x4x5x6x7x8x9x"))))),"訂正/逆移動の参照元IDが必須",IF(AND(F22<>"新規",G22>=A22),"参照元は自分より小さいID",IF(AND(F22<>"新規",COUNTIFS($A$8:$A$107,G22)<>1),"参照元が一意にありません",IF(AND(F22<>"新規",COUNTIFS($A$8:$A$107,G22,$F$8:$F$107,"新規")+COUNTIFS($A$8:$A$107,G22,$F$8:$F$107,"訂正")<>1),"逆移動を訂正/逆移動の元にできません",IF(AND(F22="訂正",COUNTIFS($A$8:$A$107,G22,$E$8:$E$107,"取消")<>1),"訂正の参照元は取消済が必要",IF(AND(F22="訂正",COUNTIFS($F$8:$F$107,"訂正",$G$8:$G$107,G22)>1),"同じ元記録への訂正は1行まで",IF(AND(F22="逆移動",E22<>"取消",COUNTIFS($A$8:$A$107,G22,$E$8:$E$107,"確定")<>1),"有効な逆移動の元は確定が必要",IF(AND(F22="逆移動",E22="取消",COUNTIFS($A$8:$A$107,G22,$E$8:$E$107,"確定")+COUNTIFS($A$8:$A$107,G22,$E$8:$E$107,"取消")<>1),"取消済の逆移動も元の状態を確認",IF(AND(F22="逆移動",COUNTIFS($A$8:$A$107,G22,$C$8:$C$107,"<>"&C22)<>1),"逆移動は元と反対の入出区分",IF(AND(F22="逆移動",B22<SUMIFS($B$8:$B$107,$A$8:$A$107,G22)),"逆移動日が元より前",IF(AND(F22="逆移動",SUMIFS($D$8:$D$107,$F$8:$F$107,"逆移動",$G$8:$G$107,G22,$E$8:$E$107,"確定")>SUMIFS($D$8:$D$107,$A$8:$A$107,G22)),"確定逆移動の合計が元数量を超過","確認済み"))))))))))))))))))))))) | N22: =IF(M22="","",IF(M22="確認済み",0,1)) | O22: =IF(COUNTA(A22:H22)=0,IF(AND(M22="",N22="",I22="",J22="",K22="",L22=""),0,1),IF(NOT(AND(ISTEXT(M22),M22=IF(COUNTA(A22:H22)=0,"",IF(NOT(AND(ISTEXT(A22),LEN(A22)=8,EXACT(LEFT(A22,4),"MOV-"),ISNUMBER(FIND(MID(A22,5,1)&"x","0x1x2x3x4x5x6x7x8x9x")),ISNUMBER(FIND(MID(A22,6,1)&"x","0x1x2x3x4x5x6x7x8x9x")),ISNUMBER(FIND(MID(A22,7,1)&"x","0x1x2x3x4x5x6x7x8x9x")),ISNUMBER(FIND(MID(A22,8,1)&"x","0x1x2x3x4x5x6x7x8x9x")))),"IDはMOV-と半角数字4桁",IF(COUNTIFS($A$8:$A$107,A22)>1,"記録IDが重複",IF(NOT(IF(ISNUMBER(B22),AND(B22>=43831,B22<73051,B22=INT(B22)),FALSE())),"発生日は時刻なしで必須",IF(NOT(OR(C22="入庫",C22="出庫")),"入出区分を確認",IF(NOT(OR(E22="確定",E22="取消",E22="未確認")),"状態を確認",IF(NOT(OR(F22="新規",F22="訂正",F22="逆移動")),"種別を確認",IF(AND(E22<>"未確認",NOT(IF(ISNUMBER(D22),AND(D22>=1,D22<=1000000,D22=INT(D22)),FALSE()))),"確定/取消の数量は1〜100万個の整数",IF(AND(E22="未確認",COUNTA(D22)>0),"未確認の数量は空欄",IF(NOT(IF(ISNUMBER(H22),AND(H22>=43831,H22<73051,H22=INT(H22)),FALSE())),"記録確認日は時刻なしで必須",IF(OR(B22>H22,H22>入出庫集計!$B$4),"発生日≦確認日≦基準日を確認",IF(AND(F22="新規",COUNTA(G22)>0),"新規の参照元は空欄",IF(AND(F22<>"新規",NOT(AND(ISTEXT(G22),LEN(G22)=8,EXACT(LEFT(G22,4),"MOV-"),ISNUMBER(FIND(MID(G22,5,1)&"x","0x1x2x3x4x5x6x7x8x9x")),ISNUMBER(FIND(MID(G22,6,1)&"x","0x1x2x3x4x5x6x7x8x9x")),ISNUMBER(FIND(MID(G22,7,1)&"x","0x1x2x3x4x5x6x7x8x9x")),ISNUMBER(FIND(MID(G22,8,1)&"x","0x1x2x3x4x5x6x7x8x9x"))))),"訂正/逆移動の参照元IDが必須",IF(AND(F22<>"新規",G22>=A22),"参照元は自分より小さいID",IF(AND(F22<>"新規",COUNTIFS($A$8:$A$107,G22)<>1),"参照元が一意にありません",IF(AND(F22<>"新規",COUNTIFS($A$8:$A$107,G22,$F$8:$F$107,"新規")+COUNTIFS($A$8:$A$107,G22,$F$8:$F$107,"訂正")<>1),"逆移動を訂正/逆移動の元にできません",IF(AND(F22="訂正",COUNTIFS($A$8:$A$107,G22,$E$8:$E$107,"取消")<>1),"訂正の参照元は取消済が必要",IF(AND(F22="訂正",COUNTIFS($F$8:$F$107,"訂正",$G$8:$G$107,G22)>1),"同じ元記録への訂正は1行まで",IF(AND(F22="逆移動",E22<>"取消",COUNTIFS($A$8:$A$107,G22,$E$8:$E$107,"確定")<>1),"有効な逆移動の元は確定が必要",IF(AND(F22="逆移動",E22="取消",COUNTIFS($A$8:$A$107,G22,$E$8:$E$107,"確定")+COUNTIFS($A$8:$A$107,G22,$E$8:$E$107,"取消")<>1),"取消済の逆移動も元の状態を確認",IF(AND(F22="逆移動",COUNTIFS($A$8:$A$107,G22,$C$8:$C$107,"<>"&C22)<>1),"逆移動は元と反対の入出区分",IF(AND(F22="逆移動",B22<SUMIFS($B$8:$B$107,$A$8:$A$107,G22)),"逆移動日が元より前",IF(AND(F22="逆移動",SUMIFS($D$8:$D$107,$F$8:$F$107,"逆移動",$G$8:$G$107,G22,$E$8:$E$107,"確定")>SUMIFS($D$8:$D$107,$A$8:$A$107,G22)),"確定逆移動の合計が元数量を超過","確認済み"))))))))))))))))))))))),ISNUMBER(N22),N22=IF(M22="確認済み",0,1))),1,IF(N22<>0,0,IF(AND(ISNUMBER(I22),I22=IF(AND(B22>=入出庫集計!$B$3,B22<=入出庫集計!$E$3),1,0),IF(OR(I22<>1,E22="未確認"),ISTEXT(J22),ISNUMBER(J22)),J22=IF(I22<>1,"",IF(E22="未確認","",IF(AND(E22="確定",C22="入庫"),D22,0))),IF(OR(I22<>1,E22="未確認"),ISTEXT(K22),ISNUMBER(K22)),K22=IF(I22<>1,"",IF(E22="未確認","",IF(AND(E22="確定",C22="出庫"),D22,0))),ISNUMBER(L22),L22=IF(AND(I22=1,E22="未確認"),1,0)),0,1)))) -> 0
I23: =IF(M23="","",IF(N23<>0,NA(),IF(AND(B23>=入出庫集計!$B$3,B23<=入出庫集計!$E$3),1,0))) | J23: =IF(M23="","",IF(N23<>0,NA(),IF(I23<>1,"",IF(E23="未確認","",IF(AND(E23="確定",C23="入庫"),D23,0))))) | K23: =IF(M23="","",IF(N23<>0,NA(),IF(I23<>1,"",IF(E23="未確認","",IF(AND(E23="確定",C23="出庫"),D23,0))))) | L23: =IF(M23="","",IF(N23<>0,NA(),IF(AND(I23=1,E23="未確認"),1,0))) | M23: =IF(COUNTA(A23:H23)=0,"",IF(NOT(AND(ISTEXT(A23),LEN(A23)=8,EXACT(LEFT(A23,4),"MOV-"),ISNUMBER(FIND(MID(A23,5,1)&"x","0x1x2x3x4x5x6x7x8x9x")),ISNUMBER(FIND(MID(A23,6,1)&"x","0x1x2x3x4x5x6x7x8x9x")),ISNUMBER(FIND(MID(A23,7,1)&"x","0x1x2x3x4x5x6x7x8x9x")),ISNUMBER(FIND(MID(A23,8,1)&"x","0x1x2x3x4x5x6x7x8x9x")))),"IDはMOV-と半角数字4桁",IF(COUNTIFS($A$8:$A$107,A23)>1,"記録IDが重複",IF(NOT(IF(ISNUMBER(B23),AND(B23>=43831,B23<73051,B23=INT(B23)),FALSE())),"発生日は時刻なしで必須",IF(NOT(OR(C23="入庫",C23="出庫")),"入出区分を確認",IF(NOT(OR(E23="確定",E23="取消",E23="未確認")),"状態を確認",IF(NOT(OR(F23="新規",F23="訂正",F23="逆移動")),"種別を確認",IF(AND(E23<>"未確認",NOT(IF(ISNUMBER(D23),AND(D23>=1,D23<=1000000,D23=INT(D23)),FALSE()))),"確定/取消の数量は1〜100万個の整数",IF(AND(E23="未確認",COUNTA(D23)>0),"未確認の数量は空欄",IF(NOT(IF(ISNUMBER(H23),AND(H23>=43831,H23<73051,H23=INT(H23)),FALSE())),"記録確認日は時刻なしで必須",IF(OR(B23>H23,H23>入出庫集計!$B$4),"発生日≦確認日≦基準日を確認",IF(AND(F23="新規",COUNTA(G23)>0),"新規の参照元は空欄",IF(AND(F23<>"新規",NOT(AND(ISTEXT(G23),LEN(G23)=8,EXACT(LEFT(G23,4),"MOV-"),ISNUMBER(FIND(MID(G23,5,1)&"x","0x1x2x3x4x5x6x7x8x9x")),ISNUMBER(FIND(MID(G23,6,1)&"x","0x1x2x3x4x5x6x7x8x9x")),ISNUMBER(FIND(MID(G23,7,1)&"x","0x1x2x3x4x5x6x7x8x9x")),ISNUMBER(FIND(MID(G23,8,1)&"x","0x1x2x3x4x5x6x7x8x9x"))))),"訂正/逆移動の参照元IDが必須",IF(AND(F23<>"新規",G23>=A23),"参照元は自分より小さいID",IF(AND(F23<>"新規",COUNTIFS($A$8:$A$107,G23)<>1),"参照元が一意にありません",IF(AND(F23<>"新規",COUNTIFS($A$8:$A$107,G23,$F$8:$F$107,"新規")+COUNTIFS($A$8:$A$107,G23,$F$8:$F$107,"訂正")<>1),"逆移動を訂正/逆移動の元にできません",IF(AND(F23="訂正",COUNTIFS($A$8:$A$107,G23,$E$8:$E$107,"取消")<>1),"訂正の参照元は取消済が必要",IF(AND(F23="訂正",COUNTIFS($F$8:$F$107,"訂正",$G$8:$G$107,G23)>1),"同じ元記録への訂正は1行まで",IF(AND(F23="逆移動",E23<>"取消",COUNTIFS($A$8:$A$107,G23,$E$8:$E$107,"確定")<>1),"有効な逆移動の元は確定が必要",IF(AND(F23="逆移動",E23="取消",COUNTIFS($A$8:$A$107,G23,$E$8:$E$107,"確定")+COUNTIFS($A$8:$A$107,G23,$E$8:$E$107,"取消")<>1),"取消済の逆移動も元の状態を確認",IF(AND(F23="逆移動",COUNTIFS($A$8:$A$107,G23,$C$8:$C$107,"<>"&C23)<>1),"逆移動は元と反対の入出区分",IF(AND(F23="逆移動",B23<SUMIFS($B$8:$B$107,$A$8:$A$107,G23)),"逆移動日が元より前",IF(AND(F23="逆移動",SUMIFS($D$8:$D$107,$F$8:$F$107,"逆移動",$G$8:$G$107,G23,$E$8:$E$107,"確定")>SUMIFS($D$8:$D$107,$A$8:$A$107,G23)),"確定逆移動の合計が元数量を超過","確認済み"))))))))))))))))))))))) | N23: =IF(M23="","",IF(M23="確認済み",0,1)) | O23: =IF(COUNTA(A23:H23)=0,IF(AND(M23="",N23="",I23="",J23="",K23="",L23=""),0,1),IF(NOT(AND(ISTEXT(M23),M23=IF(COUNTA(A23:H23)=0,"",IF(NOT(AND(ISTEXT(A23),LEN(A23)=8,EXACT(LEFT(A23,4),"MOV-"),ISNUMBER(FIND(MID(A23,5,1)&"x","0x1x2x3x4x5x6x7x8x9x")),ISNUMBER(FIND(MID(A23,6,1)&"x","0x1x2x3x4x5x6x7x8x9x")),ISNUMBER(FIND(MID(A23,7,1)&"x","0x1x2x3x4x5x6x7x8x9x")),ISNUMBER(FIND(MID(A23,8,1)&"x","0x1x2x3x4x5x6x7x8x9x")))),"IDはMOV-と半角数字4桁",IF(COUNTIFS($A$8:$A$107,A23)>1,"記録IDが重複",IF(NOT(IF(ISNUMBER(B23),AND(B23>=43831,B23<73051,B23=INT(B23)),FALSE())),"発生日は時刻なしで必須",IF(NOT(OR(C23="入庫",C23="出庫")),"入出区分を確認",IF(NOT(OR(E23="確定",E23="取消",E23="未確認")),"状態を確認",IF(NOT(OR(F23="新規",F23="訂正",F23="逆移動")),"種別を確認",IF(AND(E23<>"未確認",NOT(IF(ISNUMBER(D23),AND(D23>=1,D23<=1000000,D23=INT(D23)),FALSE()))),"確定/取消の数量は1〜100万個の整数",IF(AND(E23="未確認",COUNTA(D23)>0),"未確認の数量は空欄",IF(NOT(IF(ISNUMBER(H23),AND(H23>=43831,H23<73051,H23=INT(H23)),FALSE())),"記録確認日は時刻なしで必須",IF(OR(B23>H23,H23>入出庫集計!$B$4),"発生日≦確認日≦基準日を確認",IF(AND(F23="新規",COUNTA(G23)>0),"新規の参照元は空欄",IF(AND(F23<>"新規",NOT(AND(ISTEXT(G23),LEN(G23)=8,EXACT(LEFT(G23,4),"MOV-"),ISNUMBER(FIND(MID(G23,5,1)&"x","0x1x2x3x4x5x6x7x8x9x")),ISNUMBER(FIND(MID(G23,6,1)&"x","0x1x2x3x4x5x6x7x8x9x")),ISNUMBER(FIND(MID(G23,7,1)&"x","0x1x2x3x4x5x6x7x8x9x")),ISNUMBER(FIND(MID(G23,8,1)&"x","0x1x2x3x4x5x6x7x8x9x"))))),"訂正/逆移動の参照元IDが必須",IF(AND(F23<>"新規",G23>=A23),"参照元は自分より小さいID",IF(AND(F23<>"新規",COUNTIFS($A$8:$A$107,G23)<>1),"参照元が一意にありません",IF(AND(F23<>"新規",COUNTIFS($A$8:$A$107,G23,$F$8:$F$107,"新規")+COUNTIFS($A$8:$A$107,G23,$F$8:$F$107,"訂正")<>1),"逆移動を訂正/逆移動の元にできません",IF(AND(F23="訂正",COUNTIFS($A$8:$A$107,G23,$E$8:$E$107,"取消")<>1),"訂正の参照元は取消済が必要",IF(AND(F23="訂正",COUNTIFS($F$8:$F$107,"訂正",$G$8:$G$107,G23)>1),"同じ元記録への訂正は1行まで",IF(AND(F23="逆移動",E23<>"取消",COUNTIFS($A$8:$A$107,G23,$E$8:$E$107,"確定")<>1),"有効な逆移動の元は確定が必要",IF(AND(F23="逆移動",E23="取消",COUNTIFS($A$8:$A$107,G23,$E$8:$E$107,"確定")+COUNTIFS($A$8:$A$107,G23,$E$8:$E$107,"取消")<>1),"取消済の逆移動も元の状態を確認",IF(AND(F23="逆移動",COUNTIFS($A$8:$A$107,G23,$C$8:$C$107,"<>"&C23)<>1),"逆移動は元と反対の入出区分",IF(AND(F23="逆移動",B23<SUMIFS($B$8:$B$107,$A$8:$A$107,G23)),"逆移動日が元より前",IF(AND(F23="逆移動",SUMIFS($D$8:$D$107,$F$8:$F$107,"逆移動",$G$8:$G$107,G23,$E$8:$E$107,"確定")>SUMIFS($D$8:$D$107,$A$8:$A$107,G23)),"確定逆移動の合計が元数量を超過","確認済み"))))))))))))))))))))))),ISNUMBER(N23),N23=IF(M23="確認済み",0,1))),1,IF(N23<>0,0,IF(AND(ISNUMBER(I23),I23=IF(AND(B23>=入出庫集計!$B$3,B23<=入出庫集計!$E$3),1,0),IF(OR(I23<>1,E23="未確認"),ISTEXT(J23),ISNUMBER(J23)),J23=IF(I23<>1,"",IF(E23="未確認","",IF(AND(E23="確定",C23="入庫"),D23,0))),IF(OR(I23<>1,E23="未確認"),ISTEXT(K23),ISNUMBER(K23)),K23=IF(I23<>1,"",IF(E23="未確認","",IF(AND(E23="確定",C23="出庫"),D23,0))),ISNUMBER(L23),L23=IF(AND(I23=1,E23="未確認"),1,0)),0,1)))) -> 0
I24: =IF(M24="","",IF(N24<>0,NA(),IF(AND(B24>=入出庫集計!$B$3,B24<=入出庫集計!$E$3),1,0))) | J24: =IF(M24="","",IF(N24<>0,NA(),IF(I24<>1,"",IF(E24="未確認","",IF(AND(E24="確定",C24="入庫"),D24,0))))) | K24: =IF(M24="","",IF(N24<>0,NA(),IF(I24<>1,"",IF(E24="未確認","",IF(AND(E24="確定",C24="出庫"),D24,0))))) | L24: =IF(M24="","",IF(N24<>0,NA(),IF(AND(I24=1,E24="未確認"),1,0))) | M24: =IF(COUNTA(A24:H24)=0,"",IF(NOT(AND(ISTEXT(A24),LEN(A24)=8,EXACT(LEFT(A24,4),"MOV-"),ISNUMBER(FIND(MID(A24,5,1)&"x","0x1x2x3x4x5x6x7x8x9x")),ISNUMBER(FIND(MID(A24,6,1)&"x","0x1x2x3x4x5x6x7x8x9x")),ISNUMBER(FIND(MID(A24,7,1)&"x","0x1x2x3x4x5x6x7x8x9x")),ISNUMBER(FIND(MID(A24,8,1)&"x","0x1x2x3x4x5x6x7x8x9x")))),"IDはMOV-と半角数字4桁",IF(COUNTIFS($A$8:$A$107,A24)>1,"記録IDが重複",IF(NOT(IF(ISNUMBER(B24),AND(B24>=43831,B24<73051,B24=INT(B24)),FALSE())),"発生日は時刻なしで必須",IF(NOT(OR(C24="入庫",C24="出庫")),"入出区分を確認",IF(NOT(OR(E24="確定",E24="取消",E24="未確認")),"状態を確認",IF(NOT(OR(F24="新規",F24="訂正",F24="逆移動")),"種別を確認",IF(AND(E24<>"未確認",NOT(IF(ISNUMBER(D24),AND(D24>=1,D24<=1000000,D24=INT(D24)),FALSE()))),"確定/取消の数量は1〜100万個の整数",IF(AND(E24="未確認",COUNTA(D24)>0),"未確認の数量は空欄",IF(NOT(IF(ISNUMBER(H24),AND(H24>=43831,H24<73051,H24=INT(H24)),FALSE())),"記録確認日は時刻なしで必須",IF(OR(B24>H24,H24>入出庫集計!$B$4),"発生日≦確認日≦基準日を確認",IF(AND(F24="新規",COUNTA(G24)>0),"新規の参照元は空欄",IF(AND(F24<>"新規",NOT(AND(ISTEXT(G24),LEN(G24)=8,EXACT(LEFT(G24,4),"MOV-"),ISNUMBER(FIND(MID(G24,5,1)&"x","0x1x2x3x4x5x6x7x8x9x")),ISNUMBER(FIND(MID(G24,6,1)&"x","0x1x2x3x4x5x6x7x8x9x")),ISNUMBER(FIND(MID(G24,7,1)&"x","0x1x2x3x4x5x6x7x8x9x")),ISNUMBER(FIND(MID(G24,8,1)&"x","0x1x2x3x4x5x6x7x8x9x"))))),"訂正/逆移動の参照元IDが必須",IF(AND(F24<>"新規",G24>=A24),"参照元は自分より小さいID",IF(AND(F24<>"新規",COUNTIFS($A$8:$A$107,G24)<>1),"参照元が一意にありません",IF(AND(F24<>"新規",COUNTIFS($A$8:$A$107,G24,$F$8:$F$107,"新規")+COUNTIFS($A$8:$A$107,G24,$F$8:$F$107,"訂正")<>1),"逆移動を訂正/逆移動の元にできません",IF(AND(F24="訂正",COUNTIFS($A$8:$A$107,G24,$E$8:$E$107,"取消")<>1),"訂正の参照元は取消済が必要",IF(AND(F24="訂正",COUNTIFS($F$8:$F$107,"訂正",$G$8:$G$107,G24)>1),"同じ元記録への訂正は1行まで",IF(AND(F24="逆移動",E24<>"取消",COUNTIFS($A$8:$A$107,G24,$E$8:$E$107,"確定")<>1),"有効な逆移動の元は確定が必要",IF(AND(F24="逆移動",E24="取消",COUNTIFS($A$8:$A$107,G24,$E$8:$E$107,"確定")+COUNTIFS($A$8:$A$107,G24,$E$8:$E$107,"取消")<>1),"取消済の逆移動も元の状態を確認",IF(AND(F24="逆移動",COUNTIFS($A$8:$A$107,G24,$C$8:$C$107,"<>"&C24)<>1),"逆移動は元と反対の入出区分",IF(AND(F24="逆移動",B24<SUMIFS($B$8:$B$107,$A$8:$A$107,G24)),"逆移動日が元より前",IF(AND(F24="逆移動",SUMIFS($D$8:$D$107,$F$8:$F$107,"逆移動",$G$8:$G$107,G24,$E$8:$E$107,"確定")>SUMIFS($D$8:$D$107,$A$8:$A$107,G24)),"確定逆移動の合計が元数量を超過","確認済み"))))))))))))))))))))))) | N24: =IF(M24="","",IF(M24="確認済み",0,1)) | O24: =IF(COUNTA(A24:H24)=0,IF(AND(M24="",N24="",I24="",J24="",K24="",L24=""),0,1),IF(NOT(AND(ISTEXT(M24),M24=IF(COUNTA(A24:H24)=0,"",IF(NOT(AND(ISTEXT(A24),LEN(A24)=8,EXACT(LEFT(A24,4),"MOV-"),ISNUMBER(FIND(MID(A24,5,1)&"x","0x1x2x3x4x5x6x7x8x9x")),ISNUMBER(FIND(MID(A24,6,1)&"x","0x1x2x3x4x5x6x7x8x9x")),ISNUMBER(FIND(MID(A24,7,1)&"x","0x1x2x3x4x5x6x7x8x9x")),ISNUMBER(FIND(MID(A24,8,1)&"x","0x1x2x3x4x5x6x7x8x9x")))),"IDはMOV-と半角数字4桁",IF(COUNTIFS($A$8:$A$107,A24)>1,"記録IDが重複",IF(NOT(IF(ISNUMBER(B24),AND(B24>=43831,B24<73051,B24=INT(B24)),FALSE())),"発生日は時刻なしで必須",IF(NOT(OR(C24="入庫",C24="出庫")),"入出区分を確認",IF(NOT(OR(E24="確定",E24="取消",E24="未確認")),"状態を確認",IF(NOT(OR(F24="新規",F24="訂正",F24="逆移動")),"種別を確認",IF(AND(E24<>"未確認",NOT(IF(ISNUMBER(D24),AND(D24>=1,D24<=1000000,D24=INT(D24)),FALSE()))),"確定/取消の数量は1〜100万個の整数",IF(AND(E24="未確認",COUNTA(D24)>0),"未確認の数量は空欄",IF(NOT(IF(ISNUMBER(H24),AND(H24>=43831,H24<73051,H24=INT(H24)),FALSE())),"記録確認日は時刻なしで必須",IF(OR(B24>H24,H24>入出庫集計!$B$4),"発生日≦確認日≦基準日を確認",IF(AND(F24="新規",COUNTA(G24)>0),"新規の参照元は空欄",IF(AND(F24<>"新規",NOT(AND(ISTEXT(G24),LEN(G24)=8,EXACT(LEFT(G24,4),"MOV-"),ISNUMBER(FIND(MID(G24,5,1)&"x","0x1x2x3x4x5x6x7x8x9x")),ISNUMBER(FIND(MID(G24,6,1)&"x","0x1x2x3x4x5x6x7x8x9x")),ISNUMBER(FIND(MID(G24,7,1)&"x","0x1x2x3x4x5x6x7x8x9x")),ISNUMBER(FIND(MID(G24,8,1)&"x","0x1x2x3x4x5x6x7x8x9x"))))),"訂正/逆移動の参照元IDが必須",IF(AND(F24<>"新規",G24>=A24),"参照元は自分より小さいID",IF(AND(F24<>"新規",COUNTIFS($A$8:$A$107,G24)<>1),"参照元が一意にありません",IF(AND(F24<>"新規",COUNTIFS($A$8:$A$107,G24,$F$8:$F$107,"新規")+COUNTIFS($A$8:$A$107,G24,$F$8:$F$107,"訂正")<>1),"逆移動を訂正/逆移動の元にできません",IF(AND(F24="訂正",COUNTIFS($A$8:$A$107,G24,$E$8:$E$107,"取消")<>1),"訂正の参照元は取消済が必要",IF(AND(F24="訂正",COUNTIFS($F$8:$F$107,"訂正",$G$8:$G$107,G24)>1),"同じ元記録への訂正は1行まで",IF(AND(F24="逆移動",E24<>"取消",COUNTIFS($A$8:$A$107,G24,$E$8:$E$107,"確定")<>1),"有効な逆移動の元は確定が必要",IF(AND(F24="逆移動",E24="取消",COUNTIFS($A$8:$A$107,G24,$E$8:$E$107,"確定")+COUNTIFS($A$8:$A$107,G24,$E$8:$E$107,"取消")<>1),"取消済の逆移動も元の状態を確認",IF(AND(F24="逆移動",COUNTIFS($A$8:$A$107,G24,$C$8:$C$107,"<>"&C24)<>1),"逆移動は元と反対の入出区分",IF(AND(F24="逆移動",B24<SUMIFS($B$8:$B$107,$A$8:$A$107,G24)),"逆移動日が元より前",IF(AND(F24="逆移動",SUMIFS($D$8:$D$107,$F$8:$F$107,"逆移動",$G$8:$G$107,G24,$E$8:$E$107,"確定")>SUMIFS($D$8:$D$107,$A$8:$A$107,G24)),"確定逆移動の合計が元数量を超過","確認済み"))))))))))))))))))))))),ISNUMBER(N24),N24=IF(M24="確認済み",0,1))),1,IF(N24<>0,0,IF(AND(ISNUMBER(I24),I24=IF(AND(B24>=入出庫集計!$B$3,B24<=入出庫集計!$E$3),1,0),IF(OR(I24<>1,E24="未確認"),ISTEXT(J24),ISNUMBER(J24)),J24=IF(I24<>1,"",IF(E24="未確認","",IF(AND(E24="確定",C24="入庫"),D24,0))),IF(OR(I24<>1,E24="未確認"),ISTEXT(K24),ISNUMBER(K24)),K24=IF(I24<>1,"",IF(E24="未確認","",IF(AND(E24="確定",C24="出庫"),D24,0))),ISNUMBER(L24),L24=IF(AND(I24=1,E24="未確認"),1,0)),0,1)))) -> 0
I25: =IF(M25="","",IF(N25<>0,NA(),IF(AND(B25>=入出庫集計!$B$3,B25<=入出庫集計!$E$3),1,0))) | J25: =IF(M25="","",IF(N25<>0,NA(),IF(I25<>1,"",IF(E25="未確認","",IF(AND(E25="確定",C25="入庫"),D25,0))))) | K25: =IF(M25="","",IF(N25<>0,NA(),IF(I25<>1,"",IF(E25="未確認","",IF(AND(E25="確定",C25="出庫"),D25,0))))) | L25: =IF(M25="","",IF(N25<>0,NA(),IF(AND(I25=1,E25="未確認"),1,0))) | M25: =IF(COUNTA(A25:H25)=0,"",IF(NOT(AND(ISTEXT(A25),LEN(A25)=8,EXACT(LEFT(A25,4),"MOV-"),ISNUMBER(FIND(MID(A25,5,1)&"x","0x1x2x3x4x5x6x7x8x9x")),ISNUMBER(FIND(MID(A25,6,1)&"x","0x1x2x3x4x5x6x7x8x9x")),ISNUMBER(FIND(MID(A25,7,1)&"x","0x1x2x3x4x5x6x7x8x9x")),ISNUMBER(FIND(MID(A25,8,1)&"x","0x1x2x3x4x5x6x7x8x9x")))),"IDはMOV-と半角数字4桁",IF(COUNTIFS($A$8:$A$107,A25)>1,"記録IDが重複",IF(NOT(IF(ISNUMBER(B25),AND(B25>=43831,B25<73051,B25=INT(B25)),FALSE())),"発生日は時刻なしで必須",IF(NOT(OR(C25="入庫",C25="出庫")),"入出区分を確認",IF(NOT(OR(E25="確定",E25="取消",E25="未確認")),"状態を確認",IF(NOT(OR(F25="新規",F25="訂正",F25="逆移動")),"種別を確認",IF(AND(E25<>"未確認",NOT(IF(ISNUMBER(D25),AND(D25>=1,D25<=1000000,D25=INT(D25)),FALSE()))),"確定/取消の数量は1〜100万個の整数",IF(AND(E25="未確認",COUNTA(D25)>0),"未確認の数量は空欄",IF(NOT(IF(ISNUMBER(H25),AND(H25>=43831,H25<73051,H25=INT(H25)),FALSE())),"記録確認日は時刻なしで必須",IF(OR(B25>H25,H25>入出庫集計!$B$4),"発生日≦確認日≦基準日を確認",IF(AND(F25="新規",COUNTA(G25)>0),"新規の参照元は空欄",IF(AND(F25<>"新規",NOT(AND(ISTEXT(G25),LEN(G25)=8,EXACT(LEFT(G25,4),"MOV-"),ISNUMBER(FIND(MID(G25,5,1)&"x","0x1x2x3x4x5x6x7x8x9x")),ISNUMBER(FIND(MID(G25,6,1)&"x","0x1x2x3x4x5x6x7x8x9x")),ISNUMBER(FIND(MID(G25,7,1)&"x","0x1x2x3x4x5x6x7x8x9x")),ISNUMBER(FIND(MID(G25,8,1)&"x","0x1x2x3x4x5x6x7x8x9x"))))),"訂正/逆移動の参照元IDが必須",IF(AND(F25<>"新規",G25>=A25),"参照元は自分より小さいID",IF(AND(F25<>"新規",COUNTIFS($A$8:$A$107,G25)<>1),"参照元が一意にありません",IF(AND(F25<>"新規",COUNTIFS($A$8:$A$107,G25,$F$8:$F$107,"新規")+COUNTIFS($A$8:$A$107,G25,$F$8:$F$107,"訂正")<>1),"逆移動を訂正/逆移動の元にできません",IF(AND(F25="訂正",COUNTIFS($A$8:$A$107,G25,$E$8:$E$107,"取消")<>1),"訂正の参照元は取消済が必要",IF(AND(F25="訂正",COUNTIFS($F$8:$F$107,"訂正",$G$8:$G$107,G25)>1),"同じ元記録への訂正は1行まで",IF(AND(F25="逆移動",E25<>"取消",COUNTIFS($A$8:$A$107,G25,$E$8:$E$107,"確定")<>1),"有効な逆移動の元は確定が必要",IF(AND(F25="逆移動",E25="取消",COUNTIFS($A$8:$A$107,G25,$E$8:$E$107,"確定")+COUNTIFS($A$8:$A$107,G25,$E$8:$E$107,"取消")<>1),"取消済の逆移動も元の状態を確認",IF(AND(F25="逆移動",COUNTIFS($A$8:$A$107,G25,$C$8:$C$107,"<>"&C25)<>1),"逆移動は元と反対の入出区分",IF(AND(F25="逆移動",B25<SUMIFS($B$8:$B$107,$A$8:$A$107,G25)),"逆移動日が元より前",IF(AND(F25="逆移動",SUMIFS($D$8:$D$107,$F$8:$F$107,"逆移動",$G$8:$G$107,G25,$E$8:$E$107,"確定")>SUMIFS($D$8:$D$107,$A$8:$A$107,G25)),"確定逆移動の合計が元数量を超過","確認済み"))))))))))))))))))))))) | N25: =IF(M25="","",IF(M25="確認済み",0,1)) | O25: =IF(COUNTA(A25:H25)=0,IF(AND(M25="",N25="",I25="",J25="",K25="",L25=""),0,1),IF(NOT(AND(ISTEXT(M25),M25=IF(COUNTA(A25:H25)=0,"",IF(NOT(AND(ISTEXT(A25),LEN(A25)=8,EXACT(LEFT(A25,4),"MOV-"),ISNUMBER(FIND(MID(A25,5,1)&"x","0x1x2x3x4x5x6x7x8x9x")),ISNUMBER(FIND(MID(A25,6,1)&"x","0x1x2x3x4x5x6x7x8x9x")),ISNUMBER(FIND(MID(A25,7,1)&"x","0x1x2x3x4x5x6x7x8x9x")),ISNUMBER(FIND(MID(A25,8,1)&"x","0x1x2x3x4x5x6x7x8x9x")))),"IDはMOV-と半角数字4桁",IF(COUNTIFS($A$8:$A$107,A25)>1,"記録IDが重複",IF(NOT(IF(ISNUMBER(B25),AND(B25>=43831,B25<73051,B25=INT(B25)),FALSE())),"発生日は時刻なしで必須",IF(NOT(OR(C25="入庫",C25="出庫")),"入出区分を確認",IF(NOT(OR(E25="確定",E25="取消",E25="未確認")),"状態を確認",IF(NOT(OR(F25="新規",F25="訂正",F25="逆移動")),"種別を確認",IF(AND(E25<>"未確認",NOT(IF(ISNUMBER(D25),AND(D25>=1,D25<=1000000,D25=INT(D25)),FALSE()))),"確定/取消の数量は1〜100万個の整数",IF(AND(E25="未確認",COUNTA(D25)>0),"未確認の数量は空欄",IF(NOT(IF(ISNUMBER(H25),AND(H25>=43831,H25<73051,H25=INT(H25)),FALSE())),"記録確認日は時刻なしで必須",IF(OR(B25>H25,H25>入出庫集計!$B$4),"発生日≦確認日≦基準日を確認",IF(AND(F25="新規",COUNTA(G25)>0),"新規の参照元は空欄",IF(AND(F25<>"新規",NOT(AND(ISTEXT(G25),LEN(G25)=8,EXACT(LEFT(G25,4),"MOV-"),ISNUMBER(FIND(MID(G25,5,1)&"x","0x1x2x3x4x5x6x7x8x9x")),ISNUMBER(FIND(MID(G25,6,1)&"x","0x1x2x3x4x5x6x7x8x9x")),ISNUMBER(FIND(MID(G25,7,1)&"x","0x1x2x3x4x5x6x7x8x9x")),ISNUMBER(FIND(MID(G25,8,1)&"x","0x1x2x3x4x5x6x7x8x9x"))))),"訂正/逆移動の参照元IDが必須",IF(AND(F25<>"新規",G25>=A25),"参照元は自分より小さいID",IF(AND(F25<>"新規",COUNTIFS($A$8:$A$107,G25)<>1),"参照元が一意にありません",IF(AND(F25<>"新規",COUNTIFS($A$8:$A$107,G25,$F$8:$F$107,"新規")+COUNTIFS($A$8:$A$107,G25,$F$8:$F$107,"訂正")<>1),"逆移動を訂正/逆移動の元にできません",IF(AND(F25="訂正",COUNTIFS($A$8:$A$107,G25,$E$8:$E$107,"取消")<>1),"訂正の参照元は取消済が必要",IF(AND(F25="訂正",COUNTIFS($F$8:$F$107,"訂正",$G$8:$G$107,G25)>1),"同じ元記録への訂正は1行まで",IF(AND(F25="逆移動",E25<>"取消",COUNTIFS($A$8:$A$107,G25,$E$8:$E$107,"確定")<>1),"有効な逆移動の元は確定が必要",IF(AND(F25="逆移動",E25="取消",COUNTIFS($A$8:$A$107,G25,$E$8:$E$107,"確定")+COUNTIFS($A$8:$A$107,G25,$E$8:$E$107,"取消")<>1),"取消済の逆移動も元の状態を確認",IF(AND(F25="逆移動",COUNTIFS($A$8:$A$107,G25,$C$8:$C$107,"<>"&C25)<>1),"逆移動は元と反対の入出区分",IF(AND(F25="逆移動",B25<SUMIFS($B$8:$B$107,$A$8:$A$107,G25)),"逆移動日が元より前",IF(AND(F25="逆移動",SUMIFS($D$8:$D$107,$F$8:$F$107,"逆移動",$G$8:$G$107,G25,$E$8:$E$107,"確定")>SUMIFS($D$8:$D$107,$A$8:$A$107,G25)),"確定逆移動の合計が元数量を超過","確認済み"))))))))))))))))))))))),ISNUMBER(N25),N25=IF(M25="確認済み",0,1))),1,IF(N25<>0,0,IF(AND(ISNUMBER(I25),I25=IF(AND(B25>=入出庫集計!$B$3,B25<=入出庫集計!$E$3),1,0),IF(OR(I25<>1,E25="未確認"),ISTEXT(J25),ISNUMBER(J25)),J25=IF(I25<>1,"",IF(E25="未確認","",IF(AND(E25="確定",C25="入庫"),D25,0))),IF(OR(I25<>1,E25="未確認"),ISTEXT(K25),ISNUMBER(K25)),K25=IF(I25<>1,"",IF(E25="未確認","",IF(AND(E25="確定",C25="出庫"),D25,0))),ISNUMBER(L25),L25=IF(AND(I25=1,E25="未確認"),1,0)),0,1)))) -> 0
I26: =IF(M26="","",IF(N26<>0,NA(),IF(AND(B26>=入出庫集計!$B$3,B26<=入出庫集計!$E$3),1,0))) | J26: =IF(M26="","",IF(N26<>0,NA(),IF(I26<>1,"",IF(E26="未確認","",IF(AND(E26="確定",C26="入庫"),D26,0))))) | K26: =IF(M26="","",IF(N26<>0,NA(),IF(I26<>1,"",IF(E26="未確認","",IF(AND(E26="確定",C26="出庫"),D26,0))))) | L26: =IF(M26="","",IF(N26<>0,NA(),IF(AND(I26=1,E26="未確認"),1,0))) | M26: =IF(COUNTA(A26:H26)=0,"",IF(NOT(AND(ISTEXT(A26),LEN(A26)=8,EXACT(LEFT(A26,4),"MOV-"),ISNUMBER(FIND(MID(A26,5,1)&"x","0x1x2x3x4x5x6x7x8x9x")),ISNUMBER(FIND(MID(A26,6,1)&"x","0x1x2x3x4x5x6x7x8x9x")),ISNUMBER(FIND(MID(A26,7,1)&"x","0x1x2x3x4x5x6x7x8x9x")),ISNUMBER(FIND(MID(A26,8,1)&"x","0x1x2x3x4x5x6x7x8x9x")))),"IDはMOV-と半角数字4桁",IF(COUNTIFS($A$8:$A$107,A26)>1,"記録IDが重複",IF(NOT(IF(ISNUMBER(B26),AND(B26>=43831,B26<73051,B26=INT(B26)),FALSE())),"発生日は時刻なしで必須",IF(NOT(OR(C26="入庫",C26="出庫")),"入出区分を確認",IF(NOT(OR(E26="確定",E26="取消",E26="未確認")),"状態を確認",IF(NOT(OR(F26="新規",F26="訂正",F26="逆移動")),"種別を確認",IF(AND(E26<>"未確認",NOT(IF(ISNUMBER(D26),AND(D26>=1,D26<=1000000,D26=INT(D26)),FALSE()))),"確定/取消の数量は1〜100万個の整数",IF(AND(E26="未確認",COUNTA(D26)>0),"未確認の数量は空欄",IF(NOT(IF(ISNUMBER(H26),AND(H26>=43831,H26<73051,H26=INT(H26)),FALSE())),"記録確認日は時刻なしで必須",IF(OR(B26>H26,H26>入出庫集計!$B$4),"発生日≦確認日≦基準日を確認",IF(AND(F26="新規",COUNTA(G26)>0),"新規の参照元は空欄",IF(AND(F26<>"新規",NOT(AND(ISTEXT(G26),LEN(G26)=8,EXACT(LEFT(G26,4),"MOV-"),ISNUMBER(FIND(MID(G26,5,1)&"x","0x1x2x3x4x5x6x7x8x9x")),ISNUMBER(FIND(MID(G26,6,1)&"x","0x1x2x3x4x5x6x7x8x9x")),ISNUMBER(FIND(MID(G26,7,1)&"x","0x1x2x3x4x5x6x7x8x9x")),ISNUMBER(FIND(MID(G26,8,1)&"x","0x1x2x3x4x5x6x7x8x9x"))))),"訂正/逆移動の参照元IDが必須",IF(AND(F26<>"新規",G26>=A26),"参照元は自分より小さいID",IF(AND(F26<>"新規",COUNTIFS($A$8:$A$107,G26)<>1),"参照元が一意にありません",IF(AND(F26<>"新規",COUNTIFS($A$8:$A$107,G26,$F$8:$F$107,"新規")+COUNTIFS($A$8:$A$107,G26,$F$8:$F$107,"訂正")<>1),"逆移動を訂正/逆移動の元にできません",IF(AND(F26="訂正",COUNTIFS($A$8:$A$107,G26,$E$8:$E$107,"取消")<>1),"訂正の参照元は取消済が必要",IF(AND(F26="訂正",COUNTIFS($F$8:$F$107,"訂正",$G$8:$G$107,G26)>1),"同じ元記録への訂正は1行まで",IF(AND(F26="逆移動",E26<>"取消",COUNTIFS($A$8:$A$107,G26,$E$8:$E$107,"確定")<>1),"有効な逆移動の元は確定が必要",IF(AND(F26="逆移動",E26="取消",COUNTIFS($A$8:$A$107,G26,$E$8:$E$107,"確定")+COUNTIFS($A$8:$A$107,G26,$E$8:$E$107,"取消")<>1),"取消済の逆移動も元の状態を確認",IF(AND(F26="逆移動",COUNTIFS($A$8:$A$107,G26,$C$8:$C$107,"<>"&C26)<>1),"逆移動は元と反対の入出区分",IF(AND(F26="逆移動",B26<SUMIFS($B$8:$B$107,$A$8:$A$107,G26)),"逆移動日が元より前",IF(AND(F26="逆移動",SUMIFS($D$8:$D$107,$F$8:$F$107,"逆移動",$G$8:$G$107,G26,$E$8:$E$107,"確定")>SUMIFS($D$8:$D$107,$A$8:$A$107,G26)),"確定逆移動の合計が元数量を超過","確認済み"))))))))))))))))))))))) | N26: =IF(M26="","",IF(M26="確認済み",0,1)) | O26: =IF(COUNTA(A26:H26)=0,IF(AND(M26="",N26="",I26="",J26="",K26="",L26=""),0,1),IF(NOT(AND(ISTEXT(M26),M26=IF(COUNTA(A26:H26)=0,"",IF(NOT(AND(ISTEXT(A26),LEN(A26)=8,EXACT(LEFT(A26,4),"MOV-"),ISNUMBER(FIND(MID(A26,5,1)&"x","0x1x2x3x4x5x6x7x8x9x")),ISNUMBER(FIND(MID(A26,6,1)&"x","0x1x2x3x4x5x6x7x8x9x")),ISNUMBER(FIND(MID(A26,7,1)&"x","0x1x2x3x4x5x6x7x8x9x")),ISNUMBER(FIND(MID(A26,8,1)&"x","0x1x2x3x4x5x6x7x8x9x")))),"IDはMOV-と半角数字4桁",IF(COUNTIFS($A$8:$A$107,A26)>1,"記録IDが重複",IF(NOT(IF(ISNUMBER(B26),AND(B26>=43831,B26<73051,B26=INT(B26)),FALSE())),"発生日は時刻なしで必須",IF(NOT(OR(C26="入庫",C26="出庫")),"入出区分を確認",IF(NOT(OR(E26="確定",E26="取消",E26="未確認")),"状態を確認",IF(NOT(OR(F26="新規",F26="訂正",F26="逆移動")),"種別を確認",IF(AND(E26<>"未確認",NOT(IF(ISNUMBER(D26),AND(D26>=1,D26<=1000000,D26=INT(D26)),FALSE()))),"確定/取消の数量は1〜100万個の整数",IF(AND(E26="未確認",COUNTA(D26)>0),"未確認の数量は空欄",IF(NOT(IF(ISNUMBER(H26),AND(H26>=43831,H26<73051,H26=INT(H26)),FALSE())),"記録確認日は時刻なしで必須",IF(OR(B26>H26,H26>入出庫集計!$B$4),"発生日≦確認日≦基準日を確認",IF(AND(F26="新規",COUNTA(G26)>0),"新規の参照元は空欄",IF(AND(F26<>"新規",NOT(AND(ISTEXT(G26),LEN(G26)=8,EXACT(LEFT(G26,4),"MOV-"),ISNUMBER(FIND(MID(G26,5,1)&"x","0x1x2x3x4x5x6x7x8x9x")),ISNUMBER(FIND(MID(G26,6,1)&"x","0x1x2x3x4x5x6x7x8x9x")),ISNUMBER(FIND(MID(G26,7,1)&"x","0x1x2x3x4x5x6x7x8x9x")),ISNUMBER(FIND(MID(G26,8,1)&"x","0x1x2x3x4x5x6x7x8x9x"))))),"訂正/逆移動の参照元IDが必須",IF(AND(F26<>"新規",G26>=A26),"参照元は自分より小さいID",IF(AND(F26<>"新規",COUNTIFS($A$8:$A$107,G26)<>1),"参照元が一意にありません",IF(AND(F26<>"新規",COUNTIFS($A$8:$A$107,G26,$F$8:$F$107,"新規")+COUNTIFS($A$8:$A$107,G26,$F$8:$F$107,"訂正")<>1),"逆移動を訂正/逆移動の元にできません",IF(AND(F26="訂正",COUNTIFS($A$8:$A$107,G26,$E$8:$E$107,"取消")<>1),"訂正の参照元は取消済が必要",IF(AND(F26="訂正",COUNTIFS($F$8:$F$107,"訂正",$G$8:$G$107,G26)>1),"同じ元記録への訂正は1行まで",IF(AND(F26="逆移動",E26<>"取消",COUNTIFS($A$8:$A$107,G26,$E$8:$E$107,"確定")<>1),"有効な逆移動の元は確定が必要",IF(AND(F26="逆移動",E26="取消",COUNTIFS($A$8:$A$107,G26,$E$8:$E$107,"確定")+COUNTIFS($A$8:$A$107,G26,$E$8:$E$107,"取消")<>1),"取消済の逆移動も元の状態を確認",IF(AND(F26="逆移動",COUNTIFS($A$8:$A$107,G26,$C$8:$C$107,"<>"&C26)<>1),"逆移動は元と反対の入出区分",IF(AND(F26="逆移動",B26<SUMIFS($B$8:$B$107,$A$8:$A$107,G26)),"逆移動日が元より前",IF(AND(F26="逆移動",SUMIFS($D$8:$D$107,$F$8:$F$107,"逆移動",$G$8:$G$107,G26,$E$8:$E$107,"確定")>SUMIFS($D$8:$D$107,$A$8:$A$107,G26)),"確定逆移動の合計が元数量を超過","確認済み"))))))))))))))))))))))),ISNUMBER(N26),N26=IF(M26="確認済み",0,1))),1,IF(N26<>0,0,IF(AND(ISNUMBER(I26),I26=IF(AND(B26>=入出庫集計!$B$3,B26<=入出庫集計!$E$3),1,0),IF(OR(I26<>1,E26="未確認"),ISTEXT(J26),ISNUMBER(J26)),J26=IF(I26<>1,"",IF(E26="未確認","",IF(AND(E26="確定",C26="入庫"),D26,0))),IF(OR(I26<>1,E26="未確認"),ISTEXT(K26),ISNUMBER(K26)),K26=IF(I26<>1,"",IF(E26="未確認","",IF(AND(E26="確定",C26="出庫"),D26,0))),ISNUMBER(L26),L26=IF(AND(I26=1,E26="未確認"),1,0)),0,1)))) -> 0
I27: =IF(M27="","",IF(N27<>0,NA(),IF(AND(B27>=入出庫集計!$B$3,B27<=入出庫集計!$E$3),1,0))) | J27: =IF(M27="","",IF(N27<>0,NA(),IF(I27<>1,"",IF(E27="未確認","",IF(AND(E27="確定",C27="入庫"),D27,0))))) | K27: =IF(M27="","",IF(N27<>0,NA(),IF(I27<>1,"",IF(E27="未確認","",IF(AND(E27="確定",C27="出庫"),D27,0))))) | L27: =IF(M27="","",IF(N27<>0,NA(),IF(AND(I27=1,E27="未確認"),1,0))) | M27: =IF(COUNTA(A27:H27)=0,"",IF(NOT(AND(ISTEXT(A27),LEN(A27)=8,EXACT(LEFT(A27,4),"MOV-"),ISNUMBER(FIND(MID(A27,5,1)&"x","0x1x2x3x4x5x6x7x8x9x")),ISNUMBER(FIND(MID(A27,6,1)&"x","0x1x2x3x4x5x6x7x8x9x")),ISNUMBER(FIND(MID(A27,7,1)&"x","0x1x2x3x4x5x6x7x8x9x")),ISNUMBER(FIND(MID(A27,8,1)&"x","0x1x2x3x4x5x6x7x8x9x")))),"IDはMOV-と半角数字4桁",IF(COUNTIFS($A$8:$A$107,A27)>1,"記録IDが重複",IF(NOT(IF(ISNUMBER(B27),AND(B27>=43831,B27<73051,B27=INT(B27)),FALSE())),"発生日は時刻なしで必須",IF(NOT(OR(C27="入庫",C27="出庫")),"入出区分を確認",IF(NOT(OR(E27="確定",E27="取消",E27="未確認")),"状態を確認",IF(NOT(OR(F27="新規",F27="訂正",F27="逆移動")),"種別を確認",IF(AND(E27<>"未確認",NOT(IF(ISNUMBER(D27),AND(D27>=1,D27<=1000000,D27=INT(D27)),FALSE()))),"確定/取消の数量は1〜100万個の整数",IF(AND(E27="未確認",COUNTA(D27)>0),"未確認の数量は空欄",IF(NOT(IF(ISNUMBER(H27),AND(H27>=43831,H27<73051,H27=INT(H27)),FALSE())),"記録確認日は時刻なしで必須",IF(OR(B27>H27,H27>入出庫集計!$B$4),"発生日≦確認日≦基準日を確認",IF(AND(F27="新規",COUNTA(G27)>0),"新規の参照元は空欄",IF(AND(F27<>"新規",NOT(AND(ISTEXT(G27),LEN(G27)=8,EXACT(LEFT(G27,4),"MOV-"),ISNUMBER(FIND(MID(G27,5,1)&"x","0x1x2x3x4x5x6x7x8x9x")),ISNUMBER(FIND(MID(G27,6,1)&"x","0x1x2x3x4x5x6x7x8x9x")),ISNUMBER(FIND(MID(G27,7,1)&"x","0x1x2x3x4x5x6x7x8x9x")),ISNUMBER(FIND(MID(G27,8,1)&"x","0x1x2x3x4x5x6x7x8x9x"))))),"訂正/逆移動の参照元IDが必須",IF(AND(F27<>"新規",G27>=A27),"参照元は自分より小さいID",IF(AND(F27<>"新規",COUNTIFS($A$8:$A$107,G27)<>1),"参照元が一意にありません",IF(AND(F27<>"新規",COUNTIFS($A$8:$A$107,G27,$F$8:$F$107,"新規")+COUNTIFS($A$8:$A$107,G27,$F$8:$F$107,"訂正")<>1),"逆移動を訂正/逆移動の元にできません",IF(AND(F27="訂正",COUNTIFS($A$8:$A$107,G27,$E$8:$E$107,"取消")<>1),"訂正の参照元は取消済が必要",IF(AND(F27="訂正",COUNTIFS($F$8:$F$107,"訂正",$G$8:$G$107,G27)>1),"同じ元記録への訂正は1行まで",IF(AND(F27="逆移動",E27<>"取消",COUNTIFS($A$8:$A$107,G27,$E$8:$E$107,"確定")<>1),"有効な逆移動の元は確定が必要",IF(AND(F27="逆移動",E27="取消",COUNTIFS($A$8:$A$107,G27,$E$8:$E$107,"確定")+COUNTIFS($A$8:$A$107,G27,$E$8:$E$107,"取消")<>1),"取消済の逆移動も元の状態を確認",IF(AND(F27="逆移動",COUNTIFS($A$8:$A$107,G27,$C$8:$C$107,"<>"&C27)<>1),"逆移動は元と反対の入出区分",IF(AND(F27="逆移動",B27<SUMIFS($B$8:$B$107,$A$8:$A$107,G27)),"逆移動日が元より前",IF(AND(F27="逆移動",SUMIFS($D$8:$D$107,$F$8:$F$107,"逆移動",$G$8:$G$107,G27,$E$8:$E$107,"確定")>SUMIFS($D$8:$D$107,$A$8:$A$107,G27)),"確定逆移動の合計が元数量を超過","確認済み"))))))))))))))))))))))) | N27: =IF(M27="","",IF(M27="確認済み",0,1)) | O27: =IF(COUNTA(A27:H27)=0,IF(AND(M27="",N27="",I27="",J27="",K27="",L27=""),0,1),IF(NOT(AND(ISTEXT(M27),M27=IF(COUNTA(A27:H27)=0,"",IF(NOT(AND(ISTEXT(A27),LEN(A27)=8,EXACT(LEFT(A27,4),"MOV-"),ISNUMBER(FIND(MID(A27,5,1)&"x","0x1x2x3x4x5x6x7x8x9x")),ISNUMBER(FIND(MID(A27,6,1)&"x","0x1x2x3x4x5x6x7x8x9x")),ISNUMBER(FIND(MID(A27,7,1)&"x","0x1x2x3x4x5x6x7x8x9x")),ISNUMBER(FIND(MID(A27,8,1)&"x","0x1x2x3x4x5x6x7x8x9x")))),"IDはMOV-と半角数字4桁",IF(COUNTIFS($A$8:$A$107,A27)>1,"記録IDが重複",IF(NOT(IF(ISNUMBER(B27),AND(B27>=43831,B27<73051,B27=INT(B27)),FALSE())),"発生日は時刻なしで必須",IF(NOT(OR(C27="入庫",C27="出庫")),"入出区分を確認",IF(NOT(OR(E27="確定",E27="取消",E27="未確認")),"状態を確認",IF(NOT(OR(F27="新規",F27="訂正",F27="逆移動")),"種別を確認",IF(AND(E27<>"未確認",NOT(IF(ISNUMBER(D27),AND(D27>=1,D27<=1000000,D27=INT(D27)),FALSE()))),"確定/取消の数量は1〜100万個の整数",IF(AND(E27="未確認",COUNTA(D27)>0),"未確認の数量は空欄",IF(NOT(IF(ISNUMBER(H27),AND(H27>=43831,H27<73051,H27=INT(H27)),FALSE())),"記録確認日は時刻なしで必須",IF(OR(B27>H27,H27>入出庫集計!$B$4),"発生日≦確認日≦基準日を確認",IF(AND(F27="新規",COUNTA(G27)>0),"新規の参照元は空欄",IF(AND(F27<>"新規",NOT(AND(ISTEXT(G27),LEN(G27)=8,EXACT(LEFT(G27,4),"MOV-"),ISNUMBER(FIND(MID(G27,5,1)&"x","0x1x2x3x4x5x6x7x8x9x")),ISNUMBER(FIND(MID(G27,6,1)&"x","0x1x2x3x4x5x6x7x8x9x")),ISNUMBER(FIND(MID(G27,7,1)&"x","0x1x2x3x4x5x6x7x8x9x")),ISNUMBER(FIND(MID(G27,8,1)&"x","0x1x2x3x4x5x6x7x8x9x"))))),"訂正/逆移動の参照元IDが必須",IF(AND(F27<>"新規",G27>=A27),"参照元は自分より小さいID",IF(AND(F27<>"新規",COUNTIFS($A$8:$A$107,G27)<>1),"参照元が一意にありません",IF(AND(F27<>"新規",COUNTIFS($A$8:$A$107,G27,$F$8:$F$107,"新規")+COUNTIFS($A$8:$A$107,G27,$F$8:$F$107,"訂正")<>1),"逆移動を訂正/逆移動の元にできません",IF(AND(F27="訂正",COUNTIFS($A$8:$A$107,G27,$E$8:$E$107,"取消")<>1),"訂正の参照元は取消済が必要",IF(AND(F27="訂正",COUNTIFS($F$8:$F$107,"訂正",$G$8:$G$107,G27)>1),"同じ元記録への訂正は1行まで",IF(AND(F27="逆移動",E27<>"取消",COUNTIFS($A$8:$A$107,G27,$E$8:$E$107,"確定")<>1),"有効な逆移動の元は確定が必要",IF(AND(F27="逆移動",E27="取消",COUNTIFS($A$8:$A$107,G27,$E$8:$E$107,"確定")+COUNTIFS($A$8:$A$107,G27,$E$8:$E$107,"取消")<>1),"取消済の逆移動も元の状態を確認",IF(AND(F27="逆移動",COUNTIFS($A$8:$A$107,G27,$C$8:$C$107,"<>"&C27)<>1),"逆移動は元と反対の入出区分",IF(AND(F27="逆移動",B27<SUMIFS($B$8:$B$107,$A$8:$A$107,G27)),"逆移動日が元より前",IF(AND(F27="逆移動",SUMIFS($D$8:$D$107,$F$8:$F$107,"逆移動",$G$8:$G$107,G27,$E$8:$E$107,"確定")>SUMIFS($D$8:$D$107,$A$8:$A$107,G27)),"確定逆移動の合計が元数量を超過","確認済み"))))))))))))))))))))))),ISNUMBER(N27),N27=IF(M27="確認済み",0,1))),1,IF(N27<>0,0,IF(AND(ISNUMBER(I27),I27=IF(AND(B27>=入出庫集計!$B$3,B27<=入出庫集計!$E$3),1,0),IF(OR(I27<>1,E27="未確認"),ISTEXT(J27),ISNUMBER(J27)),J27=IF(I27<>1,"",IF(E27="未確認","",IF(AND(E27="確定",C27="入庫"),D27,0))),IF(OR(I27<>1,E27="未確認"),ISTEXT(K27),ISNUMBER(K27)),K27=IF(I27<>1,"",IF(E27="未確認","",IF(AND(E27="確定",C27="出庫"),D27,0))),ISNUMBER(L27),L27=IF(AND(I27=1,E27="未確認"),1,0)),0,1)))) -> 0
I28: =IF(M28="","",IF(N28<>0,NA(),IF(AND(B28>=入出庫集計!$B$3,B28<=入出庫集計!$E$3),1,0))) | J28: =IF(M28="","",IF(N28<>0,NA(),IF(I28<>1,"",IF(E28="未確認","",IF(AND(E28="確定",C28="入庫"),D28,0))))) | K28: =IF(M28="","",IF(N28<>0,NA(),IF(I28<>1,"",IF(E28="未確認","",IF(AND(E28="確定",C28="出庫"),D28,0))))) | L28: =IF(M28="","",IF(N28<>0,NA(),IF(AND(I28=1,E28="未確認"),1,0))) | M28: =IF(COUNTA(A28:H28)=0,"",IF(NOT(AND(ISTEXT(A28),LEN(A28)=8,EXACT(LEFT(A28,4),"MOV-"),ISNUMBER(FIND(MID(A28,5,1)&"x","0x1x2x3x4x5x6x7x8x9x")),ISNUMBER(FIND(MID(A28,6,1)&"x","0x1x2x3x4x5x6x7x8x9x")),ISNUMBER(FIND(MID(A28,7,1)&"x","0x1x2x3x4x5x6x7x8x9x")),ISNUMBER(FIND(MID(A28,8,1)&"x","0x1x2x3x4x5x6x7x8x9x")))),"IDはMOV-と半角数字4桁",IF(COUNTIFS($A$8:$A$107,A28)>1,"記録IDが重複",IF(NOT(IF(ISNUMBER(B28),AND(B28>=43831,B28<73051,B28=INT(B28)),FALSE())),"発生日は時刻なしで必須",IF(NOT(OR(C28="入庫",C28="出庫")),"入出区分を確認",IF(NOT(OR(E28="確定",E28="取消",E28="未確認")),"状態を確認",IF(NOT(OR(F28="新規",F28="訂正",F28="逆移動")),"種別を確認",IF(AND(E28<>"未確認",NOT(IF(ISNUMBER(D28),AND(D28>=1,D28<=1000000,D28=INT(D28)),FALSE()))),"確定/取消の数量は1〜100万個の整数",IF(AND(E28="未確認",COUNTA(D28)>0),"未確認の数量は空欄",IF(NOT(IF(ISNUMBER(H28),AND(H28>=43831,H28<73051,H28=INT(H28)),FALSE())),"記録確認日は時刻なしで必須",IF(OR(B28>H28,H28>入出庫集計!$B$4),"発生日≦確認日≦基準日を確認",IF(AND(F28="新規",COUNTA(G28)>0),"新規の参照元は空欄",IF(AND(F28<>"新規",NOT(AND(ISTEXT(G28),LEN(G28)=8,EXACT(LEFT(G28,4),"MOV-"),ISNUMBER(FIND(MID(G28,5,1)&"x","0x1x2x3x4x5x6x7x8x9x")),ISNUMBER(FIND(MID(G28,6,1)&"x","0x1x2x3x4x5x6x7x8x9x")),ISNUMBER(FIND(MID(G28,7,1)&"x","0x1x2x3x4x5x6x7x8x9x")),ISNUMBER(FIND(MID(G28,8,1)&"x","0x1x2x3x4x5x6x7x8x9x"))))),"訂正/逆移動の参照元IDが必須",IF(AND(F28<>"新規",G28>=A28),"参照元は自分より小さいID",IF(AND(F28<>"新規",COUNTIFS($A$8:$A$107,G28)<>1),"参照元が一意にありません",IF(AND(F28<>"新規",COUNTIFS($A$8:$A$107,G28,$F$8:$F$107,"新規")+COUNTIFS($A$8:$A$107,G28,$F$8:$F$107,"訂正")<>1),"逆移動を訂正/逆移動の元にできません",IF(AND(F28="訂正",COUNTIFS($A$8:$A$107,G28,$E$8:$E$107,"取消")<>1),"訂正の参照元は取消済が必要",IF(AND(F28="訂正",COUNTIFS($F$8:$F$107,"訂正",$G$8:$G$107,G28)>1),"同じ元記録への訂正は1行まで",IF(AND(F28="逆移動",E28<>"取消",COUNTIFS($A$8:$A$107,G28,$E$8:$E$107,"確定")<>1),"有効な逆移動の元は確定が必要",IF(AND(F28="逆移動",E28="取消",COUNTIFS($A$8:$A$107,G28,$E$8:$E$107,"確定")+COUNTIFS($A$8:$A$107,G28,$E$8:$E$107,"取消")<>1),"取消済の逆移動も元の状態を確認",IF(AND(F28="逆移動",COUNTIFS($A$8:$A$107,G28,$C$8:$C$107,"<>"&C28)<>1),"逆移動は元と反対の入出区分",IF(AND(F28="逆移動",B28<SUMIFS($B$8:$B$107,$A$8:$A$107,G28)),"逆移動日が元より前",IF(AND(F28="逆移動",SUMIFS($D$8:$D$107,$F$8:$F$107,"逆移動",$G$8:$G$107,G28,$E$8:$E$107,"確定")>SUMIFS($D$8:$D$107,$A$8:$A$107,G28)),"確定逆移動の合計が元数量を超過","確認済み"))))))))))))))))))))))) | N28: =IF(M28="","",IF(M28="確認済み",0,1)) | O28: =IF(COUNTA(A28:H28)=0,IF(AND(M28="",N28="",I28="",J28="",K28="",L28=""),0,1),IF(NOT(AND(ISTEXT(M28),M28=IF(COUNTA(A28:H28)=0,"",IF(NOT(AND(ISTEXT(A28),LEN(A28)=8,EXACT(LEFT(A28,4),"MOV-"),ISNUMBER(FIND(MID(A28,5,1)&"x","0x1x2x3x4x5x6x7x8x9x")),ISNUMBER(FIND(MID(A28,6,1)&"x","0x1x2x3x4x5x6x7x8x9x")),ISNUMBER(FIND(MID(A28,7,1)&"x","0x1x2x3x4x5x6x7x8x9x")),ISNUMBER(FIND(MID(A28,8,1)&"x","0x1x2x3x4x5x6x7x8x9x")))),"IDはMOV-と半角数字4桁",IF(COUNTIFS($A$8:$A$107,A28)>1,"記録IDが重複",IF(NOT(IF(ISNUMBER(B28),AND(B28>=43831,B28<73051,B28=INT(B28)),FALSE())),"発生日は時刻なしで必須",IF(NOT(OR(C28="入庫",C28="出庫")),"入出区分を確認",IF(NOT(OR(E28="確定",E28="取消",E28="未確認")),"状態を確認",IF(NOT(OR(F28="新規",F28="訂正",F28="逆移動")),"種別を確認",IF(AND(E28<>"未確認",NOT(IF(ISNUMBER(D28),AND(D28>=1,D28<=1000000,D28=INT(D28)),FALSE()))),"確定/取消の数量は1〜100万個の整数",IF(AND(E28="未確認",COUNTA(D28)>0),"未確認の数量は空欄",IF(NOT(IF(ISNUMBER(H28),AND(H28>=43831,H28<73051,H28=INT(H28)),FALSE())),"記録確認日は時刻なしで必須",IF(OR(B28>H28,H28>入出庫集計!$B$4),"発生日≦確認日≦基準日を確認",IF(AND(F28="新規",COUNTA(G28)>0),"新規の参照元は空欄",IF(AND(F28<>"新規",NOT(AND(ISTEXT(G28),LEN(G28)=8,EXACT(LEFT(G28,4),"MOV-"),ISNUMBER(FIND(MID(G28,5,1)&"x","0x1x2x3x4x5x6x7x8x9x")),ISNUMBER(FIND(MID(G28,6,1)&"x","0x1x2x3x4x5x6x7x8x9x")),ISNUMBER(FIND(MID(G28,7,1)&"x","0x1x2x3x4x5x6x7x8x9x")),ISNUMBER(FIND(MID(G28,8,1)&"x","0x1x2x3x4x5x6x7x8x9x"))))),"訂正/逆移動の参照元IDが必須",IF(AND(F28<>"新規",G28>=A28),"参照元は自分より小さいID",IF(AND(F28<>"新規",COUNTIFS($A$8:$A$107,G28)<>1),"参照元が一意にありません",IF(AND(F28<>"新規",COUNTIFS($A$8:$A$107,G28,$F$8:$F$107,"新規")+COUNTIFS($A$8:$A$107,G28,$F$8:$F$107,"訂正")<>1),"逆移動を訂正/逆移動の元にできません",IF(AND(F28="訂正",COUNTIFS($A$8:$A$107,G28,$E$8:$E$107,"取消")<>1),"訂正の参照元は取消済が必要",IF(AND(F28="訂正",COUNTIFS($F$8:$F$107,"訂正",$G$8:$G$107,G28)>1),"同じ元記録への訂正は1行まで",IF(AND(F28="逆移動",E28<>"取消",COUNTIFS($A$8:$A$107,G28,$E$8:$E$107,"確定")<>1),"有効な逆移動の元は確定が必要",IF(AND(F28="逆移動",E28="取消",COUNTIFS($A$8:$A$107,G28,$E$8:$E$107,"確定")+COUNTIFS($A$8:$A$107,G28,$E$8:$E$107,"取消")<>1),"取消済の逆移動も元の状態を確認",IF(AND(F28="逆移動",COUNTIFS($A$8:$A$107,G28,$C$8:$C$107,"<>"&C28)<>1),"逆移動は元と反対の入出区分",IF(AND(F28="逆移動",B28<SUMIFS($B$8:$B$107,$A$8:$A$107,G28)),"逆移動日が元より前",IF(AND(F28="逆移動",SUMIFS($D$8:$D$107,$F$8:$F$107,"逆移動",$G$8:$G$107,G28,$E$8:$E$107,"確定")>SUMIFS($D$8:$D$107,$A$8:$A$107,G28)),"確定逆移動の合計が元数量を超過","確認済み"))))))))))))))))))))))),ISNUMBER(N28),N28=IF(M28="確認済み",0,1))),1,IF(N28<>0,0,IF(AND(ISNUMBER(I28),I28=IF(AND(B28>=入出庫集計!$B$3,B28<=入出庫集計!$E$3),1,0),IF(OR(I28<>1,E28="未確認"),ISTEXT(J28),ISNUMBER(J28)),J28=IF(I28<>1,"",IF(E28="未確認","",IF(AND(E28="確定",C28="入庫"),D28,0))),IF(OR(I28<>1,E28="未確認"),ISTEXT(K28),ISNUMBER(K28)),K28=IF(I28<>1,"",IF(E28="未確認","",IF(AND(E28="確定",C28="出庫"),D28,0))),ISNUMBER(L28),L28=IF(AND(I28=1,E28="未確認"),1,0)),0,1)))) -> 0
I29: =IF(M29="","",IF(N29<>0,NA(),IF(AND(B29>=入出庫集計!$B$3,B29<=入出庫集計!$E$3),1,0))) | J29: =IF(M29="","",IF(N29<>0,NA(),IF(I29<>1,"",IF(E29="未確認","",IF(AND(E29="確定",C29="入庫"),D29,0))))) | K29: =IF(M29="","",IF(N29<>0,NA(),IF(I29<>1,"",IF(E29="未確認","",IF(AND(E29="確定",C29="出庫"),D29,0))))) | L29: =IF(M29="","",IF(N29<>0,NA(),IF(AND(I29=1,E29="未確認"),1,0))) | M29: =IF(COUNTA(A29:H29)=0,"",IF(NOT(AND(ISTEXT(A29),LEN(A29)=8,EXACT(LEFT(A29,4),"MOV-"),ISNUMBER(FIND(MID(A29,5,1)&"x","0x1x2x3x4x5x6x7x8x9x")),ISNUMBER(FIND(MID(A29,6,1)&"x","0x1x2x3x4x5x6x7x8x9x")),ISNUMBER(FIND(MID(A29,7,1)&"x","0x1x2x3x4x5x6x7x8x9x")),ISNUMBER(FIND(MID(A29,8,1)&"x","0x1x2x3x4x5x6x7x8x9x")))),"IDはMOV-と半角数字4桁",IF(COUNTIFS($A$8:$A$107,A29)>1,"記録IDが重複",IF(NOT(IF(ISNUMBER(B29),AND(B29>=43831,B29<73051,B29=INT(B29)),FALSE())),"発生日は時刻なしで必須",IF(NOT(OR(C29="入庫",C29="出庫")),"入出区分を確認",IF(NOT(OR(E29="確定",E29="取消",E29="未確認")),"状態を確認",IF(NOT(OR(F29="新規",F29="訂正",F29="逆移動")),"種別を確認",IF(AND(E29<>"未確認",NOT(IF(ISNUMBER(D29),AND(D29>=1,D29<=1000000,D29=INT(D29)),FALSE()))),"確定/取消の数量は1〜100万個の整数",IF(AND(E29="未確認",COUNTA(D29)>0),"未確認の数量は空欄",IF(NOT(IF(ISNUMBER(H29),AND(H29>=43831,H29<73051,H29=INT(H29)),FALSE())),"記録確認日は時刻なしで必須",IF(OR(B29>H29,H29>入出庫集計!$B$4),"発生日≦確認日≦基準日を確認",IF(AND(F29="新規",COUNTA(G29)>0),"新規の参照元は空欄",IF(AND(F29<>"新規",NOT(AND(ISTEXT(G29),LEN(G29)=8,EXACT(LEFT(G29,4),"MOV-"),ISNUMBER(FIND(MID(G29,5,1)&"x","0x1x2x3x4x5x6x7x8x9x")),ISNUMBER(FIND(MID(G29,6,1)&"x","0x1x2x3x4x5x6x7x8x9x")),ISNUMBER(FIND(MID(G29,7,1)&"x","0x1x2x3x4x5x6x7x8x9x")),ISNUMBER(FIND(MID(G29,8,1)&"x","0x1x2x3x4x5x6x7x8x9x"))))),"訂正/逆移動の参照元IDが必須",IF(AND(F29<>"新規",G29>=A29),"参照元は自分より小さいID",IF(AND(F29<>"新規",COUNTIFS($A$8:$A$107,G29)<>1),"参照元が一意にありません",IF(AND(F29<>"新規",COUNTIFS($A$8:$A$107,G29,$F$8:$F$107,"新規")+COUNTIFS($A$8:$A$107,G29,$F$8:$F$107,"訂正")<>1),"逆移動を訂正/逆移動の元にできません",IF(AND(F29="訂正",COUNTIFS($A$8:$A$107,G29,$E$8:$E$107,"取消")<>1),"訂正の参照元は取消済が必要",IF(AND(F29="訂正",COUNTIFS($F$8:$F$107,"訂正",$G$8:$G$107,G29)>1),"同じ元記録への訂正は1行まで",IF(AND(F29="逆移動",E29<>"取消",COUNTIFS($A$8:$A$107,G29,$E$8:$E$107,"確定")<>1),"有効な逆移動の元は確定が必要",IF(AND(F29="逆移動",E29="取消",COUNTIFS($A$8:$A$107,G29,$E$8:$E$107,"確定")+COUNTIFS($A$8:$A$107,G29,$E$8:$E$107,"取消")<>1),"取消済の逆移動も元の状態を確認",IF(AND(F29="逆移動",COUNTIFS($A$8:$A$107,G29,$C$8:$C$107,"<>"&C29)<>1),"逆移動は元と反対の入出区分",IF(AND(F29="逆移動",B29<SUMIFS($B$8:$B$107,$A$8:$A$107,G29)),"逆移動日が元より前",IF(AND(F29="逆移動",SUMIFS($D$8:$D$107,$F$8:$F$107,"逆移動",$G$8:$G$107,G29,$E$8:$E$107,"確定")>SUMIFS($D$8:$D$107,$A$8:$A$107,G29)),"確定逆移動の合計が元数量を超過","確認済み"))))))))))))))))))))))) | N29: =IF(M29="","",IF(M29="確認済み",0,1)) | O29: =IF(COUNTA(A29:H29)=0,IF(AND(M29="",N29="",I29="",J29="",K29="",L29=""),0,1),IF(NOT(AND(ISTEXT(M29),M29=IF(COUNTA(A29:H29)=0,"",IF(NOT(AND(ISTEXT(A29),LEN(A29)=8,EXACT(LEFT(A29,4),"MOV-"),ISNUMBER(FIND(MID(A29,5,1)&"x","0x1x2x3x4x5x6x7x8x9x")),ISNUMBER(FIND(MID(A29,6,1)&"x","0x1x2x3x4x5x6x7x8x9x")),ISNUMBER(FIND(MID(A29,7,1)&"x","0x1x2x3x4x5x6x7x8x9x")),ISNUMBER(FIND(MID(A29,8,1)&"x","0x1x2x3x4x5x6x7x8x9x")))),"IDはMOV-と半角数字4桁",IF(COUNTIFS($A$8:$A$107,A29)>1,"記録IDが重複",IF(NOT(IF(ISNUMBER(B29),AND(B29>=43831,B29<73051,B29=INT(B29)),FALSE())),"発生日は時刻なしで必須",IF(NOT(OR(C29="入庫",C29="出庫")),"入出区分を確認",IF(NOT(OR(E29="確定",E29="取消",E29="未確認")),"状態を確認",IF(NOT(OR(F29="新規",F29="訂正",F29="逆移動")),"種別を確認",IF(AND(E29<>"未確認",NOT(IF(ISNUMBER(D29),AND(D29>=1,D29<=1000000,D29=INT(D29)),FALSE()))),"確定/取消の数量は1〜100万個の整数",IF(AND(E29="未確認",COUNTA(D29)>0),"未確認の数量は空欄",IF(NOT(IF(ISNUMBER(H29),AND(H29>=43831,H29<73051,H29=INT(H29)),FALSE())),"記録確認日は時刻なしで必須",IF(OR(B29>H29,H29>入出庫集計!$B$4),"発生日≦確認日≦基準日を確認",IF(AND(F29="新規",COUNTA(G29)>0),"新規の参照元は空欄",IF(AND(F29<>"新規",NOT(AND(ISTEXT(G29),LEN(G29)=8,EXACT(LEFT(G29,4),"MOV-"),ISNUMBER(FIND(MID(G29,5,1)&"x","0x1x2x3x4x5x6x7x8x9x")),ISNUMBER(FIND(MID(G29,6,1)&"x","0x1x2x3x4x5x6x7x8x9x")),ISNUMBER(FIND(MID(G29,7,1)&"x","0x1x2x3x4x5x6x7x8x9x")),ISNUMBER(FIND(MID(G29,8,1)&"x","0x1x2x3x4x5x6x7x8x9x"))))),"訂正/逆移動の参照元IDが必須",IF(AND(F29<>"新規",G29>=A29),"参照元は自分より小さいID",IF(AND(F29<>"新規",COUNTIFS($A$8:$A$107,G29)<>1),"参照元が一意にありません",IF(AND(F29<>"新規",COUNTIFS($A$8:$A$107,G29,$F$8:$F$107,"新規")+COUNTIFS($A$8:$A$107,G29,$F$8:$F$107,"訂正")<>1),"逆移動を訂正/逆移動の元にできません",IF(AND(F29="訂正",COUNTIFS($A$8:$A$107,G29,$E$8:$E$107,"取消")<>1),"訂正の参照元は取消済が必要",IF(AND(F29="訂正",COUNTIFS($F$8:$F$107,"訂正",$G$8:$G$107,G29)>1),"同じ元記録への訂正は1行まで",IF(AND(F29="逆移動",E29<>"取消",COUNTIFS($A$8:$A$107,G29,$E$8:$E$107,"確定")<>1),"有効な逆移動の元は確定が必要",IF(AND(F29="逆移動",E29="取消",COUNTIFS($A$8:$A$107,G29,$E$8:$E$107,"確定")+COUNTIFS($A$8:$A$107,G29,$E$8:$E$107,"取消")<>1),"取消済の逆移動も元の状態を確認",IF(AND(F29="逆移動",COUNTIFS($A$8:$A$107,G29,$C$8:$C$107,"<>"&C29)<>1),"逆移動は元と反対の入出区分",IF(AND(F29="逆移動",B29<SUMIFS($B$8:$B$107,$A$8:$A$107,G29)),"逆移動日が元より前",IF(AND(F29="逆移動",SUMIFS($D$8:$D$107,$F$8:$F$107,"逆移動",$G$8:$G$107,G29,$E$8:$E$107,"確定")>SUMIFS($D$8:$D$107,$A$8:$A$107,G29)),"確定逆移動の合計が元数量を超過","確認済み"))))))))))))))))))))))),ISNUMBER(N29),N29=IF(M29="確認済み",0,1))),1,IF(N29<>0,0,IF(AND(ISNUMBER(I29),I29=IF(AND(B29>=入出庫集計!$B$3,B29<=入出庫集計!$E$3),1,0),IF(OR(I29<>1,E29="未確認"),ISTEXT(J29),ISNUMBER(J29)),J29=IF(I29<>1,"",IF(E29="未確認","",IF(AND(E29="確定",C29="入庫"),D29,0))),IF(OR(I29<>1,E29="未確認"),ISTEXT(K29),ISNUMBER(K29)),K29=IF(I29<>1,"",IF(E29="未確認","",IF(AND(E29="確定",C29="出庫"),D29,0))),ISNUMBER(L29),L29=IF(AND(I29=1,E29="未確認"),1,0)),0,1)))) -> 0
I30: =IF(M30="","",IF(N30<>0,NA(),IF(AND(B30>=入出庫集計!$B$3,B30<=入出庫集計!$E$3),1,0))) | J30: =IF(M30="","",IF(N30<>0,NA(),IF(I30<>1,"",IF(E30="未確認","",IF(AND(E30="確定",C30="入庫"),D30,0))))) | K30: =IF(M30="","",IF(N30<>0,NA(),IF(I30<>1,"",IF(E30="未確認","",IF(AND(E30="確定",C30="出庫"),D30,0))))) | L30: =IF(M30="","",IF(N30<>0,NA(),IF(AND(I30=1,E30="未確認"),1,0))) | M30: =IF(COUNTA(A30:H30)=0,"",IF(NOT(AND(ISTEXT(A30),LEN(A30)=8,EXACT(LEFT(A30,4),"MOV-"),ISNUMBER(FIND(MID(A30,5,1)&"x","0x1x2x3x4x5x6x7x8x9x")),ISNUMBER(FIND(MID(A30,6,1)&"x","0x1x2x3x4x5x6x7x8x9x")),ISNUMBER(FIND(MID(A30,7,1)&"x","0x1x2x3x4x5x6x7x8x9x")),ISNUMBER(FIND(MID(A30,8,1)&"x","0x1x2x3x4x5x6x7x8x9x")))),"IDはMOV-と半角数字4桁",IF(COUNTIFS($A$8:$A$107,A30)>1,"記録IDが重複",IF(NOT(IF(ISNUMBER(B30),AND(B30>=43831,B30<73051,B30=INT(B30)),FALSE())),"発生日は時刻なしで必須",IF(NOT(OR(C30="入庫",C30="出庫")),"入出区分を確認",IF(NOT(OR(E30="確定",E30="取消",E30="未確認")),"状態を確認",IF(NOT(OR(F30="新規",F30="訂正",F30="逆移動")),"種別を確認",IF(AND(E30<>"未確認",NOT(IF(ISNUMBER(D30),AND(D30>=1,D30<=1000000,D30=INT(D30)),FALSE()))),"確定/取消の数量は1〜100万個の整数",IF(AND(E30="未確認",COUNTA(D30)>0),"未確認の数量は空欄",IF(NOT(IF(ISNUMBER(H30),AND(H30>=43831,H30<73051,H30=INT(H30)),FALSE())),"記録確認日は時刻なしで必須",IF(OR(B30>H30,H30>入出庫集計!$B$4),"発生日≦確認日≦基準日を確認",IF(AND(F30="新規",COUNTA(G30)>0),"新規の参照元は空欄",IF(AND(F30<>"新規",NOT(AND(ISTEXT(G30),LEN(G30)=8,EXACT(LEFT(G30,4),"MOV-"),ISNUMBER(FIND(MID(G30,5,1)&"x","0x1x2x3x4x5x6x7x8x9x")),ISNUMBER(FIND(MID(G30,6,1)&"x","0x1x2x3x4x5x6x7x8x9x")),ISNUMBER(FIND(MID(G30,7,1)&"x","0x1x2x3x4x5x6x7x8x9x")),ISNUMBER(FIND(MID(G30,8,1)&"x","0x1x2x3x4x5x6x7x8x9x"))))),"訂正/逆移動の参照元IDが必須",IF(AND(F30<>"新規",G30>=A30),"参照元は自分より小さいID",IF(AND(F30<>"新規",COUNTIFS($A$8:$A$107,G30)<>1),"参照元が一意にありません",IF(AND(F30<>"新規",COUNTIFS($A$8:$A$107,G30,$F$8:$F$107,"新規")+COUNTIFS($A$8:$A$107,G30,$F$8:$F$107,"訂正")<>1),"逆移動を訂正/逆移動の元にできません",IF(AND(F30="訂正",COUNTIFS($A$8:$A$107,G30,$E$8:$E$107,"取消")<>1),"訂正の参照元は取消済が必要",IF(AND(F30="訂正",COUNTIFS($F$8:$F$107,"訂正",$G$8:$G$107,G30)>1),"同じ元記録への訂正は1行まで",IF(AND(F30="逆移動",E30<>"取消",COUNTIFS($A$8:$A$107,G30,$E$8:$E$107,"確定")<>1),"有効な逆移動の元は確定が必要",IF(AND(F30="逆移動",E30="取消",COUNTIFS($A$8:$A$107,G30,$E$8:$E$107,"確定")+COUNTIFS($A$8:$A$107,G30,$E$8:$E$107,"取消")<>1),"取消済の逆移動も元の状態を確認",IF(AND(F30="逆移動",COUNTIFS($A$8:$A$107,G30,$C$8:$C$107,"<>"&C30)<>1),"逆移動は元と反対の入出区分",IF(AND(F30="逆移動",B30<SUMIFS($B$8:$B$107,$A$8:$A$107,G30)),"逆移動日が元より前",IF(AND(F30="逆移動",SUMIFS($D$8:$D$107,$F$8:$F$107,"逆移動",$G$8:$G$107,G30,$E$8:$E$107,"確定")>SUMIFS($D$8:$D$107,$A$8:$A$107,G30)),"確定逆移動の合計が元数量を超過","確認済み"))))))))))))))))))))))) | N30: =IF(M30="","",IF(M30="確認済み",0,1)) | O30: =IF(COUNTA(A30:H30)=0,IF(AND(M30="",N30="",I30="",J30="",K30="",L30=""),0,1),IF(NOT(AND(ISTEXT(M30),M30=IF(COUNTA(A30:H30)=0,"",IF(NOT(AND(ISTEXT(A30),LEN(A30)=8,EXACT(LEFT(A30,4),"MOV-"),ISNUMBER(FIND(MID(A30,5,1)&"x","0x1x2x3x4x5x6x7x8x9x")),ISNUMBER(FIND(MID(A30,6,1)&"x","0x1x2x3x4x5x6x7x8x9x")),ISNUMBER(FIND(MID(A30,7,1)&"x","0x1x2x3x4x5x6x7x8x9x")),ISNUMBER(FIND(MID(A30,8,1)&"x","0x1x2x3x4x5x6x7x8x9x")))),"IDはMOV-と半角数字4桁",IF(COUNTIFS($A$8:$A$107,A30)>1,"記録IDが重複",IF(NOT(IF(ISNUMBER(B30),AND(B30>=43831,B30<73051,B30=INT(B30)),FALSE())),"発生日は時刻なしで必須",IF(NOT(OR(C30="入庫",C30="出庫")),"入出区分を確認",IF(NOT(OR(E30="確定",E30="取消",E30="未確認")),"状態を確認",IF(NOT(OR(F30="新規",F30="訂正",F30="逆移動")),"種別を確認",IF(AND(E30<>"未確認",NOT(IF(ISNUMBER(D30),AND(D30>=1,D30<=1000000,D30=INT(D30)),FALSE()))),"確定/取消の数量は1〜100万個の整数",IF(AND(E30="未確認",COUNTA(D30)>0),"未確認の数量は空欄",IF(NOT(IF(ISNUMBER(H30),AND(H30>=43831,H30<73051,H30=INT(H30)),FALSE())),"記録確認日は時刻なしで必須",IF(OR(B30>H30,H30>入出庫集計!$B$4),"発生日≦確認日≦基準日を確認",IF(AND(F30="新規",COUNTA(G30)>0),"新規の参照元は空欄",IF(AND(F30<>"新規",NOT(AND(ISTEXT(G30),LEN(G30)=8,EXACT(LEFT(G30,4),"MOV-"),ISNUMBER(FIND(MID(G30,5,1)&"x","0x1x2x3x4x5x6x7x8x9x")),ISNUMBER(FIND(MID(G30,6,1)&"x","0x1x2x3x4x5x6x7x8x9x")),ISNUMBER(FIND(MID(G30,7,1)&"x","0x1x2x3x4x5x6x7x8x9x")),ISNUMBER(FIND(MID(G30,8,1)&"x","0x1x2x3x4x5x6x7x8x9x"))))),"訂正/逆移動の参照元IDが必須",IF(AND(F30<>"新規",G30>=A30),"参照元は自分より小さいID",IF(AND(F30<>"新規",COUNTIFS($A$8:$A$107,G30)<>1),"参照元が一意にありません",IF(AND(F30<>"新規",COUNTIFS($A$8:$A$107,G30,$F$8:$F$107,"新規")+COUNTIFS($A$8:$A$107,G30,$F$8:$F$107,"訂正")<>1),"逆移動を訂正/逆移動の元にできません",IF(AND(F30="訂正",COUNTIFS($A$8:$A$107,G30,$E$8:$E$107,"取消")<>1),"訂正の参照元は取消済が必要",IF(AND(F30="訂正",COUNTIFS($F$8:$F$107,"訂正",$G$8:$G$107,G30)>1),"同じ元記録への訂正は1行まで",IF(AND(F30="逆移動",E30<>"取消",COUNTIFS($A$8:$A$107,G30,$E$8:$E$107,"確定")<>1),"有効な逆移動の元は確定が必要",IF(AND(F30="逆移動",E30="取消",COUNTIFS($A$8:$A$107,G30,$E$8:$E$107,"確定")+COUNTIFS($A$8:$A$107,G30,$E$8:$E$107,"取消")<>1),"取消済の逆移動も元の状態を確認",IF(AND(F30="逆移動",COUNTIFS($A$8:$A$107,G30,$C$8:$C$107,"<>"&C30)<>1),"逆移動は元と反対の入出区分",IF(AND(F30="逆移動",B30<SUMIFS($B$8:$B$107,$A$8:$A$107,G30)),"逆移動日が元より前",IF(AND(F30="逆移動",SUMIFS($D$8:$D$107,$F$8:$F$107,"逆移動",$G$8:$G$107,G30,$E$8:$E$107,"確定")>SUMIFS($D$8:$D$107,$A$8:$A$107,G30)),"確定逆移動の合計が元数量を超過","確認済み"))))))))))))))))))))))),ISNUMBER(N30),N30=IF(M30="確認済み",0,1))),1,IF(N30<>0,0,IF(AND(ISNUMBER(I30),I30=IF(AND(B30>=入出庫集計!$B$3,B30<=入出庫集計!$E$3),1,0),IF(OR(I30<>1,E30="未確認"),ISTEXT(J30),ISNUMBER(J30)),J30=IF(I30<>1,"",IF(E30="未確認","",IF(AND(E30="確定",C30="入庫"),D30,0))),IF(OR(I30<>1,E30="未確認"),ISTEXT(K30),ISNUMBER(K30)),K30=IF(I30<>1,"",IF(E30="未確認","",IF(AND(E30="確定",C30="出庫"),D30,0))),ISNUMBER(L30),L30=IF(AND(I30=1,E30="未確認"),1,0)),0,1)))) -> 0
I31: =IF(M31="","",IF(N31<>0,NA(),IF(AND(B31>=入出庫集計!$B$3,B31<=入出庫集計!$E$3),1,0))) | J31: =IF(M31="","",IF(N31<>0,NA(),IF(I31<>1,"",IF(E31="未確認","",IF(AND(E31="確定",C31="入庫"),D31,0))))) | K31: =IF(M31="","",IF(N31<>0,NA(),IF(I31<>1,"",IF(E31="未確認","",IF(AND(E31="確定",C31="出庫"),D31,0))))) | L31: =IF(M31="","",IF(N31<>0,NA(),IF(AND(I31=1,E31="未確認"),1,0))) | M31: =IF(COUNTA(A31:H31)=0,"",IF(NOT(AND(ISTEXT(A31),LEN(A31)=8,EXACT(LEFT(A31,4),"MOV-"),ISNUMBER(FIND(MID(A31,5,1)&"x","0x1x2x3x4x5x6x7x8x9x")),ISNUMBER(FIND(MID(A31,6,1)&"x","0x1x2x3x4x5x6x7x8x9x")),ISNUMBER(FIND(MID(A31,7,1)&"x","0x1x2x3x4x5x6x7x8x9x")),ISNUMBER(FIND(MID(A31,8,1)&"x","0x1x2x3x4x5x6x7x8x9x")))),"IDはMOV-と半角数字4桁",IF(COUNTIFS($A$8:$A$107,A31)>1,"記録IDが重複",IF(NOT(IF(ISNUMBER(B31),AND(B31>=43831,B31<73051,B31=INT(B31)),FALSE())),"発生日は時刻なしで必須",IF(NOT(OR(C31="入庫",C31="出庫")),"入出区分を確認",IF(NOT(OR(E31="確定",E31="取消",E31="未確認")),"状態を確認",IF(NOT(OR(F31="新規",F31="訂正",F31="逆移動")),"種別を確認",IF(AND(E31<>"未確認",NOT(IF(ISNUMBER(D31),AND(D31>=1,D31<=1000000,D31=INT(D31)),FALSE()))),"確定/取消の数量は1〜100万個の整数",IF(AND(E31="未確認",COUNTA(D31)>0),"未確認の数量は空欄",IF(NOT(IF(ISNUMBER(H31),AND(H31>=43831,H31<73051,H31=INT(H31)),FALSE())),"記録確認日は時刻なしで必須",IF(OR(B31>H31,H31>入出庫集計!$B$4),"発生日≦確認日≦基準日を確認",IF(AND(F31="新規",COUNTA(G31)>0),"新規の参照元は空欄",IF(AND(F31<>"新規",NOT(AND(ISTEXT(G31),LEN(G31)=8,EXACT(LEFT(G31,4),"MOV-"),ISNUMBER(FIND(MID(G31,5,1)&"x","0x1x2x3x4x5x6x7x8x9x")),ISNUMBER(FIND(MID(G31,6,1)&"x","0x1x2x3x4x5x6x7x8x9x")),ISNUMBER(FIND(MID(G31,7,1)&"x","0x1x2x3x4x5x6x7x8x9x")),ISNUMBER(FIND(MID(G31,8,1)&"x","0x1x2x3x4x5x6x7x8x9x"))))),"訂正/逆移動の参照元IDが必須",IF(AND(F31<>"新規",G31>=A31),"参照元は自分より小さいID",IF(AND(F31<>"新規",COUNTIFS($A$8:$A$107,G31)<>1),"参照元が一意にありません",IF(AND(F31<>"新規",COUNTIFS($A$8:$A$107,G31,$F$8:$F$107,"新規")+COUNTIFS($A$8:$A$107,G31,$F$8:$F$107,"訂正")<>1),"逆移動を訂正/逆移動の元にできません",IF(AND(F31="訂正",COUNTIFS($A$8:$A$107,G31,$E$8:$E$107,"取消")<>1),"訂正の参照元は取消済が必要",IF(AND(F31="訂正",COUNTIFS($F$8:$F$107,"訂正",$G$8:$G$107,G31)>1),"同じ元記録への訂正は1行まで",IF(AND(F31="逆移動",E31<>"取消",COUNTIFS($A$8:$A$107,G31,$E$8:$E$107,"確定")<>1),"有効な逆移動の元は確定が必要",IF(AND(F31="逆移動",E31="取消",COUNTIFS($A$8:$A$107,G31,$E$8:$E$107,"確定")+COUNTIFS($A$8:$A$107,G31,$E$8:$E$107,"取消")<>1),"取消済の逆移動も元の状態を確認",IF(AND(F31="逆移動",COUNTIFS($A$8:$A$107,G31,$C$8:$C$107,"<>"&C31)<>1),"逆移動は元と反対の入出区分",IF(AND(F31="逆移動",B31<SUMIFS($B$8:$B$107,$A$8:$A$107,G31)),"逆移動日が元より前",IF(AND(F31="逆移動",SUMIFS($D$8:$D$107,$F$8:$F$107,"逆移動",$G$8:$G$107,G31,$E$8:$E$107,"確定")>SUMIFS($D$8:$D$107,$A$8:$A$107,G31)),"確定逆移動の合計が元数量を超過","確認済み"))))))))))))))))))))))) | N31: =IF(M31="","",IF(M31="確認済み",0,1)) | O31: =IF(COUNTA(A31:H31)=0,IF(AND(M31="",N31="",I31="",J31="",K31="",L31=""),0,1),IF(NOT(AND(ISTEXT(M31),M31=IF(COUNTA(A31:H31)=0,"",IF(NOT(AND(ISTEXT(A31),LEN(A31)=8,EXACT(LEFT(A31,4),"MOV-"),ISNUMBER(FIND(MID(A31,5,1)&"x","0x1x2x3x4x5x6x7x8x9x")),ISNUMBER(FIND(MID(A31,6,1)&"x","0x1x2x3x4x5x6x7x8x9x")),ISNUMBER(FIND(MID(A31,7,1)&"x","0x1x2x3x4x5x6x7x8x9x")),ISNUMBER(FIND(MID(A31,8,1)&"x","0x1x2x3x4x5x6x7x8x9x")))),"IDはMOV-と半角数字4桁",IF(COUNTIFS($A$8:$A$107,A31)>1,"記録IDが重複",IF(NOT(IF(ISNUMBER(B31),AND(B31>=43831,B31<73051,B31=INT(B31)),FALSE())),"発生日は時刻なしで必須",IF(NOT(OR(C31="入庫",C31="出庫")),"入出区分を確認",IF(NOT(OR(E31="確定",E31="取消",E31="未確認")),"状態を確認",IF(NOT(OR(F31="新規",F31="訂正",F31="逆移動")),"種別を確認",IF(AND(E31<>"未確認",NOT(IF(ISNUMBER(D31),AND(D31>=1,D31<=1000000,D31=INT(D31)),FALSE()))),"確定/取消の数量は1〜100万個の整数",IF(AND(E31="未確認",COUNTA(D31)>0),"未確認の数量は空欄",IF(NOT(IF(ISNUMBER(H31),AND(H31>=43831,H31<73051,H31=INT(H31)),FALSE())),"記録確認日は時刻なしで必須",IF(OR(B31>H31,H31>入出庫集計!$B$4),"発生日≦確認日≦基準日を確認",IF(AND(F31="新規",COUNTA(G31)>0),"新規の参照元は空欄",IF(AND(F31<>"新規",NOT(AND(ISTEXT(G31),LEN(G31)=8,EXACT(LEFT(G31,4),"MOV-"),ISNUMBER(FIND(MID(G31,5,1)&"x","0x1x2x3x4x5x6x7x8x9x")),ISNUMBER(FIND(MID(G31,6,1)&"x","0x1x2x3x4x5x6x7x8x9x")),ISNUMBER(FIND(MID(G31,7,1)&"x","0x1x2x3x4x5x6x7x8x9x")),ISNUMBER(FIND(MID(G31,8,1)&"x","0x1x2x3x4x5x6x7x8x9x"))))),"訂正/逆移動の参照元IDが必須",IF(AND(F31<>"新規",G31>=A31),"参照元は自分より小さいID",IF(AND(F31<>"新規",COUNTIFS($A$8:$A$107,G31)<>1),"参照元が一意にありません",IF(AND(F31<>"新規",COUNTIFS($A$8:$A$107,G31,$F$8:$F$107,"新規")+COUNTIFS($A$8:$A$107,G31,$F$8:$F$107,"訂正")<>1),"逆移動を訂正/逆移動の元にできません",IF(AND(F31="訂正",COUNTIFS($A$8:$A$107,G31,$E$8:$E$107,"取消")<>1),"訂正の参照元は取消済が必要",IF(AND(F31="訂正",COUNTIFS($F$8:$F$107,"訂正",$G$8:$G$107,G31)>1),"同じ元記録への訂正は1行まで",IF(AND(F31="逆移動",E31<>"取消",COUNTIFS($A$8:$A$107,G31,$E$8:$E$107,"確定")<>1),"有効な逆移動の元は確定が必要",IF(AND(F31="逆移動",E31="取消",COUNTIFS($A$8:$A$107,G31,$E$8:$E$107,"確定")+COUNTIFS($A$8:$A$107,G31,$E$8:$E$107,"取消")<>1),"取消済の逆移動も元の状態を確認",IF(AND(F31="逆移動",COUNTIFS($A$8:$A$107,G31,$C$8:$C$107,"<>"&C31)<>1),"逆移動は元と反対の入出区分",IF(AND(F31="逆移動",B31<SUMIFS($B$8:$B$107,$A$8:$A$107,G31)),"逆移動日が元より前",IF(AND(F31="逆移動",SUMIFS($D$8:$D$107,$F$8:$F$107,"逆移動",$G$8:$G$107,G31,$E$8:$E$107,"確定")>SUMIFS($D$8:$D$107,$A$8:$A$107,G31)),"確定逆移動の合計が元数量を超過","確認済み"))))))))))))))))))))))),ISNUMBER(N31),N31=IF(M31="確認済み",0,1))),1,IF(N31<>0,0,IF(AND(ISNUMBER(I31),I31=IF(AND(B31>=入出庫集計!$B$3,B31<=入出庫集計!$E$3),1,0),IF(OR(I31<>1,E31="未確認"),ISTEXT(J31),ISNUMBER(J31)),J31=IF(I31<>1,"",IF(E31="未確認","",IF(AND(E31="確定",C31="入庫"),D31,0))),IF(OR(I31<>1,E31="未確認"),ISTEXT(K31),ISNUMBER(K31)),K31=IF(I31<>1,"",IF(E31="未確認","",IF(AND(E31="確定",C31="出庫"),D31,0))),ISNUMBER(L31),L31=IF(AND(I31=1,E31="未確認"),1,0)),0,1)))) -> 0
... I107: =IF(M107="","",IF(N107<>0,NA(),IF(AND(B107>=入出庫集計!$B$3,B107<=入出庫集計!$E$3),1,0))) | J107: =IF(M107="","",IF(N107<>0,NA(),IF(I107<>1,"",IF(E107="未確認","",IF(AND(E107="確定",C107="入庫"),D107,0))))) | K107: =IF(M107="","",IF(N107<>0,NA(),IF(I107<>1,"",IF(E107="未確認","",IF(AND(E107="確定",C107="出庫"),D107,0))))) | L107: =IF(M107="","",IF(N107<>0,NA(),IF(AND(I107=1,E107="未確認"),1,0))) | M107: =IF(COUNTA(A107:H107)=0,"",IF(NOT(AND(ISTEXT(A107),LEN(A107)=8,EXACT(LEFT(A107,4),"MOV-"),ISNUMBER(FIND(MID(A107,5,1)&"x","0x1x2x3x4x5x6x7x8x9x")),ISNUMBER(FIND(MID(A107,6,1)&"x","0x1x2x3x4x5x6x7x8x9x")),ISNUMBER(FIND(MID(A107,7,1)&"x","0x1x2x3x4x5x6x7x8x9x")),ISNUMBER(FIND(MID(A107,8,1)&"x","0x1x2x3x4x5x6x7x8x9x")))),"IDはMOV-と半角数字4桁",IF(COUNTIFS($A$8:$A$107,A107)>1,"記録IDが重複",IF(NOT(IF(ISNUMBER(B107),AND(B107>=43831,B107<73051,B107=INT(B107)),FALSE())),"発生日は時刻なしで必須",IF(NOT(OR(C107="入庫",C107="出庫")),"入出区分を確認",IF(NOT(OR(E107="確定",E107="取消",E107="未確認")),"状態を確認",IF(NOT(OR(F107="新規",F107="訂正",F107="逆移動")),"種別を確認",IF(AND(E107<>"未確認",NOT(IF(ISNUMBER(D107),AND(D107>=1,D107<=1000000,D107=INT(D107)),FALSE()))),"確定/取消の数量は1〜100万個の整数",IF(AND(E107="未確認",COUNTA(D107)>0),"未確認の数量は空欄",IF(NOT(IF(ISNUMBER(H107),AND(H107>=43831,H107<73051,H107=INT(H107)),FALSE())),"記録確認日は時刻なしで必須",IF(OR(B107>H107,H107>入出庫集計!$B$4),"発生日≦確認日≦基準日を確認",IF(AND(F107="新規",COUNTA(G107)>0),"新規の参照元は空欄",IF(AND(F107<>"新規",NOT(AND(ISTEXT(G107),LEN(G107)=8,EXACT(LEFT(G107,4),"MOV-"),ISNUMBER(FIND(MID(G107,5,1)&"x","0x1x2x3x4x5x6x7x8x9x")),ISNUMBER(FIND(MID(G107,6,1)&"x","0x1x2x3x4x5x6x7x8x9x")),ISNUMBER(FIND(MID(G107,7,1)&"x","0x1x2x3x4x5x6x7x8x9x")),ISNUMBER(FIND(MID(G107,8,1)&"x","0x1x2x3x4x5x6x7x8x9x"))))),"訂正/逆移動の参照元IDが必須",IF(AND(F107<>"新規",G107>=A107),"参照元は自分より小さいID",IF(AND(F107<>"新規",COUNTIFS($A$8:$A$107,G107)<>1),"参照元が一意にありません",IF(AND(F107<>"新規",COUNTIFS($A$8:$A$107,G107,$F$8:$F$107,"新規")+COUNTIFS($A$8:$A$107,G107,$F$8:$F$107,"訂正")<>1),"逆移動を訂正/逆移動の元にできません",IF(AND(F107="訂正",COUNTIFS($A$8:$A$107,G107,$E$8:$E$107,"取消")<>1),"訂正の参照元は取消済が必要",IF(AND(F107="訂正",COUNTIFS($F$8:$F$107,"訂正",$G$8:$G$107,G107)>1),"同じ元記録への訂正は1行まで",IF(AND(F107="逆移動",E107<>"取消",COUNTIFS($A$8:$A$107,G107,$E$8:$E$107,"確定")<>1),"有効な逆移動の元は確定が必要",IF(AND(F107="逆移動",E107="取消",COUNTIFS($A$8:$A$107,G107,$E$8:$E$107,"確定")+COUNTIFS($A$8:$A$107,G107,$E$8:$E$107,"取消")<>1),"取消済の逆移動も元の状態を確認",IF(AND(F107="逆移動",COUNTIFS($A$8:$A$107,G107,$C$8:$C$107,"<>"&C107)<>1),"逆移動は元と反対の入出区分",IF(AND(F107="逆移動",B107<SUMIFS($B$8:$B$107,$A$8:$A$107,G107)),"逆移動日が元より前",IF(AND(F107="逆移動",SUMIFS($D$8:$D$107,$F$8:$F$107,"逆移動",$G$8:$G$107,G107,$E$8:$E$107,"確定")>SUMIFS($D$8:$D$107,$A$8:$A$107,G107)),"確定逆移動の合計が元数量を超過","確認済み"))))))))))))))))))))))) | N107: =IF(M107="","",IF(M107="確認済み",0,1)) | O107: =IF(COUNTA(A107:H107)=0,IF(AND(M107="",N107="",I107="",J107="",K107="",L107=""),0,1),IF(NOT(AND(ISTEXT(M107),M107=IF(COUNTA(A107:H107)=0,"",IF(NOT(AND(ISTEXT(A107),LEN(A107)=8,EXACT(LEFT(A107,4),"MOV-"),ISNUMBER(FIND(MID(A107,5,1)&"x","0x1x2x3x4x5x6x7x8x9x")),ISNUMBER(FIND(MID(A107,6,1)&"x","0x1x2x3x4x5x6x7x8x9x")),ISNUMBER(FIND(MID(A107,7,1)&"x","0x1x2x3x4x5x6x7x8x9x")),ISNUMBER(FIND(MID(A107,8,1)&"x","0x1x2x3x4x5x6x7x8x9x")))),"IDはMOV-と半角数字4桁",IF(COUNTIFS($A$8:$A$107,A107)>1,"記録IDが重複",IF(NOT(IF(ISNUMBER(B107),AND(B107>=43831,B107<73051,B107=INT(B107)),FALSE())),"発生日は時刻なしで必須",IF(NOT(OR(C107="入庫",C107="出庫")),"入出区分を確認",IF(NOT(OR(E107="確定",E107="取消",E107="未確認")),"状態を確認",IF(NOT(OR(F107="新規",F107="訂正",F107="逆移動")),"種別を確認",IF(AND(E107<>"未確認",NOT(IF(ISNUMBER(D107),AND(D107>=1,D107<=1000000,D107=INT(D107)),FALSE()))),"確定/取消の数量は1〜100万個の整数",IF(AND(E107="未確認",COUNTA(D107)>0),"未確認の数量は空欄",IF(NOT(IF(ISNUMBER(H107),AND(H107>=43831,H107<73051,H107=INT(H107)),FALSE())),"記録確認日は時刻なしで必須",IF(OR(B107>H107,H107>入出庫集計!$B$4),"発生日≦確認日≦基準日を確認",IF(AND(F107="新規",COUNTA(G107)>0),"新規の参照元は空欄",IF(AND(F107<>"新規",NOT(AND(ISTEXT(G107),LEN(G107)=8,EXACT(LEFT(G107,4),"MOV-"),ISNUMBER(FIND(MID(G107,5,1)&"x","0x1x2x3x4x5x6x7x8x9x")),ISNUMBER(FIND(MID(G107,6,1)&"x","0x1x2x3x4x5x6x7x8x9x")),ISNUMBER(FIND(MID(G107,7,1)&"x","0x1x2x3x4x5x6x7x8x9x")),ISNUMBER(FIND(MID(G107,8,1)&"x","0x1x2x3x4x5x6x7x8x9x"))))),"訂正/逆移動の参照元IDが必須",IF(AND(F107<>"新規",G107>=A107),"参照元は自分より小さいID",IF(AND(F107<>"新規",COUNTIFS($A$8:$A$107,G107)<>1),"参照元が一意にありません",IF(AND(F107<>"新規",COUNTIFS($A$8:$A$107,G107,$F$8:$F$107,"新規")+COUNTIFS($A$8:$A$107,G107,$F$8:$F$107,"訂正")<>1),"逆移動を訂正/逆移動の元にできません",IF(AND(F107="訂正",COUNTIFS($A$8:$A$107,G107,$E$8:$E$107,"取消")<>1),"訂正の参照元は取消済が必要",IF(AND(F107="訂正",COUNTIFS($F$8:$F$107,"訂正",$G$8:$G$107,G107)>1),"同じ元記録への訂正は1行まで",IF(AND(F107="逆移動",E107<>"取消",COUNTIFS($A$8:$A$107,G107,$E$8:$E$107,"確定")<>1),"有効な逆移動の元は確定が必要",IF(AND(F107="逆移動",E107="取消",COUNTIFS($A$8:$A$107,G107,$E$8:$E$107,"確定")+COUNTIFS($A$8:$A$107,G107,$E$8:$E$107,"取消")<>1),"取消済の逆移動も元の状態を確認",IF(AND(F107="逆移動",COUNTIFS($A$8:$A$107,G107,$C$8:$C$107,"<>"&C107)<>1),"逆移動は元と反対の入出区分",IF(AND(F107="逆移動",B107<SUMIFS($B$8:$B$107,$A$8:$A$107,G107)),"逆移動日が元より前",IF(AND(F107="逆移動",SUMIFS($D$8:$D$107,$F$8:$F$107,"逆移動",$G$8:$G$107,G107,$E$8:$E$107,"確定")>SUMIFS($D$8:$D$107,$A$8:$A$107,G107)),"確定逆移動の合計が元数量を超過","確認済み"))))))))))))))))))))))),ISNUMBER(N107),N107=IF(M107="確認済み",0,1))),1,IF(N107<>0,0,IF(AND(ISNUMBER(I107),I107=IF(AND(B107>=入出庫集計!$B$3,B107<=入出庫集計!$E$3),1,0),IF(OR(I107<>1,E107="未確認"),ISTEXT(J107),ISNUMBER(J107)),J107=IF(I107<>1,"",IF(E107="未確認","",IF(AND(E107="確定",C107="入庫"),D107,0))),IF(OR(I107<>1,E107="未確認"),ISTEXT(K107),ISNUMBER(K107)),K107=IF(I107<>1,"",IF(E107="未確認","",IF(AND(E107="確定",C107="出庫"),D107,0))),ISNUMBER(L107),L107=IF(AND(I107=1,E107="未確認"),1,0)),0,1)))) -> 0
A111: 架空教材。単一保管場所・1品目・100記録、個の整数。同じ品目と元資料の対応は別管理。
A112: 新規は参照空欄。訂正は取消済の新規/訂正へ。元記録を残し新しいIDを使います。
A113: 元IDに対する訂正は取消済のものも含め1行まで。再訂正は直前の訂正を取り消してそのIDを参照。
A114: 逆移動は確定済の新規/訂正へ。入出区分は反対、日付は元以上。部分逆移動の確定合計≦元数量。
A115: 逆移動の逆移動/訂正は扱いません。誤った逆移動は取消し、正しい逆移動を同じ元へ別IDで記録。
A116: 参照元は自分より小さいMOV-ID。ID順は参照の順で、発生日順ではありません。行順も問いません。
A117: 未確認の数量は空欄。確定/取消は元の正の数量。取消は実物の返品/逆移動とは違います。
A118: 開始日≦終了日≦確認基準日、発生日≦確認日≦基準日。日付は2020〜2099年/時刻なし。
A119: 期間外の元記録も同じ表へ保持。逆移動上限は対象期間外も含む全確定逆移動で検査。
A120: 対象に未確認があれば差引増減を保留。確定入庫/出庫は確認済み分の小計。対象なしは対象なし。
A121: 差引増減＝期間内の確定入庫−確定出庫。負数は出庫超過。在庫残高/出荷可能数ではありません。
A122: 原本/訂正前コピー/理由は別保存。自動保存/改ざん防止/過去状態復元・異なるIDの実質重複は非対応。
... A125: https://support.microsoft.com/en-us/excel/functions/countifs-function C019在庫管理と自動連携はありません。
