Workbook

Sheet 棚卸集計
A2: 棚卸の照合結果 | K2: 日付の前提 | L2: 入力の前提
A3: 棚卸基準日 | B3: 46326 | D3: 記録確認基準日 | E3: 46331 | H3: =IF(L3=0,"入力不備なし","入力を確認") -> 入力不備なし | K3: =IF(AND(IF(ISNUMBER(B3),AND(B3>=43831,B3<=73050,B3=INT(B3)),FALSE()),IF(ISNUMBER(E3),AND(E3>=43831,E3<=73050,E3=INT(E3)),FALSE()),B3<=E3),0,1) -> 0 | L3: =IF(AND(ISNUMBER(K3),K3=IF(AND(IF(ISNUMBER(B3),AND(B3>=43831,B3<=73050,B3=INT(B3)),FALSE()),IF(ISNUMBER(E3),AND(E3>=43831,E3<=73050,E3=INT(E3)),FALSE()),B3<=E3),0,1)),K3,1)+SUM(数量記録!Q8:R57)+IF(COUNT(数量記録!R8:R57)=50,0,1) -> 0
A4: 同じ基準時点・単一場所・整数個。差異は採用実棚−帳簿。調整・承認・仕訳は別手順。
A5: 登録品目（件） | B5: =IF($L$3<>0,NA(),COUNTIFS(数量記録!P8:P57,"確認済み")) -> 9 | D5: 比較済（件） | E5: =IF($L$3<>0,NA(),COUNT(数量記録!L8:L57)) -> 4 | G5: 一致（件） | H5: =IF($L$3<>0,NA(),COUNTIFS(数量記録!O8:O57,"一致")) -> 2
A6: 差異あり（件） | B6: =IF($L$3<>0,NA(),COUNTIFS(数量記録!O8:O57,"差異あり")) -> 2 | D6: 比較済の不足（個） | E6: =IF($L$3<>0,NA(),SUM(数量記録!M8:M57)) -> 2 | G6: 比較済の過剰（個） | H6: =IF($L$3<>0,NA(),SUM(数量記録!N8:N57)) -> 4
A7: 比較保留（件） | B7: =IF($L$3<>0,NA(),B5-E5) -> 5 | D7: 比較済の差引（個） | E7: =IF($L$3<>0,NA(),IF(E5=0,"対象なし",SUM(数量記録!L8:L57))) -> 2 | G7: 全品目の差引（個） | H7: =IF($L$3<>0,NA(),IF(B5=0,"対象なし",IF(B7>0,"判定保留",E7))) -> 判定保留
A8: 数量記録の黄色欄を編集。再数待ちは初回値を残し保留。未確認を0個へ埋めません。
A9: 品目ID | B9: 帳簿（個） | C9: 初回実棚（個） | D9: 再数（個） | E9: 採用実棚（個） | F9: 差異（個） | G9: 不足（個） | H9: 過剰（個） | I9: 判定
A10: =IF($L$3<>0,NA(),IF(COUNTA(数量記録!A8:J8)=0,"",数量記録!A8)) -> SKU-0001 | B10: =IF($L$3<>0,NA(),IF(COUNTA(数量記録!A8:J8)=0,"",IF(COUNTA(数量記録!C8)=0,"",数量記録!C8))) -> 100 | C10: =IF($L$3<>0,NA(),IF(COUNTA(数量記録!A8:J8)=0,"",IF(COUNTA(数量記録!E8)=0,"",数量記録!E8))) -> 98 | D10: =IF($L$3<>0,NA(),IF(COUNTA(数量記録!A8:J8)=0,"",IF(COUNTA(数量記録!H8)=0,"",数量記録!H8))) | E10: =IF($L$3<>0,NA(),IF(COUNTA(数量記録!A8:J8)=0,"",数量記録!K8)) -> 98 | F10: =IF($L$3<>0,NA(),IF(COUNTA(数量記録!A8:J8)=0,"",数量記録!L8)) -> -2 | G10: =IF($L$3<>0,NA(),IF(COUNTA(数量記録!A8:J8)=0,"",数量記録!M8)) -> 2 | H10: =IF($L$3<>0,NA(),IF(COUNTA(数量記録!A8:J8)=0,"",数量記録!N8)) -> 0 | I10: =IF($L$3<>0,NA(),IF(COUNTA(数量記録!A8:J8)=0,"",数量記録!O8)) -> 差異あり
A11: =IF($L$3<>0,NA(),IF(COUNTA(数量記録!A9:J9)=0,"",数量記録!A9)) -> SKU-0002 | B11: =IF($L$3<>0,NA(),IF(COUNTA(数量記録!A9:J9)=0,"",IF(COUNTA(数量記録!C9)=0,"",数量記録!C9))) -> 50 | C11: =IF($L$3<>0,NA(),IF(COUNTA(数量記録!A9:J9)=0,"",IF(COUNTA(数量記録!E9)=0,"",数量記録!E9))) -> 53 | D11: =IF($L$3<>0,NA(),IF(COUNTA(数量記録!A9:J9)=0,"",IF(COUNTA(数量記録!H9)=0,"",数量記録!H9))) -> 50 | E11: =IF($L$3<>0,NA(),IF(COUNTA(数量記録!A9:J9)=0,"",数量記録!K9)) -> 50 | F11: =IF($L$3<>0,NA(),IF(COUNTA(数量記録!A9:J9)=0,"",数量記録!L9)) -> 0 | G11: =IF($L$3<>0,NA(),IF(COUNTA(数量記録!A9:J9)=0,"",数量記録!M9)) -> 0 | H11: =IF($L$3<>0,NA(),IF(COUNTA(数量記録!A9:J9)=0,"",数量記録!N9)) -> 0 | I11: =IF($L$3<>0,NA(),IF(COUNTA(数量記録!A9:J9)=0,"",数量記録!O9)) -> 一致
A12: =IF($L$3<>0,NA(),IF(COUNTA(数量記録!A10:J10)=0,"",数量記録!A10)) -> SKU-0003 | B12: =IF($L$3<>0,NA(),IF(COUNTA(数量記録!A10:J10)=0,"",IF(COUNTA(数量記録!C10)=0,"",数量記録!C10))) -> 0 | C12: =IF($L$3<>0,NA(),IF(COUNTA(数量記録!A10:J10)=0,"",IF(COUNTA(数量記録!E10)=0,"",数量記録!E10))) -> 0 | D12: =IF($L$3<>0,NA(),IF(COUNTA(数量記録!A10:J10)=0,"",IF(COUNTA(数量記録!H10)=0,"",数量記録!H10))) | E12: =IF($L$3<>0,NA(),IF(COUNTA(数量記録!A10:J10)=0,"",数量記録!K10)) -> 0 | F12: =IF($L$3<>0,NA(),IF(COUNTA(数量記録!A10:J10)=0,"",数量記録!L10)) -> 0 | G12: =IF($L$3<>0,NA(),IF(COUNTA(数量記録!A10:J10)=0,"",数量記録!M10)) -> 0 | H12: =IF($L$3<>0,NA(),IF(COUNTA(数量記録!A10:J10)=0,"",数量記録!N10)) -> 0 | I12: =IF($L$3<>0,NA(),IF(COUNTA(数量記録!A10:J10)=0,"",数量記録!O10)) -> 一致
A13: =IF($L$3<>0,NA(),IF(COUNTA(数量記録!A11:J11)=0,"",数量記録!A11)) -> SKU-0004 | B13: =IF($L$3<>0,NA(),IF(COUNTA(数量記録!A11:J11)=0,"",IF(COUNTA(数量記録!C11)=0,"",数量記録!C11))) | C13: =IF($L$3<>0,NA(),IF(COUNTA(数量記録!A11:J11)=0,"",IF(COUNTA(数量記録!E11)=0,"",数量記録!E11))) -> 10 | D13: =IF($L$3<>0,NA(),IF(COUNTA(数量記録!A11:J11)=0,"",IF(COUNTA(数量記録!H11)=0,"",数量記録!H11))) | E13: =IF($L$3<>0,NA(),IF(COUNTA(数量記録!A11:J11)=0,"",数量記録!K11)) -> 10 | F13: =IF($L$3<>0,NA(),IF(COUNTA(数量記録!A11:J11)=0,"",数量記録!L11)) | G13: =IF($L$3<>0,NA(),IF(COUNTA(数量記録!A11:J11)=0,"",数量記録!M11)) | H13: =IF($L$3<>0,NA(),IF(COUNTA(数量記録!A11:J11)=0,"",数量記録!N11)) | I13: =IF($L$3<>0,NA(),IF(COUNTA(数量記録!A11:J11)=0,"",数量記録!O11)) -> 帳簿未確認
A14: =IF($L$3<>0,NA(),IF(COUNTA(数量記録!A12:J12)=0,"",数量記録!A12)) -> SKU-0005 | B14: =IF($L$3<>0,NA(),IF(COUNTA(数量記録!A12:J12)=0,"",IF(COUNTA(数量記録!C12)=0,"",数量記録!C12))) -> 20 | C14: =IF($L$3<>0,NA(),IF(COUNTA(数量記録!A12:J12)=0,"",IF(COUNTA(数量記録!E12)=0,"",数量記録!E12))) | D14: =IF($L$3<>0,NA(),IF(COUNTA(数量記録!A12:J12)=0,"",IF(COUNTA(数量記録!H12)=0,"",数量記録!H12))) | E14: =IF($L$3<>0,NA(),IF(COUNTA(数量記録!A12:J12)=0,"",数量記録!K12)) | F14: =IF($L$3<>0,NA(),IF(COUNTA(数量記録!A12:J12)=0,"",数量記録!L12)) | G14: =IF($L$3<>0,NA(),IF(COUNTA(数量記録!A12:J12)=0,"",数量記録!M12)) | H14: =IF($L$3<>0,NA(),IF(COUNTA(数量記録!A12:J12)=0,"",数量記録!N12)) | I14: =IF($L$3<>0,NA(),IF(COUNTA(数量記録!A12:J12)=0,"",数量記録!O12)) -> 実棚未確認
A15: =IF($L$3<>0,NA(),IF(COUNTA(数量記録!A13:J13)=0,"",数量記録!A13)) -> SKU-0006 | B15: =IF($L$3<>0,NA(),IF(COUNTA(数量記録!A13:J13)=0,"",IF(COUNTA(数量記録!C13)=0,"",数量記録!C13))) -> 30 | C15: =IF($L$3<>0,NA(),IF(COUNTA(数量記録!A13:J13)=0,"",IF(COUNTA(数量記録!E13)=0,"",数量記録!E13))) -> 28 | D15: =IF($L$3<>0,NA(),IF(COUNTA(数量記録!A13:J13)=0,"",IF(COUNTA(数量記録!H13)=0,"",数量記録!H13))) | E15: =IF($L$3<>0,NA(),IF(COUNTA(数量記録!A13:J13)=0,"",数量記録!K13)) | F15: =IF($L$3<>0,NA(),IF(COUNTA(数量記録!A13:J13)=0,"",数量記録!L13)) | G15: =IF($L$3<>0,NA(),IF(COUNTA(数量記録!A13:J13)=0,"",数量記録!M13)) | H15: =IF($L$3<>0,NA(),IF(COUNTA(数量記録!A13:J13)=0,"",数量記録!N13)) | I15: =IF($L$3<>0,NA(),IF(COUNTA(数量記録!A13:J13)=0,"",数量記録!O13)) -> 再数待ち
A16: =IF($L$3<>0,NA(),IF(COUNTA(数量記録!A14:J14)=0,"",数量記録!A14)) -> SKU-0007 | B16: =IF($L$3<>0,NA(),IF(COUNTA(数量記録!A14:J14)=0,"",IF(COUNTA(数量記録!C14)=0,"",数量記録!C14))) -> -5 | C16: =IF($L$3<>0,NA(),IF(COUNTA(数量記録!A14:J14)=0,"",IF(COUNTA(数量記録!E14)=0,"",数量記録!E14))) -> 0 | D16: =IF($L$3<>0,NA(),IF(COUNTA(数量記録!A14:J14)=0,"",IF(COUNTA(数量記録!H14)=0,"",数量記録!H14))) | E16: =IF($L$3<>0,NA(),IF(COUNTA(数量記録!A14:J14)=0,"",数量記録!K14)) -> 0 | F16: =IF($L$3<>0,NA(),IF(COUNTA(数量記録!A14:J14)=0,"",数量記録!L14)) | G16: =IF($L$3<>0,NA(),IF(COUNTA(数量記録!A14:J14)=0,"",数量記録!M14)) | H16: =IF($L$3<>0,NA(),IF(COUNTA(数量記録!A14:J14)=0,"",数量記録!N14)) | I16: =IF($L$3<>0,NA(),IF(COUNTA(数量記録!A14:J14)=0,"",数量記録!O14)) -> 帳簿負数
A17: =IF($L$3<>0,NA(),IF(COUNTA(数量記録!A15:J15)=0,"",数量記録!A15)) -> SKU-0008 | B17: =IF($L$3<>0,NA(),IF(COUNTA(数量記録!A15:J15)=0,"",IF(COUNTA(数量記録!C15)=0,"",数量記録!C15))) -> 10 | C17: =IF($L$3<>0,NA(),IF(COUNTA(数量記録!A15:J15)=0,"",IF(COUNTA(数量記録!E15)=0,"",数量記録!E15))) -> 12 | D17: =IF($L$3<>0,NA(),IF(COUNTA(数量記録!A15:J15)=0,"",IF(COUNTA(数量記録!H15)=0,"",数量記録!H15))) | E17: =IF($L$3<>0,NA(),IF(COUNTA(数量記録!A15:J15)=0,"",数量記録!K15)) | F17: =IF($L$3<>0,NA(),IF(COUNTA(数量記録!A15:J15)=0,"",数量記録!L15)) | G17: =IF($L$3<>0,NA(),IF(COUNTA(数量記録!A15:J15)=0,"",数量記録!M15)) | H17: =IF($L$3<>0,NA(),IF(COUNTA(数量記録!A15:J15)=0,"",数量記録!N15)) | I17: =IF($L$3<>0,NA(),IF(COUNTA(数量記録!A15:J15)=0,"",数量記録!O15)) -> 時点未確認
A18: =IF($L$3<>0,NA(),IF(COUNTA(数量記録!A16:J16)=0,"",数量記録!A16)) -> SKU-0009 | B18: =IF($L$3<>0,NA(),IF(COUNTA(数量記録!A16:J16)=0,"",IF(COUNTA(数量記録!C16)=0,"",数量記録!C16))) -> 10 | C18: =IF($L$3<>0,NA(),IF(COUNTA(数量記録!A16:J16)=0,"",IF(COUNTA(数量記録!E16)=0,"",数量記録!E16))) -> 13 | D18: =IF($L$3<>0,NA(),IF(COUNTA(数量記録!A16:J16)=0,"",IF(COUNTA(数量記録!H16)=0,"",数量記録!H16))) -> 14 | E18: =IF($L$3<>0,NA(),IF(COUNTA(数量記録!A16:J16)=0,"",数量記録!K16)) -> 14 | F18: =IF($L$3<>0,NA(),IF(COUNTA(数量記録!A16:J16)=0,"",数量記録!L16)) -> 4 | G18: =IF($L$3<>0,NA(),IF(COUNTA(数量記録!A16:J16)=0,"",数量記録!M16)) -> 0 | H18: =IF($L$3<>0,NA(),IF(COUNTA(数量記録!A16:J16)=0,"",数量記録!N16)) -> 4 | I18: =IF($L$3<>0,NA(),IF(COUNTA(数量記録!A16:J16)=0,"",数量記録!O16)) -> 差異あり
A19: =IF($L$3<>0,NA(),IF(COUNTA(数量記録!A17:J17)=0,"",数量記録!A17)) | B19: =IF($L$3<>0,NA(),IF(COUNTA(数量記録!A17:J17)=0,"",IF(COUNTA(数量記録!C17)=0,"",数量記録!C17))) | C19: =IF($L$3<>0,NA(),IF(COUNTA(数量記録!A17:J17)=0,"",IF(COUNTA(数量記録!E17)=0,"",数量記録!E17))) | D19: =IF($L$3<>0,NA(),IF(COUNTA(数量記録!A17:J17)=0,"",IF(COUNTA(数量記録!H17)=0,"",数量記録!H17))) | E19: =IF($L$3<>0,NA(),IF(COUNTA(数量記録!A17:J17)=0,"",数量記録!K17)) | F19: =IF($L$3<>0,NA(),IF(COUNTA(数量記録!A17:J17)=0,"",数量記録!L17)) | G19: =IF($L$3<>0,NA(),IF(COUNTA(数量記録!A17:J17)=0,"",数量記録!M17)) | H19: =IF($L$3<>0,NA(),IF(COUNTA(数量記録!A17:J17)=0,"",数量記録!N17)) | I19: =IF($L$3<>0,NA(),IF(COUNTA(数量記録!A17:J17)=0,"",数量記録!O17))
A20: =IF($L$3<>0,NA(),IF(COUNTA(数量記録!A18:J18)=0,"",数量記録!A18)) | B20: =IF($L$3<>0,NA(),IF(COUNTA(数量記録!A18:J18)=0,"",IF(COUNTA(数量記録!C18)=0,"",数量記録!C18))) | C20: =IF($L$3<>0,NA(),IF(COUNTA(数量記録!A18:J18)=0,"",IF(COUNTA(数量記録!E18)=0,"",数量記録!E18))) | D20: =IF($L$3<>0,NA(),IF(COUNTA(数量記録!A18:J18)=0,"",IF(COUNTA(数量記録!H18)=0,"",数量記録!H18))) | E20: =IF($L$3<>0,NA(),IF(COUNTA(数量記録!A18:J18)=0,"",数量記録!K18)) | F20: =IF($L$3<>0,NA(),IF(COUNTA(数量記録!A18:J18)=0,"",数量記録!L18)) | G20: =IF($L$3<>0,NA(),IF(COUNTA(数量記録!A18:J18)=0,"",数量記録!M18)) | H20: =IF($L$3<>0,NA(),IF(COUNTA(数量記録!A18:J18)=0,"",数量記録!N18)) | I20: =IF($L$3<>0,NA(),IF(COUNTA(数量記録!A18:J18)=0,"",数量記録!O18))
A21: =IF($L$3<>0,NA(),IF(COUNTA(数量記録!A19:J19)=0,"",数量記録!A19)) | B21: =IF($L$3<>0,NA(),IF(COUNTA(数量記録!A19:J19)=0,"",IF(COUNTA(数量記録!C19)=0,"",数量記録!C19))) | C21: =IF($L$3<>0,NA(),IF(COUNTA(数量記録!A19:J19)=0,"",IF(COUNTA(数量記録!E19)=0,"",数量記録!E19))) | D21: =IF($L$3<>0,NA(),IF(COUNTA(数量記録!A19:J19)=0,"",IF(COUNTA(数量記録!H19)=0,"",数量記録!H19))) | E21: =IF($L$3<>0,NA(),IF(COUNTA(数量記録!A19:J19)=0,"",数量記録!K19)) | F21: =IF($L$3<>0,NA(),IF(COUNTA(数量記録!A19:J19)=0,"",数量記録!L19)) | G21: =IF($L$3<>0,NA(),IF(COUNTA(数量記録!A19:J19)=0,"",数量記録!M19)) | H21: =IF($L$3<>0,NA(),IF(COUNTA(数量記録!A19:J19)=0,"",数量記録!N19)) | I21: =IF($L$3<>0,NA(),IF(COUNTA(数量記録!A19:J19)=0,"",数量記録!O19))
... A59: =IF($L$3<>0,NA(),IF(COUNTA(数量記録!A57:J57)=0,"",数量記録!A57)) | B59: =IF($L$3<>0,NA(),IF(COUNTA(数量記録!A57:J57)=0,"",IF(COUNTA(数量記録!C57)=0,"",数量記録!C57))) | C59: =IF($L$3<>0,NA(),IF(COUNTA(数量記録!A57:J57)=0,"",IF(COUNTA(数量記録!E57)=0,"",数量記録!E57))) | D59: =IF($L$3<>0,NA(),IF(COUNTA(数量記録!A57:J57)=0,"",IF(COUNTA(数量記録!H57)=0,"",数量記録!H57))) | E59: =IF($L$3<>0,NA(),IF(COUNTA(数量記録!A57:J57)=0,"",数量記録!K57)) | F59: =IF($L$3<>0,NA(),IF(COUNTA(数量記録!A57:J57)=0,"",数量記録!L57)) | G59: =IF($L$3<>0,NA(),IF(COUNTA(数量記録!A57:J57)=0,"",数量記録!M57)) | H59: =IF($L$3<>0,NA(),IF(COUNTA(数量記録!A57:J57)=0,"",数量記録!N57)) | I59: =IF($L$3<>0,NA(),IF(COUNTA(数量記録!A57:J57)=0,"",数量記録!O57))

Sheet 数え取り用紙
A2: 数量を数えて記録する
A3: 棚卸基準日 | B3: =棚卸集計!B3 -> 46326
A4: 数量欄は印刷後に記入。0個も0と記入し、空欄は未確認。帳簿数量は載せていません。
A5: 用紙番号・場所・担当・時点の根拠は別途管理。記入後は「数量記録」へ転記し原本照合。
A7: 品目ID | B7: 初回実棚（個） | C7: 再数（個） | D7: 確認メモ
A8: =IF(棚卸集計!$L$3<>0,NA(),IF(COUNTA(数量記録!A8:J8)=0,"",数量記録!A8)) -> SKU-0001
A9: =IF(棚卸集計!$L$3<>0,NA(),IF(COUNTA(数量記録!A9:J9)=0,"",数量記録!A9)) -> SKU-0002
A10: =IF(棚卸集計!$L$3<>0,NA(),IF(COUNTA(数量記録!A10:J10)=0,"",数量記録!A10)) -> SKU-0003
A11: =IF(棚卸集計!$L$3<>0,NA(),IF(COUNTA(数量記録!A11:J11)=0,"",数量記録!A11)) -> SKU-0004
A12: =IF(棚卸集計!$L$3<>0,NA(),IF(COUNTA(数量記録!A12:J12)=0,"",数量記録!A12)) -> SKU-0005
A13: =IF(棚卸集計!$L$3<>0,NA(),IF(COUNTA(数量記録!A13:J13)=0,"",数量記録!A13)) -> SKU-0006
A14: =IF(棚卸集計!$L$3<>0,NA(),IF(COUNTA(数量記録!A14:J14)=0,"",数量記録!A14)) -> SKU-0007
A15: =IF(棚卸集計!$L$3<>0,NA(),IF(COUNTA(数量記録!A15:J15)=0,"",数量記録!A15)) -> SKU-0008
A16: =IF(棚卸集計!$L$3<>0,NA(),IF(COUNTA(数量記録!A16:J16)=0,"",数量記録!A16)) -> SKU-0009
A17: =IF(棚卸集計!$L$3<>0,NA(),IF(COUNTA(数量記録!A17:J17)=0,"",数量記録!A17))
A18: =IF(棚卸集計!$L$3<>0,NA(),IF(COUNTA(数量記録!A18:J18)=0,"",数量記録!A18))
A19: =IF(棚卸集計!$L$3<>0,NA(),IF(COUNTA(数量記録!A19:J19)=0,"",数量記録!A19))
... A57: =IF(棚卸集計!$L$3<>0,NA(),IF(COUNTA(数量記録!A57:J57)=0,"",数量記録!A57))

Sheet 数量記録
A2: 初回と再数の記録
A3: 黄色A〜Jへ50品目。1行1品目。同じ基準時点の数量と確認根拠をそろえます。
A5: 再数不要は対象外/数量空欄。再数必要は初回確認済みが必須、再数未確認なら採用と差異を保留。
A7: 品目ID | B7: 帳簿区分 | C7: 帳簿（個） | D7: 初回区分 | E7: 初回実棚（個） | F7: 再数要否 | G7: 再数区分 | H7: 再数（個） | I7: 時点照合 | J7: 記録確認日 | K7: 採用実棚（個） | L7: 差異（個） | M7: 不足（個） | N7: 過剰（個） | O7: 判定 | P7: 入力の確認 | Q7: 入力不備 | R7: 計算の前提
A8: SKU-0001 | B8: 確認済 | C8: 100 | D8: 確認済 | E8: 98 | F8: 不要 | G8: 対象外 | I8: 確認済 | J8: 46327 | K8: =IF(P8="","",IF(Q8<>0,NA(),IF(OR(I8="未確認",D8="未確認",AND(F8="必要",G8="未確認")),"",IF(F8="必要",H8,E8)))) -> 98 | L8: =IF(P8="","",IF(Q8<>0,NA(),IF(OR(B8="未確認",C8<0,NOT(ISNUMBER(K8))),"",K8-C8))) -> -2 | M8: =IF(P8="","",IF(Q8<>0,NA(),IF(ISNUMBER(L8),MAX(-L8,0),""))) -> 2 | N8: =IF(P8="","",IF(Q8<>0,NA(),IF(ISNUMBER(L8),MAX(L8,0),""))) -> 0 | O8: =IF(P8="","",IF(Q8<>0,NA(),IF(I8="未確認","時点未確認",IF(D8="未確認","実棚未確認",IF(AND(F8="必要",G8="未確認"),"再数待ち",IF(B8="未確認","帳簿未確認",IF(C8<0,"帳簿負数",IF(L8=0,"一致","差異あり")))))))) -> 差異あり | P8: =IF(COUNTA(A8:J8)=0,"",IF(NOT(AND(ISTEXT(A8),LEN(A8)=8,EXACT(LEFT(A8,4),"SKU-"),ISNUMBER(FIND(MID(A8,5,1)&"x","0x1x2x3x4x5x6x7x8x9x")),ISNUMBER(FIND(MID(A8,6,1)&"x","0x1x2x3x4x5x6x7x8x9x")),ISNUMBER(FIND(MID(A8,7,1)&"x","0x1x2x3x4x5x6x7x8x9x")),ISNUMBER(FIND(MID(A8,8,1)&"x","0x1x2x3x4x5x6x7x8x9x")))),"IDはSKU-と半角数字4桁",IF(COUNTIFS($A$8:$A$57,A8)>1,"品目IDが重複",IF(NOT(OR(B8="確認済",B8="未確認")),"帳簿区分を確認",IF(AND(B8="確認済",NOT(IF(ISNUMBER(C8),AND(C8>=-1000000,C8<=1000000,C8=INT(C8)),FALSE()))),"確認済帳簿は±100万個の整数で必須",IF(AND(B8="未確認",COUNTA(C8)>0),"未確認帳簿は空欄",IF(NOT(OR(D8="確認済",D8="未確認")),"初回区分を確認",IF(AND(D8="確認済",NOT(IF(ISNUMBER(E8),AND(E8>=0,E8<=1000000,E8=INT(E8)),FALSE()))),"確認済初回は0〜100万個の整数で必須",IF(AND(D8="未確認",COUNTA(E8)>0),"未確認初回は空欄",IF(NOT(OR(F8="不要",F8="必要")),"再数要否を確認",IF(AND(F8="必要",D8<>"確認済"),"再数には初回確認済みが必須",IF(AND(F8="不要",OR(G8<>"対象外",COUNTA(H8)>0)),"再数不要は対象外/数量空欄",IF(AND(F8="必要",NOT(OR(G8="確認済",G8="未確認"))),"必要な再数区分を確認",IF(AND(F8="必要",G8="確認済",NOT(IF(ISNUMBER(H8),AND(H8>=0,H8<=1000000,H8=INT(H8)),FALSE()))),"確認済再数は0〜100万個の整数で必須",IF(AND(F8="必要",G8="未確認",COUNTA(H8)>0),"未確認再数は空欄",IF(NOT(OR(I8="確認済",I8="未確認")),"時点照合を確認",IF(NOT(IF(ISNUMBER(J8),AND(J8>=43831,J8<=73050,J8=INT(J8)),FALSE())),"確認日は時刻なしで必須",IF(OR(J8<棚卸集計!$B$3,J8>棚卸集計!$E$3),"棚卸基準日≦確認日≦確認基準日","確認済み")))))))))))))))))) -> 確認済み | Q8: =IF(P8="","",IF(P8="確認済み",0,1)) -> 0 | R8: =IF(COUNTA(A8:J8)=0,IF(AND(P8="",Q8="",K8="",L8="",M8="",N8="",O8=""),0,1),IF(NOT(AND(ISTEXT(P8),P8=IF(COUNTA(A8:J8)=0,"",IF(NOT(AND(ISTEXT(A8),LEN(A8)=8,EXACT(LEFT(A8,4),"SKU-"),ISNUMBER(FIND(MID(A8,5,1)&"x","0x1x2x3x4x5x6x7x8x9x")),ISNUMBER(FIND(MID(A8,6,1)&"x","0x1x2x3x4x5x6x7x8x9x")),ISNUMBER(FIND(MID(A8,7,1)&"x","0x1x2x3x4x5x6x7x8x9x")),ISNUMBER(FIND(MID(A8,8,1)&"x","0x1x2x3x4x5x6x7x8x9x")))),"IDはSKU-と半角数字4桁",IF(COUNTIFS($A$8:$A$57,A8)>1,"品目IDが重複",IF(NOT(OR(B8="確認済",B8="未確認")),"帳簿区分を確認",IF(AND(B8="確認済",NOT(IF(ISNUMBER(C8),AND(C8>=-1000000,C8<=1000000,C8=INT(C8)),FALSE()))),"確認済帳簿は±100万個の整数で必須",IF(AND(B8="未確認",COUNTA(C8)>0),"未確認帳簿は空欄",IF(NOT(OR(D8="確認済",D8="未確認")),"初回区分を確認",IF(AND(D8="確認済",NOT(IF(ISNUMBER(E8),AND(E8>=0,E8<=1000000,E8=INT(E8)),FALSE()))),"確認済初回は0〜100万個の整数で必須",IF(AND(D8="未確認",COUNTA(E8)>0),"未確認初回は空欄",IF(NOT(OR(F8="不要",F8="必要")),"再数要否を確認",IF(AND(F8="必要",D8<>"確認済"),"再数には初回確認済みが必須",IF(AND(F8="不要",OR(G8<>"対象外",COUNTA(H8)>0)),"再数不要は対象外/数量空欄",IF(AND(F8="必要",NOT(OR(G8="確認済",G8="未確認"))),"必要な再数区分を確認",IF(AND(F8="必要",G8="確認済",NOT(IF(ISNUMBER(H8),AND(H8>=0,H8<=1000000,H8=INT(H8)),FALSE()))),"確認済再数は0〜100万個の整数で必須",IF(AND(F8="必要",G8="未確認",COUNTA(H8)>0),"未確認再数は空欄",IF(NOT(OR(I8="確認済",I8="未確認")),"時点照合を確認",IF(NOT(IF(ISNUMBER(J8),AND(J8>=43831,J8<=73050,J8=INT(J8)),FALSE())),"確認日は時刻なしで必須",IF(OR(J8<棚卸集計!$B$3,J8>棚卸集計!$E$3),"棚卸基準日≦確認日≦確認基準日","確認済み")))))))))))))))))),ISNUMBER(Q8),Q8=IF(P8="確認済み",0,1))),1,IF(Q8<>0,0,IF(AND(IF(ISTEXT(IF(OR(I8="未確認",D8="未確認",AND(F8="必要",G8="未確認")),"",IF(F8="必要",H8,E8))),ISTEXT(K8),ISNUMBER(K8)),K8=IF(OR(I8="未確認",D8="未確認",AND(F8="必要",G8="未確認")),"",IF(F8="必要",H8,E8)),IF(ISTEXT(IF(OR(B8="未確認",C8<0,NOT(ISNUMBER(K8))),"",K8-C8)),ISTEXT(L8),ISNUMBER(L8)),L8=IF(OR(B8="未確認",C8<0,NOT(ISNUMBER(K8))),"",K8-C8),IF(ISTEXT(IF(ISNUMBER(L8),MAX(-L8,0),"")),ISTEXT(M8),ISNUMBER(M8)),M8=IF(ISNUMBER(L8),MAX(-L8,0),""),IF(ISTEXT(IF(ISNUMBER(L8),MAX(L8,0),"")),ISTEXT(N8),ISNUMBER(N8)),N8=IF(ISNUMBER(L8),MAX(L8,0),""),ISTEXT(O8),O8=IF(I8="未確認","時点未確認",IF(D8="未確認","実棚未確認",IF(AND(F8="必要",G8="未確認"),"再数待ち",IF(B8="未確認","帳簿未確認",IF(C8<0,"帳簿負数",IF(L8=0,"一致","差異あり"))))))),0,1)))) -> 0
A9: SKU-0002 | B9: 確認済 | C9: 50 | D9: 確認済 | E9: 53 | F9: 必要 | G9: 確認済 | H9: 50 | I9: 確認済 | J9: 46327 | K9: =IF(P9="","",IF(Q9<>0,NA(),IF(OR(I9="未確認",D9="未確認",AND(F9="必要",G9="未確認")),"",IF(F9="必要",H9,E9)))) -> 50 | L9: =IF(P9="","",IF(Q9<>0,NA(),IF(OR(B9="未確認",C9<0,NOT(ISNUMBER(K9))),"",K9-C9))) -> 0 | M9: =IF(P9="","",IF(Q9<>0,NA(),IF(ISNUMBER(L9),MAX(-L9,0),""))) -> 0 | N9: =IF(P9="","",IF(Q9<>0,NA(),IF(ISNUMBER(L9),MAX(L9,0),""))) -> 0 | O9: =IF(P9="","",IF(Q9<>0,NA(),IF(I9="未確認","時点未確認",IF(D9="未確認","実棚未確認",IF(AND(F9="必要",G9="未確認"),"再数待ち",IF(B9="未確認","帳簿未確認",IF(C9<0,"帳簿負数",IF(L9=0,"一致","差異あり")))))))) -> 一致 | P9: =IF(COUNTA(A9:J9)=0,"",IF(NOT(AND(ISTEXT(A9),LEN(A9)=8,EXACT(LEFT(A9,4),"SKU-"),ISNUMBER(FIND(MID(A9,5,1)&"x","0x1x2x3x4x5x6x7x8x9x")),ISNUMBER(FIND(MID(A9,6,1)&"x","0x1x2x3x4x5x6x7x8x9x")),ISNUMBER(FIND(MID(A9,7,1)&"x","0x1x2x3x4x5x6x7x8x9x")),ISNUMBER(FIND(MID(A9,8,1)&"x","0x1x2x3x4x5x6x7x8x9x")))),"IDはSKU-と半角数字4桁",IF(COUNTIFS($A$8:$A$57,A9)>1,"品目IDが重複",IF(NOT(OR(B9="確認済",B9="未確認")),"帳簿区分を確認",IF(AND(B9="確認済",NOT(IF(ISNUMBER(C9),AND(C9>=-1000000,C9<=1000000,C9=INT(C9)),FALSE()))),"確認済帳簿は±100万個の整数で必須",IF(AND(B9="未確認",COUNTA(C9)>0),"未確認帳簿は空欄",IF(NOT(OR(D9="確認済",D9="未確認")),"初回区分を確認",IF(AND(D9="確認済",NOT(IF(ISNUMBER(E9),AND(E9>=0,E9<=1000000,E9=INT(E9)),FALSE()))),"確認済初回は0〜100万個の整数で必須",IF(AND(D9="未確認",COUNTA(E9)>0),"未確認初回は空欄",IF(NOT(OR(F9="不要",F9="必要")),"再数要否を確認",IF(AND(F9="必要",D9<>"確認済"),"再数には初回確認済みが必須",IF(AND(F9="不要",OR(G9<>"対象外",COUNTA(H9)>0)),"再数不要は対象外/数量空欄",IF(AND(F9="必要",NOT(OR(G9="確認済",G9="未確認"))),"必要な再数区分を確認",IF(AND(F9="必要",G9="確認済",NOT(IF(ISNUMBER(H9),AND(H9>=0,H9<=1000000,H9=INT(H9)),FALSE()))),"確認済再数は0〜100万個の整数で必須",IF(AND(F9="必要",G9="未確認",COUNTA(H9)>0),"未確認再数は空欄",IF(NOT(OR(I9="確認済",I9="未確認")),"時点照合を確認",IF(NOT(IF(ISNUMBER(J9),AND(J9>=43831,J9<=73050,J9=INT(J9)),FALSE())),"確認日は時刻なしで必須",IF(OR(J9<棚卸集計!$B$3,J9>棚卸集計!$E$3),"棚卸基準日≦確認日≦確認基準日","確認済み")))))))))))))))))) -> 確認済み | Q9: =IF(P9="","",IF(P9="確認済み",0,1)) -> 0 | R9: =IF(COUNTA(A9:J9)=0,IF(AND(P9="",Q9="",K9="",L9="",M9="",N9="",O9=""),0,1),IF(NOT(AND(ISTEXT(P9),P9=IF(COUNTA(A9:J9)=0,"",IF(NOT(AND(ISTEXT(A9),LEN(A9)=8,EXACT(LEFT(A9,4),"SKU-"),ISNUMBER(FIND(MID(A9,5,1)&"x","0x1x2x3x4x5x6x7x8x9x")),ISNUMBER(FIND(MID(A9,6,1)&"x","0x1x2x3x4x5x6x7x8x9x")),ISNUMBER(FIND(MID(A9,7,1)&"x","0x1x2x3x4x5x6x7x8x9x")),ISNUMBER(FIND(MID(A9,8,1)&"x","0x1x2x3x4x5x6x7x8x9x")))),"IDはSKU-と半角数字4桁",IF(COUNTIFS($A$8:$A$57,A9)>1,"品目IDが重複",IF(NOT(OR(B9="確認済",B9="未確認")),"帳簿区分を確認",IF(AND(B9="確認済",NOT(IF(ISNUMBER(C9),AND(C9>=-1000000,C9<=1000000,C9=INT(C9)),FALSE()))),"確認済帳簿は±100万個の整数で必須",IF(AND(B9="未確認",COUNTA(C9)>0),"未確認帳簿は空欄",IF(NOT(OR(D9="確認済",D9="未確認")),"初回区分を確認",IF(AND(D9="確認済",NOT(IF(ISNUMBER(E9),AND(E9>=0,E9<=1000000,E9=INT(E9)),FALSE()))),"確認済初回は0〜100万個の整数で必須",IF(AND(D9="未確認",COUNTA(E9)>0),"未確認初回は空欄",IF(NOT(OR(F9="不要",F9="必要")),"再数要否を確認",IF(AND(F9="必要",D9<>"確認済"),"再数には初回確認済みが必須",IF(AND(F9="不要",OR(G9<>"対象外",COUNTA(H9)>0)),"再数不要は対象外/数量空欄",IF(AND(F9="必要",NOT(OR(G9="確認済",G9="未確認"))),"必要な再数区分を確認",IF(AND(F9="必要",G9="確認済",NOT(IF(ISNUMBER(H9),AND(H9>=0,H9<=1000000,H9=INT(H9)),FALSE()))),"確認済再数は0〜100万個の整数で必須",IF(AND(F9="必要",G9="未確認",COUNTA(H9)>0),"未確認再数は空欄",IF(NOT(OR(I9="確認済",I9="未確認")),"時点照合を確認",IF(NOT(IF(ISNUMBER(J9),AND(J9>=43831,J9<=73050,J9=INT(J9)),FALSE())),"確認日は時刻なしで必須",IF(OR(J9<棚卸集計!$B$3,J9>棚卸集計!$E$3),"棚卸基準日≦確認日≦確認基準日","確認済み")))))))))))))))))),ISNUMBER(Q9),Q9=IF(P9="確認済み",0,1))),1,IF(Q9<>0,0,IF(AND(IF(ISTEXT(IF(OR(I9="未確認",D9="未確認",AND(F9="必要",G9="未確認")),"",IF(F9="必要",H9,E9))),ISTEXT(K9),ISNUMBER(K9)),K9=IF(OR(I9="未確認",D9="未確認",AND(F9="必要",G9="未確認")),"",IF(F9="必要",H9,E9)),IF(ISTEXT(IF(OR(B9="未確認",C9<0,NOT(ISNUMBER(K9))),"",K9-C9)),ISTEXT(L9),ISNUMBER(L9)),L9=IF(OR(B9="未確認",C9<0,NOT(ISNUMBER(K9))),"",K9-C9),IF(ISTEXT(IF(ISNUMBER(L9),MAX(-L9,0),"")),ISTEXT(M9),ISNUMBER(M9)),M9=IF(ISNUMBER(L9),MAX(-L9,0),""),IF(ISTEXT(IF(ISNUMBER(L9),MAX(L9,0),"")),ISTEXT(N9),ISNUMBER(N9)),N9=IF(ISNUMBER(L9),MAX(L9,0),""),ISTEXT(O9),O9=IF(I9="未確認","時点未確認",IF(D9="未確認","実棚未確認",IF(AND(F9="必要",G9="未確認"),"再数待ち",IF(B9="未確認","帳簿未確認",IF(C9<0,"帳簿負数",IF(L9=0,"一致","差異あり"))))))),0,1)))) -> 0
A10: SKU-0003 | B10: 確認済 | C10: 0 | D10: 確認済 | E10: 0 | F10: 不要 | G10: 対象外 | I10: 確認済 | J10: 46328 | K10: =IF(P10="","",IF(Q10<>0,NA(),IF(OR(I10="未確認",D10="未確認",AND(F10="必要",G10="未確認")),"",IF(F10="必要",H10,E10)))) -> 0 | L10: =IF(P10="","",IF(Q10<>0,NA(),IF(OR(B10="未確認",C10<0,NOT(ISNUMBER(K10))),"",K10-C10))) -> 0 | M10: =IF(P10="","",IF(Q10<>0,NA(),IF(ISNUMBER(L10),MAX(-L10,0),""))) -> 0 | N10: =IF(P10="","",IF(Q10<>0,NA(),IF(ISNUMBER(L10),MAX(L10,0),""))) -> 0 | O10: =IF(P10="","",IF(Q10<>0,NA(),IF(I10="未確認","時点未確認",IF(D10="未確認","実棚未確認",IF(AND(F10="必要",G10="未確認"),"再数待ち",IF(B10="未確認","帳簿未確認",IF(C10<0,"帳簿負数",IF(L10=0,"一致","差異あり")))))))) -> 一致 | P10: =IF(COUNTA(A10:J10)=0,"",IF(NOT(AND(ISTEXT(A10),LEN(A10)=8,EXACT(LEFT(A10,4),"SKU-"),ISNUMBER(FIND(MID(A10,5,1)&"x","0x1x2x3x4x5x6x7x8x9x")),ISNUMBER(FIND(MID(A10,6,1)&"x","0x1x2x3x4x5x6x7x8x9x")),ISNUMBER(FIND(MID(A10,7,1)&"x","0x1x2x3x4x5x6x7x8x9x")),ISNUMBER(FIND(MID(A10,8,1)&"x","0x1x2x3x4x5x6x7x8x9x")))),"IDはSKU-と半角数字4桁",IF(COUNTIFS($A$8:$A$57,A10)>1,"品目IDが重複",IF(NOT(OR(B10="確認済",B10="未確認")),"帳簿区分を確認",IF(AND(B10="確認済",NOT(IF(ISNUMBER(C10),AND(C10>=-1000000,C10<=1000000,C10=INT(C10)),FALSE()))),"確認済帳簿は±100万個の整数で必須",IF(AND(B10="未確認",COUNTA(C10)>0),"未確認帳簿は空欄",IF(NOT(OR(D10="確認済",D10="未確認")),"初回区分を確認",IF(AND(D10="確認済",NOT(IF(ISNUMBER(E10),AND(E10>=0,E10<=1000000,E10=INT(E10)),FALSE()))),"確認済初回は0〜100万個の整数で必須",IF(AND(D10="未確認",COUNTA(E10)>0),"未確認初回は空欄",IF(NOT(OR(F10="不要",F10="必要")),"再数要否を確認",IF(AND(F10="必要",D10<>"確認済"),"再数には初回確認済みが必須",IF(AND(F10="不要",OR(G10<>"対象外",COUNTA(H10)>0)),"再数不要は対象外/数量空欄",IF(AND(F10="必要",NOT(OR(G10="確認済",G10="未確認"))),"必要な再数区分を確認",IF(AND(F10="必要",G10="確認済",NOT(IF(ISNUMBER(H10),AND(H10>=0,H10<=1000000,H10=INT(H10)),FALSE()))),"確認済再数は0〜100万個の整数で必須",IF(AND(F10="必要",G10="未確認",COUNTA(H10)>0),"未確認再数は空欄",IF(NOT(OR(I10="確認済",I10="未確認")),"時点照合を確認",IF(NOT(IF(ISNUMBER(J10),AND(J10>=43831,J10<=73050,J10=INT(J10)),FALSE())),"確認日は時刻なしで必須",IF(OR(J10<棚卸集計!$B$3,J10>棚卸集計!$E$3),"棚卸基準日≦確認日≦確認基準日","確認済み")))))))))))))))))) -> 確認済み | Q10: =IF(P10="","",IF(P10="確認済み",0,1)) -> 0 | R10: =IF(COUNTA(A10:J10)=0,IF(AND(P10="",Q10="",K10="",L10="",M10="",N10="",O10=""),0,1),IF(NOT(AND(ISTEXT(P10),P10=IF(COUNTA(A10:J10)=0,"",IF(NOT(AND(ISTEXT(A10),LEN(A10)=8,EXACT(LEFT(A10,4),"SKU-"),ISNUMBER(FIND(MID(A10,5,1)&"x","0x1x2x3x4x5x6x7x8x9x")),ISNUMBER(FIND(MID(A10,6,1)&"x","0x1x2x3x4x5x6x7x8x9x")),ISNUMBER(FIND(MID(A10,7,1)&"x","0x1x2x3x4x5x6x7x8x9x")),ISNUMBER(FIND(MID(A10,8,1)&"x","0x1x2x3x4x5x6x7x8x9x")))),"IDはSKU-と半角数字4桁",IF(COUNTIFS($A$8:$A$57,A10)>1,"品目IDが重複",IF(NOT(OR(B10="確認済",B10="未確認")),"帳簿区分を確認",IF(AND(B10="確認済",NOT(IF(ISNUMBER(C10),AND(C10>=-1000000,C10<=1000000,C10=INT(C10)),FALSE()))),"確認済帳簿は±100万個の整数で必須",IF(AND(B10="未確認",COUNTA(C10)>0),"未確認帳簿は空欄",IF(NOT(OR(D10="確認済",D10="未確認")),"初回区分を確認",IF(AND(D10="確認済",NOT(IF(ISNUMBER(E10),AND(E10>=0,E10<=1000000,E10=INT(E10)),FALSE()))),"確認済初回は0〜100万個の整数で必須",IF(AND(D10="未確認",COUNTA(E10)>0),"未確認初回は空欄",IF(NOT(OR(F10="不要",F10="必要")),"再数要否を確認",IF(AND(F10="必要",D10<>"確認済"),"再数には初回確認済みが必須",IF(AND(F10="不要",OR(G10<>"対象外",COUNTA(H10)>0)),"再数不要は対象外/数量空欄",IF(AND(F10="必要",NOT(OR(G10="確認済",G10="未確認"))),"必要な再数区分を確認",IF(AND(F10="必要",G10="確認済",NOT(IF(ISNUMBER(H10),AND(H10>=0,H10<=1000000,H10=INT(H10)),FALSE()))),"確認済再数は0〜100万個の整数で必須",IF(AND(F10="必要",G10="未確認",COUNTA(H10)>0),"未確認再数は空欄",IF(NOT(OR(I10="確認済",I10="未確認")),"時点照合を確認",IF(NOT(IF(ISNUMBER(J10),AND(J10>=43831,J10<=73050,J10=INT(J10)),FALSE())),"確認日は時刻なしで必須",IF(OR(J10<棚卸集計!$B$3,J10>棚卸集計!$E$3),"棚卸基準日≦確認日≦確認基準日","確認済み")))))))))))))))))),ISNUMBER(Q10),Q10=IF(P10="確認済み",0,1))),1,IF(Q10<>0,0,IF(AND(IF(ISTEXT(IF(OR(I10="未確認",D10="未確認",AND(F10="必要",G10="未確認")),"",IF(F10="必要",H10,E10))),ISTEXT(K10),ISNUMBER(K10)),K10=IF(OR(I10="未確認",D10="未確認",AND(F10="必要",G10="未確認")),"",IF(F10="必要",H10,E10)),IF(ISTEXT(IF(OR(B10="未確認",C10<0,NOT(ISNUMBER(K10))),"",K10-C10)),ISTEXT(L10),ISNUMBER(L10)),L10=IF(OR(B10="未確認",C10<0,NOT(ISNUMBER(K10))),"",K10-C10),IF(ISTEXT(IF(ISNUMBER(L10),MAX(-L10,0),"")),ISTEXT(M10),ISNUMBER(M10)),M10=IF(ISNUMBER(L10),MAX(-L10,0),""),IF(ISTEXT(IF(ISNUMBER(L10),MAX(L10,0),"")),ISTEXT(N10),ISNUMBER(N10)),N10=IF(ISNUMBER(L10),MAX(L10,0),""),ISTEXT(O10),O10=IF(I10="未確認","時点未確認",IF(D10="未確認","実棚未確認",IF(AND(F10="必要",G10="未確認"),"再数待ち",IF(B10="未確認","帳簿未確認",IF(C10<0,"帳簿負数",IF(L10=0,"一致","差異あり"))))))),0,1)))) -> 0
A11: SKU-0004 | B11: 未確認 | D11: 確認済 | E11: 10 | F11: 不要 | G11: 対象外 | I11: 確認済 | J11: 46328 | K11: =IF(P11="","",IF(Q11<>0,NA(),IF(OR(I11="未確認",D11="未確認",AND(F11="必要",G11="未確認")),"",IF(F11="必要",H11,E11)))) -> 10 | L11: =IF(P11="","",IF(Q11<>0,NA(),IF(OR(B11="未確認",C11<0,NOT(ISNUMBER(K11))),"",K11-C11))) | M11: =IF(P11="","",IF(Q11<>0,NA(),IF(ISNUMBER(L11),MAX(-L11,0),""))) | N11: =IF(P11="","",IF(Q11<>0,NA(),IF(ISNUMBER(L11),MAX(L11,0),""))) | O11: =IF(P11="","",IF(Q11<>0,NA(),IF(I11="未確認","時点未確認",IF(D11="未確認","実棚未確認",IF(AND(F11="必要",G11="未確認"),"再数待ち",IF(B11="未確認","帳簿未確認",IF(C11<0,"帳簿負数",IF(L11=0,"一致","差異あり")))))))) -> 帳簿未確認 | P11: =IF(COUNTA(A11:J11)=0,"",IF(NOT(AND(ISTEXT(A11),LEN(A11)=8,EXACT(LEFT(A11,4),"SKU-"),ISNUMBER(FIND(MID(A11,5,1)&"x","0x1x2x3x4x5x6x7x8x9x")),ISNUMBER(FIND(MID(A11,6,1)&"x","0x1x2x3x4x5x6x7x8x9x")),ISNUMBER(FIND(MID(A11,7,1)&"x","0x1x2x3x4x5x6x7x8x9x")),ISNUMBER(FIND(MID(A11,8,1)&"x","0x1x2x3x4x5x6x7x8x9x")))),"IDはSKU-と半角数字4桁",IF(COUNTIFS($A$8:$A$57,A11)>1,"品目IDが重複",IF(NOT(OR(B11="確認済",B11="未確認")),"帳簿区分を確認",IF(AND(B11="確認済",NOT(IF(ISNUMBER(C11),AND(C11>=-1000000,C11<=1000000,C11=INT(C11)),FALSE()))),"確認済帳簿は±100万個の整数で必須",IF(AND(B11="未確認",COUNTA(C11)>0),"未確認帳簿は空欄",IF(NOT(OR(D11="確認済",D11="未確認")),"初回区分を確認",IF(AND(D11="確認済",NOT(IF(ISNUMBER(E11),AND(E11>=0,E11<=1000000,E11=INT(E11)),FALSE()))),"確認済初回は0〜100万個の整数で必須",IF(AND(D11="未確認",COUNTA(E11)>0),"未確認初回は空欄",IF(NOT(OR(F11="不要",F11="必要")),"再数要否を確認",IF(AND(F11="必要",D11<>"確認済"),"再数には初回確認済みが必須",IF(AND(F11="不要",OR(G11<>"対象外",COUNTA(H11)>0)),"再数不要は対象外/数量空欄",IF(AND(F11="必要",NOT(OR(G11="確認済",G11="未確認"))),"必要な再数区分を確認",IF(AND(F11="必要",G11="確認済",NOT(IF(ISNUMBER(H11),AND(H11>=0,H11<=1000000,H11=INT(H11)),FALSE()))),"確認済再数は0〜100万個の整数で必須",IF(AND(F11="必要",G11="未確認",COUNTA(H11)>0),"未確認再数は空欄",IF(NOT(OR(I11="確認済",I11="未確認")),"時点照合を確認",IF(NOT(IF(ISNUMBER(J11),AND(J11>=43831,J11<=73050,J11=INT(J11)),FALSE())),"確認日は時刻なしで必須",IF(OR(J11<棚卸集計!$B$3,J11>棚卸集計!$E$3),"棚卸基準日≦確認日≦確認基準日","確認済み")))))))))))))))))) -> 確認済み | Q11: =IF(P11="","",IF(P11="確認済み",0,1)) -> 0 | R11: =IF(COUNTA(A11:J11)=0,IF(AND(P11="",Q11="",K11="",L11="",M11="",N11="",O11=""),0,1),IF(NOT(AND(ISTEXT(P11),P11=IF(COUNTA(A11:J11)=0,"",IF(NOT(AND(ISTEXT(A11),LEN(A11)=8,EXACT(LEFT(A11,4),"SKU-"),ISNUMBER(FIND(MID(A11,5,1)&"x","0x1x2x3x4x5x6x7x8x9x")),ISNUMBER(FIND(MID(A11,6,1)&"x","0x1x2x3x4x5x6x7x8x9x")),ISNUMBER(FIND(MID(A11,7,1)&"x","0x1x2x3x4x5x6x7x8x9x")),ISNUMBER(FIND(MID(A11,8,1)&"x","0x1x2x3x4x5x6x7x8x9x")))),"IDはSKU-と半角数字4桁",IF(COUNTIFS($A$8:$A$57,A11)>1,"品目IDが重複",IF(NOT(OR(B11="確認済",B11="未確認")),"帳簿区分を確認",IF(AND(B11="確認済",NOT(IF(ISNUMBER(C11),AND(C11>=-1000000,C11<=1000000,C11=INT(C11)),FALSE()))),"確認済帳簿は±100万個の整数で必須",IF(AND(B11="未確認",COUNTA(C11)>0),"未確認帳簿は空欄",IF(NOT(OR(D11="確認済",D11="未確認")),"初回区分を確認",IF(AND(D11="確認済",NOT(IF(ISNUMBER(E11),AND(E11>=0,E11<=1000000,E11=INT(E11)),FALSE()))),"確認済初回は0〜100万個の整数で必須",IF(AND(D11="未確認",COUNTA(E11)>0),"未確認初回は空欄",IF(NOT(OR(F11="不要",F11="必要")),"再数要否を確認",IF(AND(F11="必要",D11<>"確認済"),"再数には初回確認済みが必須",IF(AND(F11="不要",OR(G11<>"対象外",COUNTA(H11)>0)),"再数不要は対象外/数量空欄",IF(AND(F11="必要",NOT(OR(G11="確認済",G11="未確認"))),"必要な再数区分を確認",IF(AND(F11="必要",G11="確認済",NOT(IF(ISNUMBER(H11),AND(H11>=0,H11<=1000000,H11=INT(H11)),FALSE()))),"確認済再数は0〜100万個の整数で必須",IF(AND(F11="必要",G11="未確認",COUNTA(H11)>0),"未確認再数は空欄",IF(NOT(OR(I11="確認済",I11="未確認")),"時点照合を確認",IF(NOT(IF(ISNUMBER(J11),AND(J11>=43831,J11<=73050,J11=INT(J11)),FALSE())),"確認日は時刻なしで必須",IF(OR(J11<棚卸集計!$B$3,J11>棚卸集計!$E$3),"棚卸基準日≦確認日≦確認基準日","確認済み")))))))))))))))))),ISNUMBER(Q11),Q11=IF(P11="確認済み",0,1))),1,IF(Q11<>0,0,IF(AND(IF(ISTEXT(IF(OR(I11="未確認",D11="未確認",AND(F11="必要",G11="未確認")),"",IF(F11="必要",H11,E11))),ISTEXT(K11),ISNUMBER(K11)),K11=IF(OR(I11="未確認",D11="未確認",AND(F11="必要",G11="未確認")),"",IF(F11="必要",H11,E11)),IF(ISTEXT(IF(OR(B11="未確認",C11<0,NOT(ISNUMBER(K11))),"",K11-C11)),ISTEXT(L11),ISNUMBER(L11)),L11=IF(OR(B11="未確認",C11<0,NOT(ISNUMBER(K11))),"",K11-C11),IF(ISTEXT(IF(ISNUMBER(L11),MAX(-L11,0),"")),ISTEXT(M11),ISNUMBER(M11)),M11=IF(ISNUMBER(L11),MAX(-L11,0),""),IF(ISTEXT(IF(ISNUMBER(L11),MAX(L11,0),"")),ISTEXT(N11),ISNUMBER(N11)),N11=IF(ISNUMBER(L11),MAX(L11,0),""),ISTEXT(O11),O11=IF(I11="未確認","時点未確認",IF(D11="未確認","実棚未確認",IF(AND(F11="必要",G11="未確認"),"再数待ち",IF(B11="未確認","帳簿未確認",IF(C11<0,"帳簿負数",IF(L11=0,"一致","差異あり"))))))),0,1)))) -> 0
A12: SKU-0005 | B12: 確認済 | C12: 20 | D12: 未確認 | F12: 不要 | G12: 対象外 | I12: 確認済 | J12: 46329 | K12: =IF(P12="","",IF(Q12<>0,NA(),IF(OR(I12="未確認",D12="未確認",AND(F12="必要",G12="未確認")),"",IF(F12="必要",H12,E12)))) | L12: =IF(P12="","",IF(Q12<>0,NA(),IF(OR(B12="未確認",C12<0,NOT(ISNUMBER(K12))),"",K12-C12))) | M12: =IF(P12="","",IF(Q12<>0,NA(),IF(ISNUMBER(L12),MAX(-L12,0),""))) | N12: =IF(P12="","",IF(Q12<>0,NA(),IF(ISNUMBER(L12),MAX(L12,0),""))) | O12: =IF(P12="","",IF(Q12<>0,NA(),IF(I12="未確認","時点未確認",IF(D12="未確認","実棚未確認",IF(AND(F12="必要",G12="未確認"),"再数待ち",IF(B12="未確認","帳簿未確認",IF(C12<0,"帳簿負数",IF(L12=0,"一致","差異あり")))))))) -> 実棚未確認 | P12: =IF(COUNTA(A12:J12)=0,"",IF(NOT(AND(ISTEXT(A12),LEN(A12)=8,EXACT(LEFT(A12,4),"SKU-"),ISNUMBER(FIND(MID(A12,5,1)&"x","0x1x2x3x4x5x6x7x8x9x")),ISNUMBER(FIND(MID(A12,6,1)&"x","0x1x2x3x4x5x6x7x8x9x")),ISNUMBER(FIND(MID(A12,7,1)&"x","0x1x2x3x4x5x6x7x8x9x")),ISNUMBER(FIND(MID(A12,8,1)&"x","0x1x2x3x4x5x6x7x8x9x")))),"IDはSKU-と半角数字4桁",IF(COUNTIFS($A$8:$A$57,A12)>1,"品目IDが重複",IF(NOT(OR(B12="確認済",B12="未確認")),"帳簿区分を確認",IF(AND(B12="確認済",NOT(IF(ISNUMBER(C12),AND(C12>=-1000000,C12<=1000000,C12=INT(C12)),FALSE()))),"確認済帳簿は±100万個の整数で必須",IF(AND(B12="未確認",COUNTA(C12)>0),"未確認帳簿は空欄",IF(NOT(OR(D12="確認済",D12="未確認")),"初回区分を確認",IF(AND(D12="確認済",NOT(IF(ISNUMBER(E12),AND(E12>=0,E12<=1000000,E12=INT(E12)),FALSE()))),"確認済初回は0〜100万個の整数で必須",IF(AND(D12="未確認",COUNTA(E12)>0),"未確認初回は空欄",IF(NOT(OR(F12="不要",F12="必要")),"再数要否を確認",IF(AND(F12="必要",D12<>"確認済"),"再数には初回確認済みが必須",IF(AND(F12="不要",OR(G12<>"対象外",COUNTA(H12)>0)),"再数不要は対象外/数量空欄",IF(AND(F12="必要",NOT(OR(G12="確認済",G12="未確認"))),"必要な再数区分を確認",IF(AND(F12="必要",G12="確認済",NOT(IF(ISNUMBER(H12),AND(H12>=0,H12<=1000000,H12=INT(H12)),FALSE()))),"確認済再数は0〜100万個の整数で必須",IF(AND(F12="必要",G12="未確認",COUNTA(H12)>0),"未確認再数は空欄",IF(NOT(OR(I12="確認済",I12="未確認")),"時点照合を確認",IF(NOT(IF(ISNUMBER(J12),AND(J12>=43831,J12<=73050,J12=INT(J12)),FALSE())),"確認日は時刻なしで必須",IF(OR(J12<棚卸集計!$B$3,J12>棚卸集計!$E$3),"棚卸基準日≦確認日≦確認基準日","確認済み")))))))))))))))))) -> 確認済み | Q12: =IF(P12="","",IF(P12="確認済み",0,1)) -> 0 | R12: =IF(COUNTA(A12:J12)=0,IF(AND(P12="",Q12="",K12="",L12="",M12="",N12="",O12=""),0,1),IF(NOT(AND(ISTEXT(P12),P12=IF(COUNTA(A12:J12)=0,"",IF(NOT(AND(ISTEXT(A12),LEN(A12)=8,EXACT(LEFT(A12,4),"SKU-"),ISNUMBER(FIND(MID(A12,5,1)&"x","0x1x2x3x4x5x6x7x8x9x")),ISNUMBER(FIND(MID(A12,6,1)&"x","0x1x2x3x4x5x6x7x8x9x")),ISNUMBER(FIND(MID(A12,7,1)&"x","0x1x2x3x4x5x6x7x8x9x")),ISNUMBER(FIND(MID(A12,8,1)&"x","0x1x2x3x4x5x6x7x8x9x")))),"IDはSKU-と半角数字4桁",IF(COUNTIFS($A$8:$A$57,A12)>1,"品目IDが重複",IF(NOT(OR(B12="確認済",B12="未確認")),"帳簿区分を確認",IF(AND(B12="確認済",NOT(IF(ISNUMBER(C12),AND(C12>=-1000000,C12<=1000000,C12=INT(C12)),FALSE()))),"確認済帳簿は±100万個の整数で必須",IF(AND(B12="未確認",COUNTA(C12)>0),"未確認帳簿は空欄",IF(NOT(OR(D12="確認済",D12="未確認")),"初回区分を確認",IF(AND(D12="確認済",NOT(IF(ISNUMBER(E12),AND(E12>=0,E12<=1000000,E12=INT(E12)),FALSE()))),"確認済初回は0〜100万個の整数で必須",IF(AND(D12="未確認",COUNTA(E12)>0),"未確認初回は空欄",IF(NOT(OR(F12="不要",F12="必要")),"再数要否を確認",IF(AND(F12="必要",D12<>"確認済"),"再数には初回確認済みが必須",IF(AND(F12="不要",OR(G12<>"対象外",COUNTA(H12)>0)),"再数不要は対象外/数量空欄",IF(AND(F12="必要",NOT(OR(G12="確認済",G12="未確認"))),"必要な再数区分を確認",IF(AND(F12="必要",G12="確認済",NOT(IF(ISNUMBER(H12),AND(H12>=0,H12<=1000000,H12=INT(H12)),FALSE()))),"確認済再数は0〜100万個の整数で必須",IF(AND(F12="必要",G12="未確認",COUNTA(H12)>0),"未確認再数は空欄",IF(NOT(OR(I12="確認済",I12="未確認")),"時点照合を確認",IF(NOT(IF(ISNUMBER(J12),AND(J12>=43831,J12<=73050,J12=INT(J12)),FALSE())),"確認日は時刻なしで必須",IF(OR(J12<棚卸集計!$B$3,J12>棚卸集計!$E$3),"棚卸基準日≦確認日≦確認基準日","確認済み")))))))))))))))))),ISNUMBER(Q12),Q12=IF(P12="確認済み",0,1))),1,IF(Q12<>0,0,IF(AND(IF(ISTEXT(IF(OR(I12="未確認",D12="未確認",AND(F12="必要",G12="未確認")),"",IF(F12="必要",H12,E12))),ISTEXT(K12),ISNUMBER(K12)),K12=IF(OR(I12="未確認",D12="未確認",AND(F12="必要",G12="未確認")),"",IF(F12="必要",H12,E12)),IF(ISTEXT(IF(OR(B12="未確認",C12<0,NOT(ISNUMBER(K12))),"",K12-C12)),ISTEXT(L12),ISNUMBER(L12)),L12=IF(OR(B12="未確認",C12<0,NOT(ISNUMBER(K12))),"",K12-C12),IF(ISTEXT(IF(ISNUMBER(L12),MAX(-L12,0),"")),ISTEXT(M12),ISNUMBER(M12)),M12=IF(ISNUMBER(L12),MAX(-L12,0),""),IF(ISTEXT(IF(ISNUMBER(L12),MAX(L12,0),"")),ISTEXT(N12),ISNUMBER(N12)),N12=IF(ISNUMBER(L12),MAX(L12,0),""),ISTEXT(O12),O12=IF(I12="未確認","時点未確認",IF(D12="未確認","実棚未確認",IF(AND(F12="必要",G12="未確認"),"再数待ち",IF(B12="未確認","帳簿未確認",IF(C12<0,"帳簿負数",IF(L12=0,"一致","差異あり"))))))),0,1)))) -> 0
A13: SKU-0006 | B13: 確認済 | C13: 30 | D13: 確認済 | E13: 28 | F13: 必要 | G13: 未確認 | I13: 確認済 | J13: 46329 | K13: =IF(P13="","",IF(Q13<>0,NA(),IF(OR(I13="未確認",D13="未確認",AND(F13="必要",G13="未確認")),"",IF(F13="必要",H13,E13)))) | L13: =IF(P13="","",IF(Q13<>0,NA(),IF(OR(B13="未確認",C13<0,NOT(ISNUMBER(K13))),"",K13-C13))) | M13: =IF(P13="","",IF(Q13<>0,NA(),IF(ISNUMBER(L13),MAX(-L13,0),""))) | N13: =IF(P13="","",IF(Q13<>0,NA(),IF(ISNUMBER(L13),MAX(L13,0),""))) | O13: =IF(P13="","",IF(Q13<>0,NA(),IF(I13="未確認","時点未確認",IF(D13="未確認","実棚未確認",IF(AND(F13="必要",G13="未確認"),"再数待ち",IF(B13="未確認","帳簿未確認",IF(C13<0,"帳簿負数",IF(L13=0,"一致","差異あり")))))))) -> 再数待ち | P13: =IF(COUNTA(A13:J13)=0,"",IF(NOT(AND(ISTEXT(A13),LEN(A13)=8,EXACT(LEFT(A13,4),"SKU-"),ISNUMBER(FIND(MID(A13,5,1)&"x","0x1x2x3x4x5x6x7x8x9x")),ISNUMBER(FIND(MID(A13,6,1)&"x","0x1x2x3x4x5x6x7x8x9x")),ISNUMBER(FIND(MID(A13,7,1)&"x","0x1x2x3x4x5x6x7x8x9x")),ISNUMBER(FIND(MID(A13,8,1)&"x","0x1x2x3x4x5x6x7x8x9x")))),"IDはSKU-と半角数字4桁",IF(COUNTIFS($A$8:$A$57,A13)>1,"品目IDが重複",IF(NOT(OR(B13="確認済",B13="未確認")),"帳簿区分を確認",IF(AND(B13="確認済",NOT(IF(ISNUMBER(C13),AND(C13>=-1000000,C13<=1000000,C13=INT(C13)),FALSE()))),"確認済帳簿は±100万個の整数で必須",IF(AND(B13="未確認",COUNTA(C13)>0),"未確認帳簿は空欄",IF(NOT(OR(D13="確認済",D13="未確認")),"初回区分を確認",IF(AND(D13="確認済",NOT(IF(ISNUMBER(E13),AND(E13>=0,E13<=1000000,E13=INT(E13)),FALSE()))),"確認済初回は0〜100万個の整数で必須",IF(AND(D13="未確認",COUNTA(E13)>0),"未確認初回は空欄",IF(NOT(OR(F13="不要",F13="必要")),"再数要否を確認",IF(AND(F13="必要",D13<>"確認済"),"再数には初回確認済みが必須",IF(AND(F13="不要",OR(G13<>"対象外",COUNTA(H13)>0)),"再数不要は対象外/数量空欄",IF(AND(F13="必要",NOT(OR(G13="確認済",G13="未確認"))),"必要な再数区分を確認",IF(AND(F13="必要",G13="確認済",NOT(IF(ISNUMBER(H13),AND(H13>=0,H13<=1000000,H13=INT(H13)),FALSE()))),"確認済再数は0〜100万個の整数で必須",IF(AND(F13="必要",G13="未確認",COUNTA(H13)>0),"未確認再数は空欄",IF(NOT(OR(I13="確認済",I13="未確認")),"時点照合を確認",IF(NOT(IF(ISNUMBER(J13),AND(J13>=43831,J13<=73050,J13=INT(J13)),FALSE())),"確認日は時刻なしで必須",IF(OR(J13<棚卸集計!$B$3,J13>棚卸集計!$E$3),"棚卸基準日≦確認日≦確認基準日","確認済み")))))))))))))))))) -> 確認済み | Q13: =IF(P13="","",IF(P13="確認済み",0,1)) -> 0 | R13: =IF(COUNTA(A13:J13)=0,IF(AND(P13="",Q13="",K13="",L13="",M13="",N13="",O13=""),0,1),IF(NOT(AND(ISTEXT(P13),P13=IF(COUNTA(A13:J13)=0,"",IF(NOT(AND(ISTEXT(A13),LEN(A13)=8,EXACT(LEFT(A13,4),"SKU-"),ISNUMBER(FIND(MID(A13,5,1)&"x","0x1x2x3x4x5x6x7x8x9x")),ISNUMBER(FIND(MID(A13,6,1)&"x","0x1x2x3x4x5x6x7x8x9x")),ISNUMBER(FIND(MID(A13,7,1)&"x","0x1x2x3x4x5x6x7x8x9x")),ISNUMBER(FIND(MID(A13,8,1)&"x","0x1x2x3x4x5x6x7x8x9x")))),"IDはSKU-と半角数字4桁",IF(COUNTIFS($A$8:$A$57,A13)>1,"品目IDが重複",IF(NOT(OR(B13="確認済",B13="未確認")),"帳簿区分を確認",IF(AND(B13="確認済",NOT(IF(ISNUMBER(C13),AND(C13>=-1000000,C13<=1000000,C13=INT(C13)),FALSE()))),"確認済帳簿は±100万個の整数で必須",IF(AND(B13="未確認",COUNTA(C13)>0),"未確認帳簿は空欄",IF(NOT(OR(D13="確認済",D13="未確認")),"初回区分を確認",IF(AND(D13="確認済",NOT(IF(ISNUMBER(E13),AND(E13>=0,E13<=1000000,E13=INT(E13)),FALSE()))),"確認済初回は0〜100万個の整数で必須",IF(AND(D13="未確認",COUNTA(E13)>0),"未確認初回は空欄",IF(NOT(OR(F13="不要",F13="必要")),"再数要否を確認",IF(AND(F13="必要",D13<>"確認済"),"再数には初回確認済みが必須",IF(AND(F13="不要",OR(G13<>"対象外",COUNTA(H13)>0)),"再数不要は対象外/数量空欄",IF(AND(F13="必要",NOT(OR(G13="確認済",G13="未確認"))),"必要な再数区分を確認",IF(AND(F13="必要",G13="確認済",NOT(IF(ISNUMBER(H13),AND(H13>=0,H13<=1000000,H13=INT(H13)),FALSE()))),"確認済再数は0〜100万個の整数で必須",IF(AND(F13="必要",G13="未確認",COUNTA(H13)>0),"未確認再数は空欄",IF(NOT(OR(I13="確認済",I13="未確認")),"時点照合を確認",IF(NOT(IF(ISNUMBER(J13),AND(J13>=43831,J13<=73050,J13=INT(J13)),FALSE())),"確認日は時刻なしで必須",IF(OR(J13<棚卸集計!$B$3,J13>棚卸集計!$E$3),"棚卸基準日≦確認日≦確認基準日","確認済み")))))))))))))))))),ISNUMBER(Q13),Q13=IF(P13="確認済み",0,1))),1,IF(Q13<>0,0,IF(AND(IF(ISTEXT(IF(OR(I13="未確認",D13="未確認",AND(F13="必要",G13="未確認")),"",IF(F13="必要",H13,E13))),ISTEXT(K13),ISNUMBER(K13)),K13=IF(OR(I13="未確認",D13="未確認",AND(F13="必要",G13="未確認")),"",IF(F13="必要",H13,E13)),IF(ISTEXT(IF(OR(B13="未確認",C13<0,NOT(ISNUMBER(K13))),"",K13-C13)),ISTEXT(L13),ISNUMBER(L13)),L13=IF(OR(B13="未確認",C13<0,NOT(ISNUMBER(K13))),"",K13-C13),IF(ISTEXT(IF(ISNUMBER(L13),MAX(-L13,0),"")),ISTEXT(M13),ISNUMBER(M13)),M13=IF(ISNUMBER(L13),MAX(-L13,0),""),IF(ISTEXT(IF(ISNUMBER(L13),MAX(L13,0),"")),ISTEXT(N13),ISNUMBER(N13)),N13=IF(ISNUMBER(L13),MAX(L13,0),""),ISTEXT(O13),O13=IF(I13="未確認","時点未確認",IF(D13="未確認","実棚未確認",IF(AND(F13="必要",G13="未確認"),"再数待ち",IF(B13="未確認","帳簿未確認",IF(C13<0,"帳簿負数",IF(L13=0,"一致","差異あり"))))))),0,1)))) -> 0
A14: SKU-0007 | B14: 確認済 | C14: -5 | D14: 確認済 | E14: 0 | F14: 不要 | G14: 対象外 | I14: 確認済 | J14: 46330 | K14: =IF(P14="","",IF(Q14<>0,NA(),IF(OR(I14="未確認",D14="未確認",AND(F14="必要",G14="未確認")),"",IF(F14="必要",H14,E14)))) -> 0 | L14: =IF(P14="","",IF(Q14<>0,NA(),IF(OR(B14="未確認",C14<0,NOT(ISNUMBER(K14))),"",K14-C14))) | M14: =IF(P14="","",IF(Q14<>0,NA(),IF(ISNUMBER(L14),MAX(-L14,0),""))) | N14: =IF(P14="","",IF(Q14<>0,NA(),IF(ISNUMBER(L14),MAX(L14,0),""))) | O14: =IF(P14="","",IF(Q14<>0,NA(),IF(I14="未確認","時点未確認",IF(D14="未確認","実棚未確認",IF(AND(F14="必要",G14="未確認"),"再数待ち",IF(B14="未確認","帳簿未確認",IF(C14<0,"帳簿負数",IF(L14=0,"一致","差異あり")))))))) -> 帳簿負数 | P14: =IF(COUNTA(A14:J14)=0,"",IF(NOT(AND(ISTEXT(A14),LEN(A14)=8,EXACT(LEFT(A14,4),"SKU-"),ISNUMBER(FIND(MID(A14,5,1)&"x","0x1x2x3x4x5x6x7x8x9x")),ISNUMBER(FIND(MID(A14,6,1)&"x","0x1x2x3x4x5x6x7x8x9x")),ISNUMBER(FIND(MID(A14,7,1)&"x","0x1x2x3x4x5x6x7x8x9x")),ISNUMBER(FIND(MID(A14,8,1)&"x","0x1x2x3x4x5x6x7x8x9x")))),"IDはSKU-と半角数字4桁",IF(COUNTIFS($A$8:$A$57,A14)>1,"品目IDが重複",IF(NOT(OR(B14="確認済",B14="未確認")),"帳簿区分を確認",IF(AND(B14="確認済",NOT(IF(ISNUMBER(C14),AND(C14>=-1000000,C14<=1000000,C14=INT(C14)),FALSE()))),"確認済帳簿は±100万個の整数で必須",IF(AND(B14="未確認",COUNTA(C14)>0),"未確認帳簿は空欄",IF(NOT(OR(D14="確認済",D14="未確認")),"初回区分を確認",IF(AND(D14="確認済",NOT(IF(ISNUMBER(E14),AND(E14>=0,E14<=1000000,E14=INT(E14)),FALSE()))),"確認済初回は0〜100万個の整数で必須",IF(AND(D14="未確認",COUNTA(E14)>0),"未確認初回は空欄",IF(NOT(OR(F14="不要",F14="必要")),"再数要否を確認",IF(AND(F14="必要",D14<>"確認済"),"再数には初回確認済みが必須",IF(AND(F14="不要",OR(G14<>"対象外",COUNTA(H14)>0)),"再数不要は対象外/数量空欄",IF(AND(F14="必要",NOT(OR(G14="確認済",G14="未確認"))),"必要な再数区分を確認",IF(AND(F14="必要",G14="確認済",NOT(IF(ISNUMBER(H14),AND(H14>=0,H14<=1000000,H14=INT(H14)),FALSE()))),"確認済再数は0〜100万個の整数で必須",IF(AND(F14="必要",G14="未確認",COUNTA(H14)>0),"未確認再数は空欄",IF(NOT(OR(I14="確認済",I14="未確認")),"時点照合を確認",IF(NOT(IF(ISNUMBER(J14),AND(J14>=43831,J14<=73050,J14=INT(J14)),FALSE())),"確認日は時刻なしで必須",IF(OR(J14<棚卸集計!$B$3,J14>棚卸集計!$E$3),"棚卸基準日≦確認日≦確認基準日","確認済み")))))))))))))))))) -> 確認済み | Q14: =IF(P14="","",IF(P14="確認済み",0,1)) -> 0 | R14: =IF(COUNTA(A14:J14)=0,IF(AND(P14="",Q14="",K14="",L14="",M14="",N14="",O14=""),0,1),IF(NOT(AND(ISTEXT(P14),P14=IF(COUNTA(A14:J14)=0,"",IF(NOT(AND(ISTEXT(A14),LEN(A14)=8,EXACT(LEFT(A14,4),"SKU-"),ISNUMBER(FIND(MID(A14,5,1)&"x","0x1x2x3x4x5x6x7x8x9x")),ISNUMBER(FIND(MID(A14,6,1)&"x","0x1x2x3x4x5x6x7x8x9x")),ISNUMBER(FIND(MID(A14,7,1)&"x","0x1x2x3x4x5x6x7x8x9x")),ISNUMBER(FIND(MID(A14,8,1)&"x","0x1x2x3x4x5x6x7x8x9x")))),"IDはSKU-と半角数字4桁",IF(COUNTIFS($A$8:$A$57,A14)>1,"品目IDが重複",IF(NOT(OR(B14="確認済",B14="未確認")),"帳簿区分を確認",IF(AND(B14="確認済",NOT(IF(ISNUMBER(C14),AND(C14>=-1000000,C14<=1000000,C14=INT(C14)),FALSE()))),"確認済帳簿は±100万個の整数で必須",IF(AND(B14="未確認",COUNTA(C14)>0),"未確認帳簿は空欄",IF(NOT(OR(D14="確認済",D14="未確認")),"初回区分を確認",IF(AND(D14="確認済",NOT(IF(ISNUMBER(E14),AND(E14>=0,E14<=1000000,E14=INT(E14)),FALSE()))),"確認済初回は0〜100万個の整数で必須",IF(AND(D14="未確認",COUNTA(E14)>0),"未確認初回は空欄",IF(NOT(OR(F14="不要",F14="必要")),"再数要否を確認",IF(AND(F14="必要",D14<>"確認済"),"再数には初回確認済みが必須",IF(AND(F14="不要",OR(G14<>"対象外",COUNTA(H14)>0)),"再数不要は対象外/数量空欄",IF(AND(F14="必要",NOT(OR(G14="確認済",G14="未確認"))),"必要な再数区分を確認",IF(AND(F14="必要",G14="確認済",NOT(IF(ISNUMBER(H14),AND(H14>=0,H14<=1000000,H14=INT(H14)),FALSE()))),"確認済再数は0〜100万個の整数で必須",IF(AND(F14="必要",G14="未確認",COUNTA(H14)>0),"未確認再数は空欄",IF(NOT(OR(I14="確認済",I14="未確認")),"時点照合を確認",IF(NOT(IF(ISNUMBER(J14),AND(J14>=43831,J14<=73050,J14=INT(J14)),FALSE())),"確認日は時刻なしで必須",IF(OR(J14<棚卸集計!$B$3,J14>棚卸集計!$E$3),"棚卸基準日≦確認日≦確認基準日","確認済み")))))))))))))))))),ISNUMBER(Q14),Q14=IF(P14="確認済み",0,1))),1,IF(Q14<>0,0,IF(AND(IF(ISTEXT(IF(OR(I14="未確認",D14="未確認",AND(F14="必要",G14="未確認")),"",IF(F14="必要",H14,E14))),ISTEXT(K14),ISNUMBER(K14)),K14=IF(OR(I14="未確認",D14="未確認",AND(F14="必要",G14="未確認")),"",IF(F14="必要",H14,E14)),IF(ISTEXT(IF(OR(B14="未確認",C14<0,NOT(ISNUMBER(K14))),"",K14-C14)),ISTEXT(L14),ISNUMBER(L14)),L14=IF(OR(B14="未確認",C14<0,NOT(ISNUMBER(K14))),"",K14-C14),IF(ISTEXT(IF(ISNUMBER(L14),MAX(-L14,0),"")),ISTEXT(M14),ISNUMBER(M14)),M14=IF(ISNUMBER(L14),MAX(-L14,0),""),IF(ISTEXT(IF(ISNUMBER(L14),MAX(L14,0),"")),ISTEXT(N14),ISNUMBER(N14)),N14=IF(ISNUMBER(L14),MAX(L14,0),""),ISTEXT(O14),O14=IF(I14="未確認","時点未確認",IF(D14="未確認","実棚未確認",IF(AND(F14="必要",G14="未確認"),"再数待ち",IF(B14="未確認","帳簿未確認",IF(C14<0,"帳簿負数",IF(L14=0,"一致","差異あり"))))))),0,1)))) -> 0
A15: SKU-0008 | B15: 確認済 | C15: 10 | D15: 確認済 | E15: 12 | F15: 不要 | G15: 対象外 | I15: 未確認 | J15: 46330 | K15: =IF(P15="","",IF(Q15<>0,NA(),IF(OR(I15="未確認",D15="未確認",AND(F15="必要",G15="未確認")),"",IF(F15="必要",H15,E15)))) | L15: =IF(P15="","",IF(Q15<>0,NA(),IF(OR(B15="未確認",C15<0,NOT(ISNUMBER(K15))),"",K15-C15))) | M15: =IF(P15="","",IF(Q15<>0,NA(),IF(ISNUMBER(L15),MAX(-L15,0),""))) | N15: =IF(P15="","",IF(Q15<>0,NA(),IF(ISNUMBER(L15),MAX(L15,0),""))) | O15: =IF(P15="","",IF(Q15<>0,NA(),IF(I15="未確認","時点未確認",IF(D15="未確認","実棚未確認",IF(AND(F15="必要",G15="未確認"),"再数待ち",IF(B15="未確認","帳簿未確認",IF(C15<0,"帳簿負数",IF(L15=0,"一致","差異あり")))))))) -> 時点未確認 | P15: =IF(COUNTA(A15:J15)=0,"",IF(NOT(AND(ISTEXT(A15),LEN(A15)=8,EXACT(LEFT(A15,4),"SKU-"),ISNUMBER(FIND(MID(A15,5,1)&"x","0x1x2x3x4x5x6x7x8x9x")),ISNUMBER(FIND(MID(A15,6,1)&"x","0x1x2x3x4x5x6x7x8x9x")),ISNUMBER(FIND(MID(A15,7,1)&"x","0x1x2x3x4x5x6x7x8x9x")),ISNUMBER(FIND(MID(A15,8,1)&"x","0x1x2x3x4x5x6x7x8x9x")))),"IDはSKU-と半角数字4桁",IF(COUNTIFS($A$8:$A$57,A15)>1,"品目IDが重複",IF(NOT(OR(B15="確認済",B15="未確認")),"帳簿区分を確認",IF(AND(B15="確認済",NOT(IF(ISNUMBER(C15),AND(C15>=-1000000,C15<=1000000,C15=INT(C15)),FALSE()))),"確認済帳簿は±100万個の整数で必須",IF(AND(B15="未確認",COUNTA(C15)>0),"未確認帳簿は空欄",IF(NOT(OR(D15="確認済",D15="未確認")),"初回区分を確認",IF(AND(D15="確認済",NOT(IF(ISNUMBER(E15),AND(E15>=0,E15<=1000000,E15=INT(E15)),FALSE()))),"確認済初回は0〜100万個の整数で必須",IF(AND(D15="未確認",COUNTA(E15)>0),"未確認初回は空欄",IF(NOT(OR(F15="不要",F15="必要")),"再数要否を確認",IF(AND(F15="必要",D15<>"確認済"),"再数には初回確認済みが必須",IF(AND(F15="不要",OR(G15<>"対象外",COUNTA(H15)>0)),"再数不要は対象外/数量空欄",IF(AND(F15="必要",NOT(OR(G15="確認済",G15="未確認"))),"必要な再数区分を確認",IF(AND(F15="必要",G15="確認済",NOT(IF(ISNUMBER(H15),AND(H15>=0,H15<=1000000,H15=INT(H15)),FALSE()))),"確認済再数は0〜100万個の整数で必須",IF(AND(F15="必要",G15="未確認",COUNTA(H15)>0),"未確認再数は空欄",IF(NOT(OR(I15="確認済",I15="未確認")),"時点照合を確認",IF(NOT(IF(ISNUMBER(J15),AND(J15>=43831,J15<=73050,J15=INT(J15)),FALSE())),"確認日は時刻なしで必須",IF(OR(J15<棚卸集計!$B$3,J15>棚卸集計!$E$3),"棚卸基準日≦確認日≦確認基準日","確認済み")))))))))))))))))) -> 確認済み | Q15: =IF(P15="","",IF(P15="確認済み",0,1)) -> 0 | R15: =IF(COUNTA(A15:J15)=0,IF(AND(P15="",Q15="",K15="",L15="",M15="",N15="",O15=""),0,1),IF(NOT(AND(ISTEXT(P15),P15=IF(COUNTA(A15:J15)=0,"",IF(NOT(AND(ISTEXT(A15),LEN(A15)=8,EXACT(LEFT(A15,4),"SKU-"),ISNUMBER(FIND(MID(A15,5,1)&"x","0x1x2x3x4x5x6x7x8x9x")),ISNUMBER(FIND(MID(A15,6,1)&"x","0x1x2x3x4x5x6x7x8x9x")),ISNUMBER(FIND(MID(A15,7,1)&"x","0x1x2x3x4x5x6x7x8x9x")),ISNUMBER(FIND(MID(A15,8,1)&"x","0x1x2x3x4x5x6x7x8x9x")))),"IDはSKU-と半角数字4桁",IF(COUNTIFS($A$8:$A$57,A15)>1,"品目IDが重複",IF(NOT(OR(B15="確認済",B15="未確認")),"帳簿区分を確認",IF(AND(B15="確認済",NOT(IF(ISNUMBER(C15),AND(C15>=-1000000,C15<=1000000,C15=INT(C15)),FALSE()))),"確認済帳簿は±100万個の整数で必須",IF(AND(B15="未確認",COUNTA(C15)>0),"未確認帳簿は空欄",IF(NOT(OR(D15="確認済",D15="未確認")),"初回区分を確認",IF(AND(D15="確認済",NOT(IF(ISNUMBER(E15),AND(E15>=0,E15<=1000000,E15=INT(E15)),FALSE()))),"確認済初回は0〜100万個の整数で必須",IF(AND(D15="未確認",COUNTA(E15)>0),"未確認初回は空欄",IF(NOT(OR(F15="不要",F15="必要")),"再数要否を確認",IF(AND(F15="必要",D15<>"確認済"),"再数には初回確認済みが必須",IF(AND(F15="不要",OR(G15<>"対象外",COUNTA(H15)>0)),"再数不要は対象外/数量空欄",IF(AND(F15="必要",NOT(OR(G15="確認済",G15="未確認"))),"必要な再数区分を確認",IF(AND(F15="必要",G15="確認済",NOT(IF(ISNUMBER(H15),AND(H15>=0,H15<=1000000,H15=INT(H15)),FALSE()))),"確認済再数は0〜100万個の整数で必須",IF(AND(F15="必要",G15="未確認",COUNTA(H15)>0),"未確認再数は空欄",IF(NOT(OR(I15="確認済",I15="未確認")),"時点照合を確認",IF(NOT(IF(ISNUMBER(J15),AND(J15>=43831,J15<=73050,J15=INT(J15)),FALSE())),"確認日は時刻なしで必須",IF(OR(J15<棚卸集計!$B$3,J15>棚卸集計!$E$3),"棚卸基準日≦確認日≦確認基準日","確認済み")))))))))))))))))),ISNUMBER(Q15),Q15=IF(P15="確認済み",0,1))),1,IF(Q15<>0,0,IF(AND(IF(ISTEXT(IF(OR(I15="未確認",D15="未確認",AND(F15="必要",G15="未確認")),"",IF(F15="必要",H15,E15))),ISTEXT(K15),ISNUMBER(K15)),K15=IF(OR(I15="未確認",D15="未確認",AND(F15="必要",G15="未確認")),"",IF(F15="必要",H15,E15)),IF(ISTEXT(IF(OR(B15="未確認",C15<0,NOT(ISNUMBER(K15))),"",K15-C15)),ISTEXT(L15),ISNUMBER(L15)),L15=IF(OR(B15="未確認",C15<0,NOT(ISNUMBER(K15))),"",K15-C15),IF(ISTEXT(IF(ISNUMBER(L15),MAX(-L15,0),"")),ISTEXT(M15),ISNUMBER(M15)),M15=IF(ISNUMBER(L15),MAX(-L15,0),""),IF(ISTEXT(IF(ISNUMBER(L15),MAX(L15,0),"")),ISTEXT(N15),ISNUMBER(N15)),N15=IF(ISNUMBER(L15),MAX(L15,0),""),ISTEXT(O15),O15=IF(I15="未確認","時点未確認",IF(D15="未確認","実棚未確認",IF(AND(F15="必要",G15="未確認"),"再数待ち",IF(B15="未確認","帳簿未確認",IF(C15<0,"帳簿負数",IF(L15=0,"一致","差異あり"))))))),0,1)))) -> 0
A16: SKU-0009 | B16: 確認済 | C16: 10 | D16: 確認済 | E16: 13 | F16: 必要 | G16: 確認済 | H16: 14 | I16: 確認済 | J16: 46331 | K16: =IF(P16="","",IF(Q16<>0,NA(),IF(OR(I16="未確認",D16="未確認",AND(F16="必要",G16="未確認")),"",IF(F16="必要",H16,E16)))) -> 14 | L16: =IF(P16="","",IF(Q16<>0,NA(),IF(OR(B16="未確認",C16<0,NOT(ISNUMBER(K16))),"",K16-C16))) -> 4 | M16: =IF(P16="","",IF(Q16<>0,NA(),IF(ISNUMBER(L16),MAX(-L16,0),""))) -> 0 | N16: =IF(P16="","",IF(Q16<>0,NA(),IF(ISNUMBER(L16),MAX(L16,0),""))) -> 4 | O16: =IF(P16="","",IF(Q16<>0,NA(),IF(I16="未確認","時点未確認",IF(D16="未確認","実棚未確認",IF(AND(F16="必要",G16="未確認"),"再数待ち",IF(B16="未確認","帳簿未確認",IF(C16<0,"帳簿負数",IF(L16=0,"一致","差異あり")))))))) -> 差異あり | P16: =IF(COUNTA(A16:J16)=0,"",IF(NOT(AND(ISTEXT(A16),LEN(A16)=8,EXACT(LEFT(A16,4),"SKU-"),ISNUMBER(FIND(MID(A16,5,1)&"x","0x1x2x3x4x5x6x7x8x9x")),ISNUMBER(FIND(MID(A16,6,1)&"x","0x1x2x3x4x5x6x7x8x9x")),ISNUMBER(FIND(MID(A16,7,1)&"x","0x1x2x3x4x5x6x7x8x9x")),ISNUMBER(FIND(MID(A16,8,1)&"x","0x1x2x3x4x5x6x7x8x9x")))),"IDはSKU-と半角数字4桁",IF(COUNTIFS($A$8:$A$57,A16)>1,"品目IDが重複",IF(NOT(OR(B16="確認済",B16="未確認")),"帳簿区分を確認",IF(AND(B16="確認済",NOT(IF(ISNUMBER(C16),AND(C16>=-1000000,C16<=1000000,C16=INT(C16)),FALSE()))),"確認済帳簿は±100万個の整数で必須",IF(AND(B16="未確認",COUNTA(C16)>0),"未確認帳簿は空欄",IF(NOT(OR(D16="確認済",D16="未確認")),"初回区分を確認",IF(AND(D16="確認済",NOT(IF(ISNUMBER(E16),AND(E16>=0,E16<=1000000,E16=INT(E16)),FALSE()))),"確認済初回は0〜100万個の整数で必須",IF(AND(D16="未確認",COUNTA(E16)>0),"未確認初回は空欄",IF(NOT(OR(F16="不要",F16="必要")),"再数要否を確認",IF(AND(F16="必要",D16<>"確認済"),"再数には初回確認済みが必須",IF(AND(F16="不要",OR(G16<>"対象外",COUNTA(H16)>0)),"再数不要は対象外/数量空欄",IF(AND(F16="必要",NOT(OR(G16="確認済",G16="未確認"))),"必要な再数区分を確認",IF(AND(F16="必要",G16="確認済",NOT(IF(ISNUMBER(H16),AND(H16>=0,H16<=1000000,H16=INT(H16)),FALSE()))),"確認済再数は0〜100万個の整数で必須",IF(AND(F16="必要",G16="未確認",COUNTA(H16)>0),"未確認再数は空欄",IF(NOT(OR(I16="確認済",I16="未確認")),"時点照合を確認",IF(NOT(IF(ISNUMBER(J16),AND(J16>=43831,J16<=73050,J16=INT(J16)),FALSE())),"確認日は時刻なしで必須",IF(OR(J16<棚卸集計!$B$3,J16>棚卸集計!$E$3),"棚卸基準日≦確認日≦確認基準日","確認済み")))))))))))))))))) -> 確認済み | Q16: =IF(P16="","",IF(P16="確認済み",0,1)) -> 0 | R16: =IF(COUNTA(A16:J16)=0,IF(AND(P16="",Q16="",K16="",L16="",M16="",N16="",O16=""),0,1),IF(NOT(AND(ISTEXT(P16),P16=IF(COUNTA(A16:J16)=0,"",IF(NOT(AND(ISTEXT(A16),LEN(A16)=8,EXACT(LEFT(A16,4),"SKU-"),ISNUMBER(FIND(MID(A16,5,1)&"x","0x1x2x3x4x5x6x7x8x9x")),ISNUMBER(FIND(MID(A16,6,1)&"x","0x1x2x3x4x5x6x7x8x9x")),ISNUMBER(FIND(MID(A16,7,1)&"x","0x1x2x3x4x5x6x7x8x9x")),ISNUMBER(FIND(MID(A16,8,1)&"x","0x1x2x3x4x5x6x7x8x9x")))),"IDはSKU-と半角数字4桁",IF(COUNTIFS($A$8:$A$57,A16)>1,"品目IDが重複",IF(NOT(OR(B16="確認済",B16="未確認")),"帳簿区分を確認",IF(AND(B16="確認済",NOT(IF(ISNUMBER(C16),AND(C16>=-1000000,C16<=1000000,C16=INT(C16)),FALSE()))),"確認済帳簿は±100万個の整数で必須",IF(AND(B16="未確認",COUNTA(C16)>0),"未確認帳簿は空欄",IF(NOT(OR(D16="確認済",D16="未確認")),"初回区分を確認",IF(AND(D16="確認済",NOT(IF(ISNUMBER(E16),AND(E16>=0,E16<=1000000,E16=INT(E16)),FALSE()))),"確認済初回は0〜100万個の整数で必須",IF(AND(D16="未確認",COUNTA(E16)>0),"未確認初回は空欄",IF(NOT(OR(F16="不要",F16="必要")),"再数要否を確認",IF(AND(F16="必要",D16<>"確認済"),"再数には初回確認済みが必須",IF(AND(F16="不要",OR(G16<>"対象外",COUNTA(H16)>0)),"再数不要は対象外/数量空欄",IF(AND(F16="必要",NOT(OR(G16="確認済",G16="未確認"))),"必要な再数区分を確認",IF(AND(F16="必要",G16="確認済",NOT(IF(ISNUMBER(H16),AND(H16>=0,H16<=1000000,H16=INT(H16)),FALSE()))),"確認済再数は0〜100万個の整数で必須",IF(AND(F16="必要",G16="未確認",COUNTA(H16)>0),"未確認再数は空欄",IF(NOT(OR(I16="確認済",I16="未確認")),"時点照合を確認",IF(NOT(IF(ISNUMBER(J16),AND(J16>=43831,J16<=73050,J16=INT(J16)),FALSE())),"確認日は時刻なしで必須",IF(OR(J16<棚卸集計!$B$3,J16>棚卸集計!$E$3),"棚卸基準日≦確認日≦確認基準日","確認済み")))))))))))))))))),ISNUMBER(Q16),Q16=IF(P16="確認済み",0,1))),1,IF(Q16<>0,0,IF(AND(IF(ISTEXT(IF(OR(I16="未確認",D16="未確認",AND(F16="必要",G16="未確認")),"",IF(F16="必要",H16,E16))),ISTEXT(K16),ISNUMBER(K16)),K16=IF(OR(I16="未確認",D16="未確認",AND(F16="必要",G16="未確認")),"",IF(F16="必要",H16,E16)),IF(ISTEXT(IF(OR(B16="未確認",C16<0,NOT(ISNUMBER(K16))),"",K16-C16)),ISTEXT(L16),ISNUMBER(L16)),L16=IF(OR(B16="未確認",C16<0,NOT(ISNUMBER(K16))),"",K16-C16),IF(ISTEXT(IF(ISNUMBER(L16),MAX(-L16,0),"")),ISTEXT(M16),ISNUMBER(M16)),M16=IF(ISNUMBER(L16),MAX(-L16,0),""),IF(ISTEXT(IF(ISNUMBER(L16),MAX(L16,0),"")),ISTEXT(N16),ISNUMBER(N16)),N16=IF(ISNUMBER(L16),MAX(L16,0),""),ISTEXT(O16),O16=IF(I16="未確認","時点未確認",IF(D16="未確認","実棚未確認",IF(AND(F16="必要",G16="未確認"),"再数待ち",IF(B16="未確認","帳簿未確認",IF(C16<0,"帳簿負数",IF(L16=0,"一致","差異あり"))))))),0,1)))) -> 0
K17: =IF(P17="","",IF(Q17<>0,NA(),IF(OR(I17="未確認",D17="未確認",AND(F17="必要",G17="未確認")),"",IF(F17="必要",H17,E17)))) | L17: =IF(P17="","",IF(Q17<>0,NA(),IF(OR(B17="未確認",C17<0,NOT(ISNUMBER(K17))),"",K17-C17))) | M17: =IF(P17="","",IF(Q17<>0,NA(),IF(ISNUMBER(L17),MAX(-L17,0),""))) | N17: =IF(P17="","",IF(Q17<>0,NA(),IF(ISNUMBER(L17),MAX(L17,0),""))) | O17: =IF(P17="","",IF(Q17<>0,NA(),IF(I17="未確認","時点未確認",IF(D17="未確認","実棚未確認",IF(AND(F17="必要",G17="未確認"),"再数待ち",IF(B17="未確認","帳簿未確認",IF(C17<0,"帳簿負数",IF(L17=0,"一致","差異あり")))))))) | P17: =IF(COUNTA(A17:J17)=0,"",IF(NOT(AND(ISTEXT(A17),LEN(A17)=8,EXACT(LEFT(A17,4),"SKU-"),ISNUMBER(FIND(MID(A17,5,1)&"x","0x1x2x3x4x5x6x7x8x9x")),ISNUMBER(FIND(MID(A17,6,1)&"x","0x1x2x3x4x5x6x7x8x9x")),ISNUMBER(FIND(MID(A17,7,1)&"x","0x1x2x3x4x5x6x7x8x9x")),ISNUMBER(FIND(MID(A17,8,1)&"x","0x1x2x3x4x5x6x7x8x9x")))),"IDはSKU-と半角数字4桁",IF(COUNTIFS($A$8:$A$57,A17)>1,"品目IDが重複",IF(NOT(OR(B17="確認済",B17="未確認")),"帳簿区分を確認",IF(AND(B17="確認済",NOT(IF(ISNUMBER(C17),AND(C17>=-1000000,C17<=1000000,C17=INT(C17)),FALSE()))),"確認済帳簿は±100万個の整数で必須",IF(AND(B17="未確認",COUNTA(C17)>0),"未確認帳簿は空欄",IF(NOT(OR(D17="確認済",D17="未確認")),"初回区分を確認",IF(AND(D17="確認済",NOT(IF(ISNUMBER(E17),AND(E17>=0,E17<=1000000,E17=INT(E17)),FALSE()))),"確認済初回は0〜100万個の整数で必須",IF(AND(D17="未確認",COUNTA(E17)>0),"未確認初回は空欄",IF(NOT(OR(F17="不要",F17="必要")),"再数要否を確認",IF(AND(F17="必要",D17<>"確認済"),"再数には初回確認済みが必須",IF(AND(F17="不要",OR(G17<>"対象外",COUNTA(H17)>0)),"再数不要は対象外/数量空欄",IF(AND(F17="必要",NOT(OR(G17="確認済",G17="未確認"))),"必要な再数区分を確認",IF(AND(F17="必要",G17="確認済",NOT(IF(ISNUMBER(H17),AND(H17>=0,H17<=1000000,H17=INT(H17)),FALSE()))),"確認済再数は0〜100万個の整数で必須",IF(AND(F17="必要",G17="未確認",COUNTA(H17)>0),"未確認再数は空欄",IF(NOT(OR(I17="確認済",I17="未確認")),"時点照合を確認",IF(NOT(IF(ISNUMBER(J17),AND(J17>=43831,J17<=73050,J17=INT(J17)),FALSE())),"確認日は時刻なしで必須",IF(OR(J17<棚卸集計!$B$3,J17>棚卸集計!$E$3),"棚卸基準日≦確認日≦確認基準日","確認済み")))))))))))))))))) | Q17: =IF(P17="","",IF(P17="確認済み",0,1)) | R17: =IF(COUNTA(A17:J17)=0,IF(AND(P17="",Q17="",K17="",L17="",M17="",N17="",O17=""),0,1),IF(NOT(AND(ISTEXT(P17),P17=IF(COUNTA(A17:J17)=0,"",IF(NOT(AND(ISTEXT(A17),LEN(A17)=8,EXACT(LEFT(A17,4),"SKU-"),ISNUMBER(FIND(MID(A17,5,1)&"x","0x1x2x3x4x5x6x7x8x9x")),ISNUMBER(FIND(MID(A17,6,1)&"x","0x1x2x3x4x5x6x7x8x9x")),ISNUMBER(FIND(MID(A17,7,1)&"x","0x1x2x3x4x5x6x7x8x9x")),ISNUMBER(FIND(MID(A17,8,1)&"x","0x1x2x3x4x5x6x7x8x9x")))),"IDはSKU-と半角数字4桁",IF(COUNTIFS($A$8:$A$57,A17)>1,"品目IDが重複",IF(NOT(OR(B17="確認済",B17="未確認")),"帳簿区分を確認",IF(AND(B17="確認済",NOT(IF(ISNUMBER(C17),AND(C17>=-1000000,C17<=1000000,C17=INT(C17)),FALSE()))),"確認済帳簿は±100万個の整数で必須",IF(AND(B17="未確認",COUNTA(C17)>0),"未確認帳簿は空欄",IF(NOT(OR(D17="確認済",D17="未確認")),"初回区分を確認",IF(AND(D17="確認済",NOT(IF(ISNUMBER(E17),AND(E17>=0,E17<=1000000,E17=INT(E17)),FALSE()))),"確認済初回は0〜100万個の整数で必須",IF(AND(D17="未確認",COUNTA(E17)>0),"未確認初回は空欄",IF(NOT(OR(F17="不要",F17="必要")),"再数要否を確認",IF(AND(F17="必要",D17<>"確認済"),"再数には初回確認済みが必須",IF(AND(F17="不要",OR(G17<>"対象外",COUNTA(H17)>0)),"再数不要は対象外/数量空欄",IF(AND(F17="必要",NOT(OR(G17="確認済",G17="未確認"))),"必要な再数区分を確認",IF(AND(F17="必要",G17="確認済",NOT(IF(ISNUMBER(H17),AND(H17>=0,H17<=1000000,H17=INT(H17)),FALSE()))),"確認済再数は0〜100万個の整数で必須",IF(AND(F17="必要",G17="未確認",COUNTA(H17)>0),"未確認再数は空欄",IF(NOT(OR(I17="確認済",I17="未確認")),"時点照合を確認",IF(NOT(IF(ISNUMBER(J17),AND(J17>=43831,J17<=73050,J17=INT(J17)),FALSE())),"確認日は時刻なしで必須",IF(OR(J17<棚卸集計!$B$3,J17>棚卸集計!$E$3),"棚卸基準日≦確認日≦確認基準日","確認済み")))))))))))))))))),ISNUMBER(Q17),Q17=IF(P17="確認済み",0,1))),1,IF(Q17<>0,0,IF(AND(IF(ISTEXT(IF(OR(I17="未確認",D17="未確認",AND(F17="必要",G17="未確認")),"",IF(F17="必要",H17,E17))),ISTEXT(K17),ISNUMBER(K17)),K17=IF(OR(I17="未確認",D17="未確認",AND(F17="必要",G17="未確認")),"",IF(F17="必要",H17,E17)),IF(ISTEXT(IF(OR(B17="未確認",C17<0,NOT(ISNUMBER(K17))),"",K17-C17)),ISTEXT(L17),ISNUMBER(L17)),L17=IF(OR(B17="未確認",C17<0,NOT(ISNUMBER(K17))),"",K17-C17),IF(ISTEXT(IF(ISNUMBER(L17),MAX(-L17,0),"")),ISTEXT(M17),ISNUMBER(M17)),M17=IF(ISNUMBER(L17),MAX(-L17,0),""),IF(ISTEXT(IF(ISNUMBER(L17),MAX(L17,0),"")),ISTEXT(N17),ISNUMBER(N17)),N17=IF(ISNUMBER(L17),MAX(L17,0),""),ISTEXT(O17),O17=IF(I17="未確認","時点未確認",IF(D17="未確認","実棚未確認",IF(AND(F17="必要",G17="未確認"),"再数待ち",IF(B17="未確認","帳簿未確認",IF(C17<0,"帳簿負数",IF(L17=0,"一致","差異あり"))))))),0,1)))) -> 0
K18: =IF(P18="","",IF(Q18<>0,NA(),IF(OR(I18="未確認",D18="未確認",AND(F18="必要",G18="未確認")),"",IF(F18="必要",H18,E18)))) | L18: =IF(P18="","",IF(Q18<>0,NA(),IF(OR(B18="未確認",C18<0,NOT(ISNUMBER(K18))),"",K18-C18))) | M18: =IF(P18="","",IF(Q18<>0,NA(),IF(ISNUMBER(L18),MAX(-L18,0),""))) | N18: =IF(P18="","",IF(Q18<>0,NA(),IF(ISNUMBER(L18),MAX(L18,0),""))) | O18: =IF(P18="","",IF(Q18<>0,NA(),IF(I18="未確認","時点未確認",IF(D18="未確認","実棚未確認",IF(AND(F18="必要",G18="未確認"),"再数待ち",IF(B18="未確認","帳簿未確認",IF(C18<0,"帳簿負数",IF(L18=0,"一致","差異あり")))))))) | P18: =IF(COUNTA(A18:J18)=0,"",IF(NOT(AND(ISTEXT(A18),LEN(A18)=8,EXACT(LEFT(A18,4),"SKU-"),ISNUMBER(FIND(MID(A18,5,1)&"x","0x1x2x3x4x5x6x7x8x9x")),ISNUMBER(FIND(MID(A18,6,1)&"x","0x1x2x3x4x5x6x7x8x9x")),ISNUMBER(FIND(MID(A18,7,1)&"x","0x1x2x3x4x5x6x7x8x9x")),ISNUMBER(FIND(MID(A18,8,1)&"x","0x1x2x3x4x5x6x7x8x9x")))),"IDはSKU-と半角数字4桁",IF(COUNTIFS($A$8:$A$57,A18)>1,"品目IDが重複",IF(NOT(OR(B18="確認済",B18="未確認")),"帳簿区分を確認",IF(AND(B18="確認済",NOT(IF(ISNUMBER(C18),AND(C18>=-1000000,C18<=1000000,C18=INT(C18)),FALSE()))),"確認済帳簿は±100万個の整数で必須",IF(AND(B18="未確認",COUNTA(C18)>0),"未確認帳簿は空欄",IF(NOT(OR(D18="確認済",D18="未確認")),"初回区分を確認",IF(AND(D18="確認済",NOT(IF(ISNUMBER(E18),AND(E18>=0,E18<=1000000,E18=INT(E18)),FALSE()))),"確認済初回は0〜100万個の整数で必須",IF(AND(D18="未確認",COUNTA(E18)>0),"未確認初回は空欄",IF(NOT(OR(F18="不要",F18="必要")),"再数要否を確認",IF(AND(F18="必要",D18<>"確認済"),"再数には初回確認済みが必須",IF(AND(F18="不要",OR(G18<>"対象外",COUNTA(H18)>0)),"再数不要は対象外/数量空欄",IF(AND(F18="必要",NOT(OR(G18="確認済",G18="未確認"))),"必要な再数区分を確認",IF(AND(F18="必要",G18="確認済",NOT(IF(ISNUMBER(H18),AND(H18>=0,H18<=1000000,H18=INT(H18)),FALSE()))),"確認済再数は0〜100万個の整数で必須",IF(AND(F18="必要",G18="未確認",COUNTA(H18)>0),"未確認再数は空欄",IF(NOT(OR(I18="確認済",I18="未確認")),"時点照合を確認",IF(NOT(IF(ISNUMBER(J18),AND(J18>=43831,J18<=73050,J18=INT(J18)),FALSE())),"確認日は時刻なしで必須",IF(OR(J18<棚卸集計!$B$3,J18>棚卸集計!$E$3),"棚卸基準日≦確認日≦確認基準日","確認済み")))))))))))))))))) | Q18: =IF(P18="","",IF(P18="確認済み",0,1)) | R18: =IF(COUNTA(A18:J18)=0,IF(AND(P18="",Q18="",K18="",L18="",M18="",N18="",O18=""),0,1),IF(NOT(AND(ISTEXT(P18),P18=IF(COUNTA(A18:J18)=0,"",IF(NOT(AND(ISTEXT(A18),LEN(A18)=8,EXACT(LEFT(A18,4),"SKU-"),ISNUMBER(FIND(MID(A18,5,1)&"x","0x1x2x3x4x5x6x7x8x9x")),ISNUMBER(FIND(MID(A18,6,1)&"x","0x1x2x3x4x5x6x7x8x9x")),ISNUMBER(FIND(MID(A18,7,1)&"x","0x1x2x3x4x5x6x7x8x9x")),ISNUMBER(FIND(MID(A18,8,1)&"x","0x1x2x3x4x5x6x7x8x9x")))),"IDはSKU-と半角数字4桁",IF(COUNTIFS($A$8:$A$57,A18)>1,"品目IDが重複",IF(NOT(OR(B18="確認済",B18="未確認")),"帳簿区分を確認",IF(AND(B18="確認済",NOT(IF(ISNUMBER(C18),AND(C18>=-1000000,C18<=1000000,C18=INT(C18)),FALSE()))),"確認済帳簿は±100万個の整数で必須",IF(AND(B18="未確認",COUNTA(C18)>0),"未確認帳簿は空欄",IF(NOT(OR(D18="確認済",D18="未確認")),"初回区分を確認",IF(AND(D18="確認済",NOT(IF(ISNUMBER(E18),AND(E18>=0,E18<=1000000,E18=INT(E18)),FALSE()))),"確認済初回は0〜100万個の整数で必須",IF(AND(D18="未確認",COUNTA(E18)>0),"未確認初回は空欄",IF(NOT(OR(F18="不要",F18="必要")),"再数要否を確認",IF(AND(F18="必要",D18<>"確認済"),"再数には初回確認済みが必須",IF(AND(F18="不要",OR(G18<>"対象外",COUNTA(H18)>0)),"再数不要は対象外/数量空欄",IF(AND(F18="必要",NOT(OR(G18="確認済",G18="未確認"))),"必要な再数区分を確認",IF(AND(F18="必要",G18="確認済",NOT(IF(ISNUMBER(H18),AND(H18>=0,H18<=1000000,H18=INT(H18)),FALSE()))),"確認済再数は0〜100万個の整数で必須",IF(AND(F18="必要",G18="未確認",COUNTA(H18)>0),"未確認再数は空欄",IF(NOT(OR(I18="確認済",I18="未確認")),"時点照合を確認",IF(NOT(IF(ISNUMBER(J18),AND(J18>=43831,J18<=73050,J18=INT(J18)),FALSE())),"確認日は時刻なしで必須",IF(OR(J18<棚卸集計!$B$3,J18>棚卸集計!$E$3),"棚卸基準日≦確認日≦確認基準日","確認済み")))))))))))))))))),ISNUMBER(Q18),Q18=IF(P18="確認済み",0,1))),1,IF(Q18<>0,0,IF(AND(IF(ISTEXT(IF(OR(I18="未確認",D18="未確認",AND(F18="必要",G18="未確認")),"",IF(F18="必要",H18,E18))),ISTEXT(K18),ISNUMBER(K18)),K18=IF(OR(I18="未確認",D18="未確認",AND(F18="必要",G18="未確認")),"",IF(F18="必要",H18,E18)),IF(ISTEXT(IF(OR(B18="未確認",C18<0,NOT(ISNUMBER(K18))),"",K18-C18)),ISTEXT(L18),ISNUMBER(L18)),L18=IF(OR(B18="未確認",C18<0,NOT(ISNUMBER(K18))),"",K18-C18),IF(ISTEXT(IF(ISNUMBER(L18),MAX(-L18,0),"")),ISTEXT(M18),ISNUMBER(M18)),M18=IF(ISNUMBER(L18),MAX(-L18,0),""),IF(ISTEXT(IF(ISNUMBER(L18),MAX(L18,0),"")),ISTEXT(N18),ISNUMBER(N18)),N18=IF(ISNUMBER(L18),MAX(L18,0),""),ISTEXT(O18),O18=IF(I18="未確認","時点未確認",IF(D18="未確認","実棚未確認",IF(AND(F18="必要",G18="未確認"),"再数待ち",IF(B18="未確認","帳簿未確認",IF(C18<0,"帳簿負数",IF(L18=0,"一致","差異あり"))))))),0,1)))) -> 0
