Workbook

Sheet 棚卸集計
A2: 棚卸の照合結果 | K2: 日付の前提 | L2: 入力の前提
A3: 棚卸基準日 | B3: 46326 | D3: 記録確認基準日 | E3: 46331 | H3: =IF(L3=0,"入力不備なし","入力を確認") -> 入力不備なし | K3: =IF(AND(IF(ISNUMBER(B3),AND(B3>=43831,B3<=73050,B3=INT(B3)),FALSE()),IF(ISNUMBER(E3),AND(E3>=43831,E3<=73050,E3=INT(E3)),FALSE()),B3<=E3),0,1) -> 0 | L3: =IF(AND(ISNUMBER(K3),K3=IF(AND(IF(ISNUMBER(B3),AND(B3>=43831,B3<=73050,B3=INT(B3)),FALSE()),IF(ISNUMBER(E3),AND(E3>=43831,E3<=73050,E3=INT(E3)),FALSE()),B3<=E3),0,1)),K3,1)+SUM(数量記録!Q8:R57)+IF(COUNT(数量記録!R8:R57)=50,0,1) -> 0
A4: 同じ基準時点・単一場所・整数個。差異は採用実棚−帳簿。調整・承認・仕訳は別手順。
A5: 登録品目（件） | B5: =IF($L$3<>0,NA(),COUNTIFS(数量記録!P8:P57,"確認済み")) -> 9 | D5: 比較済（件） | E5: =IF($L$3<>0,NA(),COUNT(数量記録!L8:L57)) -> 4 | G5: 一致（件） | H5: =IF($L$3<>0,NA(),COUNTIFS(数量記録!O8:O57,"一致")) -> 2
A6: 差異あり（件） | B6: =IF($L$3<>0,NA(),COUNTIFS(数量記録!O8:O57,"差異あり")) -> 2 | D6: 比較済の不足（個） | E6: =IF($L$3<>0,NA(),SUM(数量記録!M8:M57)) -> 2 | G6: 比較済の過剰（個） | H6: =IF($L$3<>0,NA(),SUM(数量記録!N8:N57)) -> 4
A7: 比較保留（件） | B7: =IF($L$3<>0,NA(),B5-E5) -> 5 | D7: 比較済の差引（個） | E7: =IF($L$3<>0,NA(),IF(E5=0,"対象なし",SUM(数量記録!L8:L57))) -> 2 | G7: 全品目の差引（個） | H7: =IF($L$3<>0,NA(),IF(B5=0,"対象なし",IF(B7>0,"判定保留",E7))) -> 判定保留
A8: 数量記録の黄色欄を編集。再数待ちは初回値を残し保留。未確認を0個へ埋めません。
A9: 品目ID | B9: 帳簿（個） | C9: 初回実棚（個） | D9: 再数（個） | E9: 採用実棚（個） | F9: 差異（個） | G9: 不足（個） | H9: 過剰（個） | I9: 判定
A10: =IF($L$3<>0,NA(),IF(COUNTA(数量記録!A8:J8)=0,"",数量記録!A8)) -> SKU-0001 | B10: =IF($L$3<>0,NA(),IF(COUNTA(数量記録!A8:J8)=0,"",IF(COUNTA(数量記録!C8)=0,"",数量記録!C8))) -> 100 | C10: =IF($L$3<>0,NA(),IF(COUNTA(数量記録!A8:J8)=0,"",IF(COUNTA(数量記録!E8)=0,"",数量記録!E8))) -> 98 | D10: =IF($L$3<>0,NA(),IF(COUNTA(数量記録!A8:J8)=0,"",IF(COUNTA(数量記録!H8)=0,"",数量記録!H8))) | E10: =IF($L$3<>0,NA(),IF(COUNTA(数量記録!A8:J8)=0,"",数量記録!K8)) -> 98 | F10: =IF($L$3<>0,NA(),IF(COUNTA(数量記録!A8:J8)=0,"",数量記録!L8)) -> -2 | G10: =IF($L$3<>0,NA(),IF(COUNTA(数量記録!A8:J8)=0,"",数量記録!M8)) -> 2 | H10: =IF($L$3<>0,NA(),IF(COUNTA(数量記録!A8:J8)=0,"",数量記録!N8)) -> 0 | I10: =IF($L$3<>0,NA(),IF(COUNTA(数量記録!A8:J8)=0,"",数量記録!O8)) -> 差異あり
A11: =IF($L$3<>0,NA(),IF(COUNTA(数量記録!A9:J9)=0,"",数量記録!A9)) -> SKU-0002 | B11: =IF($L$3<>0,NA(),IF(COUNTA(数量記録!A9:J9)=0,"",IF(COUNTA(数量記録!C9)=0,"",数量記録!C9))) -> 50 | C11: =IF($L$3<>0,NA(),IF(COUNTA(数量記録!A9:J9)=0,"",IF(COUNTA(数量記録!E9)=0,"",数量記録!E9))) -> 53 | D11: =IF($L$3<>0,NA(),IF(COUNTA(数量記録!A9:J9)=0,"",IF(COUNTA(数量記録!H9)=0,"",数量記録!H9))) -> 50 | E11: =IF($L$3<>0,NA(),IF(COUNTA(数量記録!A9:J9)=0,"",数量記録!K9)) -> 50 | F11: =IF($L$3<>0,NA(),IF(COUNTA(数量記録!A9:J9)=0,"",数量記録!L9)) -> 0 | G11: =IF($L$3<>0,NA(),IF(COUNTA(数量記録!A9:J9)=0,"",数量記録!M9)) -> 0 | H11: =IF($L$3<>0,NA(),IF(COUNTA(数量記録!A9:J9)=0,"",数量記録!N9)) -> 0 | I11: =IF($L$3<>0,NA(),IF(COUNTA(数量記録!A9:J9)=0,"",数量記録!O9)) -> 一致
A12: =IF($L$3<>0,NA(),IF(COUNTA(数量記録!A10:J10)=0,"",数量記録!A10)) -> SKU-0003 | B12: =IF($L$3<>0,NA(),IF(COUNTA(数量記録!A10:J10)=0,"",IF(COUNTA(数量記録!C10)=0,"",数量記録!C10))) -> 0 | C12: =IF($L$3<>0,NA(),IF(COUNTA(数量記録!A10:J10)=0,"",IF(COUNTA(数量記録!E10)=0,"",数量記録!E10))) -> 0 | D12: =IF($L$3<>0,NA(),IF(COUNTA(数量記録!A10:J10)=0,"",IF(COUNTA(数量記録!H10)=0,"",数量記録!H10))) | E12: =IF($L$3<>0,NA(),IF(COUNTA(数量記録!A10:J10)=0,"",数量記録!K10)) -> 0 | F12: =IF($L$3<>0,NA(),IF(COUNTA(数量記録!A10:J10)=0,"",数量記録!L10)) -> 0 | G12: =IF($L$3<>0,NA(),IF(COUNTA(数量記録!A10:J10)=0,"",数量記録!M10)) -> 0 | H12: =IF($L$3<>0,NA(),IF(COUNTA(数量記録!A10:J10)=0,"",数量記録!N10)) -> 0 | I12: =IF($L$3<>0,NA(),IF(COUNTA(数量記録!A10:J10)=0,"",数量記録!O10)) -> 一致
A13: =IF($L$3<>0,NA(),IF(COUNTA(数量記録!A11:J11)=0,"",数量記録!A11)) -> SKU-0004 | B13: =IF($L$3<>0,NA(),IF(COUNTA(数量記録!A11:J11)=0,"",IF(COUNTA(数量記録!C11)=0,"",数量記録!C11))) | C13: =IF($L$3<>0,NA(),IF(COUNTA(数量記録!A11:J11)=0,"",IF(COUNTA(数量記録!E11)=0,"",数量記録!E11))) -> 10 | D13: =IF($L$3<>0,NA(),IF(COUNTA(数量記録!A11:J11)=0,"",IF(COUNTA(数量記録!H11)=0,"",数量記録!H11))) | E13: =IF($L$3<>0,NA(),IF(COUNTA(数量記録!A11:J11)=0,"",数量記録!K11)) -> 10 | F13: =IF($L$3<>0,NA(),IF(COUNTA(数量記録!A11:J11)=0,"",数量記録!L11)) | G13: =IF($L$3<>0,NA(),IF(COUNTA(数量記録!A11:J11)=0,"",数量記録!M11)) | H13: =IF($L$3<>0,NA(),IF(COUNTA(数量記録!A11:J11)=0,"",数量記録!N11)) | I13: =IF($L$3<>0,NA(),IF(COUNTA(数量記録!A11:J11)=0,"",数量記録!O11)) -> 帳簿未確認
A14: =IF($L$3<>0,NA(),IF(COUNTA(数量記録!A12:J12)=0,"",数量記録!A12)) -> SKU-0005 | B14: =IF($L$3<>0,NA(),IF(COUNTA(数量記録!A12:J12)=0,"",IF(COUNTA(数量記録!C12)=0,"",数量記録!C12))) -> 20 | C14: =IF($L$3<>0,NA(),IF(COUNTA(数量記録!A12:J12)=0,"",IF(COUNTA(数量記録!E12)=0,"",数量記録!E12))) | D14: =IF($L$3<>0,NA(),IF(COUNTA(数量記録!A12:J12)=0,"",IF(COUNTA(数量記録!H12)=0,"",数量記録!H12))) | E14: =IF($L$3<>0,NA(),IF(COUNTA(数量記録!A12:J12)=0,"",数量記録!K12)) | F14: =IF($L$3<>0,NA(),IF(COUNTA(数量記録!A12:J12)=0,"",数量記録!L12)) | G14: =IF($L$3<>0,NA(),IF(COUNTA(数量記録!A12:J12)=0,"",数量記録!M12)) | H14: =IF($L$3<>0,NA(),IF(COUNTA(数量記録!A12:J12)=0,"",数量記録!N12)) | I14: =IF($L$3<>0,NA(),IF(COUNTA(数量記録!A12:J12)=0,"",数量記録!O12)) -> 実棚未確認
A15: =IF($L$3<>0,NA(),IF(COUNTA(数量記録!A13:J13)=0,"",数量記録!A13)) -> SKU-0006 | B15: =IF($L$3<>0,NA(),IF(COUNTA(数量記録!A13:J13)=0,"",IF(COUNTA(数量記録!C13)=0,"",数量記録!C13))) -> 30 | C15: =IF($L$3<>0,NA(),IF(COUNTA(数量記録!A13:J13)=0,"",IF(COUNTA(数量記録!E13)=0,"",数量記録!E13))) -> 28 | D15: =IF($L$3<>0,NA(),IF(COUNTA(数量記録!A13:J13)=0,"",IF(COUNTA(数量記録!H13)=0,"",数量記録!H13))) | E15: =IF($L$3<>0,NA(),IF(COUNTA(数量記録!A13:J13)=0,"",数量記録!K13)) | F15: =IF($L$3<>0,NA(),IF(COUNTA(数量記録!A13:J13)=0,"",数量記録!L13)) | G15: =IF($L$3<>0,NA(),IF(COUNTA(数量記録!A13:J13)=0,"",数量記録!M13)) | H15: =IF($L$3<>0,NA(),IF(COUNTA(数量記録!A13:J13)=0,"",数量記録!N13)) | I15: =IF($L$3<>0,NA(),IF(COUNTA(数量記録!A13:J13)=0,"",数量記録!O13)) -> 再数待ち
A16: =IF($L$3<>0,NA(),IF(COUNTA(数量記録!A14:J14)=0,"",数量記録!A14)) -> SKU-0007 | B16: =IF($L$3<>0,NA(),IF(COUNTA(数量記録!A14:J14)=0,"",IF(COUNTA(数量記録!C14)=0,"",数量記録!C14))) -> -5 | C16: =IF($L$3<>0,NA(),IF(COUNTA(数量記録!A14:J14)=0,"",IF(COUNTA(数量記録!E14)=0,"",数量記録!E14))) -> 0 | D16: =IF($L$3<>0,NA(),IF(COUNTA(数量記録!A14:J14)=0,"",IF(COUNTA(数量記録!H14)=0,"",数量記録!H14))) | E16: =IF($L$3<>0,NA(),IF(COUNTA(数量記録!A14:J14)=0,"",数量記録!K14)) -> 0 | F16: =IF($L$3<>0,NA(),IF(COUNTA(数量記録!A14:J14)=0,"",数量記録!L14)) | G16: =IF($L$3<>0,NA(),IF(COUNTA(数量記録!A14:J14)=0,"",数量記録!M14)) | H16: =IF($L$3<>0,NA(),IF(COUNTA(数量記録!A14:J14)=0,"",数量記録!N14)) | I16: =IF($L$3<>0,NA(),IF(COUNTA(数量記録!A14:J14)=0,"",数量記録!O14)) -> 帳簿負数
A17: =IF($L$3<>0,NA(),IF(COUNTA(数量記録!A15:J15)=0,"",数量記録!A15)) -> SKU-0008 | B17: =IF($L$3<>0,NA(),IF(COUNTA(数量記録!A15:J15)=0,"",IF(COUNTA(数量記録!C15)=0,"",数量記録!C15))) -> 10 | C17: =IF($L$3<>0,NA(),IF(COUNTA(数量記録!A15:J15)=0,"",IF(COUNTA(数量記録!E15)=0,"",数量記録!E15))) -> 12 | D17: =IF($L$3<>0,NA(),IF(COUNTA(数量記録!A15:J15)=0,"",IF(COUNTA(数量記録!H15)=0,"",数量記録!H15))) | E17: =IF($L$3<>0,NA(),IF(COUNTA(数量記録!A15:J15)=0,"",数量記録!K15)) | F17: =IF($L$3<>0,NA(),IF(COUNTA(数量記録!A15:J15)=0,"",数量記録!L15)) | G17: =IF($L$3<>0,NA(),IF(COUNTA(数量記録!A15:J15)=0,"",数量記録!M15)) | H17: =IF($L$3<>0,NA(),IF(COUNTA(数量記録!A15:J15)=0,"",数量記録!N15)) | I17: =IF($L$3<>0,NA(),IF(COUNTA(数量記録!A15:J15)=0,"",数量記録!O15)) -> 時点未確認
A18: =IF($L$3<>0,NA(),IF(COUNTA(数量記録!A16:J16)=0,"",数量記録!A16)) -> SKU-0009 | B18: =IF($L$3<>0,NA(),IF(COUNTA(数量記録!A16:J16)=0,"",IF(COUNTA(数量記録!C16)=0,"",数量記録!C16))) -> 10 | C18: =IF($L$3<>0,NA(),IF(COUNTA(数量記録!A16:J16)=0,"",IF(COUNTA(数量記録!E16)=0,"",数量記録!E16))) -> 13 | D18: =IF($L$3<>0,NA(),IF(COUNTA(数量記録!A16:J16)=0,"",IF(COUNTA(数量記録!H16)=0,"",数量記録!H16))) -> 14 | E18: =IF($L$3<>0,NA(),IF(COUNTA(数量記録!A16:J16)=0,"",数量記録!K16)) -> 14 | F18: =IF($L$3<>0,NA(),IF(COUNTA(数量記録!A16:J16)=0,"",数量記録!L16)) -> 4 | G18: =IF($L$3<>0,NA(),IF(COUNTA(数量記録!A16:J16)=0,"",数量記録!M16)) -> 0 | H18: =IF($L$3<>0,NA(),IF(COUNTA(数量記録!A16:J16)=0,"",数量記録!N16)) -> 4 | I18: =IF($L$3<>0,NA(),IF(COUNTA(数量記録!A16:J16)=0,"",数量記録!O16)) -> 差異あり
A19: =IF($L$3<>0,NA(),IF(COUNTA(数量記録!A17:J17)=0,"",数量記録!A17)) | B19: =IF($L$3<>0,NA(),IF(COUNTA(数量記録!A17:J17)=0,"",IF(COUNTA(数量記録!C17)=0,"",数量記録!C17))) | C19: =IF($L$3<>0,NA(),IF(COUNTA(数量記録!A17:J17)=0,"",IF(COUNTA(数量記録!E17)=0,"",数量記録!E17))) | D19: =IF($L$3<>0,NA(),IF(COUNTA(数量記録!A17:J17)=0,"",IF(COUNTA(数量記録!H17)=0,"",数量記録!H17))) | E19: =IF($L$3<>0,NA(),IF(COUNTA(数量記録!A17:J17)=0,"",数量記録!K17)) | F19: =IF($L$3<>0,NA(),IF(COUNTA(数量記録!A17:J17)=0,"",数量記録!L17)) | G19: =IF($L$3<>0,NA(),IF(COUNTA(数量記録!A17:J17)=0,"",数量記録!M17)) | H19: =IF($L$3<>0,NA(),IF(COUNTA(数量記録!A17:J17)=0,"",数量記録!N17)) | I19: =IF($L$3<>0,NA(),IF(COUNTA(数量記録!A17:J17)=0,"",数量記録!O17))
A20: =IF($L$3<>0,NA(),IF(COUNTA(数量記録!A18:J18)=0,"",数量記録!A18)) | B20: =IF($L$3<>0,NA(),IF(COUNTA(数量記録!A18:J18)=0,"",IF(COUNTA(数量記録!C18)=0,"",数量記録!C18))) | C20: =IF($L$3<>0,NA(),IF(COUNTA(数量記録!A18:J18)=0,"",IF(COUNTA(数量記録!E18)=0,"",数量記録!E18))) | D20: =IF($L$3<>0,NA(),IF(COUNTA(数量記録!A18:J18)=0,"",IF(COUNTA(数量記録!H18)=0,"",数量記録!H18))) | E20: =IF($L$3<>0,NA(),IF(COUNTA(数量記録!A18:J18)=0,"",数量記録!K18)) | F20: =IF($L$3<>0,NA(),IF(COUNTA(数量記録!A18:J18)=0,"",数量記録!L18)) | G20: =IF($L$3<>0,NA(),IF(COUNTA(数量記録!A18:J18)=0,"",数量記録!M18)) | H20: =IF($L$3<>0,NA(),IF(COUNTA(数量記録!A18:J18)=0,"",数量記録!N18)) | I20: =IF($L$3<>0,NA(),IF(COUNTA(数量記録!A18:J18)=0,"",数量記録!O18))
A21: =IF($L$3<>0,NA(),IF(COUNTA(数量記録!A19:J19)=0,"",数量記録!A19)) | B21: =IF($L$3<>0,NA(),IF(COUNTA(数量記録!A19:J19)=0,"",IF(COUNTA(数量記録!C19)=0,"",数量記録!C19))) | C21: =IF($L$3<>0,NA(),IF(COUNTA(数量記録!A19:J19)=0,"",IF(COUNTA(数量記録!E19)=0,"",数量記録!E19))) | D21: =IF($L$3<>0,NA(),IF(COUNTA(数量記録!A19:J19)=0,"",IF(COUNTA(数量記録!H19)=0,"",数量記録!H19))) | E21: =IF($L$3<>0,NA(),IF(COUNTA(数量記録!A19:J19)=0,"",数量記録!K19)) | F21: =IF($L$3<>0,NA(),IF(COUNTA(数量記録!A19:J19)=0,"",数量記録!L19)) | G21: =IF($L$3<>0,NA(),IF(COUNTA(数量記録!A19:J19)=0,"",数量記録!M19)) | H21: =IF($L$3<>0,NA(),IF(COUNTA(数量記録!A19:J19)=0,"",数量記録!N19)) | I21: =IF($L$3<>0,NA(),IF(COUNTA(数量記録!A19:J19)=0,"",数量記録!O19))
... A59: =IF($L$3<>0,NA(),IF(COUNTA(数量記録!A57:J57)=0,"",数量記録!A57)) | B59: =IF($L$3<>0,NA(),IF(COUNTA(数量記録!A57:J57)=0,"",IF(COUNTA(数量記録!C57)=0,"",数量記録!C57))) | C59: =IF($L$3<>0,NA(),IF(COUNTA(数量記録!A57:J57)=0,"",IF(COUNTA(数量記録!E57)=0,"",数量記録!E57))) | D59: =IF($L$3<>0,NA(),IF(COUNTA(数量記録!A57:J57)=0,"",IF(COUNTA(数量記録!H57)=0,"",数量記録!H57))) | E59: =IF($L$3<>0,NA(),IF(COUNTA(数量記録!A57:J57)=0,"",数量記録!K57)) | F59: =IF($L$3<>0,NA(),IF(COUNTA(数量記録!A57:J57)=0,"",数量記録!L57)) | G59: =IF($L$3<>0,NA(),IF(COUNTA(数量記録!A57:J57)=0,"",数量記録!M57)) | H59: =IF($L$3<>0,NA(),IF(COUNTA(数量記録!A57:J57)=0,"",数量記録!N57)) | I59: =IF($L$3<>0,NA(),IF(COUNTA(数量記録!A57:J57)=0,"",数量記録!O57))

Sheet 数え取り用紙
A2: 数量を数えて記録する
A3: 棚卸基準日 | B3: =棚卸集計!B3 -> 46326
A4: 数量欄は印刷後に記入。0個も0と記入し、空欄は未確認。帳簿数量は載せていません。
A5: 用紙番号・場所・担当・時点の根拠は別途管理。記入後は「数量記録」へ転記し原本照合。
A7: 品目ID | B7: 初回実棚（個） | C7: 再数（個） | D7: 確認メモ
A8: =IF(棚卸集計!$L$3<>0,NA(),IF(COUNTA(数量記録!A8:J8)=0,"",数量記録!A8)) -> SKU-0001
A9: =IF(棚卸集計!$L$3<>0,NA(),IF(COUNTA(数量記録!A9:J9)=0,"",数量記録!A9)) -> SKU-0002
A10: =IF(棚卸集計!$L$3<>0,NA(),IF(COUNTA(数量記録!A10:J10)=0,"",数量記録!A10)) -> SKU-0003
A11: =IF(棚卸集計!$L$3<>0,NA(),IF(COUNTA(数量記録!A11:J11)=0,"",数量記録!A11)) -> SKU-0004
A12: =IF(棚卸集計!$L$3<>0,NA(),IF(COUNTA(数量記録!A12:J12)=0,"",数量記録!A12)) -> SKU-0005
A13: =IF(棚卸集計!$L$3<>0,NA(),IF(COUNTA(数量記録!A13:J13)=0,"",数量記録!A13)) -> SKU-0006
A14: =IF(棚卸集計!$L$3<>0,NA(),IF(COUNTA(数量記録!A14:J14)=0,"",数量記録!A14)) -> SKU-0007
A15: =IF(棚卸集計!$L$3<>0,NA(),IF(COUNTA(数量記録!A15:J15)=0,"",数量記録!A15)) -> SKU-0008
A16: =IF(棚卸集計!$L$3<>0,NA(),IF(COUNTA(数量記録!A16:J16)=0,"",数量記録!A16)) -> SKU-0009
A17: =IF(棚卸集計!$L$3<>0,NA(),IF(COUNTA(数量記録!A17:J17)=0,"",数量記録!A17))
A18: =IF(棚卸集計!$L$3<>0,NA(),IF(COUNTA(数量記録!A18:J18)=0,"",数量記録!A18))
A19: =IF(棚卸集計!$L$3<>0,NA(),IF(COUNTA(数量記録!A19:J19)=0,"",数量記録!A19))
... A57: =IF(棚卸集計!$L$3<>0,NA(),IF(COUNTA(数量記録!A57:J57)=0,"",数量記録!A57))

Sheet 数量記録
A2: 初回と再数の記録
A3: 黄色A〜Jへ50品目。1行1品目。同じ基準時点の数量と確認根拠をそろえます。
A5: 再数不要は対象外/数量空欄。再数必要は初回確認済みが必須、再数未確認なら採用と差異を保留。
A7: 品目ID | B7: 帳簿区分 | C7: 帳簿（個） | D7: 初回区分 | E7: 初回実棚（個） | F7: 再数要否 | G7: 再数区分 | H7: 再数（個） | I7: 時点照合 | J7: 記録確認日 | K7: 採用実棚（個） | L7: 差異（個） | M7: 不足（個） | N7: 過剰（個） | O7: 判定 | P7: 入力の確認 | Q7: 入力不備 | R7: 計算の前提
A8: SKU-0001 | B8: 確認済 | C8: 100 | D8: 確認済 | E8: 98 | F8: 不要 | G8: 対象外 | I8: 確認済 | J8: 46327 | K8: =IF(P8="","",IF(Q8<>0,NA(),IF(OR(I8="未確認",D8="未確認",AND(F8="必要",G8="未確認")),"",IF(F8="必要",H8,E8)))) -> 98 | L8: =IF(P8="","",IF(Q8<>0,NA(),IF(OR(B8="未確認",C8<0,NOT(ISNUMBER(K8))),"",K8-C8))) -> -2 | M8: =IF(P8="","",IF(Q8<>0,NA(),IF(ISNUMBER(L8),MAX(-L8,0),""))) -> 2 | N8: =IF(P8="","",IF(Q8<>0,NA(),IF(ISNUMBER(L8),MAX(L8,0),""))) -> 0 | O8: =IF(P8="","",IF(Q8<>0,NA(),IF(I8="未確認","時点未確認",IF(D8="未確認","実棚未確認",IF(AND(F8="必要",G8="未確認"),"再数待ち",IF(B8="未確認","帳簿未確認",IF(C8<0,"帳簿負数",IF(L8=0,"一致","差異あり")))))))) -> 差異あり | P8: =IF(COUNTA(A8:J8)=0,"",IF(NOT(AND(ISTEXT(A8),LEN(A8)=8,EXACT(LEFT(A8,4),"SKU-"),ISNUMBER(FIND(MID(A8,5,1)&"x","0x1x2x3x4x5x6x7x8x9x")),ISNUMBER(FIND(MID(A8,6,1)&"x","0x1x2x3x4x5x6x7x8x9x")),ISNUMBER(FIND(MID(A8,7,1)&"x","0x1x2x3x4x5x6x7x8x9x")),ISNUMBER(FIND(MID(A8,8,1)&"x","0x1x2x3x4x5x6x7x8x9x")))),"IDはSKU-と半角数字4桁",IF(COUNTIFS($A$8:$A$57,A8)>1,"品目IDが重複",IF(NOT(OR(B8="確認済",B8="未確認")),"帳簿区分を確認",IF(AND(B8="確認済",NOT(IF(ISNUMBER(C8),AND(C8>=-1000000,C8<=1000000,C8=INT(C8)),FALSE()))),"確認済帳簿は±100万個の整数で必須",IF(AND(B8="未確認",COUNTA(C8)>0),"未確認帳簿は空欄",IF(NOT(OR(D8="確認済",D8="未確認")),"初回区分を確認",IF(AND(D8="確認済",NOT(IF(ISNUMBER(E8),AND(E8>=0,E8<=1000000,E8=INT(E8)),FALSE()))),"確認済初回は0〜100万個の整数で必須",IF(AND(D8="未確認",COUNTA(E8)>0),"未確認初回は空欄",IF(NOT(OR(F8="不要",F8="必要")),"再数要否を確認",IF(AND(F8="必要",D8<>"確認済"),"再数には初回確認済みが必須",IF(AND(F8="不要",OR(G8<>"対象外",COUNTA(H8)>0)),"再数不要は対象外/数量空欄",IF(AND(F8="必要",NOT(OR(G8="確認済",G8="未確認"))),"必要な再数区分を確認",IF(AND(F8="必要",G8="確認済",NOT(IF(ISNUMBER(H8),AND(H8>=0,H8<=1000000,H8=INT(H8)),FALSE()))),"確認済再数は0〜100万個の整数で必須",IF(AND(F8="必要",G8="未確認",COUNTA(H8)>0),"未確認再数は空欄",IF(NOT(OR(I8="確認済",I8="未確認")),"時点照合を確認",IF(NOT(IF(ISNUMBER(J8),AND(J8>=43831,J8<=73050,J8=INT(J8)),FALSE())),"確認日は時刻なしで必須",IF(OR(J8<棚卸集計!$B$3,J8>棚卸集計!$E$3),"棚卸基準日≦確認日≦確認基準日","確認済み")))))))))))))))))) -> 確認済み | Q8: =IF(P8="","",IF(P8="確認済み",0,1)) -> 0 | R8: =IF(COUNTA(A8:J8)=0,IF(AND(P8="",Q8="",K8="",L8="",M8="",N8="",O8=""),0,1),IF(NOT(AND(ISTEXT(P8),P8=IF(COUNTA(A8:J8)=0,"",IF(NOT(AND(ISTEXT(A8),LEN(A8)=8,EXACT(LEFT(A8,4),"SKU-"),ISNUMBER(FIND(MID(A8,5,1)&"x","0x1x2x3x4x5x6x7x8x9x")),ISNUMBER(FIND(MID(A8,6,1)&"x","0x1x2x3x4x5x6x7x8x9x")),ISNUMBER(FIND(MID(A8,7,1)&"x","0x1x2x3x4x5x6x7x8x9x")),ISNUMBER(FIND(MID(A8,8,1)&"x","0x1x2x3x4x5x6x7x8x9x")))),"IDはSKU-と半角数字4桁",IF(COUNTIFS($A$8:$A$57,A8)>1,"品目IDが重複",IF(NOT(OR(B8="確認済",B8="未確認")),"帳簿区分を確認",IF(AND(B8="確認済",NOT(IF(ISNUMBER(C8),AND(C8>=-1000000,C8<=1000000,C8=INT(C8)),FALSE()))),"確認済帳簿は±100万個の整数で必須",IF(AND(B8="未確認",COUNTA(C8)>0),"未確認帳簿は空欄",IF(NOT(OR(D8="確認済",D8="未確認")),"初回区分を確認",IF(AND(D8="確認済",NOT(IF(ISNUMBER(E8),AND(E8>=0,E8<=1000000,E8=INT(E8)),FALSE()))),"確認済初回は0〜100万個の整数で必須",IF(AND(D8="未確認",COUNTA(E8)>0),"未確認初回は空欄",IF(NOT(OR(F8="不要",F8="必要")),"再数要否を確認",IF(AND(F8="必要",D8<>"確認済"),"再数には初回確認済みが必須",IF(AND(F8="不要",OR(G8<>"対象外",COUNTA(H8)>0)),"再数不要は対象外/数量空欄",IF(AND(F8="必要",NOT(OR(G8="確認済",G8="未確認"))),"必要な再数区分を確認",IF(AND(F8="必要",G8="確認済",NOT(IF(ISNUMBER(H8),AND(H8>=0,H8<=1000000,H8=INT(H8)),FALSE()))),"確認済再数は0〜100万個の整数で必須",IF(AND(F8="必要",G8="未確認",COUNTA(H8)>0),"未確認再数は空欄",IF(NOT(OR(I8="確認済",I8="未確認")),"時点照合を確認",IF(NOT(IF(ISNUMBER(J8),AND(J8>=43831,J8<=73050,J8=INT(J8)),FALSE())),"確認日は時刻なしで必須",IF(OR(J8<棚卸集計!$B$3,J8>棚卸集計!$E$3),"棚卸基準日≦確認日≦確認基準日","確認済み")))))))))))))))))),ISNUMBER(Q8),Q8=IF(P8="確認済み",0,1))),1,IF(Q8<>0,0,IF(AND(IF(ISTEXT(IF(OR(I8="未確認",D8="未確認",AND(F8="必要",G8="未確認")),"",IF(F8="必要",H8,E8))),ISTEXT(K8),ISNUMBER(K8)),K8=IF(OR(I8="未確認",D8="未確認",AND(F8="必要",G8="未確認")),"",IF(F8="必要",H8,E8)),IF(ISTEXT(IF(OR(B8="未確認",C8<0,NOT(ISNUMBER(K8))),"",K8-C8)),ISTEXT(L8),ISNUMBER(L8)),L8=IF(OR(B8="未確認",C8<0,NOT(ISNUMBER(K8))),"",K8-C8),IF(ISTEXT(IF(ISNUMBER(L8),MAX(-L8,0),"")),ISTEXT(M8),ISNUMBER(M8)),M8=IF(ISNUMBER(L8),MAX(-L8,0),""),IF(ISTEXT(IF(ISNUMBER(L8),MAX(L8,0),"")),ISTEXT(N8),ISNUMBER(N8)),N8=IF(ISNUMBER(L8),MAX(L8,0),""),ISTEXT(O8),O8=IF(I8="未確認","時点未確認",IF(D8="未確認","実棚未確認",IF(AND(F8="必要",G8="未確認"),"再数待ち",IF(B8="未確認","帳簿未確認",IF(C8<0,"帳簿負数",IF(L8=0,"一致","差異あり"))))))),0,1)))) -> 0
A9: SKU-0002 | B9: 確認済 | C9: 50 | D9: 確認済 | E9: 53 | F9: 必要 | G9: 確認済 | H9: 50 | I9: 確認済 | J9: 46327 | K9: =IF(P9="","",IF(Q9<>0,NA(),IF(OR(I9="未確認",D9="未確認",AND(F9="必要",G9="未確認")),"",IF(F9="必要",H9,E9)))) -> 50 | L9: =IF(P9="","",IF(Q9<>0,NA(),IF(OR(B9="未確認",C9<0,NOT(ISNUMBER(K9))),"",K9-C9))) -> 0 | M9: =IF(P9="","",IF(Q9<>0,NA(),IF(ISNUMBER(L9),MAX(-L9,0),""))) -> 0 | N9: =IF(P9="","",IF(Q9<>0,NA(),IF(ISNUMBER(L9),MAX(L9,0),""))) -> 0 | O9: =IF(P9="","",IF(Q9<>0,NA(),IF(I9="未確認","時点未確認",IF(D9="未確認","実棚未確認",IF(AND(F9="必要",G9="未確認"),"再数待ち",IF(B9="未確認","帳簿未確認",IF(C9<0,"帳簿負数",IF(L9=0,"一致","差異あり")))))))) -> 一致 | P9: =IF(COUNTA(A9:J9)=0,"",IF(NOT(AND(ISTEXT(A9),LEN(A9)=8,EXACT(LEFT(A9,4),"SKU-"),ISNUMBER(FIND(MID(A9,5,1)&"x","0x1x2x3x4x5x6x7x8x9x")),ISNUMBER(FIND(MID(A9,6,1)&"x","0x1x2x3x4x5x6x7x8x9x")),ISNUMBER(FIND(MID(A9,7,1)&"x","0x1x2x3x4x5x6x7x8x9x")),ISNUMBER(FIND(MID(A9,8,1)&"x","0x1x2x3x4x5x6x7x8x9x")))),"IDはSKU-と半角数字4桁",IF(COUNTIFS($A$8:$A$57,A9)>1,"品目IDが重複",IF(NOT(OR(B9="確認済",B9="未確認")),"帳簿区分を確認",IF(AND(B9="確認済",NOT(IF(ISNUMBER(C9),AND(C9>=-1000000,C9<=1000000,C9=INT(C9)),FALSE()))),"確認済帳簿は±100万個の整数で必須",IF(AND(B9="未確認",COUNTA(C9)>0),"未確認帳簿は空欄",IF(NOT(OR(D9="確認済",D9="未確認")),"初回区分を確認",IF(AND(D9="確認済",NOT(IF(ISNUMBER(E9),AND(E9>=0,E9<=1000000,E9=INT(E9)),FALSE()))),"確認済初回は0〜100万個の整数で必須",IF(AND(D9="未確認",COUNTA(E9)>0),"未確認初回は空欄",IF(NOT(OR(F9="不要",F9="必要")),"再数要否を確認",IF(AND(F9="必要",D9<>"確認済"),"再数には初回確認済みが必須",IF(AND(F9="不要",OR(G9<>"対象外",COUNTA(H9)>0)),"再数不要は対象外/数量空欄",IF(AND(F9="必要",NOT(OR(G9="確認済",G9="未確認"))),"必要な再数区分を確認",IF(AND(F9="必要",G9="確認済",NOT(IF(ISNUMBER(H9),AND(H9>=0,H9<=1000000,H9=INT(H9)),FALSE()))),"確認済再数は0〜100万個の整数で必須",IF(AND(F9="必要",G9="未確認",COUNTA(H9)>0),"未確認再数は空欄",IF(NOT(OR(I9="確認済",I9="未確認")),"時点照合を確認",IF(NOT(IF(ISNUMBER(J9),AND(J9>=43831,J9<=73050,J9=INT(J9)),FALSE())),"確認日は時刻なしで必須",IF(OR(J9<棚卸集計!$B$3,J9>棚卸集計!$E$3),"棚卸基準日≦確認日≦確認基準日","確認済み")))))))))))))))))) -> 確認済み | Q9: =IF(P9="","",IF(P9="確認済み",0,1)) -> 0 | R9: =IF(COUNTA(A9:J9)=0,IF(AND(P9="",Q9="",K9="",L9="",M9="",N9="",O9=""),0,1),IF(NOT(AND(ISTEXT(P9),P9=IF(COUNTA(A9:J9)=0,"",IF(NOT(AND(ISTEXT(A9),LEN(A9)=8,EXACT(LEFT(A9,4),"SKU-"),ISNUMBER(FIND(MID(A9,5,1)&"x","0x1x2x3x4x5x6x7x8x9x")),ISNUMBER(FIND(MID(A9,6,1)&"x","0x1x2x3x4x5x6x7x8x9x")),ISNUMBER(FIND(MID(A9,7,1)&"x","0x1x2x3x4x5x6x7x8x9x")),ISNUMBER(FIND(MID(A9,8,1)&"x","0x1x2x3x4x5x6x7x8x9x")))),"IDはSKU-と半角数字4桁",IF(COUNTIFS($A$8:$A$57,A9)>1,"品目IDが重複",IF(NOT(OR(B9="確認済",B9="未確認")),"帳簿区分を確認",IF(AND(B9="確認済",NOT(IF(ISNUMBER(C9),AND(C9>=-1000000,C9<=1000000,C9=INT(C9)),FALSE()))),"確認済帳簿は±100万個の整数で必須",IF(AND(B9="未確認",COUNTA(C9)>0),"未確認帳簿は空欄",IF(NOT(OR(D9="確認済",D9="未確認")),"初回区分を確認",IF(AND(D9="確認済",NOT(IF(ISNUMBER(E9),AND(E9>=0,E9<=1000000,E9=INT(E9)),FALSE()))),"確認済初回は0〜100万個の整数で必須",IF(AND(D9="未確認",COUNTA(E9)>0),"未確認初回は空欄",IF(NOT(OR(F9="不要",F9="必要")),"再数要否を確認",IF(AND(F9="必要",D9<>"確認済"),"再数には初回確認済みが必須",IF(AND(F9="不要",OR(G9<>"対象外",COUNTA(H9)>0)),"再数不要は対象外/数量空欄",IF(AND(F9="必要",NOT(OR(G9="確認済",G9="未確認"))),"必要な再数区分を確認",IF(AND(F9="必要",G9="確認済",NOT(IF(ISNUMBER(H9),AND(H9>=0,H9<=1000000,H9=INT(H9)),FALSE()))),"確認済再数は0〜100万個の整数で必須",IF(AND(F9="必要",G9="未確認",COUNTA(H9)>0),"未確認再数は空欄",IF(NOT(OR(I9="確認済",I9="未確認")),"時点照合を確認",IF(NOT(IF(ISNUMBER(J9),AND(J9>=43831,J9<=73050,J9=INT(J9)),FALSE())),"確認日は時刻なしで必須",IF(OR(J9<棚卸集計!$B$3,J9>棚卸集計!$E$3),"棚卸基準日≦確認日≦確認基準日","確認済み")))))))))))))))))),ISNUMBER(Q9),Q9=IF(P9="確認済み",0,1))),1,IF(Q9<>0,0,IF(AND(IF(ISTEXT(IF(OR(I9="未確認",D9="未確認",AND(F9="必要",G9="未確認")),"",IF(F9="必要",H9,E9))),ISTEXT(K9),ISNUMBER(K9)),K9=IF(OR(I9="未確認",D9="未確認",AND(F9="必要",G9="未確認")),"",IF(F9="必要",H9,E9)),IF(ISTEXT(IF(OR(B9="未確認",C9<0,NOT(ISNUMBER(K9))),"",K9-C9)),ISTEXT(L9),ISNUMBER(L9)),L9=IF(OR(B9="未確認",C9<0,NOT(ISNUMBER(K9))),"",K9-C9),IF(ISTEXT(IF(ISNUMBER(L9),MAX(-L9,0),"")),ISTEXT(M9),ISNUMBER(M9)),M9=IF(ISNUMBER(L9),MAX(-L9,0),""),IF(ISTEXT(IF(ISNUMBER(L9),MAX(L9,0),"")),ISTEXT(N9),ISNUMBER(N9)),N9=IF(ISNUMBER(L9),MAX(L9,0),""),ISTEXT(O9),O9=IF(I9="未確認","時点未確認",IF(D9="未確認","実棚未確認",IF(AND(F9="必要",G9="未確認"),"再数待ち",IF(B9="未確認","帳簿未確認",IF(C9<0,"帳簿負数",IF(L9=0,"一致","差異あり"))))))),0,1)))) -> 0
A10: SKU-0003 | B10: 確認済 | C10: 0 | D10: 確認済 | E10: 0 | F10: 不要 | G10: 対象外 | I10: 確認済 | J10: 46328 | K10: =IF(P10="","",IF(Q10<>0,NA(),IF(OR(I10="未確認",D10="未確認",AND(F10="必要",G10="未確認")),"",IF(F10="必要",H10,E10)))) -> 0 | L10: =IF(P10="","",IF(Q10<>0,NA(),IF(OR(B10="未確認",C10<0,NOT(ISNUMBER(K10))),"",K10-C10))) -> 0 | M10: =IF(P10="","",IF(Q10<>0,NA(),IF(ISNUMBER(L10),MAX(-L10,0),""))) -> 0 | N10: =IF(P10="","",IF(Q10<>0,NA(),IF(ISNUMBER(L10),MAX(L10,0),""))) -> 0 | O10: =IF(P10="","",IF(Q10<>0,NA(),IF(I10="未確認","時点未確認",IF(D10="未確認","実棚未確認",IF(AND(F10="必要",G10="未確認"),"再数待ち",IF(B10="未確認","帳簿未確認",IF(C10<0,"帳簿負数",IF(L10=0,"一致","差異あり")))))))) -> 一致 | P10: =IF(COUNTA(A10:J10)=0,"",IF(NOT(AND(ISTEXT(A10),LEN(A10)=8,EXACT(LEFT(A10,4),"SKU-"),ISNUMBER(FIND(MID(A10,5,1)&"x","0x1x2x3x4x5x6x7x8x9x")),ISNUMBER(FIND(MID(A10,6,1)&"x","0x1x2x3x4x5x6x7x8x9x")),ISNUMBER(FIND(MID(A10,7,1)&"x","0x1x2x3x4x5x6x7x8x9x")),ISNUMBER(FIND(MID(A10,8,1)&"x","0x1x2x3x4x5x6x7x8x9x")))),"IDはSKU-と半角数字4桁",IF(COUNTIFS($A$8:$A$57,A10)>1,"品目IDが重複",IF(NOT(OR(B10="確認済",B10="未確認")),"帳簿区分を確認",IF(AND(B10="確認済",NOT(IF(ISNUMBER(C10),AND(C10>=-1000000,C10<=1000000,C10=INT(C10)),FALSE()))),"確認済帳簿は±100万個の整数で必須",IF(AND(B10="未確認",COUNTA(C10)>0),"未確認帳簿は空欄",IF(NOT(OR(D10="確認済",D10="未確認")),"初回区分を確認",IF(AND(D10="確認済",NOT(IF(ISNUMBER(E10),AND(E10>=0,E10<=1000000,E10=INT(E10)),FALSE()))),"確認済初回は0〜100万個の整数で必須",IF(AND(D10="未確認",COUNTA(E10)>0),"未確認初回は空欄",IF(NOT(OR(F10="不要",F10="必要")),"再数要否を確認",IF(AND(F10="必要",D10<>"確認済"),"再数には初回確認済みが必須",IF(AND(F10="不要",OR(G10<>"対象外",COUNTA(H10)>0)),"再数不要は対象外/数量空欄",IF(AND(F10="必要",NOT(OR(G10="確認済",G10="未確認"))),"必要な再数区分を確認",IF(AND(F10="必要",G10="確認済",NOT(IF(ISNUMBER(H10),AND(H10>=0,H10<=1000000,H10=INT(H10)),FALSE()))),"確認済再数は0〜100万個の整数で必須",IF(AND(F10="必要",G10="未確認",COUNTA(H10)>0),"未確認再数は空欄",IF(NOT(OR(I10="確認済",I10="未確認")),"時点照合を確認",IF(NOT(IF(ISNUMBER(J10),AND(J10>=43831,J10<=73050,J10=INT(J10)),FALSE())),"確認日は時刻なしで必須",IF(OR(J10<棚卸集計!$B$3,J10>棚卸集計!$E$3),"棚卸基準日≦確認日≦確認基準日","確認済み")))))))))))))))))) -> 確認済み | Q10: =IF(P10="","",IF(P10="確認済み",0,1)) -> 0 | R10: =IF(COUNTA(A10:J10)=0,IF(AND(P10="",Q10="",K10="",L10="",M10="",N10="",O10=""),0,1),IF(NOT(AND(ISTEXT(P10),P10=IF(COUNTA(A10:J10)=0,"",IF(NOT(AND(ISTEXT(A10),LEN(A10)=8,EXACT(LEFT(A10,4),"SKU-"),ISNUMBER(FIND(MID(A10,5,1)&"x","0x1x2x3x4x5x6x7x8x9x")),ISNUMBER(FIND(MID(A10,6,1)&"x","0x1x2x3x4x5x6x7x8x9x")),ISNUMBER(FIND(MID(A10,7,1)&"x","0x1x2x3x4x5x6x7x8x9x")),ISNUMBER(FIND(MID(A10,8,1)&"x","0x1x2x3x4x5x6x7x8x9x")))),"IDはSKU-と半角数字4桁",IF(COUNTIFS($A$8:$A$57,A10)>1,"品目IDが重複",IF(NOT(OR(B10="確認済",B10="未確認")),"帳簿区分を確認",IF(AND(B10="確認済",NOT(IF(ISNUMBER(C10),AND(C10>=-1000000,C10<=1000000,C10=INT(C10)),FALSE()))),"確認済帳簿は±100万個の整数で必須",IF(AND(B10="未確認",COUNTA(C10)>0),"未確認帳簿は空欄",IF(NOT(OR(D10="確認済",D10="未確認")),"初回区分を確認",IF(AND(D10="確認済",NOT(IF(ISNUMBER(E10),AND(E10>=0,E10<=1000000,E10=INT(E10)),FALSE()))),"確認済初回は0〜100万個の整数で必須",IF(AND(D10="未確認",COUNTA(E10)>0),"未確認初回は空欄",IF(NOT(OR(F10="不要",F10="必要")),"再数要否を確認",IF(AND(F10="必要",D10<>"確認済"),"再数には初回確認済みが必須",IF(AND(F10="不要",OR(G10<>"対象外",COUNTA(H10)>0)),"再数不要は対象外/数量空欄",IF(AND(F10="必要",NOT(OR(G10="確認済",G10="未確認"))),"必要な再数区分を確認",IF(AND(F10="必要",G10="確認済",NOT(IF(ISNUMBER(H10),AND(H10>=0,H10<=1000000,H10=INT(H10)),FALSE()))),"確認済再数は0〜100万個の整数で必須",IF(AND(F10="必要",G10="未確認",COUNTA(H10)>0),"未確認再数は空欄",IF(NOT(OR(I10="確認済",I10="未確認")),"時点照合を確認",IF(NOT(IF(ISNUMBER(J10),AND(J10>=43831,J10<=73050,J10=INT(J10)),FALSE())),"確認日は時刻なしで必須",IF(OR(J10<棚卸集計!$B$3,J10>棚卸集計!$E$3),"棚卸基準日≦確認日≦確認基準日","確認済み")))))))))))))))))),ISNUMBER(Q10),Q10=IF(P10="確認済み",0,1))),1,IF(Q10<>0,0,IF(AND(IF(ISTEXT(IF(OR(I10="未確認",D10="未確認",AND(F10="必要",G10="未確認")),"",IF(F10="必要",H10,E10))),ISTEXT(K10),ISNUMBER(K10)),K10=IF(OR(I10="未確認",D10="未確認",AND(F10="必要",G10="未確認")),"",IF(F10="必要",H10,E10)),IF(ISTEXT(IF(OR(B10="未確認",C10<0,NOT(ISNUMBER(K10))),"",K10-C10)),ISTEXT(L10),ISNUMBER(L10)),L10=IF(OR(B10="未確認",C10<0,NOT(ISNUMBER(K10))),"",K10-C10),IF(ISTEXT(IF(ISNUMBER(L10),MAX(-L10,0),"")),ISTEXT(M10),ISNUMBER(M10)),M10=IF(ISNUMBER(L10),MAX(-L10,0),""),IF(ISTEXT(IF(ISNUMBER(L10),MAX(L10,0),"")),ISTEXT(N10),ISNUMBER(N10)),N10=IF(ISNUMBER(L10),MAX(L10,0),""),ISTEXT(O10),O10=IF(I10="未確認","時点未確認",IF(D10="未確認","実棚未確認",IF(AND(F10="必要",G10="未確認"),"再数待ち",IF(B10="未確認","帳簿未確認",IF(C10<0,"帳簿負数",IF(L10=0,"一致","差異あり"))))))),0,1)))) -> 0
A11: SKU-0004 | B11: 未確認 | D11: 確認済 | E11: 10 | F11: 不要 | G11: 対象外 | I11: 確認済 | J11: 46328 | K11: =IF(P11="","",IF(Q11<>0,NA(),IF(OR(I11="未確認",D11="未確認",AND(F11="必要",G11="未確認")),"",IF(F11="必要",H11,E11)))) -> 10 | L11: =IF(P11="","",IF(Q11<>0,NA(),IF(OR(B11="未確認",C11<0,NOT(ISNUMBER(K11))),"",K11-C11))) | M11: =IF(P11="","",IF(Q11<>0,NA(),IF(ISNUMBER(L11),MAX(-L11,0),""))) | N11: =IF(P11="","",IF(Q11<>0,NA(),IF(ISNUMBER(L11),MAX(L11,0),""))) | O11: =IF(P11="","",IF(Q11<>0,NA(),IF(I11="未確認","時点未確認",IF(D11="未確認","実棚未確認",IF(AND(F11="必要",G11="未確認"),"再数待ち",IF(B11="未確認","帳簿未確認",IF(C11<0,"帳簿負数",IF(L11=0,"一致","差異あり")))))))) -> 帳簿未確認 | P11: =IF(COUNTA(A11:J11)=0,"",IF(NOT(AND(ISTEXT(A11),LEN(A11)=8,EXACT(LEFT(A11,4),"SKU-"),ISNUMBER(FIND(MID(A11,5,1)&"x","0x1x2x3x4x5x6x7x8x9x")),ISNUMBER(FIND(MID(A11,6,1)&"x","0x1x2x3x4x5x6x7x8x9x")),ISNUMBER(FIND(MID(A11,7,1)&"x","0x1x2x3x4x5x6x7x8x9x")),ISNUMBER(FIND(MID(A11,8,1)&"x","0x1x2x3x4x5x6x7x8x9x")))),"IDはSKU-と半角数字4桁",IF(COUNTIFS($A$8:$A$57,A11)>1,"品目IDが重複",IF(NOT(OR(B11="確認済",B11="未確認")),"帳簿区分を確認",IF(AND(B11="確認済",NOT(IF(ISNUMBER(C11),AND(C11>=-1000000,C11<=1000000,C11=INT(C11)),FALSE()))),"確認済帳簿は±100万個の整数で必須",IF(AND(B11="未確認",COUNTA(C11)>0),"未確認帳簿は空欄",IF(NOT(OR(D11="確認済",D11="未確認")),"初回区分を確認",IF(AND(D11="確認済",NOT(IF(ISNUMBER(E11),AND(E11>=0,E11<=1000000,E11=INT(E11)),FALSE()))),"確認済初回は0〜100万個の整数で必須",IF(AND(D11="未確認",COUNTA(E11)>0),"未確認初回は空欄",IF(NOT(OR(F11="不要",F11="必要")),"再数要否を確認",IF(AND(F11="必要",D11<>"確認済"),"再数には初回確認済みが必須",IF(AND(F11="不要",OR(G11<>"対象外",COUNTA(H11)>0)),"再数不要は対象外/数量空欄",IF(AND(F11="必要",NOT(OR(G11="確認済",G11="未確認"))),"必要な再数区分を確認",IF(AND(F11="必要",G11="確認済",NOT(IF(ISNUMBER(H11),AND(H11>=0,H11<=1000000,H11=INT(H11)),FALSE()))),"確認済再数は0〜100万個の整数で必須",IF(AND(F11="必要",G11="未確認",COUNTA(H11)>0),"未確認再数は空欄",IF(NOT(OR(I11="確認済",I11="未確認")),"時点照合を確認",IF(NOT(IF(ISNUMBER(J11),AND(J11>=43831,J11<=73050,J11=INT(J11)),FALSE())),"確認日は時刻なしで必須",IF(OR(J11<棚卸集計!$B$3,J11>棚卸集計!$E$3),"棚卸基準日≦確認日≦確認基準日","確認済み")))))))))))))))))) -> 確認済み | Q11: =IF(P11="","",IF(P11="確認済み",0,1)) -> 0 | R11: =IF(COUNTA(A11:J11)=0,IF(AND(P11="",Q11="",K11="",L11="",M11="",N11="",O11=""),0,1),IF(NOT(AND(ISTEXT(P11),P11=IF(COUNTA(A11:J11)=0,"",IF(NOT(AND(ISTEXT(A11),LEN(A11)=8,EXACT(LEFT(A11,4),"SKU-"),ISNUMBER(FIND(MID(A11,5,1)&"x","0x1x2x3x4x5x6x7x8x9x")),ISNUMBER(FIND(MID(A11,6,1)&"x","0x1x2x3x4x5x6x7x8x9x")),ISNUMBER(FIND(MID(A11,7,1)&"x","0x1x2x3x4x5x6x7x8x9x")),ISNUMBER(FIND(MID(A11,8,1)&"x","0x1x2x3x4x5x6x7x8x9x")))),"IDはSKU-と半角数字4桁",IF(COUNTIFS($A$8:$A$57,A11)>1,"品目IDが重複",IF(NOT(OR(B11="確認済",B11="未確認")),"帳簿区分を確認",IF(AND(B11="確認済",NOT(IF(ISNUMBER(C11),AND(C11>=-1000000,C11<=1000000,C11=INT(C11)),FALSE()))),"確認済帳簿は±100万個の整数で必須",IF(AND(B11="未確認",COUNTA(C11)>0),"未確認帳簿は空欄",IF(NOT(OR(D11="確認済",D11="未確認")),"初回区分を確認",IF(AND(D11="確認済",NOT(IF(ISNUMBER(E11),AND(E11>=0,E11<=1000000,E11=INT(E11)),FALSE()))),"確認済初回は0〜100万個の整数で必須",IF(AND(D11="未確認",COUNTA(E11)>0),"未確認初回は空欄",IF(NOT(OR(F11="不要",F11="必要")),"再数要否を確認",IF(AND(F11="必要",D11<>"確認済"),"再数には初回確認済みが必須",IF(AND(F11="不要",OR(G11<>"対象外",COUNTA(H11)>0)),"再数不要は対象外/数量空欄",IF(AND(F11="必要",NOT(OR(G11="確認済",G11="未確認"))),"必要な再数区分を確認",IF(AND(F11="必要",G11="確認済",NOT(IF(ISNUMBER(H11),AND(H11>=0,H11<=1000000,H11=INT(H11)),FALSE()))),"確認済再数は0〜100万個の整数で必須",IF(AND(F11="必要",G11="未確認",COUNTA(H11)>0),"未確認再数は空欄",IF(NOT(OR(I11="確認済",I11="未確認")),"時点照合を確認",IF(NOT(IF(ISNUMBER(J11),AND(J11>=43831,J11<=73050,J11=INT(J11)),FALSE())),"確認日は時刻なしで必須",IF(OR(J11<棚卸集計!$B$3,J11>棚卸集計!$E$3),"棚卸基準日≦確認日≦確認基準日","確認済み")))))))))))))))))),ISNUMBER(Q11),Q11=IF(P11="確認済み",0,1))),1,IF(Q11<>0,0,IF(AND(IF(ISTEXT(IF(OR(I11="未確認",D11="未確認",AND(F11="必要",G11="未確認")),"",IF(F11="必要",H11,E11))),ISTEXT(K11),ISNUMBER(K11)),K11=IF(OR(I11="未確認",D11="未確認",AND(F11="必要",G11="未確認")),"",IF(F11="必要",H11,E11)),IF(ISTEXT(IF(OR(B11="未確認",C11<0,NOT(ISNUMBER(K11))),"",K11-C11)),ISTEXT(L11),ISNUMBER(L11)),L11=IF(OR(B11="未確認",C11<0,NOT(ISNUMBER(K11))),"",K11-C11),IF(ISTEXT(IF(ISNUMBER(L11),MAX(-L11,0),"")),ISTEXT(M11),ISNUMBER(M11)),M11=IF(ISNUMBER(L11),MAX(-L11,0),""),IF(ISTEXT(IF(ISNUMBER(L11),MAX(L11,0),"")),ISTEXT(N11),ISNUMBER(N11)),N11=IF(ISNUMBER(L11),MAX(L11,0),""),ISTEXT(O11),O11=IF(I11="未確認","時点未確認",IF(D11="未確認","実棚未確認",IF(AND(F11="必要",G11="未確認"),"再数待ち",IF(B11="未確認","帳簿未確認",IF(C11<0,"帳簿負数",IF(L11=0,"一致","差異あり"))))))),0,1)))) -> 0
A12: SKU-0005 | B12: 確認済 | C12: 20 | D12: 未確認 | F12: 不要 | G12: 対象外 | I12: 確認済 | J12: 46329 | K12: =IF(P12="","",IF(Q12<>0,NA(),IF(OR(I12="未確認",D12="未確認",AND(F12="必要",G12="未確認")),"",IF(F12="必要",H12,E12)))) | L12: =IF(P12="","",IF(Q12<>0,NA(),IF(OR(B12="未確認",C12<0,NOT(ISNUMBER(K12))),"",K12-C12))) | M12: =IF(P12="","",IF(Q12<>0,NA(),IF(ISNUMBER(L12),MAX(-L12,0),""))) | N12: =IF(P12="","",IF(Q12<>0,NA(),IF(ISNUMBER(L12),MAX(L12,0),""))) | O12: =IF(P12="","",IF(Q12<>0,NA(),IF(I12="未確認","時点未確認",IF(D12="未確認","実棚未確認",IF(AND(F12="必要",G12="未確認"),"再数待ち",IF(B12="未確認","帳簿未確認",IF(C12<0,"帳簿負数",IF(L12=0,"一致","差異あり")))))))) -> 実棚未確認 | P12: =IF(COUNTA(A12:J12)=0,"",IF(NOT(AND(ISTEXT(A12),LEN(A12)=8,EXACT(LEFT(A12,4),"SKU-"),ISNUMBER(FIND(MID(A12,5,1)&"x","0x1x2x3x4x5x6x7x8x9x")),ISNUMBER(FIND(MID(A12,6,1)&"x","0x1x2x3x4x5x6x7x8x9x")),ISNUMBER(FIND(MID(A12,7,1)&"x","0x1x2x3x4x5x6x7x8x9x")),ISNUMBER(FIND(MID(A12,8,1)&"x","0x1x2x3x4x5x6x7x8x9x")))),"IDはSKU-と半角数字4桁",IF(COUNTIFS($A$8:$A$57,A12)>1,"品目IDが重複",IF(NOT(OR(B12="確認済",B12="未確認")),"帳簿区分を確認",IF(AND(B12="確認済",NOT(IF(ISNUMBER(C12),AND(C12>=-1000000,C12<=1000000,C12=INT(C12)),FALSE()))),"確認済帳簿は±100万個の整数で必須",IF(AND(B12="未確認",COUNTA(C12)>0),"未確認帳簿は空欄",IF(NOT(OR(D12="確認済",D12="未確認")),"初回区分を確認",IF(AND(D12="確認済",NOT(IF(ISNUMBER(E12),AND(E12>=0,E12<=1000000,E12=INT(E12)),FALSE()))),"確認済初回は0〜100万個の整数で必須",IF(AND(D12="未確認",COUNTA(E12)>0),"未確認初回は空欄",IF(NOT(OR(F12="不要",F12="必要")),"再数要否を確認",IF(AND(F12="必要",D12<>"確認済"),"再数には初回確認済みが必須",IF(AND(F12="不要",OR(G12<>"対象外",COUNTA(H12)>0)),"再数不要は対象外/数量空欄",IF(AND(F12="必要",NOT(OR(G12="確認済",G12="未確認"))),"必要な再数区分を確認",IF(AND(F12="必要",G12="確認済",NOT(IF(ISNUMBER(H12),AND(H12>=0,H12<=1000000,H12=INT(H12)),FALSE()))),"確認済再数は0〜100万個の整数で必須",IF(AND(F12="必要",G12="未確認",COUNTA(H12)>0),"未確認再数は空欄",IF(NOT(OR(I12="確認済",I12="未確認")),"時点照合を確認",IF(NOT(IF(ISNUMBER(J12),AND(J12>=43831,J12<=73050,J12=INT(J12)),FALSE())),"確認日は時刻なしで必須",IF(OR(J12<棚卸集計!$B$3,J12>棚卸集計!$E$3),"棚卸基準日≦確認日≦確認基準日","確認済み")))))))))))))))))) -> 確認済み | Q12: =IF(P12="","",IF(P12="確認済み",0,1)) -> 0 | R12: =IF(COUNTA(A12:J12)=0,IF(AND(P12="",Q12="",K12="",L12="",M12="",N12="",O12=""),0,1),IF(NOT(AND(ISTEXT(P12),P12=IF(COUNTA(A12:J12)=0,"",IF(NOT(AND(ISTEXT(A12),LEN(A12)=8,EXACT(LEFT(A12,4),"SKU-"),ISNUMBER(FIND(MID(A12,5,1)&"x","0x1x2x3x4x5x6x7x8x9x")),ISNUMBER(FIND(MID(A12,6,1)&"x","0x1x2x3x4x5x6x7x8x9x")),ISNUMBER(FIND(MID(A12,7,1)&"x","0x1x2x3x4x5x6x7x8x9x")),ISNUMBER(FIND(MID(A12,8,1)&"x","0x1x2x3x4x5x6x7x8x9x")))),"IDはSKU-と半角数字4桁",IF(COUNTIFS($A$8:$A$57,A12)>1,"品目IDが重複",IF(NOT(OR(B12="確認済",B12="未確認")),"帳簿区分を確認",IF(AND(B12="確認済",NOT(IF(ISNUMBER(C12),AND(C12>=-1000000,C12<=1000000,C12=INT(C12)),FALSE()))),"確認済帳簿は±100万個の整数で必須",IF(AND(B12="未確認",COUNTA(C12)>0),"未確認帳簿は空欄",IF(NOT(OR(D12="確認済",D12="未確認")),"初回区分を確認",IF(AND(D12="確認済",NOT(IF(ISNUMBER(E12),AND(E12>=0,E12<=1000000,E12=INT(E12)),FALSE()))),"確認済初回は0〜100万個の整数で必須",IF(AND(D12="未確認",COUNTA(E12)>0),"未確認初回は空欄",IF(NOT(OR(F12="不要",F12="必要")),"再数要否を確認",IF(AND(F12="必要",D12<>"確認済"),"再数には初回確認済みが必須",IF(AND(F12="不要",OR(G12<>"対象外",COUNTA(H12)>0)),"再数不要は対象外/数量空欄",IF(AND(F12="必要",NOT(OR(G12="確認済",G12="未確認"))),"必要な再数区分を確認",IF(AND(F12="必要",G12="確認済",NOT(IF(ISNUMBER(H12),AND(H12>=0,H12<=1000000,H12=INT(H12)),FALSE()))),"確認済再数は0〜100万個の整数で必須",IF(AND(F12="必要",G12="未確認",COUNTA(H12)>0),"未確認再数は空欄",IF(NOT(OR(I12="確認済",I12="未確認")),"時点照合を確認",IF(NOT(IF(ISNUMBER(J12),AND(J12>=43831,J12<=73050,J12=INT(J12)),FALSE())),"確認日は時刻なしで必須",IF(OR(J12<棚卸集計!$B$3,J12>棚卸集計!$E$3),"棚卸基準日≦確認日≦確認基準日","確認済み")))))))))))))))))),ISNUMBER(Q12),Q12=IF(P12="確認済み",0,1))),1,IF(Q12<>0,0,IF(AND(IF(ISTEXT(IF(OR(I12="未確認",D12="未確認",AND(F12="必要",G12="未確認")),"",IF(F12="必要",H12,E12))),ISTEXT(K12),ISNUMBER(K12)),K12=IF(OR(I12="未確認",D12="未確認",AND(F12="必要",G12="未確認")),"",IF(F12="必要",H12,E12)),IF(ISTEXT(IF(OR(B12="未確認",C12<0,NOT(ISNUMBER(K12))),"",K12-C12)),ISTEXT(L12),ISNUMBER(L12)),L12=IF(OR(B12="未確認",C12<0,NOT(ISNUMBER(K12))),"",K12-C12),IF(ISTEXT(IF(ISNUMBER(L12),MAX(-L12,0),"")),ISTEXT(M12),ISNUMBER(M12)),M12=IF(ISNUMBER(L12),MAX(-L12,0),""),IF(ISTEXT(IF(ISNUMBER(L12),MAX(L12,0),"")),ISTEXT(N12),ISNUMBER(N12)),N12=IF(ISNUMBER(L12),MAX(L12,0),""),ISTEXT(O12),O12=IF(I12="未確認","時点未確認",IF(D12="未確認","実棚未確認",IF(AND(F12="必要",G12="未確認"),"再数待ち",IF(B12="未確認","帳簿未確認",IF(C12<0,"帳簿負数",IF(L12=0,"一致","差異あり"))))))),0,1)))) -> 0
A13: SKU-0006 | B13: 確認済 | C13: 30 | D13: 確認済 | E13: 28 | F13: 必要 | G13: 未確認 | I13: 確認済 | J13: 46329 | K13: =IF(P13="","",IF(Q13<>0,NA(),IF(OR(I13="未確認",D13="未確認",AND(F13="必要",G13="未確認")),"",IF(F13="必要",H13,E13)))) | L13: =IF(P13="","",IF(Q13<>0,NA(),IF(OR(B13="未確認",C13<0,NOT(ISNUMBER(K13))),"",K13-C13))) | M13: =IF(P13="","",IF(Q13<>0,NA(),IF(ISNUMBER(L13),MAX(-L13,0),""))) | N13: =IF(P13="","",IF(Q13<>0,NA(),IF(ISNUMBER(L13),MAX(L13,0),""))) | O13: =IF(P13="","",IF(Q13<>0,NA(),IF(I13="未確認","時点未確認",IF(D13="未確認","実棚未確認",IF(AND(F13="必要",G13="未確認"),"再数待ち",IF(B13="未確認","帳簿未確認",IF(C13<0,"帳簿負数",IF(L13=0,"一致","差異あり")))))))) -> 再数待ち | P13: =IF(COUNTA(A13:J13)=0,"",IF(NOT(AND(ISTEXT(A13),LEN(A13)=8,EXACT(LEFT(A13,4),"SKU-"),ISNUMBER(FIND(MID(A13,5,1)&"x","0x1x2x3x4x5x6x7x8x9x")),ISNUMBER(FIND(MID(A13,6,1)&"x","0x1x2x3x4x5x6x7x8x9x")),ISNUMBER(FIND(MID(A13,7,1)&"x","0x1x2x3x4x5x6x7x8x9x")),ISNUMBER(FIND(MID(A13,8,1)&"x","0x1x2x3x4x5x6x7x8x9x")))),"IDはSKU-と半角数字4桁",IF(COUNTIFS($A$8:$A$57,A13)>1,"品目IDが重複",IF(NOT(OR(B13="確認済",B13="未確認")),"帳簿区分を確認",IF(AND(B13="確認済",NOT(IF(ISNUMBER(C13),AND(C13>=-1000000,C13<=1000000,C13=INT(C13)),FALSE()))),"確認済帳簿は±100万個の整数で必須",IF(AND(B13="未確認",COUNTA(C13)>0),"未確認帳簿は空欄",IF(NOT(OR(D13="確認済",D13="未確認")),"初回区分を確認",IF(AND(D13="確認済",NOT(IF(ISNUMBER(E13),AND(E13>=0,E13<=1000000,E13=INT(E13)),FALSE()))),"確認済初回は0〜100万個の整数で必須",IF(AND(D13="未確認",COUNTA(E13)>0),"未確認初回は空欄",IF(NOT(OR(F13="不要",F13="必要")),"再数要否を確認",IF(AND(F13="必要",D13<>"確認済"),"再数には初回確認済みが必須",IF(AND(F13="不要",OR(G13<>"対象外",COUNTA(H13)>0)),"再数不要は対象外/数量空欄",IF(AND(F13="必要",NOT(OR(G13="確認済",G13="未確認"))),"必要な再数区分を確認",IF(AND(F13="必要",G13="確認済",NOT(IF(ISNUMBER(H13),AND(H13>=0,H13<=1000000,H13=INT(H13)),FALSE()))),"確認済再数は0〜100万個の整数で必須",IF(AND(F13="必要",G13="未確認",COUNTA(H13)>0),"未確認再数は空欄",IF(NOT(OR(I13="確認済",I13="未確認")),"時点照合を確認",IF(NOT(IF(ISNUMBER(J13),AND(J13>=43831,J13<=73050,J13=INT(J13)),FALSE())),"確認日は時刻なしで必須",IF(OR(J13<棚卸集計!$B$3,J13>棚卸集計!$E$3),"棚卸基準日≦確認日≦確認基準日","確認済み")))))))))))))))))) -> 確認済み | Q13: =IF(P13="","",IF(P13="確認済み",0,1)) -> 0 | R13: =IF(COUNTA(A13:J13)=0,IF(AND(P13="",Q13="",K13="",L13="",M13="",N13="",O13=""),0,1),IF(NOT(AND(ISTEXT(P13),P13=IF(COUNTA(A13:J13)=0,"",IF(NOT(AND(ISTEXT(A13),LEN(A13)=8,EXACT(LEFT(A13,4),"SKU-"),ISNUMBER(FIND(MID(A13,5,1)&"x","0x1x2x3x4x5x6x7x8x9x")),ISNUMBER(FIND(MID(A13,6,1)&"x","0x1x2x3x4x5x6x7x8x9x")),ISNUMBER(FIND(MID(A13,7,1)&"x","0x1x2x3x4x5x6x7x8x9x")),ISNUMBER(FIND(MID(A13,8,1)&"x","0x1x2x3x4x5x6x7x8x9x")))),"IDはSKU-と半角数字4桁",IF(COUNTIFS($A$8:$A$57,A13)>1,"品目IDが重複",IF(NOT(OR(B13="確認済",B13="未確認")),"帳簿区分を確認",IF(AND(B13="確認済",NOT(IF(ISNUMBER(C13),AND(C13>=-1000000,C13<=1000000,C13=INT(C13)),FALSE()))),"確認済帳簿は±100万個の整数で必須",IF(AND(B13="未確認",COUNTA(C13)>0),"未確認帳簿は空欄",IF(NOT(OR(D13="確認済",D13="未確認")),"初回区分を確認",IF(AND(D13="確認済",NOT(IF(ISNUMBER(E13),AND(E13>=0,E13<=1000000,E13=INT(E13)),FALSE()))),"確認済初回は0〜100万個の整数で必須",IF(AND(D13="未確認",COUNTA(E13)>0),"未確認初回は空欄",IF(NOT(OR(F13="不要",F13="必要")),"再数要否を確認",IF(AND(F13="必要",D13<>"確認済"),"再数には初回確認済みが必須",IF(AND(F13="不要",OR(G13<>"対象外",COUNTA(H13)>0)),"再数不要は対象外/数量空欄",IF(AND(F13="必要",NOT(OR(G13="確認済",G13="未確認"))),"必要な再数区分を確認",IF(AND(F13="必要",G13="確認済",NOT(IF(ISNUMBER(H13),AND(H13>=0,H13<=1000000,H13=INT(H13)),FALSE()))),"確認済再数は0〜100万個の整数で必須",IF(AND(F13="必要",G13="未確認",COUNTA(H13)>0),"未確認再数は空欄",IF(NOT(OR(I13="確認済",I13="未確認")),"時点照合を確認",IF(NOT(IF(ISNUMBER(J13),AND(J13>=43831,J13<=73050,J13=INT(J13)),FALSE())),"確認日は時刻なしで必須",IF(OR(J13<棚卸集計!$B$3,J13>棚卸集計!$E$3),"棚卸基準日≦確認日≦確認基準日","確認済み")))))))))))))))))),ISNUMBER(Q13),Q13=IF(P13="確認済み",0,1))),1,IF(Q13<>0,0,IF(AND(IF(ISTEXT(IF(OR(I13="未確認",D13="未確認",AND(F13="必要",G13="未確認")),"",IF(F13="必要",H13,E13))),ISTEXT(K13),ISNUMBER(K13)),K13=IF(OR(I13="未確認",D13="未確認",AND(F13="必要",G13="未確認")),"",IF(F13="必要",H13,E13)),IF(ISTEXT(IF(OR(B13="未確認",C13<0,NOT(ISNUMBER(K13))),"",K13-C13)),ISTEXT(L13),ISNUMBER(L13)),L13=IF(OR(B13="未確認",C13<0,NOT(ISNUMBER(K13))),"",K13-C13),IF(ISTEXT(IF(ISNUMBER(L13),MAX(-L13,0),"")),ISTEXT(M13),ISNUMBER(M13)),M13=IF(ISNUMBER(L13),MAX(-L13,0),""),IF(ISTEXT(IF(ISNUMBER(L13),MAX(L13,0),"")),ISTEXT(N13),ISNUMBER(N13)),N13=IF(ISNUMBER(L13),MAX(L13,0),""),ISTEXT(O13),O13=IF(I13="未確認","時点未確認",IF(D13="未確認","実棚未確認",IF(AND(F13="必要",G13="未確認"),"再数待ち",IF(B13="未確認","帳簿未確認",IF(C13<0,"帳簿負数",IF(L13=0,"一致","差異あり"))))))),0,1)))) -> 0
A14: SKU-0007 | B14: 確認済 | C14: -5 | D14: 確認済 | E14: 0 | F14: 不要 | G14: 対象外 | I14: 確認済 | J14: 46330 | K14: =IF(P14="","",IF(Q14<>0,NA(),IF(OR(I14="未確認",D14="未確認",AND(F14="必要",G14="未確認")),"",IF(F14="必要",H14,E14)))) -> 0 | L14: =IF(P14="","",IF(Q14<>0,NA(),IF(OR(B14="未確認",C14<0,NOT(ISNUMBER(K14))),"",K14-C14))) | M14: =IF(P14="","",IF(Q14<>0,NA(),IF(ISNUMBER(L14),MAX(-L14,0),""))) | N14: =IF(P14="","",IF(Q14<>0,NA(),IF(ISNUMBER(L14),MAX(L14,0),""))) | O14: =IF(P14="","",IF(Q14<>0,NA(),IF(I14="未確認","時点未確認",IF(D14="未確認","実棚未確認",IF(AND(F14="必要",G14="未確認"),"再数待ち",IF(B14="未確認","帳簿未確認",IF(C14<0,"帳簿負数",IF(L14=0,"一致","差異あり")))))))) -> 帳簿負数 | P14: =IF(COUNTA(A14:J14)=0,"",IF(NOT(AND(ISTEXT(A14),LEN(A14)=8,EXACT(LEFT(A14,4),"SKU-"),ISNUMBER(FIND(MID(A14,5,1)&"x","0x1x2x3x4x5x6x7x8x9x")),ISNUMBER(FIND(MID(A14,6,1)&"x","0x1x2x3x4x5x6x7x8x9x")),ISNUMBER(FIND(MID(A14,7,1)&"x","0x1x2x3x4x5x6x7x8x9x")),ISNUMBER(FIND(MID(A14,8,1)&"x","0x1x2x3x4x5x6x7x8x9x")))),"IDはSKU-と半角数字4桁",IF(COUNTIFS($A$8:$A$57,A14)>1,"品目IDが重複",IF(NOT(OR(B14="確認済",B14="未確認")),"帳簿区分を確認",IF(AND(B14="確認済",NOT(IF(ISNUMBER(C14),AND(C14>=-1000000,C14<=1000000,C14=INT(C14)),FALSE()))),"確認済帳簿は±100万個の整数で必須",IF(AND(B14="未確認",COUNTA(C14)>0),"未確認帳簿は空欄",IF(NOT(OR(D14="確認済",D14="未確認")),"初回区分を確認",IF(AND(D14="確認済",NOT(IF(ISNUMBER(E14),AND(E14>=0,E14<=1000000,E14=INT(E14)),FALSE()))),"確認済初回は0〜100万個の整数で必須",IF(AND(D14="未確認",COUNTA(E14)>0),"未確認初回は空欄",IF(NOT(OR(F14="不要",F14="必要")),"再数要否を確認",IF(AND(F14="必要",D14<>"確認済"),"再数には初回確認済みが必須",IF(AND(F14="不要",OR(G14<>"対象外",COUNTA(H14)>0)),"再数不要は対象外/数量空欄",IF(AND(F14="必要",NOT(OR(G14="確認済",G14="未確認"))),"必要な再数区分を確認",IF(AND(F14="必要",G14="確認済",NOT(IF(ISNUMBER(H14),AND(H14>=0,H14<=1000000,H14=INT(H14)),FALSE()))),"確認済再数は0〜100万個の整数で必須",IF(AND(F14="必要",G14="未確認",COUNTA(H14)>0),"未確認再数は空欄",IF(NOT(OR(I14="確認済",I14="未確認")),"時点照合を確認",IF(NOT(IF(ISNUMBER(J14),AND(J14>=43831,J14<=73050,J14=INT(J14)),FALSE())),"確認日は時刻なしで必須",IF(OR(J14<棚卸集計!$B$3,J14>棚卸集計!$E$3),"棚卸基準日≦確認日≦確認基準日","確認済み")))))))))))))))))) -> 確認済み | Q14: =IF(P14="","",IF(P14="確認済み",0,1)) -> 0 | R14: =IF(COUNTA(A14:J14)=0,IF(AND(P14="",Q14="",K14="",L14="",M14="",N14="",O14=""),0,1),IF(NOT(AND(ISTEXT(P14),P14=IF(COUNTA(A14:J14)=0,"",IF(NOT(AND(ISTEXT(A14),LEN(A14)=8,EXACT(LEFT(A14,4),"SKU-"),ISNUMBER(FIND(MID(A14,5,1)&"x","0x1x2x3x4x5x6x7x8x9x")),ISNUMBER(FIND(MID(A14,6,1)&"x","0x1x2x3x4x5x6x7x8x9x")),ISNUMBER(FIND(MID(A14,7,1)&"x","0x1x2x3x4x5x6x7x8x9x")),ISNUMBER(FIND(MID(A14,8,1)&"x","0x1x2x3x4x5x6x7x8x9x")))),"IDはSKU-と半角数字4桁",IF(COUNTIFS($A$8:$A$57,A14)>1,"品目IDが重複",IF(NOT(OR(B14="確認済",B14="未確認")),"帳簿区分を確認",IF(AND(B14="確認済",NOT(IF(ISNUMBER(C14),AND(C14>=-1000000,C14<=1000000,C14=INT(C14)),FALSE()))),"確認済帳簿は±100万個の整数で必須",IF(AND(B14="未確認",COUNTA(C14)>0),"未確認帳簿は空欄",IF(NOT(OR(D14="確認済",D14="未確認")),"初回区分を確認",IF(AND(D14="確認済",NOT(IF(ISNUMBER(E14),AND(E14>=0,E14<=1000000,E14=INT(E14)),FALSE()))),"確認済初回は0〜100万個の整数で必須",IF(AND(D14="未確認",COUNTA(E14)>0),"未確認初回は空欄",IF(NOT(OR(F14="不要",F14="必要")),"再数要否を確認",IF(AND(F14="必要",D14<>"確認済"),"再数には初回確認済みが必須",IF(AND(F14="不要",OR(G14<>"対象外",COUNTA(H14)>0)),"再数不要は対象外/数量空欄",IF(AND(F14="必要",NOT(OR(G14="確認済",G14="未確認"))),"必要な再数区分を確認",IF(AND(F14="必要",G14="確認済",NOT(IF(ISNUMBER(H14),AND(H14>=0,H14<=1000000,H14=INT(H14)),FALSE()))),"確認済再数は0〜100万個の整数で必須",IF(AND(F14="必要",G14="未確認",COUNTA(H14)>0),"未確認再数は空欄",IF(NOT(OR(I14="確認済",I14="未確認")),"時点照合を確認",IF(NOT(IF(ISNUMBER(J14),AND(J14>=43831,J14<=73050,J14=INT(J14)),FALSE())),"確認日は時刻なしで必須",IF(OR(J14<棚卸集計!$B$3,J14>棚卸集計!$E$3),"棚卸基準日≦確認日≦確認基準日","確認済み")))))))))))))))))),ISNUMBER(Q14),Q14=IF(P14="確認済み",0,1))),1,IF(Q14<>0,0,IF(AND(IF(ISTEXT(IF(OR(I14="未確認",D14="未確認",AND(F14="必要",G14="未確認")),"",IF(F14="必要",H14,E14))),ISTEXT(K14),ISNUMBER(K14)),K14=IF(OR(I14="未確認",D14="未確認",AND(F14="必要",G14="未確認")),"",IF(F14="必要",H14,E14)),IF(ISTEXT(IF(OR(B14="未確認",C14<0,NOT(ISNUMBER(K14))),"",K14-C14)),ISTEXT(L14),ISNUMBER(L14)),L14=IF(OR(B14="未確認",C14<0,NOT(ISNUMBER(K14))),"",K14-C14),IF(ISTEXT(IF(ISNUMBER(L14),MAX(-L14,0),"")),ISTEXT(M14),ISNUMBER(M14)),M14=IF(ISNUMBER(L14),MAX(-L14,0),""),IF(ISTEXT(IF(ISNUMBER(L14),MAX(L14,0),"")),ISTEXT(N14),ISNUMBER(N14)),N14=IF(ISNUMBER(L14),MAX(L14,0),""),ISTEXT(O14),O14=IF(I14="未確認","時点未確認",IF(D14="未確認","実棚未確認",IF(AND(F14="必要",G14="未確認"),"再数待ち",IF(B14="未確認","帳簿未確認",IF(C14<0,"帳簿負数",IF(L14=0,"一致","差異あり"))))))),0,1)))) -> 0
A15: SKU-0008 | B15: 確認済 | C15: 10 | D15: 確認済 | E15: 12 | F15: 不要 | G15: 対象外 | I15: 未確認 | J15: 46330 | K15: =IF(P15="","",IF(Q15<>0,NA(),IF(OR(I15="未確認",D15="未確認",AND(F15="必要",G15="未確認")),"",IF(F15="必要",H15,E15)))) | L15: =IF(P15="","",IF(Q15<>0,NA(),IF(OR(B15="未確認",C15<0,NOT(ISNUMBER(K15))),"",K15-C15))) | M15: =IF(P15="","",IF(Q15<>0,NA(),IF(ISNUMBER(L15),MAX(-L15,0),""))) | N15: =IF(P15="","",IF(Q15<>0,NA(),IF(ISNUMBER(L15),MAX(L15,0),""))) | O15: =IF(P15="","",IF(Q15<>0,NA(),IF(I15="未確認","時点未確認",IF(D15="未確認","実棚未確認",IF(AND(F15="必要",G15="未確認"),"再数待ち",IF(B15="未確認","帳簿未確認",IF(C15<0,"帳簿負数",IF(L15=0,"一致","差異あり")))))))) -> 時点未確認 | P15: =IF(COUNTA(A15:J15)=0,"",IF(NOT(AND(ISTEXT(A15),LEN(A15)=8,EXACT(LEFT(A15,4),"SKU-"),ISNUMBER(FIND(MID(A15,5,1)&"x","0x1x2x3x4x5x6x7x8x9x")),ISNUMBER(FIND(MID(A15,6,1)&"x","0x1x2x3x4x5x6x7x8x9x")),ISNUMBER(FIND(MID(A15,7,1)&"x","0x1x2x3x4x5x6x7x8x9x")),ISNUMBER(FIND(MID(A15,8,1)&"x","0x1x2x3x4x5x6x7x8x9x")))),"IDはSKU-と半角数字4桁",IF(COUNTIFS($A$8:$A$57,A15)>1,"品目IDが重複",IF(NOT(OR(B15="確認済",B15="未確認")),"帳簿区分を確認",IF(AND(B15="確認済",NOT(IF(ISNUMBER(C15),AND(C15>=-1000000,C15<=1000000,C15=INT(C15)),FALSE()))),"確認済帳簿は±100万個の整数で必須",IF(AND(B15="未確認",COUNTA(C15)>0),"未確認帳簿は空欄",IF(NOT(OR(D15="確認済",D15="未確認")),"初回区分を確認",IF(AND(D15="確認済",NOT(IF(ISNUMBER(E15),AND(E15>=0,E15<=1000000,E15=INT(E15)),FALSE()))),"確認済初回は0〜100万個の整数で必須",IF(AND(D15="未確認",COUNTA(E15)>0),"未確認初回は空欄",IF(NOT(OR(F15="不要",F15="必要")),"再数要否を確認",IF(AND(F15="必要",D15<>"確認済"),"再数には初回確認済みが必須",IF(AND(F15="不要",OR(G15<>"対象外",COUNTA(H15)>0)),"再数不要は対象外/数量空欄",IF(AND(F15="必要",NOT(OR(G15="確認済",G15="未確認"))),"必要な再数区分を確認",IF(AND(F15="必要",G15="確認済",NOT(IF(ISNUMBER(H15),AND(H15>=0,H15<=1000000,H15=INT(H15)),FALSE()))),"確認済再数は0〜100万個の整数で必須",IF(AND(F15="必要",G15="未確認",COUNTA(H15)>0),"未確認再数は空欄",IF(NOT(OR(I15="確認済",I15="未確認")),"時点照合を確認",IF(NOT(IF(ISNUMBER(J15),AND(J15>=43831,J15<=73050,J15=INT(J15)),FALSE())),"確認日は時刻なしで必須",IF(OR(J15<棚卸集計!$B$3,J15>棚卸集計!$E$3),"棚卸基準日≦確認日≦確認基準日","確認済み")))))))))))))))))) -> 確認済み | Q15: =IF(P15="","",IF(P15="確認済み",0,1)) -> 0 | R15: =IF(COUNTA(A15:J15)=0,IF(AND(P15="",Q15="",K15="",L15="",M15="",N15="",O15=""),0,1),IF(NOT(AND(ISTEXT(P15),P15=IF(COUNTA(A15:J15)=0,"",IF(NOT(AND(ISTEXT(A15),LEN(A15)=8,EXACT(LEFT(A15,4),"SKU-"),ISNUMBER(FIND(MID(A15,5,1)&"x","0x1x2x3x4x5x6x7x8x9x")),ISNUMBER(FIND(MID(A15,6,1)&"x","0x1x2x3x4x5x6x7x8x9x")),ISNUMBER(FIND(MID(A15,7,1)&"x","0x1x2x3x4x5x6x7x8x9x")),ISNUMBER(FIND(MID(A15,8,1)&"x","0x1x2x3x4x5x6x7x8x9x")))),"IDはSKU-と半角数字4桁",IF(COUNTIFS($A$8:$A$57,A15)>1,"品目IDが重複",IF(NOT(OR(B15="確認済",B15="未確認")),"帳簿区分を確認",IF(AND(B15="確認済",NOT(IF(ISNUMBER(C15),AND(C15>=-1000000,C15<=1000000,C15=INT(C15)),FALSE()))),"確認済帳簿は±100万個の整数で必須",IF(AND(B15="未確認",COUNTA(C15)>0),"未確認帳簿は空欄",IF(NOT(OR(D15="確認済",D15="未確認")),"初回区分を確認",IF(AND(D15="確認済",NOT(IF(ISNUMBER(E15),AND(E15>=0,E15<=1000000,E15=INT(E15)),FALSE()))),"確認済初回は0〜100万個の整数で必須",IF(AND(D15="未確認",COUNTA(E15)>0),"未確認初回は空欄",IF(NOT(OR(F15="不要",F15="必要")),"再数要否を確認",IF(AND(F15="必要",D15<>"確認済"),"再数には初回確認済みが必須",IF(AND(F15="不要",OR(G15<>"対象外",COUNTA(H15)>0)),"再数不要は対象外/数量空欄",IF(AND(F15="必要",NOT(OR(G15="確認済",G15="未確認"))),"必要な再数区分を確認",IF(AND(F15="必要",G15="確認済",NOT(IF(ISNUMBER(H15),AND(H15>=0,H15<=1000000,H15=INT(H15)),FALSE()))),"確認済再数は0〜100万個の整数で必須",IF(AND(F15="必要",G15="未確認",COUNTA(H15)>0),"未確認再数は空欄",IF(NOT(OR(I15="確認済",I15="未確認")),"時点照合を確認",IF(NOT(IF(ISNUMBER(J15),AND(J15>=43831,J15<=73050,J15=INT(J15)),FALSE())),"確認日は時刻なしで必須",IF(OR(J15<棚卸集計!$B$3,J15>棚卸集計!$E$3),"棚卸基準日≦確認日≦確認基準日","確認済み")))))))))))))))))),ISNUMBER(Q15),Q15=IF(P15="確認済み",0,1))),1,IF(Q15<>0,0,IF(AND(IF(ISTEXT(IF(OR(I15="未確認",D15="未確認",AND(F15="必要",G15="未確認")),"",IF(F15="必要",H15,E15))),ISTEXT(K15),ISNUMBER(K15)),K15=IF(OR(I15="未確認",D15="未確認",AND(F15="必要",G15="未確認")),"",IF(F15="必要",H15,E15)),IF(ISTEXT(IF(OR(B15="未確認",C15<0,NOT(ISNUMBER(K15))),"",K15-C15)),ISTEXT(L15),ISNUMBER(L15)),L15=IF(OR(B15="未確認",C15<0,NOT(ISNUMBER(K15))),"",K15-C15),IF(ISTEXT(IF(ISNUMBER(L15),MAX(-L15,0),"")),ISTEXT(M15),ISNUMBER(M15)),M15=IF(ISNUMBER(L15),MAX(-L15,0),""),IF(ISTEXT(IF(ISNUMBER(L15),MAX(L15,0),"")),ISTEXT(N15),ISNUMBER(N15)),N15=IF(ISNUMBER(L15),MAX(L15,0),""),ISTEXT(O15),O15=IF(I15="未確認","時点未確認",IF(D15="未確認","実棚未確認",IF(AND(F15="必要",G15="未確認"),"再数待ち",IF(B15="未確認","帳簿未確認",IF(C15<0,"帳簿負数",IF(L15=0,"一致","差異あり"))))))),0,1)))) -> 0
A16: SKU-0009 | B16: 確認済 | C16: 10 | D16: 確認済 | E16: 13 | F16: 必要 | G16: 確認済 | H16: 14 | I16: 確認済 | J16: 46331 | K16: =IF(P16="","",IF(Q16<>0,NA(),IF(OR(I16="未確認",D16="未確認",AND(F16="必要",G16="未確認")),"",IF(F16="必要",H16,E16)))) -> 14 | L16: =IF(P16="","",IF(Q16<>0,NA(),IF(OR(B16="未確認",C16<0,NOT(ISNUMBER(K16))),"",K16-C16))) -> 4 | M16: =IF(P16="","",IF(Q16<>0,NA(),IF(ISNUMBER(L16),MAX(-L16,0),""))) -> 0 | N16: =IF(P16="","",IF(Q16<>0,NA(),IF(ISNUMBER(L16),MAX(L16,0),""))) -> 4 | O16: =IF(P16="","",IF(Q16<>0,NA(),IF(I16="未確認","時点未確認",IF(D16="未確認","実棚未確認",IF(AND(F16="必要",G16="未確認"),"再数待ち",IF(B16="未確認","帳簿未確認",IF(C16<0,"帳簿負数",IF(L16=0,"一致","差異あり")))))))) -> 差異あり | P16: =IF(COUNTA(A16:J16)=0,"",IF(NOT(AND(ISTEXT(A16),LEN(A16)=8,EXACT(LEFT(A16,4),"SKU-"),ISNUMBER(FIND(MID(A16,5,1)&"x","0x1x2x3x4x5x6x7x8x9x")),ISNUMBER(FIND(MID(A16,6,1)&"x","0x1x2x3x4x5x6x7x8x9x")),ISNUMBER(FIND(MID(A16,7,1)&"x","0x1x2x3x4x5x6x7x8x9x")),ISNUMBER(FIND(MID(A16,8,1)&"x","0x1x2x3x4x5x6x7x8x9x")))),"IDはSKU-と半角数字4桁",IF(COUNTIFS($A$8:$A$57,A16)>1,"品目IDが重複",IF(NOT(OR(B16="確認済",B16="未確認")),"帳簿区分を確認",IF(AND(B16="確認済",NOT(IF(ISNUMBER(C16),AND(C16>=-1000000,C16<=1000000,C16=INT(C16)),FALSE()))),"確認済帳簿は±100万個の整数で必須",IF(AND(B16="未確認",COUNTA(C16)>0),"未確認帳簿は空欄",IF(NOT(OR(D16="確認済",D16="未確認")),"初回区分を確認",IF(AND(D16="確認済",NOT(IF(ISNUMBER(E16),AND(E16>=0,E16<=1000000,E16=INT(E16)),FALSE()))),"確認済初回は0〜100万個の整数で必須",IF(AND(D16="未確認",COUNTA(E16)>0),"未確認初回は空欄",IF(NOT(OR(F16="不要",F16="必要")),"再数要否を確認",IF(AND(F16="必要",D16<>"確認済"),"再数には初回確認済みが必須",IF(AND(F16="不要",OR(G16<>"対象外",COUNTA(H16)>0)),"再数不要は対象外/数量空欄",IF(AND(F16="必要",NOT(OR(G16="確認済",G16="未確認"))),"必要な再数区分を確認",IF(AND(F16="必要",G16="確認済",NOT(IF(ISNUMBER(H16),AND(H16>=0,H16<=1000000,H16=INT(H16)),FALSE()))),"確認済再数は0〜100万個の整数で必須",IF(AND(F16="必要",G16="未確認",COUNTA(H16)>0),"未確認再数は空欄",IF(NOT(OR(I16="確認済",I16="未確認")),"時点照合を確認",IF(NOT(IF(ISNUMBER(J16),AND(J16>=43831,J16<=73050,J16=INT(J16)),FALSE())),"確認日は時刻なしで必須",IF(OR(J16<棚卸集計!$B$3,J16>棚卸集計!$E$3),"棚卸基準日≦確認日≦確認基準日","確認済み")))))))))))))))))) -> 確認済み | Q16: =IF(P16="","",IF(P16="確認済み",0,1)) -> 0 | R16: =IF(COUNTA(A16:J16)=0,IF(AND(P16="",Q16="",K16="",L16="",M16="",N16="",O16=""),0,1),IF(NOT(AND(ISTEXT(P16),P16=IF(COUNTA(A16:J16)=0,"",IF(NOT(AND(ISTEXT(A16),LEN(A16)=8,EXACT(LEFT(A16,4),"SKU-"),ISNUMBER(FIND(MID(A16,5,1)&"x","0x1x2x3x4x5x6x7x8x9x")),ISNUMBER(FIND(MID(A16,6,1)&"x","0x1x2x3x4x5x6x7x8x9x")),ISNUMBER(FIND(MID(A16,7,1)&"x","0x1x2x3x4x5x6x7x8x9x")),ISNUMBER(FIND(MID(A16,8,1)&"x","0x1x2x3x4x5x6x7x8x9x")))),"IDはSKU-と半角数字4桁",IF(COUNTIFS($A$8:$A$57,A16)>1,"品目IDが重複",IF(NOT(OR(B16="確認済",B16="未確認")),"帳簿区分を確認",IF(AND(B16="確認済",NOT(IF(ISNUMBER(C16),AND(C16>=-1000000,C16<=1000000,C16=INT(C16)),FALSE()))),"確認済帳簿は±100万個の整数で必須",IF(AND(B16="未確認",COUNTA(C16)>0),"未確認帳簿は空欄",IF(NOT(OR(D16="確認済",D16="未確認")),"初回区分を確認",IF(AND(D16="確認済",NOT(IF(ISNUMBER(E16),AND(E16>=0,E16<=1000000,E16=INT(E16)),FALSE()))),"確認済初回は0〜100万個の整数で必須",IF(AND(D16="未確認",COUNTA(E16)>0),"未確認初回は空欄",IF(NOT(OR(F16="不要",F16="必要")),"再数要否を確認",IF(AND(F16="必要",D16<>"確認済"),"再数には初回確認済みが必須",IF(AND(F16="不要",OR(G16<>"対象外",COUNTA(H16)>0)),"再数不要は対象外/数量空欄",IF(AND(F16="必要",NOT(OR(G16="確認済",G16="未確認"))),"必要な再数区分を確認",IF(AND(F16="必要",G16="確認済",NOT(IF(ISNUMBER(H16),AND(H16>=0,H16<=1000000,H16=INT(H16)),FALSE()))),"確認済再数は0〜100万個の整数で必須",IF(AND(F16="必要",G16="未確認",COUNTA(H16)>0),"未確認再数は空欄",IF(NOT(OR(I16="確認済",I16="未確認")),"時点照合を確認",IF(NOT(IF(ISNUMBER(J16),AND(J16>=43831,J16<=73050,J16=INT(J16)),FALSE())),"確認日は時刻なしで必須",IF(OR(J16<棚卸集計!$B$3,J16>棚卸集計!$E$3),"棚卸基準日≦確認日≦確認基準日","確認済み")))))))))))))))))),ISNUMBER(Q16),Q16=IF(P16="確認済み",0,1))),1,IF(Q16<>0,0,IF(AND(IF(ISTEXT(IF(OR(I16="未確認",D16="未確認",AND(F16="必要",G16="未確認")),"",IF(F16="必要",H16,E16))),ISTEXT(K16),ISNUMBER(K16)),K16=IF(OR(I16="未確認",D16="未確認",AND(F16="必要",G16="未確認")),"",IF(F16="必要",H16,E16)),IF(ISTEXT(IF(OR(B16="未確認",C16<0,NOT(ISNUMBER(K16))),"",K16-C16)),ISTEXT(L16),ISNUMBER(L16)),L16=IF(OR(B16="未確認",C16<0,NOT(ISNUMBER(K16))),"",K16-C16),IF(ISTEXT(IF(ISNUMBER(L16),MAX(-L16,0),"")),ISTEXT(M16),ISNUMBER(M16)),M16=IF(ISNUMBER(L16),MAX(-L16,0),""),IF(ISTEXT(IF(ISNUMBER(L16),MAX(L16,0),"")),ISTEXT(N16),ISNUMBER(N16)),N16=IF(ISNUMBER(L16),MAX(L16,0),""),ISTEXT(O16),O16=IF(I16="未確認","時点未確認",IF(D16="未確認","実棚未確認",IF(AND(F16="必要",G16="未確認"),"再数待ち",IF(B16="未確認","帳簿未確認",IF(C16<0,"帳簿負数",IF(L16=0,"一致","差異あり"))))))),0,1)))) -> 0
K17: =IF(P17="","",IF(Q17<>0,NA(),IF(OR(I17="未確認",D17="未確認",AND(F17="必要",G17="未確認")),"",IF(F17="必要",H17,E17)))) | L17: =IF(P17="","",IF(Q17<>0,NA(),IF(OR(B17="未確認",C17<0,NOT(ISNUMBER(K17))),"",K17-C17))) | M17: =IF(P17="","",IF(Q17<>0,NA(),IF(ISNUMBER(L17),MAX(-L17,0),""))) | N17: =IF(P17="","",IF(Q17<>0,NA(),IF(ISNUMBER(L17),MAX(L17,0),""))) | O17: =IF(P17="","",IF(Q17<>0,NA(),IF(I17="未確認","時点未確認",IF(D17="未確認","実棚未確認",IF(AND(F17="必要",G17="未確認"),"再数待ち",IF(B17="未確認","帳簿未確認",IF(C17<0,"帳簿負数",IF(L17=0,"一致","差異あり")))))))) | P17: =IF(COUNTA(A17:J17)=0,"",IF(NOT(AND(ISTEXT(A17),LEN(A17)=8,EXACT(LEFT(A17,4),"SKU-"),ISNUMBER(FIND(MID(A17,5,1)&"x","0x1x2x3x4x5x6x7x8x9x")),ISNUMBER(FIND(MID(A17,6,1)&"x","0x1x2x3x4x5x6x7x8x9x")),ISNUMBER(FIND(MID(A17,7,1)&"x","0x1x2x3x4x5x6x7x8x9x")),ISNUMBER(FIND(MID(A17,8,1)&"x","0x1x2x3x4x5x6x7x8x9x")))),"IDはSKU-と半角数字4桁",IF(COUNTIFS($A$8:$A$57,A17)>1,"品目IDが重複",IF(NOT(OR(B17="確認済",B17="未確認")),"帳簿区分を確認",IF(AND(B17="確認済",NOT(IF(ISNUMBER(C17),AND(C17>=-1000000,C17<=1000000,C17=INT(C17)),FALSE()))),"確認済帳簿は±100万個の整数で必須",IF(AND(B17="未確認",COUNTA(C17)>0),"未確認帳簿は空欄",IF(NOT(OR(D17="確認済",D17="未確認")),"初回区分を確認",IF(AND(D17="確認済",NOT(IF(ISNUMBER(E17),AND(E17>=0,E17<=1000000,E17=INT(E17)),FALSE()))),"確認済初回は0〜100万個の整数で必須",IF(AND(D17="未確認",COUNTA(E17)>0),"未確認初回は空欄",IF(NOT(OR(F17="不要",F17="必要")),"再数要否を確認",IF(AND(F17="必要",D17<>"確認済"),"再数には初回確認済みが必須",IF(AND(F17="不要",OR(G17<>"対象外",COUNTA(H17)>0)),"再数不要は対象外/数量空欄",IF(AND(F17="必要",NOT(OR(G17="確認済",G17="未確認"))),"必要な再数区分を確認",IF(AND(F17="必要",G17="確認済",NOT(IF(ISNUMBER(H17),AND(H17>=0,H17<=1000000,H17=INT(H17)),FALSE()))),"確認済再数は0〜100万個の整数で必須",IF(AND(F17="必要",G17="未確認",COUNTA(H17)>0),"未確認再数は空欄",IF(NOT(OR(I17="確認済",I17="未確認")),"時点照合を確認",IF(NOT(IF(ISNUMBER(J17),AND(J17>=43831,J17<=73050,J17=INT(J17)),FALSE())),"確認日は時刻なしで必須",IF(OR(J17<棚卸集計!$B$3,J17>棚卸集計!$E$3),"棚卸基準日≦確認日≦確認基準日","確認済み")))))))))))))))))) | Q17: =IF(P17="","",IF(P17="確認済み",0,1)) | R17: =IF(COUNTA(A17:J17)=0,IF(AND(P17="",Q17="",K17="",L17="",M17="",N17="",O17=""),0,1),IF(NOT(AND(ISTEXT(P17),P17=IF(COUNTA(A17:J17)=0,"",IF(NOT(AND(ISTEXT(A17),LEN(A17)=8,EXACT(LEFT(A17,4),"SKU-"),ISNUMBER(FIND(MID(A17,5,1)&"x","0x1x2x3x4x5x6x7x8x9x")),ISNUMBER(FIND(MID(A17,6,1)&"x","0x1x2x3x4x5x6x7x8x9x")),ISNUMBER(FIND(MID(A17,7,1)&"x","0x1x2x3x4x5x6x7x8x9x")),ISNUMBER(FIND(MID(A17,8,1)&"x","0x1x2x3x4x5x6x7x8x9x")))),"IDはSKU-と半角数字4桁",IF(COUNTIFS($A$8:$A$57,A17)>1,"品目IDが重複",IF(NOT(OR(B17="確認済",B17="未確認")),"帳簿区分を確認",IF(AND(B17="確認済",NOT(IF(ISNUMBER(C17),AND(C17>=-1000000,C17<=1000000,C17=INT(C17)),FALSE()))),"確認済帳簿は±100万個の整数で必須",IF(AND(B17="未確認",COUNTA(C17)>0),"未確認帳簿は空欄",IF(NOT(OR(D17="確認済",D17="未確認")),"初回区分を確認",IF(AND(D17="確認済",NOT(IF(ISNUMBER(E17),AND(E17>=0,E17<=1000000,E17=INT(E17)),FALSE()))),"確認済初回は0〜100万個の整数で必須",IF(AND(D17="未確認",COUNTA(E17)>0),"未確認初回は空欄",IF(NOT(OR(F17="不要",F17="必要")),"再数要否を確認",IF(AND(F17="必要",D17<>"確認済"),"再数には初回確認済みが必須",IF(AND(F17="不要",OR(G17<>"対象外",COUNTA(H17)>0)),"再数不要は対象外/数量空欄",IF(AND(F17="必要",NOT(OR(G17="確認済",G17="未確認"))),"必要な再数区分を確認",IF(AND(F17="必要",G17="確認済",NOT(IF(ISNUMBER(H17),AND(H17>=0,H17<=1000000,H17=INT(H17)),FALSE()))),"確認済再数は0〜100万個の整数で必須",IF(AND(F17="必要",G17="未確認",COUNTA(H17)>0),"未確認再数は空欄",IF(NOT(OR(I17="確認済",I17="未確認")),"時点照合を確認",IF(NOT(IF(ISNUMBER(J17),AND(J17>=43831,J17<=73050,J17=INT(J17)),FALSE())),"確認日は時刻なしで必須",IF(OR(J17<棚卸集計!$B$3,J17>棚卸集計!$E$3),"棚卸基準日≦確認日≦確認基準日","確認済み")))))))))))))))))),ISNUMBER(Q17),Q17=IF(P17="確認済み",0,1))),1,IF(Q17<>0,0,IF(AND(IF(ISTEXT(IF(OR(I17="未確認",D17="未確認",AND(F17="必要",G17="未確認")),"",IF(F17="必要",H17,E17))),ISTEXT(K17),ISNUMBER(K17)),K17=IF(OR(I17="未確認",D17="未確認",AND(F17="必要",G17="未確認")),"",IF(F17="必要",H17,E17)),IF(ISTEXT(IF(OR(B17="未確認",C17<0,NOT(ISNUMBER(K17))),"",K17-C17)),ISTEXT(L17),ISNUMBER(L17)),L17=IF(OR(B17="未確認",C17<0,NOT(ISNUMBER(K17))),"",K17-C17),IF(ISTEXT(IF(ISNUMBER(L17),MAX(-L17,0),"")),ISTEXT(M17),ISNUMBER(M17)),M17=IF(ISNUMBER(L17),MAX(-L17,0),""),IF(ISTEXT(IF(ISNUMBER(L17),MAX(L17,0),"")),ISTEXT(N17),ISNUMBER(N17)),N17=IF(ISNUMBER(L17),MAX(L17,0),""),ISTEXT(O17),O17=IF(I17="未確認","時点未確認",IF(D17="未確認","実棚未確認",IF(AND(F17="必要",G17="未確認"),"再数待ち",IF(B17="未確認","帳簿未確認",IF(C17<0,"帳簿負数",IF(L17=0,"一致","差異あり"))))))),0,1)))) -> 0
K18: =IF(P18="","",IF(Q18<>0,NA(),IF(OR(I18="未確認",D18="未確認",AND(F18="必要",G18="未確認")),"",IF(F18="必要",H18,E18)))) | L18: =IF(P18="","",IF(Q18<>0,NA(),IF(OR(B18="未確認",C18<0,NOT(ISNUMBER(K18))),"",K18-C18))) | M18: =IF(P18="","",IF(Q18<>0,NA(),IF(ISNUMBER(L18),MAX(-L18,0),""))) | N18: =IF(P18="","",IF(Q18<>0,NA(),IF(ISNUMBER(L18),MAX(L18,0),""))) | O18: =IF(P18="","",IF(Q18<>0,NA(),IF(I18="未確認","時点未確認",IF(D18="未確認","実棚未確認",IF(AND(F18="必要",G18="未確認"),"再数待ち",IF(B18="未確認","帳簿未確認",IF(C18<0,"帳簿負数",IF(L18=0,"一致","差異あり")))))))) | P18: =IF(COUNTA(A18:J18)=0,"",IF(NOT(AND(ISTEXT(A18),LEN(A18)=8,EXACT(LEFT(A18,4),"SKU-"),ISNUMBER(FIND(MID(A18,5,1)&"x","0x1x2x3x4x5x6x7x8x9x")),ISNUMBER(FIND(MID(A18,6,1)&"x","0x1x2x3x4x5x6x7x8x9x")),ISNUMBER(FIND(MID(A18,7,1)&"x","0x1x2x3x4x5x6x7x8x9x")),ISNUMBER(FIND(MID(A18,8,1)&"x","0x1x2x3x4x5x6x7x8x9x")))),"IDはSKU-と半角数字4桁",IF(COUNTIFS($A$8:$A$57,A18)>1,"品目IDが重複",IF(NOT(OR(B18="確認済",B18="未確認")),"帳簿区分を確認",IF(AND(B18="確認済",NOT(IF(ISNUMBER(C18),AND(C18>=-1000000,C18<=1000000,C18=INT(C18)),FALSE()))),"確認済帳簿は±100万個の整数で必須",IF(AND(B18="未確認",COUNTA(C18)>0),"未確認帳簿は空欄",IF(NOT(OR(D18="確認済",D18="未確認")),"初回区分を確認",IF(AND(D18="確認済",NOT(IF(ISNUMBER(E18),AND(E18>=0,E18<=1000000,E18=INT(E18)),FALSE()))),"確認済初回は0〜100万個の整数で必須",IF(AND(D18="未確認",COUNTA(E18)>0),"未確認初回は空欄",IF(NOT(OR(F18="不要",F18="必要")),"再数要否を確認",IF(AND(F18="必要",D18<>"確認済"),"再数には初回確認済みが必須",IF(AND(F18="不要",OR(G18<>"対象外",COUNTA(H18)>0)),"再数不要は対象外/数量空欄",IF(AND(F18="必要",NOT(OR(G18="確認済",G18="未確認"))),"必要な再数区分を確認",IF(AND(F18="必要",G18="確認済",NOT(IF(ISNUMBER(H18),AND(H18>=0,H18<=1000000,H18=INT(H18)),FALSE()))),"確認済再数は0〜100万個の整数で必須",IF(AND(F18="必要",G18="未確認",COUNTA(H18)>0),"未確認再数は空欄",IF(NOT(OR(I18="確認済",I18="未確認")),"時点照合を確認",IF(NOT(IF(ISNUMBER(J18),AND(J18>=43831,J18<=73050,J18=INT(J18)),FALSE())),"確認日は時刻なしで必須",IF(OR(J18<棚卸集計!$B$3,J18>棚卸集計!$E$3),"棚卸基準日≦確認日≦確認基準日","確認済み")))))))))))))))))) | Q18: =IF(P18="","",IF(P18="確認済み",0,1)) | R18: =IF(COUNTA(A18:J18)=0,IF(AND(P18="",Q18="",K18="",L18="",M18="",N18="",O18=""),0,1),IF(NOT(AND(ISTEXT(P18),P18=IF(COUNTA(A18:J18)=0,"",IF(NOT(AND(ISTEXT(A18),LEN(A18)=8,EXACT(LEFT(A18,4),"SKU-"),ISNUMBER(FIND(MID(A18,5,1)&"x","0x1x2x3x4x5x6x7x8x9x")),ISNUMBER(FIND(MID(A18,6,1)&"x","0x1x2x3x4x5x6x7x8x9x")),ISNUMBER(FIND(MID(A18,7,1)&"x","0x1x2x3x4x5x6x7x8x9x")),ISNUMBER(FIND(MID(A18,8,1)&"x","0x1x2x3x4x5x6x7x8x9x")))),"IDはSKU-と半角数字4桁",IF(COUNTIFS($A$8:$A$57,A18)>1,"品目IDが重複",IF(NOT(OR(B18="確認済",B18="未確認")),"帳簿区分を確認",IF(AND(B18="確認済",NOT(IF(ISNUMBER(C18),AND(C18>=-1000000,C18<=1000000,C18=INT(C18)),FALSE()))),"確認済帳簿は±100万個の整数で必須",IF(AND(B18="未確認",COUNTA(C18)>0),"未確認帳簿は空欄",IF(NOT(OR(D18="確認済",D18="未確認")),"初回区分を確認",IF(AND(D18="確認済",NOT(IF(ISNUMBER(E18),AND(E18>=0,E18<=1000000,E18=INT(E18)),FALSE()))),"確認済初回は0〜100万個の整数で必須",IF(AND(D18="未確認",COUNTA(E18)>0),"未確認初回は空欄",IF(NOT(OR(F18="不要",F18="必要")),"再数要否を確認",IF(AND(F18="必要",D18<>"確認済"),"再数には初回確認済みが必須",IF(AND(F18="不要",OR(G18<>"対象外",COUNTA(H18)>0)),"再数不要は対象外/数量空欄",IF(AND(F18="必要",NOT(OR(G18="確認済",G18="未確認"))),"必要な再数区分を確認",IF(AND(F18="必要",G18="確認済",NOT(IF(ISNUMBER(H18),AND(H18>=0,H18<=1000000,H18=INT(H18)),FALSE()))),"確認済再数は0〜100万個の整数で必須",IF(AND(F18="必要",G18="未確認",COUNTA(H18)>0),"未確認再数は空欄",IF(NOT(OR(I18="確認済",I18="未確認")),"時点照合を確認",IF(NOT(IF(ISNUMBER(J18),AND(J18>=43831,J18<=73050,J18=INT(J18)),FALSE())),"確認日は時刻なしで必須",IF(OR(J18<棚卸集計!$B$3,J18>棚卸集計!$E$3),"棚卸基準日≦確認日≦確認基準日","確認済み")))))))))))))))))),ISNUMBER(Q18),Q18=IF(P18="確認済み",0,1))),1,IF(Q18<>0,0,IF(AND(IF(ISTEXT(IF(OR(I18="未確認",D18="未確認",AND(F18="必要",G18="未確認")),"",IF(F18="必要",H18,E18))),ISTEXT(K18),ISNUMBER(K18)),K18=IF(OR(I18="未確認",D18="未確認",AND(F18="必要",G18="未確認")),"",IF(F18="必要",H18,E18)),IF(ISTEXT(IF(OR(B18="未確認",C18<0,NOT(ISNUMBER(K18))),"",K18-C18)),ISTEXT(L18),ISNUMBER(L18)),L18=IF(OR(B18="未確認",C18<0,NOT(ISNUMBER(K18))),"",K18-C18),IF(ISTEXT(IF(ISNUMBER(L18),MAX(-L18,0),"")),ISTEXT(M18),ISNUMBER(M18)),M18=IF(ISNUMBER(L18),MAX(-L18,0),""),IF(ISTEXT(IF(ISNUMBER(L18),MAX(L18,0),"")),ISTEXT(N18),ISNUMBER(N18)),N18=IF(ISNUMBER(L18),MAX(L18,0),""),ISTEXT(O18),O18=IF(I18="未確認","時点未確認",IF(D18="未確認","実棚未確認",IF(AND(F18="必要",G18="未確認"),"再数待ち",IF(B18="未確認","帳簿未確認",IF(C18<0,"帳簿負数",IF(L18=0,"一致","差異あり"))))))),0,1)))) -> 0
K19: =IF(P19="","",IF(Q19<>0,NA(),IF(OR(I19="未確認",D19="未確認",AND(F19="必要",G19="未確認")),"",IF(F19="必要",H19,E19)))) | L19: =IF(P19="","",IF(Q19<>0,NA(),IF(OR(B19="未確認",C19<0,NOT(ISNUMBER(K19))),"",K19-C19))) | M19: =IF(P19="","",IF(Q19<>0,NA(),IF(ISNUMBER(L19),MAX(-L19,0),""))) | N19: =IF(P19="","",IF(Q19<>0,NA(),IF(ISNUMBER(L19),MAX(L19,0),""))) | O19: =IF(P19="","",IF(Q19<>0,NA(),IF(I19="未確認","時点未確認",IF(D19="未確認","実棚未確認",IF(AND(F19="必要",G19="未確認"),"再数待ち",IF(B19="未確認","帳簿未確認",IF(C19<0,"帳簿負数",IF(L19=0,"一致","差異あり")))))))) | P19: =IF(COUNTA(A19:J19)=0,"",IF(NOT(AND(ISTEXT(A19),LEN(A19)=8,EXACT(LEFT(A19,4),"SKU-"),ISNUMBER(FIND(MID(A19,5,1)&"x","0x1x2x3x4x5x6x7x8x9x")),ISNUMBER(FIND(MID(A19,6,1)&"x","0x1x2x3x4x5x6x7x8x9x")),ISNUMBER(FIND(MID(A19,7,1)&"x","0x1x2x3x4x5x6x7x8x9x")),ISNUMBER(FIND(MID(A19,8,1)&"x","0x1x2x3x4x5x6x7x8x9x")))),"IDはSKU-と半角数字4桁",IF(COUNTIFS($A$8:$A$57,A19)>1,"品目IDが重複",IF(NOT(OR(B19="確認済",B19="未確認")),"帳簿区分を確認",IF(AND(B19="確認済",NOT(IF(ISNUMBER(C19),AND(C19>=-1000000,C19<=1000000,C19=INT(C19)),FALSE()))),"確認済帳簿は±100万個の整数で必須",IF(AND(B19="未確認",COUNTA(C19)>0),"未確認帳簿は空欄",IF(NOT(OR(D19="確認済",D19="未確認")),"初回区分を確認",IF(AND(D19="確認済",NOT(IF(ISNUMBER(E19),AND(E19>=0,E19<=1000000,E19=INT(E19)),FALSE()))),"確認済初回は0〜100万個の整数で必須",IF(AND(D19="未確認",COUNTA(E19)>0),"未確認初回は空欄",IF(NOT(OR(F19="不要",F19="必要")),"再数要否を確認",IF(AND(F19="必要",D19<>"確認済"),"再数には初回確認済みが必須",IF(AND(F19="不要",OR(G19<>"対象外",COUNTA(H19)>0)),"再数不要は対象外/数量空欄",IF(AND(F19="必要",NOT(OR(G19="確認済",G19="未確認"))),"必要な再数区分を確認",IF(AND(F19="必要",G19="確認済",NOT(IF(ISNUMBER(H19),AND(H19>=0,H19<=1000000,H19=INT(H19)),FALSE()))),"確認済再数は0〜100万個の整数で必須",IF(AND(F19="必要",G19="未確認",COUNTA(H19)>0),"未確認再数は空欄",IF(NOT(OR(I19="確認済",I19="未確認")),"時点照合を確認",IF(NOT(IF(ISNUMBER(J19),AND(J19>=43831,J19<=73050,J19=INT(J19)),FALSE())),"確認日は時刻なしで必須",IF(OR(J19<棚卸集計!$B$3,J19>棚卸集計!$E$3),"棚卸基準日≦確認日≦確認基準日","確認済み")))))))))))))))))) | Q19: =IF(P19="","",IF(P19="確認済み",0,1)) | R19: =IF(COUNTA(A19:J19)=0,IF(AND(P19="",Q19="",K19="",L19="",M19="",N19="",O19=""),0,1),IF(NOT(AND(ISTEXT(P19),P19=IF(COUNTA(A19:J19)=0,"",IF(NOT(AND(ISTEXT(A19),LEN(A19)=8,EXACT(LEFT(A19,4),"SKU-"),ISNUMBER(FIND(MID(A19,5,1)&"x","0x1x2x3x4x5x6x7x8x9x")),ISNUMBER(FIND(MID(A19,6,1)&"x","0x1x2x3x4x5x6x7x8x9x")),ISNUMBER(FIND(MID(A19,7,1)&"x","0x1x2x3x4x5x6x7x8x9x")),ISNUMBER(FIND(MID(A19,8,1)&"x","0x1x2x3x4x5x6x7x8x9x")))),"IDはSKU-と半角数字4桁",IF(COUNTIFS($A$8:$A$57,A19)>1,"品目IDが重複",IF(NOT(OR(B19="確認済",B19="未確認")),"帳簿区分を確認",IF(AND(B19="確認済",NOT(IF(ISNUMBER(C19),AND(C19>=-1000000,C19<=1000000,C19=INT(C19)),FALSE()))),"確認済帳簿は±100万個の整数で必須",IF(AND(B19="未確認",COUNTA(C19)>0),"未確認帳簿は空欄",IF(NOT(OR(D19="確認済",D19="未確認")),"初回区分を確認",IF(AND(D19="確認済",NOT(IF(ISNUMBER(E19),AND(E19>=0,E19<=1000000,E19=INT(E19)),FALSE()))),"確認済初回は0〜100万個の整数で必須",IF(AND(D19="未確認",COUNTA(E19)>0),"未確認初回は空欄",IF(NOT(OR(F19="不要",F19="必要")),"再数要否を確認",IF(AND(F19="必要",D19<>"確認済"),"再数には初回確認済みが必須",IF(AND(F19="不要",OR(G19<>"対象外",COUNTA(H19)>0)),"再数不要は対象外/数量空欄",IF(AND(F19="必要",NOT(OR(G19="確認済",G19="未確認"))),"必要な再数区分を確認",IF(AND(F19="必要",G19="確認済",NOT(IF(ISNUMBER(H19),AND(H19>=0,H19<=1000000,H19=INT(H19)),FALSE()))),"確認済再数は0〜100万個の整数で必須",IF(AND(F19="必要",G19="未確認",COUNTA(H19)>0),"未確認再数は空欄",IF(NOT(OR(I19="確認済",I19="未確認")),"時点照合を確認",IF(NOT(IF(ISNUMBER(J19),AND(J19>=43831,J19<=73050,J19=INT(J19)),FALSE())),"確認日は時刻なしで必須",IF(OR(J19<棚卸集計!$B$3,J19>棚卸集計!$E$3),"棚卸基準日≦確認日≦確認基準日","確認済み")))))))))))))))))),ISNUMBER(Q19),Q19=IF(P19="確認済み",0,1))),1,IF(Q19<>0,0,IF(AND(IF(ISTEXT(IF(OR(I19="未確認",D19="未確認",AND(F19="必要",G19="未確認")),"",IF(F19="必要",H19,E19))),ISTEXT(K19),ISNUMBER(K19)),K19=IF(OR(I19="未確認",D19="未確認",AND(F19="必要",G19="未確認")),"",IF(F19="必要",H19,E19)),IF(ISTEXT(IF(OR(B19="未確認",C19<0,NOT(ISNUMBER(K19))),"",K19-C19)),ISTEXT(L19),ISNUMBER(L19)),L19=IF(OR(B19="未確認",C19<0,NOT(ISNUMBER(K19))),"",K19-C19),IF(ISTEXT(IF(ISNUMBER(L19),MAX(-L19,0),"")),ISTEXT(M19),ISNUMBER(M19)),M19=IF(ISNUMBER(L19),MAX(-L19,0),""),IF(ISTEXT(IF(ISNUMBER(L19),MAX(L19,0),"")),ISTEXT(N19),ISNUMBER(N19)),N19=IF(ISNUMBER(L19),MAX(L19,0),""),ISTEXT(O19),O19=IF(I19="未確認","時点未確認",IF(D19="未確認","実棚未確認",IF(AND(F19="必要",G19="未確認"),"再数待ち",IF(B19="未確認","帳簿未確認",IF(C19<0,"帳簿負数",IF(L19=0,"一致","差異あり"))))))),0,1)))) -> 0
K20: =IF(P20="","",IF(Q20<>0,NA(),IF(OR(I20="未確認",D20="未確認",AND(F20="必要",G20="未確認")),"",IF(F20="必要",H20,E20)))) | L20: =IF(P20="","",IF(Q20<>0,NA(),IF(OR(B20="未確認",C20<0,NOT(ISNUMBER(K20))),"",K20-C20))) | M20: =IF(P20="","",IF(Q20<>0,NA(),IF(ISNUMBER(L20),MAX(-L20,0),""))) | N20: =IF(P20="","",IF(Q20<>0,NA(),IF(ISNUMBER(L20),MAX(L20,0),""))) | O20: =IF(P20="","",IF(Q20<>0,NA(),IF(I20="未確認","時点未確認",IF(D20="未確認","実棚未確認",IF(AND(F20="必要",G20="未確認"),"再数待ち",IF(B20="未確認","帳簿未確認",IF(C20<0,"帳簿負数",IF(L20=0,"一致","差異あり")))))))) | P20: =IF(COUNTA(A20:J20)=0,"",IF(NOT(AND(ISTEXT(A20),LEN(A20)=8,EXACT(LEFT(A20,4),"SKU-"),ISNUMBER(FIND(MID(A20,5,1)&"x","0x1x2x3x4x5x6x7x8x9x")),ISNUMBER(FIND(MID(A20,6,1)&"x","0x1x2x3x4x5x6x7x8x9x")),ISNUMBER(FIND(MID(A20,7,1)&"x","0x1x2x3x4x5x6x7x8x9x")),ISNUMBER(FIND(MID(A20,8,1)&"x","0x1x2x3x4x5x6x7x8x9x")))),"IDはSKU-と半角数字4桁",IF(COUNTIFS($A$8:$A$57,A20)>1,"品目IDが重複",IF(NOT(OR(B20="確認済",B20="未確認")),"帳簿区分を確認",IF(AND(B20="確認済",NOT(IF(ISNUMBER(C20),AND(C20>=-1000000,C20<=1000000,C20=INT(C20)),FALSE()))),"確認済帳簿は±100万個の整数で必須",IF(AND(B20="未確認",COUNTA(C20)>0),"未確認帳簿は空欄",IF(NOT(OR(D20="確認済",D20="未確認")),"初回区分を確認",IF(AND(D20="確認済",NOT(IF(ISNUMBER(E20),AND(E20>=0,E20<=1000000,E20=INT(E20)),FALSE()))),"確認済初回は0〜100万個の整数で必須",IF(AND(D20="未確認",COUNTA(E20)>0),"未確認初回は空欄",IF(NOT(OR(F20="不要",F20="必要")),"再数要否を確認",IF(AND(F20="必要",D20<>"確認済"),"再数には初回確認済みが必須",IF(AND(F20="不要",OR(G20<>"対象外",COUNTA(H20)>0)),"再数不要は対象外/数量空欄",IF(AND(F20="必要",NOT(OR(G20="確認済",G20="未確認"))),"必要な再数区分を確認",IF(AND(F20="必要",G20="確認済",NOT(IF(ISNUMBER(H20),AND(H20>=0,H20<=1000000,H20=INT(H20)),FALSE()))),"確認済再数は0〜100万個の整数で必須",IF(AND(F20="必要",G20="未確認",COUNTA(H20)>0),"未確認再数は空欄",IF(NOT(OR(I20="確認済",I20="未確認")),"時点照合を確認",IF(NOT(IF(ISNUMBER(J20),AND(J20>=43831,J20<=73050,J20=INT(J20)),FALSE())),"確認日は時刻なしで必須",IF(OR(J20<棚卸集計!$B$3,J20>棚卸集計!$E$3),"棚卸基準日≦確認日≦確認基準日","確認済み")))))))))))))))))) | Q20: =IF(P20="","",IF(P20="確認済み",0,1)) | R20: =IF(COUNTA(A20:J20)=0,IF(AND(P20="",Q20="",K20="",L20="",M20="",N20="",O20=""),0,1),IF(NOT(AND(ISTEXT(P20),P20=IF(COUNTA(A20:J20)=0,"",IF(NOT(AND(ISTEXT(A20),LEN(A20)=8,EXACT(LEFT(A20,4),"SKU-"),ISNUMBER(FIND(MID(A20,5,1)&"x","0x1x2x3x4x5x6x7x8x9x")),ISNUMBER(FIND(MID(A20,6,1)&"x","0x1x2x3x4x5x6x7x8x9x")),ISNUMBER(FIND(MID(A20,7,1)&"x","0x1x2x3x4x5x6x7x8x9x")),ISNUMBER(FIND(MID(A20,8,1)&"x","0x1x2x3x4x5x6x7x8x9x")))),"IDはSKU-と半角数字4桁",IF(COUNTIFS($A$8:$A$57,A20)>1,"品目IDが重複",IF(NOT(OR(B20="確認済",B20="未確認")),"帳簿区分を確認",IF(AND(B20="確認済",NOT(IF(ISNUMBER(C20),AND(C20>=-1000000,C20<=1000000,C20=INT(C20)),FALSE()))),"確認済帳簿は±100万個の整数で必須",IF(AND(B20="未確認",COUNTA(C20)>0),"未確認帳簿は空欄",IF(NOT(OR(D20="確認済",D20="未確認")),"初回区分を確認",IF(AND(D20="確認済",NOT(IF(ISNUMBER(E20),AND(E20>=0,E20<=1000000,E20=INT(E20)),FALSE()))),"確認済初回は0〜100万個の整数で必須",IF(AND(D20="未確認",COUNTA(E20)>0),"未確認初回は空欄",IF(NOT(OR(F20="不要",F20="必要")),"再数要否を確認",IF(AND(F20="必要",D20<>"確認済"),"再数には初回確認済みが必須",IF(AND(F20="不要",OR(G20<>"対象外",COUNTA(H20)>0)),"再数不要は対象外/数量空欄",IF(AND(F20="必要",NOT(OR(G20="確認済",G20="未確認"))),"必要な再数区分を確認",IF(AND(F20="必要",G20="確認済",NOT(IF(ISNUMBER(H20),AND(H20>=0,H20<=1000000,H20=INT(H20)),FALSE()))),"確認済再数は0〜100万個の整数で必須",IF(AND(F20="必要",G20="未確認",COUNTA(H20)>0),"未確認再数は空欄",IF(NOT(OR(I20="確認済",I20="未確認")),"時点照合を確認",IF(NOT(IF(ISNUMBER(J20),AND(J20>=43831,J20<=73050,J20=INT(J20)),FALSE())),"確認日は時刻なしで必須",IF(OR(J20<棚卸集計!$B$3,J20>棚卸集計!$E$3),"棚卸基準日≦確認日≦確認基準日","確認済み")))))))))))))))))),ISNUMBER(Q20),Q20=IF(P20="確認済み",0,1))),1,IF(Q20<>0,0,IF(AND(IF(ISTEXT(IF(OR(I20="未確認",D20="未確認",AND(F20="必要",G20="未確認")),"",IF(F20="必要",H20,E20))),ISTEXT(K20),ISNUMBER(K20)),K20=IF(OR(I20="未確認",D20="未確認",AND(F20="必要",G20="未確認")),"",IF(F20="必要",H20,E20)),IF(ISTEXT(IF(OR(B20="未確認",C20<0,NOT(ISNUMBER(K20))),"",K20-C20)),ISTEXT(L20),ISNUMBER(L20)),L20=IF(OR(B20="未確認",C20<0,NOT(ISNUMBER(K20))),"",K20-C20),IF(ISTEXT(IF(ISNUMBER(L20),MAX(-L20,0),"")),ISTEXT(M20),ISNUMBER(M20)),M20=IF(ISNUMBER(L20),MAX(-L20,0),""),IF(ISTEXT(IF(ISNUMBER(L20),MAX(L20,0),"")),ISTEXT(N20),ISNUMBER(N20)),N20=IF(ISNUMBER(L20),MAX(L20,0),""),ISTEXT(O20),O20=IF(I20="未確認","時点未確認",IF(D20="未確認","実棚未確認",IF(AND(F20="必要",G20="未確認"),"再数待ち",IF(B20="未確認","帳簿未確認",IF(C20<0,"帳簿負数",IF(L20=0,"一致","差異あり"))))))),0,1)))) -> 0
K21: =IF(P21="","",IF(Q21<>0,NA(),IF(OR(I21="未確認",D21="未確認",AND(F21="必要",G21="未確認")),"",IF(F21="必要",H21,E21)))) | L21: =IF(P21="","",IF(Q21<>0,NA(),IF(OR(B21="未確認",C21<0,NOT(ISNUMBER(K21))),"",K21-C21))) | M21: =IF(P21="","",IF(Q21<>0,NA(),IF(ISNUMBER(L21),MAX(-L21,0),""))) | N21: =IF(P21="","",IF(Q21<>0,NA(),IF(ISNUMBER(L21),MAX(L21,0),""))) | O21: =IF(P21="","",IF(Q21<>0,NA(),IF(I21="未確認","時点未確認",IF(D21="未確認","実棚未確認",IF(AND(F21="必要",G21="未確認"),"再数待ち",IF(B21="未確認","帳簿未確認",IF(C21<0,"帳簿負数",IF(L21=0,"一致","差異あり")))))))) | P21: =IF(COUNTA(A21:J21)=0,"",IF(NOT(AND(ISTEXT(A21),LEN(A21)=8,EXACT(LEFT(A21,4),"SKU-"),ISNUMBER(FIND(MID(A21,5,1)&"x","0x1x2x3x4x5x6x7x8x9x")),ISNUMBER(FIND(MID(A21,6,1)&"x","0x1x2x3x4x5x6x7x8x9x")),ISNUMBER(FIND(MID(A21,7,1)&"x","0x1x2x3x4x5x6x7x8x9x")),ISNUMBER(FIND(MID(A21,8,1)&"x","0x1x2x3x4x5x6x7x8x9x")))),"IDはSKU-と半角数字4桁",IF(COUNTIFS($A$8:$A$57,A21)>1,"品目IDが重複",IF(NOT(OR(B21="確認済",B21="未確認")),"帳簿区分を確認",IF(AND(B21="確認済",NOT(IF(ISNUMBER(C21),AND(C21>=-1000000,C21<=1000000,C21=INT(C21)),FALSE()))),"確認済帳簿は±100万個の整数で必須",IF(AND(B21="未確認",COUNTA(C21)>0),"未確認帳簿は空欄",IF(NOT(OR(D21="確認済",D21="未確認")),"初回区分を確認",IF(AND(D21="確認済",NOT(IF(ISNUMBER(E21),AND(E21>=0,E21<=1000000,E21=INT(E21)),FALSE()))),"確認済初回は0〜100万個の整数で必須",IF(AND(D21="未確認",COUNTA(E21)>0),"未確認初回は空欄",IF(NOT(OR(F21="不要",F21="必要")),"再数要否を確認",IF(AND(F21="必要",D21<>"確認済"),"再数には初回確認済みが必須",IF(AND(F21="不要",OR(G21<>"対象外",COUNTA(H21)>0)),"再数不要は対象外/数量空欄",IF(AND(F21="必要",NOT(OR(G21="確認済",G21="未確認"))),"必要な再数区分を確認",IF(AND(F21="必要",G21="確認済",NOT(IF(ISNUMBER(H21),AND(H21>=0,H21<=1000000,H21=INT(H21)),FALSE()))),"確認済再数は0〜100万個の整数で必須",IF(AND(F21="必要",G21="未確認",COUNTA(H21)>0),"未確認再数は空欄",IF(NOT(OR(I21="確認済",I21="未確認")),"時点照合を確認",IF(NOT(IF(ISNUMBER(J21),AND(J21>=43831,J21<=73050,J21=INT(J21)),FALSE())),"確認日は時刻なしで必須",IF(OR(J21<棚卸集計!$B$3,J21>棚卸集計!$E$3),"棚卸基準日≦確認日≦確認基準日","確認済み")))))))))))))))))) | Q21: =IF(P21="","",IF(P21="確認済み",0,1)) | R21: =IF(COUNTA(A21:J21)=0,IF(AND(P21="",Q21="",K21="",L21="",M21="",N21="",O21=""),0,1),IF(NOT(AND(ISTEXT(P21),P21=IF(COUNTA(A21:J21)=0,"",IF(NOT(AND(ISTEXT(A21),LEN(A21)=8,EXACT(LEFT(A21,4),"SKU-"),ISNUMBER(FIND(MID(A21,5,1)&"x","0x1x2x3x4x5x6x7x8x9x")),ISNUMBER(FIND(MID(A21,6,1)&"x","0x1x2x3x4x5x6x7x8x9x")),ISNUMBER(FIND(MID(A21,7,1)&"x","0x1x2x3x4x5x6x7x8x9x")),ISNUMBER(FIND(MID(A21,8,1)&"x","0x1x2x3x4x5x6x7x8x9x")))),"IDはSKU-と半角数字4桁",IF(COUNTIFS($A$8:$A$57,A21)>1,"品目IDが重複",IF(NOT(OR(B21="確認済",B21="未確認")),"帳簿区分を確認",IF(AND(B21="確認済",NOT(IF(ISNUMBER(C21),AND(C21>=-1000000,C21<=1000000,C21=INT(C21)),FALSE()))),"確認済帳簿は±100万個の整数で必須",IF(AND(B21="未確認",COUNTA(C21)>0),"未確認帳簿は空欄",IF(NOT(OR(D21="確認済",D21="未確認")),"初回区分を確認",IF(AND(D21="確認済",NOT(IF(ISNUMBER(E21),AND(E21>=0,E21<=1000000,E21=INT(E21)),FALSE()))),"確認済初回は0〜100万個の整数で必須",IF(AND(D21="未確認",COUNTA(E21)>0),"未確認初回は空欄",IF(NOT(OR(F21="不要",F21="必要")),"再数要否を確認",IF(AND(F21="必要",D21<>"確認済"),"再数には初回確認済みが必須",IF(AND(F21="不要",OR(G21<>"対象外",COUNTA(H21)>0)),"再数不要は対象外/数量空欄",IF(AND(F21="必要",NOT(OR(G21="確認済",G21="未確認"))),"必要な再数区分を確認",IF(AND(F21="必要",G21="確認済",NOT(IF(ISNUMBER(H21),AND(H21>=0,H21<=1000000,H21=INT(H21)),FALSE()))),"確認済再数は0〜100万個の整数で必須",IF(AND(F21="必要",G21="未確認",COUNTA(H21)>0),"未確認再数は空欄",IF(NOT(OR(I21="確認済",I21="未確認")),"時点照合を確認",IF(NOT(IF(ISNUMBER(J21),AND(J21>=43831,J21<=73050,J21=INT(J21)),FALSE())),"確認日は時刻なしで必須",IF(OR(J21<棚卸集計!$B$3,J21>棚卸集計!$E$3),"棚卸基準日≦確認日≦確認基準日","確認済み")))))))))))))))))),ISNUMBER(Q21),Q21=IF(P21="確認済み",0,1))),1,IF(Q21<>0,0,IF(AND(IF(ISTEXT(IF(OR(I21="未確認",D21="未確認",AND(F21="必要",G21="未確認")),"",IF(F21="必要",H21,E21))),ISTEXT(K21),ISNUMBER(K21)),K21=IF(OR(I21="未確認",D21="未確認",AND(F21="必要",G21="未確認")),"",IF(F21="必要",H21,E21)),IF(ISTEXT(IF(OR(B21="未確認",C21<0,NOT(ISNUMBER(K21))),"",K21-C21)),ISTEXT(L21),ISNUMBER(L21)),L21=IF(OR(B21="未確認",C21<0,NOT(ISNUMBER(K21))),"",K21-C21),IF(ISTEXT(IF(ISNUMBER(L21),MAX(-L21,0),"")),ISTEXT(M21),ISNUMBER(M21)),M21=IF(ISNUMBER(L21),MAX(-L21,0),""),IF(ISTEXT(IF(ISNUMBER(L21),MAX(L21,0),"")),ISTEXT(N21),ISNUMBER(N21)),N21=IF(ISNUMBER(L21),MAX(L21,0),""),ISTEXT(O21),O21=IF(I21="未確認","時点未確認",IF(D21="未確認","実棚未確認",IF(AND(F21="必要",G21="未確認"),"再数待ち",IF(B21="未確認","帳簿未確認",IF(C21<0,"帳簿負数",IF(L21=0,"一致","差異あり"))))))),0,1)))) -> 0
K22: =IF(P22="","",IF(Q22<>0,NA(),IF(OR(I22="未確認",D22="未確認",AND(F22="必要",G22="未確認")),"",IF(F22="必要",H22,E22)))) | L22: =IF(P22="","",IF(Q22<>0,NA(),IF(OR(B22="未確認",C22<0,NOT(ISNUMBER(K22))),"",K22-C22))) | M22: =IF(P22="","",IF(Q22<>0,NA(),IF(ISNUMBER(L22),MAX(-L22,0),""))) | N22: =IF(P22="","",IF(Q22<>0,NA(),IF(ISNUMBER(L22),MAX(L22,0),""))) | O22: =IF(P22="","",IF(Q22<>0,NA(),IF(I22="未確認","時点未確認",IF(D22="未確認","実棚未確認",IF(AND(F22="必要",G22="未確認"),"再数待ち",IF(B22="未確認","帳簿未確認",IF(C22<0,"帳簿負数",IF(L22=0,"一致","差異あり")))))))) | P22: =IF(COUNTA(A22:J22)=0,"",IF(NOT(AND(ISTEXT(A22),LEN(A22)=8,EXACT(LEFT(A22,4),"SKU-"),ISNUMBER(FIND(MID(A22,5,1)&"x","0x1x2x3x4x5x6x7x8x9x")),ISNUMBER(FIND(MID(A22,6,1)&"x","0x1x2x3x4x5x6x7x8x9x")),ISNUMBER(FIND(MID(A22,7,1)&"x","0x1x2x3x4x5x6x7x8x9x")),ISNUMBER(FIND(MID(A22,8,1)&"x","0x1x2x3x4x5x6x7x8x9x")))),"IDはSKU-と半角数字4桁",IF(COUNTIFS($A$8:$A$57,A22)>1,"品目IDが重複",IF(NOT(OR(B22="確認済",B22="未確認")),"帳簿区分を確認",IF(AND(B22="確認済",NOT(IF(ISNUMBER(C22),AND(C22>=-1000000,C22<=1000000,C22=INT(C22)),FALSE()))),"確認済帳簿は±100万個の整数で必須",IF(AND(B22="未確認",COUNTA(C22)>0),"未確認帳簿は空欄",IF(NOT(OR(D22="確認済",D22="未確認")),"初回区分を確認",IF(AND(D22="確認済",NOT(IF(ISNUMBER(E22),AND(E22>=0,E22<=1000000,E22=INT(E22)),FALSE()))),"確認済初回は0〜100万個の整数で必須",IF(AND(D22="未確認",COUNTA(E22)>0),"未確認初回は空欄",IF(NOT(OR(F22="不要",F22="必要")),"再数要否を確認",IF(AND(F22="必要",D22<>"確認済"),"再数には初回確認済みが必須",IF(AND(F22="不要",OR(G22<>"対象外",COUNTA(H22)>0)),"再数不要は対象外/数量空欄",IF(AND(F22="必要",NOT(OR(G22="確認済",G22="未確認"))),"必要な再数区分を確認",IF(AND(F22="必要",G22="確認済",NOT(IF(ISNUMBER(H22),AND(H22>=0,H22<=1000000,H22=INT(H22)),FALSE()))),"確認済再数は0〜100万個の整数で必須",IF(AND(F22="必要",G22="未確認",COUNTA(H22)>0),"未確認再数は空欄",IF(NOT(OR(I22="確認済",I22="未確認")),"時点照合を確認",IF(NOT(IF(ISNUMBER(J22),AND(J22>=43831,J22<=73050,J22=INT(J22)),FALSE())),"確認日は時刻なしで必須",IF(OR(J22<棚卸集計!$B$3,J22>棚卸集計!$E$3),"棚卸基準日≦確認日≦確認基準日","確認済み")))))))))))))))))) | Q22: =IF(P22="","",IF(P22="確認済み",0,1)) | R22: =IF(COUNTA(A22:J22)=0,IF(AND(P22="",Q22="",K22="",L22="",M22="",N22="",O22=""),0,1),IF(NOT(AND(ISTEXT(P22),P22=IF(COUNTA(A22:J22)=0,"",IF(NOT(AND(ISTEXT(A22),LEN(A22)=8,EXACT(LEFT(A22,4),"SKU-"),ISNUMBER(FIND(MID(A22,5,1)&"x","0x1x2x3x4x5x6x7x8x9x")),ISNUMBER(FIND(MID(A22,6,1)&"x","0x1x2x3x4x5x6x7x8x9x")),ISNUMBER(FIND(MID(A22,7,1)&"x","0x1x2x3x4x5x6x7x8x9x")),ISNUMBER(FIND(MID(A22,8,1)&"x","0x1x2x3x4x5x6x7x8x9x")))),"IDはSKU-と半角数字4桁",IF(COUNTIFS($A$8:$A$57,A22)>1,"品目IDが重複",IF(NOT(OR(B22="確認済",B22="未確認")),"帳簿区分を確認",IF(AND(B22="確認済",NOT(IF(ISNUMBER(C22),AND(C22>=-1000000,C22<=1000000,C22=INT(C22)),FALSE()))),"確認済帳簿は±100万個の整数で必須",IF(AND(B22="未確認",COUNTA(C22)>0),"未確認帳簿は空欄",IF(NOT(OR(D22="確認済",D22="未確認")),"初回区分を確認",IF(AND(D22="確認済",NOT(IF(ISNUMBER(E22),AND(E22>=0,E22<=1000000,E22=INT(E22)),FALSE()))),"確認済初回は0〜100万個の整数で必須",IF(AND(D22="未確認",COUNTA(E22)>0),"未確認初回は空欄",IF(NOT(OR(F22="不要",F22="必要")),"再数要否を確認",IF(AND(F22="必要",D22<>"確認済"),"再数には初回確認済みが必須",IF(AND(F22="不要",OR(G22<>"対象外",COUNTA(H22)>0)),"再数不要は対象外/数量空欄",IF(AND(F22="必要",NOT(OR(G22="確認済",G22="未確認"))),"必要な再数区分を確認",IF(AND(F22="必要",G22="確認済",NOT(IF(ISNUMBER(H22),AND(H22>=0,H22<=1000000,H22=INT(H22)),FALSE()))),"確認済再数は0〜100万個の整数で必須",IF(AND(F22="必要",G22="未確認",COUNTA(H22)>0),"未確認再数は空欄",IF(NOT(OR(I22="確認済",I22="未確認")),"時点照合を確認",IF(NOT(IF(ISNUMBER(J22),AND(J22>=43831,J22<=73050,J22=INT(J22)),FALSE())),"確認日は時刻なしで必須",IF(OR(J22<棚卸集計!$B$3,J22>棚卸集計!$E$3),"棚卸基準日≦確認日≦確認基準日","確認済み")))))))))))))))))),ISNUMBER(Q22),Q22=IF(P22="確認済み",0,1))),1,IF(Q22<>0,0,IF(AND(IF(ISTEXT(IF(OR(I22="未確認",D22="未確認",AND(F22="必要",G22="未確認")),"",IF(F22="必要",H22,E22))),ISTEXT(K22),ISNUMBER(K22)),K22=IF(OR(I22="未確認",D22="未確認",AND(F22="必要",G22="未確認")),"",IF(F22="必要",H22,E22)),IF(ISTEXT(IF(OR(B22="未確認",C22<0,NOT(ISNUMBER(K22))),"",K22-C22)),ISTEXT(L22),ISNUMBER(L22)),L22=IF(OR(B22="未確認",C22<0,NOT(ISNUMBER(K22))),"",K22-C22),IF(ISTEXT(IF(ISNUMBER(L22),MAX(-L22,0),"")),ISTEXT(M22),ISNUMBER(M22)),M22=IF(ISNUMBER(L22),MAX(-L22,0),""),IF(ISTEXT(IF(ISNUMBER(L22),MAX(L22,0),"")),ISTEXT(N22),ISNUMBER(N22)),N22=IF(ISNUMBER(L22),MAX(L22,0),""),ISTEXT(O22),O22=IF(I22="未確認","時点未確認",IF(D22="未確認","実棚未確認",IF(AND(F22="必要",G22="未確認"),"再数待ち",IF(B22="未確認","帳簿未確認",IF(C22<0,"帳簿負数",IF(L22=0,"一致","差異あり"))))))),0,1)))) -> 0
K23: =IF(P23="","",IF(Q23<>0,NA(),IF(OR(I23="未確認",D23="未確認",AND(F23="必要",G23="未確認")),"",IF(F23="必要",H23,E23)))) | L23: =IF(P23="","",IF(Q23<>0,NA(),IF(OR(B23="未確認",C23<0,NOT(ISNUMBER(K23))),"",K23-C23))) | M23: =IF(P23="","",IF(Q23<>0,NA(),IF(ISNUMBER(L23),MAX(-L23,0),""))) | N23: =IF(P23="","",IF(Q23<>0,NA(),IF(ISNUMBER(L23),MAX(L23,0),""))) | O23: =IF(P23="","",IF(Q23<>0,NA(),IF(I23="未確認","時点未確認",IF(D23="未確認","実棚未確認",IF(AND(F23="必要",G23="未確認"),"再数待ち",IF(B23="未確認","帳簿未確認",IF(C23<0,"帳簿負数",IF(L23=0,"一致","差異あり")))))))) | P23: =IF(COUNTA(A23:J23)=0,"",IF(NOT(AND(ISTEXT(A23),LEN(A23)=8,EXACT(LEFT(A23,4),"SKU-"),ISNUMBER(FIND(MID(A23,5,1)&"x","0x1x2x3x4x5x6x7x8x9x")),ISNUMBER(FIND(MID(A23,6,1)&"x","0x1x2x3x4x5x6x7x8x9x")),ISNUMBER(FIND(MID(A23,7,1)&"x","0x1x2x3x4x5x6x7x8x9x")),ISNUMBER(FIND(MID(A23,8,1)&"x","0x1x2x3x4x5x6x7x8x9x")))),"IDはSKU-と半角数字4桁",IF(COUNTIFS($A$8:$A$57,A23)>1,"品目IDが重複",IF(NOT(OR(B23="確認済",B23="未確認")),"帳簿区分を確認",IF(AND(B23="確認済",NOT(IF(ISNUMBER(C23),AND(C23>=-1000000,C23<=1000000,C23=INT(C23)),FALSE()))),"確認済帳簿は±100万個の整数で必須",IF(AND(B23="未確認",COUNTA(C23)>0),"未確認帳簿は空欄",IF(NOT(OR(D23="確認済",D23="未確認")),"初回区分を確認",IF(AND(D23="確認済",NOT(IF(ISNUMBER(E23),AND(E23>=0,E23<=1000000,E23=INT(E23)),FALSE()))),"確認済初回は0〜100万個の整数で必須",IF(AND(D23="未確認",COUNTA(E23)>0),"未確認初回は空欄",IF(NOT(OR(F23="不要",F23="必要")),"再数要否を確認",IF(AND(F23="必要",D23<>"確認済"),"再数には初回確認済みが必須",IF(AND(F23="不要",OR(G23<>"対象外",COUNTA(H23)>0)),"再数不要は対象外/数量空欄",IF(AND(F23="必要",NOT(OR(G23="確認済",G23="未確認"))),"必要な再数区分を確認",IF(AND(F23="必要",G23="確認済",NOT(IF(ISNUMBER(H23),AND(H23>=0,H23<=1000000,H23=INT(H23)),FALSE()))),"確認済再数は0〜100万個の整数で必須",IF(AND(F23="必要",G23="未確認",COUNTA(H23)>0),"未確認再数は空欄",IF(NOT(OR(I23="確認済",I23="未確認")),"時点照合を確認",IF(NOT(IF(ISNUMBER(J23),AND(J23>=43831,J23<=73050,J23=INT(J23)),FALSE())),"確認日は時刻なしで必須",IF(OR(J23<棚卸集計!$B$3,J23>棚卸集計!$E$3),"棚卸基準日≦確認日≦確認基準日","確認済み")))))))))))))))))) | Q23: =IF(P23="","",IF(P23="確認済み",0,1)) | R23: =IF(COUNTA(A23:J23)=0,IF(AND(P23="",Q23="",K23="",L23="",M23="",N23="",O23=""),0,1),IF(NOT(AND(ISTEXT(P23),P23=IF(COUNTA(A23:J23)=0,"",IF(NOT(AND(ISTEXT(A23),LEN(A23)=8,EXACT(LEFT(A23,4),"SKU-"),ISNUMBER(FIND(MID(A23,5,1)&"x","0x1x2x3x4x5x6x7x8x9x")),ISNUMBER(FIND(MID(A23,6,1)&"x","0x1x2x3x4x5x6x7x8x9x")),ISNUMBER(FIND(MID(A23,7,1)&"x","0x1x2x3x4x5x6x7x8x9x")),ISNUMBER(FIND(MID(A23,8,1)&"x","0x1x2x3x4x5x6x7x8x9x")))),"IDはSKU-と半角数字4桁",IF(COUNTIFS($A$8:$A$57,A23)>1,"品目IDが重複",IF(NOT(OR(B23="確認済",B23="未確認")),"帳簿区分を確認",IF(AND(B23="確認済",NOT(IF(ISNUMBER(C23),AND(C23>=-1000000,C23<=1000000,C23=INT(C23)),FALSE()))),"確認済帳簿は±100万個の整数で必須",IF(AND(B23="未確認",COUNTA(C23)>0),"未確認帳簿は空欄",IF(NOT(OR(D23="確認済",D23="未確認")),"初回区分を確認",IF(AND(D23="確認済",NOT(IF(ISNUMBER(E23),AND(E23>=0,E23<=1000000,E23=INT(E23)),FALSE()))),"確認済初回は0〜100万個の整数で必須",IF(AND(D23="未確認",COUNTA(E23)>0),"未確認初回は空欄",IF(NOT(OR(F23="不要",F23="必要")),"再数要否を確認",IF(AND(F23="必要",D23<>"確認済"),"再数には初回確認済みが必須",IF(AND(F23="不要",OR(G23<>"対象外",COUNTA(H23)>0)),"再数不要は対象外/数量空欄",IF(AND(F23="必要",NOT(OR(G23="確認済",G23="未確認"))),"必要な再数区分を確認",IF(AND(F23="必要",G23="確認済",NOT(IF(ISNUMBER(H23),AND(H23>=0,H23<=1000000,H23=INT(H23)),FALSE()))),"確認済再数は0〜100万個の整数で必須",IF(AND(F23="必要",G23="未確認",COUNTA(H23)>0),"未確認再数は空欄",IF(NOT(OR(I23="確認済",I23="未確認")),"時点照合を確認",IF(NOT(IF(ISNUMBER(J23),AND(J23>=43831,J23<=73050,J23=INT(J23)),FALSE())),"確認日は時刻なしで必須",IF(OR(J23<棚卸集計!$B$3,J23>棚卸集計!$E$3),"棚卸基準日≦確認日≦確認基準日","確認済み")))))))))))))))))),ISNUMBER(Q23),Q23=IF(P23="確認済み",0,1))),1,IF(Q23<>0,0,IF(AND(IF(ISTEXT(IF(OR(I23="未確認",D23="未確認",AND(F23="必要",G23="未確認")),"",IF(F23="必要",H23,E23))),ISTEXT(K23),ISNUMBER(K23)),K23=IF(OR(I23="未確認",D23="未確認",AND(F23="必要",G23="未確認")),"",IF(F23="必要",H23,E23)),IF(ISTEXT(IF(OR(B23="未確認",C23<0,NOT(ISNUMBER(K23))),"",K23-C23)),ISTEXT(L23),ISNUMBER(L23)),L23=IF(OR(B23="未確認",C23<0,NOT(ISNUMBER(K23))),"",K23-C23),IF(ISTEXT(IF(ISNUMBER(L23),MAX(-L23,0),"")),ISTEXT(M23),ISNUMBER(M23)),M23=IF(ISNUMBER(L23),MAX(-L23,0),""),IF(ISTEXT(IF(ISNUMBER(L23),MAX(L23,0),"")),ISTEXT(N23),ISNUMBER(N23)),N23=IF(ISNUMBER(L23),MAX(L23,0),""),ISTEXT(O23),O23=IF(I23="未確認","時点未確認",IF(D23="未確認","実棚未確認",IF(AND(F23="必要",G23="未確認"),"再数待ち",IF(B23="未確認","帳簿未確認",IF(C23<0,"帳簿負数",IF(L23=0,"一致","差異あり"))))))),0,1)))) -> 0
K24: =IF(P24="","",IF(Q24<>0,NA(),IF(OR(I24="未確認",D24="未確認",AND(F24="必要",G24="未確認")),"",IF(F24="必要",H24,E24)))) | L24: =IF(P24="","",IF(Q24<>0,NA(),IF(OR(B24="未確認",C24<0,NOT(ISNUMBER(K24))),"",K24-C24))) | M24: =IF(P24="","",IF(Q24<>0,NA(),IF(ISNUMBER(L24),MAX(-L24,0),""))) | N24: =IF(P24="","",IF(Q24<>0,NA(),IF(ISNUMBER(L24),MAX(L24,0),""))) | O24: =IF(P24="","",IF(Q24<>0,NA(),IF(I24="未確認","時点未確認",IF(D24="未確認","実棚未確認",IF(AND(F24="必要",G24="未確認"),"再数待ち",IF(B24="未確認","帳簿未確認",IF(C24<0,"帳簿負数",IF(L24=0,"一致","差異あり")))))))) | P24: =IF(COUNTA(A24:J24)=0,"",IF(NOT(AND(ISTEXT(A24),LEN(A24)=8,EXACT(LEFT(A24,4),"SKU-"),ISNUMBER(FIND(MID(A24,5,1)&"x","0x1x2x3x4x5x6x7x8x9x")),ISNUMBER(FIND(MID(A24,6,1)&"x","0x1x2x3x4x5x6x7x8x9x")),ISNUMBER(FIND(MID(A24,7,1)&"x","0x1x2x3x4x5x6x7x8x9x")),ISNUMBER(FIND(MID(A24,8,1)&"x","0x1x2x3x4x5x6x7x8x9x")))),"IDはSKU-と半角数字4桁",IF(COUNTIFS($A$8:$A$57,A24)>1,"品目IDが重複",IF(NOT(OR(B24="確認済",B24="未確認")),"帳簿区分を確認",IF(AND(B24="確認済",NOT(IF(ISNUMBER(C24),AND(C24>=-1000000,C24<=1000000,C24=INT(C24)),FALSE()))),"確認済帳簿は±100万個の整数で必須",IF(AND(B24="未確認",COUNTA(C24)>0),"未確認帳簿は空欄",IF(NOT(OR(D24="確認済",D24="未確認")),"初回区分を確認",IF(AND(D24="確認済",NOT(IF(ISNUMBER(E24),AND(E24>=0,E24<=1000000,E24=INT(E24)),FALSE()))),"確認済初回は0〜100万個の整数で必須",IF(AND(D24="未確認",COUNTA(E24)>0),"未確認初回は空欄",IF(NOT(OR(F24="不要",F24="必要")),"再数要否を確認",IF(AND(F24="必要",D24<>"確認済"),"再数には初回確認済みが必須",IF(AND(F24="不要",OR(G24<>"対象外",COUNTA(H24)>0)),"再数不要は対象外/数量空欄",IF(AND(F24="必要",NOT(OR(G24="確認済",G24="未確認"))),"必要な再数区分を確認",IF(AND(F24="必要",G24="確認済",NOT(IF(ISNUMBER(H24),AND(H24>=0,H24<=1000000,H24=INT(H24)),FALSE()))),"確認済再数は0〜100万個の整数で必須",IF(AND(F24="必要",G24="未確認",COUNTA(H24)>0),"未確認再数は空欄",IF(NOT(OR(I24="確認済",I24="未確認")),"時点照合を確認",IF(NOT(IF(ISNUMBER(J24),AND(J24>=43831,J24<=73050,J24=INT(J24)),FALSE())),"確認日は時刻なしで必須",IF(OR(J24<棚卸集計!$B$3,J24>棚卸集計!$E$3),"棚卸基準日≦確認日≦確認基準日","確認済み")))))))))))))))))) | Q24: =IF(P24="","",IF(P24="確認済み",0,1)) | R24: =IF(COUNTA(A24:J24)=0,IF(AND(P24="",Q24="",K24="",L24="",M24="",N24="",O24=""),0,1),IF(NOT(AND(ISTEXT(P24),P24=IF(COUNTA(A24:J24)=0,"",IF(NOT(AND(ISTEXT(A24),LEN(A24)=8,EXACT(LEFT(A24,4),"SKU-"),ISNUMBER(FIND(MID(A24,5,1)&"x","0x1x2x3x4x5x6x7x8x9x")),ISNUMBER(FIND(MID(A24,6,1)&"x","0x1x2x3x4x5x6x7x8x9x")),ISNUMBER(FIND(MID(A24,7,1)&"x","0x1x2x3x4x5x6x7x8x9x")),ISNUMBER(FIND(MID(A24,8,1)&"x","0x1x2x3x4x5x6x7x8x9x")))),"IDはSKU-と半角数字4桁",IF(COUNTIFS($A$8:$A$57,A24)>1,"品目IDが重複",IF(NOT(OR(B24="確認済",B24="未確認")),"帳簿区分を確認",IF(AND(B24="確認済",NOT(IF(ISNUMBER(C24),AND(C24>=-1000000,C24<=1000000,C24=INT(C24)),FALSE()))),"確認済帳簿は±100万個の整数で必須",IF(AND(B24="未確認",COUNTA(C24)>0),"未確認帳簿は空欄",IF(NOT(OR(D24="確認済",D24="未確認")),"初回区分を確認",IF(AND(D24="確認済",NOT(IF(ISNUMBER(E24),AND(E24>=0,E24<=1000000,E24=INT(E24)),FALSE()))),"確認済初回は0〜100万個の整数で必須",IF(AND(D24="未確認",COUNTA(E24)>0),"未確認初回は空欄",IF(NOT(OR(F24="不要",F24="必要")),"再数要否を確認",IF(AND(F24="必要",D24<>"確認済"),"再数には初回確認済みが必須",IF(AND(F24="不要",OR(G24<>"対象外",COUNTA(H24)>0)),"再数不要は対象外/数量空欄",IF(AND(F24="必要",NOT(OR(G24="確認済",G24="未確認"))),"必要な再数区分を確認",IF(AND(F24="必要",G24="確認済",NOT(IF(ISNUMBER(H24),AND(H24>=0,H24<=1000000,H24=INT(H24)),FALSE()))),"確認済再数は0〜100万個の整数で必須",IF(AND(F24="必要",G24="未確認",COUNTA(H24)>0),"未確認再数は空欄",IF(NOT(OR(I24="確認済",I24="未確認")),"時点照合を確認",IF(NOT(IF(ISNUMBER(J24),AND(J24>=43831,J24<=73050,J24=INT(J24)),FALSE())),"確認日は時刻なしで必須",IF(OR(J24<棚卸集計!$B$3,J24>棚卸集計!$E$3),"棚卸基準日≦確認日≦確認基準日","確認済み")))))))))))))))))),ISNUMBER(Q24),Q24=IF(P24="確認済み",0,1))),1,IF(Q24<>0,0,IF(AND(IF(ISTEXT(IF(OR(I24="未確認",D24="未確認",AND(F24="必要",G24="未確認")),"",IF(F24="必要",H24,E24))),ISTEXT(K24),ISNUMBER(K24)),K24=IF(OR(I24="未確認",D24="未確認",AND(F24="必要",G24="未確認")),"",IF(F24="必要",H24,E24)),IF(ISTEXT(IF(OR(B24="未確認",C24<0,NOT(ISNUMBER(K24))),"",K24-C24)),ISTEXT(L24),ISNUMBER(L24)),L24=IF(OR(B24="未確認",C24<0,NOT(ISNUMBER(K24))),"",K24-C24),IF(ISTEXT(IF(ISNUMBER(L24),MAX(-L24,0),"")),ISTEXT(M24),ISNUMBER(M24)),M24=IF(ISNUMBER(L24),MAX(-L24,0),""),IF(ISTEXT(IF(ISNUMBER(L24),MAX(L24,0),"")),ISTEXT(N24),ISNUMBER(N24)),N24=IF(ISNUMBER(L24),MAX(L24,0),""),ISTEXT(O24),O24=IF(I24="未確認","時点未確認",IF(D24="未確認","実棚未確認",IF(AND(F24="必要",G24="未確認"),"再数待ち",IF(B24="未確認","帳簿未確認",IF(C24<0,"帳簿負数",IF(L24=0,"一致","差異あり"))))))),0,1)))) -> 0
K25: =IF(P25="","",IF(Q25<>0,NA(),IF(OR(I25="未確認",D25="未確認",AND(F25="必要",G25="未確認")),"",IF(F25="必要",H25,E25)))) | L25: =IF(P25="","",IF(Q25<>0,NA(),IF(OR(B25="未確認",C25<0,NOT(ISNUMBER(K25))),"",K25-C25))) | M25: =IF(P25="","",IF(Q25<>0,NA(),IF(ISNUMBER(L25),MAX(-L25,0),""))) | N25: =IF(P25="","",IF(Q25<>0,NA(),IF(ISNUMBER(L25),MAX(L25,0),""))) | O25: =IF(P25="","",IF(Q25<>0,NA(),IF(I25="未確認","時点未確認",IF(D25="未確認","実棚未確認",IF(AND(F25="必要",G25="未確認"),"再数待ち",IF(B25="未確認","帳簿未確認",IF(C25<0,"帳簿負数",IF(L25=0,"一致","差異あり")))))))) | P25: =IF(COUNTA(A25:J25)=0,"",IF(NOT(AND(ISTEXT(A25),LEN(A25)=8,EXACT(LEFT(A25,4),"SKU-"),ISNUMBER(FIND(MID(A25,5,1)&"x","0x1x2x3x4x5x6x7x8x9x")),ISNUMBER(FIND(MID(A25,6,1)&"x","0x1x2x3x4x5x6x7x8x9x")),ISNUMBER(FIND(MID(A25,7,1)&"x","0x1x2x3x4x5x6x7x8x9x")),ISNUMBER(FIND(MID(A25,8,1)&"x","0x1x2x3x4x5x6x7x8x9x")))),"IDはSKU-と半角数字4桁",IF(COUNTIFS($A$8:$A$57,A25)>1,"品目IDが重複",IF(NOT(OR(B25="確認済",B25="未確認")),"帳簿区分を確認",IF(AND(B25="確認済",NOT(IF(ISNUMBER(C25),AND(C25>=-1000000,C25<=1000000,C25=INT(C25)),FALSE()))),"確認済帳簿は±100万個の整数で必須",IF(AND(B25="未確認",COUNTA(C25)>0),"未確認帳簿は空欄",IF(NOT(OR(D25="確認済",D25="未確認")),"初回区分を確認",IF(AND(D25="確認済",NOT(IF(ISNUMBER(E25),AND(E25>=0,E25<=1000000,E25=INT(E25)),FALSE()))),"確認済初回は0〜100万個の整数で必須",IF(AND(D25="未確認",COUNTA(E25)>0),"未確認初回は空欄",IF(NOT(OR(F25="不要",F25="必要")),"再数要否を確認",IF(AND(F25="必要",D25<>"確認済"),"再数には初回確認済みが必須",IF(AND(F25="不要",OR(G25<>"対象外",COUNTA(H25)>0)),"再数不要は対象外/数量空欄",IF(AND(F25="必要",NOT(OR(G25="確認済",G25="未確認"))),"必要な再数区分を確認",IF(AND(F25="必要",G25="確認済",NOT(IF(ISNUMBER(H25),AND(H25>=0,H25<=1000000,H25=INT(H25)),FALSE()))),"確認済再数は0〜100万個の整数で必須",IF(AND(F25="必要",G25="未確認",COUNTA(H25)>0),"未確認再数は空欄",IF(NOT(OR(I25="確認済",I25="未確認")),"時点照合を確認",IF(NOT(IF(ISNUMBER(J25),AND(J25>=43831,J25<=73050,J25=INT(J25)),FALSE())),"確認日は時刻なしで必須",IF(OR(J25<棚卸集計!$B$3,J25>棚卸集計!$E$3),"棚卸基準日≦確認日≦確認基準日","確認済み")))))))))))))))))) | Q25: =IF(P25="","",IF(P25="確認済み",0,1)) | R25: =IF(COUNTA(A25:J25)=0,IF(AND(P25="",Q25="",K25="",L25="",M25="",N25="",O25=""),0,1),IF(NOT(AND(ISTEXT(P25),P25=IF(COUNTA(A25:J25)=0,"",IF(NOT(AND(ISTEXT(A25),LEN(A25)=8,EXACT(LEFT(A25,4),"SKU-"),ISNUMBER(FIND(MID(A25,5,1)&"x","0x1x2x3x4x5x6x7x8x9x")),ISNUMBER(FIND(MID(A25,6,1)&"x","0x1x2x3x4x5x6x7x8x9x")),ISNUMBER(FIND(MID(A25,7,1)&"x","0x1x2x3x4x5x6x7x8x9x")),ISNUMBER(FIND(MID(A25,8,1)&"x","0x1x2x3x4x5x6x7x8x9x")))),"IDはSKU-と半角数字4桁",IF(COUNTIFS($A$8:$A$57,A25)>1,"品目IDが重複",IF(NOT(OR(B25="確認済",B25="未確認")),"帳簿区分を確認",IF(AND(B25="確認済",NOT(IF(ISNUMBER(C25),AND(C25>=-1000000,C25<=1000000,C25=INT(C25)),FALSE()))),"確認済帳簿は±100万個の整数で必須",IF(AND(B25="未確認",COUNTA(C25)>0),"未確認帳簿は空欄",IF(NOT(OR(D25="確認済",D25="未確認")),"初回区分を確認",IF(AND(D25="確認済",NOT(IF(ISNUMBER(E25),AND(E25>=0,E25<=1000000,E25=INT(E25)),FALSE()))),"確認済初回は0〜100万個の整数で必須",IF(AND(D25="未確認",COUNTA(E25)>0),"未確認初回は空欄",IF(NOT(OR(F25="不要",F25="必要")),"再数要否を確認",IF(AND(F25="必要",D25<>"確認済"),"再数には初回確認済みが必須",IF(AND(F25="不要",OR(G25<>"対象外",COUNTA(H25)>0)),"再数不要は対象外/数量空欄",IF(AND(F25="必要",NOT(OR(G25="確認済",G25="未確認"))),"必要な再数区分を確認",IF(AND(F25="必要",G25="確認済",NOT(IF(ISNUMBER(H25),AND(H25>=0,H25<=1000000,H25=INT(H25)),FALSE()))),"確認済再数は0〜100万個の整数で必須",IF(AND(F25="必要",G25="未確認",COUNTA(H25)>0),"未確認再数は空欄",IF(NOT(OR(I25="確認済",I25="未確認")),"時点照合を確認",IF(NOT(IF(ISNUMBER(J25),AND(J25>=43831,J25<=73050,J25=INT(J25)),FALSE())),"確認日は時刻なしで必須",IF(OR(J25<棚卸集計!$B$3,J25>棚卸集計!$E$3),"棚卸基準日≦確認日≦確認基準日","確認済み")))))))))))))))))),ISNUMBER(Q25),Q25=IF(P25="確認済み",0,1))),1,IF(Q25<>0,0,IF(AND(IF(ISTEXT(IF(OR(I25="未確認",D25="未確認",AND(F25="必要",G25="未確認")),"",IF(F25="必要",H25,E25))),ISTEXT(K25),ISNUMBER(K25)),K25=IF(OR(I25="未確認",D25="未確認",AND(F25="必要",G25="未確認")),"",IF(F25="必要",H25,E25)),IF(ISTEXT(IF(OR(B25="未確認",C25<0,NOT(ISNUMBER(K25))),"",K25-C25)),ISTEXT(L25),ISNUMBER(L25)),L25=IF(OR(B25="未確認",C25<0,NOT(ISNUMBER(K25))),"",K25-C25),IF(ISTEXT(IF(ISNUMBER(L25),MAX(-L25,0),"")),ISTEXT(M25),ISNUMBER(M25)),M25=IF(ISNUMBER(L25),MAX(-L25,0),""),IF(ISTEXT(IF(ISNUMBER(L25),MAX(L25,0),"")),ISTEXT(N25),ISNUMBER(N25)),N25=IF(ISNUMBER(L25),MAX(L25,0),""),ISTEXT(O25),O25=IF(I25="未確認","時点未確認",IF(D25="未確認","実棚未確認",IF(AND(F25="必要",G25="未確認"),"再数待ち",IF(B25="未確認","帳簿未確認",IF(C25<0,"帳簿負数",IF(L25=0,"一致","差異あり"))))))),0,1)))) -> 0
K26: =IF(P26="","",IF(Q26<>0,NA(),IF(OR(I26="未確認",D26="未確認",AND(F26="必要",G26="未確認")),"",IF(F26="必要",H26,E26)))) | L26: =IF(P26="","",IF(Q26<>0,NA(),IF(OR(B26="未確認",C26<0,NOT(ISNUMBER(K26))),"",K26-C26))) | M26: =IF(P26="","",IF(Q26<>0,NA(),IF(ISNUMBER(L26),MAX(-L26,0),""))) | N26: =IF(P26="","",IF(Q26<>0,NA(),IF(ISNUMBER(L26),MAX(L26,0),""))) | O26: =IF(P26="","",IF(Q26<>0,NA(),IF(I26="未確認","時点未確認",IF(D26="未確認","実棚未確認",IF(AND(F26="必要",G26="未確認"),"再数待ち",IF(B26="未確認","帳簿未確認",IF(C26<0,"帳簿負数",IF(L26=0,"一致","差異あり")))))))) | P26: =IF(COUNTA(A26:J26)=0,"",IF(NOT(AND(ISTEXT(A26),LEN(A26)=8,EXACT(LEFT(A26,4),"SKU-"),ISNUMBER(FIND(MID(A26,5,1)&"x","0x1x2x3x4x5x6x7x8x9x")),ISNUMBER(FIND(MID(A26,6,1)&"x","0x1x2x3x4x5x6x7x8x9x")),ISNUMBER(FIND(MID(A26,7,1)&"x","0x1x2x3x4x5x6x7x8x9x")),ISNUMBER(FIND(MID(A26,8,1)&"x","0x1x2x3x4x5x6x7x8x9x")))),"IDはSKU-と半角数字4桁",IF(COUNTIFS($A$8:$A$57,A26)>1,"品目IDが重複",IF(NOT(OR(B26="確認済",B26="未確認")),"帳簿区分を確認",IF(AND(B26="確認済",NOT(IF(ISNUMBER(C26),AND(C26>=-1000000,C26<=1000000,C26=INT(C26)),FALSE()))),"確認済帳簿は±100万個の整数で必須",IF(AND(B26="未確認",COUNTA(C26)>0),"未確認帳簿は空欄",IF(NOT(OR(D26="確認済",D26="未確認")),"初回区分を確認",IF(AND(D26="確認済",NOT(IF(ISNUMBER(E26),AND(E26>=0,E26<=1000000,E26=INT(E26)),FALSE()))),"確認済初回は0〜100万個の整数で必須",IF(AND(D26="未確認",COUNTA(E26)>0),"未確認初回は空欄",IF(NOT(OR(F26="不要",F26="必要")),"再数要否を確認",IF(AND(F26="必要",D26<>"確認済"),"再数には初回確認済みが必須",IF(AND(F26="不要",OR(G26<>"対象外",COUNTA(H26)>0)),"再数不要は対象外/数量空欄",IF(AND(F26="必要",NOT(OR(G26="確認済",G26="未確認"))),"必要な再数区分を確認",IF(AND(F26="必要",G26="確認済",NOT(IF(ISNUMBER(H26),AND(H26>=0,H26<=1000000,H26=INT(H26)),FALSE()))),"確認済再数は0〜100万個の整数で必須",IF(AND(F26="必要",G26="未確認",COUNTA(H26)>0),"未確認再数は空欄",IF(NOT(OR(I26="確認済",I26="未確認")),"時点照合を確認",IF(NOT(IF(ISNUMBER(J26),AND(J26>=43831,J26<=73050,J26=INT(J26)),FALSE())),"確認日は時刻なしで必須",IF(OR(J26<棚卸集計!$B$3,J26>棚卸集計!$E$3),"棚卸基準日≦確認日≦確認基準日","確認済み")))))))))))))))))) | Q26: =IF(P26="","",IF(P26="確認済み",0,1)) | R26: =IF(COUNTA(A26:J26)=0,IF(AND(P26="",Q26="",K26="",L26="",M26="",N26="",O26=""),0,1),IF(NOT(AND(ISTEXT(P26),P26=IF(COUNTA(A26:J26)=0,"",IF(NOT(AND(ISTEXT(A26),LEN(A26)=8,EXACT(LEFT(A26,4),"SKU-"),ISNUMBER(FIND(MID(A26,5,1)&"x","0x1x2x3x4x5x6x7x8x9x")),ISNUMBER(FIND(MID(A26,6,1)&"x","0x1x2x3x4x5x6x7x8x9x")),ISNUMBER(FIND(MID(A26,7,1)&"x","0x1x2x3x4x5x6x7x8x9x")),ISNUMBER(FIND(MID(A26,8,1)&"x","0x1x2x3x4x5x6x7x8x9x")))),"IDはSKU-と半角数字4桁",IF(COUNTIFS($A$8:$A$57,A26)>1,"品目IDが重複",IF(NOT(OR(B26="確認済",B26="未確認")),"帳簿区分を確認",IF(AND(B26="確認済",NOT(IF(ISNUMBER(C26),AND(C26>=-1000000,C26<=1000000,C26=INT(C26)),FALSE()))),"確認済帳簿は±100万個の整数で必須",IF(AND(B26="未確認",COUNTA(C26)>0),"未確認帳簿は空欄",IF(NOT(OR(D26="確認済",D26="未確認")),"初回区分を確認",IF(AND(D26="確認済",NOT(IF(ISNUMBER(E26),AND(E26>=0,E26<=1000000,E26=INT(E26)),FALSE()))),"確認済初回は0〜100万個の整数で必須",IF(AND(D26="未確認",COUNTA(E26)>0),"未確認初回は空欄",IF(NOT(OR(F26="不要",F26="必要")),"再数要否を確認",IF(AND(F26="必要",D26<>"確認済"),"再数には初回確認済みが必須",IF(AND(F26="不要",OR(G26<>"対象外",COUNTA(H26)>0)),"再数不要は対象外/数量空欄",IF(AND(F26="必要",NOT(OR(G26="確認済",G26="未確認"))),"必要な再数区分を確認",IF(AND(F26="必要",G26="確認済",NOT(IF(ISNUMBER(H26),AND(H26>=0,H26<=1000000,H26=INT(H26)),FALSE()))),"確認済再数は0〜100万個の整数で必須",IF(AND(F26="必要",G26="未確認",COUNTA(H26)>0),"未確認再数は空欄",IF(NOT(OR(I26="確認済",I26="未確認")),"時点照合を確認",IF(NOT(IF(ISNUMBER(J26),AND(J26>=43831,J26<=73050,J26=INT(J26)),FALSE())),"確認日は時刻なしで必須",IF(OR(J26<棚卸集計!$B$3,J26>棚卸集計!$E$3),"棚卸基準日≦確認日≦確認基準日","確認済み")))))))))))))))))),ISNUMBER(Q26),Q26=IF(P26="確認済み",0,1))),1,IF(Q26<>0,0,IF(AND(IF(ISTEXT(IF(OR(I26="未確認",D26="未確認",AND(F26="必要",G26="未確認")),"",IF(F26="必要",H26,E26))),ISTEXT(K26),ISNUMBER(K26)),K26=IF(OR(I26="未確認",D26="未確認",AND(F26="必要",G26="未確認")),"",IF(F26="必要",H26,E26)),IF(ISTEXT(IF(OR(B26="未確認",C26<0,NOT(ISNUMBER(K26))),"",K26-C26)),ISTEXT(L26),ISNUMBER(L26)),L26=IF(OR(B26="未確認",C26<0,NOT(ISNUMBER(K26))),"",K26-C26),IF(ISTEXT(IF(ISNUMBER(L26),MAX(-L26,0),"")),ISTEXT(M26),ISNUMBER(M26)),M26=IF(ISNUMBER(L26),MAX(-L26,0),""),IF(ISTEXT(IF(ISNUMBER(L26),MAX(L26,0),"")),ISTEXT(N26),ISNUMBER(N26)),N26=IF(ISNUMBER(L26),MAX(L26,0),""),ISTEXT(O26),O26=IF(I26="未確認","時点未確認",IF(D26="未確認","実棚未確認",IF(AND(F26="必要",G26="未確認"),"再数待ち",IF(B26="未確認","帳簿未確認",IF(C26<0,"帳簿負数",IF(L26=0,"一致","差異あり"))))))),0,1)))) -> 0
K27: =IF(P27="","",IF(Q27<>0,NA(),IF(OR(I27="未確認",D27="未確認",AND(F27="必要",G27="未確認")),"",IF(F27="必要",H27,E27)))) | L27: =IF(P27="","",IF(Q27<>0,NA(),IF(OR(B27="未確認",C27<0,NOT(ISNUMBER(K27))),"",K27-C27))) | M27: =IF(P27="","",IF(Q27<>0,NA(),IF(ISNUMBER(L27),MAX(-L27,0),""))) | N27: =IF(P27="","",IF(Q27<>0,NA(),IF(ISNUMBER(L27),MAX(L27,0),""))) | O27: =IF(P27="","",IF(Q27<>0,NA(),IF(I27="未確認","時点未確認",IF(D27="未確認","実棚未確認",IF(AND(F27="必要",G27="未確認"),"再数待ち",IF(B27="未確認","帳簿未確認",IF(C27<0,"帳簿負数",IF(L27=0,"一致","差異あり")))))))) | P27: =IF(COUNTA(A27:J27)=0,"",IF(NOT(AND(ISTEXT(A27),LEN(A27)=8,EXACT(LEFT(A27,4),"SKU-"),ISNUMBER(FIND(MID(A27,5,1)&"x","0x1x2x3x4x5x6x7x8x9x")),ISNUMBER(FIND(MID(A27,6,1)&"x","0x1x2x3x4x5x6x7x8x9x")),ISNUMBER(FIND(MID(A27,7,1)&"x","0x1x2x3x4x5x6x7x8x9x")),ISNUMBER(FIND(MID(A27,8,1)&"x","0x1x2x3x4x5x6x7x8x9x")))),"IDはSKU-と半角数字4桁",IF(COUNTIFS($A$8:$A$57,A27)>1,"品目IDが重複",IF(NOT(OR(B27="確認済",B27="未確認")),"帳簿区分を確認",IF(AND(B27="確認済",NOT(IF(ISNUMBER(C27),AND(C27>=-1000000,C27<=1000000,C27=INT(C27)),FALSE()))),"確認済帳簿は±100万個の整数で必須",IF(AND(B27="未確認",COUNTA(C27)>0),"未確認帳簿は空欄",IF(NOT(OR(D27="確認済",D27="未確認")),"初回区分を確認",IF(AND(D27="確認済",NOT(IF(ISNUMBER(E27),AND(E27>=0,E27<=1000000,E27=INT(E27)),FALSE()))),"確認済初回は0〜100万個の整数で必須",IF(AND(D27="未確認",COUNTA(E27)>0),"未確認初回は空欄",IF(NOT(OR(F27="不要",F27="必要")),"再数要否を確認",IF(AND(F27="必要",D27<>"確認済"),"再数には初回確認済みが必須",IF(AND(F27="不要",OR(G27<>"対象外",COUNTA(H27)>0)),"再数不要は対象外/数量空欄",IF(AND(F27="必要",NOT(OR(G27="確認済",G27="未確認"))),"必要な再数区分を確認",IF(AND(F27="必要",G27="確認済",NOT(IF(ISNUMBER(H27),AND(H27>=0,H27<=1000000,H27=INT(H27)),FALSE()))),"確認済再数は0〜100万個の整数で必須",IF(AND(F27="必要",G27="未確認",COUNTA(H27)>0),"未確認再数は空欄",IF(NOT(OR(I27="確認済",I27="未確認")),"時点照合を確認",IF(NOT(IF(ISNUMBER(J27),AND(J27>=43831,J27<=73050,J27=INT(J27)),FALSE())),"確認日は時刻なしで必須",IF(OR(J27<棚卸集計!$B$3,J27>棚卸集計!$E$3),"棚卸基準日≦確認日≦確認基準日","確認済み")))))))))))))))))) | Q27: =IF(P27="","",IF(P27="確認済み",0,1)) | R27: =IF(COUNTA(A27:J27)=0,IF(AND(P27="",Q27="",K27="",L27="",M27="",N27="",O27=""),0,1),IF(NOT(AND(ISTEXT(P27),P27=IF(COUNTA(A27:J27)=0,"",IF(NOT(AND(ISTEXT(A27),LEN(A27)=8,EXACT(LEFT(A27,4),"SKU-"),ISNUMBER(FIND(MID(A27,5,1)&"x","0x1x2x3x4x5x6x7x8x9x")),ISNUMBER(FIND(MID(A27,6,1)&"x","0x1x2x3x4x5x6x7x8x9x")),ISNUMBER(FIND(MID(A27,7,1)&"x","0x1x2x3x4x5x6x7x8x9x")),ISNUMBER(FIND(MID(A27,8,1)&"x","0x1x2x3x4x5x6x7x8x9x")))),"IDはSKU-と半角数字4桁",IF(COUNTIFS($A$8:$A$57,A27)>1,"品目IDが重複",IF(NOT(OR(B27="確認済",B27="未確認")),"帳簿区分を確認",IF(AND(B27="確認済",NOT(IF(ISNUMBER(C27),AND(C27>=-1000000,C27<=1000000,C27=INT(C27)),FALSE()))),"確認済帳簿は±100万個の整数で必須",IF(AND(B27="未確認",COUNTA(C27)>0),"未確認帳簿は空欄",IF(NOT(OR(D27="確認済",D27="未確認")),"初回区分を確認",IF(AND(D27="確認済",NOT(IF(ISNUMBER(E27),AND(E27>=0,E27<=1000000,E27=INT(E27)),FALSE()))),"確認済初回は0〜100万個の整数で必須",IF(AND(D27="未確認",COUNTA(E27)>0),"未確認初回は空欄",IF(NOT(OR(F27="不要",F27="必要")),"再数要否を確認",IF(AND(F27="必要",D27<>"確認済"),"再数には初回確認済みが必須",IF(AND(F27="不要",OR(G27<>"対象外",COUNTA(H27)>0)),"再数不要は対象外/数量空欄",IF(AND(F27="必要",NOT(OR(G27="確認済",G27="未確認"))),"必要な再数区分を確認",IF(AND(F27="必要",G27="確認済",NOT(IF(ISNUMBER(H27),AND(H27>=0,H27<=1000000,H27=INT(H27)),FALSE()))),"確認済再数は0〜100万個の整数で必須",IF(AND(F27="必要",G27="未確認",COUNTA(H27)>0),"未確認再数は空欄",IF(NOT(OR(I27="確認済",I27="未確認")),"時点照合を確認",IF(NOT(IF(ISNUMBER(J27),AND(J27>=43831,J27<=73050,J27=INT(J27)),FALSE())),"確認日は時刻なしで必須",IF(OR(J27<棚卸集計!$B$3,J27>棚卸集計!$E$3),"棚卸基準日≦確認日≦確認基準日","確認済み")))))))))))))))))),ISNUMBER(Q27),Q27=IF(P27="確認済み",0,1))),1,IF(Q27<>0,0,IF(AND(IF(ISTEXT(IF(OR(I27="未確認",D27="未確認",AND(F27="必要",G27="未確認")),"",IF(F27="必要",H27,E27))),ISTEXT(K27),ISNUMBER(K27)),K27=IF(OR(I27="未確認",D27="未確認",AND(F27="必要",G27="未確認")),"",IF(F27="必要",H27,E27)),IF(ISTEXT(IF(OR(B27="未確認",C27<0,NOT(ISNUMBER(K27))),"",K27-C27)),ISTEXT(L27),ISNUMBER(L27)),L27=IF(OR(B27="未確認",C27<0,NOT(ISNUMBER(K27))),"",K27-C27),IF(ISTEXT(IF(ISNUMBER(L27),MAX(-L27,0),"")),ISTEXT(M27),ISNUMBER(M27)),M27=IF(ISNUMBER(L27),MAX(-L27,0),""),IF(ISTEXT(IF(ISNUMBER(L27),MAX(L27,0),"")),ISTEXT(N27),ISNUMBER(N27)),N27=IF(ISNUMBER(L27),MAX(L27,0),""),ISTEXT(O27),O27=IF(I27="未確認","時点未確認",IF(D27="未確認","実棚未確認",IF(AND(F27="必要",G27="未確認"),"再数待ち",IF(B27="未確認","帳簿未確認",IF(C27<0,"帳簿負数",IF(L27=0,"一致","差異あり"))))))),0,1)))) -> 0
K28: =IF(P28="","",IF(Q28<>0,NA(),IF(OR(I28="未確認",D28="未確認",AND(F28="必要",G28="未確認")),"",IF(F28="必要",H28,E28)))) | L28: =IF(P28="","",IF(Q28<>0,NA(),IF(OR(B28="未確認",C28<0,NOT(ISNUMBER(K28))),"",K28-C28))) | M28: =IF(P28="","",IF(Q28<>0,NA(),IF(ISNUMBER(L28),MAX(-L28,0),""))) | N28: =IF(P28="","",IF(Q28<>0,NA(),IF(ISNUMBER(L28),MAX(L28,0),""))) | O28: =IF(P28="","",IF(Q28<>0,NA(),IF(I28="未確認","時点未確認",IF(D28="未確認","実棚未確認",IF(AND(F28="必要",G28="未確認"),"再数待ち",IF(B28="未確認","帳簿未確認",IF(C28<0,"帳簿負数",IF(L28=0,"一致","差異あり")))))))) | P28: =IF(COUNTA(A28:J28)=0,"",IF(NOT(AND(ISTEXT(A28),LEN(A28)=8,EXACT(LEFT(A28,4),"SKU-"),ISNUMBER(FIND(MID(A28,5,1)&"x","0x1x2x3x4x5x6x7x8x9x")),ISNUMBER(FIND(MID(A28,6,1)&"x","0x1x2x3x4x5x6x7x8x9x")),ISNUMBER(FIND(MID(A28,7,1)&"x","0x1x2x3x4x5x6x7x8x9x")),ISNUMBER(FIND(MID(A28,8,1)&"x","0x1x2x3x4x5x6x7x8x9x")))),"IDはSKU-と半角数字4桁",IF(COUNTIFS($A$8:$A$57,A28)>1,"品目IDが重複",IF(NOT(OR(B28="確認済",B28="未確認")),"帳簿区分を確認",IF(AND(B28="確認済",NOT(IF(ISNUMBER(C28),AND(C28>=-1000000,C28<=1000000,C28=INT(C28)),FALSE()))),"確認済帳簿は±100万個の整数で必須",IF(AND(B28="未確認",COUNTA(C28)>0),"未確認帳簿は空欄",IF(NOT(OR(D28="確認済",D28="未確認")),"初回区分を確認",IF(AND(D28="確認済",NOT(IF(ISNUMBER(E28),AND(E28>=0,E28<=1000000,E28=INT(E28)),FALSE()))),"確認済初回は0〜100万個の整数で必須",IF(AND(D28="未確認",COUNTA(E28)>0),"未確認初回は空欄",IF(NOT(OR(F28="不要",F28="必要")),"再数要否を確認",IF(AND(F28="必要",D28<>"確認済"),"再数には初回確認済みが必須",IF(AND(F28="不要",OR(G28<>"対象外",COUNTA(H28)>0)),"再数不要は対象外/数量空欄",IF(AND(F28="必要",NOT(OR(G28="確認済",G28="未確認"))),"必要な再数区分を確認",IF(AND(F28="必要",G28="確認済",NOT(IF(ISNUMBER(H28),AND(H28>=0,H28<=1000000,H28=INT(H28)),FALSE()))),"確認済再数は0〜100万個の整数で必須",IF(AND(F28="必要",G28="未確認",COUNTA(H28)>0),"未確認再数は空欄",IF(NOT(OR(I28="確認済",I28="未確認")),"時点照合を確認",IF(NOT(IF(ISNUMBER(J28),AND(J28>=43831,J28<=73050,J28=INT(J28)),FALSE())),"確認日は時刻なしで必須",IF(OR(J28<棚卸集計!$B$3,J28>棚卸集計!$E$3),"棚卸基準日≦確認日≦確認基準日","確認済み")))))))))))))))))) | Q28: =IF(P28="","",IF(P28="確認済み",0,1)) | R28: =IF(COUNTA(A28:J28)=0,IF(AND(P28="",Q28="",K28="",L28="",M28="",N28="",O28=""),0,1),IF(NOT(AND(ISTEXT(P28),P28=IF(COUNTA(A28:J28)=0,"",IF(NOT(AND(ISTEXT(A28),LEN(A28)=8,EXACT(LEFT(A28,4),"SKU-"),ISNUMBER(FIND(MID(A28,5,1)&"x","0x1x2x3x4x5x6x7x8x9x")),ISNUMBER(FIND(MID(A28,6,1)&"x","0x1x2x3x4x5x6x7x8x9x")),ISNUMBER(FIND(MID(A28,7,1)&"x","0x1x2x3x4x5x6x7x8x9x")),ISNUMBER(FIND(MID(A28,8,1)&"x","0x1x2x3x4x5x6x7x8x9x")))),"IDはSKU-と半角数字4桁",IF(COUNTIFS($A$8:$A$57,A28)>1,"品目IDが重複",IF(NOT(OR(B28="確認済",B28="未確認")),"帳簿区分を確認",IF(AND(B28="確認済",NOT(IF(ISNUMBER(C28),AND(C28>=-1000000,C28<=1000000,C28=INT(C28)),FALSE()))),"確認済帳簿は±100万個の整数で必須",IF(AND(B28="未確認",COUNTA(C28)>0),"未確認帳簿は空欄",IF(NOT(OR(D28="確認済",D28="未確認")),"初回区分を確認",IF(AND(D28="確認済",NOT(IF(ISNUMBER(E28),AND(E28>=0,E28<=1000000,E28=INT(E28)),FALSE()))),"確認済初回は0〜100万個の整数で必須",IF(AND(D28="未確認",COUNTA(E28)>0),"未確認初回は空欄",IF(NOT(OR(F28="不要",F28="必要")),"再数要否を確認",IF(AND(F28="必要",D28<>"確認済"),"再数には初回確認済みが必須",IF(AND(F28="不要",OR(G28<>"対象外",COUNTA(H28)>0)),"再数不要は対象外/数量空欄",IF(AND(F28="必要",NOT(OR(G28="確認済",G28="未確認"))),"必要な再数区分を確認",IF(AND(F28="必要",G28="確認済",NOT(IF(ISNUMBER(H28),AND(H28>=0,H28<=1000000,H28=INT(H28)),FALSE()))),"確認済再数は0〜100万個の整数で必須",IF(AND(F28="必要",G28="未確認",COUNTA(H28)>0),"未確認再数は空欄",IF(NOT(OR(I28="確認済",I28="未確認")),"時点照合を確認",IF(NOT(IF(ISNUMBER(J28),AND(J28>=43831,J28<=73050,J28=INT(J28)),FALSE())),"確認日は時刻なしで必須",IF(OR(J28<棚卸集計!$B$3,J28>棚卸集計!$E$3),"棚卸基準日≦確認日≦確認基準日","確認済み")))))))))))))))))),ISNUMBER(Q28),Q28=IF(P28="確認済み",0,1))),1,IF(Q28<>0,0,IF(AND(IF(ISTEXT(IF(OR(I28="未確認",D28="未確認",AND(F28="必要",G28="未確認")),"",IF(F28="必要",H28,E28))),ISTEXT(K28),ISNUMBER(K28)),K28=IF(OR(I28="未確認",D28="未確認",AND(F28="必要",G28="未確認")),"",IF(F28="必要",H28,E28)),IF(ISTEXT(IF(OR(B28="未確認",C28<0,NOT(ISNUMBER(K28))),"",K28-C28)),ISTEXT(L28),ISNUMBER(L28)),L28=IF(OR(B28="未確認",C28<0,NOT(ISNUMBER(K28))),"",K28-C28),IF(ISTEXT(IF(ISNUMBER(L28),MAX(-L28,0),"")),ISTEXT(M28),ISNUMBER(M28)),M28=IF(ISNUMBER(L28),MAX(-L28,0),""),IF(ISTEXT(IF(ISNUMBER(L28),MAX(L28,0),"")),ISTEXT(N28),ISNUMBER(N28)),N28=IF(ISNUMBER(L28),MAX(L28,0),""),ISTEXT(O28),O28=IF(I28="未確認","時点未確認",IF(D28="未確認","実棚未確認",IF(AND(F28="必要",G28="未確認"),"再数待ち",IF(B28="未確認","帳簿未確認",IF(C28<0,"帳簿負数",IF(L28=0,"一致","差異あり"))))))),0,1)))) -> 0
... K57: =IF(P57="","",IF(Q57<>0,NA(),IF(OR(I57="未確認",D57="未確認",AND(F57="必要",G57="未確認")),"",IF(F57="必要",H57,E57)))) | L57: =IF(P57="","",IF(Q57<>0,NA(),IF(OR(B57="未確認",C57<0,NOT(ISNUMBER(K57))),"",K57-C57))) | M57: =IF(P57="","",IF(Q57<>0,NA(),IF(ISNUMBER(L57),MAX(-L57,0),""))) | N57: =IF(P57="","",IF(Q57<>0,NA(),IF(ISNUMBER(L57),MAX(L57,0),""))) | O57: =IF(P57="","",IF(Q57<>0,NA(),IF(I57="未確認","時点未確認",IF(D57="未確認","実棚未確認",IF(AND(F57="必要",G57="未確認"),"再数待ち",IF(B57="未確認","帳簿未確認",IF(C57<0,"帳簿負数",IF(L57=0,"一致","差異あり")))))))) | P57: =IF(COUNTA(A57:J57)=0,"",IF(NOT(AND(ISTEXT(A57),LEN(A57)=8,EXACT(LEFT(A57,4),"SKU-"),ISNUMBER(FIND(MID(A57,5,1)&"x","0x1x2x3x4x5x6x7x8x9x")),ISNUMBER(FIND(MID(A57,6,1)&"x","0x1x2x3x4x5x6x7x8x9x")),ISNUMBER(FIND(MID(A57,7,1)&"x","0x1x2x3x4x5x6x7x8x9x")),ISNUMBER(FIND(MID(A57,8,1)&"x","0x1x2x3x4x5x6x7x8x9x")))),"IDはSKU-と半角数字4桁",IF(COUNTIFS($A$8:$A$57,A57)>1,"品目IDが重複",IF(NOT(OR(B57="確認済",B57="未確認")),"帳簿区分を確認",IF(AND(B57="確認済",NOT(IF(ISNUMBER(C57),AND(C57>=-1000000,C57<=1000000,C57=INT(C57)),FALSE()))),"確認済帳簿は±100万個の整数で必須",IF(AND(B57="未確認",COUNTA(C57)>0),"未確認帳簿は空欄",IF(NOT(OR(D57="確認済",D57="未確認")),"初回区分を確認",IF(AND(D57="確認済",NOT(IF(ISNUMBER(E57),AND(E57>=0,E57<=1000000,E57=INT(E57)),FALSE()))),"確認済初回は0〜100万個の整数で必須",IF(AND(D57="未確認",COUNTA(E57)>0),"未確認初回は空欄",IF(NOT(OR(F57="不要",F57="必要")),"再数要否を確認",IF(AND(F57="必要",D57<>"確認済"),"再数には初回確認済みが必須",IF(AND(F57="不要",OR(G57<>"対象外",COUNTA(H57)>0)),"再数不要は対象外/数量空欄",IF(AND(F57="必要",NOT(OR(G57="確認済",G57="未確認"))),"必要な再数区分を確認",IF(AND(F57="必要",G57="確認済",NOT(IF(ISNUMBER(H57),AND(H57>=0,H57<=1000000,H57=INT(H57)),FALSE()))),"確認済再数は0〜100万個の整数で必須",IF(AND(F57="必要",G57="未確認",COUNTA(H57)>0),"未確認再数は空欄",IF(NOT(OR(I57="確認済",I57="未確認")),"時点照合を確認",IF(NOT(IF(ISNUMBER(J57),AND(J57>=43831,J57<=73050,J57=INT(J57)),FALSE())),"確認日は時刻なしで必須",IF(OR(J57<棚卸集計!$B$3,J57>棚卸集計!$E$3),"棚卸基準日≦確認日≦確認基準日","確認済み")))))))))))))))))) | Q57: =IF(P57="","",IF(P57="確認済み",0,1)) | R57: =IF(COUNTA(A57:J57)=0,IF(AND(P57="",Q57="",K57="",L57="",M57="",N57="",O57=""),0,1),IF(NOT(AND(ISTEXT(P57),P57=IF(COUNTA(A57:J57)=0,"",IF(NOT(AND(ISTEXT(A57),LEN(A57)=8,EXACT(LEFT(A57,4),"SKU-"),ISNUMBER(FIND(MID(A57,5,1)&"x","0x1x2x3x4x5x6x7x8x9x")),ISNUMBER(FIND(MID(A57,6,1)&"x","0x1x2x3x4x5x6x7x8x9x")),ISNUMBER(FIND(MID(A57,7,1)&"x","0x1x2x3x4x5x6x7x8x9x")),ISNUMBER(FIND(MID(A57,8,1)&"x","0x1x2x3x4x5x6x7x8x9x")))),"IDはSKU-と半角数字4桁",IF(COUNTIFS($A$8:$A$57,A57)>1,"品目IDが重複",IF(NOT(OR(B57="確認済",B57="未確認")),"帳簿区分を確認",IF(AND(B57="確認済",NOT(IF(ISNUMBER(C57),AND(C57>=-1000000,C57<=1000000,C57=INT(C57)),FALSE()))),"確認済帳簿は±100万個の整数で必須",IF(AND(B57="未確認",COUNTA(C57)>0),"未確認帳簿は空欄",IF(NOT(OR(D57="確認済",D57="未確認")),"初回区分を確認",IF(AND(D57="確認済",NOT(IF(ISNUMBER(E57),AND(E57>=0,E57<=1000000,E57=INT(E57)),FALSE()))),"確認済初回は0〜100万個の整数で必須",IF(AND(D57="未確認",COUNTA(E57)>0),"未確認初回は空欄",IF(NOT(OR(F57="不要",F57="必要")),"再数要否を確認",IF(AND(F57="必要",D57<>"確認済"),"再数には初回確認済みが必須",IF(AND(F57="不要",OR(G57<>"対象外",COUNTA(H57)>0)),"再数不要は対象外/数量空欄",IF(AND(F57="必要",NOT(OR(G57="確認済",G57="未確認"))),"必要な再数区分を確認",IF(AND(F57="必要",G57="確認済",NOT(IF(ISNUMBER(H57),AND(H57>=0,H57<=1000000,H57=INT(H57)),FALSE()))),"確認済再数は0〜100万個の整数で必須",IF(AND(F57="必要",G57="未確認",COUNTA(H57)>0),"未確認再数は空欄",IF(NOT(OR(I57="確認済",I57="未確認")),"時点照合を確認",IF(NOT(IF(ISNUMBER(J57),AND(J57>=43831,J57<=73050,J57=INT(J57)),FALSE())),"確認日は時刻なしで必須",IF(OR(J57<棚卸集計!$B$3,J57>棚卸集計!$E$3),"棚卸基準日≦確認日≦確認基準日","確認済み")))))))))))))))))),ISNUMBER(Q57),Q57=IF(P57="確認済み",0,1))),1,IF(Q57<>0,0,IF(AND(IF(ISTEXT(IF(OR(I57="未確認",D57="未確認",AND(F57="必要",G57="未確認")),"",IF(F57="必要",H57,E57))),ISTEXT(K57),ISNUMBER(K57)),K57=IF(OR(I57="未確認",D57="未確認",AND(F57="必要",G57="未確認")),"",IF(F57="必要",H57,E57)),IF(ISTEXT(IF(OR(B57="未確認",C57<0,NOT(ISNUMBER(K57))),"",K57-C57)),ISTEXT(L57),ISNUMBER(L57)),L57=IF(OR(B57="未確認",C57<0,NOT(ISNUMBER(K57))),"",K57-C57),IF(ISTEXT(IF(ISNUMBER(L57),MAX(-L57,0),"")),ISTEXT(M57),ISNUMBER(M57)),M57=IF(ISNUMBER(L57),MAX(-L57,0),""),IF(ISTEXT(IF(ISNUMBER(L57),MAX(L57,0),"")),ISTEXT(N57),ISNUMBER(N57)),N57=IF(ISNUMBER(L57),MAX(L57,0),""),ISTEXT(O57),O57=IF(I57="未確認","時点未確認",IF(D57="未確認","実棚未確認",IF(AND(F57="必要",G57="未確認"),"再数待ち",IF(B57="未確認","帳簿未確認",IF(C57<0,"帳簿負数",IF(L57=0,"一致","差異あり"))))))),0,1)))) -> 0
A61: 架空教材。50品目、単一場所、単位は整数個。同じ基準時点の帳簿と実棚を照合。SKU-と半角数字4桁。
A62: 初回数量を残し、再数必要なら再数確認まで採用/差異を保留。2回の数量を合計/平均しません。
A63: 再数不要は区分対象外・数量空欄。必要は初回確認済みが必須で、再数区分は確認済/未確認。
A64: 帳簿は±100万、初回/再数は0〜100万個の整数。未確認は数量空欄、既知0は数値0。
A65: 時点未確認なら採用実棚/差異を保留。後日カウント時の入出庫を本表で自動補正しません。
A66: 同時点へそろえた根拠を別保管。棚卸中の入出庫停止、混入防止と網羅性の確認は現場手順で管理。
A67: 差異＝採用実棚−帳簿。不足＝負の差異の絶対値、過剰＝正の差異。過不足を相殺しません。
A68: 帳簿不明/負数は差異を保留。負数を0に丸めず、原資料を照合して原因を確認。
A69: 判定順は時点未確認/実棚未確認/再数待ち/帳簿未確認/帳簿負数/一致または差異あり。
A70: 登録＝比較済＋比較保留、比較済＝一致＋差異あり。差引/不足/過剰は同じ比較済品目だけ。
A71: 比較済差引は一部小計。比較済0件は対象なし、全品目差引は保留品目があれば判定保留。
A72: 記録確認日は基準日以上・確認基準日以下、2020〜2099年で時刻なし。数量の実際の基準時点とは別。
... A82: Microsoft COUNTIFS https://support.microsoft.com/en-us/excel/functions/countifs-function
