Workbook

Sheet 研修状況
A2: 研修の修了と未確認を分けて確認 | I2: 基準日の前提 | J2: 入力の前提
A3: 照合基準日 | B3: 46310 | H3: =IF(J3=0,"入力不備なし","入力を確認") -> 入力不備なし | I3: =IF(AND(ISNUMBER(B3),B3>=43831,B3<73051,B3=INT(B3)),0,1) -> 0 | J3: =I3+SUM(受講記録!K8:K57)+SUM(受講記録!L8:L57)+SUM(登録ID!C8:C27)+SUM(登録ID!G8:G17) -> 0
A4: 対象（件） | B4: =IF($J$3=0,COUNTIFS(受講記録!D8:D57,"対象",受講記録!J8:J57,"確認済み"),NA()) -> 4 | D4: 修了（件） | E4: =IF($J$3=0,SUM(受講記録!I8:I57),NA()) -> 2 | G4: 未修了（件） | H4: =IF($J$3=0,COUNTIFS(受講記録!H8:H57,"未修了")+COUNTIFS(受講記録!H8:H57,"期限超過"),NA()) -> 2
A5: 期限超過（件） | B5: =IF($J$3=0,COUNTIFS(受講記録!H8:H57,"期限超過"),NA()) -> 1 | D5: 免除（件） | E5: =IF($J$3=0,COUNTIFS(受講記録!H8:H57,"免除"),NA()) -> 1 | G5: 対象外（件） | H5: =IF($J$3=0,COUNTIFS(受講記録!H8:H57,"対象外"),NA()) -> 1
A6: 未確認（件） | B6: =IF($J$3=0,COUNTIFS(受講記録!H8:H57,"未確認"),NA()) -> 1 | D6: 期限後修了（件） | E6: =IF($J$3=0,COUNTIFS(受講記録!H8:H57,"期限後修了"),NA()) -> 1 | G6: 照合差額（件） | H6: =H7-B4-E5-H5-B6 -> 0
A7: 修了率 | B7: =IF($J$3<>0,NA(),IF(B6>0,"判定保留",IF(B4=0,"対象なし",E4/B4))) -> 判定保留 | G7: 全記録（件） | H7: =IF($J$3=0,COUNTIFS(受講記録!J8:J57,"確認済み"),NA()) -> 7
A8: 件数は対象者×研修。免除/対象外は修了に含めず、未確認がある間は修了率を保留します。
A9: 受講ID | B9: 対象者ID | C9: 研修ID | D9: 期限 | E9: 修了日 | F9: 対象区分 | G9: 進捗 | H9: 記録確認日
A10: =IF(COUNTA(受講記録!A8:G8)=0,"",受講記録!A8) -> ENR-0001 | B10: =IF(COUNTA(受講記録!A8:G8)=0,"",受講記録!B8) -> STF-0001 | C10: =IF(COUNTA(受講記録!A8:G8)=0,"",受講記録!C8) -> CRS-0001 | D10: =IF(COUNTA(受講記録!A8:G8)=0,"",IF(受講記録!E8="","",受講記録!E8)) -> 46305 | E10: =IF(COUNTA(受講記録!A8:G8)=0,"",IF(受講記録!F8="","",受講記録!F8)) -> 46304 | F10: =IF(COUNTA(受講記録!A8:G8)=0,"",受講記録!D8) -> 対象 | G10: =IF(COUNTA(受講記録!A8:G8)=0,"",受講記録!H8) -> 修了 | H10: =IF(COUNTA(受講記録!A8:G8)=0,"",受講記録!G8) -> 46305
A11: =IF(COUNTA(受講記録!A9:G9)=0,"",受講記録!A9) -> ENR-0002 | B11: =IF(COUNTA(受講記録!A9:G9)=0,"",受講記録!B9) -> STF-0002 | C11: =IF(COUNTA(受講記録!A9:G9)=0,"",受講記録!C9) -> CRS-0001 | D11: =IF(COUNTA(受講記録!A9:G9)=0,"",IF(受講記録!E9="","",受講記録!E9)) -> 46309 | E11: =IF(COUNTA(受講記録!A9:G9)=0,"",IF(受講記録!F9="","",受講記録!F9)) | F11: =IF(COUNTA(受講記録!A9:G9)=0,"",受講記録!D9) -> 対象 | G11: =IF(COUNTA(受講記録!A9:G9)=0,"",受講記録!H9) -> 期限超過 | H11: =IF(COUNTA(受講記録!A9:G9)=0,"",受講記録!G9) -> 46310
A12: =IF(COUNTA(受講記録!A10:G10)=0,"",受講記録!A10) -> ENR-0003 | B12: =IF(COUNTA(受講記録!A10:G10)=0,"",受講記録!B10) -> STF-0001 | C12: =IF(COUNTA(受講記録!A10:G10)=0,"",受講記録!C10) -> CRS-0002 | D12: =IF(COUNTA(受講記録!A10:G10)=0,"",IF(受講記録!E10="","",受講記録!E10)) -> 46315 | E12: =IF(COUNTA(受講記録!A10:G10)=0,"",IF(受講記録!F10="","",受講記録!F10)) | F12: =IF(COUNTA(受講記録!A10:G10)=0,"",受講記録!D10) -> 対象 | G12: =IF(COUNTA(受講記録!A10:G10)=0,"",受講記録!H10) -> 未修了 | H12: =IF(COUNTA(受講記録!A10:G10)=0,"",受講記録!G10) -> 46310
A13: =IF(COUNTA(受講記録!A11:G11)=0,"",受講記録!A11) -> ENR-0004 | B13: =IF(COUNTA(受講記録!A11:G11)=0,"",受講記録!B11) -> STF-0002 | C13: =IF(COUNTA(受講記録!A11:G11)=0,"",受講記録!C11) -> CRS-0002 | D13: =IF(COUNTA(受講記録!A11:G11)=0,"",IF(受講記録!E11="","",受講記録!E11)) | E13: =IF(COUNTA(受講記録!A11:G11)=0,"",IF(受講記録!F11="","",受講記録!F11)) | F13: =IF(COUNTA(受講記録!A11:G11)=0,"",受講記録!D11) -> 免除 | G13: =IF(COUNTA(受講記録!A11:G11)=0,"",受講記録!H11) -> 免除 | H13: =IF(COUNTA(受講記録!A11:G11)=0,"",受講記録!G11) -> 46307
A14: =IF(COUNTA(受講記録!A12:G12)=0,"",受講記録!A12) -> ENR-0005 | B14: =IF(COUNTA(受講記録!A12:G12)=0,"",受講記録!B12) -> STF-0003 | C14: =IF(COUNTA(受講記録!A12:G12)=0,"",受講記録!C12) -> CRS-0001 | D14: =IF(COUNTA(受講記録!A12:G12)=0,"",IF(受講記録!E12="","",受講記録!E12)) | E14: =IF(COUNTA(受講記録!A12:G12)=0,"",IF(受講記録!F12="","",受講記録!F12)) | F14: =IF(COUNTA(受講記録!A12:G12)=0,"",受講記録!D12) -> 対象外 | G14: =IF(COUNTA(受講記録!A12:G12)=0,"",受講記録!H12) -> 対象外 | H14: =IF(COUNTA(受講記録!A12:G12)=0,"",受講記録!G12) -> 46307
A15: =IF(COUNTA(受講記録!A13:G13)=0,"",受講記録!A13) -> ENR-0006 | B15: =IF(COUNTA(受講記録!A13:G13)=0,"",受講記録!B13) -> STF-0003 | C15: =IF(COUNTA(受講記録!A13:G13)=0,"",受講記録!C13) -> CRS-0002 | D15: =IF(COUNTA(受講記録!A13:G13)=0,"",IF(受講記録!E13="","",受講記録!E13)) | E15: =IF(COUNTA(受講記録!A13:G13)=0,"",IF(受講記録!F13="","",受講記録!F13)) | F15: =IF(COUNTA(受講記録!A13:G13)=0,"",受講記録!D13) -> 未確認 | G15: =IF(COUNTA(受講記録!A13:G13)=0,"",受講記録!H13) -> 未確認 | H15: =IF(COUNTA(受講記録!A13:G13)=0,"",受講記録!G13) -> 46310
A16: =IF(COUNTA(受講記録!A14:G14)=0,"",受講記録!A14) -> ENR-0007 | B16: =IF(COUNTA(受講記録!A14:G14)=0,"",受講記録!B14) -> STF-0004 | C16: =IF(COUNTA(受講記録!A14:G14)=0,"",受講記録!C14) -> CRS-0001 | D16: =IF(COUNTA(受講記録!A14:G14)=0,"",IF(受講記録!E14="","",受講記録!E14)) -> 46305 | E16: =IF(COUNTA(受講記録!A14:G14)=0,"",IF(受講記録!F14="","",受講記録!F14)) -> 46307 | F16: =IF(COUNTA(受講記録!A14:G14)=0,"",受講記録!D14) -> 対象 | G16: =IF(COUNTA(受講記録!A14:G14)=0,"",受講記録!H14) -> 期限後修了 | H16: =IF(COUNTA(受講記録!A14:G14)=0,"",受講記録!G14) -> 46308
A17: =IF(COUNTA(受講記録!A15:G15)=0,"",受講記録!A15) | B17: =IF(COUNTA(受講記録!A15:G15)=0,"",受講記録!B15) | C17: =IF(COUNTA(受講記録!A15:G15)=0,"",受講記録!C15) | D17: =IF(COUNTA(受講記録!A15:G15)=0,"",IF(受講記録!E15="","",受講記録!E15)) | E17: =IF(COUNTA(受講記録!A15:G15)=0,"",IF(受講記録!F15="","",受講記録!F15)) | F17: =IF(COUNTA(受講記録!A15:G15)=0,"",受講記録!D15) | G17: =IF(COUNTA(受講記録!A15:G15)=0,"",受講記録!H15) | H17: =IF(COUNTA(受講記録!A15:G15)=0,"",受講記録!G15)
A18: =IF(COUNTA(受講記録!A16:G16)=0,"",受講記録!A16) | B18: =IF(COUNTA(受講記録!A16:G16)=0,"",受講記録!B16) | C18: =IF(COUNTA(受講記録!A16:G16)=0,"",受講記録!C16) | D18: =IF(COUNTA(受講記録!A16:G16)=0,"",IF(受講記録!E16="","",受講記録!E16)) | E18: =IF(COUNTA(受講記録!A16:G16)=0,"",IF(受講記録!F16="","",受講記録!F16)) | F18: =IF(COUNTA(受講記録!A16:G16)=0,"",受講記録!D16) | G18: =IF(COUNTA(受講記録!A16:G16)=0,"",受講記録!H16) | H18: =IF(COUNTA(受講記録!A16:G16)=0,"",受講記録!G16)
A19: =IF(COUNTA(受講記録!A17:G17)=0,"",受講記録!A17) | B19: =IF(COUNTA(受講記録!A17:G17)=0,"",受講記録!B17) | C19: =IF(COUNTA(受講記録!A17:G17)=0,"",受講記録!C17) | D19: =IF(COUNTA(受講記録!A17:G17)=0,"",IF(受講記録!E17="","",受講記録!E17)) | E19: =IF(COUNTA(受講記録!A17:G17)=0,"",IF(受講記録!F17="","",受講記録!F17)) | F19: =IF(COUNTA(受講記録!A17:G17)=0,"",受講記録!D17) | G19: =IF(COUNTA(受講記録!A17:G17)=0,"",受講記録!H17) | H19: =IF(COUNTA(受講記録!A17:G17)=0,"",受講記録!G17)
A20: =IF(COUNTA(受講記録!A18:G18)=0,"",受講記録!A18) | B20: =IF(COUNTA(受講記録!A18:G18)=0,"",受講記録!B18) | C20: =IF(COUNTA(受講記録!A18:G18)=0,"",受講記録!C18) | D20: =IF(COUNTA(受講記録!A18:G18)=0,"",IF(受講記録!E18="","",受講記録!E18)) | E20: =IF(COUNTA(受講記録!A18:G18)=0,"",IF(受講記録!F18="","",受講記録!F18)) | F20: =IF(COUNTA(受講記録!A18:G18)=0,"",受講記録!D18) | G20: =IF(COUNTA(受講記録!A18:G18)=0,"",受講記録!H18) | H20: =IF(COUNTA(受講記録!A18:G18)=0,"",受講記録!G18)
A21: =IF(COUNTA(受講記録!A19:G19)=0,"",受講記録!A19) | B21: =IF(COUNTA(受講記録!A19:G19)=0,"",受講記録!B19) | C21: =IF(COUNTA(受講記録!A19:G19)=0,"",受講記録!C19) | D21: =IF(COUNTA(受講記録!A19:G19)=0,"",IF(受講記録!E19="","",受講記録!E19)) | E21: =IF(COUNTA(受講記録!A19:G19)=0,"",IF(受講記録!F19="","",受講記録!F19)) | F21: =IF(COUNTA(受講記録!A19:G19)=0,"",受講記録!D19) | G21: =IF(COUNTA(受講記録!A19:G19)=0,"",受講記録!H19) | H21: =IF(COUNTA(受講記録!A19:G19)=0,"",受講記録!G19)
... A59: =IF(COUNTA(受講記録!A57:G57)=0,"",受講記録!A57) | B59: =IF(COUNTA(受講記録!A57:G57)=0,"",受講記録!B57) | C59: =IF(COUNTA(受講記録!A57:G57)=0,"",受講記録!C57) | D59: =IF(COUNTA(受講記録!A57:G57)=0,"",IF(受講記録!E57="","",受講記録!E57)) | E59: =IF(COUNTA(受講記録!A57:G57)=0,"",IF(受講記録!F57="","",受講記録!F57)) | F59: =IF(COUNTA(受講記録!A57:G57)=0,"",受講記録!D57) | G59: =IF(COUNTA(受講記録!A57:G57)=0,"",受講記録!H57) | H59: =IF(COUNTA(受講記録!A57:G57)=0,"",受講記録!G57)

Sheet 受講記録
A2: 対象者ごとの研修記録
A3: 黄色のA〜Gへ。1人×同じ研修IDは1件、50件まで。修了条件は元資料で確認。
A5: 対象:期限必須、修了日は条件達成を確認済みの場合だけ。免除/対象外/未確認は期限と修了日を空欄。
A7: 受講ID | B7: 対象者ID | C7: 研修ID | D7: 対象区分 | E7: 期限 | F7: 修了日 | G7: 記録確認日 | H7: 進捗 | I7: 修了フラグ | J7: 入力の確認 | K7: 入力不備 | L7: 計算の前提
A8: ENR-0001 | B8: STF-0001 | C8: CRS-0001 | D8: 対象 | E8: 46305 | F8: 46304 | G8: 46305 | H8: =IF(J8="","",IF(K8<>0,NA(),IF(D8<>"対象",D8,IF(F8="",IF(E8<研修状況!$B$3,"期限超過","未修了"),IF(F8>E8,"期限後修了","修了"))))) -> 修了 | I8: =IF(J8="","",IF(K8<>0,NA(),IF(AND(D8="対象",F8<>""),1,0))) -> 1 | J8: =IF(COUNTA(A8:G8)=0,"",IF(NOT(AND(ISTEXT(A8),LEN(A8)=8,EXACT(LEFT(A8,4),"ENR-"),ISNUMBER(FIND(MID(A8,5,1)&"x","0x1x2x3x4x5x6x7x8x9x")),ISNUMBER(FIND(MID(A8,6,1)&"x","0x1x2x3x4x5x6x7x8x9x")),ISNUMBER(FIND(MID(A8,7,1)&"x","0x1x2x3x4x5x6x7x8x9x")),ISNUMBER(FIND(MID(A8,8,1)&"x","0x1x2x3x4x5x6x7x8x9x")))),"IDはENR-と半角数字4桁",IF(COUNTIFS($A$8:$A$57,A8)>1,"受講IDが重複",IF(NOT(AND(ISTEXT(B8),LEN(B8)=8,EXACT(LEFT(B8,4),"STF-"),ISNUMBER(FIND(MID(B8,5,1)&"x","0x1x2x3x4x5x6x7x8x9x")),ISNUMBER(FIND(MID(B8,6,1)&"x","0x1x2x3x4x5x6x7x8x9x")),ISNUMBER(FIND(MID(B8,7,1)&"x","0x1x2x3x4x5x6x7x8x9x")),ISNUMBER(FIND(MID(B8,8,1)&"x","0x1x2x3x4x5x6x7x8x9x")))),"対象者IDの形式を確認",IF(COUNTIFS(登録ID!$A$8:$A$27,B8)<>1,"対象者IDが未登録/重複",IF(NOT(AND(ISTEXT(C8),LEN(C8)=8,EXACT(LEFT(C8,4),"CRS-"),ISNUMBER(FIND(MID(C8,5,1)&"x","0x1x2x3x4x5x6x7x8x9x")),ISNUMBER(FIND(MID(C8,6,1)&"x","0x1x2x3x4x5x6x7x8x9x")),ISNUMBER(FIND(MID(C8,7,1)&"x","0x1x2x3x4x5x6x7x8x9x")),ISNUMBER(FIND(MID(C8,8,1)&"x","0x1x2x3x4x5x6x7x8x9x")))),"研修IDの形式を確認",IF(COUNTIFS(登録ID!$E$8:$E$17,C8)<>1,"研修IDが未登録/重複",IF(COUNTIFS($B$8:$B$57,B8,$C$8:$C$57,C8)>1,"同じ対象者/研修が重複",IF(NOT(OR(D8="対象",D8="免除",D8="対象外",D8="未確認")),"対象区分を確認",IF(NOT(AND(ISNUMBER(G8),G8>=43831,G8<73051,G8=INT(G8))),"記録確認日は日付で必須",IF(G8>研修状況!$B$3,"確認日が基準日より後",IF(AND(D8="対象",NOT(AND(ISNUMBER(E8),E8>=43831,E8<73051,E8=INT(E8)))),"対象の期限を確認",IF(AND(D8<>"対象",OR(E8<>"",F8<>"")),"対象以外は期限/修了日を空欄",IF(AND(D8="対象",F8<>"",NOT(AND(ISNUMBER(F8),F8>=43831,F8<73051,F8=INT(F8)))),"修了日を確認",IF(AND(F8<>"",F8>G8),"修了日が確認日より後","確認済み"))))))))))))))) -> 確認済み | K8: =IF(J8="","",IF(J8="確認済み",0,1)) -> 0 | L8: =IF(J8="","",IF(K8<>0,0,IF(AND(ISTEXT(H8),H8=IF(D8<>"対象",D8,IF(F8="",IF(E8<研修状況!$B$3,"期限超過","未修了"),IF(F8>E8,"期限後修了","修了"))),ISNUMBER(I8),I8=IF(AND(D8="対象",F8<>""),1,0)),0,1))) -> 0
A9: ENR-0002 | B9: STF-0002 | C9: CRS-0001 | D9: 対象 | E9: 46309 | G9: 46310 | H9: =IF(J9="","",IF(K9<>0,NA(),IF(D9<>"対象",D9,IF(F9="",IF(E9<研修状況!$B$3,"期限超過","未修了"),IF(F9>E9,"期限後修了","修了"))))) -> 期限超過 | I9: =IF(J9="","",IF(K9<>0,NA(),IF(AND(D9="対象",F9<>""),1,0))) -> 0 | J9: =IF(COUNTA(A9:G9)=0,"",IF(NOT(AND(ISTEXT(A9),LEN(A9)=8,EXACT(LEFT(A9,4),"ENR-"),ISNUMBER(FIND(MID(A9,5,1)&"x","0x1x2x3x4x5x6x7x8x9x")),ISNUMBER(FIND(MID(A9,6,1)&"x","0x1x2x3x4x5x6x7x8x9x")),ISNUMBER(FIND(MID(A9,7,1)&"x","0x1x2x3x4x5x6x7x8x9x")),ISNUMBER(FIND(MID(A9,8,1)&"x","0x1x2x3x4x5x6x7x8x9x")))),"IDはENR-と半角数字4桁",IF(COUNTIFS($A$8:$A$57,A9)>1,"受講IDが重複",IF(NOT(AND(ISTEXT(B9),LEN(B9)=8,EXACT(LEFT(B9,4),"STF-"),ISNUMBER(FIND(MID(B9,5,1)&"x","0x1x2x3x4x5x6x7x8x9x")),ISNUMBER(FIND(MID(B9,6,1)&"x","0x1x2x3x4x5x6x7x8x9x")),ISNUMBER(FIND(MID(B9,7,1)&"x","0x1x2x3x4x5x6x7x8x9x")),ISNUMBER(FIND(MID(B9,8,1)&"x","0x1x2x3x4x5x6x7x8x9x")))),"対象者IDの形式を確認",IF(COUNTIFS(登録ID!$A$8:$A$27,B9)<>1,"対象者IDが未登録/重複",IF(NOT(AND(ISTEXT(C9),LEN(C9)=8,EXACT(LEFT(C9,4),"CRS-"),ISNUMBER(FIND(MID(C9,5,1)&"x","0x1x2x3x4x5x6x7x8x9x")),ISNUMBER(FIND(MID(C9,6,1)&"x","0x1x2x3x4x5x6x7x8x9x")),ISNUMBER(FIND(MID(C9,7,1)&"x","0x1x2x3x4x5x6x7x8x9x")),ISNUMBER(FIND(MID(C9,8,1)&"x","0x1x2x3x4x5x6x7x8x9x")))),"研修IDの形式を確認",IF(COUNTIFS(登録ID!$E$8:$E$17,C9)<>1,"研修IDが未登録/重複",IF(COUNTIFS($B$8:$B$57,B9,$C$8:$C$57,C9)>1,"同じ対象者/研修が重複",IF(NOT(OR(D9="対象",D9="免除",D9="対象外",D9="未確認")),"対象区分を確認",IF(NOT(AND(ISNUMBER(G9),G9>=43831,G9<73051,G9=INT(G9))),"記録確認日は日付で必須",IF(G9>研修状況!$B$3,"確認日が基準日より後",IF(AND(D9="対象",NOT(AND(ISNUMBER(E9),E9>=43831,E9<73051,E9=INT(E9)))),"対象の期限を確認",IF(AND(D9<>"対象",OR(E9<>"",F9<>"")),"対象以外は期限/修了日を空欄",IF(AND(D9="対象",F9<>"",NOT(AND(ISNUMBER(F9),F9>=43831,F9<73051,F9=INT(F9)))),"修了日を確認",IF(AND(F9<>"",F9>G9),"修了日が確認日より後","確認済み"))))))))))))))) -> 確認済み | K9: =IF(J9="","",IF(J9="確認済み",0,1)) -> 0 | L9: =IF(J9="","",IF(K9<>0,0,IF(AND(ISTEXT(H9),H9=IF(D9<>"対象",D9,IF(F9="",IF(E9<研修状況!$B$3,"期限超過","未修了"),IF(F9>E9,"期限後修了","修了"))),ISNUMBER(I9),I9=IF(AND(D9="対象",F9<>""),1,0)),0,1))) -> 0
A10: ENR-0003 | B10: STF-0001 | C10: CRS-0002 | D10: 対象 | E10: 46315 | G10: 46310 | H10: =IF(J10="","",IF(K10<>0,NA(),IF(D10<>"対象",D10,IF(F10="",IF(E10<研修状況!$B$3,"期限超過","未修了"),IF(F10>E10,"期限後修了","修了"))))) -> 未修了 | I10: =IF(J10="","",IF(K10<>0,NA(),IF(AND(D10="対象",F10<>""),1,0))) -> 0 | J10: =IF(COUNTA(A10:G10)=0,"",IF(NOT(AND(ISTEXT(A10),LEN(A10)=8,EXACT(LEFT(A10,4),"ENR-"),ISNUMBER(FIND(MID(A10,5,1)&"x","0x1x2x3x4x5x6x7x8x9x")),ISNUMBER(FIND(MID(A10,6,1)&"x","0x1x2x3x4x5x6x7x8x9x")),ISNUMBER(FIND(MID(A10,7,1)&"x","0x1x2x3x4x5x6x7x8x9x")),ISNUMBER(FIND(MID(A10,8,1)&"x","0x1x2x3x4x5x6x7x8x9x")))),"IDはENR-と半角数字4桁",IF(COUNTIFS($A$8:$A$57,A10)>1,"受講IDが重複",IF(NOT(AND(ISTEXT(B10),LEN(B10)=8,EXACT(LEFT(B10,4),"STF-"),ISNUMBER(FIND(MID(B10,5,1)&"x","0x1x2x3x4x5x6x7x8x9x")),ISNUMBER(FIND(MID(B10,6,1)&"x","0x1x2x3x4x5x6x7x8x9x")),ISNUMBER(FIND(MID(B10,7,1)&"x","0x1x2x3x4x5x6x7x8x9x")),ISNUMBER(FIND(MID(B10,8,1)&"x","0x1x2x3x4x5x6x7x8x9x")))),"対象者IDの形式を確認",IF(COUNTIFS(登録ID!$A$8:$A$27,B10)<>1,"対象者IDが未登録/重複",IF(NOT(AND(ISTEXT(C10),LEN(C10)=8,EXACT(LEFT(C10,4),"CRS-"),ISNUMBER(FIND(MID(C10,5,1)&"x","0x1x2x3x4x5x6x7x8x9x")),ISNUMBER(FIND(MID(C10,6,1)&"x","0x1x2x3x4x5x6x7x8x9x")),ISNUMBER(FIND(MID(C10,7,1)&"x","0x1x2x3x4x5x6x7x8x9x")),ISNUMBER(FIND(MID(C10,8,1)&"x","0x1x2x3x4x5x6x7x8x9x")))),"研修IDの形式を確認",IF(COUNTIFS(登録ID!$E$8:$E$17,C10)<>1,"研修IDが未登録/重複",IF(COUNTIFS($B$8:$B$57,B10,$C$8:$C$57,C10)>1,"同じ対象者/研修が重複",IF(NOT(OR(D10="対象",D10="免除",D10="対象外",D10="未確認")),"対象区分を確認",IF(NOT(AND(ISNUMBER(G10),G10>=43831,G10<73051,G10=INT(G10))),"記録確認日は日付で必須",IF(G10>研修状況!$B$3,"確認日が基準日より後",IF(AND(D10="対象",NOT(AND(ISNUMBER(E10),E10>=43831,E10<73051,E10=INT(E10)))),"対象の期限を確認",IF(AND(D10<>"対象",OR(E10<>"",F10<>"")),"対象以外は期限/修了日を空欄",IF(AND(D10="対象",F10<>"",NOT(AND(ISNUMBER(F10),F10>=43831,F10<73051,F10=INT(F10)))),"修了日を確認",IF(AND(F10<>"",F10>G10),"修了日が確認日より後","確認済み"))))))))))))))) -> 確認済み | K10: =IF(J10="","",IF(J10="確認済み",0,1)) -> 0 | L10: =IF(J10="","",IF(K10<>0,0,IF(AND(ISTEXT(H10),H10=IF(D10<>"対象",D10,IF(F10="",IF(E10<研修状況!$B$3,"期限超過","未修了"),IF(F10>E10,"期限後修了","修了"))),ISNUMBER(I10),I10=IF(AND(D10="対象",F10<>""),1,0)),0,1))) -> 0
A11: ENR-0004 | B11: STF-0002 | C11: CRS-0002 | D11: 免除 | G11: 46307 | H11: =IF(J11="","",IF(K11<>0,NA(),IF(D11<>"対象",D11,IF(F11="",IF(E11<研修状況!$B$3,"期限超過","未修了"),IF(F11>E11,"期限後修了","修了"))))) -> 免除 | I11: =IF(J11="","",IF(K11<>0,NA(),IF(AND(D11="対象",F11<>""),1,0))) -> 0 | J11: =IF(COUNTA(A11:G11)=0,"",IF(NOT(AND(ISTEXT(A11),LEN(A11)=8,EXACT(LEFT(A11,4),"ENR-"),ISNUMBER(FIND(MID(A11,5,1)&"x","0x1x2x3x4x5x6x7x8x9x")),ISNUMBER(FIND(MID(A11,6,1)&"x","0x1x2x3x4x5x6x7x8x9x")),ISNUMBER(FIND(MID(A11,7,1)&"x","0x1x2x3x4x5x6x7x8x9x")),ISNUMBER(FIND(MID(A11,8,1)&"x","0x1x2x3x4x5x6x7x8x9x")))),"IDはENR-と半角数字4桁",IF(COUNTIFS($A$8:$A$57,A11)>1,"受講IDが重複",IF(NOT(AND(ISTEXT(B11),LEN(B11)=8,EXACT(LEFT(B11,4),"STF-"),ISNUMBER(FIND(MID(B11,5,1)&"x","0x1x2x3x4x5x6x7x8x9x")),ISNUMBER(FIND(MID(B11,6,1)&"x","0x1x2x3x4x5x6x7x8x9x")),ISNUMBER(FIND(MID(B11,7,1)&"x","0x1x2x3x4x5x6x7x8x9x")),ISNUMBER(FIND(MID(B11,8,1)&"x","0x1x2x3x4x5x6x7x8x9x")))),"対象者IDの形式を確認",IF(COUNTIFS(登録ID!$A$8:$A$27,B11)<>1,"対象者IDが未登録/重複",IF(NOT(AND(ISTEXT(C11),LEN(C11)=8,EXACT(LEFT(C11,4),"CRS-"),ISNUMBER(FIND(MID(C11,5,1)&"x","0x1x2x3x4x5x6x7x8x9x")),ISNUMBER(FIND(MID(C11,6,1)&"x","0x1x2x3x4x5x6x7x8x9x")),ISNUMBER(FIND(MID(C11,7,1)&"x","0x1x2x3x4x5x6x7x8x9x")),ISNUMBER(FIND(MID(C11,8,1)&"x","0x1x2x3x4x5x6x7x8x9x")))),"研修IDの形式を確認",IF(COUNTIFS(登録ID!$E$8:$E$17,C11)<>1,"研修IDが未登録/重複",IF(COUNTIFS($B$8:$B$57,B11,$C$8:$C$57,C11)>1,"同じ対象者/研修が重複",IF(NOT(OR(D11="対象",D11="免除",D11="対象外",D11="未確認")),"対象区分を確認",IF(NOT(AND(ISNUMBER(G11),G11>=43831,G11<73051,G11=INT(G11))),"記録確認日は日付で必須",IF(G11>研修状況!$B$3,"確認日が基準日より後",IF(AND(D11="対象",NOT(AND(ISNUMBER(E11),E11>=43831,E11<73051,E11=INT(E11)))),"対象の期限を確認",IF(AND(D11<>"対象",OR(E11<>"",F11<>"")),"対象以外は期限/修了日を空欄",IF(AND(D11="対象",F11<>"",NOT(AND(ISNUMBER(F11),F11>=43831,F11<73051,F11=INT(F11)))),"修了日を確認",IF(AND(F11<>"",F11>G11),"修了日が確認日より後","確認済み"))))))))))))))) -> 確認済み | K11: =IF(J11="","",IF(J11="確認済み",0,1)) -> 0 | L11: =IF(J11="","",IF(K11<>0,0,IF(AND(ISTEXT(H11),H11=IF(D11<>"対象",D11,IF(F11="",IF(E11<研修状況!$B$3,"期限超過","未修了"),IF(F11>E11,"期限後修了","修了"))),ISNUMBER(I11),I11=IF(AND(D11="対象",F11<>""),1,0)),0,1))) -> 0
A12: ENR-0005 | B12: STF-0003 | C12: CRS-0001 | D12: 対象外 | G12: 46307 | H12: =IF(J12="","",IF(K12<>0,NA(),IF(D12<>"対象",D12,IF(F12="",IF(E12<研修状況!$B$3,"期限超過","未修了"),IF(F12>E12,"期限後修了","修了"))))) -> 対象外 | I12: =IF(J12="","",IF(K12<>0,NA(),IF(AND(D12="対象",F12<>""),1,0))) -> 0 | J12: =IF(COUNTA(A12:G12)=0,"",IF(NOT(AND(ISTEXT(A12),LEN(A12)=8,EXACT(LEFT(A12,4),"ENR-"),ISNUMBER(FIND(MID(A12,5,1)&"x","0x1x2x3x4x5x6x7x8x9x")),ISNUMBER(FIND(MID(A12,6,1)&"x","0x1x2x3x4x5x6x7x8x9x")),ISNUMBER(FIND(MID(A12,7,1)&"x","0x1x2x3x4x5x6x7x8x9x")),ISNUMBER(FIND(MID(A12,8,1)&"x","0x1x2x3x4x5x6x7x8x9x")))),"IDはENR-と半角数字4桁",IF(COUNTIFS($A$8:$A$57,A12)>1,"受講IDが重複",IF(NOT(AND(ISTEXT(B12),LEN(B12)=8,EXACT(LEFT(B12,4),"STF-"),ISNUMBER(FIND(MID(B12,5,1)&"x","0x1x2x3x4x5x6x7x8x9x")),ISNUMBER(FIND(MID(B12,6,1)&"x","0x1x2x3x4x5x6x7x8x9x")),ISNUMBER(FIND(MID(B12,7,1)&"x","0x1x2x3x4x5x6x7x8x9x")),ISNUMBER(FIND(MID(B12,8,1)&"x","0x1x2x3x4x5x6x7x8x9x")))),"対象者IDの形式を確認",IF(COUNTIFS(登録ID!$A$8:$A$27,B12)<>1,"対象者IDが未登録/重複",IF(NOT(AND(ISTEXT(C12),LEN(C12)=8,EXACT(LEFT(C12,4),"CRS-"),ISNUMBER(FIND(MID(C12,5,1)&"x","0x1x2x3x4x5x6x7x8x9x")),ISNUMBER(FIND(MID(C12,6,1)&"x","0x1x2x3x4x5x6x7x8x9x")),ISNUMBER(FIND(MID(C12,7,1)&"x","0x1x2x3x4x5x6x7x8x9x")),ISNUMBER(FIND(MID(C12,8,1)&"x","0x1x2x3x4x5x6x7x8x9x")))),"研修IDの形式を確認",IF(COUNTIFS(登録ID!$E$8:$E$17,C12)<>1,"研修IDが未登録/重複",IF(COUNTIFS($B$8:$B$57,B12,$C$8:$C$57,C12)>1,"同じ対象者/研修が重複",IF(NOT(OR(D12="対象",D12="免除",D12="対象外",D12="未確認")),"対象区分を確認",IF(NOT(AND(ISNUMBER(G12),G12>=43831,G12<73051,G12=INT(G12))),"記録確認日は日付で必須",IF(G12>研修状況!$B$3,"確認日が基準日より後",IF(AND(D12="対象",NOT(AND(ISNUMBER(E12),E12>=43831,E12<73051,E12=INT(E12)))),"対象の期限を確認",IF(AND(D12<>"対象",OR(E12<>"",F12<>"")),"対象以外は期限/修了日を空欄",IF(AND(D12="対象",F12<>"",NOT(AND(ISNUMBER(F12),F12>=43831,F12<73051,F12=INT(F12)))),"修了日を確認",IF(AND(F12<>"",F12>G12),"修了日が確認日より後","確認済み"))))))))))))))) -> 確認済み | K12: =IF(J12="","",IF(J12="確認済み",0,1)) -> 0 | L12: =IF(J12="","",IF(K12<>0,0,IF(AND(ISTEXT(H12),H12=IF(D12<>"対象",D12,IF(F12="",IF(E12<研修状況!$B$3,"期限超過","未修了"),IF(F12>E12,"期限後修了","修了"))),ISNUMBER(I12),I12=IF(AND(D12="対象",F12<>""),1,0)),0,1))) -> 0
A13: ENR-0006 | B13: STF-0003 | C13: CRS-0002 | D13: 未確認 | G13: 46310 | H13: =IF(J13="","",IF(K13<>0,NA(),IF(D13<>"対象",D13,IF(F13="",IF(E13<研修状況!$B$3,"期限超過","未修了"),IF(F13>E13,"期限後修了","修了"))))) -> 未確認 | I13: =IF(J13="","",IF(K13<>0,NA(),IF(AND(D13="対象",F13<>""),1,0))) -> 0 | J13: =IF(COUNTA(A13:G13)=0,"",IF(NOT(AND(ISTEXT(A13),LEN(A13)=8,EXACT(LEFT(A13,4),"ENR-"),ISNUMBER(FIND(MID(A13,5,1)&"x","0x1x2x3x4x5x6x7x8x9x")),ISNUMBER(FIND(MID(A13,6,1)&"x","0x1x2x3x4x5x6x7x8x9x")),ISNUMBER(FIND(MID(A13,7,1)&"x","0x1x2x3x4x5x6x7x8x9x")),ISNUMBER(FIND(MID(A13,8,1)&"x","0x1x2x3x4x5x6x7x8x9x")))),"IDはENR-と半角数字4桁",IF(COUNTIFS($A$8:$A$57,A13)>1,"受講IDが重複",IF(NOT(AND(ISTEXT(B13),LEN(B13)=8,EXACT(LEFT(B13,4),"STF-"),ISNUMBER(FIND(MID(B13,5,1)&"x","0x1x2x3x4x5x6x7x8x9x")),ISNUMBER(FIND(MID(B13,6,1)&"x","0x1x2x3x4x5x6x7x8x9x")),ISNUMBER(FIND(MID(B13,7,1)&"x","0x1x2x3x4x5x6x7x8x9x")),ISNUMBER(FIND(MID(B13,8,1)&"x","0x1x2x3x4x5x6x7x8x9x")))),"対象者IDの形式を確認",IF(COUNTIFS(登録ID!$A$8:$A$27,B13)<>1,"対象者IDが未登録/重複",IF(NOT(AND(ISTEXT(C13),LEN(C13)=8,EXACT(LEFT(C13,4),"CRS-"),ISNUMBER(FIND(MID(C13,5,1)&"x","0x1x2x3x4x5x6x7x8x9x")),ISNUMBER(FIND(MID(C13,6,1)&"x","0x1x2x3x4x5x6x7x8x9x")),ISNUMBER(FIND(MID(C13,7,1)&"x","0x1x2x3x4x5x6x7x8x9x")),ISNUMBER(FIND(MID(C13,8,1)&"x","0x1x2x3x4x5x6x7x8x9x")))),"研修IDの形式を確認",IF(COUNTIFS(登録ID!$E$8:$E$17,C13)<>1,"研修IDが未登録/重複",IF(COUNTIFS($B$8:$B$57,B13,$C$8:$C$57,C13)>1,"同じ対象者/研修が重複",IF(NOT(OR(D13="対象",D13="免除",D13="対象外",D13="未確認")),"対象区分を確認",IF(NOT(AND(ISNUMBER(G13),G13>=43831,G13<73051,G13=INT(G13))),"記録確認日は日付で必須",IF(G13>研修状況!$B$3,"確認日が基準日より後",IF(AND(D13="対象",NOT(AND(ISNUMBER(E13),E13>=43831,E13<73051,E13=INT(E13)))),"対象の期限を確認",IF(AND(D13<>"対象",OR(E13<>"",F13<>"")),"対象以外は期限/修了日を空欄",IF(AND(D13="対象",F13<>"",NOT(AND(ISNUMBER(F13),F13>=43831,F13<73051,F13=INT(F13)))),"修了日を確認",IF(AND(F13<>"",F13>G13),"修了日が確認日より後","確認済み"))))))))))))))) -> 確認済み | K13: =IF(J13="","",IF(J13="確認済み",0,1)) -> 0 | L13: =IF(J13="","",IF(K13<>0,0,IF(AND(ISTEXT(H13),H13=IF(D13<>"対象",D13,IF(F13="",IF(E13<研修状況!$B$3,"期限超過","未修了"),IF(F13>E13,"期限後修了","修了"))),ISNUMBER(I13),I13=IF(AND(D13="対象",F13<>""),1,0)),0,1))) -> 0
A14: ENR-0007 | B14: STF-0004 | C14: CRS-0001 | D14: 対象 | E14: 46305 | F14: 46307 | G14: 46308 | H14: =IF(J14="","",IF(K14<>0,NA(),IF(D14<>"対象",D14,IF(F14="",IF(E14<研修状況!$B$3,"期限超過","未修了"),IF(F14>E14,"期限後修了","修了"))))) -> 期限後修了 | I14: =IF(J14="","",IF(K14<>0,NA(),IF(AND(D14="対象",F14<>""),1,0))) -> 1 | J14: =IF(COUNTA(A14:G14)=0,"",IF(NOT(AND(ISTEXT(A14),LEN(A14)=8,EXACT(LEFT(A14,4),"ENR-"),ISNUMBER(FIND(MID(A14,5,1)&"x","0x1x2x3x4x5x6x7x8x9x")),ISNUMBER(FIND(MID(A14,6,1)&"x","0x1x2x3x4x5x6x7x8x9x")),ISNUMBER(FIND(MID(A14,7,1)&"x","0x1x2x3x4x5x6x7x8x9x")),ISNUMBER(FIND(MID(A14,8,1)&"x","0x1x2x3x4x5x6x7x8x9x")))),"IDはENR-と半角数字4桁",IF(COUNTIFS($A$8:$A$57,A14)>1,"受講IDが重複",IF(NOT(AND(ISTEXT(B14),LEN(B14)=8,EXACT(LEFT(B14,4),"STF-"),ISNUMBER(FIND(MID(B14,5,1)&"x","0x1x2x3x4x5x6x7x8x9x")),ISNUMBER(FIND(MID(B14,6,1)&"x","0x1x2x3x4x5x6x7x8x9x")),ISNUMBER(FIND(MID(B14,7,1)&"x","0x1x2x3x4x5x6x7x8x9x")),ISNUMBER(FIND(MID(B14,8,1)&"x","0x1x2x3x4x5x6x7x8x9x")))),"対象者IDの形式を確認",IF(COUNTIFS(登録ID!$A$8:$A$27,B14)<>1,"対象者IDが未登録/重複",IF(NOT(AND(ISTEXT(C14),LEN(C14)=8,EXACT(LEFT(C14,4),"CRS-"),ISNUMBER(FIND(MID(C14,5,1)&"x","0x1x2x3x4x5x6x7x8x9x")),ISNUMBER(FIND(MID(C14,6,1)&"x","0x1x2x3x4x5x6x7x8x9x")),ISNUMBER(FIND(MID(C14,7,1)&"x","0x1x2x3x4x5x6x7x8x9x")),ISNUMBER(FIND(MID(C14,8,1)&"x","0x1x2x3x4x5x6x7x8x9x")))),"研修IDの形式を確認",IF(COUNTIFS(登録ID!$E$8:$E$17,C14)<>1,"研修IDが未登録/重複",IF(COUNTIFS($B$8:$B$57,B14,$C$8:$C$57,C14)>1,"同じ対象者/研修が重複",IF(NOT(OR(D14="対象",D14="免除",D14="対象外",D14="未確認")),"対象区分を確認",IF(NOT(AND(ISNUMBER(G14),G14>=43831,G14<73051,G14=INT(G14))),"記録確認日は日付で必須",IF(G14>研修状況!$B$3,"確認日が基準日より後",IF(AND(D14="対象",NOT(AND(ISNUMBER(E14),E14>=43831,E14<73051,E14=INT(E14)))),"対象の期限を確認",IF(AND(D14<>"対象",OR(E14<>"",F14<>"")),"対象以外は期限/修了日を空欄",IF(AND(D14="対象",F14<>"",NOT(AND(ISNUMBER(F14),F14>=43831,F14<73051,F14=INT(F14)))),"修了日を確認",IF(AND(F14<>"",F14>G14),"修了日が確認日より後","確認済み"))))))))))))))) -> 確認済み | K14: =IF(J14="","",IF(J14="確認済み",0,1)) -> 0 | L14: =IF(J14="","",IF(K14<>0,0,IF(AND(ISTEXT(H14),H14=IF(D14<>"対象",D14,IF(F14="",IF(E14<研修状況!$B$3,"期限超過","未修了"),IF(F14>E14,"期限後修了","修了"))),ISNUMBER(I14),I14=IF(AND(D14="対象",F14<>""),1,0)),0,1))) -> 0
H15: =IF(J15="","",IF(K15<>0,NA(),IF(D15<>"対象",D15,IF(F15="",IF(E15<研修状況!$B$3,"期限超過","未修了"),IF(F15>E15,"期限後修了","修了"))))) | I15: =IF(J15="","",IF(K15<>0,NA(),IF(AND(D15="対象",F15<>""),1,0))) | J15: =IF(COUNTA(A15:G15)=0,"",IF(NOT(AND(ISTEXT(A15),LEN(A15)=8,EXACT(LEFT(A15,4),"ENR-"),ISNUMBER(FIND(MID(A15,5,1)&"x","0x1x2x3x4x5x6x7x8x9x")),ISNUMBER(FIND(MID(A15,6,1)&"x","0x1x2x3x4x5x6x7x8x9x")),ISNUMBER(FIND(MID(A15,7,1)&"x","0x1x2x3x4x5x6x7x8x9x")),ISNUMBER(FIND(MID(A15,8,1)&"x","0x1x2x3x4x5x6x7x8x9x")))),"IDはENR-と半角数字4桁",IF(COUNTIFS($A$8:$A$57,A15)>1,"受講IDが重複",IF(NOT(AND(ISTEXT(B15),LEN(B15)=8,EXACT(LEFT(B15,4),"STF-"),ISNUMBER(FIND(MID(B15,5,1)&"x","0x1x2x3x4x5x6x7x8x9x")),ISNUMBER(FIND(MID(B15,6,1)&"x","0x1x2x3x4x5x6x7x8x9x")),ISNUMBER(FIND(MID(B15,7,1)&"x","0x1x2x3x4x5x6x7x8x9x")),ISNUMBER(FIND(MID(B15,8,1)&"x","0x1x2x3x4x5x6x7x8x9x")))),"対象者IDの形式を確認",IF(COUNTIFS(登録ID!$A$8:$A$27,B15)<>1,"対象者IDが未登録/重複",IF(NOT(AND(ISTEXT(C15),LEN(C15)=8,EXACT(LEFT(C15,4),"CRS-"),ISNUMBER(FIND(MID(C15,5,1)&"x","0x1x2x3x4x5x6x7x8x9x")),ISNUMBER(FIND(MID(C15,6,1)&"x","0x1x2x3x4x5x6x7x8x9x")),ISNUMBER(FIND(MID(C15,7,1)&"x","0x1x2x3x4x5x6x7x8x9x")),ISNUMBER(FIND(MID(C15,8,1)&"x","0x1x2x3x4x5x6x7x8x9x")))),"研修IDの形式を確認",IF(COUNTIFS(登録ID!$E$8:$E$17,C15)<>1,"研修IDが未登録/重複",IF(COUNTIFS($B$8:$B$57,B15,$C$8:$C$57,C15)>1,"同じ対象者/研修が重複",IF(NOT(OR(D15="対象",D15="免除",D15="対象外",D15="未確認")),"対象区分を確認",IF(NOT(AND(ISNUMBER(G15),G15>=43831,G15<73051,G15=INT(G15))),"記録確認日は日付で必須",IF(G15>研修状況!$B$3,"確認日が基準日より後",IF(AND(D15="対象",NOT(AND(ISNUMBER(E15),E15>=43831,E15<73051,E15=INT(E15)))),"対象の期限を確認",IF(AND(D15<>"対象",OR(E15<>"",F15<>"")),"対象以外は期限/修了日を空欄",IF(AND(D15="対象",F15<>"",NOT(AND(ISNUMBER(F15),F15>=43831,F15<73051,F15=INT(F15)))),"修了日を確認",IF(AND(F15<>"",F15>G15),"修了日が確認日より後","確認済み"))))))))))))))) | K15: =IF(J15="","",IF(J15="確認済み",0,1)) | L15: =IF(J15="","",IF(K15<>0,0,IF(AND(ISTEXT(H15),H15=IF(D15<>"対象",D15,IF(F15="",IF(E15<研修状況!$B$3,"期限超過","未修了"),IF(F15>E15,"期限後修了","修了"))),ISNUMBER(I15),I15=IF(AND(D15="対象",F15<>""),1,0)),0,1)))
H16: =IF(J16="","",IF(K16<>0,NA(),IF(D16<>"対象",D16,IF(F16="",IF(E16<研修状況!$B$3,"期限超過","未修了"),IF(F16>E16,"期限後修了","修了"))))) | I16: =IF(J16="","",IF(K16<>0,NA(),IF(AND(D16="対象",F16<>""),1,0))) | J16: =IF(COUNTA(A16:G16)=0,"",IF(NOT(AND(ISTEXT(A16),LEN(A16)=8,EXACT(LEFT(A16,4),"ENR-"),ISNUMBER(FIND(MID(A16,5,1)&"x","0x1x2x3x4x5x6x7x8x9x")),ISNUMBER(FIND(MID(A16,6,1)&"x","0x1x2x3x4x5x6x7x8x9x")),ISNUMBER(FIND(MID(A16,7,1)&"x","0x1x2x3x4x5x6x7x8x9x")),ISNUMBER(FIND(MID(A16,8,1)&"x","0x1x2x3x4x5x6x7x8x9x")))),"IDはENR-と半角数字4桁",IF(COUNTIFS($A$8:$A$57,A16)>1,"受講IDが重複",IF(NOT(AND(ISTEXT(B16),LEN(B16)=8,EXACT(LEFT(B16,4),"STF-"),ISNUMBER(FIND(MID(B16,5,1)&"x","0x1x2x3x4x5x6x7x8x9x")),ISNUMBER(FIND(MID(B16,6,1)&"x","0x1x2x3x4x5x6x7x8x9x")),ISNUMBER(FIND(MID(B16,7,1)&"x","0x1x2x3x4x5x6x7x8x9x")),ISNUMBER(FIND(MID(B16,8,1)&"x","0x1x2x3x4x5x6x7x8x9x")))),"対象者IDの形式を確認",IF(COUNTIFS(登録ID!$A$8:$A$27,B16)<>1,"対象者IDが未登録/重複",IF(NOT(AND(ISTEXT(C16),LEN(C16)=8,EXACT(LEFT(C16,4),"CRS-"),ISNUMBER(FIND(MID(C16,5,1)&"x","0x1x2x3x4x5x6x7x8x9x")),ISNUMBER(FIND(MID(C16,6,1)&"x","0x1x2x3x4x5x6x7x8x9x")),ISNUMBER(FIND(MID(C16,7,1)&"x","0x1x2x3x4x5x6x7x8x9x")),ISNUMBER(FIND(MID(C16,8,1)&"x","0x1x2x3x4x5x6x7x8x9x")))),"研修IDの形式を確認",IF(COUNTIFS(登録ID!$E$8:$E$17,C16)<>1,"研修IDが未登録/重複",IF(COUNTIFS($B$8:$B$57,B16,$C$8:$C$57,C16)>1,"同じ対象者/研修が重複",IF(NOT(OR(D16="対象",D16="免除",D16="対象外",D16="未確認")),"対象区分を確認",IF(NOT(AND(ISNUMBER(G16),G16>=43831,G16<73051,G16=INT(G16))),"記録確認日は日付で必須",IF(G16>研修状況!$B$3,"確認日が基準日より後",IF(AND(D16="対象",NOT(AND(ISNUMBER(E16),E16>=43831,E16<73051,E16=INT(E16)))),"対象の期限を確認",IF(AND(D16<>"対象",OR(E16<>"",F16<>"")),"対象以外は期限/修了日を空欄",IF(AND(D16="対象",F16<>"",NOT(AND(ISNUMBER(F16),F16>=43831,F16<73051,F16=INT(F16)))),"修了日を確認",IF(AND(F16<>"",F16>G16),"修了日が確認日より後","確認済み"))))))))))))))) | K16: =IF(J16="","",IF(J16="確認済み",0,1)) | L16: =IF(J16="","",IF(K16<>0,0,IF(AND(ISTEXT(H16),H16=IF(D16<>"対象",D16,IF(F16="",IF(E16<研修状況!$B$3,"期限超過","未修了"),IF(F16>E16,"期限後修了","修了"))),ISNUMBER(I16),I16=IF(AND(D16="対象",F16<>""),1,0)),0,1)))
H17: =IF(J17="","",IF(K17<>0,NA(),IF(D17<>"対象",D17,IF(F17="",IF(E17<研修状況!$B$3,"期限超過","未修了"),IF(F17>E17,"期限後修了","修了"))))) | I17: =IF(J17="","",IF(K17<>0,NA(),IF(AND(D17="対象",F17<>""),1,0))) | J17: =IF(COUNTA(A17:G17)=0,"",IF(NOT(AND(ISTEXT(A17),LEN(A17)=8,EXACT(LEFT(A17,4),"ENR-"),ISNUMBER(FIND(MID(A17,5,1)&"x","0x1x2x3x4x5x6x7x8x9x")),ISNUMBER(FIND(MID(A17,6,1)&"x","0x1x2x3x4x5x6x7x8x9x")),ISNUMBER(FIND(MID(A17,7,1)&"x","0x1x2x3x4x5x6x7x8x9x")),ISNUMBER(FIND(MID(A17,8,1)&"x","0x1x2x3x4x5x6x7x8x9x")))),"IDはENR-と半角数字4桁",IF(COUNTIFS($A$8:$A$57,A17)>1,"受講IDが重複",IF(NOT(AND(ISTEXT(B17),LEN(B17)=8,EXACT(LEFT(B17,4),"STF-"),ISNUMBER(FIND(MID(B17,5,1)&"x","0x1x2x3x4x5x6x7x8x9x")),ISNUMBER(FIND(MID(B17,6,1)&"x","0x1x2x3x4x5x6x7x8x9x")),ISNUMBER(FIND(MID(B17,7,1)&"x","0x1x2x3x4x5x6x7x8x9x")),ISNUMBER(FIND(MID(B17,8,1)&"x","0x1x2x3x4x5x6x7x8x9x")))),"対象者IDの形式を確認",IF(COUNTIFS(登録ID!$A$8:$A$27,B17)<>1,"対象者IDが未登録/重複",IF(NOT(AND(ISTEXT(C17),LEN(C17)=8,EXACT(LEFT(C17,4),"CRS-"),ISNUMBER(FIND(MID(C17,5,1)&"x","0x1x2x3x4x5x6x7x8x9x")),ISNUMBER(FIND(MID(C17,6,1)&"x","0x1x2x3x4x5x6x7x8x9x")),ISNUMBER(FIND(MID(C17,7,1)&"x","0x1x2x3x4x5x6x7x8x9x")),ISNUMBER(FIND(MID(C17,8,1)&"x","0x1x2x3x4x5x6x7x8x9x")))),"研修IDの形式を確認",IF(COUNTIFS(登録ID!$E$8:$E$17,C17)<>1,"研修IDが未登録/重複",IF(COUNTIFS($B$8:$B$57,B17,$C$8:$C$57,C17)>1,"同じ対象者/研修が重複",IF(NOT(OR(D17="対象",D17="免除",D17="対象外",D17="未確認")),"対象区分を確認",IF(NOT(AND(ISNUMBER(G17),G17>=43831,G17<73051,G17=INT(G17))),"記録確認日は日付で必須",IF(G17>研修状況!$B$3,"確認日が基準日より後",IF(AND(D17="対象",NOT(AND(ISNUMBER(E17),E17>=43831,E17<73051,E17=INT(E17)))),"対象の期限を確認",IF(AND(D17<>"対象",OR(E17<>"",F17<>"")),"対象以外は期限/修了日を空欄",IF(AND(D17="対象",F17<>"",NOT(AND(ISNUMBER(F17),F17>=43831,F17<73051,F17=INT(F17)))),"修了日を確認",IF(AND(F17<>"",F17>G17),"修了日が確認日より後","確認済み"))))))))))))))) | K17: =IF(J17="","",IF(J17="確認済み",0,1)) | L17: =IF(J17="","",IF(K17<>0,0,IF(AND(ISTEXT(H17),H17=IF(D17<>"対象",D17,IF(F17="",IF(E17<研修状況!$B$3,"期限超過","未修了"),IF(F17>E17,"期限後修了","修了"))),ISNUMBER(I17),I17=IF(AND(D17="対象",F17<>""),1,0)),0,1)))
H18: =IF(J18="","",IF(K18<>0,NA(),IF(D18<>"対象",D18,IF(F18="",IF(E18<研修状況!$B$3,"期限超過","未修了"),IF(F18>E18,"期限後修了","修了"))))) | I18: =IF(J18="","",IF(K18<>0,NA(),IF(AND(D18="対象",F18<>""),1,0))) | J18: =IF(COUNTA(A18:G18)=0,"",IF(NOT(AND(ISTEXT(A18),LEN(A18)=8,EXACT(LEFT(A18,4),"ENR-"),ISNUMBER(FIND(MID(A18,5,1)&"x","0x1x2x3x4x5x6x7x8x9x")),ISNUMBER(FIND(MID(A18,6,1)&"x","0x1x2x3x4x5x6x7x8x9x")),ISNUMBER(FIND(MID(A18,7,1)&"x","0x1x2x3x4x5x6x7x8x9x")),ISNUMBER(FIND(MID(A18,8,1)&"x","0x1x2x3x4x5x6x7x8x9x")))),"IDはENR-と半角数字4桁",IF(COUNTIFS($A$8:$A$57,A18)>1,"受講IDが重複",IF(NOT(AND(ISTEXT(B18),LEN(B18)=8,EXACT(LEFT(B18,4),"STF-"),ISNUMBER(FIND(MID(B18,5,1)&"x","0x1x2x3x4x5x6x7x8x9x")),ISNUMBER(FIND(MID(B18,6,1)&"x","0x1x2x3x4x5x6x7x8x9x")),ISNUMBER(FIND(MID(B18,7,1)&"x","0x1x2x3x4x5x6x7x8x9x")),ISNUMBER(FIND(MID(B18,8,1)&"x","0x1x2x3x4x5x6x7x8x9x")))),"対象者IDの形式を確認",IF(COUNTIFS(登録ID!$A$8:$A$27,B18)<>1,"対象者IDが未登録/重複",IF(NOT(AND(ISTEXT(C18),LEN(C18)=8,EXACT(LEFT(C18,4),"CRS-"),ISNUMBER(FIND(MID(C18,5,1)&"x","0x1x2x3x4x5x6x7x8x9x")),ISNUMBER(FIND(MID(C18,6,1)&"x","0x1x2x3x4x5x6x7x8x9x")),ISNUMBER(FIND(MID(C18,7,1)&"x","0x1x2x3x4x5x6x7x8x9x")),ISNUMBER(FIND(MID(C18,8,1)&"x","0x1x2x3x4x5x6x7x8x9x")))),"研修IDの形式を確認",IF(COUNTIFS(登録ID!$E$8:$E$17,C18)<>1,"研修IDが未登録/重複",IF(COUNTIFS($B$8:$B$57,B18,$C$8:$C$57,C18)>1,"同じ対象者/研修が重複",IF(NOT(OR(D18="対象",D18="免除",D18="対象外",D18="未確認")),"対象区分を確認",IF(NOT(AND(ISNUMBER(G18),G18>=43831,G18<73051,G18=INT(G18))),"記録確認日は日付で必須",IF(G18>研修状況!$B$3,"確認日が基準日より後",IF(AND(D18="対象",NOT(AND(ISNUMBER(E18),E18>=43831,E18<73051,E18=INT(E18)))),"対象の期限を確認",IF(AND(D18<>"対象",OR(E18<>"",F18<>"")),"対象以外は期限/修了日を空欄",IF(AND(D18="対象",F18<>"",NOT(AND(ISNUMBER(F18),F18>=43831,F18<73051,F18=INT(F18)))),"修了日を確認",IF(AND(F18<>"",F18>G18),"修了日が確認日より後","確認済み"))))))))))))))) | K18: =IF(J18="","",IF(J18="確認済み",0,1)) | L18: =IF(J18="","",IF(K18<>0,0,IF(AND(ISTEXT(H18),H18=IF(D18<>"対象",D18,IF(F18="",IF(E18<研修状況!$B$3,"期限超過","未修了"),IF(F18>E18,"期限後修了","修了"))),ISNUMBER(I18),I18=IF(AND(D18="対象",F18<>""),1,0)),0,1)))
H19: =IF(J19="","",IF(K19<>0,NA(),IF(D19<>"対象",D19,IF(F19="",IF(E19<研修状況!$B$3,"期限超過","未修了"),IF(F19>E19,"期限後修了","修了"))))) | I19: =IF(J19="","",IF(K19<>0,NA(),IF(AND(D19="対象",F19<>""),1,0))) | J19: =IF(COUNTA(A19:G19)=0,"",IF(NOT(AND(ISTEXT(A19),LEN(A19)=8,EXACT(LEFT(A19,4),"ENR-"),ISNUMBER(FIND(MID(A19,5,1)&"x","0x1x2x3x4x5x6x7x8x9x")),ISNUMBER(FIND(MID(A19,6,1)&"x","0x1x2x3x4x5x6x7x8x9x")),ISNUMBER(FIND(MID(A19,7,1)&"x","0x1x2x3x4x5x6x7x8x9x")),ISNUMBER(FIND(MID(A19,8,1)&"x","0x1x2x3x4x5x6x7x8x9x")))),"IDはENR-と半角数字4桁",IF(COUNTIFS($A$8:$A$57,A19)>1,"受講IDが重複",IF(NOT(AND(ISTEXT(B19),LEN(B19)=8,EXACT(LEFT(B19,4),"STF-"),ISNUMBER(FIND(MID(B19,5,1)&"x","0x1x2x3x4x5x6x7x8x9x")),ISNUMBER(FIND(MID(B19,6,1)&"x","0x1x2x3x4x5x6x7x8x9x")),ISNUMBER(FIND(MID(B19,7,1)&"x","0x1x2x3x4x5x6x7x8x9x")),ISNUMBER(FIND(MID(B19,8,1)&"x","0x1x2x3x4x5x6x7x8x9x")))),"対象者IDの形式を確認",IF(COUNTIFS(登録ID!$A$8:$A$27,B19)<>1,"対象者IDが未登録/重複",IF(NOT(AND(ISTEXT(C19),LEN(C19)=8,EXACT(LEFT(C19,4),"CRS-"),ISNUMBER(FIND(MID(C19,5,1)&"x","0x1x2x3x4x5x6x7x8x9x")),ISNUMBER(FIND(MID(C19,6,1)&"x","0x1x2x3x4x5x6x7x8x9x")),ISNUMBER(FIND(MID(C19,7,1)&"x","0x1x2x3x4x5x6x7x8x9x")),ISNUMBER(FIND(MID(C19,8,1)&"x","0x1x2x3x4x5x6x7x8x9x")))),"研修IDの形式を確認",IF(COUNTIFS(登録ID!$E$8:$E$17,C19)<>1,"研修IDが未登録/重複",IF(COUNTIFS($B$8:$B$57,B19,$C$8:$C$57,C19)>1,"同じ対象者/研修が重複",IF(NOT(OR(D19="対象",D19="免除",D19="対象外",D19="未確認")),"対象区分を確認",IF(NOT(AND(ISNUMBER(G19),G19>=43831,G19<73051,G19=INT(G19))),"記録確認日は日付で必須",IF(G19>研修状況!$B$3,"確認日が基準日より後",IF(AND(D19="対象",NOT(AND(ISNUMBER(E19),E19>=43831,E19<73051,E19=INT(E19)))),"対象の期限を確認",IF(AND(D19<>"対象",OR(E19<>"",F19<>"")),"対象以外は期限/修了日を空欄",IF(AND(D19="対象",F19<>"",NOT(AND(ISNUMBER(F19),F19>=43831,F19<73051,F19=INT(F19)))),"修了日を確認",IF(AND(F19<>"",F19>G19),"修了日が確認日より後","確認済み"))))))))))))))) | K19: =IF(J19="","",IF(J19="確認済み",0,1)) | L19: =IF(J19="","",IF(K19<>0,0,IF(AND(ISTEXT(H19),H19=IF(D19<>"対象",D19,IF(F19="",IF(E19<研修状況!$B$3,"期限超過","未修了"),IF(F19>E19,"期限後修了","修了"))),ISNUMBER(I19),I19=IF(AND(D19="対象",F19<>""),1,0)),0,1)))
H20: =IF(J20="","",IF(K20<>0,NA(),IF(D20<>"対象",D20,IF(F20="",IF(E20<研修状況!$B$3,"期限超過","未修了"),IF(F20>E20,"期限後修了","修了"))))) | I20: =IF(J20="","",IF(K20<>0,NA(),IF(AND(D20="対象",F20<>""),1,0))) | J20: =IF(COUNTA(A20:G20)=0,"",IF(NOT(AND(ISTEXT(A20),LEN(A20)=8,EXACT(LEFT(A20,4),"ENR-"),ISNUMBER(FIND(MID(A20,5,1)&"x","0x1x2x3x4x5x6x7x8x9x")),ISNUMBER(FIND(MID(A20,6,1)&"x","0x1x2x3x4x5x6x7x8x9x")),ISNUMBER(FIND(MID(A20,7,1)&"x","0x1x2x3x4x5x6x7x8x9x")),ISNUMBER(FIND(MID(A20,8,1)&"x","0x1x2x3x4x5x6x7x8x9x")))),"IDはENR-と半角数字4桁",IF(COUNTIFS($A$8:$A$57,A20)>1,"受講IDが重複",IF(NOT(AND(ISTEXT(B20),LEN(B20)=8,EXACT(LEFT(B20,4),"STF-"),ISNUMBER(FIND(MID(B20,5,1)&"x","0x1x2x3x4x5x6x7x8x9x")),ISNUMBER(FIND(MID(B20,6,1)&"x","0x1x2x3x4x5x6x7x8x9x")),ISNUMBER(FIND(MID(B20,7,1)&"x","0x1x2x3x4x5x6x7x8x9x")),ISNUMBER(FIND(MID(B20,8,1)&"x","0x1x2x3x4x5x6x7x8x9x")))),"対象者IDの形式を確認",IF(COUNTIFS(登録ID!$A$8:$A$27,B20)<>1,"対象者IDが未登録/重複",IF(NOT(AND(ISTEXT(C20),LEN(C20)=8,EXACT(LEFT(C20,4),"CRS-"),ISNUMBER(FIND(MID(C20,5,1)&"x","0x1x2x3x4x5x6x7x8x9x")),ISNUMBER(FIND(MID(C20,6,1)&"x","0x1x2x3x4x5x6x7x8x9x")),ISNUMBER(FIND(MID(C20,7,1)&"x","0x1x2x3x4x5x6x7x8x9x")),ISNUMBER(FIND(MID(C20,8,1)&"x","0x1x2x3x4x5x6x7x8x9x")))),"研修IDの形式を確認",IF(COUNTIFS(登録ID!$E$8:$E$17,C20)<>1,"研修IDが未登録/重複",IF(COUNTIFS($B$8:$B$57,B20,$C$8:$C$57,C20)>1,"同じ対象者/研修が重複",IF(NOT(OR(D20="対象",D20="免除",D20="対象外",D20="未確認")),"対象区分を確認",IF(NOT(AND(ISNUMBER(G20),G20>=43831,G20<73051,G20=INT(G20))),"記録確認日は日付で必須",IF(G20>研修状況!$B$3,"確認日が基準日より後",IF(AND(D20="対象",NOT(AND(ISNUMBER(E20),E20>=43831,E20<73051,E20=INT(E20)))),"対象の期限を確認",IF(AND(D20<>"対象",OR(E20<>"",F20<>"")),"対象以外は期限/修了日を空欄",IF(AND(D20="対象",F20<>"",NOT(AND(ISNUMBER(F20),F20>=43831,F20<73051,F20=INT(F20)))),"修了日を確認",IF(AND(F20<>"",F20>G20),"修了日が確認日より後","確認済み"))))))))))))))) | K20: =IF(J20="","",IF(J20="確認済み",0,1)) | L20: =IF(J20="","",IF(K20<>0,0,IF(AND(ISTEXT(H20),H20=IF(D20<>"対象",D20,IF(F20="",IF(E20<研修状況!$B$3,"期限超過","未修了"),IF(F20>E20,"期限後修了","修了"))),ISNUMBER(I20),I20=IF(AND(D20="対象",F20<>""),1,0)),0,1)))
H21: =IF(J21="","",IF(K21<>0,NA(),IF(D21<>"対象",D21,IF(F21="",IF(E21<研修状況!$B$3,"期限超過","未修了"),IF(F21>E21,"期限後修了","修了"))))) | I21: =IF(J21="","",IF(K21<>0,NA(),IF(AND(D21="対象",F21<>""),1,0))) | J21: =IF(COUNTA(A21:G21)=0,"",IF(NOT(AND(ISTEXT(A21),LEN(A21)=8,EXACT(LEFT(A21,4),"ENR-"),ISNUMBER(FIND(MID(A21,5,1)&"x","0x1x2x3x4x5x6x7x8x9x")),ISNUMBER(FIND(MID(A21,6,1)&"x","0x1x2x3x4x5x6x7x8x9x")),ISNUMBER(FIND(MID(A21,7,1)&"x","0x1x2x3x4x5x6x7x8x9x")),ISNUMBER(FIND(MID(A21,8,1)&"x","0x1x2x3x4x5x6x7x8x9x")))),"IDはENR-と半角数字4桁",IF(COUNTIFS($A$8:$A$57,A21)>1,"受講IDが重複",IF(NOT(AND(ISTEXT(B21),LEN(B21)=8,EXACT(LEFT(B21,4),"STF-"),ISNUMBER(FIND(MID(B21,5,1)&"x","0x1x2x3x4x5x6x7x8x9x")),ISNUMBER(FIND(MID(B21,6,1)&"x","0x1x2x3x4x5x6x7x8x9x")),ISNUMBER(FIND(MID(B21,7,1)&"x","0x1x2x3x4x5x6x7x8x9x")),ISNUMBER(FIND(MID(B21,8,1)&"x","0x1x2x3x4x5x6x7x8x9x")))),"対象者IDの形式を確認",IF(COUNTIFS(登録ID!$A$8:$A$27,B21)<>1,"対象者IDが未登録/重複",IF(NOT(AND(ISTEXT(C21),LEN(C21)=8,EXACT(LEFT(C21,4),"CRS-"),ISNUMBER(FIND(MID(C21,5,1)&"x","0x1x2x3x4x5x6x7x8x9x")),ISNUMBER(FIND(MID(C21,6,1)&"x","0x1x2x3x4x5x6x7x8x9x")),ISNUMBER(FIND(MID(C21,7,1)&"x","0x1x2x3x4x5x6x7x8x9x")),ISNUMBER(FIND(MID(C21,8,1)&"x","0x1x2x3x4x5x6x7x8x9x")))),"研修IDの形式を確認",IF(COUNTIFS(登録ID!$E$8:$E$17,C21)<>1,"研修IDが未登録/重複",IF(COUNTIFS($B$8:$B$57,B21,$C$8:$C$57,C21)>1,"同じ対象者/研修が重複",IF(NOT(OR(D21="対象",D21="免除",D21="対象外",D21="未確認")),"対象区分を確認",IF(NOT(AND(ISNUMBER(G21),G21>=43831,G21<73051,G21=INT(G21))),"記録確認日は日付で必須",IF(G21>研修状況!$B$3,"確認日が基準日より後",IF(AND(D21="対象",NOT(AND(ISNUMBER(E21),E21>=43831,E21<73051,E21=INT(E21)))),"対象の期限を確認",IF(AND(D21<>"対象",OR(E21<>"",F21<>"")),"対象以外は期限/修了日を空欄",IF(AND(D21="対象",F21<>"",NOT(AND(ISNUMBER(F21),F21>=43831,F21<73051,F21=INT(F21)))),"修了日を確認",IF(AND(F21<>"",F21>G21),"修了日が確認日より後","確認済み"))))))))))))))) | K21: =IF(J21="","",IF(J21="確認済み",0,1)) | L21: =IF(J21="","",IF(K21<>0,0,IF(AND(ISTEXT(H21),H21=IF(D21<>"対象",D21,IF(F21="",IF(E21<研修状況!$B$3,"期限超過","未修了"),IF(F21>E21,"期限後修了","修了"))),ISNUMBER(I21),I21=IF(AND(D21="対象",F21<>""),1,0)),0,1)))
H22: =IF(J22="","",IF(K22<>0,NA(),IF(D22<>"対象",D22,IF(F22="",IF(E22<研修状況!$B$3,"期限超過","未修了"),IF(F22>E22,"期限後修了","修了"))))) | I22: =IF(J22="","",IF(K22<>0,NA(),IF(AND(D22="対象",F22<>""),1,0))) | J22: =IF(COUNTA(A22:G22)=0,"",IF(NOT(AND(ISTEXT(A22),LEN(A22)=8,EXACT(LEFT(A22,4),"ENR-"),ISNUMBER(FIND(MID(A22,5,1)&"x","0x1x2x3x4x5x6x7x8x9x")),ISNUMBER(FIND(MID(A22,6,1)&"x","0x1x2x3x4x5x6x7x8x9x")),ISNUMBER(FIND(MID(A22,7,1)&"x","0x1x2x3x4x5x6x7x8x9x")),ISNUMBER(FIND(MID(A22,8,1)&"x","0x1x2x3x4x5x6x7x8x9x")))),"IDはENR-と半角数字4桁",IF(COUNTIFS($A$8:$A$57,A22)>1,"受講IDが重複",IF(NOT(AND(ISTEXT(B22),LEN(B22)=8,EXACT(LEFT(B22,4),"STF-"),ISNUMBER(FIND(MID(B22,5,1)&"x","0x1x2x3x4x5x6x7x8x9x")),ISNUMBER(FIND(MID(B22,6,1)&"x","0x1x2x3x4x5x6x7x8x9x")),ISNUMBER(FIND(MID(B22,7,1)&"x","0x1x2x3x4x5x6x7x8x9x")),ISNUMBER(FIND(MID(B22,8,1)&"x","0x1x2x3x4x5x6x7x8x9x")))),"対象者IDの形式を確認",IF(COUNTIFS(登録ID!$A$8:$A$27,B22)<>1,"対象者IDが未登録/重複",IF(NOT(AND(ISTEXT(C22),LEN(C22)=8,EXACT(LEFT(C22,4),"CRS-"),ISNUMBER(FIND(MID(C22,5,1)&"x","0x1x2x3x4x5x6x7x8x9x")),ISNUMBER(FIND(MID(C22,6,1)&"x","0x1x2x3x4x5x6x7x8x9x")),ISNUMBER(FIND(MID(C22,7,1)&"x","0x1x2x3x4x5x6x7x8x9x")),ISNUMBER(FIND(MID(C22,8,1)&"x","0x1x2x3x4x5x6x7x8x9x")))),"研修IDの形式を確認",IF(COUNTIFS(登録ID!$E$8:$E$17,C22)<>1,"研修IDが未登録/重複",IF(COUNTIFS($B$8:$B$57,B22,$C$8:$C$57,C22)>1,"同じ対象者/研修が重複",IF(NOT(OR(D22="対象",D22="免除",D22="対象外",D22="未確認")),"対象区分を確認",IF(NOT(AND(ISNUMBER(G22),G22>=43831,G22<73051,G22=INT(G22))),"記録確認日は日付で必須",IF(G22>研修状況!$B$3,"確認日が基準日より後",IF(AND(D22="対象",NOT(AND(ISNUMBER(E22),E22>=43831,E22<73051,E22=INT(E22)))),"対象の期限を確認",IF(AND(D22<>"対象",OR(E22<>"",F22<>"")),"対象以外は期限/修了日を空欄",IF(AND(D22="対象",F22<>"",NOT(AND(ISNUMBER(F22),F22>=43831,F22<73051,F22=INT(F22)))),"修了日を確認",IF(AND(F22<>"",F22>G22),"修了日が確認日より後","確認済み"))))))))))))))) | K22: =IF(J22="","",IF(J22="確認済み",0,1)) | L22: =IF(J22="","",IF(K22<>0,0,IF(AND(ISTEXT(H22),H22=IF(D22<>"対象",D22,IF(F22="",IF(E22<研修状況!$B$3,"期限超過","未修了"),IF(F22>E22,"期限後修了","修了"))),ISNUMBER(I22),I22=IF(AND(D22="対象",F22<>""),1,0)),0,1)))
H23: =IF(J23="","",IF(K23<>0,NA(),IF(D23<>"対象",D23,IF(F23="",IF(E23<研修状況!$B$3,"期限超過","未修了"),IF(F23>E23,"期限後修了","修了"))))) | I23: =IF(J23="","",IF(K23<>0,NA(),IF(AND(D23="対象",F23<>""),1,0))) | J23: =IF(COUNTA(A23:G23)=0,"",IF(NOT(AND(ISTEXT(A23),LEN(A23)=8,EXACT(LEFT(A23,4),"ENR-"),ISNUMBER(FIND(MID(A23,5,1)&"x","0x1x2x3x4x5x6x7x8x9x")),ISNUMBER(FIND(MID(A23,6,1)&"x","0x1x2x3x4x5x6x7x8x9x")),ISNUMBER(FIND(MID(A23,7,1)&"x","0x1x2x3x4x5x6x7x8x9x")),ISNUMBER(FIND(MID(A23,8,1)&"x","0x1x2x3x4x5x6x7x8x9x")))),"IDはENR-と半角数字4桁",IF(COUNTIFS($A$8:$A$57,A23)>1,"受講IDが重複",IF(NOT(AND(ISTEXT(B23),LEN(B23)=8,EXACT(LEFT(B23,4),"STF-"),ISNUMBER(FIND(MID(B23,5,1)&"x","0x1x2x3x4x5x6x7x8x9x")),ISNUMBER(FIND(MID(B23,6,1)&"x","0x1x2x3x4x5x6x7x8x9x")),ISNUMBER(FIND(MID(B23,7,1)&"x","0x1x2x3x4x5x6x7x8x9x")),ISNUMBER(FIND(MID(B23,8,1)&"x","0x1x2x3x4x5x6x7x8x9x")))),"対象者IDの形式を確認",IF(COUNTIFS(登録ID!$A$8:$A$27,B23)<>1,"対象者IDが未登録/重複",IF(NOT(AND(ISTEXT(C23),LEN(C23)=8,EXACT(LEFT(C23,4),"CRS-"),ISNUMBER(FIND(MID(C23,5,1)&"x","0x1x2x3x4x5x6x7x8x9x")),ISNUMBER(FIND(MID(C23,6,1)&"x","0x1x2x3x4x5x6x7x8x9x")),ISNUMBER(FIND(MID(C23,7,1)&"x","0x1x2x3x4x5x6x7x8x9x")),ISNUMBER(FIND(MID(C23,8,1)&"x","0x1x2x3x4x5x6x7x8x9x")))),"研修IDの形式を確認",IF(COUNTIFS(登録ID!$E$8:$E$17,C23)<>1,"研修IDが未登録/重複",IF(COUNTIFS($B$8:$B$57,B23,$C$8:$C$57,C23)>1,"同じ対象者/研修が重複",IF(NOT(OR(D23="対象",D23="免除",D23="対象外",D23="未確認")),"対象区分を確認",IF(NOT(AND(ISNUMBER(G23),G23>=43831,G23<73051,G23=INT(G23))),"記録確認日は日付で必須",IF(G23>研修状況!$B$3,"確認日が基準日より後",IF(AND(D23="対象",NOT(AND(ISNUMBER(E23),E23>=43831,E23<73051,E23=INT(E23)))),"対象の期限を確認",IF(AND(D23<>"対象",OR(E23<>"",F23<>"")),"対象以外は期限/修了日を空欄",IF(AND(D23="対象",F23<>"",NOT(AND(ISNUMBER(F23),F23>=43831,F23<73051,F23=INT(F23)))),"修了日を確認",IF(AND(F23<>"",F23>G23),"修了日が確認日より後","確認済み"))))))))))))))) | K23: =IF(J23="","",IF(J23="確認済み",0,1)) | L23: =IF(J23="","",IF(K23<>0,0,IF(AND(ISTEXT(H23),H23=IF(D23<>"対象",D23,IF(F23="",IF(E23<研修状況!$B$3,"期限超過","未修了"),IF(F23>E23,"期限後修了","修了"))),ISNUMBER(I23),I23=IF(AND(D23="対象",F23<>""),1,0)),0,1)))
H24: =IF(J24="","",IF(K24<>0,NA(),IF(D24<>"対象",D24,IF(F24="",IF(E24<研修状況!$B$3,"期限超過","未修了"),IF(F24>E24,"期限後修了","修了"))))) | I24: =IF(J24="","",IF(K24<>0,NA(),IF(AND(D24="対象",F24<>""),1,0))) | J24: =IF(COUNTA(A24:G24)=0,"",IF(NOT(AND(ISTEXT(A24),LEN(A24)=8,EXACT(LEFT(A24,4),"ENR-"),ISNUMBER(FIND(MID(A24,5,1)&"x","0x1x2x3x4x5x6x7x8x9x")),ISNUMBER(FIND(MID(A24,6,1)&"x","0x1x2x3x4x5x6x7x8x9x")),ISNUMBER(FIND(MID(A24,7,1)&"x","0x1x2x3x4x5x6x7x8x9x")),ISNUMBER(FIND(MID(A24,8,1)&"x","0x1x2x3x4x5x6x7x8x9x")))),"IDはENR-と半角数字4桁",IF(COUNTIFS($A$8:$A$57,A24)>1,"受講IDが重複",IF(NOT(AND(ISTEXT(B24),LEN(B24)=8,EXACT(LEFT(B24,4),"STF-"),ISNUMBER(FIND(MID(B24,5,1)&"x","0x1x2x3x4x5x6x7x8x9x")),ISNUMBER(FIND(MID(B24,6,1)&"x","0x1x2x3x4x5x6x7x8x9x")),ISNUMBER(FIND(MID(B24,7,1)&"x","0x1x2x3x4x5x6x7x8x9x")),ISNUMBER(FIND(MID(B24,8,1)&"x","0x1x2x3x4x5x6x7x8x9x")))),"対象者IDの形式を確認",IF(COUNTIFS(登録ID!$A$8:$A$27,B24)<>1,"対象者IDが未登録/重複",IF(NOT(AND(ISTEXT(C24),LEN(C24)=8,EXACT(LEFT(C24,4),"CRS-"),ISNUMBER(FIND(MID(C24,5,1)&"x","0x1x2x3x4x5x6x7x8x9x")),ISNUMBER(FIND(MID(C24,6,1)&"x","0x1x2x3x4x5x6x7x8x9x")),ISNUMBER(FIND(MID(C24,7,1)&"x","0x1x2x3x4x5x6x7x8x9x")),ISNUMBER(FIND(MID(C24,8,1)&"x","0x1x2x3x4x5x6x7x8x9x")))),"研修IDの形式を確認",IF(COUNTIFS(登録ID!$E$8:$E$17,C24)<>1,"研修IDが未登録/重複",IF(COUNTIFS($B$8:$B$57,B24,$C$8:$C$57,C24)>1,"同じ対象者/研修が重複",IF(NOT(OR(D24="対象",D24="免除",D24="対象外",D24="未確認")),"対象区分を確認",IF(NOT(AND(ISNUMBER(G24),G24>=43831,G24<73051,G24=INT(G24))),"記録確認日は日付で必須",IF(G24>研修状況!$B$3,"確認日が基準日より後",IF(AND(D24="対象",NOT(AND(ISNUMBER(E24),E24>=43831,E24<73051,E24=INT(E24)))),"対象の期限を確認",IF(AND(D24<>"対象",OR(E24<>"",F24<>"")),"対象以外は期限/修了日を空欄",IF(AND(D24="対象",F24<>"",NOT(AND(ISNUMBER(F24),F24>=43831,F24<73051,F24=INT(F24)))),"修了日を確認",IF(AND(F24<>"",F24>G24),"修了日が確認日より後","確認済み"))))))))))))))) | K24: =IF(J24="","",IF(J24="確認済み",0,1)) | L24: =IF(J24="","",IF(K24<>0,0,IF(AND(ISTEXT(H24),H24=IF(D24<>"対象",D24,IF(F24="",IF(E24<研修状況!$B$3,"期限超過","未修了"),IF(F24>E24,"期限後修了","修了"))),ISNUMBER(I24),I24=IF(AND(D24="対象",F24<>""),1,0)),0,1)))
H25: =IF(J25="","",IF(K25<>0,NA(),IF(D25<>"対象",D25,IF(F25="",IF(E25<研修状況!$B$3,"期限超過","未修了"),IF(F25>E25,"期限後修了","修了"))))) | I25: =IF(J25="","",IF(K25<>0,NA(),IF(AND(D25="対象",F25<>""),1,0))) | J25: =IF(COUNTA(A25:G25)=0,"",IF(NOT(AND(ISTEXT(A25),LEN(A25)=8,EXACT(LEFT(A25,4),"ENR-"),ISNUMBER(FIND(MID(A25,5,1)&"x","0x1x2x3x4x5x6x7x8x9x")),ISNUMBER(FIND(MID(A25,6,1)&"x","0x1x2x3x4x5x6x7x8x9x")),ISNUMBER(FIND(MID(A25,7,1)&"x","0x1x2x3x4x5x6x7x8x9x")),ISNUMBER(FIND(MID(A25,8,1)&"x","0x1x2x3x4x5x6x7x8x9x")))),"IDはENR-と半角数字4桁",IF(COUNTIFS($A$8:$A$57,A25)>1,"受講IDが重複",IF(NOT(AND(ISTEXT(B25),LEN(B25)=8,EXACT(LEFT(B25,4),"STF-"),ISNUMBER(FIND(MID(B25,5,1)&"x","0x1x2x3x4x5x6x7x8x9x")),ISNUMBER(FIND(MID(B25,6,1)&"x","0x1x2x3x4x5x6x7x8x9x")),ISNUMBER(FIND(MID(B25,7,1)&"x","0x1x2x3x4x5x6x7x8x9x")),ISNUMBER(FIND(MID(B25,8,1)&"x","0x1x2x3x4x5x6x7x8x9x")))),"対象者IDの形式を確認",IF(COUNTIFS(登録ID!$A$8:$A$27,B25)<>1,"対象者IDが未登録/重複",IF(NOT(AND(ISTEXT(C25),LEN(C25)=8,EXACT(LEFT(C25,4),"CRS-"),ISNUMBER(FIND(MID(C25,5,1)&"x","0x1x2x3x4x5x6x7x8x9x")),ISNUMBER(FIND(MID(C25,6,1)&"x","0x1x2x3x4x5x6x7x8x9x")),ISNUMBER(FIND(MID(C25,7,1)&"x","0x1x2x3x4x5x6x7x8x9x")),ISNUMBER(FIND(MID(C25,8,1)&"x","0x1x2x3x4x5x6x7x8x9x")))),"研修IDの形式を確認",IF(COUNTIFS(登録ID!$E$8:$E$17,C25)<>1,"研修IDが未登録/重複",IF(COUNTIFS($B$8:$B$57,B25,$C$8:$C$57,C25)>1,"同じ対象者/研修が重複",IF(NOT(OR(D25="対象",D25="免除",D25="対象外",D25="未確認")),"対象区分を確認",IF(NOT(AND(ISNUMBER(G25),G25>=43831,G25<73051,G25=INT(G25))),"記録確認日は日付で必須",IF(G25>研修状況!$B$3,"確認日が基準日より後",IF(AND(D25="対象",NOT(AND(ISNUMBER(E25),E25>=43831,E25<73051,E25=INT(E25)))),"対象の期限を確認",IF(AND(D25<>"対象",OR(E25<>"",F25<>"")),"対象以外は期限/修了日を空欄",IF(AND(D25="対象",F25<>"",NOT(AND(ISNUMBER(F25),F25>=43831,F25<73051,F25=INT(F25)))),"修了日を確認",IF(AND(F25<>"",F25>G25),"修了日が確認日より後","確認済み"))))))))))))))) | K25: =IF(J25="","",IF(J25="確認済み",0,1)) | L25: =IF(J25="","",IF(K25<>0,0,IF(AND(ISTEXT(H25),H25=IF(D25<>"対象",D25,IF(F25="",IF(E25<研修状況!$B$3,"期限超過","未修了"),IF(F25>E25,"期限後修了","修了"))),ISNUMBER(I25),I25=IF(AND(D25="対象",F25<>""),1,0)),0,1)))
H26: =IF(J26="","",IF(K26<>0,NA(),IF(D26<>"対象",D26,IF(F26="",IF(E26<研修状況!$B$3,"期限超過","未修了"),IF(F26>E26,"期限後修了","修了"))))) | I26: =IF(J26="","",IF(K26<>0,NA(),IF(AND(D26="対象",F26<>""),1,0))) | J26: =IF(COUNTA(A26:G26)=0,"",IF(NOT(AND(ISTEXT(A26),LEN(A26)=8,EXACT(LEFT(A26,4),"ENR-"),ISNUMBER(FIND(MID(A26,5,1)&"x","0x1x2x3x4x5x6x7x8x9x")),ISNUMBER(FIND(MID(A26,6,1)&"x","0x1x2x3x4x5x6x7x8x9x")),ISNUMBER(FIND(MID(A26,7,1)&"x","0x1x2x3x4x5x6x7x8x9x")),ISNUMBER(FIND(MID(A26,8,1)&"x","0x1x2x3x4x5x6x7x8x9x")))),"IDはENR-と半角数字4桁",IF(COUNTIFS($A$8:$A$57,A26)>1,"受講IDが重複",IF(NOT(AND(ISTEXT(B26),LEN(B26)=8,EXACT(LEFT(B26,4),"STF-"),ISNUMBER(FIND(MID(B26,5,1)&"x","0x1x2x3x4x5x6x7x8x9x")),ISNUMBER(FIND(MID(B26,6,1)&"x","0x1x2x3x4x5x6x7x8x9x")),ISNUMBER(FIND(MID(B26,7,1)&"x","0x1x2x3x4x5x6x7x8x9x")),ISNUMBER(FIND(MID(B26,8,1)&"x","0x1x2x3x4x5x6x7x8x9x")))),"対象者IDの形式を確認",IF(COUNTIFS(登録ID!$A$8:$A$27,B26)<>1,"対象者IDが未登録/重複",IF(NOT(AND(ISTEXT(C26),LEN(C26)=8,EXACT(LEFT(C26,4),"CRS-"),ISNUMBER(FIND(MID(C26,5,1)&"x","0x1x2x3x4x5x6x7x8x9x")),ISNUMBER(FIND(MID(C26,6,1)&"x","0x1x2x3x4x5x6x7x8x9x")),ISNUMBER(FIND(MID(C26,7,1)&"x","0x1x2x3x4x5x6x7x8x9x")),ISNUMBER(FIND(MID(C26,8,1)&"x","0x1x2x3x4x5x6x7x8x9x")))),"研修IDの形式を確認",IF(COUNTIFS(登録ID!$E$8:$E$17,C26)<>1,"研修IDが未登録/重複",IF(COUNTIFS($B$8:$B$57,B26,$C$8:$C$57,C26)>1,"同じ対象者/研修が重複",IF(NOT(OR(D26="対象",D26="免除",D26="対象外",D26="未確認")),"対象区分を確認",IF(NOT(AND(ISNUMBER(G26),G26>=43831,G26<73051,G26=INT(G26))),"記録確認日は日付で必須",IF(G26>研修状況!$B$3,"確認日が基準日より後",IF(AND(D26="対象",NOT(AND(ISNUMBER(E26),E26>=43831,E26<73051,E26=INT(E26)))),"対象の期限を確認",IF(AND(D26<>"対象",OR(E26<>"",F26<>"")),"対象以外は期限/修了日を空欄",IF(AND(D26="対象",F26<>"",NOT(AND(ISNUMBER(F26),F26>=43831,F26<73051,F26=INT(F26)))),"修了日を確認",IF(AND(F26<>"",F26>G26),"修了日が確認日より後","確認済み"))))))))))))))) | K26: =IF(J26="","",IF(J26="確認済み",0,1)) | L26: =IF(J26="","",IF(K26<>0,0,IF(AND(ISTEXT(H26),H26=IF(D26<>"対象",D26,IF(F26="",IF(E26<研修状況!$B$3,"期限超過","未修了"),IF(F26>E26,"期限後修了","修了"))),ISNUMBER(I26),I26=IF(AND(D26="対象",F26<>""),1,0)),0,1)))
... H57: =IF(J57="","",IF(K57<>0,NA(),IF(D57<>"対象",D57,IF(F57="",IF(E57<研修状況!$B$3,"期限超過","未修了"),IF(F57>E57,"期限後修了","修了"))))) | I57: =IF(J57="","",IF(K57<>0,NA(),IF(AND(D57="対象",F57<>""),1,0))) | J57: =IF(COUNTA(A57:G57)=0,"",IF(NOT(AND(ISTEXT(A57),LEN(A57)=8,EXACT(LEFT(A57,4),"ENR-"),ISNUMBER(FIND(MID(A57,5,1)&"x","0x1x2x3x4x5x6x7x8x9x")),ISNUMBER(FIND(MID(A57,6,1)&"x","0x1x2x3x4x5x6x7x8x9x")),ISNUMBER(FIND(MID(A57,7,1)&"x","0x1x2x3x4x5x6x7x8x9x")),ISNUMBER(FIND(MID(A57,8,1)&"x","0x1x2x3x4x5x6x7x8x9x")))),"IDはENR-と半角数字4桁",IF(COUNTIFS($A$8:$A$57,A57)>1,"受講IDが重複",IF(NOT(AND(ISTEXT(B57),LEN(B57)=8,EXACT(LEFT(B57,4),"STF-"),ISNUMBER(FIND(MID(B57,5,1)&"x","0x1x2x3x4x5x6x7x8x9x")),ISNUMBER(FIND(MID(B57,6,1)&"x","0x1x2x3x4x5x6x7x8x9x")),ISNUMBER(FIND(MID(B57,7,1)&"x","0x1x2x3x4x5x6x7x8x9x")),ISNUMBER(FIND(MID(B57,8,1)&"x","0x1x2x3x4x5x6x7x8x9x")))),"対象者IDの形式を確認",IF(COUNTIFS(登録ID!$A$8:$A$27,B57)<>1,"対象者IDが未登録/重複",IF(NOT(AND(ISTEXT(C57),LEN(C57)=8,EXACT(LEFT(C57,4),"CRS-"),ISNUMBER(FIND(MID(C57,5,1)&"x","0x1x2x3x4x5x6x7x8x9x")),ISNUMBER(FIND(MID(C57,6,1)&"x","0x1x2x3x4x5x6x7x8x9x")),ISNUMBER(FIND(MID(C57,7,1)&"x","0x1x2x3x4x5x6x7x8x9x")),ISNUMBER(FIND(MID(C57,8,1)&"x","0x1x2x3x4x5x6x7x8x9x")))),"研修IDの形式を確認",IF(COUNTIFS(登録ID!$E$8:$E$17,C57)<>1,"研修IDが未登録/重複",IF(COUNTIFS($B$8:$B$57,B57,$C$8:$C$57,C57)>1,"同じ対象者/研修が重複",IF(NOT(OR(D57="対象",D57="免除",D57="対象外",D57="未確認")),"対象区分を確認",IF(NOT(AND(ISNUMBER(G57),G57>=43831,G57<73051,G57=INT(G57))),"記録確認日は日付で必須",IF(G57>研修状況!$B$3,"確認日が基準日より後",IF(AND(D57="対象",NOT(AND(ISNUMBER(E57),E57>=43831,E57<73051,E57=INT(E57)))),"対象の期限を確認",IF(AND(D57<>"対象",OR(E57<>"",F57<>"")),"対象以外は期限/修了日を空欄",IF(AND(D57="対象",F57<>"",NOT(AND(ISNUMBER(F57),F57>=43831,F57<73051,F57=INT(F57)))),"修了日を確認",IF(AND(F57<>"",F57>G57),"修了日が確認日より後","確認済み"))))))))))))))) | K57: =IF(J57="","",IF(J57="確認済み",0,1)) | L57: =IF(J57="","",IF(K57<>0,0,IF(AND(ISTEXT(H57),H57=IF(D57<>"対象",D57,IF(F57="",IF(E57<研修状況!$B$3,"期限超過","未修了"),IF(F57>E57,"期限後修了","修了"))),ISNUMBER(I57),I57=IF(AND(D57="対象",F57<>""),1,0)),0,1)))
A61: 架空教材。受講しただけでは修了にせず、試験/提出物など元の修了条件を確認。
A62: 対象者20ID/研修10ID、50割当まで。登録した対象者×研修の組合せだけを数えます。
A63: 未登録/未入力の割当や同一人物の別ID、必要な研修の漏れは自動検出できません。
A64: 免除/対象外は修了にも分母にも含めず、未確認がある間は修了率を判定保留。
A65: 対象の期限当日は未修了、翌日から期限超過。期限後修了も修了に含めて別件数を残します。
A66: 修了日≦記録確認日≦基準日。区分は元資料の現在の状態で、履歴を遡る再現ではありません。
A67: 再受講/版/更新周期は別の研修IDと元台帳で区別。資格/法定研修/証明書の保証なし。
A68: 印刷は研修状況のみ。初期A1:H16、50件はA1:H59へ拡張。A4横・9行目繰返し。
A69: 版1 / CC0 1.0。https://creativecommons.org/publicdomain/zero/1.0/
A70: 一次情報確認2026-10-15 https://support.microsoft.com/en-us/excel/functions/countifs-function

Sheet 登録ID
A2: 対象者と研修のID登録
A3: 対象者20ID・研修10ID。氏名/研修名/版との対応、割当元と修了条件は別の元資料で管理。
A5: 同じ人に複数IDを作らず、研修の版/更新周期が変わるときは対応を確認。空き組合せの自動生成なし。
A7: 対象者ID | B7: 対象者の確認 | C7: 入力不備 | E7: 研修ID | F7: 研修の確認 | G7: 入力不備
A8: STF-0001 | B8: =IF(COUNTA(A8)=0,"",IF(NOT(AND(ISTEXT(A8),LEN(A8)=8,EXACT(LEFT(A8,4),"STF-"),ISNUMBER(FIND(MID(A8,5,1)&"x","0x1x2x3x4x5x6x7x8x9x")),ISNUMBER(FIND(MID(A8,6,1)&"x","0x1x2x3x4x5x6x7x8x9x")),ISNUMBER(FIND(MID(A8,7,1)&"x","0x1x2x3x4x5x6x7x8x9x")),ISNUMBER(FIND(MID(A8,8,1)&"x","0x1x2x3x4x5x6x7x8x9x")))),"IDの形式を確認",IF(COUNTIFS($A$8:$A$27,A8)>1,"IDが重複","確認済み"))) -> 確認済み | C8: =IF(B8="","",IF(B8="確認済み",0,1)) -> 0 | E8: CRS-0001 | F8: =IF(COUNTA(E8)=0,"",IF(NOT(AND(ISTEXT(E8),LEN(E8)=8,EXACT(LEFT(E8,4),"CRS-"),ISNUMBER(FIND(MID(E8,5,1)&"x","0x1x2x3x4x5x6x7x8x9x")),ISNUMBER(FIND(MID(E8,6,1)&"x","0x1x2x3x4x5x6x7x8x9x")),ISNUMBER(FIND(MID(E8,7,1)&"x","0x1x2x3x4x5x6x7x8x9x")),ISNUMBER(FIND(MID(E8,8,1)&"x","0x1x2x3x4x5x6x7x8x9x")))),"IDの形式を確認",IF(COUNTIFS($E$8:$E$17,E8)>1,"IDが重複","確認済み"))) -> 確認済み | G8: =IF(F8="","",IF(F8="確認済み",0,1)) -> 0
A9: STF-0002 | B9: =IF(COUNTA(A9)=0,"",IF(NOT(AND(ISTEXT(A9),LEN(A9)=8,EXACT(LEFT(A9,4),"STF-"),ISNUMBER(FIND(MID(A9,5,1)&"x","0x1x2x3x4x5x6x7x8x9x")),ISNUMBER(FIND(MID(A9,6,1)&"x","0x1x2x3x4x5x6x7x8x9x")),ISNUMBER(FIND(MID(A9,7,1)&"x","0x1x2x3x4x5x6x7x8x9x")),ISNUMBER(FIND(MID(A9,8,1)&"x","0x1x2x3x4x5x6x7x8x9x")))),"IDの形式を確認",IF(COUNTIFS($A$8:$A$27,A9)>1,"IDが重複","確認済み"))) -> 確認済み | C9: =IF(B9="","",IF(B9="確認済み",0,1)) -> 0 | E9: CRS-0002 | F9: =IF(COUNTA(E9)=0,"",IF(NOT(AND(ISTEXT(E9),LEN(E9)=8,EXACT(LEFT(E9,4),"CRS-"),ISNUMBER(FIND(MID(E9,5,1)&"x","0x1x2x3x4x5x6x7x8x9x")),ISNUMBER(FIND(MID(E9,6,1)&"x","0x1x2x3x4x5x6x7x8x9x")),ISNUMBER(FIND(MID(E9,7,1)&"x","0x1x2x3x4x5x6x7x8x9x")),ISNUMBER(FIND(MID(E9,8,1)&"x","0x1x2x3x4x5x6x7x8x9x")))),"IDの形式を確認",IF(COUNTIFS($E$8:$E$17,E9)>1,"IDが重複","確認済み"))) -> 確認済み | G9: =IF(F9="","",IF(F9="確認済み",0,1)) -> 0
A10: STF-0003 | B10: =IF(COUNTA(A10)=0,"",IF(NOT(AND(ISTEXT(A10),LEN(A10)=8,EXACT(LEFT(A10,4),"STF-"),ISNUMBER(FIND(MID(A10,5,1)&"x","0x1x2x3x4x5x6x7x8x9x")),ISNUMBER(FIND(MID(A10,6,1)&"x","0x1x2x3x4x5x6x7x8x9x")),ISNUMBER(FIND(MID(A10,7,1)&"x","0x1x2x3x4x5x6x7x8x9x")),ISNUMBER(FIND(MID(A10,8,1)&"x","0x1x2x3x4x5x6x7x8x9x")))),"IDの形式を確認",IF(COUNTIFS($A$8:$A$27,A10)>1,"IDが重複","確認済み"))) -> 確認済み | C10: =IF(B10="","",IF(B10="確認済み",0,1)) -> 0 | F10: =IF(COUNTA(E10)=0,"",IF(NOT(AND(ISTEXT(E10),LEN(E10)=8,EXACT(LEFT(E10,4),"CRS-"),ISNUMBER(FIND(MID(E10,5,1)&"x","0x1x2x3x4x5x6x7x8x9x")),ISNUMBER(FIND(MID(E10,6,1)&"x","0x1x2x3x4x5x6x7x8x9x")),ISNUMBER(FIND(MID(E10,7,1)&"x","0x1x2x3x4x5x6x7x8x9x")),ISNUMBER(FIND(MID(E10,8,1)&"x","0x1x2x3x4x5x6x7x8x9x")))),"IDの形式を確認",IF(COUNTIFS($E$8:$E$17,E10)>1,"IDが重複","確認済み"))) | G10: =IF(F10="","",IF(F10="確認済み",0,1))
A11: STF-0004 | B11: =IF(COUNTA(A11)=0,"",IF(NOT(AND(ISTEXT(A11),LEN(A11)=8,EXACT(LEFT(A11,4),"STF-"),ISNUMBER(FIND(MID(A11,5,1)&"x","0x1x2x3x4x5x6x7x8x9x")),ISNUMBER(FIND(MID(A11,6,1)&"x","0x1x2x3x4x5x6x7x8x9x")),ISNUMBER(FIND(MID(A11,7,1)&"x","0x1x2x3x4x5x6x7x8x9x")),ISNUMBER(FIND(MID(A11,8,1)&"x","0x1x2x3x4x5x6x7x8x9x")))),"IDの形式を確認",IF(COUNTIFS($A$8:$A$27,A11)>1,"IDが重複","確認済み"))) -> 確認済み | C11: =IF(B11="","",IF(B11="確認済み",0,1)) -> 0 | F11: =IF(COUNTA(E11)=0,"",IF(NOT(AND(ISTEXT(E11),LEN(E11)=8,EXACT(LEFT(E11,4),"CRS-"),ISNUMBER(FIND(MID(E11,5,1)&"x","0x1x2x3x4x5x6x7x8x9x")),ISNUMBER(FIND(MID(E11,6,1)&"x","0x1x2x3x4x5x6x7x8x9x")),ISNUMBER(FIND(MID(E11,7,1)&"x","0x1x2x3x4x5x6x7x8x9x")),ISNUMBER(FIND(MID(E11,8,1)&"x","0x1x2x3x4x5x6x7x8x9x")))),"IDの形式を確認",IF(COUNTIFS($E$8:$E$17,E11)>1,"IDが重複","確認済み"))) | G11: =IF(F11="","",IF(F11="確認済み",0,1))
B12: =IF(COUNTA(A12)=0,"",IF(NOT(AND(ISTEXT(A12),LEN(A12)=8,EXACT(LEFT(A12,4),"STF-"),ISNUMBER(FIND(MID(A12,5,1)&"x","0x1x2x3x4x5x6x7x8x9x")),ISNUMBER(FIND(MID(A12,6,1)&"x","0x1x2x3x4x5x6x7x8x9x")),ISNUMBER(FIND(MID(A12,7,1)&"x","0x1x2x3x4x5x6x7x8x9x")),ISNUMBER(FIND(MID(A12,8,1)&"x","0x1x2x3x4x5x6x7x8x9x")))),"IDの形式を確認",IF(COUNTIFS($A$8:$A$27,A12)>1,"IDが重複","確認済み"))) | C12: =IF(B12="","",IF(B12="確認済み",0,1)) | F12: =IF(COUNTA(E12)=0,"",IF(NOT(AND(ISTEXT(E12),LEN(E12)=8,EXACT(LEFT(E12,4),"CRS-"),ISNUMBER(FIND(MID(E12,5,1)&"x","0x1x2x3x4x5x6x7x8x9x")),ISNUMBER(FIND(MID(E12,6,1)&"x","0x1x2x3x4x5x6x7x8x9x")),ISNUMBER(FIND(MID(E12,7,1)&"x","0x1x2x3x4x5x6x7x8x9x")),ISNUMBER(FIND(MID(E12,8,1)&"x","0x1x2x3x4x5x6x7x8x9x")))),"IDの形式を確認",IF(COUNTIFS($E$8:$E$17,E12)>1,"IDが重複","確認済み"))) | G12: =IF(F12="","",IF(F12="確認済み",0,1))
B13: =IF(COUNTA(A13)=0,"",IF(NOT(AND(ISTEXT(A13),LEN(A13)=8,EXACT(LEFT(A13,4),"STF-"),ISNUMBER(FIND(MID(A13,5,1)&"x","0x1x2x3x4x5x6x7x8x9x")),ISNUMBER(FIND(MID(A13,6,1)&"x","0x1x2x3x4x5x6x7x8x9x")),ISNUMBER(FIND(MID(A13,7,1)&"x","0x1x2x3x4x5x6x7x8x9x")),ISNUMBER(FIND(MID(A13,8,1)&"x","0x1x2x3x4x5x6x7x8x9x")))),"IDの形式を確認",IF(COUNTIFS($A$8:$A$27,A13)>1,"IDが重複","確認済み"))) | C13: =IF(B13="","",IF(B13="確認済み",0,1)) | F13: =IF(COUNTA(E13)=0,"",IF(NOT(AND(ISTEXT(E13),LEN(E13)=8,EXACT(LEFT(E13,4),"CRS-"),ISNUMBER(FIND(MID(E13,5,1)&"x","0x1x2x3x4x5x6x7x8x9x")),ISNUMBER(FIND(MID(E13,6,1)&"x","0x1x2x3x4x5x6x7x8x9x")),ISNUMBER(FIND(MID(E13,7,1)&"x","0x1x2x3x4x5x6x7x8x9x")),ISNUMBER(FIND(MID(E13,8,1)&"x","0x1x2x3x4x5x6x7x8x9x")))),"IDの形式を確認",IF(COUNTIFS($E$8:$E$17,E13)>1,"IDが重複","確認済み"))) | G13: =IF(F13="","",IF(F13="確認済み",0,1))
B14: =IF(COUNTA(A14)=0,"",IF(NOT(AND(ISTEXT(A14),LEN(A14)=8,EXACT(LEFT(A14,4),"STF-"),ISNUMBER(FIND(MID(A14,5,1)&"x","0x1x2x3x4x5x6x7x8x9x")),ISNUMBER(FIND(MID(A14,6,1)&"x","0x1x2x3x4x5x6x7x8x9x")),ISNUMBER(FIND(MID(A14,7,1)&"x","0x1x2x3x4x5x6x7x8x9x")),ISNUMBER(FIND(MID(A14,8,1)&"x","0x1x2x3x4x5x6x7x8x9x")))),"IDの形式を確認",IF(COUNTIFS($A$8:$A$27,A14)>1,"IDが重複","確認済み"))) | C14: =IF(B14="","",IF(B14="確認済み",0,1)) | F14: =IF(COUNTA(E14)=0,"",IF(NOT(AND(ISTEXT(E14),LEN(E14)=8,EXACT(LEFT(E14,4),"CRS-"),ISNUMBER(FIND(MID(E14,5,1)&"x","0x1x2x3x4x5x6x7x8x9x")),ISNUMBER(FIND(MID(E14,6,1)&"x","0x1x2x3x4x5x6x7x8x9x")),ISNUMBER(FIND(MID(E14,7,1)&"x","0x1x2x3x4x5x6x7x8x9x")),ISNUMBER(FIND(MID(E14,8,1)&"x","0x1x2x3x4x5x6x7x8x9x")))),"IDの形式を確認",IF(COUNTIFS($E$8:$E$17,E14)>1,"IDが重複","確認済み"))) | G14: =IF(F14="","",IF(F14="確認済み",0,1))
B15: =IF(COUNTA(A15)=0,"",IF(NOT(AND(ISTEXT(A15),LEN(A15)=8,EXACT(LEFT(A15,4),"STF-"),ISNUMBER(FIND(MID(A15,5,1)&"x","0x1x2x3x4x5x6x7x8x9x")),ISNUMBER(FIND(MID(A15,6,1)&"x","0x1x2x3x4x5x6x7x8x9x")),ISNUMBER(FIND(MID(A15,7,1)&"x","0x1x2x3x4x5x6x7x8x9x")),ISNUMBER(FIND(MID(A15,8,1)&"x","0x1x2x3x4x5x6x7x8x9x")))),"IDの形式を確認",IF(COUNTIFS($A$8:$A$27,A15)>1,"IDが重複","確認済み"))) | C15: =IF(B15="","",IF(B15="確認済み",0,1)) | F15: =IF(COUNTA(E15)=0,"",IF(NOT(AND(ISTEXT(E15),LEN(E15)=8,EXACT(LEFT(E15,4),"CRS-"),ISNUMBER(FIND(MID(E15,5,1)&"x","0x1x2x3x4x5x6x7x8x9x")),ISNUMBER(FIND(MID(E15,6,1)&"x","0x1x2x3x4x5x6x7x8x9x")),ISNUMBER(FIND(MID(E15,7,1)&"x","0x1x2x3x4x5x6x7x8x9x")),ISNUMBER(FIND(MID(E15,8,1)&"x","0x1x2x3x4x5x6x7x8x9x")))),"IDの形式を確認",IF(COUNTIFS($E$8:$E$17,E15)>1,"IDが重複","確認済み"))) | G15: =IF(F15="","",IF(F15="確認済み",0,1))
B16: =IF(COUNTA(A16)=0,"",IF(NOT(AND(ISTEXT(A16),LEN(A16)=8,EXACT(LEFT(A16,4),"STF-"),ISNUMBER(FIND(MID(A16,5,1)&"x","0x1x2x3x4x5x6x7x8x9x")),ISNUMBER(FIND(MID(A16,6,1)&"x","0x1x2x3x4x5x6x7x8x9x")),ISNUMBER(FIND(MID(A16,7,1)&"x","0x1x2x3x4x5x6x7x8x9x")),ISNUMBER(FIND(MID(A16,8,1)&"x","0x1x2x3x4x5x6x7x8x9x")))),"IDの形式を確認",IF(COUNTIFS($A$8:$A$27,A16)>1,"IDが重複","確認済み"))) | C16: =IF(B16="","",IF(B16="確認済み",0,1)) | F16: =IF(COUNTA(E16)=0,"",IF(NOT(AND(ISTEXT(E16),LEN(E16)=8,EXACT(LEFT(E16,4),"CRS-"),ISNUMBER(FIND(MID(E16,5,1)&"x","0x1x2x3x4x5x6x7x8x9x")),ISNUMBER(FIND(MID(E16,6,1)&"x","0x1x2x3x4x5x6x7x8x9x")),ISNUMBER(FIND(MID(E16,7,1)&"x","0x1x2x3x4x5x6x7x8x9x")),ISNUMBER(FIND(MID(E16,8,1)&"x","0x1x2x3x4x5x6x7x8x9x")))),"IDの形式を確認",IF(COUNTIFS($E$8:$E$17,E16)>1,"IDが重複","確認済み"))) | G16: =IF(F16="","",IF(F16="確認済み",0,1))
B17: =IF(COUNTA(A17)=0,"",IF(NOT(AND(ISTEXT(A17),LEN(A17)=8,EXACT(LEFT(A17,4),"STF-"),ISNUMBER(FIND(MID(A17,5,1)&"x","0x1x2x3x4x5x6x7x8x9x")),ISNUMBER(FIND(MID(A17,6,1)&"x","0x1x2x3x4x5x6x7x8x9x")),ISNUMBER(FIND(MID(A17,7,1)&"x","0x1x2x3x4x5x6x7x8x9x")),ISNUMBER(FIND(MID(A17,8,1)&"x","0x1x2x3x4x5x6x7x8x9x")))),"IDの形式を確認",IF(COUNTIFS($A$8:$A$27,A17)>1,"IDが重複","確認済み"))) | C17: =IF(B17="","",IF(B17="確認済み",0,1)) | F17: =IF(COUNTA(E17)=0,"",IF(NOT(AND(ISTEXT(E17),LEN(E17)=8,EXACT(LEFT(E17,4),"CRS-"),ISNUMBER(FIND(MID(E17,5,1)&"x","0x1x2x3x4x5x6x7x8x9x")),ISNUMBER(FIND(MID(E17,6,1)&"x","0x1x2x3x4x5x6x7x8x9x")),ISNUMBER(FIND(MID(E17,7,1)&"x","0x1x2x3x4x5x6x7x8x9x")),ISNUMBER(FIND(MID(E17,8,1)&"x","0x1x2x3x4x5x6x7x8x9x")))),"IDの形式を確認",IF(COUNTIFS($E$8:$E$17,E17)>1,"IDが重複","確認済み"))) | G17: =IF(F17="","",IF(F17="確認済み",0,1))
B18: =IF(COUNTA(A18)=0,"",IF(NOT(AND(ISTEXT(A18),LEN(A18)=8,EXACT(LEFT(A18,4),"STF-"),ISNUMBER(FIND(MID(A18,5,1)&"x","0x1x2x3x4x5x6x7x8x9x")),ISNUMBER(FIND(MID(A18,6,1)&"x","0x1x2x3x4x5x6x7x8x9x")),ISNUMBER(FIND(MID(A18,7,1)&"x","0x1x2x3x4x5x6x7x8x9x")),ISNUMBER(FIND(MID(A18,8,1)&"x","0x1x2x3x4x5x6x7x8x9x")))),"IDの形式を確認",IF(COUNTIFS($A$8:$A$27,A18)>1,"IDが重複","確認済み"))) | C18: =IF(B18="","",IF(B18="確認済み",0,1))
B19: =IF(COUNTA(A19)=0,"",IF(NOT(AND(ISTEXT(A19),LEN(A19)=8,EXACT(LEFT(A19,4),"STF-"),ISNUMBER(FIND(MID(A19,5,1)&"x","0x1x2x3x4x5x6x7x8x9x")),ISNUMBER(FIND(MID(A19,6,1)&"x","0x1x2x3x4x5x6x7x8x9x")),ISNUMBER(FIND(MID(A19,7,1)&"x","0x1x2x3x4x5x6x7x8x9x")),ISNUMBER(FIND(MID(A19,8,1)&"x","0x1x2x3x4x5x6x7x8x9x")))),"IDの形式を確認",IF(COUNTIFS($A$8:$A$27,A19)>1,"IDが重複","確認済み"))) | C19: =IF(B19="","",IF(B19="確認済み",0,1))
B20: =IF(COUNTA(A20)=0,"",IF(NOT(AND(ISTEXT(A20),LEN(A20)=8,EXACT(LEFT(A20,4),"STF-"),ISNUMBER(FIND(MID(A20,5,1)&"x","0x1x2x3x4x5x6x7x8x9x")),ISNUMBER(FIND(MID(A20,6,1)&"x","0x1x2x3x4x5x6x7x8x9x")),ISNUMBER(FIND(MID(A20,7,1)&"x","0x1x2x3x4x5x6x7x8x9x")),ISNUMBER(FIND(MID(A20,8,1)&"x","0x1x2x3x4x5x6x7x8x9x")))),"IDの形式を確認",IF(COUNTIFS($A$8:$A$27,A20)>1,"IDが重複","確認済み"))) | C20: =IF(B20="","",IF(B20="確認済み",0,1))
B21: =IF(COUNTA(A21)=0,"",IF(NOT(AND(ISTEXT(A21),LEN(A21)=8,EXACT(LEFT(A21,4),"STF-"),ISNUMBER(FIND(MID(A21,5,1)&"x","0x1x2x3x4x5x6x7x8x9x")),ISNUMBER(FIND(MID(A21,6,1)&"x","0x1x2x3x4x5x6x7x8x9x")),ISNUMBER(FIND(MID(A21,7,1)&"x","0x1x2x3x4x5x6x7x8x9x")),ISNUMBER(FIND(MID(A21,8,1)&"x","0x1x2x3x4x5x6x7x8x9x")))),"IDの形式を確認",IF(COUNTIFS($A$8:$A$27,A21)>1,"IDが重複","確認済み"))) | C21: =IF(B21="","",IF(B21="確認済み",0,1))
B22: =IF(COUNTA(A22)=0,"",IF(NOT(AND(ISTEXT(A22),LEN(A22)=8,EXACT(LEFT(A22,4),"STF-"),ISNUMBER(FIND(MID(A22,5,1)&"x","0x1x2x3x4x5x6x7x8x9x")),ISNUMBER(FIND(MID(A22,6,1)&"x","0x1x2x3x4x5x6x7x8x9x")),ISNUMBER(FIND(MID(A22,7,1)&"x","0x1x2x3x4x5x6x7x8x9x")),ISNUMBER(FIND(MID(A22,8,1)&"x","0x1x2x3x4x5x6x7x8x9x")))),"IDの形式を確認",IF(COUNTIFS($A$8:$A$27,A22)>1,"IDが重複","確認済み"))) | C22: =IF(B22="","",IF(B22="確認済み",0,1))
B23: =IF(COUNTA(A23)=0,"",IF(NOT(AND(ISTEXT(A23),LEN(A23)=8,EXACT(LEFT(A23,4),"STF-"),ISNUMBER(FIND(MID(A23,5,1)&"x","0x1x2x3x4x5x6x7x8x9x")),ISNUMBER(FIND(MID(A23,6,1)&"x","0x1x2x3x4x5x6x7x8x9x")),ISNUMBER(FIND(MID(A23,7,1)&"x","0x1x2x3x4x5x6x7x8x9x")),ISNUMBER(FIND(MID(A23,8,1)&"x","0x1x2x3x4x5x6x7x8x9x")))),"IDの形式を確認",IF(COUNTIFS($A$8:$A$27,A23)>1,"IDが重複","確認済み"))) | C23: =IF(B23="","",IF(B23="確認済み",0,1))
B24: =IF(COUNTA(A24)=0,"",IF(NOT(AND(ISTEXT(A24),LEN(A24)=8,EXACT(LEFT(A24,4),"STF-"),ISNUMBER(FIND(MID(A24,5,1)&"x","0x1x2x3x4x5x6x7x8x9x")),ISNUMBER(FIND(MID(A24,6,1)&"x","0x1x2x3x4x5x6x7x8x9x")),ISNUMBER(FIND(MID(A24,7,1)&"x","0x1x2x3x4x5x6x7x8x9x")),ISNUMBER(FIND(MID(A24,8,1)&"x","0x1x2x3x4x5x6x7x8x9x")))),"IDの形式を確認",IF(COUNTIFS($A$8:$A$27,A24)>1,"IDが重複","確認済み"))) | C24: =IF(B24="","",IF(B24="確認済み",0,1))
B25: =IF(COUNTA(A25)=0,"",IF(NOT(AND(ISTEXT(A25),LEN(A25)=8,EXACT(LEFT(A25,4),"STF-"),ISNUMBER(FIND(MID(A25,5,1)&"x","0x1x2x3x4x5x6x7x8x9x")),ISNUMBER(FIND(MID(A25,6,1)&"x","0x1x2x3x4x5x6x7x8x9x")),ISNUMBER(FIND(MID(A25,7,1)&"x","0x1x2x3x4x5x6x7x8x9x")),ISNUMBER(FIND(MID(A25,8,1)&"x","0x1x2x3x4x5x6x7x8x9x")))),"IDの形式を確認",IF(COUNTIFS($A$8:$A$27,A25)>1,"IDが重複","確認済み"))) | C25: =IF(B25="","",IF(B25="確認済み",0,1))
B26: =IF(COUNTA(A26)=0,"",IF(NOT(AND(ISTEXT(A26),LEN(A26)=8,EXACT(LEFT(A26,4),"STF-"),ISNUMBER(FIND(MID(A26,5,1)&"x","0x1x2x3x4x5x6x7x8x9x")),ISNUMBER(FIND(MID(A26,6,1)&"x","0x1x2x3x4x5x6x7x8x9x")),ISNUMBER(FIND(MID(A26,7,1)&"x","0x1x2x3x4x5x6x7x8x9x")),ISNUMBER(FIND(MID(A26,8,1)&"x","0x1x2x3x4x5x6x7x8x9x")))),"IDの形式を確認",IF(COUNTIFS($A$8:$A$27,A26)>1,"IDが重複","確認済み"))) | C26: =IF(B26="","",IF(B26="確認済み",0,1))
B27: =IF(COUNTA(A27)=0,"",IF(NOT(AND(ISTEXT(A27),LEN(A27)=8,EXACT(LEFT(A27,4),"STF-"),ISNUMBER(FIND(MID(A27,5,1)&"x","0x1x2x3x4x5x6x7x8x9x")),ISNUMBER(FIND(MID(A27,6,1)&"x","0x1x2x3x4x5x6x7x8x9x")),ISNUMBER(FIND(MID(A27,7,1)&"x","0x1x2x3x4x5x6x7x8x9x")),ISNUMBER(FIND(MID(A27,8,1)&"x","0x1x2x3x4x5x6x7x8x9x")))),"IDの形式を確認",IF(COUNTIFS($A$8:$A$27,A27)>1,"IDが重複","確認済み"))) | C27: =IF(B27="","",IF(B27="確認済み",0,1))
